{"text_format":"1","workbook":"xlsx","n_sheets":25,"sheets":["Compounds","CalInfo","Cal Prep","Cal Data","CalSummary","CalExport","CSV Prep","CSV 1 Data","CSV 2 Data","CSV 3 Data","CSV 4 Data","CSV Summary","CCV Prep","CCV 1 Data","CCV 2 Data","CCV 3 Data","CCV 4 Data","CCV Summary","Sample #1","Sample #2","Sample #3","Sample #4","Sample Summary","RRFs","Backend"],"not_rendered":{"charts":0,"images":0,"macros":1,"external_links":0,"defined_names":23,"comments":0,"pivot_tables":0},"unopened":[],"bounds":{"document_bytes":16777216,"sheet_cells":100000,"rows_first":2000,"rows_last":500,"rows_between":2000,"halvings":0,"cell_chars":16384,"cell_head_chars":4096},"cells_cut":0,"cells_raw":0,"read":"whole","date_system":"1900"}

{"sheet":"Compounds","index":0,"n_rows":29,"n_cols":14,"rows_kept":29,"cut":false,"hidden":false,"merged":[]}
["Compound","CAS #","Density","Purity","MFG","Lot #","RealPurity","Contained in:","Sample 1","Sample 2","Sample 3","Sample 4"]
["IPA","67-63-0",0.78600000000000003,0.99990000000000001,null,null,{"$f":"IF(A2=\"\",\"\",IF(D2>1,D2/100,D2))","v":0.99990000000000001},"NA",{"$f":"COUNTIF($H$1:H2,\"=1\")","v":0},{"$f":"COUNTIF($H$1:H2,\"=2\")","v":0},{"$f":"COUNTIF($H$1:H2,\"=3\")","v":0},{"$f":"COUNTIF($H$1:H2,\"=4\")","v":0},null,"Propylene Glycol"]
["Triethylamine","121-44-8",0.72599999999999998,1,null,null,{"$f":"IF(A3=\"\",\"\",IF(D3>1,D3/100,D3))","v":1},3,{"$f":"COUNTIF($H$1:H3,\"=1\")","v":0},{"$f":"COUNTIF($H$1:H3,\"=2\")","v":0},{"$f":"COUNTIF($H$1:H3,\"=3\")","v":1},{"$f":"COUNTIF($H$1:H3,\"=4\")","v":0},null,"Texanol"]
["Heptane","142-82-5",0.68400000000000005,1,null,null,1,"NA",{"$f":"COUNTIF($H$1:H4,\"=1\")","v":0},{"$f":"COUNTIF($H$1:H4,\"=2\")","v":0},{"$f":"COUNTIF($H$1:H4,\"=3\")","v":1},{"$f":"COUNTIF($H$1:H4,\"=4\")","v":0},null,"Benzophenone"]
["Toluene","108-88-3",0.86699999999999999,1,null,null,1,4,{"$f":"COUNTIF($H$1:H5,\"=1\")","v":0},{"$f":"COUNTIF($H$1:H5,\"=2\")","v":0},{"$f":"COUNTIF($H$1:H5,\"=3\")","v":1},{"$f":"COUNTIF($H$1:H5,\"=4\")","v":1}]
["EGDE","629-14-1",0.8417,1,null,null,1,"NA",{"$f":"COUNTIF($H$1:H6,\"=1\")","v":0},{"$f":"COUNTIF($H$1:H6,\"=2\")","v":0},{"$f":"COUNTIF($H$1:H6,\"=3\")","v":1},{"$f":"COUNTIF($H$1:H6,\"=4\")","v":1},null,"Dipropylene Glycol"]
["2-Butanone Oxime","96-29-7",0.9,1,null,null,1,4,{"$f":"COUNTIF($H$1:H7,\"=1\")","v":0},{"$f":"COUNTIF($H$1:H7,\"=2\")","v":0},{"$f":"COUNTIF($H$1:H7,\"=3\")","v":1},{"$f":"COUNTIF($H$1:H7,\"=4\")","v":2},null,"Tetraethylene Glycol"]
["Propylene Glycol","57-55-6",1.036,1,null,null,1,1,{"$f":"COUNTIF($H$1:H8,\"=1\")","v":1},{"$f":"COUNTIF($H$1:H8,\"=2\")","v":0},{"$f":"COUNTIF($H$1:H8,\"=3\")","v":1},{"$f":"COUNTIF($H$1:H8,\"=4\")","v":2},null,"Pentaethylene Glycol"]
["p-Xylene","106-42-3",0.86099999999999999,1,null,null,1,4,{"$f":"COUNTIF($H$1:H9,\"=1\")","v":1},{"$f":"COUNTIF($H$1:H9,\"=2\")","v":0},{"$f":"COUNTIF($H$1:H9,\"=3\")","v":1},{"$f":"COUNTIF($H$1:H9,\"=4\")","v":3}]
["Nonane","111-84-2",0.72399999999999998,1,null,null,1,4,{"$f":"COUNTIF($H$1:H10,\"=1\")","v":1},{"$f":"COUNTIF($H$1:H10,\"=2\")","v":0},{"$f":"COUNTIF($H$1:H10,\"=3\")","v":1},{"$f":"COUNTIF($H$1:H10,\"=4\")","v":4},null,"Triethylamine"]
["2-Heptanone","110-43-0",0.82,1,null,null,1,4,{"$f":"COUNTIF($H$1:H11,\"=1\")","v":1},{"$f":"COUNTIF($H$1:H11,\"=2\")","v":0},{"$f":"COUNTIF($H$1:H11,\"=3\")","v":1},{"$f":"COUNTIF($H$1:H11,\"=4\")","v":5},null,"Dipropylene Glycol Methyl Ether"]
["Mesitylene","108-67-8",0.86370000000000002,1,null,null,1,4,{"$f":"COUNTIF($H$1:H12,\"=1\")","v":1},{"$f":"COUNTIF($H$1:H12,\"=2\")","v":0},{"$f":"COUNTIF($H$1:H12,\"=3\")","v":1},{"$f":"COUNTIF($H$1:H12,\"=4\")","v":6},null,"NMP"]
["Decane","124-18-5",0.73499999999999999,1,null,null,1,4,{"$f":"COUNTIF($H$1:H13,\"=1\")","v":1},{"$f":"COUNTIF($H$1:H13,\"=2\")","v":0},{"$f":"COUNTIF($H$1:H13,\"=3\")","v":1},{"$f":"COUNTIF($H$1:H13,\"=4\")","v":7},null,"Dipropylene Glycol Butyl Ether"]
["Dipropylene Glycol Methyl Ether","34590-94-8",0.95499999999999996,1,null,null,1,3,{"$f":"COUNTIF($H$1:H14,\"=1\")","v":1},{"$f":"COUNTIF($H$1:H14,\"=2\")","v":0},{"$f":"COUNTIF($H$1:H14,\"=3\")","v":2},{"$f":"COUNTIF($H$1:H14,\"=4\")","v":7}]
["Undecane","1120-21-4",0.74299999999999999,1,null,null,1,4,{"$f":"COUNTIF($H$1:H15,\"=1\")","v":1},{"$f":"COUNTIF($H$1:H15,\"=2\")","v":0},{"$f":"COUNTIF($H$1:H15,\"=3\")","v":2},{"$f":"COUNTIF($H$1:H15,\"=4\")","v":8},null,"Toluene"]
["Dipropylene Glycol","106-62-7",1.034,1,null,null,1,2,{"$f":"COUNTIF($H$1:H16,\"=1\")","v":1},{"$f":"COUNTIF($H$1:H16,\"=2\")","v":1},{"$f":"COUNTIF($H$1:H16,\"=3\")","v":2},{"$f":"COUNTIF($H$1:H16,\"=4\")","v":8},null,"2-Butanone Oxime"]
["NMP","872-50-4",1.03,1,null,null,1,3,{"$f":"COUNTIF($H$1:H17,\"=1\")","v":1},{"$f":"COUNTIF($H$1:H17,\"=2\")","v":1},{"$f":"COUNTIF($H$1:H17,\"=3\")","v":3},{"$f":"COUNTIF($H$1:H17,\"=4\")","v":8},null,"p-Xylene"]
["Dodecane","112-40-3",0.751,1,null,null,1,4,{"$f":"COUNTIF($H$1:H18,\"=1\")","v":1},{"$f":"COUNTIF($H$1:H18,\"=2\")","v":1},{"$f":"COUNTIF($H$1:H18,\"=3\")","v":3},{"$f":"COUNTIF($H$1:H18,\"=4\")","v":9},null,"Nonane"]
["Triglyme","112-49-2",0.98599999999999999,1,null,null,1,"NA",{"$f":"COUNTIF($H$1:H19,\"=1\")","v":1},{"$f":"COUNTIF($H$1:H19,\"=2\")","v":1},{"$f":"COUNTIF($H$1:H19,\"=3\")","v":3},{"$f":"COUNTIF($H$1:H19,\"=4\")","v":9},null,"2-Heptanone"]
["Dipropylene Glycol Butyl Ether","29911-28-2",0.91300000000000003,1,null,null,1,3,{"$f":"COUNTIF($H$1:H20,\"=1\")","v":1},{"$f":"COUNTIF($H$1:H20,\"=2\")","v":1},{"$f":"COUNTIF($H$1:H20,\"=3\")","v":4},{"$f":"COUNTIF($H$1:H20,\"=4\")","v":9},null,"Mesitylene"]
["Texanol","25265-77-4",0.95,1,null,null,1,1,{"$f":"COUNTIF($H$1:H21,\"=1\")","v":2},{"$f":"COUNTIF($H$1:H21,\"=2\")","v":1},{"$f":"COUNTIF($H$1:H21,\"=3\")","v":4},{"$f":"COUNTIF($H$1:H21,\"=4\")","v":9},null,"Undecane"]
["Tetraethylene Glycol","112-60-7",1.125,1,null,null,1,2,{"$f":"COUNTIF($H$1:H22,\"=1\")","v":2},{"$f":"COUNTIF($H$1:H22,\"=2\")","v":2},{"$f":"COUNTIF($H$1:H22,\"=3\")","v":4},{"$f":"COUNTIF($H$1:H22,\"=4\")","v":9},null,"Dodecane"]
["TXIB","6846-50-0",0.94099999999999995,1,null,null,1,4,{"$f":"COUNTIF($H$1:H23,\"=1\")","v":2},{"$f":"COUNTIF($H$1:H23,\"=2\")","v":2},{"$f":"COUNTIF($H$1:H23,\"=3\")","v":4},{"$f":"COUNTIF($H$1:H23,\"=4\")","v":10},null,"TXIB"]
["DIIBA","141-04-8",0.95399999999999996,1,null,null,1,"NA",{"$f":"COUNTIF($H$1:H24,\"=1\")","v":2},{"$f":"COUNTIF($H$1:H24,\"=2\")","v":2},{"$f":"COUNTIF($H$1:H24,\"=3\")","v":4},{"$f":"COUNTIF($H$1:H24,\"=4\")","v":10},null,"Decane"]
["Benzophenone","119-61-9",1,1,null,null,1,1,{"$f":"COUNTIF($H$1:H25,\"=1\")","v":3},{"$f":"COUNTIF($H$1:H25,\"=2\")","v":2},{"$f":"COUNTIF($H$1:H25,\"=3\")","v":4},{"$f":"COUNTIF($H$1:H25,\"=4\")","v":10}]
["Pentaethylene Glycol","4792-15-8",1.1259999999999999,1,null,null,1,2,{"$f":"COUNTIF($H$1:H26,\"=1\")","v":3},{"$f":"COUNTIF($H$1:H26,\"=2\")","v":3},{"$f":"COUNTIF($H$1:H26,\"=3\")","v":4},{"$f":"COUNTIF($H$1:H26,\"=4\")","v":10}]
["BFB","460-00-4",1.5940000000000001,1,null,null,1,"NA",{"$f":"COUNTIF($H$1:H27,\"=1\")","v":3},{"$f":"COUNTIF($H$1:H27,\"=2\")","v":3},{"$f":"COUNTIF($H$1:H27,\"=3\")","v":4},{"$f":"COUNTIF($H$1:H27,\"=4\")","v":10}]
["THF","109-99-9",0.88919999999999999,1,null,null,1,"NA",{"$f":"COUNTIF($H$1:H28,\"=1\")","v":3},{"$f":"COUNTIF($H$1:H28,\"=2\")","v":3},{"$f":"COUNTIF($H$1:H28,\"=3\")","v":4},{"$f":"COUNTIF($H$1:H28,\"=4\")","v":10}]
["Methanol","67-56-1",0.79200000000000004,1,null,null,1,"NA",{"$f":"COUNTIF($H$1:H29,\"=1\")","v":3},{"$f":"COUNTIF($H$1:H29,\"=2\")","v":3},{"$f":"COUNTIF($H$1:H29,\"=3\")","v":4},{"$f":"COUNTIF($H$1:H29,\"=4\")","v":10}]

{"sheet":"CalInfo","index":1,"n_rows":33,"n_cols":15,"rows_kept":33,"cut":false,"hidden":false,"merged":[[16,0,16,2],[12,5,12,7],[0,0,0,2],[1,0,2,0],[1,1,2,1],[1,2,2,2],[11,0,12,0],[11,1,12,1],[10,0,10,1]]}
["Calibration Standards"]
["Cal Levels \n(g/L)","Volume \n(mL)","Made with Dilution?"]
[]
[null,null,{"$f":"IF(A4=\"\",\"\",IF(A4<1,\"Yes\",\"\"))","v":""}]
[null,null,{"$f":"IF(A5=\"\",\"\",IF(A5<1,\"Yes\",\"\"))","v":""}]
[null,null,""]
[null,null,""]
[null,null,""]
[]
[]
["Dilution Standard"]
["Standard Level (g/L)","Volume\n(mL)"]
[null,null,null,null,null,{"$f":"IF(OR(O24>1,O25>1),\"Double check your Compound Assignment\",\"\")","v":""}]
[]
[]
[]
["Compound Information",null,null,null,null,null,null,null,null,null,null,null,"Associate the compound with the solvent"]
["CMPD Assignment","Compound","CAS","Purity","Phase","MFG","Lot #","Density (g/mL)","RealCAS","RealPurity","Counttarget","CountCompound","Dilution Level",null,{"$f":"A14","v":0}]
[{"$f":"IF(OR(B19=\"Methanol\",B19=\"THF\"),\"Solvent\",IF(B19=\"EGDE\",\"Internal Standard\",IF(B19=\"Benzophenone\",\"Solid\",\"\")))","v":""},null,{"$f":"IF(B19=\"\",\"\",INDEX(Compounds!$B$2:$B$29,MATCH(B19,CompoundList,FALSE)))","v":""},{"$f":"IF(B19=\"\",\"\",INDEX(Compounds!$D$2:$D$29,MATCH(B19,CompoundList,FALSE)))","v":""},{"$f":"IF(A19=\"Solid\",\"Solid\",\"Liquid\")","v":"Liquid"},{"$f":"IF(B19=\"\",\"\",INDEX(Compounds!$E$2:$E$29,MATCH(B19,CompoundList,FALSE)))","v":""},{"$f":"IF(B19=\"\",\"\",INDEX(Compounds!$F$2:$F$29,MATCH(B19,CompoundList,FALSE)))","v":""},{"$f":"IF(B19=\"\",\"\",INDEX(Compounds!$C$2:$C$29,MATCH(B19,CompoundList,FALSE)))","v":""},{"$f":"IF(C19=\"\",\"\",SUBSTITUTE(C19,\"-\",\"\"))","v":""},{"$f":"IF(B19=\"\",\"\",IF(D19<1.01,D19,D19/100))","v":""},{"$f":"IF(AND(B19<>\"\",A19<>\"Solvent\",A19<>\"Internal Standard\"),MAX($K$18:K18)+1,\"\")","v":""},{"$f":"IF(K19=\"\",\"\",\"Compound \"&K19)","v":""},"Dilution Volume",null,25]
["",null,{"$f":"IF(B20=\"\",\"\",INDEX(Compounds!$B$2:$B$29,MATCH(B20,CompoundList,FALSE)))","v":""},{"$f":"IF(B20=\"\",\"\",INDEX(Compounds!$D$2:$D$29,MATCH(B20,CompoundList,FALSE)))","v":""},{"$f":"IF(A20=\"Solid\",\"Solid\",\"Liquid\")","v":"Liquid"},{"$f":"IF(B20=\"\",\"\",INDEX(Compounds!$E$2:$E$29,MATCH(B20,CompoundList,FALSE)))","v":""},{"$f":"IF(B20=\"\",\"\",INDEX(Compounds!$F$2:$F$29,MATCH(B20,CompoundList,FALSE)))","v":""},{"$f":"IF(B20=\"\",\"\",INDEX(Compounds!$C$2:$C$29,MATCH(B20,CompoundList,FALSE)))","v":""},"","",{"$f":"IF(AND(B20<>\"\",A20<>\"Solvent\",A20<>\"Internal Standard\"),MAX($K$18:K19)+1,\"\")","v":""},{"$f":"IF(K20=\"\",\"\",\"Compound \"&K20)","v":""},"Lowest Cal Level",null,{"$f":"MIN(A4:A8)","v":0}]
["",null,{"$f":"IF(B21=\"\",\"\",INDEX(Compounds!$B$2:$B$29,MATCH(B21,CompoundList,FALSE)))","v":""},{"$f":"IF(B21=\"\",\"\",INDEX(Compounds!$D$2:$D$29,MATCH(B21,CompoundList,FALSE)))","v":""},"Liquid",{"$f":"IF(B21=\"\",\"\",INDEX(Compounds!$E$2:$E$29,MATCH(B21,CompoundList,FALSE)))","v":""},{"$f":"IF(B21=\"\",\"\",INDEX(Compounds!$F$2:$F$29,MATCH(B21,CompoundList,FALSE)))","v":""},{"$f":"IF(B21=\"\",\"\",INDEX(Compounds!$C$2:$C$29,MATCH(B21,CompoundList,FALSE)))","v":""},"","",{"$f":"IF(AND(B21<>\"\",A21<>\"Solvent\",A21<>\"Internal Standard\"),MAX($K$18:K20)+1,\"\")","v":""},"","Highest Cal Level",null,{"$f":"MAX(A4:A8)","v":0}]
["",null,{"$f":"IF(B22=\"\",\"\",INDEX(Compounds!$B$2:$B$29,MATCH(B22,CompoundList,FALSE)))","v":""},{"$f":"IF(B22=\"\",\"\",INDEX(Compounds!$D$2:$D$29,MATCH(B22,CompoundList,FALSE)))","v":""},"Liquid",{"$f":"IF(B22=\"\",\"\",INDEX(Compounds!$E$2:$E$29,MATCH(B22,CompoundList,FALSE)))","v":""},{"$f":"IF(B22=\"\",\"\",INDEX(Compounds!$F$2:$F$29,MATCH(B22,CompoundList,FALSE)))","v":""},{"$f":"IF(B22=\"\",\"\",INDEX(Compounds!$C$2:$C$29,MATCH(B22,CompoundList,FALSE)))","v":""},"","",{"$f":"IF(AND(B22<>\"\",A22<>\"Solvent\",A22<>\"Internal Standard\"),MAX($K$18:K21)+1,\"\")","v":""},"","Cal Range",null,{"$f":"O20&\" - \"&O21&\" g/L\"","v":"0 - 0 g/L"}]
["",null,{"$f":"IF(B23=\"\",\"\",INDEX(Compounds!$B$2:$B$29,MATCH(B23,CompoundList,FALSE)))","v":""},{"$f":"IF(B23=\"\",\"\",INDEX(Compounds!$D$2:$D$29,MATCH(B23,CompoundList,FALSE)))","v":""},"Liquid",{"$f":"IF(B23=\"\",\"\",INDEX(Compounds!$E$2:$E$29,MATCH(B23,CompoundList,FALSE)))","v":""},{"$f":"IF(B23=\"\",\"\",INDEX(Compounds!$F$2:$F$29,MATCH(B23,CompoundList,FALSE)))","v":""},{"$f":"IF(B23=\"\",\"\",INDEX(Compounds!$C$2:$C$29,MATCH(B23,CompoundList,FALSE)))","v":""},"","",{"$f":"IF(AND(B23<>\"\",A23<>\"Solvent\",A23<>\"Internal Standard\"),MAX($K$18:K22)+1,\"\")","v":""},"","Cal Date",null,{"$f":"TODAY()","v":"2016-11-15"}]
["",null,{"$f":"IF(B24=\"\",\"\",INDEX(Compounds!$B$2:$B$29,MATCH(B24,CompoundList,FALSE)))","v":""},{"$f":"IF(B24=\"\",\"\",INDEX(Compounds!$D$2:$D$29,MATCH(B24,CompoundList,FALSE)))","v":""},"Liquid",{"$f":"IF(B24=\"\",\"\",INDEX(Compounds!$E$2:$E$29,MATCH(B24,CompoundList,FALSE)))","v":""},{"$f":"IF(B24=\"\",\"\",INDEX(Compounds!$F$2:$F$29,MATCH(B24,CompoundList,FALSE)))","v":""},{"$f":"IF(B24=\"\",\"\",INDEX(Compounds!$C$2:$C$29,MATCH(B24,CompoundList,FALSE)))","v":""},"","",{"$f":"IF(AND(B24<>\"\",A24<>\"Solvent\",A24<>\"Internal Standard\"),MAX($K$18:K23)+1,\"\")","v":""},"","Too many solvent",null,{"$f":"COUNTIF(A18:A33,\"=Solvent\")","v":0}]
["",null,{"$f":"IF(B25=\"\",\"\",INDEX(Compounds!$B$2:$B$29,MATCH(B25,CompoundList,FALSE)))","v":""},{"$f":"IF(B25=\"\",\"\",INDEX(Compounds!$D$2:$D$29,MATCH(B25,CompoundList,FALSE)))","v":""},"Liquid",{"$f":"IF(B25=\"\",\"\",INDEX(Compounds!$E$2:$E$29,MATCH(B25,CompoundList,FALSE)))","v":""},{"$f":"IF(B25=\"\",\"\",INDEX(Compounds!$F$2:$F$29,MATCH(B25,CompoundList,FALSE)))","v":""},{"$f":"IF(B25=\"\",\"\",INDEX(Compounds!$C$2:$C$29,MATCH(B25,CompoundList,FALSE)))","v":""},"","",{"$f":"IF(AND(B25<>\"\",A25<>\"Solvent\",A25<>\"Internal Standard\"),MAX($K$18:K24)+1,\"\")","v":""},"","Too many IS",null,{"$f":"COUNTIF(A18:A33,\"=Internal Standard\")","v":0}]
["",null,{"$f":"IF(B26=\"\",\"\",INDEX(Compounds!$B$2:$B$29,MATCH(B26,CompoundList,FALSE)))","v":""},{"$f":"IF(B26=\"\",\"\",INDEX(Compounds!$D$2:$D$29,MATCH(B26,CompoundList,FALSE)))","v":""},"Liquid",{"$f":"IF(B26=\"\",\"\",INDEX(Compounds!$E$2:$E$29,MATCH(B26,CompoundList,FALSE)))","v":""},{"$f":"IF(B26=\"\",\"\",INDEX(Compounds!$F$2:$F$29,MATCH(B26,CompoundList,FALSE)))","v":""},{"$f":"IF(B26=\"\",\"\",INDEX(Compounds!$C$2:$C$29,MATCH(B26,CompoundList,FALSE)))","v":""},"","",{"$f":"IF(AND(B26<>\"\",A26<>\"Solvent\",A26<>\"Internal Standard\"),MAX($K$18:K25)+1,\"\")","v":""},"","# of compounds",null,{"$f":"MAX(K19:K33)","v":0}]
["",null,{"$f":"IF(B27=\"\",\"\",INDEX(Compounds!$B$2:$B$29,MATCH(B27,CompoundList,FALSE)))","v":""},{"$f":"IF(B27=\"\",\"\",INDEX(Compounds!$D$2:$D$29,MATCH(B27,CompoundList,FALSE)))","v":""},"Liquid",{"$f":"IF(B27=\"\",\"\",INDEX(Compounds!$E$2:$E$29,MATCH(B27,CompoundList,FALSE)))","v":""},{"$f":"IF(B27=\"\",\"\",INDEX(Compounds!$F$2:$F$29,MATCH(B27,CompoundList,FALSE)))","v":""},{"$f":"IF(B27=\"\",\"\",INDEX(Compounds!$C$2:$C$29,MATCH(B27,CompoundList,FALSE)))","v":""},"","",{"$f":"IF(AND(B27<>\"\",A27<>\"Solvent\",A27<>\"Internal Standard\"),MAX($K$18:K26)+1,\"\")","v":""},""]
["",null,{"$f":"IF(B28=\"\",\"\",INDEX(Compounds!$B$2:$B$29,MATCH(B28,CompoundList,FALSE)))","v":""},{"$f":"IF(B28=\"\",\"\",INDEX(Compounds!$D$2:$D$29,MATCH(B28,CompoundList,FALSE)))","v":""},"Liquid",{"$f":"IF(B28=\"\",\"\",INDEX(Compounds!$E$2:$E$29,MATCH(B28,CompoundList,FALSE)))","v":""},{"$f":"IF(B28=\"\",\"\",INDEX(Compounds!$F$2:$F$29,MATCH(B28,CompoundList,FALSE)))","v":""},{"$f":"IF(B28=\"\",\"\",INDEX(Compounds!$C$2:$C$29,MATCH(B28,CompoundList,FALSE)))","v":""},"","",{"$f":"IF(AND(B28<>\"\",A28<>\"Solvent\",A28<>\"Internal Standard\"),MAX($K$18:K27)+1,\"\")","v":""},""]
["",null,{"$f":"IF(B29=\"\",\"\",INDEX(Compounds!$B$2:$B$29,MATCH(B29,CompoundList,FALSE)))","v":""},{"$f":"IF(B29=\"\",\"\",INDEX(Compounds!$D$2:$D$29,MATCH(B29,CompoundList,FALSE)))","v":""},"Liquid",{"$f":"IF(B29=\"\",\"\",INDEX(Compounds!$E$2:$E$29,MATCH(B29,CompoundList,FALSE)))","v":""},{"$f":"IF(B29=\"\",\"\",INDEX(Compounds!$F$2:$F$29,MATCH(B29,CompoundList,FALSE)))","v":""},{"$f":"IF(B29=\"\",\"\",INDEX(Compounds!$C$2:$C$29,MATCH(B29,CompoundList,FALSE)))","v":""},"","",{"$f":"IF(AND(B29<>\"\",A29<>\"Solvent\",A29<>\"Internal Standard\"),MAX($K$18:K28)+1,\"\")","v":""},""]
["",null,{"$f":"IF(B30=\"\",\"\",INDEX(Compounds!$B$2:$B$29,MATCH(B30,CompoundList,FALSE)))","v":""},{"$f":"IF(B30=\"\",\"\",INDEX(Compounds!$D$2:$D$29,MATCH(B30,CompoundList,FALSE)))","v":""},"Liquid",{"$f":"IF(B30=\"\",\"\",INDEX(Compounds!$E$2:$E$29,MATCH(B30,CompoundList,FALSE)))","v":""},{"$f":"IF(B30=\"\",\"\",INDEX(Compounds!$F$2:$F$29,MATCH(B30,CompoundList,FALSE)))","v":""},{"$f":"IF(B30=\"\",\"\",INDEX(Compounds!$C$2:$C$29,MATCH(B30,CompoundList,FALSE)))","v":""},"","",{"$f":"IF(AND(B30<>\"\",A30<>\"Solvent\",A30<>\"Internal Standard\"),MAX($K$18:K29)+1,\"\")","v":""},""]
["",null,{"$f":"IF(B31=\"\",\"\",INDEX(Compounds!$B$2:$B$29,MATCH(B31,CompoundList,FALSE)))","v":""},{"$f":"IF(B31=\"\",\"\",INDEX(Compounds!$D$2:$D$29,MATCH(B31,CompoundList,FALSE)))","v":""},"Liquid",{"$f":"IF(B31=\"\",\"\",INDEX(Compounds!$E$2:$E$29,MATCH(B31,CompoundList,FALSE)))","v":""},{"$f":"IF(B31=\"\",\"\",INDEX(Compounds!$F$2:$F$29,MATCH(B31,CompoundList,FALSE)))","v":""},{"$f":"IF(B31=\"\",\"\",INDEX(Compounds!$C$2:$C$29,MATCH(B31,CompoundList,FALSE)))","v":""},"","",{"$f":"IF(AND(B31<>\"\",A31<>\"Solvent\",A31<>\"Internal Standard\"),MAX($K$18:K30)+1,\"\")","v":""},""]
["",null,{"$f":"IF(B32=\"\",\"\",INDEX(Compounds!$B$2:$B$29,MATCH(B32,CompoundList,FALSE)))","v":""},{"$f":"IF(B32=\"\",\"\",INDEX(Compounds!$D$2:$D$29,MATCH(B32,CompoundList,FALSE)))","v":""},"Liquid",{"$f":"IF(B32=\"\",\"\",INDEX(Compounds!$E$2:$E$29,MATCH(B32,CompoundList,FALSE)))","v":""},{"$f":"IF(B32=\"\",\"\",INDEX(Compounds!$F$2:$F$29,MATCH(B32,CompoundList,FALSE)))","v":""},{"$f":"IF(B32=\"\",\"\",INDEX(Compounds!$C$2:$C$29,MATCH(B32,CompoundList,FALSE)))","v":""},"","",{"$f":"IF(AND(B32<>\"\",A32<>\"Solvent\",A32<>\"Internal Standard\"),MAX($K$18:K31)+1,\"\")","v":""},""]
["",null,{"$f":"IF(B33=\"\",\"\",INDEX(Compounds!$B$2:$B$29,MATCH(B33,CompoundList,FALSE)))","v":""},{"$f":"IF(B33=\"\",\"\",INDEX(Compounds!$D$2:$D$29,MATCH(B33,CompoundList,FALSE)))","v":""},"Liquid",{"$f":"IF(B33=\"\",\"\",INDEX(Compounds!$E$2:$E$29,MATCH(B33,CompoundList,FALSE)))","v":""},{"$f":"IF(B33=\"\",\"\",INDEX(Compounds!$F$2:$F$29,MATCH(B33,CompoundList,FALSE)))","v":""},{"$f":"IF(B33=\"\",\"\",INDEX(Compounds!$C$2:$C$29,MATCH(B33,CompoundList,FALSE)))","v":""},"","",{"$f":"IF(AND(B33<>\"\",A33<>\"Solvent\",A33<>\"Internal Standard\"),MAX($K$18:K32)+1,\"\")","v":""},""]

{"sheet":"Cal Prep","index":2,"n_rows":21,"n_cols":37,"rows_kept":21,"cut":false,"hidden":false,"merged":[[0,34,0,36],[0,5,0,7],[0,14,0,16],[0,19,0,21],[0,24,0,26],[0,29,0,31]]}
[null,null,null,null,null,"Dilution Preparation",null,null,null,null,null,null,null,{"$f":"CalInfo!A4","v":0},{"$f":"N1&\" g/L Preparation\"","v":"0 g/L Preparation"},null,null,null,{"$f":"CalInfo!A5","v":0},{"$f":"S1&\" g/L Preparation\"","v":"0 g/L Preparation"},null,null,null,{"$f":"CalInfo!A6","v":0},{"$f":"X1&\" g/L Preparation\"","v":"0 g/L Preparation"},null,null,null,{"$f":"CalInfo!A7","v":0},{"$f":"AC1&\" g/L Preparation\"","v":"0 g/L Preparation"},null,null,null,{"$f":"CalInfo!A8","v":0},{"$f":"AH1&\" g/L Preparation\"","v":"0 g/L Preparation"}]
[null,null,null,null,null,"Amount","Mass (g)","g/L","wt fx",null,null,null,null,{"$f":"IF(INDEX(CalInfo!C4:C8,MATCH(N1,CalInfo!A4:A8,FALSE))=\"\",\"No\",\"Yes\")","v":{"$error":"#N/A"}},"Amount","Mass (g)","g/L",null,{"$f":"IF(INDEX(CalInfo!$C$4:$C$8,MATCH(S1,CalInfo!$A$4:$A$8,FALSE))=\"\",\"No\",\"Yes\")","v":{"$error":"#N/A"}},"Amount","Mass (g)","g/L",null,{"$f":"IF(INDEX(CalInfo!$C$4:$C$8,MATCH(X1,CalInfo!$A$4:$A$8,FALSE))=\"\",\"No\",\"Yes\")","v":{"$error":"#N/A"}},"Amount","Mass (g)","g/L",null,{"$f":"IF(INDEX(CalInfo!$C$4:$C$8,MATCH(AC1,CalInfo!$A$4:$A$8,FALSE))=\"\",\"No\",\"Yes\")","v":{"$error":"#N/A"}},"Amount","Mass (g)","g/L",null,{"$f":"IF(INDEX(CalInfo!$C$4:$C$8,MATCH(AH1,CalInfo!$A$4:$A$8,FALSE))=\"\",\"No\",\"Yes\")","v":{"$error":"#N/A"}},"Amount","Mass (g)","g/L"]
["Dil State","Dil Count","STD State","STD Count",{"$f":"CalInfo!B14&\" mL Vol Flask\"","v":" mL Vol Flask"},{"$f":"IF(E3=\"\",\"\",IF(A3=\"Solid\",ROUND((CalInfo!$A$14*CalInfo!$B$14)/(INDEX(CalInfo!$J$19:$J$33,MATCH(\"Compound \"&B3,CalInfo!$L$19:$L$33,FALSE))*1000),3)&\" g\",IF(ISNUMBER(B3),ROUND((CalInfo!$A$14*CalInfo!$B$14)*1000/(INDEX(CalInfo!$H$19:$H$33,MATCH(\"Compound \"&B3,CalInfo!$L$19:$L$33,FALSE))*1000*INDEX(CalInfo!$J$19:$J$33,MATCH(\"Compound \"&B3,CalInfo!$L$19:$L$33,FALSE)))/5,0)*5&\" uL\",IF(B3=\"Solvent\",\"~\"&CalInfo!$B$14/2.5&\" mL\",IF(RIGHT(E3,5)=\"Flask\",\"-\",IF(E3=\"QS to Volume\",\"To \"&CalInfo!$B$14&\" mL\",\"\"))))))","v":"-"},null,{"$f":"IF(OR(AND(B3=\"\",E3<>\"\"),B3=\"Solvent\",B3=\"Dil Count\"),\"-\",IF(G3=\"\",\"\",(G3-MAX($G$2:G2))*1000*INDEX(CalInfo!$J$19:$J$33,MATCH(\"Compound \"&B3,CalInfo!$L$19:$L$33,FALSE))/CalInfo!$B$14))","v":"-"},{"$f":"IF(ISNUMBER(B3),INDEX(CalInfo!$J$19:$J$33,MATCH(\"Compound \"&B3,CalInfo!$L$19:$L$33,FALSE))*(G3-MAX($G$2:G2))/(MAX($G$3:$G$19)-MIN($G$3:$G$19)),\"\")","v":""},null,null,{"$f":"INDEX(CalInfo!$B$4:$B$8,MATCH(N1,CalInfo!A4:A8,FALSE))&\" mL Vol Flask\"","v":{"$error":"#N/A"}},null,null,{"$f":"IF(L3=\"\",\"\",IF(L3=\"QS to Volume\",\"To \"&INDEX(CalInfo!$B$4:$B$8,MATCH($N$1,CalInfo!$A$4:$A$8,FALSE))&\" mL\",IF(OR(D3=\"STD Count\",D3=\"Solvent\",D3=\"Internal Standard\"),INDEX(Backend!$M$2:$Q$4,MATCH('Cal Prep'!D3,Backend!$L$2:$L$5,FALSE),MATCH($N$1,Backend!$M$1:$Q$1,FALSE)),IF(AND($N$2=\"No\",L3=\"Dilution Prep\"),\"-\",IF(L3=\"Dilution Prep\",(INDEX(CalInfo!$B$4:$B$8,MATCH($N$1,CalInfo!$A$4:$A$8,FALSE))*$N$1)*1000/CalInfo!$A$14&\" uL\",IF($N$2=\"yes\",\"-\",IF(C3=\"Solid\",ROUND($N$1*INDEX(CalInfo!$B$4:$B$8,MATCH($N$1,CalInfo!$A$4:$A$8,FALSE))/(IF(ISNUMBER(D3),INDEX(CalInfo!$J$19:$J$33,MATCH(\"Compound \"&D3,CalInfo!$L$19:$L$33,FALSE)),\"\")*1000),3)&\" g\",ROUND(($N$1*1000*INDEX(CalInfo!$B$4:$B$8,MATCH($N$1,CalInfo!$A$4:$A$8,FALSE))/INDEX(Compounds!C:C,MATCH(L3,Compounds!A:A,FALSE)))/1000/5,0)*5&\" uL\")))))))","v":{"$error":"#N/A"}},null,{"$f":"IF(OR(AND(D3=\"\",L3<>\"\"),D3=\"Solvent\",D3=\"STD Count\",L3=\"Dilution Prep\"),\"-\",IF(P3=\"\",\"\",IF(D3=\"Internal Standard\",(P3-MAX($P$2:P2))*1000*INDEX(CalInfo!$J$19:$J$33,MATCH(D3,CalInfo!$A$19:$A$33,FALSE))/INDEX(CalInfo!$B$4:$B$8,MATCH($N$1,CalInfo!$A$4:$A$8,FALSE)),IF($N$2=\"yes\",(INDEX($P$3:$P$21,MATCH(\"Dilution prep\",$L$3:$L$21,FALSE))-VLOOKUP(INDEX($P$3:$P$21,MATCH(\"Dilution prep\",$L$3:$L$21,FALSE))-0.001,$P$3:$P$21,1,TRUE))*INDEX($I$3:$I$19,MATCH(L3,$E$3:$E$19,FALSE))*1000/INDEX(CalInfo!$B$4:$B$8,MATCH($N$1,CalInfo!$A$4:$A$8,FALSE)),(P3-MAX($P$2:P2))*1000*INDEX(CalInfo!$J$19:$J$33,MATCH(\"Compound \"&D3,CalInfo!$L$19:$L$33,FALSE))/INDEX(CalInfo!$B$4:$B$8,MATCH($N$1,CalInfo!$A$4:$A$8,FALSE))))))","v":{"$error":"#N/A"}},null,null,{"$f":"IF(L3=\"\",\"\",IF(L3=\"QS to Volume\",\"To \"&INDEX(CalInfo!$B$4:$B$8,MATCH($S$1,CalInfo!$A$4:$A$8,FALSE))&\" mL\",IF(OR(D3=\"STD Count\",D3=\"Solvent\",D3=\"Internal Standard\"),INDEX(Backend!$M$2:$Q$4,MATCH('Cal Prep'!D3,Backend!$L$2:$L$5,FALSE),MATCH($S$1,Backend!$M$1:$Q$1,FALSE)),IF(AND($S$2=\"No\",L3=\"Dilution Prep\"),\"-\",IF(L3=\"Dilution Prep\",(INDEX(CalInfo!$B$4:$B$8,MATCH($S$1,CalInfo!$A$4:$A$8,FALSE))*$S$1)*1000/CalInfo!$A$14&\" uL\",IF($S$2=\"yes\",\"-\",IF(C3=\"Solid\",ROUND($S$1*INDEX(CalInfo!$B$4:$B$8,MATCH($S$1,CalInfo!$A$4:$A$8,FALSE))/(IF(ISNUMBER(D3),INDEX(CalInfo!$J$19:$J$33,MATCH(\"Compound \"&D3,CalInfo!$L$19:$L$33,FALSE)),\"\")*1000),3)&\" g\",ROUND(($S$1*1000*INDEX(CalInfo!$B$4:$B$8,MATCH($S$1,CalInfo!$A$4:$A$8,FALSE))/INDEX(Compounds!C:C,MATCH(L3,Compounds!A:A,FALSE)))/1000/5,0)*5&\" uL\")))))))","v":{"$error":"#N/A"}},null,{"$f":"IF(OR(AND(D3=\"\",L3<>\"\"),D3=\"Solvent\",D3=\"STD Count\",L3=\"Dilution Prep\"),\"-\",IF(U3=\"\",\"\",IF(D3=\"Internal Standard\",(U3-MAX($U$2:U2))*1000*INDEX(CalInfo!$J$19:$J$33,MATCH(D3,CalInfo!$A$19:$A$33,FALSE))/INDEX(CalInfo!$B$4:$B$8,MATCH($S$1,CalInfo!$A$4:$A$8,FALSE)),IF($S$2=\"yes\",(INDEX($U$3:$U$21,MATCH(\"Dilution prep\",$L$3:$L$21,FALSE))-VLOOKUP(INDEX($U$3:$U$21,MATCH(\"Dilution prep\",$L$3:$L$21,FALSE))-0.001,$U$3:$U$21,1,TRUE))*INDEX($I$3:$I$19,MATCH(L3,$E$3:$E$19,FALSE))*1000/INDEX(CalInfo!$B$4:$B$8,MATCH($S$1,CalInfo!$A$4:$A$8,FALSE)),(U3-MAX($U$2:U2))*1000*INDEX(CalInfo!$J$19:$J$33,MATCH(\"Compound \"&D3,CalInfo!$L$19:$L$33,FALSE))/INDEX(CalInfo!$B$4:$B$8,MATCH($S$1,CalInfo!$A$4:$A$8,FALSE))))))","v":{"$error":"#N/A"}},null,null,{"$f":"IF(L3=\"\",\"\",IF(L3=\"QS to Volume\",\"To \"&INDEX(CalInfo!$B$4:$B$8,MATCH($X$1,CalInfo!$A$4:$A$8,FALSE))&\" mL\",IF(OR(D3=\"STD Count\",D3=\"Solvent\",D3=\"Internal Standard\"),INDEX(Backend!$M$2:$Q$4,MATCH('Cal Prep'!D3,Backend!$L$2:$L$5,FALSE),MATCH($X$1,Backend!$M$1:$Q$1,FALSE)),IF(AND($X$2=\"No\",L3=\"Dilution Prep\"),\"-\",IF(L3=\"Dilution Prep\",(INDEX(CalInfo!$B$4:$B$8,MATCH($X$1,CalInfo!$A$4:$A$8,FALSE))*$X$1)*1000/CalInfo!$A$14&\" uL\",IF($X$2=\"yes\",\"-\",IF(C3=\"Solid\",ROUND($X$1*INDEX(CalInfo!$B$4:$B$8,MATCH($X$1,CalInfo!$A$4:$A$8,FALSE))/(IF(ISNUMBER(D3),INDEX(CalInfo!$J$19:$J$33,MATCH(\"Compound \"&D3,CalInfo!$L$19:$L$33,FALSE)),\"\")*1000),3)&\" g\",ROUND(($X$1*1000*INDEX(CalInfo!$B$4:$B$8,MATCH($X$1,CalInfo!$A$4:$A$8,FALSE))/INDEX(Compounds!C:C,MATCH(L3,Compounds!A:A,FALSE)))/1000/5,0)*5&\" uL\")))))))","v":{"$error":"#N/A"}},null,{"$f":"IF(OR(AND(D3=\"\",L3<>\"\"),D3=\"Solvent\",D3=\"STD Count\",L3=\"Dilution Prep\"),\"-\",IF(Z3=\"\",\"\",IF(D3=\"Internal Standard\",(Z3-MAX($Z$2:Z2))*1000*INDEX(CalInfo!$J$19:$J$33,MATCH(D3,CalInfo!$A$19:$A$33,FALSE))/INDEX(CalInfo!$B$4:$B$8,MATCH($X$1,CalInfo!$A$4:$A$8,FALSE)),IF($X$2=\"yes\",(INDEX($Z$3:$Z$21,MATCH(\"Dilution prep\",$L$3:$L$21,FALSE))-VLOOKUP(INDEX($Z$3:$Z$21,MATCH(\"Dilution prep\",$L$3:$L$21,FALSE))-0.001,$Z$3:$Z$21,1,TRUE))*INDEX($I$3:$I$19,MATCH(L3,$E$3:$E$19,FALSE))*1000/INDEX(CalInfo!$B$4:$B$8,MATCH($X$1,CalInfo!$A$4:$A$8,FALSE)),(Z3-MAX($Z$2:Z2))*1000*INDEX(CalInfo!$J$19:$J$33,MATCH(\"Compound \"&D3,CalInfo!$L$19:$L$33,FALSE))/INDEX(CalInfo!$B$4:$B$8,MATCH($X$1,CalInfo!$A$4:$A$8,FALSE))))))","v":{"$error":"#N/A"}},null,null,{"$f":"IF(L3=\"\",\"\",IF(L3=\"QS to Volume\",\"To \"&INDEX(CalInfo!$B$4:$B$8,MATCH($AC$1,CalInfo!$A$4:$A$8,FALSE))&\" mL\",IF(OR(D3=\"STD Count\",D3=\"Solvent\",D3=\"Internal Standard\"),INDEX(Backend!$M$2:$Q$4,MATCH('Cal Prep'!D3,Backend!$L$2:$L$5,FALSE),MATCH($AC$1,Backend!$M$1:$Q$1,FALSE)),IF(AND($AC$2=\"No\",L3=\"Dilution Prep\"),\"-\",IF(L3=\"Dilution Prep\",(INDEX(CalInfo!$B$4:$B$8,MATCH($AC$1,CalInfo!$A$4:$A$8,FALSE))*$AC$1)*1000/CalInfo!$A$14&\" uL\",IF($AC$2=\"yes\",\"-\",IF(C3=\"Solid\",ROUND($AC$1*INDEX(CalInfo!$B$4:$B$8,MATCH($AC$1,CalInfo!$A$4:$A$8,FALSE))/(IF(ISNUMBER(D3),INDEX(CalInfo!$J$19:$J$33,MATCH(\"Compound \"&D3,CalInfo!$L$19:$L$33,FALSE)),\"\")*1000),3)&\" g\",ROUND(($AC$1*1000*INDEX(CalInfo!$B$4:$B$8,MATCH($AC$1,CalInfo!$A$4:$A$8,FALSE))/INDEX(Compounds!C:C,MATCH(L3,Compounds!A:A,FALSE)))/1000/5,0)*5&\" uL\")))))))","v":{"$error":"#N/A"}},null,{"$f":"IF(OR(AND(D3=\"\",L3<>\"\"),D3=\"Solvent\",D3=\"STD Count\",L3=\"Dilution Prep\"),\"-\",IF(AE3=\"\",\"\",IF(D3=\"Internal Standard\",(AE3-MAX($AE$2:AE2))*1000*INDEX(CalInfo!$J$19:$J$33,MATCH(D3,CalInfo!$A$19:$A$33,FALSE))/INDEX(CalInfo!$B$4:$B$8,MATCH($AC$1,CalInfo!$A$4:$A$8,FALSE)),IF($AC$2=\"yes\",(INDEX($AE$3:$AE$21,MATCH(\"Dilution prep\",$L$3:$L$21,FALSE))-VLOOKUP(INDEX($AE$3:$AE$21,MATCH(\"Dilution prep\",$L$3:$L$21,FALSE))-0.001,$AE$3:$AE$21,1,TRUE))*INDEX($I$3:$I$19,MATCH(L3,$E$3:$E$19,FALSE))*1000/INDEX(CalInfo!$B$4:$B$8,MATCH($AC$1,CalInfo!$A$4:$A$8,FALSE)),(AE3-MAX($AE$2:AE2))*1000*INDEX(CalInfo!$J$19:$J$33,MATCH(\"Compound \"&D3,CalInfo!$L$19:$L$33,FALSE))/INDEX(CalInfo!$B$4:$B$8,MATCH($AC$1,CalInfo!$A$4:$A$8,FALSE))))))","v":{"$error":"#N/A"}},null,null,{"$f":"IF(L3=\"\",\"\",IF(L3=\"QS to Volume\",\"To \"&INDEX(CalInfo!$B$4:$B$8,MATCH($AH$1,CalInfo!$A$4:$A$8,FALSE))&\" mL\",IF(OR(D3=\"STD Count\",D3=\"Solvent\",D3=\"Internal Standard\"),INDEX(Backend!$M$2:$Q$4,MATCH('Cal Prep'!D3,Backend!$L$2:$L$5,FALSE),MATCH($AH$1,Backend!$M$1:$Q$1,FALSE)),IF(AND($AH$2=\"No\",L3=\"Dilution Prep\"),\"-\",IF(L3=\"Dilution Prep\",(INDEX(CalInfo!$B$4:$B$8,MATCH($AH$1,CalInfo!$A$4:$A$8,FALSE))*$AH$1)*1000/CalInfo!$A$14&\" uL\",IF($AH$2=\"yes\",\"-\",IF(C3=\"Solid\",ROUND($AH$1*INDEX(CalInfo!$B$4:$B$8,MATCH($AH$1,CalInfo!$A$4:$A$8,FALSE))/(IF(ISNUMBER(D3),INDEX(CalInfo!$J$19:$J$33,MATCH(\"Compound \"&D3,CalInfo!$L$19:$L$33,FALSE)),\"\")*1000),3)&\" g\",ROUND(($AH$1*1000*INDEX(CalInfo!$B$4:$B$8,MATCH($AH$1,CalInfo!$A$4:$A$8,FALSE))/INDEX(Compounds!C:C,MATCH(L3,Compounds!A:A,FALSE)))/1000/5,0)*5&\" uL\")))))))","v":{"$error":"#N/A"}},null,{"$f":"IF(OR(AND(D3=\"\",L3<>\"\"),D3=\"Solvent\",D3=\"STD Count\",L3=\"Dilution Prep\"),\"-\",IF(AJ3=\"\",\"\",IF(D3=\"Internal Standard\",(AJ3-MAX($AJ$2:AJ2))*1000*INDEX(CalInfo!$J$19:$J$33,MATCH(D3,CalInfo!$A$19:$A$33,FALSE))/INDEX(CalInfo!$B$4:$B$8,MATCH($AH$1,CalInfo!$A$4:$A$8,FALSE)),IF($AH$2=\"yes\",(INDEX($AJ$3:$AJ$21,MATCH(\"Dilution prep\",$L$3:$L$21,FALSE))-VLOOKUP(INDEX($AJ$3:$AJ$21,MATCH(\"Dilution prep\",$L$3:$L$21,FALSE))-0.001,$AJ$3:$AJ$21,1,TRUE))*INDEX($I$3:$I$19,MATCH(L3,$E$3:$E$19,FALSE))*1000/INDEX(CalInfo!$B$4:$B$8,MATCH($AH$1,CalInfo!$A$4:$A$8,FALSE)),(AJ3-MAX($AJ$2:AJ2))*1000*INDEX(CalInfo!$J$19:$J$33,MATCH(\"Compound \"&D3,CalInfo!$L$19:$L$33,FALSE))/INDEX(CalInfo!$B$4:$B$8,MATCH($AH$1,CalInfo!$A$4:$A$8,FALSE))))))","v":{"$error":"#N/A"}}]
[{"$f":"IF(OR(B4=\"\",B4=\"Solvent\"),\"\",INDEX(CalInfo!$E$19:$E$33,MATCH(\"Compound \"&'Cal Prep'!B4,CalInfo!$L$19:$L$33,FALSE)))","v":""},"Solvent",{"$f":"IF(OR(D4=\"\",D4=\"Solvent\",D4=\"Internal Standard\",D4=\"Dilution\"),\"\",INDEX(CalInfo!$E$19:$E$33,MATCH(\"Compound \"&'Cal Prep'!D4,CalInfo!$L$19:$L$33,FALSE)))","v":""},"Solvent",{"$f":"INDEX(CalInfo!$B$19:$B$33,MATCH(\"Solvent\",CalInfo!$A$19:$A$33,FALSE))","v":{"$error":"#N/A"}},{"$f":"IF(E4=\"\",\"\",IF(A4=\"Solid\",ROUND((CalInfo!$A$14*CalInfo!$B$14)/(INDEX(CalInfo!$J$19:$J$33,MATCH(\"Compound \"&B4,CalInfo!$L$19:$L$33,FALSE))*1000),3)&\" g\",IF(ISNUMBER(B4),ROUND((CalInfo!$A$14*CalInfo!$B$14)*1000/(INDEX(CalInfo!$H$19:$H$33,MATCH(\"Compound \"&B4,CalInfo!$L$19:$L$33,FALSE))*1000*INDEX(CalInfo!$J$19:$J$33,MATCH(\"Compound \"&B4,CalInfo!$L$19:$L$33,FALSE)))/5,0)*5&\" uL\",IF(B4=\"Solvent\",\"~\"&CalInfo!$B$14/2.5&\" mL\",IF(RIGHT(E4,5)=\"Flask\",\"-\",IF(E4=\"QS to Volume\",\"To \"&CalInfo!$B$14&\" mL\",\"\"))))))","v":{"$error":"#N/A"}},null,{"$f":"IF(OR(AND(B4=\"\",E4<>\"\"),B4=\"Solvent\",B4=\"Dil Count\"),\"-\",IF(G4=\"\",\"\",(G4-MAX($G$2:G3))*1000*INDEX(CalInfo!$J$19:$J$33,MATCH(\"Compound \"&B4,CalInfo!$L$19:$L$33,FALSE))/CalInfo!$B$14))","v":{"$error":"#N/A"}},{"$f":"IF(ISNUMBER(B4),INDEX(CalInfo!$J$19:$J$33,MATCH(\"Compound \"&B4,CalInfo!$L$19:$L$33,FALSE))*(G4-MAX($G$2:G3))/(MAX($G$3:$G$19)-MIN($G$3:$G$19)),\"\")","v":""},null,null,{"$f":"INDEX(CalInfo!$B$19:$B$33,MATCH(\"Solvent\",CalInfo!$A$19:$A$33,FALSE))","v":{"$error":"#N/A"}},null,null,{"$f":"IF(L4=\"\",\"\",IF(L4=\"QS to Volume\",\"To \"&INDEX(CalInfo!$B$4:$B$8,MATCH($N$1,CalInfo!$A$4:$A$8,FALSE))&\" mL\",IF(OR(D4=\"STD Count\",D4=\"Solvent\",D4=\"Internal Standard\"),INDEX(Backend!$M$2:$Q$4,MATCH('Cal Prep'!D4,Backend!$L$2:$L$5,FALSE),MATCH($N$1,Backend!$M$1:$Q$1,FALSE)),IF(AND($N$2=\"No\",L4=\"Dilution Prep\"),\"-\",IF(L4=\"Dilution Prep\",(INDEX(CalInfo!$B$4:$B$8,MATCH($N$1,CalInfo!$A$4:$A$8,FALSE))*$N$1)*1000/CalInfo!$A$14&\" uL\",IF($N$2=\"yes\",\"-\",IF(C4=\"Solid\",ROUND($N$1*INDEX(CalInfo!$B$4:$B$8,MATCH($N$1,CalInfo!$A$4:$A$8,FALSE))/(IF(ISNUMBER(D4),INDEX(CalInfo!$J$19:$J$33,MATCH(\"Compound \"&D4,CalInfo!$L$19:$L$33,FALSE)),\"\")*1000),3)&\" g\",ROUND(($N$1*1000*INDEX(CalInfo!$B$4:$B$8,MATCH($N$1,CalInfo!$A$4:$A$8,FALSE))/INDEX(Compounds!C:C,MATCH(L4,Compounds!A:A,FALSE)))/1000/5,0)*5&\" uL\")))))))","v":{"$error":"#N/A"}},null,{"$f":"IF(OR(AND(D4=\"\",L4<>\"\"),D4=\"Solvent\",D4=\"STD Count\",L4=\"Dilution Prep\"),\"-\",IF(P4=\"\",\"\",IF(D4=\"Internal Standard\",(P4-MAX($P$2:P3))*1000*INDEX(CalInfo!$J$19:$J$33,MATCH(D4,CalInfo!$A$19:$A$33,FALSE))/INDEX(CalInfo!$B$4:$B$8,MATCH($N$1,CalInfo!$A$4:$A$8,FALSE)),IF($N$2=\"yes\",(INDEX($P$3:$P$21,MATCH(\"Dilution prep\",$L$3:$L$21,FALSE))-VLOOKUP(INDEX($P$3:$P$21,MATCH(\"Dilution prep\",$L$3:$L$21,FALSE))-0.001,$P$3:$P$21,1,TRUE))*INDEX($I$3:$I$19,MATCH(L4,$E$3:$E$19,FALSE))*1000/INDEX(CalInfo!$B$4:$B$8,MATCH($N$1,CalInfo!$A$4:$A$8,FALSE)),(P4-MAX($P$2:P3))*1000*INDEX(CalInfo!$J$19:$J$33,MATCH(\"Compound \"&D4,CalInfo!$L$19:$L$33,FALSE))/INDEX(CalInfo!$B$4:$B$8,MATCH($N$1,CalInfo!$A$4:$A$8,FALSE))))))","v":{"$error":"#N/A"}},null,null,{"$f":"IF(L4=\"\",\"\",IF(L4=\"QS to Volume\",\"To \"&INDEX(CalInfo!$B$4:$B$8,MATCH($S$1,CalInfo!$A$4:$A$8,FALSE))&\" mL\",IF(OR(D4=\"STD Count\",D4=\"Solvent\",D4=\"Internal Standard\"),INDEX(Backend!$M$2:$Q$4,MATCH('Cal Prep'!D4,Backend!$L$2:$L$5,FALSE),MATCH($S$1,Backend!$M$1:$Q$1,FALSE)),IF(AND($S$2=\"No\",L4=\"Dilution Prep\"),\"-\",IF(L4=\"Dilution Prep\",(INDEX(CalInfo!$B$4:$B$8,MATCH($S$1,CalInfo!$A$4:$A$8,FALSE))*$S$1)*1000/CalInfo!$A$14&\" uL\",IF($S$2=\"yes\",\"-\",IF(C4=\"Solid\",ROUND($S$1*INDEX(CalInfo!$B$4:$B$8,MATCH($S$1,CalInfo!$A$4:$A$8,FALSE))/(IF(ISNUMBER(D4),INDEX(CalInfo!$J$19:$J$33,MATCH(\"Compound \"&D4,CalInfo!$L$19:$L$33,FALSE)),\"\")*1000),3)&\" g\",ROUND(($S$1*1000*INDEX(CalInfo!$B$4:$B$8,MATCH($S$1,CalInfo!$A$4:$A$8,FALSE))/INDEX(Compounds!C:C,MATCH(L4,Compounds!A:A,FALSE)))/1000/5,0)*5&\" uL\")))))))","v":{"$error":"#N/A"}},null,{"$f":"IF(OR(AND(D4=\"\",L4<>\"\"),D4=\"Solvent\",D4=\"STD Count\",L4=\"Dilution Prep\"),\"-\",IF(U4=\"\",\"\",IF(D4=\"Internal Standard\",(U4-MAX($U$2:U3))*1000*INDEX(CalInfo!$J$19:$J$33,MATCH(D4,CalInfo!$A$19:$A$33,FALSE))/INDEX(CalInfo!$B$4:$B$8,MATCH($S$1,CalInfo!$A$4:$A$8,FALSE)),IF($S$2=\"yes\",(INDEX($U$3:$U$21,MATCH(\"Dilution prep\",$L$3:$L$21,FALSE))-VLOOKUP(INDEX($U$3:$U$21,MATCH(\"Dilution prep\",$L$3:$L$21,FALSE))-0.001,$U$3:$U$21,1,TRUE))*INDEX($I$3:$I$19,MATCH(L4,$E$3:$E$19,FALSE))*1000/INDEX(CalInfo!$B$4:$B$8,MATCH($S$1,CalInfo!$A$4:$A$8,FALSE)),(U4-MAX($U$2:U3))*1000*INDEX(CalInfo!$J$19:$J$33,MATCH(\"Compound \"&D4,CalInfo!$L$19:$L$33,FALSE))/INDEX(CalInfo!$B$4:$B$8,MATCH($S$1,CalInfo!$A$4:$A$8,FALSE))))))","v":{"$error":"#N/A"}},null,null,{"$f":"IF(L4=\"\",\"\",IF(L4=\"QS to Volume\",\"To \"&INDEX(CalInfo!$B$4:$B$8,MATCH($X$1,CalInfo!$A$4:$A$8,FALSE))&\" mL\",IF(OR(D4=\"STD Count\",D4=\"Solvent\",D4=\"Internal Standard\"),INDEX(Backend!$M$2:$Q$4,MATCH('Cal Prep'!D4,Backend!$L$2:$L$5,FALSE),MATCH($X$1,Backend!$M$1:$Q$1,FALSE)),IF(AND($X$2=\"No\",L4=\"Dilution Prep\"),\"-\",IF(L4=\"Dilution Prep\",(INDEX(CalInfo!$B$4:$B$8,MATCH($X$1,CalInfo!$A$4:$A$8,FALSE))*$X$1)*1000/CalInfo!$A$14&\" uL\",IF($X$2=\"yes\",\"-\",IF(C4=\"Solid\",ROUND($X$1*INDEX(CalInfo!$B$4:$B$8,MATCH($X$1,CalInfo!$A$4:$A$8,FALSE))/(IF(ISNUMBER(D4),INDEX(CalInfo!$J$19:$J$33,MATCH(\"Compound \"&D4,CalInfo!$L$19:$L$33,FALSE)),\"\")*1000),3)&\" g\",ROUND(($X$1*1000*INDEX(CalInfo!$B$4:$B$8,MATCH($X$1,CalInfo!$A$4:$A$8,FALSE))/INDEX(Compounds!C:C,MATCH(L4,Compounds!A:A,FALSE)))/1000/5,0)*5&\" uL\")))))))","v":{"$error":"#N/A"}},null,{"$f":"IF(OR(AND(D4=\"\",L4<>\"\"),D4=\"Solvent\",D4=\"STD Count\",L4=\"Dilution Prep\"),\"-\",IF(Z4=\"\",\"\",IF(D4=\"Internal Standard\",(Z4-MAX($Z$2:Z3))*1000*INDEX(CalInfo!$J$19:$J$33,MATCH(D4,CalInfo!$A$19:$A$33,FALSE))/INDEX(CalInfo!$B$4:$B$8,MATCH($X$1,CalInfo!$A$4:$A$8,FALSE)),IF($X$2=\"yes\",(INDEX($Z$3:$Z$21,MATCH(\"Dilution prep\",$L$3:$L$21,FALSE))-VLOOKUP(INDEX($Z$3:$Z$21,MATCH(\"Dilution prep\",$L$3:$L$21,FALSE))-0.001,$Z$3:$Z$21,1,TRUE))*INDEX($I$3:$I$19,MATCH(L4,$E$3:$E$19,FALSE))*1000/INDEX(CalInfo!$B$4:$B$8,MATCH($X$1,CalInfo!$A$4:$A$8,FALSE)),(Z4-MAX($Z$2:Z3))*1000*INDEX(CalInfo!$J$19:$J$33,MATCH(\"Compound \"&D4,CalInfo!$L$19:$L$33,FALSE))/INDEX(CalInfo!$B$4:$B$8,MATCH($X$1,CalInfo!$A$4:$A$8,FALSE))))))","v":{"$error":"#N/A"}},null,null,{"$f":"IF(L4=\"\",\"\",IF(L4=\"QS to Volume\",\"To \"&INDEX(CalInfo!$B$4:$B$8,MATCH($AC$1,CalInfo!$A$4:$A$8,FALSE))&\" mL\",IF(OR(D4=\"STD Count\",D4=\"Solvent\",D4=\"Internal Standard\"),INDEX(Backend!$M$2:$Q$4,MATCH('Cal Prep'!D4,Backend!$L$2:$L$5,FALSE),MATCH($AC$1,Backend!$M$1:$Q$1,FALSE)),IF(AND($AC$2=\"No\",L4=\"Dilution Prep\"),\"-\",IF(L4=\"Dilution Prep\",(INDEX(CalInfo!$B$4:$B$8,MATCH($AC$1,CalInfo!$A$4:$A$8,FALSE))*$AC$1)*1000/CalInfo!$A$14&\" uL\",IF($AC$2=\"yes\",\"-\",IF(C4=\"Solid\",ROUND($AC$1*INDEX(CalInfo!$B$4:$B$8,MATCH($AC$1,CalInfo!$A$4:$A$8,FALSE))/(IF(ISNUMBER(D4),INDEX(CalInfo!$J$19:$J$33,MATCH(\"Compound \"&D4,CalInfo!$L$19:$L$33,FALSE)),\"\")*1000),3)&\" g\",ROUND(($AC$1*1000*INDEX(CalInfo!$B$4:$B$8,MATCH($AC$1,CalInfo!$A$4:$A$8,FALSE))/INDEX(Compounds!C:C,MATCH(L4,Compounds!A:A,FALSE)))/1000/5,0)*5&\" uL\")))))))","v":{"$error":"#N/A"}},null,{"$f":"IF(OR(AND(D4=\"\",L4<>\"\"),D4=\"Solvent\",D4=\"STD Count\",L4=\"Dilution Prep\"),\"-\",IF(AE4=\"\",\"\",IF(D4=\"Internal Standard\",(AE4-MAX($AE$2:AE3))*1000*INDEX(CalInfo!$J$19:$J$33,MATCH(D4,CalInfo!$A$19:$A$33,FALSE))/INDEX(CalInfo!$B$4:$B$8,MATCH($AC$1,CalInfo!$A$4:$A$8,FALSE)),IF($AC$2=\"yes\",(INDEX($AE$3:$AE$21,MATCH(\"Dilution prep\",$L$3:$L$21,FALSE))-VLOOKUP(INDEX($AE$3:$AE$21,MATCH(\"Dilution prep\",$L$3:$L$21,FALSE))-0.001,$AE$3:$AE$21,1,TRUE))*INDEX($I$3:$I$19,MATCH(L4,$E$3:$E$19,FALSE))*1000/INDEX(CalInfo!$B$4:$B$8,MATCH($AC$1,CalInfo!$A$4:$A$8,FALSE)),(AE4-MAX($AE$2:AE3))*1000*INDEX(CalInfo!$J$19:$J$33,MATCH(\"Compound \"&D4,CalInfo!$L$19:$L$33,FALSE))/INDEX(CalInfo!$B$4:$B$8,MATCH($AC$1,CalInfo!$A$4:$A$8,FALSE))))))","v":{"$error":"#N/A"}},null,null,{"$f":"IF(L4=\"\",\"\",IF(L4=\"QS to Volume\",\"To \"&INDEX(CalInfo!$B$4:$B$8,MATCH($AH$1,CalInfo!$A$4:$A$8,FALSE))&\" mL\",IF(OR(D4=\"STD Count\",D4=\"Solvent\",D4=\"Internal Standard\"),INDEX(Backend!$M$2:$Q$4,MATCH('Cal Prep'!D4,Backend!$L$2:$L$5,FALSE),MATCH($AH$1,Backend!$M$1:$Q$1,FALSE)),IF(AND($AH$2=\"No\",L4=\"Dilution Prep\"),\"-\",IF(L4=\"Dilution Prep\",(INDEX(CalInfo!$B$4:$B$8,MATCH($AH$1,CalInfo!$A$4:$A$8,FALSE))*$AH$1)*1000/CalInfo!$A$14&\" uL\",IF($AH$2=\"yes\",\"-\",IF(C4=\"Solid\",ROUND($AH$1*INDEX(CalInfo!$B$4:$B$8,MATCH($AH$1,CalInfo!$A$4:$A$8,FALSE))/(IF(ISNUMBER(D4),INDEX(CalInfo!$J$19:$J$33,MATCH(\"Compound \"&D4,CalInfo!$L$19:$L$33,FALSE)),\"\")*1000),3)&\" g\",ROUND(($AH$1*1000*INDEX(CalInfo!$B$4:$B$8,MATCH($AH$1,CalInfo!$A$4:$A$8,FALSE))/INDEX(Compounds!C:C,MATCH(L4,Compounds!A:A,FALSE)))/1000/5,0)*5&\" uL\")))))))","v":{"$error":"#N/A"}},null,{"$f":"IF(OR(AND(D4=\"\",L4<>\"\"),D4=\"Solvent\",D4=\"STD Count\",L4=\"Dilution Prep\"),\"-\",IF(AJ4=\"\",\"\",IF(D4=\"Internal Standard\",(AJ4-MAX($AJ$2:AJ3))*1000*INDEX(CalInfo!$J$19:$J$33,MATCH(D4,CalInfo!$A$19:$A$33,FALSE))/INDEX(CalInfo!$B$4:$B$8,MATCH($AH$1,CalInfo!$A$4:$A$8,FALSE)),IF($AH$2=\"yes\",(INDEX($AJ$3:$AJ$21,MATCH(\"Dilution prep\",$L$3:$L$21,FALSE))-VLOOKUP(INDEX($AJ$3:$AJ$21,MATCH(\"Dilution prep\",$L$3:$L$21,FALSE))-0.001,$AJ$3:$AJ$21,1,TRUE))*INDEX($I$3:$I$19,MATCH(L4,$E$3:$E$19,FALSE))*1000/INDEX(CalInfo!$B$4:$B$8,MATCH($AH$1,CalInfo!$A$4:$A$8,FALSE)),(AJ4-MAX($AJ$2:AJ3))*1000*INDEX(CalInfo!$J$19:$J$33,MATCH(\"Compound \"&D4,CalInfo!$L$19:$L$33,FALSE))/INDEX(CalInfo!$B$4:$B$8,MATCH($AH$1,CalInfo!$A$4:$A$8,FALSE))))))","v":{"$error":"#N/A"}}]
[{"$f":"IF(OR(B5=\"\",B5=\"Solvent\"),\"\",INDEX(CalInfo!$E$19:$E$33,MATCH(\"Compound \"&'Cal Prep'!B5,CalInfo!$L$19:$L$33,FALSE)))","v":""},{"$f":"IF(MAX($B$4:B4)<CalInfo!$O$26,MAX('Cal Prep'!$B$4:B4)+1,\"\")","v":""},{"$f":"IF(OR(D5=\"\",D5=\"Solvent\",D5=\"Internal Standard\",D5=\"Dilution\"),\"\",INDEX(CalInfo!$E$19:$E$33,MATCH(\"Compound \"&'Cal Prep'!D5,CalInfo!$L$19:$L$33,FALSE)))","v":""},"Internal Standard",{"$f":"IF(AND(B5=\"\",B4=CalInfo!$O$26),\"QS to Volume\",IF(B5=\"\",\"\",INDEX(CalInfo!$B$19:$B$33,MATCH(\"Compound \"&B5,CalInfo!$L$19:$L$33,FALSE))))","v":""},{"$f":"IF(E5=\"\",\"\",IF(A5=\"Solid\",ROUND((CalInfo!$A$14*CalInfo!$B$14)/(INDEX(CalInfo!$J$19:$J$33,MATCH(\"Compound \"&B5,CalInfo!$L$19:$L$33,FALSE))*1000),3)&\" g\",IF(ISNUMBER(B5),ROUND((CalInfo!$A$14*CalInfo!$B$14)*1000/(INDEX(CalInfo!$H$19:$H$33,MATCH(\"Compound \"&B5,CalInfo!$L$19:$L$33,FALSE))*1000*INDEX(CalInfo!$J$19:$J$33,MATCH(\"Compound \"&B5,CalInfo!$L$19:$L$33,FALSE)))/5,0)*5&\" uL\",IF(B5=\"Solvent\",\"~\"&CalInfo!$B$14/2.5&\" mL\",IF(RIGHT(E5,5)=\"Flask\",\"-\",IF(E5=\"QS to Volume\",\"To \"&CalInfo!$B$14&\" mL\",\"\"))))))","v":""},null,{"$f":"IF(OR(AND(B5=\"\",E5<>\"\"),B5=\"Solvent\",B5=\"Dil Count\"),\"-\",IF(G5=\"\",\"\",(G5-MAX($G$2:G4))*1000*INDEX(CalInfo!$J$19:$J$33,MATCH(\"Compound \"&B5,CalInfo!$L$19:$L$33,FALSE))/CalInfo!$B$14))","v":""},{"$f":"IF(ISNUMBER(B5),INDEX(CalInfo!$J$19:$J$33,MATCH(\"Compound \"&B5,CalInfo!$L$19:$L$33,FALSE))*(G5-MAX($G$2:G4))/(MAX($G$3:$G$19)-MIN($G$3:$G$19)),\"\")","v":""},null,null,{"$f":"INDEX(CalInfo!$B$19:$B$33,MATCH(\"Internal Standard\",CalInfo!$A$19:$A$33,FALSE))","v":{"$error":"#N/A"}},null,null,{"$f":"IF(L5=\"\",\"\",IF(L5=\"QS to Volume\",\"To \"&INDEX(CalInfo!$B$4:$B$8,MATCH($N$1,CalInfo!$A$4:$A$8,FALSE))&\" mL\",IF(OR(D5=\"STD Count\",D5=\"Solvent\",D5=\"Internal Standard\"),INDEX(Backend!$M$2:$Q$4,MATCH('Cal Prep'!D5,Backend!$L$2:$L$5,FALSE),MATCH($N$1,Backend!$M$1:$Q$1,FALSE)),IF(AND($N$2=\"No\",L5=\"Dilution Prep\"),\"-\",IF(L5=\"Dilution Prep\",(INDEX(CalInfo!$B$4:$B$8,MATCH($N$1,CalInfo!$A$4:$A$8,FALSE))*$N$1)*1000/CalInfo!$A$14&\" uL\",IF($N$2=\"yes\",\"-\",IF(C5=\"Solid\",ROUND($N$1*INDEX(CalInfo!$B$4:$B$8,MATCH($N$1,CalInfo!$A$4:$A$8,FALSE))/(IF(ISNUMBER(D5),INDEX(CalInfo!$J$19:$J$33,MATCH(\"Compound \"&D5,CalInfo!$L$19:$L$33,FALSE)),\"\")*1000),3)&\" g\",ROUND(($N$1*1000*INDEX(CalInfo!$B$4:$B$8,MATCH($N$1,CalInfo!$A$4:$A$8,FALSE))/INDEX(Compounds!C:C,MATCH(L5,Compounds!A:A,FALSE)))/1000/5,0)*5&\" uL\")))))))","v":{"$error":"#N/A"}},null,{"$f":"IF(OR(AND(D5=\"\",L5<>\"\"),D5=\"Solvent\",D5=\"STD Count\",L5=\"Dilution Prep\"),\"-\",IF(P5=\"\",\"\",IF(D5=\"Internal Standard\",(P5-MAX($P$2:P4))*1000*INDEX(CalInfo!$J$19:$J$33,MATCH(D5,CalInfo!$A$19:$A$33,FALSE))/INDEX(CalInfo!$B$4:$B$8,MATCH($N$1,CalInfo!$A$4:$A$8,FALSE)),IF($N$2=\"yes\",(INDEX($P$3:$P$21,MATCH(\"Dilution prep\",$L$3:$L$21,FALSE))-VLOOKUP(INDEX($P$3:$P$21,MATCH(\"Dilution prep\",$L$3:$L$21,FALSE))-0.001,$P$3:$P$21,1,TRUE))*INDEX($I$3:$I$19,MATCH(L5,$E$3:$E$19,FALSE))*1000/INDEX(CalInfo!$B$4:$B$8,MATCH($N$1,CalInfo!$A$4:$A$8,FALSE)),(P5-MAX($P$2:P4))*1000*INDEX(CalInfo!$J$19:$J$33,MATCH(\"Compound \"&D5,CalInfo!$L$19:$L$33,FALSE))/INDEX(CalInfo!$B$4:$B$8,MATCH($N$1,CalInfo!$A$4:$A$8,FALSE))))))","v":{"$error":"#N/A"}},null,null,{"$f":"IF(L5=\"\",\"\",IF(L5=\"QS to Volume\",\"To \"&INDEX(CalInfo!$B$4:$B$8,MATCH($S$1,CalInfo!$A$4:$A$8,FALSE))&\" mL\",IF(OR(D5=\"STD Count\",D5=\"Solvent\",D5=\"Internal Standard\"),INDEX(Backend!$M$2:$Q$4,MATCH('Cal Prep'!D5,Backend!$L$2:$L$5,FALSE),MATCH($S$1,Backend!$M$1:$Q$1,FALSE)),IF(AND($S$2=\"No\",L5=\"Dilution Prep\"),\"-\",IF(L5=\"Dilution Prep\",(INDEX(CalInfo!$B$4:$B$8,MATCH($S$1,CalInfo!$A$4:$A$8,FALSE))*$S$1)*1000/CalInfo!$A$14&\" uL\",IF($S$2=\"yes\",\"-\",IF(C5=\"Solid\",ROUND($S$1*INDEX(CalInfo!$B$4:$B$8,MATCH($S$1,CalInfo!$A$4:$A$8,FALSE))/(IF(ISNUMBER(D5),INDEX(CalInfo!$J$19:$J$33,MATCH(\"Compound \"&D5,CalInfo!$L$19:$L$33,FALSE)),\"\")*1000),3)&\" g\",ROUND(($S$1*1000*INDEX(CalInfo!$B$4:$B$8,MATCH($S$1,CalInfo!$A$4:$A$8,FALSE))/INDEX(Compounds!C:C,MATCH(L5,Compounds!A:A,FALSE)))/1000/5,0)*5&\" uL\")))))))","v":{"$error":"#N/A"}},null,{"$f":"IF(OR(AND(D5=\"\",L5<>\"\"),D5=\"Solvent\",D5=\"STD Count\",L5=\"Dilution Prep\"),\"-\",IF(U5=\"\",\"\",IF(D5=\"Internal Standard\",(U5-MAX($U$2:U4))*1000*INDEX(CalInfo!$J$19:$J$33,MATCH(D5,CalInfo!$A$19:$A$33,FALSE))/INDEX(CalInfo!$B$4:$B$8,MATCH($S$1,CalInfo!$A$4:$A$8,FALSE)),IF($S$2=\"yes\",(INDEX($U$3:$U$21,MATCH(\"Dilution prep\",$L$3:$L$21,FALSE))-VLOOKUP(INDEX($U$3:$U$21,MATCH(\"Dilution prep\",$L$3:$L$21,FALSE))-0.001,$U$3:$U$21,1,TRUE))*INDEX($I$3:$I$19,MATCH(L5,$E$3:$E$19,FALSE))*1000/INDEX(CalInfo!$B$4:$B$8,MATCH($S$1,CalInfo!$A$4:$A$8,FALSE)),(U5-MAX($U$2:U4))*1000*INDEX(CalInfo!$J$19:$J$33,MATCH(\"Compound \"&D5,CalInfo!$L$19:$L$33,FALSE))/INDEX(CalInfo!$B$4:$B$8,MATCH($S$1,CalInfo!$A$4:$A$8,FALSE))))))","v":{"$error":"#N/A"}},null,null,{"$f":"IF(L5=\"\",\"\",IF(L5=\"QS to Volume\",\"To \"&INDEX(CalInfo!$B$4:$B$8,MATCH($X$1,CalInfo!$A$4:$A$8,FALSE))&\" mL\",IF(OR(D5=\"STD Count\",D5=\"Solvent\",D5=\"Internal Standard\"),INDEX(Backend!$M$2:$Q$4,MATCH('Cal Prep'!D5,Backend!$L$2:$L$5,FALSE),MATCH($X$1,Backend!$M$1:$Q$1,FALSE)),IF(AND($X$2=\"No\",L5=\"Dilution Prep\"),\"-\",IF(L5=\"Dilution Prep\",(INDEX(CalInfo!$B$4:$B$8,MATCH($X$1,CalInfo!$A$4:$A$8,FALSE))*$X$1)*1000/CalInfo!$A$14&\" uL\",IF($X$2=\"yes\",\"-\",IF(C5=\"Solid\",ROUND($X$1*INDEX(CalInfo!$B$4:$B$8,MATCH($X$1,CalInfo!$A$4:$A$8,FALSE))/(IF(ISNUMBER(D5),INDEX(CalInfo!$J$19:$J$33,MATCH(\"Compound \"&D5,CalInfo!$L$19:$L$33,FALSE)),\"\")*1000),3)&\" g\",ROUND(($X$1*1000*INDEX(CalInfo!$B$4:$B$8,MATCH($X$1,CalInfo!$A$4:$A$8,FALSE))/INDEX(Compounds!C:C,MATCH(L5,Compounds!A:A,FALSE)))/1000/5,0)*5&\" uL\")))))))","v":{"$error":"#N/A"}},null,{"$f":"IF(OR(AND(D5=\"\",L5<>\"\"),D5=\"Solvent\",D5=\"STD Count\",L5=\"Dilution Prep\"),\"-\",IF(Z5=\"\",\"\",IF(D5=\"Internal Standard\",(Z5-MAX($Z$2:Z4))*1000*INDEX(CalInfo!$J$19:$J$33,MATCH(D5,CalInfo!$A$19:$A$33,FALSE))/INDEX(CalInfo!$B$4:$B$8,MATCH($X$1,CalInfo!$A$4:$A$8,FALSE)),IF($X$2=\"yes\",(INDEX($Z$3:$Z$21,MATCH(\"Dilution prep\",$L$3:$L$21,FALSE))-VLOOKUP(INDEX($Z$3:$Z$21,MATCH(\"Dilution prep\",$L$3:$L$21,FALSE))-0.001,$Z$3:$Z$21,1,TRUE))*INDEX($I$3:$I$19,MATCH(L5,$E$3:$E$19,FALSE))*1000/INDEX(CalInfo!$B$4:$B$8,MATCH($X$1,CalInfo!$A$4:$A$8,FALSE)),(Z5-MAX($Z$2:Z4))*1000*INDEX(CalInfo!$J$19:$J$33,MATCH(\"Compound \"&D5,CalInfo!$L$19:$L$33,FALSE))/INDEX(CalInfo!$B$4:$B$8,MATCH($X$1,CalInfo!$A$4:$A$8,FALSE))))))","v":{"$error":"#N/A"}},null,null,{"$f":"IF(L5=\"\",\"\",IF(L5=\"QS to Volume\",\"To \"&INDEX(CalInfo!$B$4:$B$8,MATCH($AC$1,CalInfo!$A$4:$A$8,FALSE))&\" mL\",IF(OR(D5=\"STD Count\",D5=\"Solvent\",D5=\"Internal Standard\"),INDEX(Backend!$M$2:$Q$4,MATCH('Cal Prep'!D5,Backend!$L$2:$L$5,FALSE),MATCH($AC$1,Backend!$M$1:$Q$1,FALSE)),IF(AND($AC$2=\"No\",L5=\"Dilution Prep\"),\"-\",IF(L5=\"Dilution Prep\",(INDEX(CalInfo!$B$4:$B$8,MATCH($AC$1,CalInfo!$A$4:$A$8,FALSE))*$AC$1)*1000/CalInfo!$A$14&\" uL\",IF($AC$2=\"yes\",\"-\",IF(C5=\"Solid\",ROUND($AC$1*INDEX(CalInfo!$B$4:$B$8,MATCH($AC$1,CalInfo!$A$4:$A$8,FALSE))/(IF(ISNUMBER(D5),INDEX(CalInfo!$J$19:$J$33,MATCH(\"Compound \"&D5,CalInfo!$L$19:$L$33,FALSE)),\"\")*1000),3)&\" g\",ROUND(($AC$1*1000*INDEX(CalInfo!$B$4:$B$8,MATCH($AC$1,CalInfo!$A$4:$A$8,FALSE))/INDEX(Compounds!C:C,MATCH(L5,Compounds!A:A,FALSE)))/1000/5,0)*5&\" uL\")))))))","v":{"$error":"#N/A"}},null,{"$f":"IF(OR(AND(D5=\"\",L5<>\"\"),D5=\"Solvent\",D5=\"STD Count\",L5=\"Dilution Prep\"),\"-\",IF(AE5=\"\",\"\",IF(D5=\"Internal Standard\",(AE5-MAX($AE$2:AE4))*1000*INDEX(CalInfo!$J$19:$J$33,MATCH(D5,CalInfo!$A$19:$A$33,FALSE))/INDEX(CalInfo!$B$4:$B$8,MATCH($AC$1,CalInfo!$A$4:$A$8,FALSE)),IF($AC$2=\"yes\",(INDEX($AE$3:$AE$21,MATCH(\"Dilution prep\",$L$3:$L$21,FALSE))-VLOOKUP(INDEX($AE$3:$AE$21,MATCH(\"Dilution prep\",$L$3:$L$21,FALSE))-0.001,$AE$3:$AE$21,1,TRUE))*INDEX($I$3:$I$19,MATCH(L5,$E$3:$E$19,FALSE))*1000/INDEX(CalInfo!$B$4:$B$8,MATCH($AC$1,CalInfo!$A$4:$A$8,FALSE)),(AE5-MAX($AE$2:AE4))*1000*INDEX(CalInfo!$J$19:$J$33,MATCH(\"Compound \"&D5,CalInfo!$L$19:$L$33,FALSE))/INDEX(CalInfo!$B$4:$B$8,MATCH($AC$1,CalInfo!$A$4:$A$8,FALSE))))))","v":{"$error":"#N/A"}},null,null,{"$f":"IF(L5=\"\",\"\",IF(L5=\"QS to Volume\",\"To \"&INDEX(CalInfo!$B$4:$B$8,MATCH($AH$1,CalInfo!$A$4:$A$8,FALSE))&\" mL\",IF(OR(D5=\"STD Count\",D5=\"Solvent\",D5=\"Internal Standard\"),INDEX(Backend!$M$2:$Q$4,MATCH('Cal Prep'!D5,Backend!$L$2:$L$5,FALSE),MATCH($AH$1,Backend!$M$1:$Q$1,FALSE)),IF(AND($AH$2=\"No\",L5=\"Dilution Prep\"),\"-\",IF(L5=\"Dilution Prep\",(INDEX(CalInfo!$B$4:$B$8,MATCH($AH$1,CalInfo!$A$4:$A$8,FALSE))*$AH$1)*1000/CalInfo!$A$14&\" uL\",IF($AH$2=\"yes\",\"-\",IF(C5=\"Solid\",ROUND($AH$1*INDEX(CalInfo!$B$4:$B$8,MATCH($AH$1,CalInfo!$A$4:$A$8,FALSE))/(IF(ISNUMBER(D5),INDEX(CalInfo!$J$19:$J$33,MATCH(\"Compound \"&D5,CalInfo!$L$19:$L$33,FALSE)),\"\")*1000),3)&\" g\",ROUND(($AH$1*1000*INDEX(CalInfo!$B$4:$B$8,MATCH($AH$1,CalInfo!$A$4:$A$8,FALSE))/INDEX(Compounds!C:C,MATCH(L5,Compounds!A:A,FALSE)))/1000/5,0)*5&\" uL\")))))))","v":{"$error":"#N/A"}},null,{"$f":"IF(OR(AND(D5=\"\",L5<>\"\"),D5=\"Solvent\",D5=\"STD Count\",L5=\"Dilution Prep\"),\"-\",IF(AJ5=\"\",\"\",IF(D5=\"Internal Standard\",(AJ5-MAX($AJ$2:AJ4))*1000*INDEX(CalInfo!$J$19:$J$33,MATCH(D5,CalInfo!$A$19:$A$33,FALSE))/INDEX(CalInfo!$B$4:$B$8,MATCH($AH$1,CalInfo!$A$4:$A$8,FALSE)),IF($AH$2=\"yes\",(INDEX($AJ$3:$AJ$21,MATCH(\"Dilution prep\",$L$3:$L$21,FALSE))-VLOOKUP(INDEX($AJ$3:$AJ$21,MATCH(\"Dilution prep\",$L$3:$L$21,FALSE))-0.001,$AJ$3:$AJ$21,1,TRUE))*INDEX($I$3:$I$19,MATCH(L5,$E$3:$E$19,FALSE))*1000/INDEX(CalInfo!$B$4:$B$8,MATCH($AH$1,CalInfo!$A$4:$A$8,FALSE)),(AJ5-MAX($AJ$2:AJ4))*1000*INDEX(CalInfo!$J$19:$J$33,MATCH(\"Compound \"&D5,CalInfo!$L$19:$L$33,FALSE))/INDEX(CalInfo!$B$4:$B$8,MATCH($AH$1,CalInfo!$A$4:$A$8,FALSE))))))","v":{"$error":"#N/A"}}]
[{"$f":"IF(OR(B6=\"\",B6=\"Solvent\"),\"\",INDEX(CalInfo!$E$19:$E$33,MATCH(\"Compound \"&'Cal Prep'!B6,CalInfo!$L$19:$L$33,FALSE)))","v":""},{"$f":"IF(MAX($B$4:B5)<CalInfo!$O$26,MAX('Cal Prep'!$B$4:B5)+1,\"\")","v":""},{"$f":"IF(OR(D6=\"\",D6=\"Solvent\",D6=\"Internal Standard\",D6=\"Dilution\"),\"\",INDEX(CalInfo!$E$19:$E$33,MATCH(\"Compound \"&'Cal Prep'!D6,CalInfo!$L$19:$L$33,FALSE)))","v":""},"Dilution",{"$f":"IF(AND(B6=\"\",B5=CalInfo!$O$26),\"QS to Volume\",IF(B6=\"\",\"\",INDEX(CalInfo!$B$19:$B$33,MATCH(\"Compound \"&B6,CalInfo!$L$19:$L$33,FALSE))))","v":""},{"$f":"IF(E6=\"\",\"\",IF(A6=\"Solid\",ROUND((CalInfo!$A$14*CalInfo!$B$14)/(INDEX(CalInfo!$J$19:$J$33,MATCH(\"Compound \"&B6,CalInfo!$L$19:$L$33,FALSE))*1000),3)&\" g\",IF(ISNUMBER(B6),ROUND((CalInfo!$A$14*CalInfo!$B$14)*1000/(INDEX(CalInfo!$H$19:$H$33,MATCH(\"Compound \"&B6,CalInfo!$L$19:$L$33,FALSE))*1000*INDEX(CalInfo!$J$19:$J$33,MATCH(\"Compound \"&B6,CalInfo!$L$19:$L$33,FALSE)))/5,0)*5&\" uL\",IF(B6=\"Solvent\",\"~\"&CalInfo!$B$14/2.5&\" mL\",IF(RIGHT(E6,5)=\"Flask\",\"-\",IF(E6=\"QS to Volume\",\"To \"&CalInfo!$B$14&\" mL\",\"\"))))))","v":""},null,{"$f":"IF(OR(AND(B6=\"\",E6<>\"\"),B6=\"Solvent\",B6=\"Dil Count\"),\"-\",IF(G6=\"\",\"\",(G6-MAX($G$2:G5))*1000*INDEX(CalInfo!$J$19:$J$33,MATCH(\"Compound \"&B6,CalInfo!$L$19:$L$33,FALSE))/CalInfo!$B$14))","v":""},{"$f":"IF(ISNUMBER(B6),INDEX(CalInfo!$J$19:$J$33,MATCH(\"Compound \"&B6,CalInfo!$L$19:$L$33,FALSE))*(G6-MAX($G$2:G5))/(MAX($G$3:$G$19)-MIN($G$3:$G$19)),\"\")","v":""},null,null,"Dilution Prep",null,null,{"$f":"IF(L6=\"\",\"\",IF(L6=\"QS to Volume\",\"To \"&INDEX(CalInfo!$B$4:$B$8,MATCH($N$1,CalInfo!$A$4:$A$8,FALSE))&\" mL\",IF(OR(D6=\"STD Count\",D6=\"Solvent\",D6=\"Internal Standard\"),INDEX(Backend!$M$2:$Q$4,MATCH('Cal Prep'!D6,Backend!$L$2:$L$5,FALSE),MATCH($N$1,Backend!$M$1:$Q$1,FALSE)),IF(AND($N$2=\"No\",L6=\"Dilution Prep\"),\"-\",IF(L6=\"Dilution Prep\",(INDEX(CalInfo!$B$4:$B$8,MATCH($N$1,CalInfo!$A$4:$A$8,FALSE))*$N$1)*1000/CalInfo!$A$14&\" uL\",IF($N$2=\"yes\",\"-\",IF(C6=\"Solid\",ROUND($N$1*INDEX(CalInfo!$B$4:$B$8,MATCH($N$1,CalInfo!$A$4:$A$8,FALSE))/(IF(ISNUMBER(D6),INDEX(CalInfo!$J$19:$J$33,MATCH(\"Compound \"&D6,CalInfo!$L$19:$L$33,FALSE)),\"\")*1000),3)&\" g\",ROUND(($N$1*1000*INDEX(CalInfo!$B$4:$B$8,MATCH($N$1,CalInfo!$A$4:$A$8,FALSE))/INDEX(Compounds!C:C,MATCH(L6,Compounds!A:A,FALSE)))/1000/5,0)*5&\" uL\")))))))","v":{"$error":"#N/A"}},null,{"$f":"IF(OR(AND(D6=\"\",L6<>\"\"),D6=\"Solvent\",D6=\"STD Count\",L6=\"Dilution Prep\"),\"-\",IF(P6=\"\",\"\",IF(D6=\"Internal Standard\",(P6-MAX($P$2:P5))*1000*INDEX(CalInfo!$J$19:$J$33,MATCH(D6,CalInfo!$A$19:$A$33,FALSE))/INDEX(CalInfo!$B$4:$B$8,MATCH($N$1,CalInfo!$A$4:$A$8,FALSE)),IF($N$2=\"yes\",(INDEX($P$3:$P$21,MATCH(\"Dilution prep\",$L$3:$L$21,FALSE))-VLOOKUP(INDEX($P$3:$P$21,MATCH(\"Dilution prep\",$L$3:$L$21,FALSE))-0.001,$P$3:$P$21,1,TRUE))*INDEX($I$3:$I$19,MATCH(L6,$E$3:$E$19,FALSE))*1000/INDEX(CalInfo!$B$4:$B$8,MATCH($N$1,CalInfo!$A$4:$A$8,FALSE)),(P6-MAX($P$2:P5))*1000*INDEX(CalInfo!$J$19:$J$33,MATCH(\"Compound \"&D6,CalInfo!$L$19:$L$33,FALSE))/INDEX(CalInfo!$B$4:$B$8,MATCH($N$1,CalInfo!$A$4:$A$8,FALSE))))))","v":"-"},null,null,{"$f":"IF(L6=\"\",\"\",IF(L6=\"QS to Volume\",\"To \"&INDEX(CalInfo!$B$4:$B$8,MATCH($S$1,CalInfo!$A$4:$A$8,FALSE))&\" mL\",IF(OR(D6=\"STD Count\",D6=\"Solvent\",D6=\"Internal Standard\"),INDEX(Backend!$M$2:$Q$4,MATCH('Cal Prep'!D6,Backend!$L$2:$L$5,FALSE),MATCH($S$1,Backend!$M$1:$Q$1,FALSE)),IF(AND($S$2=\"No\",L6=\"Dilution Prep\"),\"-\",IF(L6=\"Dilution Prep\",(INDEX(CalInfo!$B$4:$B$8,MATCH($S$1,CalInfo!$A$4:$A$8,FALSE))*$S$1)*1000/CalInfo!$A$14&\" uL\",IF($S$2=\"yes\",\"-\",IF(C6=\"Solid\",ROUND($S$1*INDEX(CalInfo!$B$4:$B$8,MATCH($S$1,CalInfo!$A$4:$A$8,FALSE))/(IF(ISNUMBER(D6),INDEX(CalInfo!$J$19:$J$33,MATCH(\"Compound \"&D6,CalInfo!$L$19:$L$33,FALSE)),\"\")*1000),3)&\" g\",ROUND(($S$1*1000*INDEX(CalInfo!$B$4:$B$8,MATCH($S$1,CalInfo!$A$4:$A$8,FALSE))/INDEX(Compounds!C:C,MATCH(L6,Compounds!A:A,FALSE)))/1000/5,0)*5&\" uL\")))))))","v":{"$error":"#N/A"}},null,{"$f":"IF(OR(AND(D6=\"\",L6<>\"\"),D6=\"Solvent\",D6=\"STD Count\",L6=\"Dilution Prep\"),\"-\",IF(U6=\"\",\"\",IF(D6=\"Internal Standard\",(U6-MAX($U$2:U5))*1000*INDEX(CalInfo!$J$19:$J$33,MATCH(D6,CalInfo!$A$19:$A$33,FALSE))/INDEX(CalInfo!$B$4:$B$8,MATCH($S$1,CalInfo!$A$4:$A$8,FALSE)),IF($S$2=\"yes\",(INDEX($U$3:$U$21,MATCH(\"Dilution prep\",$L$3:$L$21,FALSE))-VLOOKUP(INDEX($U$3:$U$21,MATCH(\"Dilution prep\",$L$3:$L$21,FALSE))-0.001,$U$3:$U$21,1,TRUE))*INDEX($I$3:$I$19,MATCH(L6,$E$3:$E$19,FALSE))*1000/INDEX(CalInfo!$B$4:$B$8,MATCH($S$1,CalInfo!$A$4:$A$8,FALSE)),(U6-MAX($U$2:U5))*1000*INDEX(CalInfo!$J$19:$J$33,MATCH(\"Compound \"&D6,CalInfo!$L$19:$L$33,FALSE))/INDEX(CalInfo!$B$4:$B$8,MATCH($S$1,CalInfo!$A$4:$A$8,FALSE))))))","v":"-"},null,null,{"$f":"IF(L6=\"\",\"\",IF(L6=\"QS to Volume\",\"To \"&INDEX(CalInfo!$B$4:$B$8,MATCH($X$1,CalInfo!$A$4:$A$8,FALSE))&\" mL\",IF(OR(D6=\"STD Count\",D6=\"Solvent\",D6=\"Internal Standard\"),INDEX(Backend!$M$2:$Q$4,MATCH('Cal Prep'!D6,Backend!$L$2:$L$5,FALSE),MATCH($X$1,Backend!$M$1:$Q$1,FALSE)),IF(AND($X$2=\"No\",L6=\"Dilution Prep\"),\"-\",IF(L6=\"Dilution Prep\",(INDEX(CalInfo!$B$4:$B$8,MATCH($X$1,CalInfo!$A$4:$A$8,FALSE))*$X$1)*1000/CalInfo!$A$14&\" uL\",IF($X$2=\"yes\",\"-\",IF(C6=\"Solid\",ROUND($X$1*INDEX(CalInfo!$B$4:$B$8,MATCH($X$1,CalInfo!$A$4:$A$8,FALSE))/(IF(ISNUMBER(D6),INDEX(CalInfo!$J$19:$J$33,MATCH(\"Compound \"&D6,CalInfo!$L$19:$L$33,FALSE)),\"\")*1000),3)&\" g\",ROUND(($X$1*1000*INDEX(CalInfo!$B$4:$B$8,MATCH($X$1,CalInfo!$A$4:$A$8,FALSE))/INDEX(Compounds!C:C,MATCH(L6,Compounds!A:A,FALSE)))/1000/5,0)*5&\" uL\")))))))","v":{"$error":"#N/A"}},null,{"$f":"IF(OR(AND(D6=\"\",L6<>\"\"),D6=\"Solvent\",D6=\"STD Count\",L6=\"Dilution Prep\"),\"-\",IF(Z6=\"\",\"\",IF(D6=\"Internal Standard\",(Z6-MAX($Z$2:Z5))*1000*INDEX(CalInfo!$J$19:$J$33,MATCH(D6,CalInfo!$A$19:$A$33,FALSE))/INDEX(CalInfo!$B$4:$B$8,MATCH($X$1,CalInfo!$A$4:$A$8,FALSE)),IF($X$2=\"yes\",(INDEX($Z$3:$Z$21,MATCH(\"Dilution prep\",$L$3:$L$21,FALSE))-VLOOKUP(INDEX($Z$3:$Z$21,MATCH(\"Dilution prep\",$L$3:$L$21,FALSE))-0.001,$Z$3:$Z$21,1,TRUE))*INDEX($I$3:$I$19,MATCH(L6,$E$3:$E$19,FALSE))*1000/INDEX(CalInfo!$B$4:$B$8,MATCH($X$1,CalInfo!$A$4:$A$8,FALSE)),(Z6-MAX($Z$2:Z5))*1000*INDEX(CalInfo!$J$19:$J$33,MATCH(\"Compound \"&D6,CalInfo!$L$19:$L$33,FALSE))/INDEX(CalInfo!$B$4:$B$8,MATCH($X$1,CalInfo!$A$4:$A$8,FALSE))))))","v":"-"},null,null,{"$f":"IF(L6=\"\",\"\",IF(L6=\"QS to Volume\",\"To \"&INDEX(CalInfo!$B$4:$B$8,MATCH($AC$1,CalInfo!$A$4:$A$8,FALSE))&\" mL\",IF(OR(D6=\"STD Count\",D6=\"Solvent\",D6=\"Internal Standard\"),INDEX(Backend!$M$2:$Q$4,MATCH('Cal Prep'!D6,Backend!$L$2:$L$5,FALSE),MATCH($AC$1,Backend!$M$1:$Q$1,FALSE)),IF(AND($AC$2=\"No\",L6=\"Dilution Prep\"),\"-\",IF(L6=\"Dilution Prep\",(INDEX(CalInfo!$B$4:$B$8,MATCH($AC$1,CalInfo!$A$4:$A$8,FALSE))*$AC$1)*1000/CalInfo!$A$14&\" uL\",IF($AC$2=\"yes\",\"-\",IF(C6=\"Solid\",ROUND($AC$1*INDEX(CalInfo!$B$4:$B$8,MATCH($AC$1,CalInfo!$A$4:$A$8,FALSE))/(IF(ISNUMBER(D6),INDEX(CalInfo!$J$19:$J$33,MATCH(\"Compound \"&D6,CalInfo!$L$19:$L$33,FALSE)),\"\")*1000),3)&\" g\",ROUND(($AC$1*1000*INDEX(CalInfo!$B$4:$B$8,MATCH($AC$1,CalInfo!$A$4:$A$8,FALSE))/INDEX(Compounds!C:C,MATCH(L6,Compounds!A:A,FALSE)))/1000/5,0)*5&\" uL\")))))))","v":{"$error":"#N/A"}},null,{"$f":"IF(OR(AND(D6=\"\",L6<>\"\"),D6=\"Solvent\",D6=\"STD Count\",L6=\"Dilution Prep\"),\"-\",IF(AE6=\"\",\"\",IF(D6=\"Internal Standard\",(AE6-MAX($AE$2:AE5))*1000*INDEX(CalInfo!$J$19:$J$33,MATCH(D6,CalInfo!$A$19:$A$33,FALSE))/INDEX(CalInfo!$B$4:$B$8,MATCH($AC$1,CalInfo!$A$4:$A$8,FALSE)),IF($AC$2=\"yes\",(INDEX($AE$3:$AE$21,MATCH(\"Dilution prep\",$L$3:$L$21,FALSE))-VLOOKUP(INDEX($AE$3:$AE$21,MATCH(\"Dilution prep\",$L$3:$L$21,FALSE))-0.001,$AE$3:$AE$21,1,TRUE))*INDEX($I$3:$I$19,MATCH(L6,$E$3:$E$19,FALSE))*1000/INDEX(CalInfo!$B$4:$B$8,MATCH($AC$1,CalInfo!$A$4:$A$8,FALSE)),(AE6-MAX($AE$2:AE5))*1000*INDEX(CalInfo!$J$19:$J$33,MATCH(\"Compound \"&D6,CalInfo!$L$19:$L$33,FALSE))/INDEX(CalInfo!$B$4:$B$8,MATCH($AC$1,CalInfo!$A$4:$A$8,FALSE))))))","v":"-"},null,null,{"$f":"IF(L6=\"\",\"\",IF(L6=\"QS to Volume\",\"To \"&INDEX(CalInfo!$B$4:$B$8,MATCH($AH$1,CalInfo!$A$4:$A$8,FALSE))&\" mL\",IF(OR(D6=\"STD Count\",D6=\"Solvent\",D6=\"Internal Standard\"),INDEX(Backend!$M$2:$Q$4,MATCH('Cal Prep'!D6,Backend!$L$2:$L$5,FALSE),MATCH($AH$1,Backend!$M$1:$Q$1,FALSE)),IF(AND($AH$2=\"No\",L6=\"Dilution Prep\"),\"-\",IF(L6=\"Dilution Prep\",(INDEX(CalInfo!$B$4:$B$8,MATCH($AH$1,CalInfo!$A$4:$A$8,FALSE))*$AH$1)*1000/CalInfo!$A$14&\" uL\",IF($AH$2=\"yes\",\"-\",IF(C6=\"Solid\",ROUND($AH$1*INDEX(CalInfo!$B$4:$B$8,MATCH($AH$1,CalInfo!$A$4:$A$8,FALSE))/(IF(ISNUMBER(D6),INDEX(CalInfo!$J$19:$J$33,MATCH(\"Compound \"&D6,CalInfo!$L$19:$L$33,FALSE)),\"\")*1000),3)&\" g\",ROUND(($AH$1*1000*INDEX(CalInfo!$B$4:$B$8,MATCH($AH$1,CalInfo!$A$4:$A$8,FALSE))/INDEX(Compounds!C:C,MATCH(L6,Compounds!A:A,FALSE)))/1000/5,0)*5&\" uL\")))))))","v":{"$error":"#N/A"}},null,{"$f":"IF(OR(AND(D6=\"\",L6<>\"\"),D6=\"Solvent\",D6=\"STD Count\",L6=\"Dilution Prep\"),\"-\",IF(AJ6=\"\",\"\",IF(D6=\"Internal Standard\",(AJ6-MAX($AJ$2:AJ5))*1000*INDEX(CalInfo!$J$19:$J$33,MATCH(D6,CalInfo!$A$19:$A$33,FALSE))/INDEX(CalInfo!$B$4:$B$8,MATCH($AH$1,CalInfo!$A$4:$A$8,FALSE)),IF($AH$2=\"yes\",(INDEX($AJ$3:$AJ$21,MATCH(\"Dilution prep\",$L$3:$L$21,FALSE))-VLOOKUP(INDEX($AJ$3:$AJ$21,MATCH(\"Dilution prep\",$L$3:$L$21,FALSE))-0.001,$AJ$3:$AJ$21,1,TRUE))*INDEX($I$3:$I$19,MATCH(L6,$E$3:$E$19,FALSE))*1000/INDEX(CalInfo!$B$4:$B$8,MATCH($AH$1,CalInfo!$A$4:$A$8,FALSE)),(AJ6-MAX($AJ$2:AJ5))*1000*INDEX(CalInfo!$J$19:$J$33,MATCH(\"Compound \"&D6,CalInfo!$L$19:$L$33,FALSE))/INDEX(CalInfo!$B$4:$B$8,MATCH($AH$1,CalInfo!$A$4:$A$8,FALSE))))))","v":"-"}]
[{"$f":"IF(OR(B7=\"\",B7=\"Solvent\"),\"\",INDEX(CalInfo!$E$19:$E$33,MATCH(\"Compound \"&'Cal Prep'!B7,CalInfo!$L$19:$L$33,FALSE)))","v":""},{"$f":"IF(MAX($B$4:B6)<CalInfo!$O$26,MAX('Cal Prep'!$B$4:B6)+1,\"\")","v":""},{"$f":"IF(OR(D7=\"\",D7=\"Solvent\",D7=\"Internal Standard\",D7=\"Dilution\"),\"\",INDEX(CalInfo!$E$19:$E$33,MATCH(\"Compound \"&'Cal Prep'!D7,CalInfo!$L$19:$L$33,FALSE)))","v":""},{"$f":"IF(MAX($D$4:D6)<CalInfo!$O$26,MAX('Cal Prep'!$D$4:D6)+1,\"\")","v":""},{"$f":"IF(AND(B7=\"\",B6=CalInfo!$O$26),\"QS to Volume\",IF(B7=\"\",\"\",INDEX(CalInfo!$B$19:$B$33,MATCH(\"Compound \"&B7,CalInfo!$L$19:$L$33,FALSE))))","v":""},{"$f":"IF(E7=\"\",\"\",IF(A7=\"Solid\",ROUND((CalInfo!$A$14*CalInfo!$B$14)/(INDEX(CalInfo!$J$19:$J$33,MATCH(\"Compound \"&B7,CalInfo!$L$19:$L$33,FALSE))*1000),3)&\" g\",IF(ISNUMBER(B7),ROUND((CalInfo!$A$14*CalInfo!$B$14)*1000/(INDEX(CalInfo!$H$19:$H$33,MATCH(\"Compound \"&B7,CalInfo!$L$19:$L$33,FALSE))*1000*INDEX(CalInfo!$J$19:$J$33,MATCH(\"Compound \"&B7,CalInfo!$L$19:$L$33,FALSE)))/5,0)*5&\" uL\",IF(B7=\"Solvent\",\"~\"&CalInfo!$B$14/2.5&\" mL\",IF(RIGHT(E7,5)=\"Flask\",\"-\",IF(E7=\"QS to Volume\",\"To \"&CalInfo!$B$14&\" mL\",\"\"))))))","v":""},null,{"$f":"IF(OR(AND(B7=\"\",E7<>\"\"),B7=\"Solvent\",B7=\"Dil Count\"),\"-\",IF(G7=\"\",\"\",(G7-MAX($G$2:G6))*1000*INDEX(CalInfo!$J$19:$J$33,MATCH(\"Compound \"&B7,CalInfo!$L$19:$L$33,FALSE))/CalInfo!$B$14))","v":""},{"$f":"IF(ISNUMBER(B7),INDEX(CalInfo!$J$19:$J$33,MATCH(\"Compound \"&B7,CalInfo!$L$19:$L$33,FALSE))*(G7-MAX($G$2:G6))/(MAX($G$3:$G$19)-MIN($G$3:$G$19)),\"\")","v":""},null,null,{"$f":"E5","v":""},null,null,{"$f":"IF(L7=\"\",\"\",IF(L7=\"QS to Volume\",\"To \"&INDEX(CalInfo!$B$4:$B$8,MATCH($N$1,CalInfo!$A$4:$A$8,FALSE))&\" mL\",IF(OR(D7=\"STD Count\",D7=\"Solvent\",D7=\"Internal Standard\"),INDEX(Backend!$M$2:$Q$4,MATCH('Cal Prep'!D7,Backend!$L$2:$L$5,FALSE),MATCH($N$1,Backend!$M$1:$Q$1,FALSE)),IF(AND($N$2=\"No\",L7=\"Dilution Prep\"),\"-\",IF(L7=\"Dilution Prep\",(INDEX(CalInfo!$B$4:$B$8,MATCH($N$1,CalInfo!$A$4:$A$8,FALSE))*$N$1)*1000/CalInfo!$A$14&\" uL\",IF($N$2=\"yes\",\"-\",IF(C7=\"Solid\",ROUND($N$1*INDEX(CalInfo!$B$4:$B$8,MATCH($N$1,CalInfo!$A$4:$A$8,FALSE))/(IF(ISNUMBER(D7),INDEX(CalInfo!$J$19:$J$33,MATCH(\"Compound \"&D7,CalInfo!$L$19:$L$33,FALSE)),\"\")*1000),3)&\" g\",ROUND(($N$1*1000*INDEX(CalInfo!$B$4:$B$8,MATCH($N$1,CalInfo!$A$4:$A$8,FALSE))/INDEX(Compounds!C:C,MATCH(L7,Compounds!A:A,FALSE)))/1000/5,0)*5&\" uL\")))))))","v":""},null,{"$f":"IF(OR(AND(D7=\"\",L7<>\"\"),D7=\"Solvent\",D7=\"STD Count\",L7=\"Dilution Prep\"),\"-\",IF(P7=\"\",\"\",IF(D7=\"Internal Standard\",(P7-MAX($P$2:P6))*1000*INDEX(CalInfo!$J$19:$J$33,MATCH(D7,CalInfo!$A$19:$A$33,FALSE))/INDEX(CalInfo!$B$4:$B$8,MATCH($N$1,CalInfo!$A$4:$A$8,FALSE)),IF($N$2=\"yes\",(INDEX($P$3:$P$21,MATCH(\"Dilution prep\",$L$3:$L$21,FALSE))-VLOOKUP(INDEX($P$3:$P$21,MATCH(\"Dilution prep\",$L$3:$L$21,FALSE))-0.001,$P$3:$P$21,1,TRUE))*INDEX($I$3:$I$19,MATCH(L7,$E$3:$E$19,FALSE))*1000/INDEX(CalInfo!$B$4:$B$8,MATCH($N$1,CalInfo!$A$4:$A$8,FALSE)),(P7-MAX($P$2:P6))*1000*INDEX(CalInfo!$J$19:$J$33,MATCH(\"Compound \"&D7,CalInfo!$L$19:$L$33,FALSE))/INDEX(CalInfo!$B$4:$B$8,MATCH($N$1,CalInfo!$A$4:$A$8,FALSE))))))","v":""},null,null,{"$f":"IF(L7=\"\",\"\",IF(L7=\"QS to Volume\",\"To \"&INDEX(CalInfo!$B$4:$B$8,MATCH($S$1,CalInfo!$A$4:$A$8,FALSE))&\" mL\",IF(OR(D7=\"STD Count\",D7=\"Solvent\",D7=\"Internal Standard\"),INDEX(Backend!$M$2:$Q$4,MATCH('Cal Prep'!D7,Backend!$L$2:$L$5,FALSE),MATCH($S$1,Backend!$M$1:$Q$1,FALSE)),IF(AND($S$2=\"No\",L7=\"Dilution Prep\"),\"-\",IF(L7=\"Dilution Prep\",(INDEX(CalInfo!$B$4:$B$8,MATCH($S$1,CalInfo!$A$4:$A$8,FALSE))*$S$1)*1000/CalInfo!$A$14&\" uL\",IF($S$2=\"yes\",\"-\",IF(C7=\"Solid\",ROUND($S$1*INDEX(CalInfo!$B$4:$B$8,MATCH($S$1,CalInfo!$A$4:$A$8,FALSE))/(IF(ISNUMBER(D7),INDEX(CalInfo!$J$19:$J$33,MATCH(\"Compound \"&D7,CalInfo!$L$19:$L$33,FALSE)),\"\")*1000),3)&\" g\",ROUND(($S$1*1000*INDEX(CalInfo!$B$4:$B$8,MATCH($S$1,CalInfo!$A$4:$A$8,FALSE))/INDEX(Compounds!C:C,MATCH(L7,Compounds!A:A,FALSE)))/1000/5,0)*5&\" uL\")))))))","v":""},null,{"$f":"IF(OR(AND(D7=\"\",L7<>\"\"),D7=\"Solvent\",D7=\"STD Count\",L7=\"Dilution Prep\"),\"-\",IF(U7=\"\",\"\",IF(D7=\"Internal Standard\",(U7-MAX($U$2:U6))*1000*INDEX(CalInfo!$J$19:$J$33,MATCH(D7,CalInfo!$A$19:$A$33,FALSE))/INDEX(CalInfo!$B$4:$B$8,MATCH($S$1,CalInfo!$A$4:$A$8,FALSE)),IF($S$2=\"yes\",(INDEX($U$3:$U$21,MATCH(\"Dilution prep\",$L$3:$L$21,FALSE))-VLOOKUP(INDEX($U$3:$U$21,MATCH(\"Dilution prep\",$L$3:$L$21,FALSE))-0.001,$U$3:$U$21,1,TRUE))*INDEX($I$3:$I$19,MATCH(L7,$E$3:$E$19,FALSE))*1000/INDEX(CalInfo!$B$4:$B$8,MATCH($S$1,CalInfo!$A$4:$A$8,FALSE)),(U7-MAX($U$2:U6))*1000*INDEX(CalInfo!$J$19:$J$33,MATCH(\"Compound \"&D7,CalInfo!$L$19:$L$33,FALSE))/INDEX(CalInfo!$B$4:$B$8,MATCH($S$1,CalInfo!$A$4:$A$8,FALSE))))))","v":""},null,null,{"$f":"IF(L7=\"\",\"\",IF(L7=\"QS to Volume\",\"To \"&INDEX(CalInfo!$B$4:$B$8,MATCH($X$1,CalInfo!$A$4:$A$8,FALSE))&\" mL\",IF(OR(D7=\"STD Count\",D7=\"Solvent\",D7=\"Internal Standard\"),INDEX(Backend!$M$2:$Q$4,MATCH('Cal Prep'!D7,Backend!$L$2:$L$5,FALSE),MATCH($X$1,Backend!$M$1:$Q$1,FALSE)),IF(AND($X$2=\"No\",L7=\"Dilution Prep\"),\"-\",IF(L7=\"Dilution Prep\",(INDEX(CalInfo!$B$4:$B$8,MATCH($X$1,CalInfo!$A$4:$A$8,FALSE))*$X$1)*1000/CalInfo!$A$14&\" uL\",IF($X$2=\"yes\",\"-\",IF(C7=\"Solid\",ROUND($X$1*INDEX(CalInfo!$B$4:$B$8,MATCH($X$1,CalInfo!$A$4:$A$8,FALSE))/(IF(ISNUMBER(D7),INDEX(CalInfo!$J$19:$J$33,MATCH(\"Compound \"&D7,CalInfo!$L$19:$L$33,FALSE)),\"\")*1000),3)&\" g\",ROUND(($X$1*1000*INDEX(CalInfo!$B$4:$B$8,MATCH($X$1,CalInfo!$A$4:$A$8,FALSE))/INDEX(Compounds!C:C,MATCH(L7,Compounds!A:A,FALSE)))/1000/5,0)*5&\" uL\")))))))","v":""},null,{"$f":"IF(OR(AND(D7=\"\",L7<>\"\"),D7=\"Solvent\",D7=\"STD Count\",L7=\"Dilution Prep\"),\"-\",IF(Z7=\"\",\"\",IF(D7=\"Internal Standard\",(Z7-MAX($Z$2:Z6))*1000*INDEX(CalInfo!$J$19:$J$33,MATCH(D7,CalInfo!$A$19:$A$33,FALSE))/INDEX(CalInfo!$B$4:$B$8,MATCH($X$1,CalInfo!$A$4:$A$8,FALSE)),IF($X$2=\"yes\",(INDEX($Z$3:$Z$21,MATCH(\"Dilution prep\",$L$3:$L$21,FALSE))-VLOOKUP(INDEX($Z$3:$Z$21,MATCH(\"Dilution prep\",$L$3:$L$21,FALSE))-0.001,$Z$3:$Z$21,1,TRUE))*INDEX($I$3:$I$19,MATCH(L7,$E$3:$E$19,FALSE))*1000/INDEX(CalInfo!$B$4:$B$8,MATCH($X$1,CalInfo!$A$4:$A$8,FALSE)),(Z7-MAX($Z$2:Z6))*1000*INDEX(CalInfo!$J$19:$J$33,MATCH(\"Compound \"&D7,CalInfo!$L$19:$L$33,FALSE))/INDEX(CalInfo!$B$4:$B$8,MATCH($X$1,CalInfo!$A$4:$A$8,FALSE))))))","v":""},null,null,{"$f":"IF(L7=\"\",\"\",IF(L7=\"QS to Volume\",\"To \"&INDEX(CalInfo!$B$4:$B$8,MATCH($AC$1,CalInfo!$A$4:$A$8,FALSE))&\" mL\",IF(OR(D7=\"STD Count\",D7=\"Solvent\",D7=\"Internal Standard\"),INDEX(Backend!$M$2:$Q$4,MATCH('Cal Prep'!D7,Backend!$L$2:$L$5,FALSE),MATCH($AC$1,Backend!$M$1:$Q$1,FALSE)),IF(AND($AC$2=\"No\",L7=\"Dilution Prep\"),\"-\",IF(L7=\"Dilution Prep\",(INDEX(CalInfo!$B$4:$B$8,MATCH($AC$1,CalInfo!$A$4:$A$8,FALSE))*$AC$1)*1000/CalInfo!$A$14&\" uL\",IF($AC$2=\"yes\",\"-\",IF(C7=\"Solid\",ROUND($AC$1*INDEX(CalInfo!$B$4:$B$8,MATCH($AC$1,CalInfo!$A$4:$A$8,FALSE))/(IF(ISNUMBER(D7),INDEX(CalInfo!$J$19:$J$33,MATCH(\"Compound \"&D7,CalInfo!$L$19:$L$33,FALSE)),\"\")*1000),3)&\" g\",ROUND(($AC$1*1000*INDEX(CalInfo!$B$4:$B$8,MATCH($AC$1,CalInfo!$A$4:$A$8,FALSE))/INDEX(Compounds!C:C,MATCH(L7,Compounds!A:A,FALSE)))/1000/5,0)*5&\" uL\")))))))","v":""},null,{"$f":"IF(OR(AND(D7=\"\",L7<>\"\"),D7=\"Solvent\",D7=\"STD Count\",L7=\"Dilution Prep\"),\"-\",IF(AE7=\"\",\"\",IF(D7=\"Internal Standard\",(AE7-MAX($AE$2:AE6))*1000*INDEX(CalInfo!$J$19:$J$33,MATCH(D7,CalInfo!$A$19:$A$33,FALSE))/INDEX(CalInfo!$B$4:$B$8,MATCH($AC$1,CalInfo!$A$4:$A$8,FALSE)),IF($AC$2=\"yes\",(INDEX($AE$3:$AE$21,MATCH(\"Dilution prep\",$L$3:$L$21,FALSE))-VLOOKUP(INDEX($AE$3:$AE$21,MATCH(\"Dilution prep\",$L$3:$L$21,FALSE))-0.001,$AE$3:$AE$21,1,TRUE))*INDEX($I$3:$I$19,MATCH(L7,$E$3:$E$19,FALSE))*1000/INDEX(CalInfo!$B$4:$B$8,MATCH($AC$1,CalInfo!$A$4:$A$8,FALSE)),(AE7-MAX($AE$2:AE6))*1000*INDEX(CalInfo!$J$19:$J$33,MATCH(\"Compound \"&D7,CalInfo!$L$19:$L$33,FALSE))/INDEX(CalInfo!$B$4:$B$8,MATCH($AC$1,CalInfo!$A$4:$A$8,FALSE))))))","v":""},null,null,{"$f":"IF(L7=\"\",\"\",IF(L7=\"QS to Volume\",\"To \"&INDEX(CalInfo!$B$4:$B$8,MATCH($AH$1,CalInfo!$A$4:$A$8,FALSE))&\" mL\",IF(OR(D7=\"STD Count\",D7=\"Solvent\",D7=\"Internal Standard\"),INDEX(Backend!$M$2:$Q$4,MATCH('Cal Prep'!D7,Backend!$L$2:$L$5,FALSE),MATCH($AH$1,Backend!$M$1:$Q$1,FALSE)),IF(AND($AH$2=\"No\",L7=\"Dilution Prep\"),\"-\",IF(L7=\"Dilution Prep\",(INDEX(CalInfo!$B$4:$B$8,MATCH($AH$1,CalInfo!$A$4:$A$8,FALSE))*$AH$1)*1000/CalInfo!$A$14&\" uL\",IF($AH$2=\"yes\",\"-\",IF(C7=\"Solid\",ROUND($AH$1*INDEX(CalInfo!$B$4:$B$8,MATCH($AH$1,CalInfo!$A$4:$A$8,FALSE))/(IF(ISNUMBER(D7),INDEX(CalInfo!$J$19:$J$33,MATCH(\"Compound \"&D7,CalInfo!$L$19:$L$33,FALSE)),\"\")*1000),3)&\" g\",ROUND(($AH$1*1000*INDEX(CalInfo!$B$4:$B$8,MATCH($AH$1,CalInfo!$A$4:$A$8,FALSE))/INDEX(Compounds!C:C,MATCH(L7,Compounds!A:A,FALSE)))/1000/5,0)*5&\" uL\")))))))","v":""},null,{"$f":"IF(OR(AND(D7=\"\",L7<>\"\"),D7=\"Solvent\",D7=\"STD Count\",L7=\"Dilution Prep\"),\"-\",IF(AJ7=\"\",\"\",IF(D7=\"Internal Standard\",(AJ7-MAX($AJ$2:AJ6))*1000*INDEX(CalInfo!$J$19:$J$33,MATCH(D7,CalInfo!$A$19:$A$33,FALSE))/INDEX(CalInfo!$B$4:$B$8,MATCH($AH$1,CalInfo!$A$4:$A$8,FALSE)),IF($AH$2=\"yes\",(INDEX($AJ$3:$AJ$21,MATCH(\"Dilution prep\",$L$3:$L$21,FALSE))-VLOOKUP(INDEX($AJ$3:$AJ$21,MATCH(\"Dilution prep\",$L$3:$L$21,FALSE))-0.001,$AJ$3:$AJ$21,1,TRUE))*INDEX($I$3:$I$19,MATCH(L7,$E$3:$E$19,FALSE))*1000/INDEX(CalInfo!$B$4:$B$8,MATCH($AH$1,CalInfo!$A$4:$A$8,FALSE)),(AJ7-MAX($AJ$2:AJ6))*1000*INDEX(CalInfo!$J$19:$J$33,MATCH(\"Compound \"&D7,CalInfo!$L$19:$L$33,FALSE))/INDEX(CalInfo!$B$4:$B$8,MATCH($AH$1,CalInfo!$A$4:$A$8,FALSE))))))","v":""}]
[{"$f":"IF(OR(B8=\"\",B8=\"Solvent\"),\"\",INDEX(CalInfo!$E$19:$E$33,MATCH(\"Compound \"&'Cal Prep'!B8,CalInfo!$L$19:$L$33,FALSE)))","v":""},{"$f":"IF(MAX($B$4:B7)<CalInfo!$O$26,MAX('Cal Prep'!$B$4:B7)+1,\"\")","v":""},{"$f":"IF(OR(D8=\"\",D8=\"Solvent\",D8=\"Internal Standard\",D8=\"Dilution\"),\"\",INDEX(CalInfo!$E$19:$E$33,MATCH(\"Compound \"&'Cal Prep'!D8,CalInfo!$L$19:$L$33,FALSE)))","v":""},{"$f":"IF(MAX($D$4:D7)<CalInfo!$O$26,MAX('Cal Prep'!$D$4:D7)+1,\"\")","v":""},{"$f":"IF(AND(B8=\"\",B7=CalInfo!$O$26),\"QS to Volume\",IF(B8=\"\",\"\",INDEX(CalInfo!$B$19:$B$33,MATCH(\"Compound \"&B8,CalInfo!$L$19:$L$33,FALSE))))","v":""},{"$f":"IF(E8=\"\",\"\",IF(A8=\"Solid\",ROUND((CalInfo!$A$14*CalInfo!$B$14)/(INDEX(CalInfo!$J$19:$J$33,MATCH(\"Compound \"&B8,CalInfo!$L$19:$L$33,FALSE))*1000),3)&\" g\",IF(ISNUMBER(B8),ROUND((CalInfo!$A$14*CalInfo!$B$14)*1000/(INDEX(CalInfo!$H$19:$H$33,MATCH(\"Compound \"&B8,CalInfo!$L$19:$L$33,FALSE))*1000*INDEX(CalInfo!$J$19:$J$33,MATCH(\"Compound \"&B8,CalInfo!$L$19:$L$33,FALSE)))/5,0)*5&\" uL\",IF(B8=\"Solvent\",\"~\"&CalInfo!$B$14/2.5&\" mL\",IF(RIGHT(E8,5)=\"Flask\",\"-\",IF(E8=\"QS to Volume\",\"To \"&CalInfo!$B$14&\" mL\",\"\"))))))","v":""},null,{"$f":"IF(OR(AND(B8=\"\",E8<>\"\"),B8=\"Solvent\",B8=\"Dil Count\"),\"-\",IF(G8=\"\",\"\",(G8-MAX($G$2:G7))*1000*INDEX(CalInfo!$J$19:$J$33,MATCH(\"Compound \"&B8,CalInfo!$L$19:$L$33,FALSE))/CalInfo!$B$14))","v":""},{"$f":"IF(ISNUMBER(B8),INDEX(CalInfo!$J$19:$J$33,MATCH(\"Compound \"&B8,CalInfo!$L$19:$L$33,FALSE))*(G8-MAX($G$2:G7))/(MAX($G$3:$G$19)-MIN($G$3:$G$19)),\"\")","v":""},null,null,{"$f":"E6","v":""},null,null,{"$f":"IF(L8=\"\",\"\",IF(L8=\"QS to Volume\",\"To \"&INDEX(CalInfo!$B$4:$B$8,MATCH($N$1,CalInfo!$A$4:$A$8,FALSE))&\" mL\",IF(OR(D8=\"STD Count\",D8=\"Solvent\",D8=\"Internal Standard\"),INDEX(Backend!$M$2:$Q$4,MATCH('Cal Prep'!D8,Backend!$L$2:$L$5,FALSE),MATCH($N$1,Backend!$M$1:$Q$1,FALSE)),IF(AND($N$2=\"No\",L8=\"Dilution Prep\"),\"-\",IF(L8=\"Dilution Prep\",(INDEX(CalInfo!$B$4:$B$8,MATCH($N$1,CalInfo!$A$4:$A$8,FALSE))*$N$1)*1000/CalInfo!$A$14&\" uL\",IF($N$2=\"yes\",\"-\",IF(C8=\"Solid\",ROUND($N$1*INDEX(CalInfo!$B$4:$B$8,MATCH($N$1,CalInfo!$A$4:$A$8,FALSE))/(IF(ISNUMBER(D8),INDEX(CalInfo!$J$19:$J$33,MATCH(\"Compound \"&D8,CalInfo!$L$19:$L$33,FALSE)),\"\")*1000),3)&\" g\",ROUND(($N$1*1000*INDEX(CalInfo!$B$4:$B$8,MATCH($N$1,CalInfo!$A$4:$A$8,FALSE))/INDEX(Compounds!C:C,MATCH(L8,Compounds!A:A,FALSE)))/1000/5,0)*5&\" uL\")))))))","v":""},null,{"$f":"IF(OR(AND(D8=\"\",L8<>\"\"),D8=\"Solvent\",D8=\"STD Count\",L8=\"Dilution Prep\"),\"-\",IF(P8=\"\",\"\",IF(D8=\"Internal Standard\",(P8-MAX($P$2:P7))*1000*INDEX(CalInfo!$J$19:$J$33,MATCH(D8,CalInfo!$A$19:$A$33,FALSE))/INDEX(CalInfo!$B$4:$B$8,MATCH($N$1,CalInfo!$A$4:$A$8,FALSE)),IF($N$2=\"yes\",(INDEX($P$3:$P$21,MATCH(\"Dilution prep\",$L$3:$L$21,FALSE))-VLOOKUP(INDEX($P$3:$P$21,MATCH(\"Dilution prep\",$L$3:$L$21,FALSE))-0.001,$P$3:$P$21,1,TRUE))*INDEX($I$3:$I$19,MATCH(L8,$E$3:$E$19,FALSE))*1000/INDEX(CalInfo!$B$4:$B$8,MATCH($N$1,CalInfo!$A$4:$A$8,FALSE)),(P8-MAX($P$2:P7))*1000*INDEX(CalInfo!$J$19:$J$33,MATCH(\"Compound \"&D8,CalInfo!$L$19:$L$33,FALSE))/INDEX(CalInfo!$B$4:$B$8,MATCH($N$1,CalInfo!$A$4:$A$8,FALSE))))))","v":""},null,null,{"$f":"IF(L8=\"\",\"\",IF(L8=\"QS to Volume\",\"To \"&INDEX(CalInfo!$B$4:$B$8,MATCH($S$1,CalInfo!$A$4:$A$8,FALSE))&\" mL\",IF(OR(D8=\"STD Count\",D8=\"Solvent\",D8=\"Internal Standard\"),INDEX(Backend!$M$2:$Q$4,MATCH('Cal Prep'!D8,Backend!$L$2:$L$5,FALSE),MATCH($S$1,Backend!$M$1:$Q$1,FALSE)),IF(AND($S$2=\"No\",L8=\"Dilution Prep\"),\"-\",IF(L8=\"Dilution Prep\",(INDEX(CalInfo!$B$4:$B$8,MATCH($S$1,CalInfo!$A$4:$A$8,FALSE))*$S$1)*1000/CalInfo!$A$14&\" uL\",IF($S$2=\"yes\",\"-\",IF(C8=\"Solid\",ROUND($S$1*INDEX(CalInfo!$B$4:$B$8,MATCH($S$1,CalInfo!$A$4:$A$8,FALSE))/(IF(ISNUMBER(D8),INDEX(CalInfo!$J$19:$J$33,MATCH(\"Compound \"&D8,CalInfo!$L$19:$L$33,FALSE)),\"\")*1000),3)&\" g\",ROUND(($S$1*1000*INDEX(CalInfo!$B$4:$B$8,MATCH($S$1,CalInfo!$A$4:$A$8,FALSE))/INDEX(Compounds!C:C,MATCH(L8,Compounds!A:A,FALSE)))/1000/5,0)*5&\" uL\")))))))","v":""},null,{"$f":"IF(OR(AND(D8=\"\",L8<>\"\"),D8=\"Solvent\",D8=\"STD Count\",L8=\"Dilution Prep\"),\"-\",IF(U8=\"\",\"\",IF(D8=\"Internal Standard\",(U8-MAX($U$2:U7))*1000*INDEX(CalInfo!$J$19:$J$33,MATCH(D8,CalInfo!$A$19:$A$33,FALSE))/INDEX(CalInfo!$B$4:$B$8,MATCH($S$1,CalInfo!$A$4:$A$8,FALSE)),IF($S$2=\"yes\",(INDEX($U$3:$U$21,MATCH(\"Dilution prep\",$L$3:$L$21,FALSE))-VLOOKUP(INDEX($U$3:$U$21,MATCH(\"Dilution prep\",$L$3:$L$21,FALSE))-0.001,$U$3:$U$21,1,TRUE))*INDEX($I$3:$I$19,MATCH(L8,$E$3:$E$19,FALSE))*1000/INDEX(CalInfo!$B$4:$B$8,MATCH($S$1,CalInfo!$A$4:$A$8,FALSE)),(U8-MAX($U$2:U7))*1000*INDEX(CalInfo!$J$19:$J$33,MATCH(\"Compound \"&D8,CalInfo!$L$19:$L$33,FALSE))/INDEX(CalInfo!$B$4:$B$8,MATCH($S$1,CalInfo!$A$4:$A$8,FALSE))))))","v":""},null,null,{"$f":"IF(L8=\"\",\"\",IF(L8=\"QS to Volume\",\"To \"&INDEX(CalInfo!$B$4:$B$8,MATCH($X$1,CalInfo!$A$4:$A$8,FALSE))&\" mL\",IF(OR(D8=\"STD Count\",D8=\"Solvent\",D8=\"Internal Standard\"),INDEX(Backend!$M$2:$Q$4,MATCH('Cal Prep'!D8,Backend!$L$2:$L$5,FALSE),MATCH($X$1,Backend!$M$1:$Q$1,FALSE)),IF(AND($X$2=\"No\",L8=\"Dilution Prep\"),\"-\",IF(L8=\"Dilution Prep\",(INDEX(CalInfo!$B$4:$B$8,MATCH($X$1,CalInfo!$A$4:$A$8,FALSE))*$X$1)*1000/CalInfo!$A$14&\" uL\",IF($X$2=\"yes\",\"-\",IF(C8=\"Solid\",ROUND($X$1*INDEX(CalInfo!$B$4:$B$8,MATCH($X$1,CalInfo!$A$4:$A$8,FALSE))/(IF(ISNUMBER(D8),INDEX(CalInfo!$J$19:$J$33,MATCH(\"Compound \"&D8,CalInfo!$L$19:$L$33,FALSE)),\"\")*1000),3)&\" g\",ROUND(($X$1*1000*INDEX(CalInfo!$B$4:$B$8,MATCH($X$1,CalInfo!$A$4:$A$8,FALSE))/INDEX(Compounds!C:C,MATCH(L8,Compounds!A:A,FALSE)))/1000/5,0)*5&\" uL\")))))))","v":""},null,{"$f":"IF(OR(AND(D8=\"\",L8<>\"\"),D8=\"Solvent\",D8=\"STD Count\",L8=\"Dilution Prep\"),\"-\",IF(Z8=\"\",\"\",IF(D8=\"Internal Standard\",(Z8-MAX($Z$2:Z7))*1000*INDEX(CalInfo!$J$19:$J$33,MATCH(D8,CalInfo!$A$19:$A$33,FALSE))/INDEX(CalInfo!$B$4:$B$8,MATCH($X$1,CalInfo!$A$4:$A$8,FALSE)),IF($X$2=\"yes\",(INDEX($Z$3:$Z$21,MATCH(\"Dilution prep\",$L$3:$L$21,FALSE))-VLOOKUP(INDEX($Z$3:$Z$21,MATCH(\"Dilution prep\",$L$3:$L$21,FALSE))-0.001,$Z$3:$Z$21,1,TRUE))*INDEX($I$3:$I$19,MATCH(L8,$E$3:$E$19,FALSE))*1000/INDEX(CalInfo!$B$4:$B$8,MATCH($X$1,CalInfo!$A$4:$A$8,FALSE)),(Z8-MAX($Z$2:Z7))*1000*INDEX(CalInfo!$J$19:$J$33,MATCH(\"Compound \"&D8,CalInfo!$L$19:$L$33,FALSE))/INDEX(CalInfo!$B$4:$B$8,MATCH($X$1,CalInfo!$A$4:$A$8,FALSE))))))","v":""},null,null,{"$f":"IF(L8=\"\",\"\",IF(L8=\"QS to Volume\",\"To \"&INDEX(CalInfo!$B$4:$B$8,MATCH($AC$1,CalInfo!$A$4:$A$8,FALSE))&\" mL\",IF(OR(D8=\"STD Count\",D8=\"Solvent\",D8=\"Internal Standard\"),INDEX(Backend!$M$2:$Q$4,MATCH('Cal Prep'!D8,Backend!$L$2:$L$5,FALSE),MATCH($AC$1,Backend!$M$1:$Q$1,FALSE)),IF(AND($AC$2=\"No\",L8=\"Dilution Prep\"),\"-\",IF(L8=\"Dilution Prep\",(INDEX(CalInfo!$B$4:$B$8,MATCH($AC$1,CalInfo!$A$4:$A$8,FALSE))*$AC$1)*1000/CalInfo!$A$14&\" uL\",IF($AC$2=\"yes\",\"-\",IF(C8=\"Solid\",ROUND($AC$1*INDEX(CalInfo!$B$4:$B$8,MATCH($AC$1,CalInfo!$A$4:$A$8,FALSE))/(IF(ISNUMBER(D8),INDEX(CalInfo!$J$19:$J$33,MATCH(\"Compound \"&D8,CalInfo!$L$19:$L$33,FALSE)),\"\")*1000),3)&\" g\",ROUND(($AC$1*1000*INDEX(CalInfo!$B$4:$B$8,MATCH($AC$1,CalInfo!$A$4:$A$8,FALSE))/INDEX(Compounds!C:C,MATCH(L8,Compounds!A:A,FALSE)))/1000/5,0)*5&\" uL\")))))))","v":""},null,{"$f":"IF(OR(AND(D8=\"\",L8<>\"\"),D8=\"Solvent\",D8=\"STD Count\",L8=\"Dilution Prep\"),\"-\",IF(AE8=\"\",\"\",IF(D8=\"Internal Standard\",(AE8-MAX($AE$2:AE7))*1000*INDEX(CalInfo!$J$19:$J$33,MATCH(D8,CalInfo!$A$19:$A$33,FALSE))/INDEX(CalInfo!$B$4:$B$8,MATCH($AC$1,CalInfo!$A$4:$A$8,FALSE)),IF($AC$2=\"yes\",(INDEX($AE$3:$AE$21,MATCH(\"Dilution prep\",$L$3:$L$21,FALSE))-VLOOKUP(INDEX($AE$3:$AE$21,MATCH(\"Dilution prep\",$L$3:$L$21,FALSE))-0.001,$AE$3:$AE$21,1,TRUE))*INDEX($I$3:$I$19,MATCH(L8,$E$3:$E$19,FALSE))*1000/INDEX(CalInfo!$B$4:$B$8,MATCH($AC$1,CalInfo!$A$4:$A$8,FALSE)),(AE8-MAX($AE$2:AE7))*1000*INDEX(CalInfo!$J$19:$J$33,MATCH(\"Compound \"&D8,CalInfo!$L$19:$L$33,FALSE))/INDEX(CalInfo!$B$4:$B$8,MATCH($AC$1,CalInfo!$A$4:$A$8,FALSE))))))","v":""},null,null,{"$f":"IF(L8=\"\",\"\",IF(L8=\"QS to Volume\",\"To \"&INDEX(CalInfo!$B$4:$B$8,MATCH($AH$1,CalInfo!$A$4:$A$8,FALSE))&\" mL\",IF(OR(D8=\"STD Count\",D8=\"Solvent\",D8=\"Internal Standard\"),INDEX(Backend!$M$2:$Q$4,MATCH('Cal Prep'!D8,Backend!$L$2:$L$5,FALSE),MATCH($AH$1,Backend!$M$1:$Q$1,FALSE)),IF(AND($AH$2=\"No\",L8=\"Dilution Prep\"),\"-\",IF(L8=\"Dilution Prep\",(INDEX(CalInfo!$B$4:$B$8,MATCH($AH$1,CalInfo!$A$4:$A$8,FALSE))*$AH$1)*1000/CalInfo!$A$14&\" uL\",IF($AH$2=\"yes\",\"-\",IF(C8=\"Solid\",ROUND($AH$1*INDEX(CalInfo!$B$4:$B$8,MATCH($AH$1,CalInfo!$A$4:$A$8,FALSE))/(IF(ISNUMBER(D8),INDEX(CalInfo!$J$19:$J$33,MATCH(\"Compound \"&D8,CalInfo!$L$19:$L$33,FALSE)),\"\")*1000),3)&\" g\",ROUND(($AH$1*1000*INDEX(CalInfo!$B$4:$B$8,MATCH($AH$1,CalInfo!$A$4:$A$8,FALSE))/INDEX(Compounds!C:C,MATCH(L8,Compounds!A:A,FALSE)))/1000/5,0)*5&\" uL\")))))))","v":""},null,{"$f":"IF(OR(AND(D8=\"\",L8<>\"\"),D8=\"Solvent\",D8=\"STD Count\",L8=\"Dilution Prep\"),\"-\",IF(AJ8=\"\",\"\",IF(D8=\"Internal Standard\",(AJ8-MAX($AJ$2:AJ7))*1000*INDEX(CalInfo!$J$19:$J$33,MATCH(D8,CalInfo!$A$19:$A$33,FALSE))/INDEX(CalInfo!$B$4:$B$8,MATCH($AH$1,CalInfo!$A$4:$A$8,FALSE)),IF($AH$2=\"yes\",(INDEX($AJ$3:$AJ$21,MATCH(\"Dilution prep\",$L$3:$L$21,FALSE))-VLOOKUP(INDEX($AJ$3:$AJ$21,MATCH(\"Dilution prep\",$L$3:$L$21,FALSE))-0.001,$AJ$3:$AJ$21,1,TRUE))*INDEX($I$3:$I$19,MATCH(L8,$E$3:$E$19,FALSE))*1000/INDEX(CalInfo!$B$4:$B$8,MATCH($AH$1,CalInfo!$A$4:$A$8,FALSE)),(AJ8-MAX($AJ$2:AJ7))*1000*INDEX(CalInfo!$J$19:$J$33,MATCH(\"Compound \"&D8,CalInfo!$L$19:$L$33,FALSE))/INDEX(CalInfo!$B$4:$B$8,MATCH($AH$1,CalInfo!$A$4:$A$8,FALSE))))))","v":""}]
[{"$f":"IF(OR(B9=\"\",B9=\"Solvent\"),\"\",INDEX(CalInfo!$E$19:$E$33,MATCH(\"Compound \"&'Cal Prep'!B9,CalInfo!$L$19:$L$33,FALSE)))","v":""},{"$f":"IF(MAX($B$4:B8)<CalInfo!$O$26,MAX('Cal Prep'!$B$4:B8)+1,\"\")","v":""},{"$f":"IF(OR(D9=\"\",D9=\"Solvent\",D9=\"Internal Standard\",D9=\"Dilution\"),\"\",INDEX(CalInfo!$E$19:$E$33,MATCH(\"Compound \"&'Cal Prep'!D9,CalInfo!$L$19:$L$33,FALSE)))","v":""},{"$f":"IF(MAX($D$4:D8)<CalInfo!$O$26,MAX('Cal Prep'!$D$4:D8)+1,\"\")","v":""},{"$f":"IF(AND(B9=\"\",B8=CalInfo!$O$26),\"QS to Volume\",IF(B9=\"\",\"\",INDEX(CalInfo!$B$19:$B$33,MATCH(\"Compound \"&B9,CalInfo!$L$19:$L$33,FALSE))))","v":""},{"$f":"IF(E9=\"\",\"\",IF(A9=\"Solid\",ROUND((CalInfo!$A$14*CalInfo!$B$14)/(INDEX(CalInfo!$J$19:$J$33,MATCH(\"Compound \"&B9,CalInfo!$L$19:$L$33,FALSE))*1000),3)&\" g\",IF(ISNUMBER(B9),ROUND((CalInfo!$A$14*CalInfo!$B$14)*1000/(INDEX(CalInfo!$H$19:$H$33,MATCH(\"Compound \"&B9,CalInfo!$L$19:$L$33,FALSE))*1000*INDEX(CalInfo!$J$19:$J$33,MATCH(\"Compound \"&B9,CalInfo!$L$19:$L$33,FALSE)))/5,0)*5&\" uL\",IF(B9=\"Solvent\",\"~\"&CalInfo!$B$14/2.5&\" mL\",IF(RIGHT(E9,5)=\"Flask\",\"-\",IF(E9=\"QS to Volume\",\"To \"&CalInfo!$B$14&\" mL\",\"\"))))))","v":""},null,{"$f":"IF(OR(AND(B9=\"\",E9<>\"\"),B9=\"Solvent\",B9=\"Dil Count\"),\"-\",IF(G9=\"\",\"\",(G9-MAX($G$2:G8))*1000*INDEX(CalInfo!$J$19:$J$33,MATCH(\"Compound \"&B9,CalInfo!$L$19:$L$33,FALSE))/CalInfo!$B$14))","v":""},{"$f":"IF(ISNUMBER(B9),INDEX(CalInfo!$J$19:$J$33,MATCH(\"Compound \"&B9,CalInfo!$L$19:$L$33,FALSE))*(G9-MAX($G$2:G8))/(MAX($G$3:$G$19)-MIN($G$3:$G$19)),\"\")","v":""},null,null,"",null,null,{"$f":"IF(L9=\"\",\"\",IF(L9=\"QS to Volume\",\"To \"&INDEX(CalInfo!$B$4:$B$8,MATCH($N$1,CalInfo!$A$4:$A$8,FALSE))&\" mL\",IF(OR(D9=\"STD Count\",D9=\"Solvent\",D9=\"Internal Standard\"),INDEX(Backend!$M$2:$Q$4,MATCH('Cal Prep'!D9,Backend!$L$2:$L$5,FALSE),MATCH($N$1,Backend!$M$1:$Q$1,FALSE)),IF(AND($N$2=\"No\",L9=\"Dilution Prep\"),\"-\",IF(L9=\"Dilution Prep\",(INDEX(CalInfo!$B$4:$B$8,MATCH($N$1,CalInfo!$A$4:$A$8,FALSE))*$N$1)*1000/CalInfo!$A$14&\" uL\",IF($N$2=\"yes\",\"-\",IF(C9=\"Solid\",ROUND($N$1*INDEX(CalInfo!$B$4:$B$8,MATCH($N$1,CalInfo!$A$4:$A$8,FALSE))/(IF(ISNUMBER(D9),INDEX(CalInfo!$J$19:$J$33,MATCH(\"Compound \"&D9,CalInfo!$L$19:$L$33,FALSE)),\"\")*1000),3)&\" g\",ROUND(($N$1*1000*INDEX(CalInfo!$B$4:$B$8,MATCH($N$1,CalInfo!$A$4:$A$8,FALSE))/INDEX(Compounds!C:C,MATCH(L9,Compounds!A:A,FALSE)))/1000/5,0)*5&\" uL\")))))))","v":""},null,{"$f":"IF(OR(AND(D9=\"\",L9<>\"\"),D9=\"Solvent\",D9=\"STD Count\",L9=\"Dilution Prep\"),\"-\",IF(P9=\"\",\"\",IF(D9=\"Internal Standard\",(P9-MAX($P$2:P8))*1000*INDEX(CalInfo!$J$19:$J$33,MATCH(D9,CalInfo!$A$19:$A$33,FALSE))/INDEX(CalInfo!$B$4:$B$8,MATCH($N$1,CalInfo!$A$4:$A$8,FALSE)),IF($N$2=\"yes\",(INDEX($P$3:$P$21,MATCH(\"Dilution prep\",$L$3:$L$21,FALSE))-VLOOKUP(INDEX($P$3:$P$21,MATCH(\"Dilution prep\",$L$3:$L$21,FALSE))-0.001,$P$3:$P$21,1,TRUE))*INDEX($I$3:$I$19,MATCH(L9,$E$3:$E$19,FALSE))*1000/INDEX(CalInfo!$B$4:$B$8,MATCH($N$1,CalInfo!$A$4:$A$8,FALSE)),(P9-MAX($P$2:P8))*1000*INDEX(CalInfo!$J$19:$J$33,MATCH(\"Compound \"&D9,CalInfo!$L$19:$L$33,FALSE))/INDEX(CalInfo!$B$4:$B$8,MATCH($N$1,CalInfo!$A$4:$A$8,FALSE))))))","v":""},null,null,{"$f":"IF(L9=\"\",\"\",IF(L9=\"QS to Volume\",\"To \"&INDEX(CalInfo!$B$4:$B$8,MATCH($S$1,CalInfo!$A$4:$A$8,FALSE))&\" mL\",IF(OR(D9=\"STD Count\",D9=\"Solvent\",D9=\"Internal Standard\"),INDEX(Backend!$M$2:$Q$4,MATCH('Cal Prep'!D9,Backend!$L$2:$L$5,FALSE),MATCH($S$1,Backend!$M$1:$Q$1,FALSE)),IF(AND($S$2=\"No\",L9=\"Dilution Prep\"),\"-\",IF(L9=\"Dilution Prep\",(INDEX(CalInfo!$B$4:$B$8,MATCH($S$1,CalInfo!$A$4:$A$8,FALSE))*$S$1)*1000/CalInfo!$A$14&\" uL\",IF($S$2=\"yes\",\"-\",IF(C9=\"Solid\",ROUND($S$1*INDEX(CalInfo!$B$4:$B$8,MATCH($S$1,CalInfo!$A$4:$A$8,FALSE))/(IF(ISNUMBER(D9),INDEX(CalInfo!$J$19:$J$33,MATCH(\"Compound \"&D9,CalInfo!$L$19:$L$33,FALSE)),\"\")*1000),3)&\" g\",ROUND(($S$1*1000*INDEX(CalInfo!$B$4:$B$8,MATCH($S$1,CalInfo!$A$4:$A$8,FALSE))/INDEX(Compounds!C:C,MATCH(L9,Compounds!A:A,FALSE)))/1000/5,0)*5&\" uL\")))))))","v":""},null,{"$f":"IF(OR(AND(D9=\"\",L9<>\"\"),D9=\"Solvent\",D9=\"STD Count\",L9=\"Dilution Prep\"),\"-\",IF(U9=\"\",\"\",IF(D9=\"Internal Standard\",(U9-MAX($U$2:U8))*1000*INDEX(CalInfo!$J$19:$J$33,MATCH(D9,CalInfo!$A$19:$A$33,FALSE))/INDEX(CalInfo!$B$4:$B$8,MATCH($S$1,CalInfo!$A$4:$A$8,FALSE)),IF($S$2=\"yes\",(INDEX($U$3:$U$21,MATCH(\"Dilution prep\",$L$3:$L$21,FALSE))-VLOOKUP(INDEX($U$3:$U$21,MATCH(\"Dilution prep\",$L$3:$L$21,FALSE))-0.001,$U$3:$U$21,1,TRUE))*INDEX($I$3:$I$19,MATCH(L9,$E$3:$E$19,FALSE))*1000/INDEX(CalInfo!$B$4:$B$8,MATCH($S$1,CalInfo!$A$4:$A$8,FALSE)),(U9-MAX($U$2:U8))*1000*INDEX(CalInfo!$J$19:$J$33,MATCH(\"Compound \"&D9,CalInfo!$L$19:$L$33,FALSE))/INDEX(CalInfo!$B$4:$B$8,MATCH($S$1,CalInfo!$A$4:$A$8,FALSE))))))","v":""},null,null,{"$f":"IF(L9=\"\",\"\",IF(L9=\"QS to Volume\",\"To \"&INDEX(CalInfo!$B$4:$B$8,MATCH($X$1,CalInfo!$A$4:$A$8,FALSE))&\" mL\",IF(OR(D9=\"STD Count\",D9=\"Solvent\",D9=\"Internal Standard\"),INDEX(Backend!$M$2:$Q$4,MATCH('Cal Prep'!D9,Backend!$L$2:$L$5,FALSE),MATCH($X$1,Backend!$M$1:$Q$1,FALSE)),IF(AND($X$2=\"No\",L9=\"Dilution Prep\"),\"-\",IF(L9=\"Dilution Prep\",(INDEX(CalInfo!$B$4:$B$8,MATCH($X$1,CalInfo!$A$4:$A$8,FALSE))*$X$1)*1000/CalInfo!$A$14&\" uL\",IF($X$2=\"yes\",\"-\",IF(C9=\"Solid\",ROUND($X$1*INDEX(CalInfo!$B$4:$B$8,MATCH($X$1,CalInfo!$A$4:$A$8,FALSE))/(IF(ISNUMBER(D9),INDEX(CalInfo!$J$19:$J$33,MATCH(\"Compound \"&D9,CalInfo!$L$19:$L$33,FALSE)),\"\")*1000),3)&\" g\",ROUND(($X$1*1000*INDEX(CalInfo!$B$4:$B$8,MATCH($X$1,CalInfo!$A$4:$A$8,FALSE))/INDEX(Compounds!C:C,MATCH(L9,Compounds!A:A,FALSE)))/1000/5,0)*5&\" uL\")))))))","v":""},null,{"$f":"IF(OR(AND(D9=\"\",L9<>\"\"),D9=\"Solvent\",D9=\"STD Count\",L9=\"Dilution Prep\"),\"-\",IF(Z9=\"\",\"\",IF(D9=\"Internal Standard\",(Z9-MAX($Z$2:Z8))*1000*INDEX(CalInfo!$J$19:$J$33,MATCH(D9,CalInfo!$A$19:$A$33,FALSE))/INDEX(CalInfo!$B$4:$B$8,MATCH($X$1,CalInfo!$A$4:$A$8,FALSE)),IF($X$2=\"yes\",(INDEX($Z$3:$Z$21,MATCH(\"Dilution prep\",$L$3:$L$21,FALSE))-VLOOKUP(INDEX($Z$3:$Z$21,MATCH(\"Dilution prep\",$L$3:$L$21,FALSE))-0.001,$Z$3:$Z$21,1,TRUE))*INDEX($I$3:$I$19,MATCH(L9,$E$3:$E$19,FALSE))*1000/INDEX(CalInfo!$B$4:$B$8,MATCH($X$1,CalInfo!$A$4:$A$8,FALSE)),(Z9-MAX($Z$2:Z8))*1000*INDEX(CalInfo!$J$19:$J$33,MATCH(\"Compound \"&D9,CalInfo!$L$19:$L$33,FALSE))/INDEX(CalInfo!$B$4:$B$8,MATCH($X$1,CalInfo!$A$4:$A$8,FALSE))))))","v":""},null,null,{"$f":"IF(L9=\"\",\"\",IF(L9=\"QS to Volume\",\"To \"&INDEX(CalInfo!$B$4:$B$8,MATCH($AC$1,CalInfo!$A$4:$A$8,FALSE))&\" mL\",IF(OR(D9=\"STD Count\",D9=\"Solvent\",D9=\"Internal Standard\"),INDEX(Backend!$M$2:$Q$4,MATCH('Cal Prep'!D9,Backend!$L$2:$L$5,FALSE),MATCH($AC$1,Backend!$M$1:$Q$1,FALSE)),IF(AND($AC$2=\"No\",L9=\"Dilution Prep\"),\"-\",IF(L9=\"Dilution Prep\",(INDEX(CalInfo!$B$4:$B$8,MATCH($AC$1,CalInfo!$A$4:$A$8,FALSE))*$AC$1)*1000/CalInfo!$A$14&\" uL\",IF($AC$2=\"yes\",\"-\",IF(C9=\"Solid\",ROUND($AC$1*INDEX(CalInfo!$B$4:$B$8,MATCH($AC$1,CalInfo!$A$4:$A$8,FALSE))/(IF(ISNUMBER(D9),INDEX(CalInfo!$J$19:$J$33,MATCH(\"Compound \"&D9,CalInfo!$L$19:$L$33,FALSE)),\"\")*1000),3)&\" g\",ROUND(($AC$1*1000*INDEX(CalInfo!$B$4:$B$8,MATCH($AC$1,CalInfo!$A$4:$A$8,FALSE))/INDEX(Compounds!C:C,MATCH(L9,Compounds!A:A,FALSE)))/1000/5,0)*5&\" uL\")))))))","v":""},null,{"$f":"IF(OR(AND(D9=\"\",L9<>\"\"),D9=\"Solvent\",D9=\"STD Count\",L9=\"Dilution Prep\"),\"-\",IF(AE9=\"\",\"\",IF(D9=\"Internal Standard\",(AE9-MAX($AE$2:AE8))*1000*INDEX(CalInfo!$J$19:$J$33,MATCH(D9,CalInfo!$A$19:$A$33,FALSE))/INDEX(CalInfo!$B$4:$B$8,MATCH($AC$1,CalInfo!$A$4:$A$8,FALSE)),IF($AC$2=\"yes\",(INDEX($AE$3:$AE$21,MATCH(\"Dilution prep\",$L$3:$L$21,FALSE))-VLOOKUP(INDEX($AE$3:$AE$21,MATCH(\"Dilution prep\",$L$3:$L$21,FALSE))-0.001,$AE$3:$AE$21,1,TRUE))*INDEX($I$3:$I$19,MATCH(L9,$E$3:$E$19,FALSE))*1000/INDEX(CalInfo!$B$4:$B$8,MATCH($AC$1,CalInfo!$A$4:$A$8,FALSE)),(AE9-MAX($AE$2:AE8))*1000*INDEX(CalInfo!$J$19:$J$33,MATCH(\"Compound \"&D9,CalInfo!$L$19:$L$33,FALSE))/INDEX(CalInfo!$B$4:$B$8,MATCH($AC$1,CalInfo!$A$4:$A$8,FALSE))))))","v":""},null,null,{"$f":"IF(L9=\"\",\"\",IF(L9=\"QS to Volume\",\"To \"&INDEX(CalInfo!$B$4:$B$8,MATCH($AH$1,CalInfo!$A$4:$A$8,FALSE))&\" mL\",IF(OR(D9=\"STD Count\",D9=\"Solvent\",D9=\"Internal Standard\"),INDEX(Backend!$M$2:$Q$4,MATCH('Cal Prep'!D9,Backend!$L$2:$L$5,FALSE),MATCH($AH$1,Backend!$M$1:$Q$1,FALSE)),IF(AND($AH$2=\"No\",L9=\"Dilution Prep\"),\"-\",IF(L9=\"Dilution Prep\",(INDEX(CalInfo!$B$4:$B$8,MATCH($AH$1,CalInfo!$A$4:$A$8,FALSE))*$AH$1)*1000/CalInfo!$A$14&\" uL\",IF($AH$2=\"yes\",\"-\",IF(C9=\"Solid\",ROUND($AH$1*INDEX(CalInfo!$B$4:$B$8,MATCH($AH$1,CalInfo!$A$4:$A$8,FALSE))/(IF(ISNUMBER(D9),INDEX(CalInfo!$J$19:$J$33,MATCH(\"Compound \"&D9,CalInfo!$L$19:$L$33,FALSE)),\"\")*1000),3)&\" g\",ROUND(($AH$1*1000*INDEX(CalInfo!$B$4:$B$8,MATCH($AH$1,CalInfo!$A$4:$A$8,FALSE))/INDEX(Compounds!C:C,MATCH(L9,Compounds!A:A,FALSE)))/1000/5,0)*5&\" uL\")))))))","v":""},null,{"$f":"IF(OR(AND(D9=\"\",L9<>\"\"),D9=\"Solvent\",D9=\"STD Count\",L9=\"Dilution Prep\"),\"-\",IF(AJ9=\"\",\"\",IF(D9=\"Internal Standard\",(AJ9-MAX($AJ$2:AJ8))*1000*INDEX(CalInfo!$J$19:$J$33,MATCH(D9,CalInfo!$A$19:$A$33,FALSE))/INDEX(CalInfo!$B$4:$B$8,MATCH($AH$1,CalInfo!$A$4:$A$8,FALSE)),IF($AH$2=\"yes\",(INDEX($AJ$3:$AJ$21,MATCH(\"Dilution prep\",$L$3:$L$21,FALSE))-VLOOKUP(INDEX($AJ$3:$AJ$21,MATCH(\"Dilution prep\",$L$3:$L$21,FALSE))-0.001,$AJ$3:$AJ$21,1,TRUE))*INDEX($I$3:$I$19,MATCH(L9,$E$3:$E$19,FALSE))*1000/INDEX(CalInfo!$B$4:$B$8,MATCH($AH$1,CalInfo!$A$4:$A$8,FALSE)),(AJ9-MAX($AJ$2:AJ8))*1000*INDEX(CalInfo!$J$19:$J$33,MATCH(\"Compound \"&D9,CalInfo!$L$19:$L$33,FALSE))/INDEX(CalInfo!$B$4:$B$8,MATCH($AH$1,CalInfo!$A$4:$A$8,FALSE))))))","v":""}]
[{"$f":"IF(OR(B10=\"\",B10=\"Solvent\"),\"\",INDEX(CalInfo!$E$19:$E$33,MATCH(\"Compound \"&'Cal Prep'!B10,CalInfo!$L$19:$L$33,FALSE)))","v":""},{"$f":"IF(MAX($B$4:B9)<CalInfo!$O$26,MAX('Cal Prep'!$B$4:B9)+1,\"\")","v":""},{"$f":"IF(OR(D10=\"\",D10=\"Solvent\",D10=\"Internal Standard\",D10=\"Dilution\"),\"\",INDEX(CalInfo!$E$19:$E$33,MATCH(\"Compound \"&'Cal Prep'!D10,CalInfo!$L$19:$L$33,FALSE)))","v":""},{"$f":"IF(MAX($D$4:D9)<CalInfo!$O$26,MAX('Cal Prep'!$D$4:D9)+1,\"\")","v":""},{"$f":"IF(AND(B10=\"\",B9=CalInfo!$O$26),\"QS to Volume\",IF(B10=\"\",\"\",INDEX(CalInfo!$B$19:$B$33,MATCH(\"Compound \"&B10,CalInfo!$L$19:$L$33,FALSE))))","v":""},{"$f":"IF(E10=\"\",\"\",IF(A10=\"Solid\",ROUND((CalInfo!$A$14*CalInfo!$B$14)/(INDEX(CalInfo!$J$19:$J$33,MATCH(\"Compound \"&B10,CalInfo!$L$19:$L$33,FALSE))*1000),3)&\" g\",IF(ISNUMBER(B10),ROUND((CalInfo!$A$14*CalInfo!$B$14)*1000/(INDEX(CalInfo!$H$19:$H$33,MATCH(\"Compound \"&B10,CalInfo!$L$19:$L$33,FALSE))*1000*INDEX(CalInfo!$J$19:$J$33,MATCH(\"Compound \"&B10,CalInfo!$L$19:$L$33,FALSE)))/5,0)*5&\" uL\",IF(B10=\"Solvent\",\"~\"&CalInfo!$B$14/2.5&\" mL\",IF(RIGHT(E10,5)=\"Flask\",\"-\",IF(E10=\"QS to Volume\",\"To \"&CalInfo!$B$14&\" mL\",\"\"))))))","v":""},null,{"$f":"IF(OR(AND(B10=\"\",E10<>\"\"),B10=\"Solvent\",B10=\"Dil Count\"),\"-\",IF(G10=\"\",\"\",(G10-MAX($G$2:G9))*1000*INDEX(CalInfo!$J$19:$J$33,MATCH(\"Compound \"&B10,CalInfo!$L$19:$L$33,FALSE))/CalInfo!$B$14))","v":""},{"$f":"IF(ISNUMBER(B10),INDEX(CalInfo!$J$19:$J$33,MATCH(\"Compound \"&B10,CalInfo!$L$19:$L$33,FALSE))*(G10-MAX($G$2:G9))/(MAX($G$3:$G$19)-MIN($G$3:$G$19)),\"\")","v":""},null,null,"",null,null,{"$f":"IF(L10=\"\",\"\",IF(L10=\"QS to Volume\",\"To \"&INDEX(CalInfo!$B$4:$B$8,MATCH($N$1,CalInfo!$A$4:$A$8,FALSE))&\" mL\",IF(OR(D10=\"STD Count\",D10=\"Solvent\",D10=\"Internal Standard\"),INDEX(Backend!$M$2:$Q$4,MATCH('Cal Prep'!D10,Backend!$L$2:$L$5,FALSE),MATCH($N$1,Backend!$M$1:$Q$1,FALSE)),IF(AND($N$2=\"No\",L10=\"Dilution Prep\"),\"-\",IF(L10=\"Dilution Prep\",(INDEX(CalInfo!$B$4:$B$8,MATCH($N$1,CalInfo!$A$4:$A$8,FALSE))*$N$1)*1000/CalInfo!$A$14&\" uL\",IF($N$2=\"yes\",\"-\",IF(C10=\"Solid\",ROUND($N$1*INDEX(CalInfo!$B$4:$B$8,MATCH($N$1,CalInfo!$A$4:$A$8,FALSE))/(IF(ISNUMBER(D10),INDEX(CalInfo!$J$19:$J$33,MATCH(\"Compound \"&D10,CalInfo!$L$19:$L$33,FALSE)),\"\")*1000),3)&\" g\",ROUND(($N$1*1000*INDEX(CalInfo!$B$4:$B$8,MATCH($N$1,CalInfo!$A$4:$A$8,FALSE))/INDEX(Compounds!C:C,MATCH(L10,Compounds!A:A,FALSE)))/1000/5,0)*5&\" uL\")))))))","v":""},null,{"$f":"IF(OR(AND(D10=\"\",L10<>\"\"),D10=\"Solvent\",D10=\"STD Count\",L10=\"Dilution Prep\"),\"-\",IF(P10=\"\",\"\",IF(D10=\"Internal Standard\",(P10-MAX($P$2:P9))*1000*INDEX(CalInfo!$J$19:$J$33,MATCH(D10,CalInfo!$A$19:$A$33,FALSE))/INDEX(CalInfo!$B$4:$B$8,MATCH($N$1,CalInfo!$A$4:$A$8,FALSE)),IF($N$2=\"yes\",(INDEX($P$3:$P$21,MATCH(\"Dilution prep\",$L$3:$L$21,FALSE))-VLOOKUP(INDEX($P$3:$P$21,MATCH(\"Dilution prep\",$L$3:$L$21,FALSE))-0.001,$P$3:$P$21,1,TRUE))*INDEX($I$3:$I$19,MATCH(L10,$E$3:$E$19,FALSE))*1000/INDEX(CalInfo!$B$4:$B$8,MATCH($N$1,CalInfo!$A$4:$A$8,FALSE)),(P10-MAX($P$2:P9))*1000*INDEX(CalInfo!$J$19:$J$33,MATCH(\"Compound \"&D10,CalInfo!$L$19:$L$33,FALSE))/INDEX(CalInfo!$B$4:$B$8,MATCH($N$1,CalInfo!$A$4:$A$8,FALSE))))))","v":""},null,null,{"$f":"IF(L10=\"\",\"\",IF(L10=\"QS to Volume\",\"To \"&INDEX(CalInfo!$B$4:$B$8,MATCH($S$1,CalInfo!$A$4:$A$8,FALSE))&\" mL\",IF(OR(D10=\"STD Count\",D10=\"Solvent\",D10=\"Internal Standard\"),INDEX(Backend!$M$2:$Q$4,MATCH('Cal Prep'!D10,Backend!$L$2:$L$5,FALSE),MATCH($S$1,Backend!$M$1:$Q$1,FALSE)),IF(AND($S$2=\"No\",L10=\"Dilution Prep\"),\"-\",IF(L10=\"Dilution Prep\",(INDEX(CalInfo!$B$4:$B$8,MATCH($S$1,CalInfo!$A$4:$A$8,FALSE))*$S$1)*1000/CalInfo!$A$14&\" uL\",IF($S$2=\"yes\",\"-\",IF(C10=\"Solid\",ROUND($S$1*INDEX(CalInfo!$B$4:$B$8,MATCH($S$1,CalInfo!$A$4:$A$8,FALSE))/(IF(ISNUMBER(D10),INDEX(CalInfo!$J$19:$J$33,MATCH(\"Compound \"&D10,CalInfo!$L$19:$L$33,FALSE)),\"\")*1000),3)&\" g\",ROUND(($S$1*1000*INDEX(CalInfo!$B$4:$B$8,MATCH($S$1,CalInfo!$A$4:$A$8,FALSE))/INDEX(Compounds!C:C,MATCH(L10,Compounds!A:A,FALSE)))/1000/5,0)*5&\" uL\")))))))","v":""},null,{"$f":"IF(OR(AND(D10=\"\",L10<>\"\"),D10=\"Solvent\",D10=\"STD Count\",L10=\"Dilution Prep\"),\"-\",IF(U10=\"\",\"\",IF(D10=\"Internal Standard\",(U10-MAX($U$2:U9))*1000*INDEX(CalInfo!$J$19:$J$33,MATCH(D10,CalInfo!$A$19:$A$33,FALSE))/INDEX(CalInfo!$B$4:$B$8,MATCH($S$1,CalInfo!$A$4:$A$8,FALSE)),IF($S$2=\"yes\",(INDEX($U$3:$U$21,MATCH(\"Dilution prep\",$L$3:$L$21,FALSE))-VLOOKUP(INDEX($U$3:$U$21,MATCH(\"Dilution prep\",$L$3:$L$21,FALSE))-0.001,$U$3:$U$21,1,TRUE))*INDEX($I$3:$I$19,MATCH(L10,$E$3:$E$19,FALSE))*1000/INDEX(CalInfo!$B$4:$B$8,MATCH($S$1,CalInfo!$A$4:$A$8,FALSE)),(U10-MAX($U$2:U9))*1000*INDEX(CalInfo!$J$19:$J$33,MATCH(\"Compound \"&D10,CalInfo!$L$19:$L$33,FALSE))/INDEX(CalInfo!$B$4:$B$8,MATCH($S$1,CalInfo!$A$4:$A$8,FALSE))))))","v":""},null,null,{"$f":"IF(L10=\"\",\"\",IF(L10=\"QS to Volume\",\"To \"&INDEX(CalInfo!$B$4:$B$8,MATCH($X$1,CalInfo!$A$4:$A$8,FALSE))&\" mL\",IF(OR(D10=\"STD Count\",D10=\"Solvent\",D10=\"Internal Standard\"),INDEX(Backend!$M$2:$Q$4,MATCH('Cal Prep'!D10,Backend!$L$2:$L$5,FALSE),MATCH($X$1,Backend!$M$1:$Q$1,FALSE)),IF(AND($X$2=\"No\",L10=\"Dilution Prep\"),\"-\",IF(L10=\"Dilution Prep\",(INDEX(CalInfo!$B$4:$B$8,MATCH($X$1,CalInfo!$A$4:$A$8,FALSE))*$X$1)*1000/CalInfo!$A$14&\" uL\",IF($X$2=\"yes\",\"-\",IF(C10=\"Solid\",ROUND($X$1*INDEX(CalInfo!$B$4:$B$8,MATCH($X$1,CalInfo!$A$4:$A$8,FALSE))/(IF(ISNUMBER(D10),INDEX(CalInfo!$J$19:$J$33,MATCH(\"Compound \"&D10,CalInfo!$L$19:$L$33,FALSE)),\"\")*1000),3)&\" g\",ROUND(($X$1*1000*INDEX(CalInfo!$B$4:$B$8,MATCH($X$1,CalInfo!$A$4:$A$8,FALSE))/INDEX(Compounds!C:C,MATCH(L10,Compounds!A:A,FALSE)))/1000/5,0)*5&\" uL\")))))))","v":""},null,{"$f":"IF(OR(AND(D10=\"\",L10<>\"\"),D10=\"Solvent\",D10=\"STD Count\",L10=\"Dilution Prep\"),\"-\",IF(Z10=\"\",\"\",IF(D10=\"Internal Standard\",(Z10-MAX($Z$2:Z9))*1000*INDEX(CalInfo!$J$19:$J$33,MATCH(D10,CalInfo!$A$19:$A$33,FALSE))/INDEX(CalInfo!$B$4:$B$8,MATCH($X$1,CalInfo!$A$4:$A$8,FALSE)),IF($X$2=\"yes\",(INDEX($Z$3:$Z$21,MATCH(\"Dilution prep\",$L$3:$L$21,FALSE))-VLOOKUP(INDEX($Z$3:$Z$21,MATCH(\"Dilution prep\",$L$3:$L$21,FALSE))-0.001,$Z$3:$Z$21,1,TRUE))*INDEX($I$3:$I$19,MATCH(L10,$E$3:$E$19,FALSE))*1000/INDEX(CalInfo!$B$4:$B$8,MATCH($X$1,CalInfo!$A$4:$A$8,FALSE)),(Z10-MAX($Z$2:Z9))*1000*INDEX(CalInfo!$J$19:$J$33,MATCH(\"Compound \"&D10,CalInfo!$L$19:$L$33,FALSE))/INDEX(CalInfo!$B$4:$B$8,MATCH($X$1,CalInfo!$A$4:$A$8,FALSE))))))","v":""},null,null,{"$f":"IF(L10=\"\",\"\",IF(L10=\"QS to Volume\",\"To \"&INDEX(CalInfo!$B$4:$B$8,MATCH($AC$1,CalInfo!$A$4:$A$8,FALSE))&\" mL\",IF(OR(D10=\"STD Count\",D10=\"Solvent\",D10=\"Internal Standard\"),INDEX(Backend!$M$2:$Q$4,MATCH('Cal Prep'!D10,Backend!$L$2:$L$5,FALSE),MATCH($AC$1,Backend!$M$1:$Q$1,FALSE)),IF(AND($AC$2=\"No\",L10=\"Dilution Prep\"),\"-\",IF(L10=\"Dilution Prep\",(INDEX(CalInfo!$B$4:$B$8,MATCH($AC$1,CalInfo!$A$4:$A$8,FALSE))*$AC$1)*1000/CalInfo!$A$14&\" uL\",IF($AC$2=\"yes\",\"-\",IF(C10=\"Solid\",ROUND($AC$1*INDEX(CalInfo!$B$4:$B$8,MATCH($AC$1,CalInfo!$A$4:$A$8,FALSE))/(IF(ISNUMBER(D10),INDEX(CalInfo!$J$19:$J$33,MATCH(\"Compound \"&D10,CalInfo!$L$19:$L$33,FALSE)),\"\")*1000),3)&\" g\",ROUND(($AC$1*1000*INDEX(CalInfo!$B$4:$B$8,MATCH($AC$1,CalInfo!$A$4:$A$8,FALSE))/INDEX(Compounds!C:C,MATCH(L10,Compounds!A:A,FALSE)))/1000/5,0)*5&\" uL\")))))))","v":""},null,{"$f":"IF(OR(AND(D10=\"\",L10<>\"\"),D10=\"Solvent\",D10=\"STD Count\",L10=\"Dilution Prep\"),\"-\",IF(AE10=\"\",\"\",IF(D10=\"Internal Standard\",(AE10-MAX($AE$2:AE9))*1000*INDEX(CalInfo!$J$19:$J$33,MATCH(D10,CalInfo!$A$19:$A$33,FALSE))/INDEX(CalInfo!$B$4:$B$8,MATCH($AC$1,CalInfo!$A$4:$A$8,FALSE)),IF($AC$2=\"yes\",(INDEX($AE$3:$AE$21,MATCH(\"Dilution prep\",$L$3:$L$21,FALSE))-VLOOKUP(INDEX($AE$3:$AE$21,MATCH(\"Dilution prep\",$L$3:$L$21,FALSE))-0.001,$AE$3:$AE$21,1,TRUE))*INDEX($I$3:$I$19,MATCH(L10,$E$3:$E$19,FALSE))*1000/INDEX(CalInfo!$B$4:$B$8,MATCH($AC$1,CalInfo!$A$4:$A$8,FALSE)),(AE10-MAX($AE$2:AE9))*1000*INDEX(CalInfo!$J$19:$J$33,MATCH(\"Compound \"&D10,CalInfo!$L$19:$L$33,FALSE))/INDEX(CalInfo!$B$4:$B$8,MATCH($AC$1,CalInfo!$A$4:$A$8,FALSE))))))","v":""},null,null,{"$f":"IF(L10=\"\",\"\",IF(L10=\"QS to Volume\",\"To \"&INDEX(CalInfo!$B$4:$B$8,MATCH($AH$1,CalInfo!$A$4:$A$8,FALSE))&\" mL\",IF(OR(D10=\"STD Count\",D10=\"Solvent\",D10=\"Internal Standard\"),INDEX(Backend!$M$2:$Q$4,MATCH('Cal Prep'!D10,Backend!$L$2:$L$5,FALSE),MATCH($AH$1,Backend!$M$1:$Q$1,FALSE)),IF(AND($AH$2=\"No\",L10=\"Dilution Prep\"),\"-\",IF(L10=\"Dilution Prep\",(INDEX(CalInfo!$B$4:$B$8,MATCH($AH$1,CalInfo!$A$4:$A$8,FALSE))*$AH$1)*1000/CalInfo!$A$14&\" uL\",IF($AH$2=\"yes\",\"-\",IF(C10=\"Solid\",ROUND($AH$1*INDEX(CalInfo!$B$4:$B$8,MATCH($AH$1,CalInfo!$A$4:$A$8,FALSE))/(IF(ISNUMBER(D10),INDEX(CalInfo!$J$19:$J$33,MATCH(\"Compound \"&D10,CalInfo!$L$19:$L$33,FALSE)),\"\")*1000),3)&\" g\",ROUND(($AH$1*1000*INDEX(CalInfo!$B$4:$B$8,MATCH($AH$1,CalInfo!$A$4:$A$8,FALSE))/INDEX(Compounds!C:C,MATCH(L10,Compounds!A:A,FALSE)))/1000/5,0)*5&\" uL\")))))))","v":""},null,{"$f":"IF(OR(AND(D10=\"\",L10<>\"\"),D10=\"Solvent\",D10=\"STD Count\",L10=\"Dilution Prep\"),\"-\",IF(AJ10=\"\",\"\",IF(D10=\"Internal Standard\",(AJ10-MAX($AJ$2:AJ9))*1000*INDEX(CalInfo!$J$19:$J$33,MATCH(D10,CalInfo!$A$19:$A$33,FALSE))/INDEX(CalInfo!$B$4:$B$8,MATCH($AH$1,CalInfo!$A$4:$A$8,FALSE)),IF($AH$2=\"yes\",(INDEX($AJ$3:$AJ$21,MATCH(\"Dilution prep\",$L$3:$L$21,FALSE))-VLOOKUP(INDEX($AJ$3:$AJ$21,MATCH(\"Dilution prep\",$L$3:$L$21,FALSE))-0.001,$AJ$3:$AJ$21,1,TRUE))*INDEX($I$3:$I$19,MATCH(L10,$E$3:$E$19,FALSE))*1000/INDEX(CalInfo!$B$4:$B$8,MATCH($AH$1,CalInfo!$A$4:$A$8,FALSE)),(AJ10-MAX($AJ$2:AJ9))*1000*INDEX(CalInfo!$J$19:$J$33,MATCH(\"Compound \"&D10,CalInfo!$L$19:$L$33,FALSE))/INDEX(CalInfo!$B$4:$B$8,MATCH($AH$1,CalInfo!$A$4:$A$8,FALSE))))))","v":""}]
[{"$f":"IF(OR(B11=\"\",B11=\"Solvent\"),\"\",INDEX(CalInfo!$E$19:$E$33,MATCH(\"Compound \"&'Cal Prep'!B11,CalInfo!$L$19:$L$33,FALSE)))","v":""},{"$f":"IF(MAX($B$4:B10)<CalInfo!$O$26,MAX('Cal Prep'!$B$4:B10)+1,\"\")","v":""},{"$f":"IF(OR(D11=\"\",D11=\"Solvent\",D11=\"Internal Standard\",D11=\"Dilution\"),\"\",INDEX(CalInfo!$E$19:$E$33,MATCH(\"Compound \"&'Cal Prep'!D11,CalInfo!$L$19:$L$33,FALSE)))","v":""},{"$f":"IF(MAX($D$4:D10)<CalInfo!$O$26,MAX('Cal Prep'!$D$4:D10)+1,\"\")","v":""},{"$f":"IF(AND(B11=\"\",B10=CalInfo!$O$26),\"QS to Volume\",IF(B11=\"\",\"\",INDEX(CalInfo!$B$19:$B$33,MATCH(\"Compound \"&B11,CalInfo!$L$19:$L$33,FALSE))))","v":""},{"$f":"IF(E11=\"\",\"\",IF(A11=\"Solid\",ROUND((CalInfo!$A$14*CalInfo!$B$14)/(INDEX(CalInfo!$J$19:$J$33,MATCH(\"Compound \"&B11,CalInfo!$L$19:$L$33,FALSE))*1000),3)&\" g\",IF(ISNUMBER(B11),ROUND((CalInfo!$A$14*CalInfo!$B$14)*1000/(INDEX(CalInfo!$H$19:$H$33,MATCH(\"Compound \"&B11,CalInfo!$L$19:$L$33,FALSE))*1000*INDEX(CalInfo!$J$19:$J$33,MATCH(\"Compound \"&B11,CalInfo!$L$19:$L$33,FALSE)))/5,0)*5&\" uL\",IF(B11=\"Solvent\",\"~\"&CalInfo!$B$14/2.5&\" mL\",IF(RIGHT(E11,5)=\"Flask\",\"-\",IF(E11=\"QS to Volume\",\"To \"&CalInfo!$B$14&\" mL\",\"\"))))))","v":""},null,{"$f":"IF(OR(AND(B11=\"\",E11<>\"\"),B11=\"Solvent\",B11=\"Dil Count\"),\"-\",IF(G11=\"\",\"\",(G11-MAX($G$2:G10))*1000*INDEX(CalInfo!$J$19:$J$33,MATCH(\"Compound \"&B11,CalInfo!$L$19:$L$33,FALSE))/CalInfo!$B$14))","v":""},{"$f":"IF(ISNUMBER(B11),INDEX(CalInfo!$J$19:$J$33,MATCH(\"Compound \"&B11,CalInfo!$L$19:$L$33,FALSE))*(G11-MAX($G$2:G10))/(MAX($G$3:$G$19)-MIN($G$3:$G$19)),\"\")","v":""},null,null,"",null,null,{"$f":"IF(L11=\"\",\"\",IF(L11=\"QS to Volume\",\"To \"&INDEX(CalInfo!$B$4:$B$8,MATCH($N$1,CalInfo!$A$4:$A$8,FALSE))&\" mL\",IF(OR(D11=\"STD Count\",D11=\"Solvent\",D11=\"Internal Standard\"),INDEX(Backend!$M$2:$Q$4,MATCH('Cal Prep'!D11,Backend!$L$2:$L$5,FALSE),MATCH($N$1,Backend!$M$1:$Q$1,FALSE)),IF(AND($N$2=\"No\",L11=\"Dilution Prep\"),\"-\",IF(L11=\"Dilution Prep\",(INDEX(CalInfo!$B$4:$B$8,MATCH($N$1,CalInfo!$A$4:$A$8,FALSE))*$N$1)*1000/CalInfo!$A$14&\" uL\",IF($N$2=\"yes\",\"-\",IF(C11=\"Solid\",ROUND($N$1*INDEX(CalInfo!$B$4:$B$8,MATCH($N$1,CalInfo!$A$4:$A$8,FALSE))/(IF(ISNUMBER(D11),INDEX(CalInfo!$J$19:$J$33,MATCH(\"Compound \"&D11,CalInfo!$L$19:$L$33,FALSE)),\"\")*1000),3)&\" g\",ROUND(($N$1*1000*INDEX(CalInfo!$B$4:$B$8,MATCH($N$1,CalInfo!$A$4:$A$8,FALSE))/INDEX(Compounds!C:C,MATCH(L11,Compounds!A:A,FALSE)))/1000/5,0)*5&\" uL\")))))))","v":""},null,{"$f":"IF(OR(AND(D11=\"\",L11<>\"\"),D11=\"Solvent\",D11=\"STD Count\",L11=\"Dilution Prep\"),\"-\",IF(P11=\"\",\"\",IF(D11=\"Internal Standard\",(P11-MAX($P$2:P10))*1000*INDEX(CalInfo!$J$19:$J$33,MATCH(D11,CalInfo!$A$19:$A$33,FALSE))/INDEX(CalInfo!$B$4:$B$8,MATCH($N$1,CalInfo!$A$4:$A$8,FALSE)),IF($N$2=\"yes\",(INDEX($P$3:$P$21,MATCH(\"Dilution prep\",$L$3:$L$21,FALSE))-VLOOKUP(INDEX($P$3:$P$21,MATCH(\"Dilution prep\",$L$3:$L$21,FALSE))-0.001,$P$3:$P$21,1,TRUE))*INDEX($I$3:$I$19,MATCH(L11,$E$3:$E$19,FALSE))*1000/INDEX(CalInfo!$B$4:$B$8,MATCH($N$1,CalInfo!$A$4:$A$8,FALSE)),(P11-MAX($P$2:P10))*1000*INDEX(CalInfo!$J$19:$J$33,MATCH(\"Compound \"&D11,CalInfo!$L$19:$L$33,FALSE))/INDEX(CalInfo!$B$4:$B$8,MATCH($N$1,CalInfo!$A$4:$A$8,FALSE))))))","v":""},null,null,{"$f":"IF(L11=\"\",\"\",IF(L11=\"QS to Volume\",\"To \"&INDEX(CalInfo!$B$4:$B$8,MATCH($S$1,CalInfo!$A$4:$A$8,FALSE))&\" mL\",IF(OR(D11=\"STD Count\",D11=\"Solvent\",D11=\"Internal Standard\"),INDEX(Backend!$M$2:$Q$4,MATCH('Cal Prep'!D11,Backend!$L$2:$L$5,FALSE),MATCH($S$1,Backend!$M$1:$Q$1,FALSE)),IF(AND($S$2=\"No\",L11=\"Dilution Prep\"),\"-\",IF(L11=\"Dilution Prep\",(INDEX(CalInfo!$B$4:$B$8,MATCH($S$1,CalInfo!$A$4:$A$8,FALSE))*$S$1)*1000/CalInfo!$A$14&\" uL\",IF($S$2=\"yes\",\"-\",IF(C11=\"Solid\",ROUND($S$1*INDEX(CalInfo!$B$4:$B$8,MATCH($S$1,CalInfo!$A$4:$A$8,FALSE))/(IF(ISNUMBER(D11),INDEX(CalInfo!$J$19:$J$33,MATCH(\"Compound \"&D11,CalInfo!$L$19:$L$33,FALSE)),\"\")*1000),3)&\" g\",ROUND(($S$1*1000*INDEX(CalInfo!$B$4:$B$8,MATCH($S$1,CalInfo!$A$4:$A$8,FALSE))/INDEX(Compounds!C:C,MATCH(L11,Compounds!A:A,FALSE)))/1000/5,0)*5&\" uL\")))))))","v":""},null,{"$f":"IF(OR(AND(D11=\"\",L11<>\"\"),D11=\"Solvent\",D11=\"STD Count\",L11=\"Dilution Prep\"),\"-\",IF(U11=\"\",\"\",IF(D11=\"Internal Standard\",(U11-MAX($U$2:U10))*1000*INDEX(CalInfo!$J$19:$J$33,MATCH(D11,CalInfo!$A$19:$A$33,FALSE))/INDEX(CalInfo!$B$4:$B$8,MATCH($S$1,CalInfo!$A$4:$A$8,FALSE)),IF($S$2=\"yes\",(INDEX($U$3:$U$21,MATCH(\"Dilution prep\",$L$3:$L$21,FALSE))-VLOOKUP(INDEX($U$3:$U$21,MATCH(\"Dilution prep\",$L$3:$L$21,FALSE))-0.001,$U$3:$U$21,1,TRUE))*INDEX($I$3:$I$19,MATCH(L11,$E$3:$E$19,FALSE))*1000/INDEX(CalInfo!$B$4:$B$8,MATCH($S$1,CalInfo!$A$4:$A$8,FALSE)),(U11-MAX($U$2:U10))*1000*INDEX(CalInfo!$J$19:$J$33,MATCH(\"Compound \"&D11,CalInfo!$L$19:$L$33,FALSE))/INDEX(CalInfo!$B$4:$B$8,MATCH($S$1,CalInfo!$A$4:$A$8,FALSE))))))","v":""},null,null,{"$f":"IF(L11=\"\",\"\",IF(L11=\"QS to Volume\",\"To \"&INDEX(CalInfo!$B$4:$B$8,MATCH($X$1,CalInfo!$A$4:$A$8,FALSE))&\" mL\",IF(OR(D11=\"STD Count\",D11=\"Solvent\",D11=\"Internal Standard\"),INDEX(Backend!$M$2:$Q$4,MATCH('Cal Prep'!D11,Backend!$L$2:$L$5,FALSE),MATCH($X$1,Backend!$M$1:$Q$1,FALSE)),IF(AND($X$2=\"No\",L11=\"Dilution Prep\"),\"-\",IF(L11=\"Dilution Prep\",(INDEX(CalInfo!$B$4:$B$8,MATCH($X$1,CalInfo!$A$4:$A$8,FALSE))*$X$1)*1000/CalInfo!$A$14&\" uL\",IF($X$2=\"yes\",\"-\",IF(C11=\"Solid\",ROUND($X$1*INDEX(CalInfo!$B$4:$B$8,MATCH($X$1,CalInfo!$A$4:$A$8,FALSE))/(IF(ISNUMBER(D11),INDEX(CalInfo!$J$19:$J$33,MATCH(\"Compound \"&D11,CalInfo!$L$19:$L$33,FALSE)),\"\")*1000),3)&\" g\",ROUND(($X$1*1000*INDEX(CalInfo!$B$4:$B$8,MATCH($X$1,CalInfo!$A$4:$A$8,FALSE))/INDEX(Compounds!C:C,MATCH(L11,Compounds!A:A,FALSE)))/1000/5,0)*5&\" uL\")))))))","v":""},null,{"$f":"IF(OR(AND(D11=\"\",L11<>\"\"),D11=\"Solvent\",D11=\"STD Count\",L11=\"Dilution Prep\"),\"-\",IF(Z11=\"\",\"\",IF(D11=\"Internal Standard\",(Z11-MAX($Z$2:Z10))*1000*INDEX(CalInfo!$J$19:$J$33,MATCH(D11,CalInfo!$A$19:$A$33,FALSE))/INDEX(CalInfo!$B$4:$B$8,MATCH($X$1,CalInfo!$A$4:$A$8,FALSE)),IF($X$2=\"yes\",(INDEX($Z$3:$Z$21,MATCH(\"Dilution prep\",$L$3:$L$21,FALSE))-VLOOKUP(INDEX($Z$3:$Z$21,MATCH(\"Dilution prep\",$L$3:$L$21,FALSE))-0.001,$Z$3:$Z$21,1,TRUE))*INDEX($I$3:$I$19,MATCH(L11,$E$3:$E$19,FALSE))*1000/INDEX(CalInfo!$B$4:$B$8,MATCH($X$1,CalInfo!$A$4:$A$8,FALSE)),(Z11-MAX($Z$2:Z10))*1000*INDEX(CalInfo!$J$19:$J$33,MATCH(\"Compound \"&D11,CalInfo!$L$19:$L$33,FALSE))/INDEX(CalInfo!$B$4:$B$8,MATCH($X$1,CalInfo!$A$4:$A$8,FALSE))))))","v":""},null,null,{"$f":"IF(L11=\"\",\"\",IF(L11=\"QS to Volume\",\"To \"&INDEX(CalInfo!$B$4:$B$8,MATCH($AC$1,CalInfo!$A$4:$A$8,FALSE))&\" mL\",IF(OR(D11=\"STD Count\",D11=\"Solvent\",D11=\"Internal Standard\"),INDEX(Backend!$M$2:$Q$4,MATCH('Cal Prep'!D11,Backend!$L$2:$L$5,FALSE),MATCH($AC$1,Backend!$M$1:$Q$1,FALSE)),IF(AND($AC$2=\"No\",L11=\"Dilution Prep\"),\"-\",IF(L11=\"Dilution Prep\",(INDEX(CalInfo!$B$4:$B$8,MATCH($AC$1,CalInfo!$A$4:$A$8,FALSE))*$AC$1)*1000/CalInfo!$A$14&\" uL\",IF($AC$2=\"yes\",\"-\",IF(C11=\"Solid\",ROUND($AC$1*INDEX(CalInfo!$B$4:$B$8,MATCH($AC$1,CalInfo!$A$4:$A$8,FALSE))/(IF(ISNUMBER(D11),INDEX(CalInfo!$J$19:$J$33,MATCH(\"Compound \"&D11,CalInfo!$L$19:$L$33,FALSE)),\"\")*1000),3)&\" g\",ROUND(($AC$1*1000*INDEX(CalInfo!$B$4:$B$8,MATCH($AC$1,CalInfo!$A$4:$A$8,FALSE))/INDEX(Compounds!C:C,MATCH(L11,Compounds!A:A,FALSE)))/1000/5,0)*5&\" uL\")))))))","v":""},null,{"$f":"IF(OR(AND(D11=\"\",L11<>\"\"),D11=\"Solvent\",D11=\"STD Count\",L11=\"Dilution Prep\"),\"-\",IF(AE11=\"\",\"\",IF(D11=\"Internal Standard\",(AE11-MAX($AE$2:AE10))*1000*INDEX(CalInfo!$J$19:$J$33,MATCH(D11,CalInfo!$A$19:$A$33,FALSE))/INDEX(CalInfo!$B$4:$B$8,MATCH($AC$1,CalInfo!$A$4:$A$8,FALSE)),IF($AC$2=\"yes\",(INDEX($AE$3:$AE$21,MATCH(\"Dilution prep\",$L$3:$L$21,FALSE))-VLOOKUP(INDEX($AE$3:$AE$21,MATCH(\"Dilution prep\",$L$3:$L$21,FALSE))-0.001,$AE$3:$AE$21,1,TRUE))*INDEX($I$3:$I$19,MATCH(L11,$E$3:$E$19,FALSE))*1000/INDEX(CalInfo!$B$4:$B$8,MATCH($AC$1,CalInfo!$A$4:$A$8,FALSE)),(AE11-MAX($AE$2:AE10))*1000*INDEX(CalInfo!$J$19:$J$33,MATCH(\"Compound \"&D11,CalInfo!$L$19:$L$33,FALSE))/INDEX(CalInfo!$B$4:$B$8,MATCH($AC$1,CalInfo!$A$4:$A$8,FALSE))))))","v":""},null,null,{"$f":"IF(L11=\"\",\"\",IF(L11=\"QS to Volume\",\"To \"&INDEX(CalInfo!$B$4:$B$8,MATCH($AH$1,CalInfo!$A$4:$A$8,FALSE))&\" mL\",IF(OR(D11=\"STD Count\",D11=\"Solvent\",D11=\"Internal Standard\"),INDEX(Backend!$M$2:$Q$4,MATCH('Cal Prep'!D11,Backend!$L$2:$L$5,FALSE),MATCH($AH$1,Backend!$M$1:$Q$1,FALSE)),IF(AND($AH$2=\"No\",L11=\"Dilution Prep\"),\"-\",IF(L11=\"Dilution Prep\",(INDEX(CalInfo!$B$4:$B$8,MATCH($AH$1,CalInfo!$A$4:$A$8,FALSE))*$AH$1)*1000/CalInfo!$A$14&\" uL\",IF($AH$2=\"yes\",\"-\",IF(C11=\"Solid\",ROUND($AH$1*INDEX(CalInfo!$B$4:$B$8,MATCH($AH$1,CalInfo!$A$4:$A$8,FALSE))/(IF(ISNUMBER(D11),INDEX(CalInfo!$J$19:$J$33,MATCH(\"Compound \"&D11,CalInfo!$L$19:$L$33,FALSE)),\"\")*1000),3)&\" g\",ROUND(($AH$1*1000*INDEX(CalInfo!$B$4:$B$8,MATCH($AH$1,CalInfo!$A$4:$A$8,FALSE))/INDEX(Compounds!C:C,MATCH(L11,Compounds!A:A,FALSE)))/1000/5,0)*5&\" uL\")))))))","v":""},null,{"$f":"IF(OR(AND(D11=\"\",L11<>\"\"),D11=\"Solvent\",D11=\"STD Count\",L11=\"Dilution Prep\"),\"-\",IF(AJ11=\"\",\"\",IF(D11=\"Internal Standard\",(AJ11-MAX($AJ$2:AJ10))*1000*INDEX(CalInfo!$J$19:$J$33,MATCH(D11,CalInfo!$A$19:$A$33,FALSE))/INDEX(CalInfo!$B$4:$B$8,MATCH($AH$1,CalInfo!$A$4:$A$8,FALSE)),IF($AH$2=\"yes\",(INDEX($AJ$3:$AJ$21,MATCH(\"Dilution prep\",$L$3:$L$21,FALSE))-VLOOKUP(INDEX($AJ$3:$AJ$21,MATCH(\"Dilution prep\",$L$3:$L$21,FALSE))-0.001,$AJ$3:$AJ$21,1,TRUE))*INDEX($I$3:$I$19,MATCH(L11,$E$3:$E$19,FALSE))*1000/INDEX(CalInfo!$B$4:$B$8,MATCH($AH$1,CalInfo!$A$4:$A$8,FALSE)),(AJ11-MAX($AJ$2:AJ10))*1000*INDEX(CalInfo!$J$19:$J$33,MATCH(\"Compound \"&D11,CalInfo!$L$19:$L$33,FALSE))/INDEX(CalInfo!$B$4:$B$8,MATCH($AH$1,CalInfo!$A$4:$A$8,FALSE))))))","v":""}]
[{"$f":"IF(OR(B12=\"\",B12=\"Solvent\"),\"\",INDEX(CalInfo!$E$19:$E$33,MATCH(\"Compound \"&'Cal Prep'!B12,CalInfo!$L$19:$L$33,FALSE)))","v":""},{"$f":"IF(MAX($B$4:B11)<CalInfo!$O$26,MAX('Cal Prep'!$B$4:B11)+1,\"\")","v":""},{"$f":"IF(OR(D12=\"\",D12=\"Solvent\",D12=\"Internal Standard\",D12=\"Dilution\"),\"\",INDEX(CalInfo!$E$19:$E$33,MATCH(\"Compound \"&'Cal Prep'!D12,CalInfo!$L$19:$L$33,FALSE)))","v":""},{"$f":"IF(MAX($D$4:D11)<CalInfo!$O$26,MAX('Cal Prep'!$D$4:D11)+1,\"\")","v":""},{"$f":"IF(AND(B12=\"\",B11=CalInfo!$O$26),\"QS to Volume\",IF(B12=\"\",\"\",INDEX(CalInfo!$B$19:$B$33,MATCH(\"Compound \"&B12,CalInfo!$L$19:$L$33,FALSE))))","v":""},{"$f":"IF(E12=\"\",\"\",IF(A12=\"Solid\",ROUND((CalInfo!$A$14*CalInfo!$B$14)/(INDEX(CalInfo!$J$19:$J$33,MATCH(\"Compound \"&B12,CalInfo!$L$19:$L$33,FALSE))*1000),3)&\" g\",IF(ISNUMBER(B12),ROUND((CalInfo!$A$14*CalInfo!$B$14)*1000/(INDEX(CalInfo!$H$19:$H$33,MATCH(\"Compound \"&B12,CalInfo!$L$19:$L$33,FALSE))*1000*INDEX(CalInfo!$J$19:$J$33,MATCH(\"Compound \"&B12,CalInfo!$L$19:$L$33,FALSE)))/5,0)*5&\" uL\",IF(B12=\"Solvent\",\"~\"&CalInfo!$B$14/2.5&\" mL\",IF(RIGHT(E12,5)=\"Flask\",\"-\",IF(E12=\"QS to Volume\",\"To \"&CalInfo!$B$14&\" mL\",\"\"))))))","v":""},null,{"$f":"IF(OR(AND(B12=\"\",E12<>\"\"),B12=\"Solvent\",B12=\"Dil Count\"),\"-\",IF(G12=\"\",\"\",(G12-MAX($G$2:G11))*1000*INDEX(CalInfo!$J$19:$J$33,MATCH(\"Compound \"&B12,CalInfo!$L$19:$L$33,FALSE))/CalInfo!$B$14))","v":""},{"$f":"IF(ISNUMBER(B12),INDEX(CalInfo!$J$19:$J$33,MATCH(\"Compound \"&B12,CalInfo!$L$19:$L$33,FALSE))*(G12-MAX($G$2:G11))/(MAX($G$3:$G$19)-MIN($G$3:$G$19)),\"\")","v":""},null,null,"",null,null,{"$f":"IF(L12=\"\",\"\",IF(L12=\"QS to Volume\",\"To \"&INDEX(CalInfo!$B$4:$B$8,MATCH($N$1,CalInfo!$A$4:$A$8,FALSE))&\" mL\",IF(OR(D12=\"STD Count\",D12=\"Solvent\",D12=\"Internal Standard\"),INDEX(Backend!$M$2:$Q$4,MATCH('Cal Prep'!D12,Backend!$L$2:$L$5,FALSE),MATCH($N$1,Backend!$M$1:$Q$1,FALSE)),IF(AND($N$2=\"No\",L12=\"Dilution Prep\"),\"-\",IF(L12=\"Dilution Prep\",(INDEX(CalInfo!$B$4:$B$8,MATCH($N$1,CalInfo!$A$4:$A$8,FALSE))*$N$1)*1000/CalInfo!$A$14&\" uL\",IF($N$2=\"yes\",\"-\",IF(C12=\"Solid\",ROUND($N$1*INDEX(CalInfo!$B$4:$B$8,MATCH($N$1,CalInfo!$A$4:$A$8,FALSE))/(IF(ISNUMBER(D12),INDEX(CalInfo!$J$19:$J$33,MATCH(\"Compound \"&D12,CalInfo!$L$19:$L$33,FALSE)),\"\")*1000),3)&\" g\",ROUND(($N$1*1000*INDEX(CalInfo!$B$4:$B$8,MATCH($N$1,CalInfo!$A$4:$A$8,FALSE))/INDEX(Compounds!C:C,MATCH(L12,Compounds!A:A,FALSE)))/1000/5,0)*5&\" uL\")))))))","v":""},null,{"$f":"IF(OR(AND(D12=\"\",L12<>\"\"),D12=\"Solvent\",D12=\"STD Count\",L12=\"Dilution Prep\"),\"-\",IF(P12=\"\",\"\",IF(D12=\"Internal Standard\",(P12-MAX($P$2:P11))*1000*INDEX(CalInfo!$J$19:$J$33,MATCH(D12,CalInfo!$A$19:$A$33,FALSE))/INDEX(CalInfo!$B$4:$B$8,MATCH($N$1,CalInfo!$A$4:$A$8,FALSE)),IF($N$2=\"yes\",(INDEX($P$3:$P$21,MATCH(\"Dilution prep\",$L$3:$L$21,FALSE))-VLOOKUP(INDEX($P$3:$P$21,MATCH(\"Dilution prep\",$L$3:$L$21,FALSE))-0.001,$P$3:$P$21,1,TRUE))*INDEX($I$3:$I$19,MATCH(L12,$E$3:$E$19,FALSE))*1000/INDEX(CalInfo!$B$4:$B$8,MATCH($N$1,CalInfo!$A$4:$A$8,FALSE)),(P12-MAX($P$2:P11))*1000*INDEX(CalInfo!$J$19:$J$33,MATCH(\"Compound \"&D12,CalInfo!$L$19:$L$33,FALSE))/INDEX(CalInfo!$B$4:$B$8,MATCH($N$1,CalInfo!$A$4:$A$8,FALSE))))))","v":""},null,null,{"$f":"IF(L12=\"\",\"\",IF(L12=\"QS to Volume\",\"To \"&INDEX(CalInfo!$B$4:$B$8,MATCH($S$1,CalInfo!$A$4:$A$8,FALSE))&\" mL\",IF(OR(D12=\"STD Count\",D12=\"Solvent\",D12=\"Internal Standard\"),INDEX(Backend!$M$2:$Q$4,MATCH('Cal Prep'!D12,Backend!$L$2:$L$5,FALSE),MATCH($S$1,Backend!$M$1:$Q$1,FALSE)),IF(AND($S$2=\"No\",L12=\"Dilution Prep\"),\"-\",IF(L12=\"Dilution Prep\",(INDEX(CalInfo!$B$4:$B$8,MATCH($S$1,CalInfo!$A$4:$A$8,FALSE))*$S$1)*1000/CalInfo!$A$14&\" uL\",IF($S$2=\"yes\",\"-\",IF(C12=\"Solid\",ROUND($S$1*INDEX(CalInfo!$B$4:$B$8,MATCH($S$1,CalInfo!$A$4:$A$8,FALSE))/(IF(ISNUMBER(D12),INDEX(CalInfo!$J$19:$J$33,MATCH(\"Compound \"&D12,CalInfo!$L$19:$L$33,FALSE)),\"\")*1000),3)&\" g\",ROUND(($S$1*1000*INDEX(CalInfo!$B$4:$B$8,MATCH($S$1,CalInfo!$A$4:$A$8,FALSE))/INDEX(Compounds!C:C,MATCH(L12,Compounds!A:A,FALSE)))/1000/5,0)*5&\" uL\")))))))","v":""},null,{"$f":"IF(OR(AND(D12=\"\",L12<>\"\"),D12=\"Solvent\",D12=\"STD Count\",L12=\"Dilution Prep\"),\"-\",IF(U12=\"\",\"\",IF(D12=\"Internal Standard\",(U12-MAX($U$2:U11))*1000*INDEX(CalInfo!$J$19:$J$33,MATCH(D12,CalInfo!$A$19:$A$33,FALSE))/INDEX(CalInfo!$B$4:$B$8,MATCH($S$1,CalInfo!$A$4:$A$8,FALSE)),IF($S$2=\"yes\",(INDEX($U$3:$U$21,MATCH(\"Dilution prep\",$L$3:$L$21,FALSE))-VLOOKUP(INDEX($U$3:$U$21,MATCH(\"Dilution prep\",$L$3:$L$21,FALSE))-0.001,$U$3:$U$21,1,TRUE))*INDEX($I$3:$I$19,MATCH(L12,$E$3:$E$19,FALSE))*1000/INDEX(CalInfo!$B$4:$B$8,MATCH($S$1,CalInfo!$A$4:$A$8,FALSE)),(U12-MAX($U$2:U11))*1000*INDEX(CalInfo!$J$19:$J$33,MATCH(\"Compound \"&D12,CalInfo!$L$19:$L$33,FALSE))/INDEX(CalInfo!$B$4:$B$8,MATCH($S$1,CalInfo!$A$4:$A$8,FALSE))))))","v":""},null,null,{"$f":"IF(L12=\"\",\"\",IF(L12=\"QS to Volume\",\"To \"&INDEX(CalInfo!$B$4:$B$8,MATCH($X$1,CalInfo!$A$4:$A$8,FALSE))&\" mL\",IF(OR(D12=\"STD Count\",D12=\"Solvent\",D12=\"Internal Standard\"),INDEX(Backend!$M$2:$Q$4,MATCH('Cal Prep'!D12,Backend!$L$2:$L$5,FALSE),MATCH($X$1,Backend!$M$1:$Q$1,FALSE)),IF(AND($X$2=\"No\",L12=\"Dilution Prep\"),\"-\",IF(L12=\"Dilution Prep\",(INDEX(CalInfo!$B$4:$B$8,MATCH($X$1,CalInfo!$A$4:$A$8,FALSE))*$X$1)*1000/CalInfo!$A$14&\" uL\",IF($X$2=\"yes\",\"-\",IF(C12=\"Solid\",ROUND($X$1*INDEX(CalInfo!$B$4:$B$8,MATCH($X$1,CalInfo!$A$4:$A$8,FALSE))/(IF(ISNUMBER(D12),INDEX(CalInfo!$J$19:$J$33,MATCH(\"Compound \"&D12,CalInfo!$L$19:$L$33,FALSE)),\"\")*1000),3)&\" g\",ROUND(($X$1*1000*INDEX(CalInfo!$B$4:$B$8,MATCH($X$1,CalInfo!$A$4:$A$8,FALSE))/INDEX(Compounds!C:C,MATCH(L12,Compounds!A:A,FALSE)))/1000/5,0)*5&\" uL\")))))))","v":""},null,{"$f":"IF(OR(AND(D12=\"\",L12<>\"\"),D12=\"Solvent\",D12=\"STD Count\",L12=\"Dilution Prep\"),\"-\",IF(Z12=\"\",\"\",IF(D12=\"Internal Standard\",(Z12-MAX($Z$2:Z11))*1000*INDEX(CalInfo!$J$19:$J$33,MATCH(D12,CalInfo!$A$19:$A$33,FALSE))/INDEX(CalInfo!$B$4:$B$8,MATCH($X$1,CalInfo!$A$4:$A$8,FALSE)),IF($X$2=\"yes\",(INDEX($Z$3:$Z$21,MATCH(\"Dilution prep\",$L$3:$L$21,FALSE))-VLOOKUP(INDEX($Z$3:$Z$21,MATCH(\"Dilution prep\",$L$3:$L$21,FALSE))-0.001,$Z$3:$Z$21,1,TRUE))*INDEX($I$3:$I$19,MATCH(L12,$E$3:$E$19,FALSE))*1000/INDEX(CalInfo!$B$4:$B$8,MATCH($X$1,CalInfo!$A$4:$A$8,FALSE)),(Z12-MAX($Z$2:Z11))*1000*INDEX(CalInfo!$J$19:$J$33,MATCH(\"Compound \"&D12,CalInfo!$L$19:$L$33,FALSE))/INDEX(CalInfo!$B$4:$B$8,MATCH($X$1,CalInfo!$A$4:$A$8,FALSE))))))","v":""},null,null,{"$f":"IF(L12=\"\",\"\",IF(L12=\"QS to Volume\",\"To \"&INDEX(CalInfo!$B$4:$B$8,MATCH($AC$1,CalInfo!$A$4:$A$8,FALSE))&\" mL\",IF(OR(D12=\"STD Count\",D12=\"Solvent\",D12=\"Internal Standard\"),INDEX(Backend!$M$2:$Q$4,MATCH('Cal Prep'!D12,Backend!$L$2:$L$5,FALSE),MATCH($AC$1,Backend!$M$1:$Q$1,FALSE)),IF(AND($AC$2=\"No\",L12=\"Dilution Prep\"),\"-\",IF(L12=\"Dilution Prep\",(INDEX(CalInfo!$B$4:$B$8,MATCH($AC$1,CalInfo!$A$4:$A$8,FALSE))*$AC$1)*1000/CalInfo!$A$14&\" uL\",IF($AC$2=\"yes\",\"-\",IF(C12=\"Solid\",ROUND($AC$1*INDEX(CalInfo!$B$4:$B$8,MATCH($AC$1,CalInfo!$A$4:$A$8,FALSE))/(IF(ISNUMBER(D12),INDEX(CalInfo!$J$19:$J$33,MATCH(\"Compound \"&D12,CalInfo!$L$19:$L$33,FALSE)),\"\")*1000),3)&\" g\",ROUND(($AC$1*1000*INDEX(CalInfo!$B$4:$B$8,MATCH($AC$1,CalInfo!$A$4:$A$8,FALSE))/INDEX(Compounds!C:C,MATCH(L12,Compounds!A:A,FALSE)))/1000/5,0)*5&\" uL\")))))))","v":""},null,{"$f":"IF(OR(AND(D12=\"\",L12<>\"\"),D12=\"Solvent\",D12=\"STD Count\",L12=\"Dilution Prep\"),\"-\",IF(AE12=\"\",\"\",IF(D12=\"Internal Standard\",(AE12-MAX($AE$2:AE11))*1000*INDEX(CalInfo!$J$19:$J$33,MATCH(D12,CalInfo!$A$19:$A$33,FALSE))/INDEX(CalInfo!$B$4:$B$8,MATCH($AC$1,CalInfo!$A$4:$A$8,FALSE)),IF($AC$2=\"yes\",(INDEX($AE$3:$AE$21,MATCH(\"Dilution prep\",$L$3:$L$21,FALSE))-VLOOKUP(INDEX($AE$3:$AE$21,MATCH(\"Dilution prep\",$L$3:$L$21,FALSE))-0.001,$AE$3:$AE$21,1,TRUE))*INDEX($I$3:$I$19,MATCH(L12,$E$3:$E$19,FALSE))*1000/INDEX(CalInfo!$B$4:$B$8,MATCH($AC$1,CalInfo!$A$4:$A$8,FALSE)),(AE12-MAX($AE$2:AE11))*1000*INDEX(CalInfo!$J$19:$J$33,MATCH(\"Compound \"&D12,CalInfo!$L$19:$L$33,FALSE))/INDEX(CalInfo!$B$4:$B$8,MATCH($AC$1,CalInfo!$A$4:$A$8,FALSE))))))","v":""},null,null,{"$f":"IF(L12=\"\",\"\",IF(L12=\"QS to Volume\",\"To \"&INDEX(CalInfo!$B$4:$B$8,MATCH($AH$1,CalInfo!$A$4:$A$8,FALSE))&\" mL\",IF(OR(D12=\"STD Count\",D12=\"Solvent\",D12=\"Internal Standard\"),INDEX(Backend!$M$2:$Q$4,MATCH('Cal Prep'!D12,Backend!$L$2:$L$5,FALSE),MATCH($AH$1,Backend!$M$1:$Q$1,FALSE)),IF(AND($AH$2=\"No\",L12=\"Dilution Prep\"),\"-\",IF(L12=\"Dilution Prep\",(INDEX(CalInfo!$B$4:$B$8,MATCH($AH$1,CalInfo!$A$4:$A$8,FALSE))*$AH$1)*1000/CalInfo!$A$14&\" uL\",IF($AH$2=\"yes\",\"-\",IF(C12=\"Solid\",ROUND($AH$1*INDEX(CalInfo!$B$4:$B$8,MATCH($AH$1,CalInfo!$A$4:$A$8,FALSE))/(IF(ISNUMBER(D12),INDEX(CalInfo!$J$19:$J$33,MATCH(\"Compound \"&D12,CalInfo!$L$19:$L$33,FALSE)),\"\")*1000),3)&\" g\",ROUND(($AH$1*1000*INDEX(CalInfo!$B$4:$B$8,MATCH($AH$1,CalInfo!$A$4:$A$8,FALSE))/INDEX(Compounds!C:C,MATCH(L12,Compounds!A:A,FALSE)))/1000/5,0)*5&\" uL\")))))))","v":""},null,{"$f":"IF(OR(AND(D12=\"\",L12<>\"\"),D12=\"Solvent\",D12=\"STD Count\",L12=\"Dilution Prep\"),\"-\",IF(AJ12=\"\",\"\",IF(D12=\"Internal Standard\",(AJ12-MAX($AJ$2:AJ11))*1000*INDEX(CalInfo!$J$19:$J$33,MATCH(D12,CalInfo!$A$19:$A$33,FALSE))/INDEX(CalInfo!$B$4:$B$8,MATCH($AH$1,CalInfo!$A$4:$A$8,FALSE)),IF($AH$2=\"yes\",(INDEX($AJ$3:$AJ$21,MATCH(\"Dilution prep\",$L$3:$L$21,FALSE))-VLOOKUP(INDEX($AJ$3:$AJ$21,MATCH(\"Dilution prep\",$L$3:$L$21,FALSE))-0.001,$AJ$3:$AJ$21,1,TRUE))*INDEX($I$3:$I$19,MATCH(L12,$E$3:$E$19,FALSE))*1000/INDEX(CalInfo!$B$4:$B$8,MATCH($AH$1,CalInfo!$A$4:$A$8,FALSE)),(AJ12-MAX($AJ$2:AJ11))*1000*INDEX(CalInfo!$J$19:$J$33,MATCH(\"Compound \"&D12,CalInfo!$L$19:$L$33,FALSE))/INDEX(CalInfo!$B$4:$B$8,MATCH($AH$1,CalInfo!$A$4:$A$8,FALSE))))))","v":""}]
[{"$f":"IF(OR(B13=\"\",B13=\"Solvent\"),\"\",INDEX(CalInfo!$E$19:$E$33,MATCH(\"Compound \"&'Cal Prep'!B13,CalInfo!$L$19:$L$33,FALSE)))","v":""},{"$f":"IF(MAX($B$4:B12)<CalInfo!$O$26,MAX('Cal Prep'!$B$4:B12)+1,\"\")","v":""},{"$f":"IF(OR(D13=\"\",D13=\"Solvent\",D13=\"Internal Standard\",D13=\"Dilution\"),\"\",INDEX(CalInfo!$E$19:$E$33,MATCH(\"Compound \"&'Cal Prep'!D13,CalInfo!$L$19:$L$33,FALSE)))","v":""},{"$f":"IF(MAX($D$4:D12)<CalInfo!$O$26,MAX('Cal Prep'!$D$4:D12)+1,\"\")","v":""},{"$f":"IF(AND(B13=\"\",B12=CalInfo!$O$26),\"QS to Volume\",IF(B13=\"\",\"\",INDEX(CalInfo!$B$19:$B$33,MATCH(\"Compound \"&B13,CalInfo!$L$19:$L$33,FALSE))))","v":""},{"$f":"IF(E13=\"\",\"\",IF(A13=\"Solid\",ROUND((CalInfo!$A$14*CalInfo!$B$14)/(INDEX(CalInfo!$J$19:$J$33,MATCH(\"Compound \"&B13,CalInfo!$L$19:$L$33,FALSE))*1000),3)&\" g\",IF(ISNUMBER(B13),ROUND((CalInfo!$A$14*CalInfo!$B$14)*1000/(INDEX(CalInfo!$H$19:$H$33,MATCH(\"Compound \"&B13,CalInfo!$L$19:$L$33,FALSE))*1000*INDEX(CalInfo!$J$19:$J$33,MATCH(\"Compound \"&B13,CalInfo!$L$19:$L$33,FALSE)))/5,0)*5&\" uL\",IF(B13=\"Solvent\",\"~\"&CalInfo!$B$14/2.5&\" mL\",IF(RIGHT(E13,5)=\"Flask\",\"-\",IF(E13=\"QS to Volume\",\"To \"&CalInfo!$B$14&\" mL\",\"\"))))))","v":""},null,{"$f":"IF(OR(AND(B13=\"\",E13<>\"\"),B13=\"Solvent\",B13=\"Dil Count\"),\"-\",IF(G13=\"\",\"\",(G13-MAX($G$2:G12))*1000*INDEX(CalInfo!$J$19:$J$33,MATCH(\"Compound \"&B13,CalInfo!$L$19:$L$33,FALSE))/CalInfo!$B$14))","v":""},{"$f":"IF(ISNUMBER(B13),INDEX(CalInfo!$J$19:$J$33,MATCH(\"Compound \"&B13,CalInfo!$L$19:$L$33,FALSE))*(G13-MAX($G$2:G12))/(MAX($G$3:$G$19)-MIN($G$3:$G$19)),\"\")","v":""},null,null,"",null,null,{"$f":"IF(L13=\"\",\"\",IF(L13=\"QS to Volume\",\"To \"&INDEX(CalInfo!$B$4:$B$8,MATCH($N$1,CalInfo!$A$4:$A$8,FALSE))&\" mL\",IF(OR(D13=\"STD Count\",D13=\"Solvent\",D13=\"Internal Standard\"),INDEX(Backend!$M$2:$Q$4,MATCH('Cal Prep'!D13,Backend!$L$2:$L$5,FALSE),MATCH($N$1,Backend!$M$1:$Q$1,FALSE)),IF(AND($N$2=\"No\",L13=\"Dilution Prep\"),\"-\",IF(L13=\"Dilution Prep\",(INDEX(CalInfo!$B$4:$B$8,MATCH($N$1,CalInfo!$A$4:$A$8,FALSE))*$N$1)*1000/CalInfo!$A$14&\" uL\",IF($N$2=\"yes\",\"-\",IF(C13=\"Solid\",ROUND($N$1*INDEX(CalInfo!$B$4:$B$8,MATCH($N$1,CalInfo!$A$4:$A$8,FALSE))/(IF(ISNUMBER(D13),INDEX(CalInfo!$J$19:$J$33,MATCH(\"Compound \"&D13,CalInfo!$L$19:$L$33,FALSE)),\"\")*1000),3)&\" g\",ROUND(($N$1*1000*INDEX(CalInfo!$B$4:$B$8,MATCH($N$1,CalInfo!$A$4:$A$8,FALSE))/INDEX(Compounds!C:C,MATCH(L13,Compounds!A:A,FALSE)))/1000/5,0)*5&\" uL\")))))))","v":""},null,{"$f":"IF(OR(AND(D13=\"\",L13<>\"\"),D13=\"Solvent\",D13=\"STD Count\",L13=\"Dilution Prep\"),\"-\",IF(P13=\"\",\"\",IF(D13=\"Internal Standard\",(P13-MAX($P$2:P12))*1000*INDEX(CalInfo!$J$19:$J$33,MATCH(D13,CalInfo!$A$19:$A$33,FALSE))/INDEX(CalInfo!$B$4:$B$8,MATCH($N$1,CalInfo!$A$4:$A$8,FALSE)),IF($N$2=\"yes\",(INDEX($P$3:$P$21,MATCH(\"Dilution prep\",$L$3:$L$21,FALSE))-VLOOKUP(INDEX($P$3:$P$21,MATCH(\"Dilution prep\",$L$3:$L$21,FALSE))-0.001,$P$3:$P$21,1,TRUE))*INDEX($I$3:$I$19,MATCH(L13,$E$3:$E$19,FALSE))*1000/INDEX(CalInfo!$B$4:$B$8,MATCH($N$1,CalInfo!$A$4:$A$8,FALSE)),(P13-MAX($P$2:P12))*1000*INDEX(CalInfo!$J$19:$J$33,MATCH(\"Compound \"&D13,CalInfo!$L$19:$L$33,FALSE))/INDEX(CalInfo!$B$4:$B$8,MATCH($N$1,CalInfo!$A$4:$A$8,FALSE))))))","v":""},null,null,{"$f":"IF(L13=\"\",\"\",IF(L13=\"QS to Volume\",\"To \"&INDEX(CalInfo!$B$4:$B$8,MATCH($S$1,CalInfo!$A$4:$A$8,FALSE))&\" mL\",IF(OR(D13=\"STD Count\",D13=\"Solvent\",D13=\"Internal Standard\"),INDEX(Backend!$M$2:$Q$4,MATCH('Cal Prep'!D13,Backend!$L$2:$L$5,FALSE),MATCH($S$1,Backend!$M$1:$Q$1,FALSE)),IF(AND($S$2=\"No\",L13=\"Dilution Prep\"),\"-\",IF(L13=\"Dilution Prep\",(INDEX(CalInfo!$B$4:$B$8,MATCH($S$1,CalInfo!$A$4:$A$8,FALSE))*$S$1)*1000/CalInfo!$A$14&\" uL\",IF($S$2=\"yes\",\"-\",IF(C13=\"Solid\",ROUND($S$1*INDEX(CalInfo!$B$4:$B$8,MATCH($S$1,CalInfo!$A$4:$A$8,FALSE))/(IF(ISNUMBER(D13),INDEX(CalInfo!$J$19:$J$33,MATCH(\"Compound \"&D13,CalInfo!$L$19:$L$33,FALSE)),\"\")*1000),3)&\" g\",ROUND(($S$1*1000*INDEX(CalInfo!$B$4:$B$8,MATCH($S$1,CalInfo!$A$4:$A$8,FALSE))/INDEX(Compounds!C:C,MATCH(L13,Compounds!A:A,FALSE)))/1000/5,0)*5&\" uL\")))))))","v":""},null,{"$f":"IF(OR(AND(D13=\"\",L13<>\"\"),D13=\"Solvent\",D13=\"STD Count\",L13=\"Dilution Prep\"),\"-\",IF(U13=\"\",\"\",IF(D13=\"Internal Standard\",(U13-MAX($U$2:U12))*1000*INDEX(CalInfo!$J$19:$J$33,MATCH(D13,CalInfo!$A$19:$A$33,FALSE))/INDEX(CalInfo!$B$4:$B$8,MATCH($S$1,CalInfo!$A$4:$A$8,FALSE)),IF($S$2=\"yes\",(INDEX($U$3:$U$21,MATCH(\"Dilution prep\",$L$3:$L$21,FALSE))-VLOOKUP(INDEX($U$3:$U$21,MATCH(\"Dilution prep\",$L$3:$L$21,FALSE))-0.001,$U$3:$U$21,1,TRUE))*INDEX($I$3:$I$19,MATCH(L13,$E$3:$E$19,FALSE))*1000/INDEX(CalInfo!$B$4:$B$8,MATCH($S$1,CalInfo!$A$4:$A$8,FALSE)),(U13-MAX($U$2:U12))*1000*INDEX(CalInfo!$J$19:$J$33,MATCH(\"Compound \"&D13,CalInfo!$L$19:$L$33,FALSE))/INDEX(CalInfo!$B$4:$B$8,MATCH($S$1,CalInfo!$A$4:$A$8,FALSE))))))","v":""},null,null,{"$f":"IF(L13=\"\",\"\",IF(L13=\"QS to Volume\",\"To \"&INDEX(CalInfo!$B$4:$B$8,MATCH($X$1,CalInfo!$A$4:$A$8,FALSE))&\" mL\",IF(OR(D13=\"STD Count\",D13=\"Solvent\",D13=\"Internal Standard\"),INDEX(Backend!$M$2:$Q$4,MATCH('Cal Prep'!D13,Backend!$L$2:$L$5,FALSE),MATCH($X$1,Backend!$M$1:$Q$1,FALSE)),IF(AND($X$2=\"No\",L13=\"Dilution Prep\"),\"-\",IF(L13=\"Dilution Prep\",(INDEX(CalInfo!$B$4:$B$8,MATCH($X$1,CalInfo!$A$4:$A$8,FALSE))*$X$1)*1000/CalInfo!$A$14&\" uL\",IF($X$2=\"yes\",\"-\",IF(C13=\"Solid\",ROUND($X$1*INDEX(CalInfo!$B$4:$B$8,MATCH($X$1,CalInfo!$A$4:$A$8,FALSE))/(IF(ISNUMBER(D13),INDEX(CalInfo!$J$19:$J$33,MATCH(\"Compound \"&D13,CalInfo!$L$19:$L$33,FALSE)),\"\")*1000),3)&\" g\",ROUND(($X$1*1000*INDEX(CalInfo!$B$4:$B$8,MATCH($X$1,CalInfo!$A$4:$A$8,FALSE))/INDEX(Compounds!C:C,MATCH(L13,Compounds!A:A,FALSE)))/1000/5,0)*5&\" uL\")))))))","v":""},null,{"$f":"IF(OR(AND(D13=\"\",L13<>\"\"),D13=\"Solvent\",D13=\"STD Count\",L13=\"Dilution Prep\"),\"-\",IF(Z13=\"\",\"\",IF(D13=\"Internal Standard\",(Z13-MAX($Z$2:Z12))*1000*INDEX(CalInfo!$J$19:$J$33,MATCH(D13,CalInfo!$A$19:$A$33,FALSE))/INDEX(CalInfo!$B$4:$B$8,MATCH($X$1,CalInfo!$A$4:$A$8,FALSE)),IF($X$2=\"yes\",(INDEX($Z$3:$Z$21,MATCH(\"Dilution prep\",$L$3:$L$21,FALSE))-VLOOKUP(INDEX($Z$3:$Z$21,MATCH(\"Dilution prep\",$L$3:$L$21,FALSE))-0.001,$Z$3:$Z$21,1,TRUE))*INDEX($I$3:$I$19,MATCH(L13,$E$3:$E$19,FALSE))*1000/INDEX(CalInfo!$B$4:$B$8,MATCH($X$1,CalInfo!$A$4:$A$8,FALSE)),(Z13-MAX($Z$2:Z12))*1000*INDEX(CalInfo!$J$19:$J$33,MATCH(\"Compound \"&D13,CalInfo!$L$19:$L$33,FALSE))/INDEX(CalInfo!$B$4:$B$8,MATCH($X$1,CalInfo!$A$4:$A$8,FALSE))))))","v":""},null,null,{"$f":"IF(L13=\"\",\"\",IF(L13=\"QS to Volume\",\"To \"&INDEX(CalInfo!$B$4:$B$8,MATCH($AC$1,CalInfo!$A$4:$A$8,FALSE))&\" mL\",IF(OR(D13=\"STD Count\",D13=\"Solvent\",D13=\"Internal Standard\"),INDEX(Backend!$M$2:$Q$4,MATCH('Cal Prep'!D13,Backend!$L$2:$L$5,FALSE),MATCH($AC$1,Backend!$M$1:$Q$1,FALSE)),IF(AND($AC$2=\"No\",L13=\"Dilution Prep\"),\"-\",IF(L13=\"Dilution Prep\",(INDEX(CalInfo!$B$4:$B$8,MATCH($AC$1,CalInfo!$A$4:$A$8,FALSE))*$AC$1)*1000/CalInfo!$A$14&\" uL\",IF($AC$2=\"yes\",\"-\",IF(C13=\"Solid\",ROUND($AC$1*INDEX(CalInfo!$B$4:$B$8,MATCH($AC$1,CalInfo!$A$4:$A$8,FALSE))/(IF(ISNUMBER(D13),INDEX(CalInfo!$J$19:$J$33,MATCH(\"Compound \"&D13,CalInfo!$L$19:$L$33,FALSE)),\"\")*1000),3)&\" g\",ROUND(($AC$1*1000*INDEX(CalInfo!$B$4:$B$8,MATCH($AC$1,CalInfo!$A$4:$A$8,FALSE))/INDEX(Compounds!C:C,MATCH(L13,Compounds!A:A,FALSE)))/1000/5,0)*5&\" uL\")))))))","v":""},null,{"$f":"IF(OR(AND(D13=\"\",L13<>\"\"),D13=\"Solvent\",D13=\"STD Count\",L13=\"Dilution Prep\"),\"-\",IF(AE13=\"\",\"\",IF(D13=\"Internal Standard\",(AE13-MAX($AE$2:AE12))*1000*INDEX(CalInfo!$J$19:$J$33,MATCH(D13,CalInfo!$A$19:$A$33,FALSE))/INDEX(CalInfo!$B$4:$B$8,MATCH($AC$1,CalInfo!$A$4:$A$8,FALSE)),IF($AC$2=\"yes\",(INDEX($AE$3:$AE$21,MATCH(\"Dilution prep\",$L$3:$L$21,FALSE))-VLOOKUP(INDEX($AE$3:$AE$21,MATCH(\"Dilution prep\",$L$3:$L$21,FALSE))-0.001,$AE$3:$AE$21,1,TRUE))*INDEX($I$3:$I$19,MATCH(L13,$E$3:$E$19,FALSE))*1000/INDEX(CalInfo!$B$4:$B$8,MATCH($AC$1,CalInfo!$A$4:$A$8,FALSE)),(AE13-MAX($AE$2:AE12))*1000*INDEX(CalInfo!$J$19:$J$33,MATCH(\"Compound \"&D13,CalInfo!$L$19:$L$33,FALSE))/INDEX(CalInfo!$B$4:$B$8,MATCH($AC$1,CalInfo!$A$4:$A$8,FALSE))))))","v":""},null,null,{"$f":"IF(L13=\"\",\"\",IF(L13=\"QS to Volume\",\"To \"&INDEX(CalInfo!$B$4:$B$8,MATCH($AH$1,CalInfo!$A$4:$A$8,FALSE))&\" mL\",IF(OR(D13=\"STD Count\",D13=\"Solvent\",D13=\"Internal Standard\"),INDEX(Backend!$M$2:$Q$4,MATCH('Cal Prep'!D13,Backend!$L$2:$L$5,FALSE),MATCH($AH$1,Backend!$M$1:$Q$1,FALSE)),IF(AND($AH$2=\"No\",L13=\"Dilution Prep\"),\"-\",IF(L13=\"Dilution Prep\",(INDEX(CalInfo!$B$4:$B$8,MATCH($AH$1,CalInfo!$A$4:$A$8,FALSE))*$AH$1)*1000/CalInfo!$A$14&\" uL\",IF($AH$2=\"yes\",\"-\",IF(C13=\"Solid\",ROUND($AH$1*INDEX(CalInfo!$B$4:$B$8,MATCH($AH$1,CalInfo!$A$4:$A$8,FALSE))/(IF(ISNUMBER(D13),INDEX(CalInfo!$J$19:$J$33,MATCH(\"Compound \"&D13,CalInfo!$L$19:$L$33,FALSE)),\"\")*1000),3)&\" g\",ROUND(($AH$1*1000*INDEX(CalInfo!$B$4:$B$8,MATCH($AH$1,CalInfo!$A$4:$A$8,FALSE))/INDEX(Compounds!C:C,MATCH(L13,Compounds!A:A,FALSE)))/1000/5,0)*5&\" uL\")))))))","v":""},null,{"$f":"IF(OR(AND(D13=\"\",L13<>\"\"),D13=\"Solvent\",D13=\"STD Count\",L13=\"Dilution Prep\"),\"-\",IF(AJ13=\"\",\"\",IF(D13=\"Internal Standard\",(AJ13-MAX($AJ$2:AJ12))*1000*INDEX(CalInfo!$J$19:$J$33,MATCH(D13,CalInfo!$A$19:$A$33,FALSE))/INDEX(CalInfo!$B$4:$B$8,MATCH($AH$1,CalInfo!$A$4:$A$8,FALSE)),IF($AH$2=\"yes\",(INDEX($AJ$3:$AJ$21,MATCH(\"Dilution prep\",$L$3:$L$21,FALSE))-VLOOKUP(INDEX($AJ$3:$AJ$21,MATCH(\"Dilution prep\",$L$3:$L$21,FALSE))-0.001,$AJ$3:$AJ$21,1,TRUE))*INDEX($I$3:$I$19,MATCH(L13,$E$3:$E$19,FALSE))*1000/INDEX(CalInfo!$B$4:$B$8,MATCH($AH$1,CalInfo!$A$4:$A$8,FALSE)),(AJ13-MAX($AJ$2:AJ12))*1000*INDEX(CalInfo!$J$19:$J$33,MATCH(\"Compound \"&D13,CalInfo!$L$19:$L$33,FALSE))/INDEX(CalInfo!$B$4:$B$8,MATCH($AH$1,CalInfo!$A$4:$A$8,FALSE))))))","v":""}]
[{"$f":"IF(OR(B14=\"\",B14=\"Solvent\"),\"\",INDEX(CalInfo!$E$19:$E$33,MATCH(\"Compound \"&'Cal Prep'!B14,CalInfo!$L$19:$L$33,FALSE)))","v":""},{"$f":"IF(MAX($B$4:B13)<CalInfo!$O$26,MAX('Cal Prep'!$B$4:B13)+1,\"\")","v":""},{"$f":"IF(OR(D14=\"\",D14=\"Solvent\",D14=\"Internal Standard\",D14=\"Dilution\"),\"\",INDEX(CalInfo!$E$19:$E$33,MATCH(\"Compound \"&'Cal Prep'!D14,CalInfo!$L$19:$L$33,FALSE)))","v":""},{"$f":"IF(MAX($D$4:D13)<CalInfo!$O$26,MAX('Cal Prep'!$D$4:D13)+1,\"\")","v":""},{"$f":"IF(AND(B14=\"\",B13=CalInfo!$O$26),\"QS to Volume\",IF(B14=\"\",\"\",INDEX(CalInfo!$B$19:$B$33,MATCH(\"Compound \"&B14,CalInfo!$L$19:$L$33,FALSE))))","v":""},{"$f":"IF(E14=\"\",\"\",IF(A14=\"Solid\",ROUND((CalInfo!$A$14*CalInfo!$B$14)/(INDEX(CalInfo!$J$19:$J$33,MATCH(\"Compound \"&B14,CalInfo!$L$19:$L$33,FALSE))*1000),3)&\" g\",IF(ISNUMBER(B14),ROUND((CalInfo!$A$14*CalInfo!$B$14)*1000/(INDEX(CalInfo!$H$19:$H$33,MATCH(\"Compound \"&B14,CalInfo!$L$19:$L$33,FALSE))*1000*INDEX(CalInfo!$J$19:$J$33,MATCH(\"Compound \"&B14,CalInfo!$L$19:$L$33,FALSE)))/5,0)*5&\" uL\",IF(B14=\"Solvent\",\"~\"&CalInfo!$B$14/2.5&\" mL\",IF(RIGHT(E14,5)=\"Flask\",\"-\",IF(E14=\"QS to Volume\",\"To \"&CalInfo!$B$14&\" mL\",\"\"))))))","v":""},null,{"$f":"IF(OR(AND(B14=\"\",E14<>\"\"),B14=\"Solvent\",B14=\"Dil Count\"),\"-\",IF(G14=\"\",\"\",(G14-MAX($G$2:G13))*1000*INDEX(CalInfo!$J$19:$J$33,MATCH(\"Compound \"&B14,CalInfo!$L$19:$L$33,FALSE))/CalInfo!$B$14))","v":""},{"$f":"IF(ISNUMBER(B14),INDEX(CalInfo!$J$19:$J$33,MATCH(\"Compound \"&B14,CalInfo!$L$19:$L$33,FALSE))*(G14-MAX($G$2:G13))/(MAX($G$3:$G$19)-MIN($G$3:$G$19)),\"\")","v":""},null,null,"",null,null,{"$f":"IF(L14=\"\",\"\",IF(L14=\"QS to Volume\",\"To \"&INDEX(CalInfo!$B$4:$B$8,MATCH($N$1,CalInfo!$A$4:$A$8,FALSE))&\" mL\",IF(OR(D14=\"STD Count\",D14=\"Solvent\",D14=\"Internal Standard\"),INDEX(Backend!$M$2:$Q$4,MATCH('Cal Prep'!D14,Backend!$L$2:$L$5,FALSE),MATCH($N$1,Backend!$M$1:$Q$1,FALSE)),IF(AND($N$2=\"No\",L14=\"Dilution Prep\"),\"-\",IF(L14=\"Dilution Prep\",(INDEX(CalInfo!$B$4:$B$8,MATCH($N$1,CalInfo!$A$4:$A$8,FALSE))*$N$1)*1000/CalInfo!$A$14&\" uL\",IF($N$2=\"yes\",\"-\",IF(C14=\"Solid\",ROUND($N$1*INDEX(CalInfo!$B$4:$B$8,MATCH($N$1,CalInfo!$A$4:$A$8,FALSE))/(IF(ISNUMBER(D14),INDEX(CalInfo!$J$19:$J$33,MATCH(\"Compound \"&D14,CalInfo!$L$19:$L$33,FALSE)),\"\")*1000),3)&\" g\",ROUND(($N$1*1000*INDEX(CalInfo!$B$4:$B$8,MATCH($N$1,CalInfo!$A$4:$A$8,FALSE))/INDEX(Compounds!C:C,MATCH(L14,Compounds!A:A,FALSE)))/1000/5,0)*5&\" uL\")))))))","v":""},null,{"$f":"IF(OR(AND(D14=\"\",L14<>\"\"),D14=\"Solvent\",D14=\"STD Count\",L14=\"Dilution Prep\"),\"-\",IF(P14=\"\",\"\",IF(D14=\"Internal Standard\",(P14-MAX($P$2:P13))*1000*INDEX(CalInfo!$J$19:$J$33,MATCH(D14,CalInfo!$A$19:$A$33,FALSE))/INDEX(CalInfo!$B$4:$B$8,MATCH($N$1,CalInfo!$A$4:$A$8,FALSE)),IF($N$2=\"yes\",(INDEX($P$3:$P$21,MATCH(\"Dilution prep\",$L$3:$L$21,FALSE))-VLOOKUP(INDEX($P$3:$P$21,MATCH(\"Dilution prep\",$L$3:$L$21,FALSE))-0.001,$P$3:$P$21,1,TRUE))*INDEX($I$3:$I$19,MATCH(L14,$E$3:$E$19,FALSE))*1000/INDEX(CalInfo!$B$4:$B$8,MATCH($N$1,CalInfo!$A$4:$A$8,FALSE)),(P14-MAX($P$2:P13))*1000*INDEX(CalInfo!$J$19:$J$33,MATCH(\"Compound \"&D14,CalInfo!$L$19:$L$33,FALSE))/INDEX(CalInfo!$B$4:$B$8,MATCH($N$1,CalInfo!$A$4:$A$8,FALSE))))))","v":""},null,null,{"$f":"IF(L14=\"\",\"\",IF(L14=\"QS to Volume\",\"To \"&INDEX(CalInfo!$B$4:$B$8,MATCH($S$1,CalInfo!$A$4:$A$8,FALSE))&\" mL\",IF(OR(D14=\"STD Count\",D14=\"Solvent\",D14=\"Internal Standard\"),INDEX(Backend!$M$2:$Q$4,MATCH('Cal Prep'!D14,Backend!$L$2:$L$5,FALSE),MATCH($S$1,Backend!$M$1:$Q$1,FALSE)),IF(AND($S$2=\"No\",L14=\"Dilution Prep\"),\"-\",IF(L14=\"Dilution Prep\",(INDEX(CalInfo!$B$4:$B$8,MATCH($S$1,CalInfo!$A$4:$A$8,FALSE))*$S$1)*1000/CalInfo!$A$14&\" uL\",IF($S$2=\"yes\",\"-\",IF(C14=\"Solid\",ROUND($S$1*INDEX(CalInfo!$B$4:$B$8,MATCH($S$1,CalInfo!$A$4:$A$8,FALSE))/(IF(ISNUMBER(D14),INDEX(CalInfo!$J$19:$J$33,MATCH(\"Compound \"&D14,CalInfo!$L$19:$L$33,FALSE)),\"\")*1000),3)&\" g\",ROUND(($S$1*1000*INDEX(CalInfo!$B$4:$B$8,MATCH($S$1,CalInfo!$A$4:$A$8,FALSE))/INDEX(Compounds!C:C,MATCH(L14,Compounds!A:A,FALSE)))/1000/5,0)*5&\" uL\")))))))","v":""},null,{"$f":"IF(OR(AND(D14=\"\",L14<>\"\"),D14=\"Solvent\",D14=\"STD Count\",L14=\"Dilution Prep\"),\"-\",IF(U14=\"\",\"\",IF(D14=\"Internal Standard\",(U14-MAX($U$2:U13))*1000*INDEX(CalInfo!$J$19:$J$33,MATCH(D14,CalInfo!$A$19:$A$33,FALSE))/INDEX(CalInfo!$B$4:$B$8,MATCH($S$1,CalInfo!$A$4:$A$8,FALSE)),IF($S$2=\"yes\",(INDEX($U$3:$U$21,MATCH(\"Dilution prep\",$L$3:$L$21,FALSE))-VLOOKUP(INDEX($U$3:$U$21,MATCH(\"Dilution prep\",$L$3:$L$21,FALSE))-0.001,$U$3:$U$21,1,TRUE))*INDEX($I$3:$I$19,MATCH(L14,$E$3:$E$19,FALSE))*1000/INDEX(CalInfo!$B$4:$B$8,MATCH($S$1,CalInfo!$A$4:$A$8,FALSE)),(U14-MAX($U$2:U13))*1000*INDEX(CalInfo!$J$19:$J$33,MATCH(\"Compound \"&D14,CalInfo!$L$19:$L$33,FALSE))/INDEX(CalInfo!$B$4:$B$8,MATCH($S$1,CalInfo!$A$4:$A$8,FALSE))))))","v":""},null,null,{"$f":"IF(L14=\"\",\"\",IF(L14=\"QS to Volume\",\"To \"&INDEX(CalInfo!$B$4:$B$8,MATCH($X$1,CalInfo!$A$4:$A$8,FALSE))&\" mL\",IF(OR(D14=\"STD Count\",D14=\"Solvent\",D14=\"Internal Standard\"),INDEX(Backend!$M$2:$Q$4,MATCH('Cal Prep'!D14,Backend!$L$2:$L$5,FALSE),MATCH($X$1,Backend!$M$1:$Q$1,FALSE)),IF(AND($X$2=\"No\",L14=\"Dilution Prep\"),\"-\",IF(L14=\"Dilution Prep\",(INDEX(CalInfo!$B$4:$B$8,MATCH($X$1,CalInfo!$A$4:$A$8,FALSE))*$X$1)*1000/CalInfo!$A$14&\" uL\",IF($X$2=\"yes\",\"-\",IF(C14=\"Solid\",ROUND($X$1*INDEX(CalInfo!$B$4:$B$8,MATCH($X$1,CalInfo!$A$4:$A$8,FALSE))/(IF(ISNUMBER(D14),INDEX(CalInfo!$J$19:$J$33,MATCH(\"Compound \"&D14,CalInfo!$L$19:$L$33,FALSE)),\"\")*1000),3)&\" g\",ROUND(($X$1*1000*INDEX(CalInfo!$B$4:$B$8,MATCH($X$1,CalInfo!$A$4:$A$8,FALSE))/INDEX(Compounds!C:C,MATCH(L14,Compounds!A:A,FALSE)))/1000/5,0)*5&\" uL\")))))))","v":""},null,{"$f":"IF(OR(AND(D14=\"\",L14<>\"\"),D14=\"Solvent\",D14=\"STD Count\",L14=\"Dilution Prep\"),\"-\",IF(Z14=\"\",\"\",IF(D14=\"Internal Standard\",(Z14-MAX($Z$2:Z13))*1000*INDEX(CalInfo!$J$19:$J$33,MATCH(D14,CalInfo!$A$19:$A$33,FALSE))/INDEX(CalInfo!$B$4:$B$8,MATCH($X$1,CalInfo!$A$4:$A$8,FALSE)),IF($X$2=\"yes\",(INDEX($Z$3:$Z$21,MATCH(\"Dilution prep\",$L$3:$L$21,FALSE))-VLOOKUP(INDEX($Z$3:$Z$21,MATCH(\"Dilution prep\",$L$3:$L$21,FALSE))-0.001,$Z$3:$Z$21,1,TRUE))*INDEX($I$3:$I$19,MATCH(L14,$E$3:$E$19,FALSE))*1000/INDEX(CalInfo!$B$4:$B$8,MATCH($X$1,CalInfo!$A$4:$A$8,FALSE)),(Z14-MAX($Z$2:Z13))*1000*INDEX(CalInfo!$J$19:$J$33,MATCH(\"Compound \"&D14,CalInfo!$L$19:$L$33,FALSE))/INDEX(CalInfo!$B$4:$B$8,MATCH($X$1,CalInfo!$A$4:$A$8,FALSE))))))","v":""},null,null,{"$f":"IF(L14=\"\",\"\",IF(L14=\"QS to Volume\",\"To \"&INDEX(CalInfo!$B$4:$B$8,MATCH($AC$1,CalInfo!$A$4:$A$8,FALSE))&\" mL\",IF(OR(D14=\"STD Count\",D14=\"Solvent\",D14=\"Internal Standard\"),INDEX(Backend!$M$2:$Q$4,MATCH('Cal Prep'!D14,Backend!$L$2:$L$5,FALSE),MATCH($AC$1,Backend!$M$1:$Q$1,FALSE)),IF(AND($AC$2=\"No\",L14=\"Dilution Prep\"),\"-\",IF(L14=\"Dilution Prep\",(INDEX(CalInfo!$B$4:$B$8,MATCH($AC$1,CalInfo!$A$4:$A$8,FALSE))*$AC$1)*1000/CalInfo!$A$14&\" uL\",IF($AC$2=\"yes\",\"-\",IF(C14=\"Solid\",ROUND($AC$1*INDEX(CalInfo!$B$4:$B$8,MATCH($AC$1,CalInfo!$A$4:$A$8,FALSE))/(IF(ISNUMBER(D14),INDEX(CalInfo!$J$19:$J$33,MATCH(\"Compound \"&D14,CalInfo!$L$19:$L$33,FALSE)),\"\")*1000),3)&\" g\",ROUND(($AC$1*1000*INDEX(CalInfo!$B$4:$B$8,MATCH($AC$1,CalInfo!$A$4:$A$8,FALSE))/INDEX(Compounds!C:C,MATCH(L14,Compounds!A:A,FALSE)))/1000/5,0)*5&\" uL\")))))))","v":""},null,{"$f":"IF(OR(AND(D14=\"\",L14<>\"\"),D14=\"Solvent\",D14=\"STD Count\",L14=\"Dilution Prep\"),\"-\",IF(AE14=\"\",\"\",IF(D14=\"Internal Standard\",(AE14-MAX($AE$2:AE13))*1000*INDEX(CalInfo!$J$19:$J$33,MATCH(D14,CalInfo!$A$19:$A$33,FALSE))/INDEX(CalInfo!$B$4:$B$8,MATCH($AC$1,CalInfo!$A$4:$A$8,FALSE)),IF($AC$2=\"yes\",(INDEX($AE$3:$AE$21,MATCH(\"Dilution prep\",$L$3:$L$21,FALSE))-VLOOKUP(INDEX($AE$3:$AE$21,MATCH(\"Dilution prep\",$L$3:$L$21,FALSE))-0.001,$AE$3:$AE$21,1,TRUE))*INDEX($I$3:$I$19,MATCH(L14,$E$3:$E$19,FALSE))*1000/INDEX(CalInfo!$B$4:$B$8,MATCH($AC$1,CalInfo!$A$4:$A$8,FALSE)),(AE14-MAX($AE$2:AE13))*1000*INDEX(CalInfo!$J$19:$J$33,MATCH(\"Compound \"&D14,CalInfo!$L$19:$L$33,FALSE))/INDEX(CalInfo!$B$4:$B$8,MATCH($AC$1,CalInfo!$A$4:$A$8,FALSE))))))","v":""},null,null,{"$f":"IF(L14=\"\",\"\",IF(L14=\"QS to Volume\",\"To \"&INDEX(CalInfo!$B$4:$B$8,MATCH($AH$1,CalInfo!$A$4:$A$8,FALSE))&\" mL\",IF(OR(D14=\"STD Count\",D14=\"Solvent\",D14=\"Internal Standard\"),INDEX(Backend!$M$2:$Q$4,MATCH('Cal Prep'!D14,Backend!$L$2:$L$5,FALSE),MATCH($AH$1,Backend!$M$1:$Q$1,FALSE)),IF(AND($AH$2=\"No\",L14=\"Dilution Prep\"),\"-\",IF(L14=\"Dilution Prep\",(INDEX(CalInfo!$B$4:$B$8,MATCH($AH$1,CalInfo!$A$4:$A$8,FALSE))*$AH$1)*1000/CalInfo!$A$14&\" uL\",IF($AH$2=\"yes\",\"-\",IF(C14=\"Solid\",ROUND($AH$1*INDEX(CalInfo!$B$4:$B$8,MATCH($AH$1,CalInfo!$A$4:$A$8,FALSE))/(IF(ISNUMBER(D14),INDEX(CalInfo!$J$19:$J$33,MATCH(\"Compound \"&D14,CalInfo!$L$19:$L$33,FALSE)),\"\")*1000),3)&\" g\",ROUND(($AH$1*1000*INDEX(CalInfo!$B$4:$B$8,MATCH($AH$1,CalInfo!$A$4:$A$8,FALSE))/INDEX(Compounds!C:C,MATCH(L14,Compounds!A:A,FALSE)))/1000/5,0)*5&\" uL\")))))))","v":""},null,{"$f":"IF(OR(AND(D14=\"\",L14<>\"\"),D14=\"Solvent\",D14=\"STD Count\",L14=\"Dilution Prep\"),\"-\",IF(AJ14=\"\",\"\",IF(D14=\"Internal Standard\",(AJ14-MAX($AJ$2:AJ13))*1000*INDEX(CalInfo!$J$19:$J$33,MATCH(D14,CalInfo!$A$19:$A$33,FALSE))/INDEX(CalInfo!$B$4:$B$8,MATCH($AH$1,CalInfo!$A$4:$A$8,FALSE)),IF($AH$2=\"yes\",(INDEX($AJ$3:$AJ$21,MATCH(\"Dilution prep\",$L$3:$L$21,FALSE))-VLOOKUP(INDEX($AJ$3:$AJ$21,MATCH(\"Dilution prep\",$L$3:$L$21,FALSE))-0.001,$AJ$3:$AJ$21,1,TRUE))*INDEX($I$3:$I$19,MATCH(L14,$E$3:$E$19,FALSE))*1000/INDEX(CalInfo!$B$4:$B$8,MATCH($AH$1,CalInfo!$A$4:$A$8,FALSE)),(AJ14-MAX($AJ$2:AJ13))*1000*INDEX(CalInfo!$J$19:$J$33,MATCH(\"Compound \"&D14,CalInfo!$L$19:$L$33,FALSE))/INDEX(CalInfo!$B$4:$B$8,MATCH($AH$1,CalInfo!$A$4:$A$8,FALSE))))))","v":""}]
[{"$f":"IF(OR(B15=\"\",B15=\"Solvent\"),\"\",INDEX(CalInfo!$E$19:$E$33,MATCH(\"Compound \"&'Cal Prep'!B15,CalInfo!$L$19:$L$33,FALSE)))","v":""},{"$f":"IF(MAX($B$4:B14)<CalInfo!$O$26,MAX('Cal Prep'!$B$4:B14)+1,\"\")","v":""},{"$f":"IF(OR(D15=\"\",D15=\"Solvent\",D15=\"Internal Standard\",D15=\"Dilution\"),\"\",INDEX(CalInfo!$E$19:$E$33,MATCH(\"Compound \"&'Cal Prep'!D15,CalInfo!$L$19:$L$33,FALSE)))","v":""},{"$f":"IF(MAX($D$4:D14)<CalInfo!$O$26,MAX('Cal Prep'!$D$4:D14)+1,\"\")","v":""},{"$f":"IF(AND(B15=\"\",B14=CalInfo!$O$26),\"QS to Volume\",IF(B15=\"\",\"\",INDEX(CalInfo!$B$19:$B$33,MATCH(\"Compound \"&B15,CalInfo!$L$19:$L$33,FALSE))))","v":""},{"$f":"IF(E15=\"\",\"\",IF(A15=\"Solid\",ROUND((CalInfo!$A$14*CalInfo!$B$14)/(INDEX(CalInfo!$J$19:$J$33,MATCH(\"Compound \"&B15,CalInfo!$L$19:$L$33,FALSE))*1000),3)&\" g\",IF(ISNUMBER(B15),ROUND((CalInfo!$A$14*CalInfo!$B$14)*1000/(INDEX(CalInfo!$H$19:$H$33,MATCH(\"Compound \"&B15,CalInfo!$L$19:$L$33,FALSE))*1000*INDEX(CalInfo!$J$19:$J$33,MATCH(\"Compound \"&B15,CalInfo!$L$19:$L$33,FALSE)))/5,0)*5&\" uL\",IF(B15=\"Solvent\",\"~\"&CalInfo!$B$14/2.5&\" mL\",IF(RIGHT(E15,5)=\"Flask\",\"-\",IF(E15=\"QS to Volume\",\"To \"&CalInfo!$B$14&\" mL\",\"\"))))))","v":""},null,{"$f":"IF(OR(AND(B15=\"\",E15<>\"\"),B15=\"Solvent\",B15=\"Dil Count\"),\"-\",IF(G15=\"\",\"\",(G15-MAX($G$2:G14))*1000*INDEX(CalInfo!$J$19:$J$33,MATCH(\"Compound \"&B15,CalInfo!$L$19:$L$33,FALSE))/CalInfo!$B$14))","v":""},{"$f":"IF(ISNUMBER(B15),INDEX(CalInfo!$J$19:$J$33,MATCH(\"Compound \"&B15,CalInfo!$L$19:$L$33,FALSE))*(G15-MAX($G$2:G14))/(MAX($G$3:$G$19)-MIN($G$3:$G$19)),\"\")","v":""},null,null,"",null,null,{"$f":"IF(L15=\"\",\"\",IF(L15=\"QS to Volume\",\"To \"&INDEX(CalInfo!$B$4:$B$8,MATCH($N$1,CalInfo!$A$4:$A$8,FALSE))&\" mL\",IF(OR(D15=\"STD Count\",D15=\"Solvent\",D15=\"Internal Standard\"),INDEX(Backend!$M$2:$Q$4,MATCH('Cal Prep'!D15,Backend!$L$2:$L$5,FALSE),MATCH($N$1,Backend!$M$1:$Q$1,FALSE)),IF(AND($N$2=\"No\",L15=\"Dilution Prep\"),\"-\",IF(L15=\"Dilution Prep\",(INDEX(CalInfo!$B$4:$B$8,MATCH($N$1,CalInfo!$A$4:$A$8,FALSE))*$N$1)*1000/CalInfo!$A$14&\" uL\",IF($N$2=\"yes\",\"-\",IF(C15=\"Solid\",ROUND($N$1*INDEX(CalInfo!$B$4:$B$8,MATCH($N$1,CalInfo!$A$4:$A$8,FALSE))/(IF(ISNUMBER(D15),INDEX(CalInfo!$J$19:$J$33,MATCH(\"Compound \"&D15,CalInfo!$L$19:$L$33,FALSE)),\"\")*1000),3)&\" g\",ROUND(($N$1*1000*INDEX(CalInfo!$B$4:$B$8,MATCH($N$1,CalInfo!$A$4:$A$8,FALSE))/INDEX(Compounds!C:C,MATCH(L15,Compounds!A:A,FALSE)))/1000/5,0)*5&\" uL\")))))))","v":""},null,{"$f":"IF(OR(AND(D15=\"\",L15<>\"\"),D15=\"Solvent\",D15=\"STD Count\",L15=\"Dilution Prep\"),\"-\",IF(P15=\"\",\"\",IF(D15=\"Internal Standard\",(P15-MAX($P$2:P14))*1000*INDEX(CalInfo!$J$19:$J$33,MATCH(D15,CalInfo!$A$19:$A$33,FALSE))/INDEX(CalInfo!$B$4:$B$8,MATCH($N$1,CalInfo!$A$4:$A$8,FALSE)),IF($N$2=\"yes\",(INDEX($P$3:$P$21,MATCH(\"Dilution prep\",$L$3:$L$21,FALSE))-VLOOKUP(INDEX($P$3:$P$21,MATCH(\"Dilution prep\",$L$3:$L$21,FALSE))-0.001,$P$3:$P$21,1,TRUE))*INDEX($I$3:$I$19,MATCH(L15,$E$3:$E$19,FALSE))*1000/INDEX(CalInfo!$B$4:$B$8,MATCH($N$1,CalInfo!$A$4:$A$8,FALSE)),(P15-MAX($P$2:P14))*1000*INDEX(CalInfo!$J$19:$J$33,MATCH(\"Compound \"&D15,CalInfo!$L$19:$L$33,FALSE))/INDEX(CalInfo!$B$4:$B$8,MATCH($N$1,CalInfo!$A$4:$A$8,FALSE))))))","v":""},null,null,{"$f":"IF(L15=\"\",\"\",IF(L15=\"QS to Volume\",\"To \"&INDEX(CalInfo!$B$4:$B$8,MATCH($S$1,CalInfo!$A$4:$A$8,FALSE))&\" mL\",IF(OR(D15=\"STD Count\",D15=\"Solvent\",D15=\"Internal Standard\"),INDEX(Backend!$M$2:$Q$4,MATCH('Cal Prep'!D15,Backend!$L$2:$L$5,FALSE),MATCH($S$1,Backend!$M$1:$Q$1,FALSE)),IF(AND($S$2=\"No\",L15=\"Dilution Prep\"),\"-\",IF(L15=\"Dilution Prep\",(INDEX(CalInfo!$B$4:$B$8,MATCH($S$1,CalInfo!$A$4:$A$8,FALSE))*$S$1)*1000/CalInfo!$A$14&\" uL\",IF($S$2=\"yes\",\"-\",IF(C15=\"Solid\",ROUND($S$1*INDEX(CalInfo!$B$4:$B$8,MATCH($S$1,CalInfo!$A$4:$A$8,FALSE))/(IF(ISNUMBER(D15),INDEX(CalInfo!$J$19:$J$33,MATCH(\"Compound \"&D15,CalInfo!$L$19:$L$33,FALSE)),\"\")*1000),3)&\" g\",ROUND(($S$1*1000*INDEX(CalInfo!$B$4:$B$8,MATCH($S$1,CalInfo!$A$4:$A$8,FALSE))/INDEX(Compounds!C:C,MATCH(L15,Compounds!A:A,FALSE)))/1000/5,0)*5&\" uL\")))))))","v":""},null,{"$f":"IF(OR(AND(D15=\"\",L15<>\"\"),D15=\"Solvent\",D15=\"STD Count\",L15=\"Dilution Prep\"),\"-\",IF(U15=\"\",\"\",IF(D15=\"Internal Standard\",(U15-MAX($U$2:U14))*1000*INDEX(CalInfo!$J$19:$J$33,MATCH(D15,CalInfo!$A$19:$A$33,FALSE))/INDEX(CalInfo!$B$4:$B$8,MATCH($S$1,CalInfo!$A$4:$A$8,FALSE)),IF($S$2=\"yes\",(INDEX($U$3:$U$21,MATCH(\"Dilution prep\",$L$3:$L$21,FALSE))-VLOOKUP(INDEX($U$3:$U$21,MATCH(\"Dilution prep\",$L$3:$L$21,FALSE))-0.001,$U$3:$U$21,1,TRUE))*INDEX($I$3:$I$19,MATCH(L15,$E$3:$E$19,FALSE))*1000/INDEX(CalInfo!$B$4:$B$8,MATCH($S$1,CalInfo!$A$4:$A$8,FALSE)),(U15-MAX($U$2:U14))*1000*INDEX(CalInfo!$J$19:$J$33,MATCH(\"Compound \"&D15,CalInfo!$L$19:$L$33,FALSE))/INDEX(CalInfo!$B$4:$B$8,MATCH($S$1,CalInfo!$A$4:$A$8,FALSE))))))","v":""},null,null,{"$f":"IF(L15=\"\",\"\",IF(L15=\"QS to Volume\",\"To \"&INDEX(CalInfo!$B$4:$B$8,MATCH($X$1,CalInfo!$A$4:$A$8,FALSE))&\" mL\",IF(OR(D15=\"STD Count\",D15=\"Solvent\",D15=\"Internal Standard\"),INDEX(Backend!$M$2:$Q$4,MATCH('Cal Prep'!D15,Backend!$L$2:$L$5,FALSE),MATCH($X$1,Backend!$M$1:$Q$1,FALSE)),IF(AND($X$2=\"No\",L15=\"Dilution Prep\"),\"-\",IF(L15=\"Dilution Prep\",(INDEX(CalInfo!$B$4:$B$8,MATCH($X$1,CalInfo!$A$4:$A$8,FALSE))*$X$1)*1000/CalInfo!$A$14&\" uL\",IF($X$2=\"yes\",\"-\",IF(C15=\"Solid\",ROUND($X$1*INDEX(CalInfo!$B$4:$B$8,MATCH($X$1,CalInfo!$A$4:$A$8,FALSE))/(IF(ISNUMBER(D15),INDEX(CalInfo!$J$19:$J$33,MATCH(\"Compound \"&D15,CalInfo!$L$19:$L$33,FALSE)),\"\")*1000),3)&\" g\",ROUND(($X$1*1000*INDEX(CalInfo!$B$4:$B$8,MATCH($X$1,CalInfo!$A$4:$A$8,FALSE))/INDEX(Compounds!C:C,MATCH(L15,Compounds!A:A,FALSE)))/1000/5,0)*5&\" uL\")))))))","v":""},null,{"$f":"IF(OR(AND(D15=\"\",L15<>\"\"),D15=\"Solvent\",D15=\"STD Count\",L15=\"Dilution Prep\"),\"-\",IF(Z15=\"\",\"\",IF(D15=\"Internal Standard\",(Z15-MAX($Z$2:Z14))*1000*INDEX(CalInfo!$J$19:$J$33,MATCH(D15,CalInfo!$A$19:$A$33,FALSE))/INDEX(CalInfo!$B$4:$B$8,MATCH($X$1,CalInfo!$A$4:$A$8,FALSE)),IF($X$2=\"yes\",(INDEX($Z$3:$Z$21,MATCH(\"Dilution prep\",$L$3:$L$21,FALSE))-VLOOKUP(INDEX($Z$3:$Z$21,MATCH(\"Dilution prep\",$L$3:$L$21,FALSE))-0.001,$Z$3:$Z$21,1,TRUE))*INDEX($I$3:$I$19,MATCH(L15,$E$3:$E$19,FALSE))*1000/INDEX(CalInfo!$B$4:$B$8,MATCH($X$1,CalInfo!$A$4:$A$8,FALSE)),(Z15-MAX($Z$2:Z14))*1000*INDEX(CalInfo!$J$19:$J$33,MATCH(\"Compound \"&D15,CalInfo!$L$19:$L$33,FALSE))/INDEX(CalInfo!$B$4:$B$8,MATCH($X$1,CalInfo!$A$4:$A$8,FALSE))))))","v":""},null,null,{"$f":"IF(L15=\"\",\"\",IF(L15=\"QS to Volume\",\"To \"&INDEX(CalInfo!$B$4:$B$8,MATCH($AC$1,CalInfo!$A$4:$A$8,FALSE))&\" mL\",IF(OR(D15=\"STD Count\",D15=\"Solvent\",D15=\"Internal Standard\"),INDEX(Backend!$M$2:$Q$4,MATCH('Cal Prep'!D15,Backend!$L$2:$L$5,FALSE),MATCH($AC$1,Backend!$M$1:$Q$1,FALSE)),IF(AND($AC$2=\"No\",L15=\"Dilution Prep\"),\"-\",IF(L15=\"Dilution Prep\",(INDEX(CalInfo!$B$4:$B$8,MATCH($AC$1,CalInfo!$A$4:$A$8,FALSE))*$AC$1)*1000/CalInfo!$A$14&\" uL\",IF($AC$2=\"yes\",\"-\",IF(C15=\"Solid\",ROUND($AC$1*INDEX(CalInfo!$B$4:$B$8,MATCH($AC$1,CalInfo!$A$4:$A$8,FALSE))/(IF(ISNUMBER(D15),INDEX(CalInfo!$J$19:$J$33,MATCH(\"Compound \"&D15,CalInfo!$L$19:$L$33,FALSE)),\"\")*1000),3)&\" g\",ROUND(($AC$1*1000*INDEX(CalInfo!$B$4:$B$8,MATCH($AC$1,CalInfo!$A$4:$A$8,FALSE))/INDEX(Compounds!C:C,MATCH(L15,Compounds!A:A,FALSE)))/1000/5,0)*5&\" uL\")))))))","v":""},null,{"$f":"IF(OR(AND(D15=\"\",L15<>\"\"),D15=\"Solvent\",D15=\"STD Count\",L15=\"Dilution Prep\"),\"-\",IF(AE15=\"\",\"\",IF(D15=\"Internal Standard\",(AE15-MAX($AE$2:AE14))*1000*INDEX(CalInfo!$J$19:$J$33,MATCH(D15,CalInfo!$A$19:$A$33,FALSE))/INDEX(CalInfo!$B$4:$B$8,MATCH($AC$1,CalInfo!$A$4:$A$8,FALSE)),IF($AC$2=\"yes\",(INDEX($AE$3:$AE$21,MATCH(\"Dilution prep\",$L$3:$L$21,FALSE))-VLOOKUP(INDEX($AE$3:$AE$21,MATCH(\"Dilution prep\",$L$3:$L$21,FALSE))-0.001,$AE$3:$AE$21,1,TRUE))*INDEX($I$3:$I$19,MATCH(L15,$E$3:$E$19,FALSE))*1000/INDEX(CalInfo!$B$4:$B$8,MATCH($AC$1,CalInfo!$A$4:$A$8,FALSE)),(AE15-MAX($AE$2:AE14))*1000*INDEX(CalInfo!$J$19:$J$33,MATCH(\"Compound \"&D15,CalInfo!$L$19:$L$33,FALSE))/INDEX(CalInfo!$B$4:$B$8,MATCH($AC$1,CalInfo!$A$4:$A$8,FALSE))))))","v":""},null,null,{"$f":"IF(L15=\"\",\"\",IF(L15=\"QS to Volume\",\"To \"&INDEX(CalInfo!$B$4:$B$8,MATCH($AH$1,CalInfo!$A$4:$A$8,FALSE))&\" mL\",IF(OR(D15=\"STD Count\",D15=\"Solvent\",D15=\"Internal Standard\"),INDEX(Backend!$M$2:$Q$4,MATCH('Cal Prep'!D15,Backend!$L$2:$L$5,FALSE),MATCH($AH$1,Backend!$M$1:$Q$1,FALSE)),IF(AND($AH$2=\"No\",L15=\"Dilution Prep\"),\"-\",IF(L15=\"Dilution Prep\",(INDEX(CalInfo!$B$4:$B$8,MATCH($AH$1,CalInfo!$A$4:$A$8,FALSE))*$AH$1)*1000/CalInfo!$A$14&\" uL\",IF($AH$2=\"yes\",\"-\",IF(C15=\"Solid\",ROUND($AH$1*INDEX(CalInfo!$B$4:$B$8,MATCH($AH$1,CalInfo!$A$4:$A$8,FALSE))/(IF(ISNUMBER(D15),INDEX(CalInfo!$J$19:$J$33,MATCH(\"Compound \"&D15,CalInfo!$L$19:$L$33,FALSE)),\"\")*1000),3)&\" g\",ROUND(($AH$1*1000*INDEX(CalInfo!$B$4:$B$8,MATCH($AH$1,CalInfo!$A$4:$A$8,FALSE))/INDEX(Compounds!C:C,MATCH(L15,Compounds!A:A,FALSE)))/1000/5,0)*5&\" uL\")))))))","v":""},null,{"$f":"IF(OR(AND(D15=\"\",L15<>\"\"),D15=\"Solvent\",D15=\"STD Count\",L15=\"Dilution Prep\"),\"-\",IF(AJ15=\"\",\"\",IF(D15=\"Internal Standard\",(AJ15-MAX($AJ$2:AJ14))*1000*INDEX(CalInfo!$J$19:$J$33,MATCH(D15,CalInfo!$A$19:$A$33,FALSE))/INDEX(CalInfo!$B$4:$B$8,MATCH($AH$1,CalInfo!$A$4:$A$8,FALSE)),IF($AH$2=\"yes\",(INDEX($AJ$3:$AJ$21,MATCH(\"Dilution prep\",$L$3:$L$21,FALSE))-VLOOKUP(INDEX($AJ$3:$AJ$21,MATCH(\"Dilution prep\",$L$3:$L$21,FALSE))-0.001,$AJ$3:$AJ$21,1,TRUE))*INDEX($I$3:$I$19,MATCH(L15,$E$3:$E$19,FALSE))*1000/INDEX(CalInfo!$B$4:$B$8,MATCH($AH$1,CalInfo!$A$4:$A$8,FALSE)),(AJ15-MAX($AJ$2:AJ14))*1000*INDEX(CalInfo!$J$19:$J$33,MATCH(\"Compound \"&D15,CalInfo!$L$19:$L$33,FALSE))/INDEX(CalInfo!$B$4:$B$8,MATCH($AH$1,CalInfo!$A$4:$A$8,FALSE))))))","v":""}]
[{"$f":"IF(OR(B16=\"\",B16=\"Solvent\"),\"\",INDEX(CalInfo!$E$19:$E$33,MATCH(\"Compound \"&'Cal Prep'!B16,CalInfo!$L$19:$L$33,FALSE)))","v":""},{"$f":"IF(MAX($B$4:B15)<CalInfo!$O$26,MAX('Cal Prep'!$B$4:B15)+1,\"\")","v":""},{"$f":"IF(OR(D16=\"\",D16=\"Solvent\",D16=\"Internal Standard\",D16=\"Dilution\"),\"\",INDEX(CalInfo!$E$19:$E$33,MATCH(\"Compound \"&'Cal Prep'!D16,CalInfo!$L$19:$L$33,FALSE)))","v":""},{"$f":"IF(MAX($D$4:D15)<CalInfo!$O$26,MAX('Cal Prep'!$D$4:D15)+1,\"\")","v":""},{"$f":"IF(AND(B16=\"\",B15=CalInfo!$O$26),\"QS to Volume\",IF(B16=\"\",\"\",INDEX(CalInfo!$B$19:$B$33,MATCH(\"Compound \"&B16,CalInfo!$L$19:$L$33,FALSE))))","v":""},{"$f":"IF(E16=\"\",\"\",IF(A16=\"Solid\",ROUND((CalInfo!$A$14*CalInfo!$B$14)/(INDEX(CalInfo!$J$19:$J$33,MATCH(\"Compound \"&B16,CalInfo!$L$19:$L$33,FALSE))*1000),3)&\" g\",IF(ISNUMBER(B16),ROUND((CalInfo!$A$14*CalInfo!$B$14)*1000/(INDEX(CalInfo!$H$19:$H$33,MATCH(\"Compound \"&B16,CalInfo!$L$19:$L$33,FALSE))*1000*INDEX(CalInfo!$J$19:$J$33,MATCH(\"Compound \"&B16,CalInfo!$L$19:$L$33,FALSE)))/5,0)*5&\" uL\",IF(B16=\"Solvent\",\"~\"&CalInfo!$B$14/2.5&\" mL\",IF(RIGHT(E16,5)=\"Flask\",\"-\",IF(E16=\"QS to Volume\",\"To \"&CalInfo!$B$14&\" mL\",\"\"))))))","v":""},null,{"$f":"IF(OR(AND(B16=\"\",E16<>\"\"),B16=\"Solvent\",B16=\"Dil Count\"),\"-\",IF(G16=\"\",\"\",(G16-MAX($G$2:G15))*1000*INDEX(CalInfo!$J$19:$J$33,MATCH(\"Compound \"&B16,CalInfo!$L$19:$L$33,FALSE))/CalInfo!$B$14))","v":""},{"$f":"IF(ISNUMBER(B16),INDEX(CalInfo!$J$19:$J$33,MATCH(\"Compound \"&B16,CalInfo!$L$19:$L$33,FALSE))*(G16-MAX($G$2:G15))/(MAX($G$3:$G$19)-MIN($G$3:$G$19)),\"\")","v":""},null,null,"",null,null,{"$f":"IF(L16=\"\",\"\",IF(L16=\"QS to Volume\",\"To \"&INDEX(CalInfo!$B$4:$B$8,MATCH($N$1,CalInfo!$A$4:$A$8,FALSE))&\" mL\",IF(OR(D16=\"STD Count\",D16=\"Solvent\",D16=\"Internal Standard\"),INDEX(Backend!$M$2:$Q$4,MATCH('Cal Prep'!D16,Backend!$L$2:$L$5,FALSE),MATCH($N$1,Backend!$M$1:$Q$1,FALSE)),IF(AND($N$2=\"No\",L16=\"Dilution Prep\"),\"-\",IF(L16=\"Dilution Prep\",(INDEX(CalInfo!$B$4:$B$8,MATCH($N$1,CalInfo!$A$4:$A$8,FALSE))*$N$1)*1000/CalInfo!$A$14&\" uL\",IF($N$2=\"yes\",\"-\",IF(C16=\"Solid\",ROUND($N$1*INDEX(CalInfo!$B$4:$B$8,MATCH($N$1,CalInfo!$A$4:$A$8,FALSE))/(IF(ISNUMBER(D16),INDEX(CalInfo!$J$19:$J$33,MATCH(\"Compound \"&D16,CalInfo!$L$19:$L$33,FALSE)),\"\")*1000),3)&\" g\",ROUND(($N$1*1000*INDEX(CalInfo!$B$4:$B$8,MATCH($N$1,CalInfo!$A$4:$A$8,FALSE))/INDEX(Compounds!C:C,MATCH(L16,Compounds!A:A,FALSE)))/1000/5,0)*5&\" uL\")))))))","v":""},null,{"$f":"IF(OR(AND(D16=\"\",L16<>\"\"),D16=\"Solvent\",D16=\"STD Count\",L16=\"Dilution Prep\"),\"-\",IF(P16=\"\",\"\",IF(D16=\"Internal Standard\",(P16-MAX($P$2:P15))*1000*INDEX(CalInfo!$J$19:$J$33,MATCH(D16,CalInfo!$A$19:$A$33,FALSE))/INDEX(CalInfo!$B$4:$B$8,MATCH($N$1,CalInfo!$A$4:$A$8,FALSE)),IF($N$2=\"yes\",(INDEX($P$3:$P$21,MATCH(\"Dilution prep\",$L$3:$L$21,FALSE))-VLOOKUP(INDEX($P$3:$P$21,MATCH(\"Dilution prep\",$L$3:$L$21,FALSE))-0.001,$P$3:$P$21,1,TRUE))*INDEX($I$3:$I$19,MATCH(L16,$E$3:$E$19,FALSE))*1000/INDEX(CalInfo!$B$4:$B$8,MATCH($N$1,CalInfo!$A$4:$A$8,FALSE)),(P16-MAX($P$2:P15))*1000*INDEX(CalInfo!$J$19:$J$33,MATCH(\"Compound \"&D16,CalInfo!$L$19:$L$33,FALSE))/INDEX(CalInfo!$B$4:$B$8,MATCH($N$1,CalInfo!$A$4:$A$8,FALSE))))))","v":""},null,null,{"$f":"IF(L16=\"\",\"\",IF(L16=\"QS to Volume\",\"To \"&INDEX(CalInfo!$B$4:$B$8,MATCH($S$1,CalInfo!$A$4:$A$8,FALSE))&\" mL\",IF(OR(D16=\"STD Count\",D16=\"Solvent\",D16=\"Internal Standard\"),INDEX(Backend!$M$2:$Q$4,MATCH('Cal Prep'!D16,Backend!$L$2:$L$5,FALSE),MATCH($S$1,Backend!$M$1:$Q$1,FALSE)),IF(AND($S$2=\"No\",L16=\"Dilution Prep\"),\"-\",IF(L16=\"Dilution Prep\",(INDEX(CalInfo!$B$4:$B$8,MATCH($S$1,CalInfo!$A$4:$A$8,FALSE))*$S$1)*1000/CalInfo!$A$14&\" uL\",IF($S$2=\"yes\",\"-\",IF(C16=\"Solid\",ROUND($S$1*INDEX(CalInfo!$B$4:$B$8,MATCH($S$1,CalInfo!$A$4:$A$8,FALSE))/(IF(ISNUMBER(D16),INDEX(CalInfo!$J$19:$J$33,MATCH(\"Compound \"&D16,CalInfo!$L$19:$L$33,FALSE)),\"\")*1000),3)&\" g\",ROUND(($S$1*1000*INDEX(CalInfo!$B$4:$B$8,MATCH($S$1,CalInfo!$A$4:$A$8,FALSE))/INDEX(Compounds!C:C,MATCH(L16,Compounds!A:A,FALSE)))/1000/5,0)*5&\" uL\")))))))","v":""},null,{"$f":"IF(OR(AND(D16=\"\",L16<>\"\"),D16=\"Solvent\",D16=\"STD Count\",L16=\"Dilution Prep\"),\"-\",IF(U16=\"\",\"\",IF(D16=\"Internal Standard\",(U16-MAX($U$2:U15))*1000*INDEX(CalInfo!$J$19:$J$33,MATCH(D16,CalInfo!$A$19:$A$33,FALSE))/INDEX(CalInfo!$B$4:$B$8,MATCH($S$1,CalInfo!$A$4:$A$8,FALSE)),IF($S$2=\"yes\",(INDEX($U$3:$U$21,MATCH(\"Dilution prep\",$L$3:$L$21,FALSE))-VLOOKUP(INDEX($U$3:$U$21,MATCH(\"Dilution prep\",$L$3:$L$21,FALSE))-0.001,$U$3:$U$21,1,TRUE))*INDEX($I$3:$I$19,MATCH(L16,$E$3:$E$19,FALSE))*1000/INDEX(CalInfo!$B$4:$B$8,MATCH($S$1,CalInfo!$A$4:$A$8,FALSE)),(U16-MAX($U$2:U15))*1000*INDEX(CalInfo!$J$19:$J$33,MATCH(\"Compound \"&D16,CalInfo!$L$19:$L$33,FALSE))/INDEX(CalInfo!$B$4:$B$8,MATCH($S$1,CalInfo!$A$4:$A$8,FALSE))))))","v":""},null,null,{"$f":"IF(L16=\"\",\"\",IF(L16=\"QS to Volume\",\"To \"&INDEX(CalInfo!$B$4:$B$8,MATCH($X$1,CalInfo!$A$4:$A$8,FALSE))&\" mL\",IF(OR(D16=\"STD Count\",D16=\"Solvent\",D16=\"Internal Standard\"),INDEX(Backend!$M$2:$Q$4,MATCH('Cal Prep'!D16,Backend!$L$2:$L$5,FALSE),MATCH($X$1,Backend!$M$1:$Q$1,FALSE)),IF(AND($X$2=\"No\",L16=\"Dilution Prep\"),\"-\",IF(L16=\"Dilution Prep\",(INDEX(CalInfo!$B$4:$B$8,MATCH($X$1,CalInfo!$A$4:$A$8,FALSE))*$X$1)*1000/CalInfo!$A$14&\" uL\",IF($X$2=\"yes\",\"-\",IF(C16=\"Solid\",ROUND($X$1*INDEX(CalInfo!$B$4:$B$8,MATCH($X$1,CalInfo!$A$4:$A$8,FALSE))/(IF(ISNUMBER(D16),INDEX(CalInfo!$J$19:$J$33,MATCH(\"Compound \"&D16,CalInfo!$L$19:$L$33,FALSE)),\"\")*1000),3)&\" g\",ROUND(($X$1*1000*INDEX(CalInfo!$B$4:$B$8,MATCH($X$1,CalInfo!$A$4:$A$8,FALSE))/INDEX(Compounds!C:C,MATCH(L16,Compounds!A:A,FALSE)))/1000/5,0)*5&\" uL\")))))))","v":""},null,{"$f":"IF(OR(AND(D16=\"\",L16<>\"\"),D16=\"Solvent\",D16=\"STD Count\",L16=\"Dilution Prep\"),\"-\",IF(Z16=\"\",\"\",IF(D16=\"Internal Standard\",(Z16-MAX($Z$2:Z15))*1000*INDEX(CalInfo!$J$19:$J$33,MATCH(D16,CalInfo!$A$19:$A$33,FALSE))/INDEX(CalInfo!$B$4:$B$8,MATCH($X$1,CalInfo!$A$4:$A$8,FALSE)),IF($X$2=\"yes\",(INDEX($Z$3:$Z$21,MATCH(\"Dilution prep\",$L$3:$L$21,FALSE))-VLOOKUP(INDEX($Z$3:$Z$21,MATCH(\"Dilution prep\",$L$3:$L$21,FALSE))-0.001,$Z$3:$Z$21,1,TRUE))*INDEX($I$3:$I$19,MATCH(L16,$E$3:$E$19,FALSE))*1000/INDEX(CalInfo!$B$4:$B$8,MATCH($X$1,CalInfo!$A$4:$A$8,FALSE)),(Z16-MAX($Z$2:Z15))*1000*INDEX(CalInfo!$J$19:$J$33,MATCH(\"Compound \"&D16,CalInfo!$L$19:$L$33,FALSE))/INDEX(CalInfo!$B$4:$B$8,MATCH($X$1,CalInfo!$A$4:$A$8,FALSE))))))","v":""},null,null,{"$f":"IF(L16=\"\",\"\",IF(L16=\"QS to Volume\",\"To \"&INDEX(CalInfo!$B$4:$B$8,MATCH($AC$1,CalInfo!$A$4:$A$8,FALSE))&\" mL\",IF(OR(D16=\"STD Count\",D16=\"Solvent\",D16=\"Internal Standard\"),INDEX(Backend!$M$2:$Q$4,MATCH('Cal Prep'!D16,Backend!$L$2:$L$5,FALSE),MATCH($AC$1,Backend!$M$1:$Q$1,FALSE)),IF(AND($AC$2=\"No\",L16=\"Dilution Prep\"),\"-\",IF(L16=\"Dilution Prep\",(INDEX(CalInfo!$B$4:$B$8,MATCH($AC$1,CalInfo!$A$4:$A$8,FALSE))*$AC$1)*1000/CalInfo!$A$14&\" uL\",IF($AC$2=\"yes\",\"-\",IF(C16=\"Solid\",ROUND($AC$1*INDEX(CalInfo!$B$4:$B$8,MATCH($AC$1,CalInfo!$A$4:$A$8,FALSE))/(IF(ISNUMBER(D16),INDEX(CalInfo!$J$19:$J$33,MATCH(\"Compound \"&D16,CalInfo!$L$19:$L$33,FALSE)),\"\")*1000),3)&\" g\",ROUND(($AC$1*1000*INDEX(CalInfo!$B$4:$B$8,MATCH($AC$1,CalInfo!$A$4:$A$8,FALSE))/INDEX(Compounds!C:C,MATCH(L16,Compounds!A:A,FALSE)))/1000/5,0)*5&\" uL\")))))))","v":""},null,{"$f":"IF(OR(AND(D16=\"\",L16<>\"\"),D16=\"Solvent\",D16=\"STD Count\",L16=\"Dilution Prep\"),\"-\",IF(AE16=\"\",\"\",IF(D16=\"Internal Standard\",(AE16-MAX($AE$2:AE15))*1000*INDEX(CalInfo!$J$19:$J$33,MATCH(D16,CalInfo!$A$19:$A$33,FALSE))/INDEX(CalInfo!$B$4:$B$8,MATCH($AC$1,CalInfo!$A$4:$A$8,FALSE)),IF($AC$2=\"yes\",(INDEX($AE$3:$AE$21,MATCH(\"Dilution prep\",$L$3:$L$21,FALSE))-VLOOKUP(INDEX($AE$3:$AE$21,MATCH(\"Dilution prep\",$L$3:$L$21,FALSE))-0.001,$AE$3:$AE$21,1,TRUE))*INDEX($I$3:$I$19,MATCH(L16,$E$3:$E$19,FALSE))*1000/INDEX(CalInfo!$B$4:$B$8,MATCH($AC$1,CalInfo!$A$4:$A$8,FALSE)),(AE16-MAX($AE$2:AE15))*1000*INDEX(CalInfo!$J$19:$J$33,MATCH(\"Compound \"&D16,CalInfo!$L$19:$L$33,FALSE))/INDEX(CalInfo!$B$4:$B$8,MATCH($AC$1,CalInfo!$A$4:$A$8,FALSE))))))","v":""},null,null,{"$f":"IF(L16=\"\",\"\",IF(L16=\"QS to Volume\",\"To \"&INDEX(CalInfo!$B$4:$B$8,MATCH($AH$1,CalInfo!$A$4:$A$8,FALSE))&\" mL\",IF(OR(D16=\"STD Count\",D16=\"Solvent\",D16=\"Internal Standard\"),INDEX(Backend!$M$2:$Q$4,MATCH('Cal Prep'!D16,Backend!$L$2:$L$5,FALSE),MATCH($AH$1,Backend!$M$1:$Q$1,FALSE)),IF(AND($AH$2=\"No\",L16=\"Dilution Prep\"),\"-\",IF(L16=\"Dilution Prep\",(INDEX(CalInfo!$B$4:$B$8,MATCH($AH$1,CalInfo!$A$4:$A$8,FALSE))*$AH$1)*1000/CalInfo!$A$14&\" uL\",IF($AH$2=\"yes\",\"-\",IF(C16=\"Solid\",ROUND($AH$1*INDEX(CalInfo!$B$4:$B$8,MATCH($AH$1,CalInfo!$A$4:$A$8,FALSE))/(IF(ISNUMBER(D16),INDEX(CalInfo!$J$19:$J$33,MATCH(\"Compound \"&D16,CalInfo!$L$19:$L$33,FALSE)),\"\")*1000),3)&\" g\",ROUND(($AH$1*1000*INDEX(CalInfo!$B$4:$B$8,MATCH($AH$1,CalInfo!$A$4:$A$8,FALSE))/INDEX(Compounds!C:C,MATCH(L16,Compounds!A:A,FALSE)))/1000/5,0)*5&\" uL\")))))))","v":""},null,{"$f":"IF(OR(AND(D16=\"\",L16<>\"\"),D16=\"Solvent\",D16=\"STD Count\",L16=\"Dilution Prep\"),\"-\",IF(AJ16=\"\",\"\",IF(D16=\"Internal Standard\",(AJ16-MAX($AJ$2:AJ15))*1000*INDEX(CalInfo!$J$19:$J$33,MATCH(D16,CalInfo!$A$19:$A$33,FALSE))/INDEX(CalInfo!$B$4:$B$8,MATCH($AH$1,CalInfo!$A$4:$A$8,FALSE)),IF($AH$2=\"yes\",(INDEX($AJ$3:$AJ$21,MATCH(\"Dilution prep\",$L$3:$L$21,FALSE))-VLOOKUP(INDEX($AJ$3:$AJ$21,MATCH(\"Dilution prep\",$L$3:$L$21,FALSE))-0.001,$AJ$3:$AJ$21,1,TRUE))*INDEX($I$3:$I$19,MATCH(L16,$E$3:$E$19,FALSE))*1000/INDEX(CalInfo!$B$4:$B$8,MATCH($AH$1,CalInfo!$A$4:$A$8,FALSE)),(AJ16-MAX($AJ$2:AJ15))*1000*INDEX(CalInfo!$J$19:$J$33,MATCH(\"Compound \"&D16,CalInfo!$L$19:$L$33,FALSE))/INDEX(CalInfo!$B$4:$B$8,MATCH($AH$1,CalInfo!$A$4:$A$8,FALSE))))))","v":""}]
[{"$f":"IF(OR(B17=\"\",B17=\"Solvent\"),\"\",INDEX(CalInfo!$E$19:$E$33,MATCH(\"Compound \"&'Cal Prep'!B17,CalInfo!$L$19:$L$33,FALSE)))","v":""},{"$f":"IF(MAX($B$4:B16)<CalInfo!$O$26,MAX('Cal Prep'!$B$4:B16)+1,\"\")","v":""},{"$f":"IF(OR(D17=\"\",D17=\"Solvent\",D17=\"Internal Standard\",D17=\"Dilution\"),\"\",INDEX(CalInfo!$E$19:$E$33,MATCH(\"Compound \"&'Cal Prep'!D17,CalInfo!$L$19:$L$33,FALSE)))","v":""},{"$f":"IF(MAX($D$4:D16)<CalInfo!$O$26,MAX('Cal Prep'!$D$4:D16)+1,\"\")","v":""},{"$f":"IF(AND(B17=\"\",B16=CalInfo!$O$26),\"QS to Volume\",IF(B17=\"\",\"\",INDEX(CalInfo!$B$19:$B$33,MATCH(\"Compound \"&B17,CalInfo!$L$19:$L$33,FALSE))))","v":""},{"$f":"IF(E17=\"\",\"\",IF(A17=\"Solid\",ROUND((CalInfo!$A$14*CalInfo!$B$14)/(INDEX(CalInfo!$J$19:$J$33,MATCH(\"Compound \"&B17,CalInfo!$L$19:$L$33,FALSE))*1000),3)&\" g\",IF(ISNUMBER(B17),ROUND((CalInfo!$A$14*CalInfo!$B$14)*1000/(INDEX(CalInfo!$H$19:$H$33,MATCH(\"Compound \"&B17,CalInfo!$L$19:$L$33,FALSE))*1000*INDEX(CalInfo!$J$19:$J$33,MATCH(\"Compound \"&B17,CalInfo!$L$19:$L$33,FALSE)))/5,0)*5&\" uL\",IF(B17=\"Solvent\",\"~\"&CalInfo!$B$14/2.5&\" mL\",IF(RIGHT(E17,5)=\"Flask\",\"-\",IF(E17=\"QS to Volume\",\"To \"&CalInfo!$B$14&\" mL\",\"\"))))))","v":""},null,{"$f":"IF(OR(AND(B17=\"\",E17<>\"\"),B17=\"Solvent\",B17=\"Dil Count\"),\"-\",IF(G17=\"\",\"\",(G17-MAX($G$2:G16))*1000*INDEX(CalInfo!$J$19:$J$33,MATCH(\"Compound \"&B17,CalInfo!$L$19:$L$33,FALSE))/CalInfo!$B$14))","v":""},{"$f":"IF(ISNUMBER(B17),INDEX(CalInfo!$J$19:$J$33,MATCH(\"Compound \"&B17,CalInfo!$L$19:$L$33,FALSE))*(G17-MAX($G$2:G16))/(MAX($G$3:$G$19)-MIN($G$3:$G$19)),\"\")","v":""},null,null,"",null,null,{"$f":"IF(L17=\"\",\"\",IF(L17=\"QS to Volume\",\"To \"&INDEX(CalInfo!$B$4:$B$8,MATCH($N$1,CalInfo!$A$4:$A$8,FALSE))&\" mL\",IF(OR(D17=\"STD Count\",D17=\"Solvent\",D17=\"Internal Standard\"),INDEX(Backend!$M$2:$Q$4,MATCH('Cal Prep'!D17,Backend!$L$2:$L$5,FALSE),MATCH($N$1,Backend!$M$1:$Q$1,FALSE)),IF(AND($N$2=\"No\",L17=\"Dilution Prep\"),\"-\",IF(L17=\"Dilution Prep\",(INDEX(CalInfo!$B$4:$B$8,MATCH($N$1,CalInfo!$A$4:$A$8,FALSE))*$N$1)*1000/CalInfo!$A$14&\" uL\",IF($N$2=\"yes\",\"-\",IF(C17=\"Solid\",ROUND($N$1*INDEX(CalInfo!$B$4:$B$8,MATCH($N$1,CalInfo!$A$4:$A$8,FALSE))/(IF(ISNUMBER(D17),INDEX(CalInfo!$J$19:$J$33,MATCH(\"Compound \"&D17,CalInfo!$L$19:$L$33,FALSE)),\"\")*1000),3)&\" g\",ROUND(($N$1*1000*INDEX(CalInfo!$B$4:$B$8,MATCH($N$1,CalInfo!$A$4:$A$8,FALSE))/INDEX(Compounds!C:C,MATCH(L17,Compounds!A:A,FALSE)))/1000/5,0)*5&\" uL\")))))))","v":""},null,{"$f":"IF(OR(AND(D17=\"\",L17<>\"\"),D17=\"Solvent\",D17=\"STD Count\",L17=\"Dilution Prep\"),\"-\",IF(P17=\"\",\"\",IF(D17=\"Internal Standard\",(P17-MAX($P$2:P16))*1000*INDEX(CalInfo!$J$19:$J$33,MATCH(D17,CalInfo!$A$19:$A$33,FALSE))/INDEX(CalInfo!$B$4:$B$8,MATCH($N$1,CalInfo!$A$4:$A$8,FALSE)),IF($N$2=\"yes\",(INDEX($P$3:$P$21,MATCH(\"Dilution prep\",$L$3:$L$21,FALSE))-VLOOKUP(INDEX($P$3:$P$21,MATCH(\"Dilution prep\",$L$3:$L$21,FALSE))-0.001,$P$3:$P$21,1,TRUE))*INDEX($I$3:$I$19,MATCH(L17,$E$3:$E$19,FALSE))*1000/INDEX(CalInfo!$B$4:$B$8,MATCH($N$1,CalInfo!$A$4:$A$8,FALSE)),(P17-MAX($P$2:P16))*1000*INDEX(CalInfo!$J$19:$J$33,MATCH(\"Compound \"&D17,CalInfo!$L$19:$L$33,FALSE))/INDEX(CalInfo!$B$4:$B$8,MATCH($N$1,CalInfo!$A$4:$A$8,FALSE))))))","v":""},null,null,{"$f":"IF(L17=\"\",\"\",IF(L17=\"QS to Volume\",\"To \"&INDEX(CalInfo!$B$4:$B$8,MATCH($S$1,CalInfo!$A$4:$A$8,FALSE))&\" mL\",IF(OR(D17=\"STD Count\",D17=\"Solvent\",D17=\"Internal Standard\"),INDEX(Backend!$M$2:$Q$4,MATCH('Cal Prep'!D17,Backend!$L$2:$L$5,FALSE),MATCH($S$1,Backend!$M$1:$Q$1,FALSE)),IF(AND($S$2=\"No\",L17=\"Dilution Prep\"),\"-\",IF(L17=\"Dilution Prep\",(INDEX(CalInfo!$B$4:$B$8,MATCH($S$1,CalInfo!$A$4:$A$8,FALSE))*$S$1)*1000/CalInfo!$A$14&\" uL\",IF($S$2=\"yes\",\"-\",IF(C17=\"Solid\",ROUND($S$1*INDEX(CalInfo!$B$4:$B$8,MATCH($S$1,CalInfo!$A$4:$A$8,FALSE))/(IF(ISNUMBER(D17),INDEX(CalInfo!$J$19:$J$33,MATCH(\"Compound \"&D17,CalInfo!$L$19:$L$33,FALSE)),\"\")*1000),3)&\" g\",ROUND(($S$1*1000*INDEX(CalInfo!$B$4:$B$8,MATCH($S$1,CalInfo!$A$4:$A$8,FALSE))/INDEX(Compounds!C:C,MATCH(L17,Compounds!A:A,FALSE)))/1000/5,0)*5&\" uL\")))))))","v":""},null,{"$f":"IF(OR(AND(D17=\"\",L17<>\"\"),D17=\"Solvent\",D17=\"STD Count\",L17=\"Dilution Prep\"),\"-\",IF(U17=\"\",\"\",IF(D17=\"Internal Standard\",(U17-MAX($U$2:U16))*1000*INDEX(CalInfo!$J$19:$J$33,MATCH(D17,CalInfo!$A$19:$A$33,FALSE))/INDEX(CalInfo!$B$4:$B$8,MATCH($S$1,CalInfo!$A$4:$A$8,FALSE)),IF($S$2=\"yes\",(INDEX($U$3:$U$21,MATCH(\"Dilution prep\",$L$3:$L$21,FALSE))-VLOOKUP(INDEX($U$3:$U$21,MATCH(\"Dilution prep\",$L$3:$L$21,FALSE))-0.001,$U$3:$U$21,1,TRUE))*INDEX($I$3:$I$19,MATCH(L17,$E$3:$E$19,FALSE))*1000/INDEX(CalInfo!$B$4:$B$8,MATCH($S$1,CalInfo!$A$4:$A$8,FALSE)),(U17-MAX($U$2:U16))*1000*INDEX(CalInfo!$J$19:$J$33,MATCH(\"Compound \"&D17,CalInfo!$L$19:$L$33,FALSE))/INDEX(CalInfo!$B$4:$B$8,MATCH($S$1,CalInfo!$A$4:$A$8,FALSE))))))","v":""},null,null,{"$f":"IF(L17=\"\",\"\",IF(L17=\"QS to Volume\",\"To \"&INDEX(CalInfo!$B$4:$B$8,MATCH($X$1,CalInfo!$A$4:$A$8,FALSE))&\" mL\",IF(OR(D17=\"STD Count\",D17=\"Solvent\",D17=\"Internal Standard\"),INDEX(Backend!$M$2:$Q$4,MATCH('Cal Prep'!D17,Backend!$L$2:$L$5,FALSE),MATCH($X$1,Backend!$M$1:$Q$1,FALSE)),IF(AND($X$2=\"No\",L17=\"Dilution Prep\"),\"-\",IF(L17=\"Dilution Prep\",(INDEX(CalInfo!$B$4:$B$8,MATCH($X$1,CalInfo!$A$4:$A$8,FALSE))*$X$1)*1000/CalInfo!$A$14&\" uL\",IF($X$2=\"yes\",\"-\",IF(C17=\"Solid\",ROUND($X$1*INDEX(CalInfo!$B$4:$B$8,MATCH($X$1,CalInfo!$A$4:$A$8,FALSE))/(IF(ISNUMBER(D17),INDEX(CalInfo!$J$19:$J$33,MATCH(\"Compound \"&D17,CalInfo!$L$19:$L$33,FALSE)),\"\")*1000),3)&\" g\",ROUND(($X$1*1000*INDEX(CalInfo!$B$4:$B$8,MATCH($X$1,CalInfo!$A$4:$A$8,FALSE))/INDEX(Compounds!C:C,MATCH(L17,Compounds!A:A,FALSE)))/1000/5,0)*5&\" uL\")))))))","v":""},null,{"$f":"IF(OR(AND(D17=\"\",L17<>\"\"),D17=\"Solvent\",D17=\"STD Count\",L17=\"Dilution Prep\"),\"-\",IF(Z17=\"\",\"\",IF(D17=\"Internal Standard\",(Z17-MAX($Z$2:Z16))*1000*INDEX(CalInfo!$J$19:$J$33,MATCH(D17,CalInfo!$A$19:$A$33,FALSE))/INDEX(CalInfo!$B$4:$B$8,MATCH($X$1,CalInfo!$A$4:$A$8,FALSE)),IF($X$2=\"yes\",(INDEX($Z$3:$Z$21,MATCH(\"Dilution prep\",$L$3:$L$21,FALSE))-VLOOKUP(INDEX($Z$3:$Z$21,MATCH(\"Dilution prep\",$L$3:$L$21,FALSE))-0.001,$Z$3:$Z$21,1,TRUE))*INDEX($I$3:$I$19,MATCH(L17,$E$3:$E$19,FALSE))*1000/INDEX(CalInfo!$B$4:$B$8,MATCH($X$1,CalInfo!$A$4:$A$8,FALSE)),(Z17-MAX($Z$2:Z16))*1000*INDEX(CalInfo!$J$19:$J$33,MATCH(\"Compound \"&D17,CalInfo!$L$19:$L$33,FALSE))/INDEX(CalInfo!$B$4:$B$8,MATCH($X$1,CalInfo!$A$4:$A$8,FALSE))))))","v":""},null,null,{"$f":"IF(L17=\"\",\"\",IF(L17=\"QS to Volume\",\"To \"&INDEX(CalInfo!$B$4:$B$8,MATCH($AC$1,CalInfo!$A$4:$A$8,FALSE))&\" mL\",IF(OR(D17=\"STD Count\",D17=\"Solvent\",D17=\"Internal Standard\"),INDEX(Backend!$M$2:$Q$4,MATCH('Cal Prep'!D17,Backend!$L$2:$L$5,FALSE),MATCH($AC$1,Backend!$M$1:$Q$1,FALSE)),IF(AND($AC$2=\"No\",L17=\"Dilution Prep\"),\"-\",IF(L17=\"Dilution Prep\",(INDEX(CalInfo!$B$4:$B$8,MATCH($AC$1,CalInfo!$A$4:$A$8,FALSE))*$AC$1)*1000/CalInfo!$A$14&\" uL\",IF($AC$2=\"yes\",\"-\",IF(C17=\"Solid\",ROUND($AC$1*INDEX(CalInfo!$B$4:$B$8,MATCH($AC$1,CalInfo!$A$4:$A$8,FALSE))/(IF(ISNUMBER(D17),INDEX(CalInfo!$J$19:$J$33,MATCH(\"Compound \"&D17,CalInfo!$L$19:$L$33,FALSE)),\"\")*1000),3)&\" g\",ROUND(($AC$1*1000*INDEX(CalInfo!$B$4:$B$8,MATCH($AC$1,CalInfo!$A$4:$A$8,FALSE))/INDEX(Compounds!C:C,MATCH(L17,Compounds!A:A,FALSE)))/1000/5,0)*5&\" uL\")))))))","v":""},null,{"$f":"IF(OR(AND(D17=\"\",L17<>\"\"),D17=\"Solvent\",D17=\"STD Count\",L17=\"Dilution Prep\"),\"-\",IF(AE17=\"\",\"\",IF(D17=\"Internal Standard\",(AE17-MAX($AE$2:AE16))*1000*INDEX(CalInfo!$J$19:$J$33,MATCH(D17,CalInfo!$A$19:$A$33,FALSE))/INDEX(CalInfo!$B$4:$B$8,MATCH($AC$1,CalInfo!$A$4:$A$8,FALSE)),IF($AC$2=\"yes\",(INDEX($AE$3:$AE$21,MATCH(\"Dilution prep\",$L$3:$L$21,FALSE))-VLOOKUP(INDEX($AE$3:$AE$21,MATCH(\"Dilution prep\",$L$3:$L$21,FALSE))-0.001,$AE$3:$AE$21,1,TRUE))*INDEX($I$3:$I$19,MATCH(L17,$E$3:$E$19,FALSE))*1000/INDEX(CalInfo!$B$4:$B$8,MATCH($AC$1,CalInfo!$A$4:$A$8,FALSE)),(AE17-MAX($AE$2:AE16))*1000*INDEX(CalInfo!$J$19:$J$33,MATCH(\"Compound \"&D17,CalInfo!$L$19:$L$33,FALSE))/INDEX(CalInfo!$B$4:$B$8,MATCH($AC$1,CalInfo!$A$4:$A$8,FALSE))))))","v":""},null,null,{"$f":"IF(L17=\"\",\"\",IF(L17=\"QS to Volume\",\"To \"&INDEX(CalInfo!$B$4:$B$8,MATCH($AH$1,CalInfo!$A$4:$A$8,FALSE))&\" mL\",IF(OR(D17=\"STD Count\",D17=\"Solvent\",D17=\"Internal Standard\"),INDEX(Backend!$M$2:$Q$4,MATCH('Cal Prep'!D17,Backend!$L$2:$L$5,FALSE),MATCH($AH$1,Backend!$M$1:$Q$1,FALSE)),IF(AND($AH$2=\"No\",L17=\"Dilution Prep\"),\"-\",IF(L17=\"Dilution Prep\",(INDEX(CalInfo!$B$4:$B$8,MATCH($AH$1,CalInfo!$A$4:$A$8,FALSE))*$AH$1)*1000/CalInfo!$A$14&\" uL\",IF($AH$2=\"yes\",\"-\",IF(C17=\"Solid\",ROUND($AH$1*INDEX(CalInfo!$B$4:$B$8,MATCH($AH$1,CalInfo!$A$4:$A$8,FALSE))/(IF(ISNUMBER(D17),INDEX(CalInfo!$J$19:$J$33,MATCH(\"Compound \"&D17,CalInfo!$L$19:$L$33,FALSE)),\"\")*1000),3)&\" g\",ROUND(($AH$1*1000*INDEX(CalInfo!$B$4:$B$8,MATCH($AH$1,CalInfo!$A$4:$A$8,FALSE))/INDEX(Compounds!C:C,MATCH(L17,Compounds!A:A,FALSE)))/1000/5,0)*5&\" uL\")))))))","v":""},null,{"$f":"IF(OR(AND(D17=\"\",L17<>\"\"),D17=\"Solvent\",D17=\"STD Count\",L17=\"Dilution Prep\"),\"-\",IF(AJ17=\"\",\"\",IF(D17=\"Internal Standard\",(AJ17-MAX($AJ$2:AJ16))*1000*INDEX(CalInfo!$J$19:$J$33,MATCH(D17,CalInfo!$A$19:$A$33,FALSE))/INDEX(CalInfo!$B$4:$B$8,MATCH($AH$1,CalInfo!$A$4:$A$8,FALSE)),IF($AH$2=\"yes\",(INDEX($AJ$3:$AJ$21,MATCH(\"Dilution prep\",$L$3:$L$21,FALSE))-VLOOKUP(INDEX($AJ$3:$AJ$21,MATCH(\"Dilution prep\",$L$3:$L$21,FALSE))-0.001,$AJ$3:$AJ$21,1,TRUE))*INDEX($I$3:$I$19,MATCH(L17,$E$3:$E$19,FALSE))*1000/INDEX(CalInfo!$B$4:$B$8,MATCH($AH$1,CalInfo!$A$4:$A$8,FALSE)),(AJ17-MAX($AJ$2:AJ16))*1000*INDEX(CalInfo!$J$19:$J$33,MATCH(\"Compound \"&D17,CalInfo!$L$19:$L$33,FALSE))/INDEX(CalInfo!$B$4:$B$8,MATCH($AH$1,CalInfo!$A$4:$A$8,FALSE))))))","v":""}]
[{"$f":"IF(OR(B18=\"\",B18=\"Solvent\"),\"\",INDEX(CalInfo!$E$19:$E$33,MATCH(\"Compound \"&'Cal Prep'!B18,CalInfo!$L$19:$L$33,FALSE)))","v":""},{"$f":"IF(MAX($B$4:B17)<CalInfo!$O$26,MAX('Cal Prep'!$B$4:B17)+1,\"\")","v":""},{"$f":"IF(OR(D18=\"\",D18=\"Solvent\",D18=\"Internal Standard\",D18=\"Dilution\"),\"\",INDEX(CalInfo!$E$19:$E$33,MATCH(\"Compound \"&'Cal Prep'!D18,CalInfo!$L$19:$L$33,FALSE)))","v":""},{"$f":"IF(MAX($D$4:D17)<CalInfo!$O$26,MAX('Cal Prep'!$D$4:D17)+1,\"\")","v":""},{"$f":"IF(AND(B18=\"\",B17=CalInfo!$O$26),\"QS to Volume\",IF(B18=\"\",\"\",INDEX(CalInfo!$B$19:$B$33,MATCH(\"Compound \"&B18,CalInfo!$L$19:$L$33,FALSE))))","v":""},{"$f":"IF(E18=\"\",\"\",IF(A18=\"Solid\",ROUND((CalInfo!$A$14*CalInfo!$B$14)/(INDEX(CalInfo!$J$19:$J$33,MATCH(\"Compound \"&B18,CalInfo!$L$19:$L$33,FALSE))*1000),3)&\" g\",IF(ISNUMBER(B18),ROUND((CalInfo!$A$14*CalInfo!$B$14)*1000/(INDEX(CalInfo!$H$19:$H$33,MATCH(\"Compound \"&B18,CalInfo!$L$19:$L$33,FALSE))*1000*INDEX(CalInfo!$J$19:$J$33,MATCH(\"Compound \"&B18,CalInfo!$L$19:$L$33,FALSE)))/5,0)*5&\" uL\",IF(B18=\"Solvent\",\"~\"&CalInfo!$B$14/2.5&\" mL\",IF(RIGHT(E18,5)=\"Flask\",\"-\",IF(E18=\"QS to Volume\",\"To \"&CalInfo!$B$14&\" mL\",\"\"))))))","v":""},null,{"$f":"IF(OR(AND(B18=\"\",E18<>\"\"),B18=\"Solvent\",B18=\"Dil Count\"),\"-\",IF(G18=\"\",\"\",(G18-MAX($G$2:G17))*1000*INDEX(CalInfo!$J$19:$J$33,MATCH(\"Compound \"&B18,CalInfo!$L$19:$L$33,FALSE))/CalInfo!$B$14))","v":""},{"$f":"IF(ISNUMBER(B18),INDEX(CalInfo!$J$19:$J$33,MATCH(\"Compound \"&B18,CalInfo!$L$19:$L$33,FALSE))*(G18-MAX($G$2:G17))/(MAX($G$3:$G$19)-MIN($G$3:$G$19)),\"\")","v":""},null,null,"",null,null,{"$f":"IF(L18=\"\",\"\",IF(L18=\"QS to Volume\",\"To \"&INDEX(CalInfo!$B$4:$B$8,MATCH($N$1,CalInfo!$A$4:$A$8,FALSE))&\" mL\",IF(OR(D18=\"STD Count\",D18=\"Solvent\",D18=\"Internal Standard\"),INDEX(Backend!$M$2:$Q$4,MATCH('Cal Prep'!D18,Backend!$L$2:$L$5,FALSE),MATCH($N$1,Backend!$M$1:$Q$1,FALSE)),IF(AND($N$2=\"No\",L18=\"Dilution Prep\"),\"-\",IF(L18=\"Dilution Prep\",(INDEX(CalInfo!$B$4:$B$8,MATCH($N$1,CalInfo!$A$4:$A$8,FALSE))*$N$1)*1000/CalInfo!$A$14&\" uL\",IF($N$2=\"yes\",\"-\",IF(C18=\"Solid\",ROUND($N$1*INDEX(CalInfo!$B$4:$B$8,MATCH($N$1,CalInfo!$A$4:$A$8,FALSE))/(IF(ISNUMBER(D18),INDEX(CalInfo!$J$19:$J$33,MATCH(\"Compound \"&D18,CalInfo!$L$19:$L$33,FALSE)),\"\")*1000),3)&\" g\",ROUND(($N$1*1000*INDEX(CalInfo!$B$4:$B$8,MATCH($N$1,CalInfo!$A$4:$A$8,FALSE))/INDEX(Compounds!C:C,MATCH(L18,Compounds!A:A,FALSE)))/1000/5,0)*5&\" uL\")))))))","v":""},null,{"$f":"IF(OR(AND(D18=\"\",L18<>\"\"),D18=\"Solvent\",D18=\"STD Count\",L18=\"Dilution Prep\"),\"-\",IF(P18=\"\",\"\",IF(D18=\"Internal Standard\",(P18-MAX($P$2:P17))*1000*INDEX(CalInfo!$J$19:$J$33,MATCH(D18,CalInfo!$A$19:$A$33,FALSE))/INDEX(CalInfo!$B$4:$B$8,MATCH($N$1,CalInfo!$A$4:$A$8,FALSE)),IF($N$2=\"yes\",(INDEX($P$3:$P$21,MATCH(\"Dilution prep\",$L$3:$L$21,FALSE))-VLOOKUP(INDEX($P$3:$P$21,MATCH(\"Dilution prep\",$L$3:$L$21,FALSE))-0.001,$P$3:$P$21,1,TRUE))*INDEX($I$3:$I$19,MATCH(L18,$E$3:$E$19,FALSE))*1000/INDEX(CalInfo!$B$4:$B$8,MATCH($N$1,CalInfo!$A$4:$A$8,FALSE)),(P18-MAX($P$2:P17))*1000*INDEX(CalInfo!$J$19:$J$33,MATCH(\"Compound \"&D18,CalInfo!$L$19:$L$33,FALSE))/INDEX(CalInfo!$B$4:$B$8,MATCH($N$1,CalInfo!$A$4:$A$8,FALSE))))))","v":""},null,null,{"$f":"IF(L18=\"\",\"\",IF(L18=\"QS to Volume\",\"To \"&INDEX(CalInfo!$B$4:$B$8,MATCH($S$1,CalInfo!$A$4:$A$8,FALSE))&\" mL\",IF(OR(D18=\"STD Count\",D18=\"Solvent\",D18=\"Internal Standard\"),INDEX(Backend!$M$2:$Q$4,MATCH('Cal Prep'!D18,Backend!$L$2:$L$5,FALSE),MATCH($S$1,Backend!$M$1:$Q$1,FALSE)),IF(AND($S$2=\"No\",L18=\"Dilution Prep\"),\"-\",IF(L18=\"Dilution Prep\",(INDEX(CalInfo!$B$4:$B$8,MATCH($S$1,CalInfo!$A$4:$A$8,FALSE))*$S$1)*1000/CalInfo!$A$14&\" uL\",IF($S$2=\"yes\",\"-\",IF(C18=\"Solid\",ROUND($S$1*INDEX(CalInfo!$B$4:$B$8,MATCH($S$1,CalInfo!$A$4:$A$8,FALSE))/(IF(ISNUMBER(D18),INDEX(CalInfo!$J$19:$J$33,MATCH(\"Compound \"&D18,CalInfo!$L$19:$L$33,FALSE)),\"\")*1000),3)&\" g\",ROUND(($S$1*1000*INDEX(CalInfo!$B$4:$B$8,MATCH($S$1,CalInfo!$A$4:$A$8,FALSE))/INDEX(Compounds!C:C,MATCH(L18,Compounds!A:A,FALSE)))/1000/5,0)*5&\" uL\")))))))","v":""},null,{"$f":"IF(OR(AND(D18=\"\",L18<>\"\"),D18=\"Solvent\",D18=\"STD Count\",L18=\"Dilution Prep\"),\"-\",IF(U18=\"\",\"\",IF(D18=\"Internal Standard\",(U18-MAX($U$2:U17))*1000*INDEX(CalInfo!$J$19:$J$33,MATCH(D18,CalInfo!$A$19:$A$33,FALSE))/INDEX(CalInfo!$B$4:$B$8,MATCH($S$1,CalInfo!$A$4:$A$8,FALSE)),IF($S$2=\"yes\",(INDEX($U$3:$U$21,MATCH(\"Dilution prep\",$L$3:$L$21,FALSE))-VLOOKUP(INDEX($U$3:$U$21,MATCH(\"Dilution prep\",$L$3:$L$21,FALSE))-0.001,$U$3:$U$21,1,TRUE))*INDEX($I$3:$I$19,MATCH(L18,$E$3:$E$19,FALSE))*1000/INDEX(CalInfo!$B$4:$B$8,MATCH($S$1,CalInfo!$A$4:$A$8,FALSE)),(U18-MAX($U$2:U17))*1000*INDEX(CalInfo!$J$19:$J$33,MATCH(\"Compound \"&D18,CalInfo!$L$19:$L$33,FALSE))/INDEX(CalInfo!$B$4:$B$8,MATCH($S$1,CalInfo!$A$4:$A$8,FALSE))))))","v":""},null,null,{"$f":"IF(L18=\"\",\"\",IF(L18=\"QS to Volume\",\"To \"&INDEX(CalInfo!$B$4:$B$8,MATCH($X$1,CalInfo!$A$4:$A$8,FALSE))&\" mL\",IF(OR(D18=\"STD Count\",D18=\"Solvent\",D18=\"Internal Standard\"),INDEX(Backend!$M$2:$Q$4,MATCH('Cal Prep'!D18,Backend!$L$2:$L$5,FALSE),MATCH($X$1,Backend!$M$1:$Q$1,FALSE)),IF(AND($X$2=\"No\",L18=\"Dilution Prep\"),\"-\",IF(L18=\"Dilution Prep\",(INDEX(CalInfo!$B$4:$B$8,MATCH($X$1,CalInfo!$A$4:$A$8,FALSE))*$X$1)*1000/CalInfo!$A$14&\" uL\",IF($X$2=\"yes\",\"-\",IF(C18=\"Solid\",ROUND($X$1*INDEX(CalInfo!$B$4:$B$8,MATCH($X$1,CalInfo!$A$4:$A$8,FALSE))/(IF(ISNUMBER(D18),INDEX(CalInfo!$J$19:$J$33,MATCH(\"Compound \"&D18,CalInfo!$L$19:$L$33,FALSE)),\"\")*1000),3)&\" g\",ROUND(($X$1*1000*INDEX(CalInfo!$B$4:$B$8,MATCH($X$1,CalInfo!$A$4:$A$8,FALSE))/INDEX(Compounds!C:C,MATCH(L18,Compounds!A:A,FALSE)))/1000/5,0)*5&\" uL\")))))))","v":""},null,{"$f":"IF(OR(AND(D18=\"\",L18<>\"\"),D18=\"Solvent\",D18=\"STD Count\",L18=\"Dilution Prep\"),\"-\",IF(Z18=\"\",\"\",IF(D18=\"Internal Standard\",(Z18-MAX($Z$2:Z17))*1000*INDEX(CalInfo!$J$19:$J$33,MATCH(D18,CalInfo!$A$19:$A$33,FALSE))/INDEX(CalInfo!$B$4:$B$8,MATCH($X$1,CalInfo!$A$4:$A$8,FALSE)),IF($X$2=\"yes\",(INDEX($Z$3:$Z$21,MATCH(\"Dilution prep\",$L$3:$L$21,FALSE))-VLOOKUP(INDEX($Z$3:$Z$21,MATCH(\"Dilution prep\",$L$3:$L$21,FALSE))-0.001,$Z$3:$Z$21,1,TRUE))*INDEX($I$3:$I$19,MATCH(L18,$E$3:$E$19,FALSE))*1000/INDEX(CalInfo!$B$4:$B$8,MATCH($X$1,CalInfo!$A$4:$A$8,FALSE)),(Z18-MAX($Z$2:Z17))*1000*INDEX(CalInfo!$J$19:$J$33,MATCH(\"Compound \"&D18,CalInfo!$L$19:$L$33,FALSE))/INDEX(CalInfo!$B$4:$B$8,MATCH($X$1,CalInfo!$A$4:$A$8,FALSE))))))","v":""},null,null,{"$f":"IF(L18=\"\",\"\",IF(L18=\"QS to Volume\",\"To \"&INDEX(CalInfo!$B$4:$B$8,MATCH($AC$1,CalInfo!$A$4:$A$8,FALSE))&\" mL\",IF(OR(D18=\"STD Count\",D18=\"Solvent\",D18=\"Internal Standard\"),INDEX(Backend!$M$2:$Q$4,MATCH('Cal Prep'!D18,Backend!$L$2:$L$5,FALSE),MATCH($AC$1,Backend!$M$1:$Q$1,FALSE)),IF(AND($AC$2=\"No\",L18=\"Dilution Prep\"),\"-\",IF(L18=\"Dilution Prep\",(INDEX(CalInfo!$B$4:$B$8,MATCH($AC$1,CalInfo!$A$4:$A$8,FALSE))*$AC$1)*1000/CalInfo!$A$14&\" uL\",IF($AC$2=\"yes\",\"-\",IF(C18=\"Solid\",ROUND($AC$1*INDEX(CalInfo!$B$4:$B$8,MATCH($AC$1,CalInfo!$A$4:$A$8,FALSE))/(IF(ISNUMBER(D18),INDEX(CalInfo!$J$19:$J$33,MATCH(\"Compound \"&D18,CalInfo!$L$19:$L$33,FALSE)),\"\")*1000),3)&\" g\",ROUND(($AC$1*1000*INDEX(CalInfo!$B$4:$B$8,MATCH($AC$1,CalInfo!$A$4:$A$8,FALSE))/INDEX(Compounds!C:C,MATCH(L18,Compounds!A:A,FALSE)))/1000/5,0)*5&\" uL\")))))))","v":""},null,{"$f":"IF(OR(AND(D18=\"\",L18<>\"\"),D18=\"Solvent\",D18=\"STD Count\",L18=\"Dilution Prep\"),\"-\",IF(AE18=\"\",\"\",IF(D18=\"Internal Standard\",(AE18-MAX($AE$2:AE17))*1000*INDEX(CalInfo!$J$19:$J$33,MATCH(D18,CalInfo!$A$19:$A$33,FALSE))/INDEX(CalInfo!$B$4:$B$8,MATCH($AC$1,CalInfo!$A$4:$A$8,FALSE)),IF($AC$2=\"yes\",(INDEX($AE$3:$AE$21,MATCH(\"Dilution prep\",$L$3:$L$21,FALSE))-VLOOKUP(INDEX($AE$3:$AE$21,MATCH(\"Dilution prep\",$L$3:$L$21,FALSE))-0.001,$AE$3:$AE$21,1,TRUE))*INDEX($I$3:$I$19,MATCH(L18,$E$3:$E$19,FALSE))*1000/INDEX(CalInfo!$B$4:$B$8,MATCH($AC$1,CalInfo!$A$4:$A$8,FALSE)),(AE18-MAX($AE$2:AE17))*1000*INDEX(CalInfo!$J$19:$J$33,MATCH(\"Compound \"&D18,CalInfo!$L$19:$L$33,FALSE))/INDEX(CalInfo!$B$4:$B$8,MATCH($AC$1,CalInfo!$A$4:$A$8,FALSE))))))","v":""},null,null,{"$f":"IF(L18=\"\",\"\",IF(L18=\"QS to Volume\",\"To \"&INDEX(CalInfo!$B$4:$B$8,MATCH($AH$1,CalInfo!$A$4:$A$8,FALSE))&\" mL\",IF(OR(D18=\"STD Count\",D18=\"Solvent\",D18=\"Internal Standard\"),INDEX(Backend!$M$2:$Q$4,MATCH('Cal Prep'!D18,Backend!$L$2:$L$5,FALSE),MATCH($AH$1,Backend!$M$1:$Q$1,FALSE)),IF(AND($AH$2=\"No\",L18=\"Dilution Prep\"),\"-\",IF(L18=\"Dilution Prep\",(INDEX(CalInfo!$B$4:$B$8,MATCH($AH$1,CalInfo!$A$4:$A$8,FALSE))*$AH$1)*1000/CalInfo!$A$14&\" uL\",IF($AH$2=\"yes\",\"-\",IF(C18=\"Solid\",ROUND($AH$1*INDEX(CalInfo!$B$4:$B$8,MATCH($AH$1,CalInfo!$A$4:$A$8,FALSE))/(IF(ISNUMBER(D18),INDEX(CalInfo!$J$19:$J$33,MATCH(\"Compound \"&D18,CalInfo!$L$19:$L$33,FALSE)),\"\")*1000),3)&\" g\",ROUND(($AH$1*1000*INDEX(CalInfo!$B$4:$B$8,MATCH($AH$1,CalInfo!$A$4:$A$8,FALSE))/INDEX(Compounds!C:C,MATCH(L18,Compounds!A:A,FALSE)))/1000/5,0)*5&\" uL\")))))))","v":""},null,{"$f":"IF(OR(AND(D18=\"\",L18<>\"\"),D18=\"Solvent\",D18=\"STD Count\",L18=\"Dilution Prep\"),\"-\",IF(AJ18=\"\",\"\",IF(D18=\"Internal Standard\",(AJ18-MAX($AJ$2:AJ17))*1000*INDEX(CalInfo!$J$19:$J$33,MATCH(D18,CalInfo!$A$19:$A$33,FALSE))/INDEX(CalInfo!$B$4:$B$8,MATCH($AH$1,CalInfo!$A$4:$A$8,FALSE)),IF($AH$2=\"yes\",(INDEX($AJ$3:$AJ$21,MATCH(\"Dilution prep\",$L$3:$L$21,FALSE))-VLOOKUP(INDEX($AJ$3:$AJ$21,MATCH(\"Dilution prep\",$L$3:$L$21,FALSE))-0.001,$AJ$3:$AJ$21,1,TRUE))*INDEX($I$3:$I$19,MATCH(L18,$E$3:$E$19,FALSE))*1000/INDEX(CalInfo!$B$4:$B$8,MATCH($AH$1,CalInfo!$A$4:$A$8,FALSE)),(AJ18-MAX($AJ$2:AJ17))*1000*INDEX(CalInfo!$J$19:$J$33,MATCH(\"Compound \"&D18,CalInfo!$L$19:$L$33,FALSE))/INDEX(CalInfo!$B$4:$B$8,MATCH($AH$1,CalInfo!$A$4:$A$8,FALSE))))))","v":""}]
[{"$f":"IF(OR(B19=\"\",B19=\"Solvent\"),\"\",INDEX(CalInfo!$E$19:$E$33,MATCH(\"Compound \"&'Cal Prep'!B19,CalInfo!$L$19:$L$33,FALSE)))","v":""},{"$f":"IF(MAX($B$4:B18)<CalInfo!$O$26,MAX('Cal Prep'!$B$4:B18)+1,\"\")","v":""},{"$f":"IF(OR(D19=\"\",D19=\"Solvent\",D19=\"Internal Standard\",D19=\"Dilution\"),\"\",INDEX(CalInfo!$E$19:$E$33,MATCH(\"Compound \"&'Cal Prep'!D19,CalInfo!$L$19:$L$33,FALSE)))","v":""},{"$f":"IF(MAX($D$4:D18)<CalInfo!$O$26,MAX('Cal Prep'!$D$4:D18)+1,\"\")","v":""},{"$f":"IF(AND(B19=\"\",B18=CalInfo!$O$26),\"QS to Volume\",IF(B19=\"\",\"\",INDEX(CalInfo!$B$19:$B$33,MATCH(\"Compound \"&B19,CalInfo!$L$19:$L$33,FALSE))))","v":""},{"$f":"IF(E19=\"\",\"\",IF(A19=\"Solid\",ROUND((CalInfo!$A$14*CalInfo!$B$14)/(INDEX(CalInfo!$J$19:$J$33,MATCH(\"Compound \"&B19,CalInfo!$L$19:$L$33,FALSE))*1000),3)&\" g\",IF(ISNUMBER(B19),ROUND((CalInfo!$A$14*CalInfo!$B$14)*1000/(INDEX(CalInfo!$H$19:$H$33,MATCH(\"Compound \"&B19,CalInfo!$L$19:$L$33,FALSE))*1000*INDEX(CalInfo!$J$19:$J$33,MATCH(\"Compound \"&B19,CalInfo!$L$19:$L$33,FALSE)))/5,0)*5&\" uL\",IF(B19=\"Solvent\",\"~\"&CalInfo!$B$14/2.5&\" mL\",IF(RIGHT(E19,5)=\"Flask\",\"-\",IF(E19=\"QS to Volume\",\"To \"&CalInfo!$B$14&\" mL\",\"\"))))))","v":""},null,{"$f":"IF(OR(AND(B19=\"\",E19<>\"\"),B19=\"Solvent\",B19=\"Dil Count\"),\"-\",IF(G19=\"\",\"\",(G19-MAX($G$2:G18))*1000*INDEX(CalInfo!$J$19:$J$33,MATCH(\"Compound \"&B19,CalInfo!$L$19:$L$33,FALSE))/CalInfo!$B$14))","v":""},{"$f":"IF(ISNUMBER(B19),INDEX(CalInfo!$J$19:$J$33,MATCH(\"Compound \"&B19,CalInfo!$L$19:$L$33,FALSE))*(G19-MAX($G$2:G18))/(MAX($G$3:$G$19)-MIN($G$3:$G$19)),\"\")","v":""},null,null,"",null,null,{"$f":"IF(L19=\"\",\"\",IF(L19=\"QS to Volume\",\"To \"&INDEX(CalInfo!$B$4:$B$8,MATCH($N$1,CalInfo!$A$4:$A$8,FALSE))&\" mL\",IF(OR(D19=\"STD Count\",D19=\"Solvent\",D19=\"Internal Standard\"),INDEX(Backend!$M$2:$Q$4,MATCH('Cal Prep'!D19,Backend!$L$2:$L$5,FALSE),MATCH($N$1,Backend!$M$1:$Q$1,FALSE)),IF(AND($N$2=\"No\",L19=\"Dilution Prep\"),\"-\",IF(L19=\"Dilution Prep\",(INDEX(CalInfo!$B$4:$B$8,MATCH($N$1,CalInfo!$A$4:$A$8,FALSE))*$N$1)*1000/CalInfo!$A$14&\" uL\",IF($N$2=\"yes\",\"-\",IF(C19=\"Solid\",ROUND($N$1*INDEX(CalInfo!$B$4:$B$8,MATCH($N$1,CalInfo!$A$4:$A$8,FALSE))/(IF(ISNUMBER(D19),INDEX(CalInfo!$J$19:$J$33,MATCH(\"Compound \"&D19,CalInfo!$L$19:$L$33,FALSE)),\"\")*1000),3)&\" g\",ROUND(($N$1*1000*INDEX(CalInfo!$B$4:$B$8,MATCH($N$1,CalInfo!$A$4:$A$8,FALSE))/INDEX(Compounds!C:C,MATCH(L19,Compounds!A:A,FALSE)))/1000/5,0)*5&\" uL\")))))))","v":""},null,{"$f":"IF(OR(AND(D19=\"\",L19<>\"\"),D19=\"Solvent\",D19=\"STD Count\",L19=\"Dilution Prep\"),\"-\",IF(P19=\"\",\"\",IF(D19=\"Internal Standard\",(P19-MAX($P$2:P18))*1000*INDEX(CalInfo!$J$19:$J$33,MATCH(D19,CalInfo!$A$19:$A$33,FALSE))/INDEX(CalInfo!$B$4:$B$8,MATCH($N$1,CalInfo!$A$4:$A$8,FALSE)),IF($N$2=\"yes\",(INDEX($P$3:$P$21,MATCH(\"Dilution prep\",$L$3:$L$21,FALSE))-VLOOKUP(INDEX($P$3:$P$21,MATCH(\"Dilution prep\",$L$3:$L$21,FALSE))-0.001,$P$3:$P$21,1,TRUE))*INDEX($I$3:$I$19,MATCH(L19,$E$3:$E$19,FALSE))*1000/INDEX(CalInfo!$B$4:$B$8,MATCH($N$1,CalInfo!$A$4:$A$8,FALSE)),(P19-MAX($P$2:P18))*1000*INDEX(CalInfo!$J$19:$J$33,MATCH(\"Compound \"&D19,CalInfo!$L$19:$L$33,FALSE))/INDEX(CalInfo!$B$4:$B$8,MATCH($N$1,CalInfo!$A$4:$A$8,FALSE))))))","v":""},null,null,{"$f":"IF(L19=\"\",\"\",IF(L19=\"QS to Volume\",\"To \"&INDEX(CalInfo!$B$4:$B$8,MATCH($S$1,CalInfo!$A$4:$A$8,FALSE))&\" mL\",IF(OR(D19=\"STD Count\",D19=\"Solvent\",D19=\"Internal Standard\"),INDEX(Backend!$M$2:$Q$4,MATCH('Cal Prep'!D19,Backend!$L$2:$L$5,FALSE),MATCH($S$1,Backend!$M$1:$Q$1,FALSE)),IF(AND($S$2=\"No\",L19=\"Dilution Prep\"),\"-\",IF(L19=\"Dilution Prep\",(INDEX(CalInfo!$B$4:$B$8,MATCH($S$1,CalInfo!$A$4:$A$8,FALSE))*$S$1)*1000/CalInfo!$A$14&\" uL\",IF($S$2=\"yes\",\"-\",IF(C19=\"Solid\",ROUND($S$1*INDEX(CalInfo!$B$4:$B$8,MATCH($S$1,CalInfo!$A$4:$A$8,FALSE))/(IF(ISNUMBER(D19),INDEX(CalInfo!$J$19:$J$33,MATCH(\"Compound \"&D19,CalInfo!$L$19:$L$33,FALSE)),\"\")*1000),3)&\" g\",ROUND(($S$1*1000*INDEX(CalInfo!$B$4:$B$8,MATCH($S$1,CalInfo!$A$4:$A$8,FALSE))/INDEX(Compounds!C:C,MATCH(L19,Compounds!A:A,FALSE)))/1000/5,0)*5&\" uL\")))))))","v":""},null,{"$f":"IF(OR(AND(D19=\"\",L19<>\"\"),D19=\"Solvent\",D19=\"STD Count\",L19=\"Dilution Prep\"),\"-\",IF(U19=\"\",\"\",IF(D19=\"Internal Standard\",(U19-MAX($U$2:U18))*1000*INDEX(CalInfo!$J$19:$J$33,MATCH(D19,CalInfo!$A$19:$A$33,FALSE))/INDEX(CalInfo!$B$4:$B$8,MATCH($S$1,CalInfo!$A$4:$A$8,FALSE)),IF($S$2=\"yes\",(INDEX($U$3:$U$21,MATCH(\"Dilution prep\",$L$3:$L$21,FALSE))-VLOOKUP(INDEX($U$3:$U$21,MATCH(\"Dilution prep\",$L$3:$L$21,FALSE))-0.001,$U$3:$U$21,1,TRUE))*INDEX($I$3:$I$19,MATCH(L19,$E$3:$E$19,FALSE))*1000/INDEX(CalInfo!$B$4:$B$8,MATCH($S$1,CalInfo!$A$4:$A$8,FALSE)),(U19-MAX($U$2:U18))*1000*INDEX(CalInfo!$J$19:$J$33,MATCH(\"Compound \"&D19,CalInfo!$L$19:$L$33,FALSE))/INDEX(CalInfo!$B$4:$B$8,MATCH($S$1,CalInfo!$A$4:$A$8,FALSE))))))","v":""},null,null,{"$f":"IF(L19=\"\",\"\",IF(L19=\"QS to Volume\",\"To \"&INDEX(CalInfo!$B$4:$B$8,MATCH($X$1,CalInfo!$A$4:$A$8,FALSE))&\" mL\",IF(OR(D19=\"STD Count\",D19=\"Solvent\",D19=\"Internal Standard\"),INDEX(Backend!$M$2:$Q$4,MATCH('Cal Prep'!D19,Backend!$L$2:$L$5,FALSE),MATCH($X$1,Backend!$M$1:$Q$1,FALSE)),IF(AND($X$2=\"No\",L19=\"Dilution Prep\"),\"-\",IF(L19=\"Dilution Prep\",(INDEX(CalInfo!$B$4:$B$8,MATCH($X$1,CalInfo!$A$4:$A$8,FALSE))*$X$1)*1000/CalInfo!$A$14&\" uL\",IF($X$2=\"yes\",\"-\",IF(C19=\"Solid\",ROUND($X$1*INDEX(CalInfo!$B$4:$B$8,MATCH($X$1,CalInfo!$A$4:$A$8,FALSE))/(IF(ISNUMBER(D19),INDEX(CalInfo!$J$19:$J$33,MATCH(\"Compound \"&D19,CalInfo!$L$19:$L$33,FALSE)),\"\")*1000),3)&\" g\",ROUND(($X$1*1000*INDEX(CalInfo!$B$4:$B$8,MATCH($X$1,CalInfo!$A$4:$A$8,FALSE))/INDEX(Compounds!C:C,MATCH(L19,Compounds!A:A,FALSE)))/1000/5,0)*5&\" uL\")))))))","v":""},null,{"$f":"IF(OR(AND(D19=\"\",L19<>\"\"),D19=\"Solvent\",D19=\"STD Count\",L19=\"Dilution Prep\"),\"-\",IF(Z19=\"\",\"\",IF(D19=\"Internal Standard\",(Z19-MAX($Z$2:Z18))*1000*INDEX(CalInfo!$J$19:$J$33,MATCH(D19,CalInfo!$A$19:$A$33,FALSE))/INDEX(CalInfo!$B$4:$B$8,MATCH($X$1,CalInfo!$A$4:$A$8,FALSE)),IF($X$2=\"yes\",(INDEX($Z$3:$Z$21,MATCH(\"Dilution prep\",$L$3:$L$21,FALSE))-VLOOKUP(INDEX($Z$3:$Z$21,MATCH(\"Dilution prep\",$L$3:$L$21,FALSE))-0.001,$Z$3:$Z$21,1,TRUE))*INDEX($I$3:$I$19,MATCH(L19,$E$3:$E$19,FALSE))*1000/INDEX(CalInfo!$B$4:$B$8,MATCH($X$1,CalInfo!$A$4:$A$8,FALSE)),(Z19-MAX($Z$2:Z18))*1000*INDEX(CalInfo!$J$19:$J$33,MATCH(\"Compound \"&D19,CalInfo!$L$19:$L$33,FALSE))/INDEX(CalInfo!$B$4:$B$8,MATCH($X$1,CalInfo!$A$4:$A$8,FALSE))))))","v":""},null,null,{"$f":"IF(L19=\"\",\"\",IF(L19=\"QS to Volume\",\"To \"&INDEX(CalInfo!$B$4:$B$8,MATCH($AC$1,CalInfo!$A$4:$A$8,FALSE))&\" mL\",IF(OR(D19=\"STD Count\",D19=\"Solvent\",D19=\"Internal Standard\"),INDEX(Backend!$M$2:$Q$4,MATCH('Cal Prep'!D19,Backend!$L$2:$L$5,FALSE),MATCH($AC$1,Backend!$M$1:$Q$1,FALSE)),IF(AND($AC$2=\"No\",L19=\"Dilution Prep\"),\"-\",IF(L19=\"Dilution Prep\",(INDEX(CalInfo!$B$4:$B$8,MATCH($AC$1,CalInfo!$A$4:$A$8,FALSE))*$AC$1)*1000/CalInfo!$A$14&\" uL\",IF($AC$2=\"yes\",\"-\",IF(C19=\"Solid\",ROUND($AC$1*INDEX(CalInfo!$B$4:$B$8,MATCH($AC$1,CalInfo!$A$4:$A$8,FALSE))/(IF(ISNUMBER(D19),INDEX(CalInfo!$J$19:$J$33,MATCH(\"Compound \"&D19,CalInfo!$L$19:$L$33,FALSE)),\"\")*1000),3)&\" g\",ROUND(($AC$1*1000*INDEX(CalInfo!$B$4:$B$8,MATCH($AC$1,CalInfo!$A$4:$A$8,FALSE))/INDEX(Compounds!C:C,MATCH(L19,Compounds!A:A,FALSE)))/1000/5,0)*5&\" uL\")))))))","v":""},null,{"$f":"IF(OR(AND(D19=\"\",L19<>\"\"),D19=\"Solvent\",D19=\"STD Count\",L19=\"Dilution Prep\"),\"-\",IF(AE19=\"\",\"\",IF(D19=\"Internal Standard\",(AE19-MAX($AE$2:AE18))*1000*INDEX(CalInfo!$J$19:$J$33,MATCH(D19,CalInfo!$A$19:$A$33,FALSE))/INDEX(CalInfo!$B$4:$B$8,MATCH($AC$1,CalInfo!$A$4:$A$8,FALSE)),IF($AC$2=\"yes\",(INDEX($AE$3:$AE$21,MATCH(\"Dilution prep\",$L$3:$L$21,FALSE))-VLOOKUP(INDEX($AE$3:$AE$21,MATCH(\"Dilution prep\",$L$3:$L$21,FALSE))-0.001,$AE$3:$AE$21,1,TRUE))*INDEX($I$3:$I$19,MATCH(L19,$E$3:$E$19,FALSE))*1000/INDEX(CalInfo!$B$4:$B$8,MATCH($AC$1,CalInfo!$A$4:$A$8,FALSE)),(AE19-MAX($AE$2:AE18))*1000*INDEX(CalInfo!$J$19:$J$33,MATCH(\"Compound \"&D19,CalInfo!$L$19:$L$33,FALSE))/INDEX(CalInfo!$B$4:$B$8,MATCH($AC$1,CalInfo!$A$4:$A$8,FALSE))))))","v":""},null,null,{"$f":"IF(L19=\"\",\"\",IF(L19=\"QS to Volume\",\"To \"&INDEX(CalInfo!$B$4:$B$8,MATCH($AH$1,CalInfo!$A$4:$A$8,FALSE))&\" mL\",IF(OR(D19=\"STD Count\",D19=\"Solvent\",D19=\"Internal Standard\"),INDEX(Backend!$M$2:$Q$4,MATCH('Cal Prep'!D19,Backend!$L$2:$L$5,FALSE),MATCH($AH$1,Backend!$M$1:$Q$1,FALSE)),IF(AND($AH$2=\"No\",L19=\"Dilution Prep\"),\"-\",IF(L19=\"Dilution Prep\",(INDEX(CalInfo!$B$4:$B$8,MATCH($AH$1,CalInfo!$A$4:$A$8,FALSE))*$AH$1)*1000/CalInfo!$A$14&\" uL\",IF($AH$2=\"yes\",\"-\",IF(C19=\"Solid\",ROUND($AH$1*INDEX(CalInfo!$B$4:$B$8,MATCH($AH$1,CalInfo!$A$4:$A$8,FALSE))/(IF(ISNUMBER(D19),INDEX(CalInfo!$J$19:$J$33,MATCH(\"Compound \"&D19,CalInfo!$L$19:$L$33,FALSE)),\"\")*1000),3)&\" g\",ROUND(($AH$1*1000*INDEX(CalInfo!$B$4:$B$8,MATCH($AH$1,CalInfo!$A$4:$A$8,FALSE))/INDEX(Compounds!C:C,MATCH(L19,Compounds!A:A,FALSE)))/1000/5,0)*5&\" uL\")))))))","v":""},null,{"$f":"IF(OR(AND(D19=\"\",L19<>\"\"),D19=\"Solvent\",D19=\"STD Count\",L19=\"Dilution Prep\"),\"-\",IF(AJ19=\"\",\"\",IF(D19=\"Internal Standard\",(AJ19-MAX($AJ$2:AJ18))*1000*INDEX(CalInfo!$J$19:$J$33,MATCH(D19,CalInfo!$A$19:$A$33,FALSE))/INDEX(CalInfo!$B$4:$B$8,MATCH($AH$1,CalInfo!$A$4:$A$8,FALSE)),IF($AH$2=\"yes\",(INDEX($AJ$3:$AJ$21,MATCH(\"Dilution prep\",$L$3:$L$21,FALSE))-VLOOKUP(INDEX($AJ$3:$AJ$21,MATCH(\"Dilution prep\",$L$3:$L$21,FALSE))-0.001,$AJ$3:$AJ$21,1,TRUE))*INDEX($I$3:$I$19,MATCH(L19,$E$3:$E$19,FALSE))*1000/INDEX(CalInfo!$B$4:$B$8,MATCH($AH$1,CalInfo!$A$4:$A$8,FALSE)),(AJ19-MAX($AJ$2:AJ18))*1000*INDEX(CalInfo!$J$19:$J$33,MATCH(\"Compound \"&D19,CalInfo!$L$19:$L$33,FALSE))/INDEX(CalInfo!$B$4:$B$8,MATCH($AH$1,CalInfo!$A$4:$A$8,FALSE))))))","v":""}]
[null,{"$f":"IF(MAX($B$4:B19)<CalInfo!$O$26,MAX('Cal Prep'!$B$4:B19)+1,\"\")","v":""},{"$f":"IF(OR(D20=\"\",D20=\"Solvent\",D20=\"Internal Standard\",D20=\"Dilution\"),\"\",INDEX(CalInfo!$E$19:$E$33,MATCH(\"Compound \"&'Cal Prep'!D20,CalInfo!$L$19:$L$33,FALSE)))","v":""},{"$f":"IF(MAX($D$4:D19)<CalInfo!$O$26,MAX('Cal Prep'!$D$4:D19)+1,\"\")","v":""},null,null,null,null,null,null,null,"",null,null,{"$f":"IF(L20=\"\",\"\",IF(L20=\"QS to Volume\",\"To \"&INDEX(CalInfo!$B$4:$B$8,MATCH($N$1,CalInfo!$A$4:$A$8,FALSE))&\" mL\",IF(OR(D20=\"STD Count\",D20=\"Solvent\",D20=\"Internal Standard\"),INDEX(Backend!$M$2:$Q$4,MATCH('Cal Prep'!D20,Backend!$L$2:$L$5,FALSE),MATCH($N$1,Backend!$M$1:$Q$1,FALSE)),IF(AND($N$2=\"No\",L20=\"Dilution Prep\"),\"-\",IF(L20=\"Dilution Prep\",(INDEX(CalInfo!$B$4:$B$8,MATCH($N$1,CalInfo!$A$4:$A$8,FALSE))*$N$1)*1000/CalInfo!$A$14&\" uL\",IF($N$2=\"yes\",\"-\",IF(C20=\"Solid\",ROUND($N$1*INDEX(CalInfo!$B$4:$B$8,MATCH($N$1,CalInfo!$A$4:$A$8,FALSE))/(IF(ISNUMBER(D20),INDEX(CalInfo!$J$19:$J$33,MATCH(\"Compound \"&D20,CalInfo!$L$19:$L$33,FALSE)),\"\")*1000),3)&\" g\",ROUND(($N$1*1000*INDEX(CalInfo!$B$4:$B$8,MATCH($N$1,CalInfo!$A$4:$A$8,FALSE))/INDEX(Compounds!C:C,MATCH(L20,Compounds!A:A,FALSE)))/1000/5,0)*5&\" uL\")))))))","v":""},null,{"$f":"IF(OR(AND(D20=\"\",L20<>\"\"),D20=\"Solvent\",D20=\"STD Count\",L20=\"Dilution Prep\"),\"-\",IF(P20=\"\",\"\",IF(D20=\"Internal Standard\",(P20-MAX($P$2:P19))*1000*INDEX(CalInfo!$J$19:$J$33,MATCH(D20,CalInfo!$A$19:$A$33,FALSE))/INDEX(CalInfo!$B$4:$B$8,MATCH($N$1,CalInfo!$A$4:$A$8,FALSE)),IF($N$2=\"yes\",(INDEX($P$3:$P$21,MATCH(\"Dilution prep\",$L$3:$L$21,FALSE))-VLOOKUP(INDEX($P$3:$P$21,MATCH(\"Dilution prep\",$L$3:$L$21,FALSE))-0.001,$P$3:$P$21,1,TRUE))*INDEX($I$3:$I$19,MATCH(L20,$E$3:$E$19,FALSE))*1000/INDEX(CalInfo!$B$4:$B$8,MATCH($N$1,CalInfo!$A$4:$A$8,FALSE)),(P20-MAX($P$2:P19))*1000*INDEX(CalInfo!$J$19:$J$33,MATCH(\"Compound \"&D20,CalInfo!$L$19:$L$33,FALSE))/INDEX(CalInfo!$B$4:$B$8,MATCH($N$1,CalInfo!$A$4:$A$8,FALSE))))))","v":""},null,null,{"$f":"IF(L20=\"\",\"\",IF(L20=\"QS to Volume\",\"To \"&INDEX(CalInfo!$B$4:$B$8,MATCH($S$1,CalInfo!$A$4:$A$8,FALSE))&\" mL\",IF(OR(D20=\"STD Count\",D20=\"Solvent\",D20=\"Internal Standard\"),INDEX(Backend!$M$2:$Q$4,MATCH('Cal Prep'!D20,Backend!$L$2:$L$5,FALSE),MATCH($S$1,Backend!$M$1:$Q$1,FALSE)),IF(AND($S$2=\"No\",L20=\"Dilution Prep\"),\"-\",IF(L20=\"Dilution Prep\",(INDEX(CalInfo!$B$4:$B$8,MATCH($S$1,CalInfo!$A$4:$A$8,FALSE))*$S$1)*1000/CalInfo!$A$14&\" uL\",IF($S$2=\"yes\",\"-\",IF(C20=\"Solid\",ROUND($S$1*INDEX(CalInfo!$B$4:$B$8,MATCH($S$1,CalInfo!$A$4:$A$8,FALSE))/(IF(ISNUMBER(D20),INDEX(CalInfo!$J$19:$J$33,MATCH(\"Compound \"&D20,CalInfo!$L$19:$L$33,FALSE)),\"\")*1000),3)&\" g\",ROUND(($S$1*1000*INDEX(CalInfo!$B$4:$B$8,MATCH($S$1,CalInfo!$A$4:$A$8,FALSE))/INDEX(Compounds!C:C,MATCH(L20,Compounds!A:A,FALSE)))/1000/5,0)*5&\" uL\")))))))","v":""},null,{"$f":"IF(OR(AND(D20=\"\",L20<>\"\"),D20=\"Solvent\",D20=\"STD Count\",L20=\"Dilution Prep\"),\"-\",IF(U20=\"\",\"\",IF(D20=\"Internal Standard\",(U20-MAX($U$2:U19))*1000*INDEX(CalInfo!$J$19:$J$33,MATCH(D20,CalInfo!$A$19:$A$33,FALSE))/INDEX(CalInfo!$B$4:$B$8,MATCH($S$1,CalInfo!$A$4:$A$8,FALSE)),IF($S$2=\"yes\",(INDEX($U$3:$U$21,MATCH(\"Dilution prep\",$L$3:$L$21,FALSE))-VLOOKUP(INDEX($U$3:$U$21,MATCH(\"Dilution prep\",$L$3:$L$21,FALSE))-0.001,$U$3:$U$21,1,TRUE))*INDEX($I$3:$I$19,MATCH(L20,$E$3:$E$19,FALSE))*1000/INDEX(CalInfo!$B$4:$B$8,MATCH($S$1,CalInfo!$A$4:$A$8,FALSE)),(U20-MAX($U$2:U19))*1000*INDEX(CalInfo!$J$19:$J$33,MATCH(\"Compound \"&D20,CalInfo!$L$19:$L$33,FALSE))/INDEX(CalInfo!$B$4:$B$8,MATCH($S$1,CalInfo!$A$4:$A$8,FALSE))))))","v":""},null,null,{"$f":"IF(L20=\"\",\"\",IF(L20=\"QS to Volume\",\"To \"&INDEX(CalInfo!$B$4:$B$8,MATCH($X$1,CalInfo!$A$4:$A$8,FALSE))&\" mL\",IF(OR(D20=\"STD Count\",D20=\"Solvent\",D20=\"Internal Standard\"),INDEX(Backend!$M$2:$Q$4,MATCH('Cal Prep'!D20,Backend!$L$2:$L$5,FALSE),MATCH($X$1,Backend!$M$1:$Q$1,FALSE)),IF(AND($X$2=\"No\",L20=\"Dilution Prep\"),\"-\",IF(L20=\"Dilution Prep\",(INDEX(CalInfo!$B$4:$B$8,MATCH($X$1,CalInfo!$A$4:$A$8,FALSE))*$X$1)*1000/CalInfo!$A$14&\" uL\",IF($X$2=\"yes\",\"-\",IF(C20=\"Solid\",ROUND($X$1*INDEX(CalInfo!$B$4:$B$8,MATCH($X$1,CalInfo!$A$4:$A$8,FALSE))/(IF(ISNUMBER(D20),INDEX(CalInfo!$J$19:$J$33,MATCH(\"Compound \"&D20,CalInfo!$L$19:$L$33,FALSE)),\"\")*1000),3)&\" g\",ROUND(($X$1*1000*INDEX(CalInfo!$B$4:$B$8,MATCH($X$1,CalInfo!$A$4:$A$8,FALSE))/INDEX(Compounds!C:C,MATCH(L20,Compounds!A:A,FALSE)))/1000/5,0)*5&\" uL\")))))))","v":""},null,{"$f":"IF(OR(AND(D20=\"\",L20<>\"\"),D20=\"Solvent\",D20=\"STD Count\",L20=\"Dilution Prep\"),\"-\",IF(Z20=\"\",\"\",IF(D20=\"Internal Standard\",(Z20-MAX($Z$2:Z19))*1000*INDEX(CalInfo!$J$19:$J$33,MATCH(D20,CalInfo!$A$19:$A$33,FALSE))/INDEX(CalInfo!$B$4:$B$8,MATCH($X$1,CalInfo!$A$4:$A$8,FALSE)),IF($X$2=\"yes\",(INDEX($Z$3:$Z$21,MATCH(\"Dilution prep\",$L$3:$L$21,FALSE))-VLOOKUP(INDEX($Z$3:$Z$21,MATCH(\"Dilution prep\",$L$3:$L$21,FALSE))-0.001,$Z$3:$Z$21,1,TRUE))*INDEX($I$3:$I$19,MATCH(L20,$E$3:$E$19,FALSE))*1000/INDEX(CalInfo!$B$4:$B$8,MATCH($X$1,CalInfo!$A$4:$A$8,FALSE)),(Z20-MAX($Z$2:Z19))*1000*INDEX(CalInfo!$J$19:$J$33,MATCH(\"Compound \"&D20,CalInfo!$L$19:$L$33,FALSE))/INDEX(CalInfo!$B$4:$B$8,MATCH($X$1,CalInfo!$A$4:$A$8,FALSE))))))","v":""},null,null,{"$f":"IF(L20=\"\",\"\",IF(L20=\"QS to Volume\",\"To \"&INDEX(CalInfo!$B$4:$B$8,MATCH($AC$1,CalInfo!$A$4:$A$8,FALSE))&\" mL\",IF(OR(D20=\"STD Count\",D20=\"Solvent\",D20=\"Internal Standard\"),INDEX(Backend!$M$2:$Q$4,MATCH('Cal Prep'!D20,Backend!$L$2:$L$5,FALSE),MATCH($AC$1,Backend!$M$1:$Q$1,FALSE)),IF(AND($AC$2=\"No\",L20=\"Dilution Prep\"),\"-\",IF(L20=\"Dilution Prep\",(INDEX(CalInfo!$B$4:$B$8,MATCH($AC$1,CalInfo!$A$4:$A$8,FALSE))*$AC$1)*1000/CalInfo!$A$14&\" uL\",IF($AC$2=\"yes\",\"-\",IF(C20=\"Solid\",ROUND($AC$1*INDEX(CalInfo!$B$4:$B$8,MATCH($AC$1,CalInfo!$A$4:$A$8,FALSE))/(IF(ISNUMBER(D20),INDEX(CalInfo!$J$19:$J$33,MATCH(\"Compound \"&D20,CalInfo!$L$19:$L$33,FALSE)),\"\")*1000),3)&\" g\",ROUND(($AC$1*1000*INDEX(CalInfo!$B$4:$B$8,MATCH($AC$1,CalInfo!$A$4:$A$8,FALSE))/INDEX(Compounds!C:C,MATCH(L20,Compounds!A:A,FALSE)))/1000/5,0)*5&\" uL\")))))))","v":""},null,{"$f":"IF(OR(AND(D20=\"\",L20<>\"\"),D20=\"Solvent\",D20=\"STD Count\",L20=\"Dilution Prep\"),\"-\",IF(AE20=\"\",\"\",IF(D20=\"Internal Standard\",(AE20-MAX($AE$2:AE19))*1000*INDEX(CalInfo!$J$19:$J$33,MATCH(D20,CalInfo!$A$19:$A$33,FALSE))/INDEX(CalInfo!$B$4:$B$8,MATCH($AC$1,CalInfo!$A$4:$A$8,FALSE)),IF($AC$2=\"yes\",(INDEX($AE$3:$AE$21,MATCH(\"Dilution prep\",$L$3:$L$21,FALSE))-VLOOKUP(INDEX($AE$3:$AE$21,MATCH(\"Dilution prep\",$L$3:$L$21,FALSE))-0.001,$AE$3:$AE$21,1,TRUE))*INDEX($I$3:$I$19,MATCH(L20,$E$3:$E$19,FALSE))*1000/INDEX(CalInfo!$B$4:$B$8,MATCH($AC$1,CalInfo!$A$4:$A$8,FALSE)),(AE20-MAX($AE$2:AE19))*1000*INDEX(CalInfo!$J$19:$J$33,MATCH(\"Compound \"&D20,CalInfo!$L$19:$L$33,FALSE))/INDEX(CalInfo!$B$4:$B$8,MATCH($AC$1,CalInfo!$A$4:$A$8,FALSE))))))","v":""},null,null,{"$f":"IF(L20=\"\",\"\",IF(L20=\"QS to Volume\",\"To \"&INDEX(CalInfo!$B$4:$B$8,MATCH($AH$1,CalInfo!$A$4:$A$8,FALSE))&\" mL\",IF(OR(D20=\"STD Count\",D20=\"Solvent\",D20=\"Internal Standard\"),INDEX(Backend!$M$2:$Q$4,MATCH('Cal Prep'!D20,Backend!$L$2:$L$5,FALSE),MATCH($AH$1,Backend!$M$1:$Q$1,FALSE)),IF(AND($AH$2=\"No\",L20=\"Dilution Prep\"),\"-\",IF(L20=\"Dilution Prep\",(INDEX(CalInfo!$B$4:$B$8,MATCH($AH$1,CalInfo!$A$4:$A$8,FALSE))*$AH$1)*1000/CalInfo!$A$14&\" uL\",IF($AH$2=\"yes\",\"-\",IF(C20=\"Solid\",ROUND($AH$1*INDEX(CalInfo!$B$4:$B$8,MATCH($AH$1,CalInfo!$A$4:$A$8,FALSE))/(IF(ISNUMBER(D20),INDEX(CalInfo!$J$19:$J$33,MATCH(\"Compound \"&D20,CalInfo!$L$19:$L$33,FALSE)),\"\")*1000),3)&\" g\",ROUND(($AH$1*1000*INDEX(CalInfo!$B$4:$B$8,MATCH($AH$1,CalInfo!$A$4:$A$8,FALSE))/INDEX(Compounds!C:C,MATCH(L20,Compounds!A:A,FALSE)))/1000/5,0)*5&\" uL\")))))))","v":""},null,{"$f":"IF(OR(AND(D20=\"\",L20<>\"\"),D20=\"Solvent\",D20=\"STD Count\",L20=\"Dilution Prep\"),\"-\",IF(AJ20=\"\",\"\",IF(D20=\"Internal Standard\",(AJ20-MAX($AJ$2:AJ19))*1000*INDEX(CalInfo!$J$19:$J$33,MATCH(D20,CalInfo!$A$19:$A$33,FALSE))/INDEX(CalInfo!$B$4:$B$8,MATCH($AH$1,CalInfo!$A$4:$A$8,FALSE)),IF($AH$2=\"yes\",(INDEX($AJ$3:$AJ$21,MATCH(\"Dilution prep\",$L$3:$L$21,FALSE))-VLOOKUP(INDEX($AJ$3:$AJ$21,MATCH(\"Dilution prep\",$L$3:$L$21,FALSE))-0.001,$AJ$3:$AJ$21,1,TRUE))*INDEX($I$3:$I$19,MATCH(L20,$E$3:$E$19,FALSE))*1000/INDEX(CalInfo!$B$4:$B$8,MATCH($AH$1,CalInfo!$A$4:$A$8,FALSE)),(AJ20-MAX($AJ$2:AJ19))*1000*INDEX(CalInfo!$J$19:$J$33,MATCH(\"Compound \"&D20,CalInfo!$L$19:$L$33,FALSE))/INDEX(CalInfo!$B$4:$B$8,MATCH($AH$1,CalInfo!$A$4:$A$8,FALSE))))))","v":""}]
[null,{"$f":"IF(MAX($B$4:B20)<CalInfo!$O$26,MAX('Cal Prep'!$B$4:B20)+1,\"\")","v":""},{"$f":"IF(OR(D21=\"\",D21=\"Solvent\",D21=\"Internal Standard\",D21=\"Dilution\"),\"\",INDEX(CalInfo!$E$19:$E$33,MATCH(\"Compound \"&'Cal Prep'!D21,CalInfo!$L$19:$L$33,FALSE)))","v":""},{"$f":"IF(MAX($D$4:D20)<CalInfo!$O$26,MAX('Cal Prep'!$D$4:D20)+1,\"\")","v":""},null,null,null,null,null,null,null,"",null,null,{"$f":"IF(L21=\"\",\"\",IF(L21=\"QS to Volume\",\"To \"&INDEX(CalInfo!$B$4:$B$8,MATCH($N$1,CalInfo!$A$4:$A$8,FALSE))&\" mL\",IF(OR(D21=\"STD Count\",D21=\"Solvent\",D21=\"Internal Standard\"),INDEX(Backend!$M$2:$Q$4,MATCH('Cal Prep'!D21,Backend!$L$2:$L$5,FALSE),MATCH($N$1,Backend!$M$1:$Q$1,FALSE)),IF(AND($N$2=\"No\",L21=\"Dilution Prep\"),\"-\",IF(L21=\"Dilution Prep\",(INDEX(CalInfo!$B$4:$B$8,MATCH($N$1,CalInfo!$A$4:$A$8,FALSE))*$N$1)*1000/CalInfo!$A$14&\" uL\",IF($N$2=\"yes\",\"-\",IF(C21=\"Solid\",ROUND($N$1*INDEX(CalInfo!$B$4:$B$8,MATCH($N$1,CalInfo!$A$4:$A$8,FALSE))/(IF(ISNUMBER(D21),INDEX(CalInfo!$J$19:$J$33,MATCH(\"Compound \"&D21,CalInfo!$L$19:$L$33,FALSE)),\"\")*1000),3)&\" g\",ROUND(($N$1*1000*INDEX(CalInfo!$B$4:$B$8,MATCH($N$1,CalInfo!$A$4:$A$8,FALSE))/INDEX(Compounds!C:C,MATCH(L21,Compounds!A:A,FALSE)))/1000/5,0)*5&\" uL\")))))))","v":""},null,{"$f":"IF(OR(AND(D21=\"\",L21<>\"\"),D21=\"Solvent\",D21=\"STD Count\",L21=\"Dilution Prep\"),\"-\",IF(P21=\"\",\"\",IF(D21=\"Internal Standard\",(P21-MAX($P$2:P20))*1000*INDEX(CalInfo!$J$19:$J$33,MATCH(D21,CalInfo!$A$19:$A$33,FALSE))/INDEX(CalInfo!$B$4:$B$8,MATCH($N$1,CalInfo!$A$4:$A$8,FALSE)),IF($N$2=\"yes\",(INDEX($P$3:$P$21,MATCH(\"Dilution prep\",$L$3:$L$21,FALSE))-VLOOKUP(INDEX($P$3:$P$21,MATCH(\"Dilution prep\",$L$3:$L$21,FALSE))-0.001,$P$3:$P$21,1,TRUE))*INDEX($I$3:$I$19,MATCH(L21,$E$3:$E$19,FALSE))*1000/INDEX(CalInfo!$B$4:$B$8,MATCH($N$1,CalInfo!$A$4:$A$8,FALSE)),(P21-MAX($P$2:P20))*1000*INDEX(CalInfo!$J$19:$J$33,MATCH(\"Compound \"&D21,CalInfo!$L$19:$L$33,FALSE))/INDEX(CalInfo!$B$4:$B$8,MATCH($N$1,CalInfo!$A$4:$A$8,FALSE))))))","v":""},null,null,{"$f":"IF(L21=\"\",\"\",IF(L21=\"QS to Volume\",\"To \"&INDEX(CalInfo!$B$4:$B$8,MATCH($S$1,CalInfo!$A$4:$A$8,FALSE))&\" mL\",IF(OR(D21=\"STD Count\",D21=\"Solvent\",D21=\"Internal Standard\"),INDEX(Backend!$M$2:$Q$4,MATCH('Cal Prep'!D21,Backend!$L$2:$L$5,FALSE),MATCH($S$1,Backend!$M$1:$Q$1,FALSE)),IF(AND($S$2=\"No\",L21=\"Dilution Prep\"),\"-\",IF(L21=\"Dilution Prep\",(INDEX(CalInfo!$B$4:$B$8,MATCH($S$1,CalInfo!$A$4:$A$8,FALSE))*$S$1)*1000/CalInfo!$A$14&\" uL\",IF($S$2=\"yes\",\"-\",IF(C21=\"Solid\",ROUND($S$1*INDEX(CalInfo!$B$4:$B$8,MATCH($S$1,CalInfo!$A$4:$A$8,FALSE))/(IF(ISNUMBER(D21),INDEX(CalInfo!$J$19:$J$33,MATCH(\"Compound \"&D21,CalInfo!$L$19:$L$33,FALSE)),\"\")*1000),3)&\" g\",ROUND(($S$1*1000*INDEX(CalInfo!$B$4:$B$8,MATCH($S$1,CalInfo!$A$4:$A$8,FALSE))/INDEX(Compounds!C:C,MATCH(L21,Compounds!A:A,FALSE)))/1000/5,0)*5&\" uL\")))))))","v":""},null,{"$f":"IF(OR(AND(D21=\"\",L21<>\"\"),D21=\"Solvent\",D21=\"STD Count\",L21=\"Dilution Prep\"),\"-\",IF(U21=\"\",\"\",IF(D21=\"Internal Standard\",(U21-MAX($U$2:U20))*1000*INDEX(CalInfo!$J$19:$J$33,MATCH(D21,CalInfo!$A$19:$A$33,FALSE))/INDEX(CalInfo!$B$4:$B$8,MATCH($S$1,CalInfo!$A$4:$A$8,FALSE)),IF($S$2=\"yes\",(INDEX($U$3:$U$21,MATCH(\"Dilution prep\",$L$3:$L$21,FALSE))-VLOOKUP(INDEX($U$3:$U$21,MATCH(\"Dilution prep\",$L$3:$L$21,FALSE))-0.001,$U$3:$U$21,1,TRUE))*INDEX($I$3:$I$19,MATCH(L21,$E$3:$E$19,FALSE))*1000/INDEX(CalInfo!$B$4:$B$8,MATCH($S$1,CalInfo!$A$4:$A$8,FALSE)),(U21-MAX($U$2:U20))*1000*INDEX(CalInfo!$J$19:$J$33,MATCH(\"Compound \"&D21,CalInfo!$L$19:$L$33,FALSE))/INDEX(CalInfo!$B$4:$B$8,MATCH($S$1,CalInfo!$A$4:$A$8,FALSE))))))","v":""},null,null,{"$f":"IF(L21=\"\",\"\",IF(L21=\"QS to Volume\",\"To \"&INDEX(CalInfo!$B$4:$B$8,MATCH($X$1,CalInfo!$A$4:$A$8,FALSE))&\" mL\",IF(OR(D21=\"STD Count\",D21=\"Solvent\",D21=\"Internal Standard\"),INDEX(Backend!$M$2:$Q$4,MATCH('Cal Prep'!D21,Backend!$L$2:$L$5,FALSE),MATCH($X$1,Backend!$M$1:$Q$1,FALSE)),IF(AND($X$2=\"No\",L21=\"Dilution Prep\"),\"-\",IF(L21=\"Dilution Prep\",(INDEX(CalInfo!$B$4:$B$8,MATCH($X$1,CalInfo!$A$4:$A$8,FALSE))*$X$1)*1000/CalInfo!$A$14&\" uL\",IF($X$2=\"yes\",\"-\",IF(C21=\"Solid\",ROUND($X$1*INDEX(CalInfo!$B$4:$B$8,MATCH($X$1,CalInfo!$A$4:$A$8,FALSE))/(IF(ISNUMBER(D21),INDEX(CalInfo!$J$19:$J$33,MATCH(\"Compound \"&D21,CalInfo!$L$19:$L$33,FALSE)),\"\")*1000),3)&\" g\",ROUND(($X$1*1000*INDEX(CalInfo!$B$4:$B$8,MATCH($X$1,CalInfo!$A$4:$A$8,FALSE))/INDEX(Compounds!C:C,MATCH(L21,Compounds!A:A,FALSE)))/1000/5,0)*5&\" uL\")))))))","v":""},null,{"$f":"IF(OR(AND(D21=\"\",L21<>\"\"),D21=\"Solvent\",D21=\"STD Count\",L21=\"Dilution Prep\"),\"-\",IF(Z21=\"\",\"\",IF(D21=\"Internal Standard\",(Z21-MAX($Z$2:Z20))*1000*INDEX(CalInfo!$J$19:$J$33,MATCH(D21,CalInfo!$A$19:$A$33,FALSE))/INDEX(CalInfo!$B$4:$B$8,MATCH($X$1,CalInfo!$A$4:$A$8,FALSE)),IF($X$2=\"yes\",(INDEX($Z$3:$Z$21,MATCH(\"Dilution prep\",$L$3:$L$21,FALSE))-VLOOKUP(INDEX($Z$3:$Z$21,MATCH(\"Dilution prep\",$L$3:$L$21,FALSE))-0.001,$Z$3:$Z$21,1,TRUE))*INDEX($I$3:$I$19,MATCH(L21,$E$3:$E$19,FALSE))*1000/INDEX(CalInfo!$B$4:$B$8,MATCH($X$1,CalInfo!$A$4:$A$8,FALSE)),(Z21-MAX($Z$2:Z20))*1000*INDEX(CalInfo!$J$19:$J$33,MATCH(\"Compound \"&D21,CalInfo!$L$19:$L$33,FALSE))/INDEX(CalInfo!$B$4:$B$8,MATCH($X$1,CalInfo!$A$4:$A$8,FALSE))))))","v":""},null,null,{"$f":"IF(L21=\"\",\"\",IF(L21=\"QS to Volume\",\"To \"&INDEX(CalInfo!$B$4:$B$8,MATCH($AC$1,CalInfo!$A$4:$A$8,FALSE))&\" mL\",IF(OR(D21=\"STD Count\",D21=\"Solvent\",D21=\"Internal Standard\"),INDEX(Backend!$M$2:$Q$4,MATCH('Cal Prep'!D21,Backend!$L$2:$L$5,FALSE),MATCH($AC$1,Backend!$M$1:$Q$1,FALSE)),IF(AND($AC$2=\"No\",L21=\"Dilution Prep\"),\"-\",IF(L21=\"Dilution Prep\",(INDEX(CalInfo!$B$4:$B$8,MATCH($AC$1,CalInfo!$A$4:$A$8,FALSE))*$AC$1)*1000/CalInfo!$A$14&\" uL\",IF($AC$2=\"yes\",\"-\",IF(C21=\"Solid\",ROUND($AC$1*INDEX(CalInfo!$B$4:$B$8,MATCH($AC$1,CalInfo!$A$4:$A$8,FALSE))/(IF(ISNUMBER(D21),INDEX(CalInfo!$J$19:$J$33,MATCH(\"Compound \"&D21,CalInfo!$L$19:$L$33,FALSE)),\"\")*1000),3)&\" g\",ROUND(($AC$1*1000*INDEX(CalInfo!$B$4:$B$8,MATCH($AC$1,CalInfo!$A$4:$A$8,FALSE))/INDEX(Compounds!C:C,MATCH(L21,Compounds!A:A,FALSE)))/1000/5,0)*5&\" uL\")))))))","v":""},null,{"$f":"IF(OR(AND(D21=\"\",L21<>\"\"),D21=\"Solvent\",D21=\"STD Count\",L21=\"Dilution Prep\"),\"-\",IF(AE21=\"\",\"\",IF(D21=\"Internal Standard\",(AE21-MAX($AE$2:AE20))*1000*INDEX(CalInfo!$J$19:$J$33,MATCH(D21,CalInfo!$A$19:$A$33,FALSE))/INDEX(CalInfo!$B$4:$B$8,MATCH($AC$1,CalInfo!$A$4:$A$8,FALSE)),IF($AC$2=\"yes\",(INDEX($AE$3:$AE$21,MATCH(\"Dilution prep\",$L$3:$L$21,FALSE))-VLOOKUP(INDEX($AE$3:$AE$21,MATCH(\"Dilution prep\",$L$3:$L$21,FALSE))-0.001,$AE$3:$AE$21,1,TRUE))*INDEX($I$3:$I$19,MATCH(L21,$E$3:$E$19,FALSE))*1000/INDEX(CalInfo!$B$4:$B$8,MATCH($AC$1,CalInfo!$A$4:$A$8,FALSE)),(AE21-MAX($AE$2:AE20))*1000*INDEX(CalInfo!$J$19:$J$33,MATCH(\"Compound \"&D21,CalInfo!$L$19:$L$33,FALSE))/INDEX(CalInfo!$B$4:$B$8,MATCH($AC$1,CalInfo!$A$4:$A$8,FALSE))))))","v":""},null,null,{"$f":"IF(L21=\"\",\"\",IF(L21=\"QS to Volume\",\"To \"&INDEX(CalInfo!$B$4:$B$8,MATCH($AH$1,CalInfo!$A$4:$A$8,FALSE))&\" mL\",IF(OR(D21=\"STD Count\",D21=\"Solvent\",D21=\"Internal Standard\"),INDEX(Backend!$M$2:$Q$4,MATCH('Cal Prep'!D21,Backend!$L$2:$L$5,FALSE),MATCH($AH$1,Backend!$M$1:$Q$1,FALSE)),IF(AND($AH$2=\"No\",L21=\"Dilution Prep\"),\"-\",IF(L21=\"Dilution Prep\",(INDEX(CalInfo!$B$4:$B$8,MATCH($AH$1,CalInfo!$A$4:$A$8,FALSE))*$AH$1)*1000/CalInfo!$A$14&\" uL\",IF($AH$2=\"yes\",\"-\",IF(C21=\"Solid\",ROUND($AH$1*INDEX(CalInfo!$B$4:$B$8,MATCH($AH$1,CalInfo!$A$4:$A$8,FALSE))/(IF(ISNUMBER(D21),INDEX(CalInfo!$J$19:$J$33,MATCH(\"Compound \"&D21,CalInfo!$L$19:$L$33,FALSE)),\"\")*1000),3)&\" g\",ROUND(($AH$1*1000*INDEX(CalInfo!$B$4:$B$8,MATCH($AH$1,CalInfo!$A$4:$A$8,FALSE))/INDEX(Compounds!C:C,MATCH(L21,Compounds!A:A,FALSE)))/1000/5,0)*5&\" uL\")))))))","v":""},null,{"$f":"IF(OR(AND(D21=\"\",L21<>\"\"),D21=\"Solvent\",D21=\"STD Count\",L21=\"Dilution Prep\"),\"-\",IF(AJ21=\"\",\"\",IF(D21=\"Internal Standard\",(AJ21-MAX($AJ$2:AJ20))*1000*INDEX(CalInfo!$J$19:$J$33,MATCH(D21,CalInfo!$A$19:$A$33,FALSE))/INDEX(CalInfo!$B$4:$B$8,MATCH($AH$1,CalInfo!$A$4:$A$8,FALSE)),IF($AH$2=\"yes\",(INDEX($AJ$3:$AJ$21,MATCH(\"Dilution prep\",$L$3:$L$21,FALSE))-VLOOKUP(INDEX($AJ$3:$AJ$21,MATCH(\"Dilution prep\",$L$3:$L$21,FALSE))-0.001,$AJ$3:$AJ$21,1,TRUE))*INDEX($I$3:$I$19,MATCH(L21,$E$3:$E$19,FALSE))*1000/INDEX(CalInfo!$B$4:$B$8,MATCH($AH$1,CalInfo!$A$4:$A$8,FALSE)),(AJ21-MAX($AJ$2:AJ20))*1000*INDEX(CalInfo!$J$19:$J$33,MATCH(\"Compound \"&D21,CalInfo!$L$19:$L$33,FALSE))/INDEX(CalInfo!$B$4:$B$8,MATCH($AH$1,CalInfo!$A$4:$A$8,FALSE))))))","v":""}]

{"sheet":"Cal Data","index":3,"n_rows":5,"n_cols":39,"rows_kept":5,"cut":false,"hidden":false,"merged":[]}
[{"$f":"IF(COUNTIF($B$2:B2,\"=\"&B2)>1,B2&\" a\",B2)","v":0},null,null,null,{"$f":"IF(COUNTIF($B$2:F2,\"=\"&F2)>1,F2&\" a\",F2)","v":"0 a"},null,null,null,{"$f":"IF(COUNTIF($B$2:J2,\"=\"&J2)>1,J2&\" a\",J2)","v":"0 a"},null,null,null,{"$f":"IF(COUNTIF($B$2:N2,\"=\"&N2)>1,N2&\" a\",N2)","v":"0 a"},null,null,null,{"$f":"IF(COUNTIF($B$2:R2,\"=\"&R2)>1,R2&\" a\",R2)","v":"0 a"},null,null,null,{"$f":"IF(COUNTIF($B$2:V2,\"=\"&V2)>1,V2&\" a\",V2)","v":"0 a"},null,null,null,{"$f":"IF(COUNTIF($B$2:Z2,\"=\"&Z2)>1,Z2&\" a\",Z2)","v":"0 a"},null,null,null,{"$f":"IF(COUNTIF($B$2:AD2,\"=\"&AD2)>1,AD2&\" a\",AD2)","v":"0 a"},null,null,null,{"$f":"IF(COUNTIF($B$2:AH2,\"=\"&AH2)>1,AH2&\" a\",AH2)","v":"0 a"},null,null,null,{"$f":"IF(COUNTIF($B$2:AL2,\"=\"&AL2)>1,AL2&\" a\",AL2)","v":"0 a"}]
["STD Level",{"$f":"CalInfo!A4","v":0},null,null,"STD Level",{"$f":"CalInfo!A4","v":0},null,null,"STD Level",{"$f":"CalInfo!A5","v":0},null,null,"STD Level",{"$f":"CalInfo!A5","v":0},null,null,"STD Level",{"$f":"CalInfo!A6","v":0},null,null,"STD Level",{"$f":"CalInfo!A6","v":0},null,null,"STD Level",{"$f":"CalInfo!A7","v":0},null,null,"STD Level",{"$f":"CalInfo!A7","v":0},null,null,"STD Level",{"$f":"CalInfo!A8","v":0},null,null,"STD Level",{"$f":"CalInfo!A8","v":0}]
["Filename",null,null,null,"Filename",null,null,null,"Filename",null,null,null,"Filename",null,null,null,"Filename",null,null,null,"Filename",null,null,null,"Filename",null,null,null,"Filename",null,null,null,"Filename",null,null,null,"Filename"]
[]
["Retention Time","Area Counts","Assignment",null,"Retention Time","Area Counts","Assignment",null,"Retention Time","Area Counts","Assignment",null,"Retention Time","Area Counts","Assignment",null,"Retention Time","Area Counts","Assignment",null,"Retention Time","Area Counts","Assignment",null,"Retention Time","Area Counts","Assignment",null,"Retention Time","Area Counts","Assignment",null,"Retention Time","Area Counts","Assignment",null,"Retention Time","Area Counts","Assignment"]

{"sheet":"CalSummary","index":4,"n_rows":169,"n_cols":24,"rows_kept":169,"cut":false,"hidden":false,"merged":[[105,7,105,8],[92,7,92,8],[79,7,79,8],[66,7,66,8],[53,7,53,8],[157,4,157,5],[157,7,157,8],[144,7,144,8],[131,7,131,8],[118,7,118,8],[92,4,92,5],[105,4,105,5],[118,4,118,5],[131,4,131,5],[144,4,144,5],[40,4,40,5],[40,7,40,8],[53,4,53,5],[66,4,66,5],[79,4,79,5],[1,7,1,8],[1,4,1,5],[14,4,14,5],[14,7,14,8],[27,4,27,5],[27,7,27,8]]}
[]
[null,null,null,{"$f":"IF(MAX($D$1:D1)>MAX(CalInfo!$K$19:$K$33),\"\",MAX($D$1:D1)+1)","v":1},{"$f":"IF(D2=\"\",\"\",IF(ISERROR(INDEX(CalInfo!$B$19:$B$33,MATCH(D2,CalInfo!$K$19:$K$33,FALSE))),INDEX(CalInfo!$B$19:$B$33,MATCH(\"Internal Standard\",CalInfo!$A$19:$A$33,FALSE)),INDEX(CalInfo!$B$19:$B$33,MATCH(D2,CalInfo!$K$19:$K$33,FALSE))))","v":{"$error":"#N/A"}},null,null,"Internal Standard",null,null,null,null,null,null,null,null,null,null,null,null,null,null,"RRF/RF",{"$f":"IF(AND(S4=1,T4=1,U4=1),ROUND(AVERAGE(I4:I13)/AVERAGE(H4:H13),0),ROUND(AVERAGE(S4:S13)/AVERAGE(T4:T13),4))","v":{"$error":"#DIV/0!"}}]
["STD Level",null,null,null,"Prep g/L","Area Counts",null,"Prep g/L","Area Counts",null,"% Recovery","% Recovery","ABS. Diff","ABS. Diff",null,"g/L Ratio","AC Ratio",null,"X*Y","X2","Y2",null,"R2/RSD",{"$f":"IF(AND(S4=1,T4=1,U4=1),ROUND(STDEV(I4:I13)*100/AVERAGE(I4:I13),1),ROUND(AVERAGE(S4:S13)^2/(AVERAGE(T4:T13)*AVERAGE(U4:U13)),4))","v":{"$error":"#DIV/0!"}}]
[{"$f":"IF(CalInfo!$A$4=\"\",\"\",CalInfo!$A$4)","v":""},{"$f":"IF(A4=\"\",\"\",IF(ISERROR(MATCH(A4,$A$3:A3,FALSE)),A4,A4&\" a\"))","v":""},null,null,{"$f":"IF(A4=\"\",\"\",INDEX('Cal Prep'!$1:$21,MATCH($E$2,'Cal Prep'!L:L,FALSE),MATCH(A4,'Cal Prep'!$1:$1,FALSE)+3))","v":""},{"$f":"IF(A4=\"\",\"\",SUMIF('Cal Data'!$C$7:$C$202,\"=\"&$E$2,'Cal Data'!$B$7:$B$202))","v":""},null,{"$f":"IF(A4=\"\",\"\",INDEX('Cal Prep'!$1:$21,MATCH(INDEX(CalInfo!$B$19:$B$33,MATCH(\"Internal Standard\",CalInfo!$A$19:$A$33,FALSE)),'Cal Prep'!L:L,FALSE),MATCH(A4,'Cal Prep'!$1:$1,FALSE)+3))","v":""},{"$f":"IF(A4=\"\",\"\",SUMIF('Cal Data'!$C$7:$C$202,\"=\"&INDEX(CalInfo!$B$19:$B$33,MATCH(\"Internal Standard\",CalInfo!$A$19:$A$33,FALSE)),'Cal Data'!$B$7:$B$202))","v":""},null,{"$f":"IF(A4=\"\",\"\",IF(AND(S4=1,T4=1,U4=1),(I4*100/$X$2)/H4,(F4/I4)*(H4/$X$2)*100/E4))","v":""},{"$f":"TEXT(K4,\"0.0\")","v":""},{"$f":"IF(A4=\"\",\"\",IF(AND(S4=1,T4=1,U4=1),ABS(H4-(I4/$X$2)),ABS(E4-(F4/I4)*(H4/$X$2))))","v":""},{"$f":"TEXT(M4,\"0.00\")","v":""},null,{"$f":"IF(A4=\"\",\"\",E4/H4)","v":""},{"$f":"IF(A4=\"\",\"\",F4/I4)","v":""},null,{"$f":"IF(A4=\"\",\"\",P4*Q4)","v":""},{"$f":"IF(A4=\"\",\"\",P4^2)","v":""},{"$f":"IF(A4=\"\",\"\",Q4^2)","v":""},null,"Levels",{"$f":"LEFT(A4&\"/\"&A5&\"/\"&A6&\"/\"&A7&\"/\"&A8&\"/\"&A9&\"/\"&A10&\"/\"&A11&\"/\"&A12&\"/\"&A13,LEN(A4&\"/\"&A5&\"/\"&A6&\"/\"&A7&\"/\"&A8&\"/\"&A9&\"/\"&A10&\"/\"&A11&\"/\"&A12&\"/\"&A13)-(10-COUNT(A4:A13)))","v":{"$error":"#VALUE!"}}]
[{"$f":"IF(CalInfo!$A$4=\"\",\"\",CalInfo!$A$4)","v":""},{"$f":"IF(A5=\"\",\"\",IF(ISERROR(MATCH(A5,$A$3:A4,FALSE)),A5,A5&\" a\"))","v":""},null,null,{"$f":"IF(A5=\"\",\"\",INDEX('Cal Prep'!$1:$21,MATCH($E$2,'Cal Prep'!L:L,FALSE),MATCH(A5,'Cal Prep'!$1:$1,FALSE)+3))","v":""},{"$f":"IF(A5=\"\",\"\",SUMIF('Cal Data'!$G$7:$G$202,\"=\"&$E$2,'Cal Data'!$F$7:$F$202))","v":""},null,{"$f":"IF(A5=\"\",\"\",INDEX('Cal Prep'!$1:$21,MATCH(INDEX(CalInfo!$B$19:$B$33,MATCH(\"Internal Standard\",CalInfo!$A$19:$A$33,FALSE)),'Cal Prep'!L:L,FALSE),MATCH(A5,'Cal Prep'!$1:$1,FALSE)+3))","v":""},{"$f":"IF(A5=\"\",\"\",SUMIF('Cal Data'!$G$7:$G$202,\"=\"&INDEX(CalInfo!$B$19:$B$33,MATCH(\"Internal Standard\",CalInfo!$A$19:$A$33,FALSE)),'Cal Data'!$F$7:$F$202))","v":""},null,{"$f":"IF(A5=\"\",\"\",IF(AND(S5=1,T5=1,U5=1),(I5*100/$X$2)/H5,(F5/I5)*(H5/$X$2)*100/E5))","v":""},{"$f":"TEXT(K5,\"0.0\")","v":""},{"$f":"IF(A5=\"\",\"\",IF(AND(S5=1,T5=1,U5=1),ABS(H5-(I5/$X$2)),ABS(E5-(F5/I5)*(H5/$X$2))))","v":""},{"$f":"TEXT(M5,\"0.00\")","v":""},null,{"$f":"IF(A5=\"\",\"\",E5/H5)","v":""},{"$f":"IF(A5=\"\",\"\",F5/I5)","v":""},null,{"$f":"IF(A5=\"\",\"\",P5*Q5)","v":""},{"$f":"IF(A5=\"\",\"\",P5^2)","v":""},{"$f":"IF(A5=\"\",\"\",Q5^2)","v":""},null,"% R",{"$f":"LEFT(L4&\"/\"&L5&\"/\"&L6&\"/\"&L7&\"/\"&L8&\"/\"&L9&\"/\"&L10&\"/\"&L11&\"/\"&L12&\"/\"&L13,LEN(L4&\"/\"&L5&\"/\"&L6&\"/\"&L7&\"/\"&L8&\"/\"&L9&\"/\"&L10&\"/\"&L11&\"/\"&L12&\"/\"&L13)-(10-COUNT(A4:A13)))","v":{"$error":"#VALUE!"}}]
[{"$f":"IF(CalInfo!$A$5=\"\",\"\",CalInfo!$A$5)","v":""},{"$f":"IF(A6=\"\",\"\",IF(ISERROR(MATCH(A6,$A$3:A5,FALSE)),A6,A6&\" a\"))","v":""},null,null,{"$f":"IF(A6=\"\",\"\",INDEX('Cal Prep'!$1:$21,MATCH($E$2,'Cal Prep'!L:L,FALSE),MATCH(A6,'Cal Prep'!$1:$1,FALSE)+3))","v":""},{"$f":"IF(A6=\"\",\"\",SUMIF('Cal Data'!$K$7:$K$202,\"=\"&$E$2,'Cal Data'!$J$7:$J$202))","v":""},null,{"$f":"IF(A6=\"\",\"\",INDEX('Cal Prep'!$1:$21,MATCH(INDEX(CalInfo!$B$19:$B$33,MATCH(\"Internal Standard\",CalInfo!$A$19:$A$33,FALSE)),'Cal Prep'!L:L,FALSE),MATCH(A6,'Cal Prep'!$1:$1,FALSE)+3))","v":""},{"$f":"IF(A6=\"\",\"\",SUMIF('Cal Data'!$K$7:$K$202,\"=\"&INDEX(CalInfo!$B$19:$B$33,MATCH(\"Internal Standard\",CalInfo!$A$19:$A$33,FALSE)),'Cal Data'!$J$7:$J$202))","v":""},null,"","","","",null,"","",null,"","","",null,"ABS D",{"$f":"LEFT(N4&\"/\"&N5&\"/\"&N6&\"/\"&N7&\"/\"&N8&\"/\"&N9&\"/\"&N10&\"/\"&N11&\"/\"&N12&\"/\"&N13,LEN(N4&\"/\"&N5&\"/\"&N6&\"/\"&N7&\"/\"&N8&\"/\"&N9&\"/\"&N10&\"/\"&N11&\"/\"&N12&\"/\"&N13)-(10-COUNT(A4:A13)))","v":{"$error":"#VALUE!"}}]
[{"$f":"IF(CalInfo!$A$5=\"\",\"\",CalInfo!$A$5)","v":""},{"$f":"IF(A7=\"\",\"\",IF(ISERROR(MATCH(A7,$A$3:A6,FALSE)),A7,A7&\" a\"))","v":""},null,null,{"$f":"IF(A7=\"\",\"\",INDEX('Cal Prep'!$1:$21,MATCH($E$2,'Cal Prep'!L:L,FALSE),MATCH(A7,'Cal Prep'!$1:$1,FALSE)+3))","v":""},{"$f":"IF(A7=\"\",\"\",SUMIF('Cal Data'!$O$7:$O$202,\"=\"&$E$2,'Cal Data'!$N$7:$N$202))","v":""},null,{"$f":"IF(A7=\"\",\"\",INDEX('Cal Prep'!$1:$21,MATCH(INDEX(CalInfo!$B$19:$B$33,MATCH(\"Internal Standard\",CalInfo!$A$19:$A$33,FALSE)),'Cal Prep'!L:L,FALSE),MATCH(A7,'Cal Prep'!$1:$1,FALSE)+3))","v":""},{"$f":"IF(A7=\"\",\"\",SUMIF('Cal Data'!$O$7:$O$202,\"=\"&INDEX(CalInfo!$B$19:$B$33,MATCH(\"Internal Standard\",CalInfo!$A$19:$A$33,FALSE)),'Cal Data'!$N$7:$N$202))","v":""},null,"","","","",null,"","",null,"","",""]
[{"$f":"IF(CalInfo!$A$6=\"\",\"\",CalInfo!$A$6)","v":""},{"$f":"IF(A8=\"\",\"\",IF(ISERROR(MATCH(A8,$A$3:A7,FALSE)),A8,A8&\" a\"))","v":""},null,null,{"$f":"IF(A8=\"\",\"\",INDEX('Cal Prep'!$1:$21,MATCH($E$2,'Cal Prep'!L:L,FALSE),MATCH(A8,'Cal Prep'!$1:$1,FALSE)+3))","v":""},{"$f":"IF(A8=\"\",\"\",SUMIF('Cal Data'!$S$7:$S$202,\"=\"&$E$2,'Cal Data'!$R$7:$R$202))","v":""},null,{"$f":"IF(A8=\"\",\"\",INDEX('Cal Prep'!$1:$21,MATCH(INDEX(CalInfo!$B$19:$B$33,MATCH(\"Internal Standard\",CalInfo!$A$19:$A$33,FALSE)),'Cal Prep'!L:L,FALSE),MATCH(A8,'Cal Prep'!$1:$1,FALSE)+3))","v":""},{"$f":"IF(A8=\"\",\"\",SUMIF('Cal Data'!$S$7:$S$202,\"=\"&INDEX(CalInfo!$B$19:$B$33,MATCH(\"Internal Standard\",CalInfo!$A$19:$A$33,FALSE)),'Cal Data'!$R$7:$R$202))","v":""},null,"","","","",null,"","",null,"","",""]
[{"$f":"IF(CalInfo!$A$6=\"\",\"\",CalInfo!$A$6)","v":""},{"$f":"IF(A9=\"\",\"\",IF(ISERROR(MATCH(A9,$A$3:A8,FALSE)),A9,A9&\" a\"))","v":""},null,null,{"$f":"IF(A9=\"\",\"\",INDEX('Cal Prep'!$1:$21,MATCH($E$2,'Cal Prep'!L:L,FALSE),MATCH(A9,'Cal Prep'!$1:$1,FALSE)+3))","v":""},{"$f":"IF(A9=\"\",\"\",SUMIF('Cal Data'!$W$7:$W$202,\"=\"&$E$2,'Cal Data'!$V$7:$V$202))","v":""},null,{"$f":"IF(A9=\"\",\"\",INDEX('Cal Prep'!$1:$21,MATCH(INDEX(CalInfo!$B$19:$B$33,MATCH(\"Internal Standard\",CalInfo!$A$19:$A$33,FALSE)),'Cal Prep'!L:L,FALSE),MATCH(A9,'Cal Prep'!$1:$1,FALSE)+3))","v":""},{"$f":"IF(A9=\"\",\"\",SUMIF('Cal Data'!$W$7:$W$202,\"=\"&INDEX(CalInfo!$B$19:$B$33,MATCH(\"Internal Standard\",CalInfo!$A$19:$A$33,FALSE)),'Cal Data'!$V$7:$V$202))","v":""},null,"","","","",null,"","",null,"","",""]
[{"$f":"IF(CalInfo!$A$7=\"\",\"\",CalInfo!$A$7)","v":""},{"$f":"IF(A10=\"\",\"\",IF(ISERROR(MATCH(A10,$A$3:A9,FALSE)),A10,A10&\" a\"))","v":""},null,null,{"$f":"IF(A10=\"\",\"\",INDEX('Cal Prep'!$1:$21,MATCH($E$2,'Cal Prep'!L:L,FALSE),MATCH(A10,'Cal Prep'!$1:$1,FALSE)+3))","v":""},{"$f":"IF(A10=\"\",\"\",SUMIF('Cal Data'!$AA$7:$AA$202,\"=\"&$E$2,'Cal Data'!$Z$7:$Z$202))","v":""},null,{"$f":"IF(A10=\"\",\"\",INDEX('Cal Prep'!$1:$21,MATCH(INDEX(CalInfo!$B$19:$B$33,MATCH(\"Internal Standard\",CalInfo!$A$19:$A$33,FALSE)),'Cal Prep'!L:L,FALSE),MATCH(A10,'Cal Prep'!$1:$1,FALSE)+3))","v":""},{"$f":"IF(A10=\"\",\"\",SUMIF('Cal Data'!$AA$7:$AA$202,\"=\"&INDEX(CalInfo!$B$19:$B$33,MATCH(\"Internal Standard\",CalInfo!$A$19:$A$33,FALSE)),'Cal Data'!$Z$7:$Z$202))","v":""},null,"","","","",null,"","",null,"","",""]
[{"$f":"IF(CalInfo!$A$7=\"\",\"\",CalInfo!$A$7)","v":""},{"$f":"IF(A11=\"\",\"\",IF(ISERROR(MATCH(A11,$A$3:A10,FALSE)),A11,A11&\" a\"))","v":""},null,null,{"$f":"IF(A11=\"\",\"\",INDEX('Cal Prep'!$1:$21,MATCH($E$2,'Cal Prep'!L:L,FALSE),MATCH(A11,'Cal Prep'!$1:$1,FALSE)+3))","v":""},{"$f":"IF(A11=\"\",\"\",SUMIF('Cal Data'!$AE$7:$AE$202,\"=\"&$E$2,'Cal Data'!$AD$7:$AD$202))","v":""},null,{"$f":"IF(A11=\"\",\"\",INDEX('Cal Prep'!$1:$21,MATCH(INDEX(CalInfo!$B$19:$B$33,MATCH(\"Internal Standard\",CalInfo!$A$19:$A$33,FALSE)),'Cal Prep'!L:L,FALSE),MATCH(A11,'Cal Prep'!$1:$1,FALSE)+3))","v":""},{"$f":"IF(A11=\"\",\"\",SUMIF('Cal Data'!$AE$7:$AE$202,\"=\"&INDEX(CalInfo!$B$19:$B$33,MATCH(\"Internal Standard\",CalInfo!$A$19:$A$33,FALSE)),'Cal Data'!$AD$7:$AD$202))","v":""},null,"","","","",null,"","",null,"","",""]
[{"$f":"IF(CalInfo!$A$8=\"\",\"\",CalInfo!$A$8)","v":""},{"$f":"IF(A12=\"\",\"\",IF(ISERROR(MATCH(A12,$A$3:A11,FALSE)),A12,A12&\" a\"))","v":""},null,null,{"$f":"IF(A12=\"\",\"\",INDEX('Cal Prep'!$1:$21,MATCH($E$2,'Cal Prep'!L:L,FALSE),MATCH(A12,'Cal Prep'!$1:$1,FALSE)+3))","v":""},{"$f":"IF(A12=\"\",\"\",SUMIF('Cal Data'!$AI$7:$AI$202,\"=\"&$E$2,'Cal Data'!$AH$7:$AH$202))","v":""},null,{"$f":"IF(A12=\"\",\"\",INDEX('Cal Prep'!$1:$21,MATCH(INDEX(CalInfo!$B$19:$B$33,MATCH(\"Internal Standard\",CalInfo!$A$19:$A$33,FALSE)),'Cal Prep'!L:L,FALSE),MATCH(A12,'Cal Prep'!$1:$1,FALSE)+3))","v":""},{"$f":"IF(A12=\"\",\"\",SUMIF('Cal Data'!$AI$7:$AI$202,\"=\"&INDEX(CalInfo!$B$19:$B$33,MATCH(\"Internal Standard\",CalInfo!$A$19:$A$33,FALSE)),'Cal Data'!$AH$7:$AH$202))","v":""},null,"","","","",null,"","",null,"","",""]
[{"$f":"IF(CalInfo!$A$8=\"\",\"\",CalInfo!$A$8)","v":""},{"$f":"IF(A13=\"\",\"\",IF(ISERROR(MATCH(A13,$A$3:A12,FALSE)),A13,A13&\" a\"))","v":""},null,null,{"$f":"IF(A13=\"\",\"\",INDEX('Cal Prep'!$1:$21,MATCH($E$2,'Cal Prep'!L:L,FALSE),MATCH(A13,'Cal Prep'!$1:$1,FALSE)+3))","v":""},{"$f":"IF(A13=\"\",\"\",SUMIF('Cal Data'!$AM$7:$AM$202,\"=\"&$E$2,'Cal Data'!$AL$7:$AL$202))","v":""},null,{"$f":"IF(A13=\"\",\"\",INDEX('Cal Prep'!$1:$21,MATCH(INDEX(CalInfo!$B$19:$B$33,MATCH(\"Internal Standard\",CalInfo!$A$19:$A$33,FALSE)),'Cal Prep'!L:L,FALSE),MATCH(A13,'Cal Prep'!$1:$1,FALSE)+3))","v":""},{"$f":"IF(A13=\"\",\"\",SUMIF('Cal Data'!$AM$7:$AM$202,\"=\"&INDEX(CalInfo!$B$19:$B$33,MATCH(\"Internal Standard\",CalInfo!$A$19:$A$33,FALSE)),'Cal Data'!$AL$7:$AL$202))","v":""},null,"","","","",null,"","",null,"","",""]
[]
[null,null,null,{"$f":"IF(MAX($D$1:D14)>MAX(CalInfo!$K$19:$K$33),\"\",MAX($D$1:D14)+1)","v":""},{"$f":"IF(D15=\"\",\"\",IF(ISERROR(INDEX(CalInfo!$B$19:$B$33,MATCH(D15,CalInfo!$K$19:$K$33,FALSE))),INDEX(CalInfo!$B$19:$B$33,MATCH(\"Internal Standard\",CalInfo!$A$19:$A$33,FALSE)),INDEX(CalInfo!$B$19:$B$33,MATCH(D15,CalInfo!$K$19:$K$33,FALSE))))","v":""},null,null,"Internal Standard",null,null,null,null,null,null,null,null,null,null,null,null,null,null,"RRF/RF",{"$f":"IF(AND(S17=1,T17=1,U17=1),ROUND(AVERAGE(I17:I26)/AVERAGE(H17:H26),0),ROUND(AVERAGE(S17:S26)/AVERAGE(T17:T26),4))","v":{"$error":"#DIV/0!"}}]
["STD Level",null,null,null,"Prep g/L","Area Counts",null,"Prep g/L","Area Counts",null,"% Recovery","% Recovery","ABS. Diff","ABS. Diff",null,"g/L Ratio","AC Ratio",null,"X*Y","X2","Y2",null,"R2/RSD",{"$f":"IF(AND(S17=1,T17=1,U17=1),ROUND(STDEV(I17:I26)*100/AVERAGE(I17:I26),1),ROUND(AVERAGE(S17:S26)^2/(AVERAGE(T17:T26)*AVERAGE(U17:U26)),4))","v":{"$error":"#DIV/0!"}}]
[{"$f":"IF(CalInfo!$A$4=\"\",\"\",CalInfo!$A$4)","v":""},{"$f":"IF(A17=\"\",\"\",IF(ISERROR(MATCH(A17,$A$3:A16,FALSE)),A17,A17&\" a\"))","v":""},null,null,{"$f":"IF(A17=\"\",\"\",INDEX('Cal Prep'!$1:$21,MATCH($E$15,'Cal Prep'!L:L,FALSE),MATCH(A17,'Cal Prep'!$1:$1,FALSE)+3))","v":""},{"$f":"IF(A17=\"\",\"\",SUMIF('Cal Data'!$C$7:$C$202,\"=\"&$E$15,'Cal Data'!$B$7:$B$202))","v":""},null,{"$f":"IF(A17=\"\",\"\",INDEX('Cal Prep'!$1:$21,MATCH(INDEX(CalInfo!$B$19:$B$33,MATCH(\"Internal Standard\",CalInfo!$A$19:$A$33,FALSE)),'Cal Prep'!L:L,FALSE),MATCH(A17,'Cal Prep'!$1:$1,FALSE)+3))","v":""},{"$f":"IF(A17=\"\",\"\",SUMIF('Cal Data'!$C$7:$C$202,\"=\"&INDEX(CalInfo!$B$19:$B$33,MATCH(\"Internal Standard\",CalInfo!$A$19:$A$33,FALSE)),'Cal Data'!$B$7:$B$202))","v":""},null,{"$f":"IF(A17=\"\",\"\",IF(AND(S17=1,T17=1,U17=1),(I17*100/$X$15)/H17,(F17/I17)*(H17/$X$15)*100/E17))","v":""},{"$f":"TEXT(K17,\"0.0\")","v":""},{"$f":"IF(A17=\"\",\"\",IF(AND(S17=1,T17=1,U17=1),ABS(H17-(I17/$X$15)),ABS(E17-(F17/I17)*(H17/$X$15))))","v":""},{"$f":"TEXT(M17,\"0.00\")","v":""},null,{"$f":"IF(A17=\"\",\"\",E17/H17)","v":""},{"$f":"IF(A17=\"\",\"\",F17/I17)","v":""},null,{"$f":"IF(A17=\"\",\"\",P17*Q17)","v":""},{"$f":"IF(A17=\"\",\"\",P17^2)","v":""},{"$f":"IF(A17=\"\",\"\",Q17^2)","v":""},null,"Levels",{"$f":"LEFT(A17&\"/\"&A18&\"/\"&A19&\"/\"&A20&\"/\"&A21&\"/\"&A22&\"/\"&A23&\"/\"&A24&\"/\"&A25&\"/\"&A26,LEN(A17&\"/\"&A18&\"/\"&A19&\"/\"&A20&\"/\"&A21&\"/\"&A22&\"/\"&A23&\"/\"&A24&\"/\"&A25&\"/\"&A26)-(10-COUNT(A17:A26)))","v":{"$error":"#VALUE!"}}]
[{"$f":"IF(CalInfo!$A$4=\"\",\"\",CalInfo!$A$4)","v":""},{"$f":"IF(A18=\"\",\"\",IF(ISERROR(MATCH(A18,$A$3:A17,FALSE)),A18,A18&\" a\"))","v":""},null,null,{"$f":"IF(A18=\"\",\"\",INDEX('Cal Prep'!$1:$21,MATCH($E$15,'Cal Prep'!L:L,FALSE),MATCH(A18,'Cal Prep'!$1:$1,FALSE)+3))","v":""},{"$f":"IF(A18=\"\",\"\",SUMIF('Cal Data'!$G$7:$G$202,\"=\"&$E$15,'Cal Data'!$F$7:$F$202))","v":""},null,{"$f":"IF(A18=\"\",\"\",INDEX('Cal Prep'!$1:$21,MATCH(INDEX(CalInfo!$B$19:$B$33,MATCH(\"Internal Standard\",CalInfo!$A$19:$A$33,FALSE)),'Cal Prep'!L:L,FALSE),MATCH(A18,'Cal Prep'!$1:$1,FALSE)+3))","v":""},{"$f":"IF(A18=\"\",\"\",SUMIF('Cal Data'!$G$7:$G$202,\"=\"&INDEX(CalInfo!$B$19:$B$33,MATCH(\"Internal Standard\",CalInfo!$A$19:$A$33,FALSE)),'Cal Data'!$F$7:$F$202))","v":""},null,{"$f":"IF(A18=\"\",\"\",IF(AND(S18=1,T18=1,U18=1),(I18*100/$X$15)/H18,(F18/I18)*(H18/$X$15)*100/E18))","v":""},{"$f":"TEXT(K18,\"0.0\")","v":""},{"$f":"IF(A18=\"\",\"\",IF(AND(S18=1,T18=1,U18=1),ABS(H18-(I18/$X$15)),ABS(E18-(F18/I18)*(H18/$X$15))))","v":""},{"$f":"TEXT(M18,\"0.00\")","v":""},null,{"$f":"IF(A18=\"\",\"\",E18/H18)","v":""},{"$f":"IF(A18=\"\",\"\",F18/I18)","v":""},null,{"$f":"IF(A18=\"\",\"\",P18*Q18)","v":""},{"$f":"IF(A18=\"\",\"\",P18^2)","v":""},{"$f":"IF(A18=\"\",\"\",Q18^2)","v":""},null,"% R",{"$f":"LEFT(L17&\"/\"&L18&\"/\"&L19&\"/\"&L20&\"/\"&L21&\"/\"&L22&\"/\"&L23&\"/\"&L24&\"/\"&L25&\"/\"&L26,LEN(L17&\"/\"&L18&\"/\"&L19&\"/\"&L20&\"/\"&L21&\"/\"&L22&\"/\"&L23&\"/\"&L24&\"/\"&L25&\"/\"&L26)-(10-COUNT(A17:A26)))","v":{"$error":"#VALUE!"}}]
[{"$f":"IF(CalInfo!$A$5=\"\",\"\",CalInfo!$A$5)","v":""},{"$f":"IF(A19=\"\",\"\",IF(ISERROR(MATCH(A19,$A$3:A18,FALSE)),A19,A19&\" a\"))","v":""},null,null,{"$f":"IF(A19=\"\",\"\",INDEX('Cal Prep'!$1:$21,MATCH($E$15,'Cal Prep'!L:L,FALSE),MATCH(A19,'Cal Prep'!$1:$1,FALSE)+3))","v":""},{"$f":"IF(A19=\"\",\"\",SUMIF('Cal Data'!$K$7:$K$202,\"=\"&$E$15,'Cal Data'!$J$7:$J$202))","v":""},null,{"$f":"IF(A19=\"\",\"\",INDEX('Cal Prep'!$1:$21,MATCH(INDEX(CalInfo!$B$19:$B$33,MATCH(\"Internal Standard\",CalInfo!$A$19:$A$33,FALSE)),'Cal Prep'!L:L,FALSE),MATCH(A19,'Cal Prep'!$1:$1,FALSE)+3))","v":""},{"$f":"IF(A19=\"\",\"\",SUMIF('Cal Data'!$K$7:$K$202,\"=\"&INDEX(CalInfo!$B$19:$B$33,MATCH(\"Internal Standard\",CalInfo!$A$19:$A$33,FALSE)),'Cal Data'!$J$7:$J$202))","v":""},null,"","",{"$f":"IF(A19=\"\",\"\",IF(AND(S19=1,T19=1,U19=1),ABS(H19-(I19/$X$15)),ABS(E19-(F19/I19)*(H19/$X$15))))","v":""},"",null,"","",null,"","","",null,"ABS D",{"$f":"LEFT(N17&\"/\"&N18&\"/\"&N19&\"/\"&N20&\"/\"&N21&\"/\"&N22&\"/\"&N23&\"/\"&N24&\"/\"&N25&\"/\"&N26,LEN(N17&\"/\"&N18&\"/\"&N19&\"/\"&N20&\"/\"&N21&\"/\"&N22&\"/\"&N23&\"/\"&N24&\"/\"&N25&\"/\"&N26)-(10-COUNT(A17:A26)))","v":{"$error":"#VALUE!"}}]
[{"$f":"IF(CalInfo!$A$5=\"\",\"\",CalInfo!$A$5)","v":""},{"$f":"IF(A20=\"\",\"\",IF(ISERROR(MATCH(A20,$A$3:A19,FALSE)),A20,A20&\" a\"))","v":""},null,null,{"$f":"IF(A20=\"\",\"\",INDEX('Cal Prep'!$1:$21,MATCH($E$15,'Cal Prep'!L:L,FALSE),MATCH(A20,'Cal Prep'!$1:$1,FALSE)+3))","v":""},{"$f":"IF(A20=\"\",\"\",SUMIF('Cal Data'!$O$7:$O$202,\"=\"&$E$15,'Cal Data'!$N$7:$N$202))","v":""},null,{"$f":"IF(A20=\"\",\"\",INDEX('Cal Prep'!$1:$21,MATCH(INDEX(CalInfo!$B$19:$B$33,MATCH(\"Internal Standard\",CalInfo!$A$19:$A$33,FALSE)),'Cal Prep'!L:L,FALSE),MATCH(A20,'Cal Prep'!$1:$1,FALSE)+3))","v":""},{"$f":"IF(A20=\"\",\"\",SUMIF('Cal Data'!$O$7:$O$202,\"=\"&INDEX(CalInfo!$B$19:$B$33,MATCH(\"Internal Standard\",CalInfo!$A$19:$A$33,FALSE)),'Cal Data'!$N$7:$N$202))","v":""},null,"","","","",null,"","",null,"","",""]
[{"$f":"IF(CalInfo!$A$6=\"\",\"\",CalInfo!$A$6)","v":""},{"$f":"IF(A21=\"\",\"\",IF(ISERROR(MATCH(A21,$A$3:A20,FALSE)),A21,A21&\" a\"))","v":""},null,null,{"$f":"IF(A21=\"\",\"\",INDEX('Cal Prep'!$1:$21,MATCH($E$15,'Cal Prep'!L:L,FALSE),MATCH(A21,'Cal Prep'!$1:$1,FALSE)+3))","v":""},{"$f":"IF(A21=\"\",\"\",SUMIF('Cal Data'!$S$7:$S$202,\"=\"&$E$15,'Cal Data'!$R$7:$R$202))","v":""},null,{"$f":"IF(A21=\"\",\"\",INDEX('Cal Prep'!$1:$21,MATCH(INDEX(CalInfo!$B$19:$B$33,MATCH(\"Internal Standard\",CalInfo!$A$19:$A$33,FALSE)),'Cal Prep'!L:L,FALSE),MATCH(A21,'Cal Prep'!$1:$1,FALSE)+3))","v":""},{"$f":"IF(A21=\"\",\"\",SUMIF('Cal Data'!$S$7:$S$202,\"=\"&INDEX(CalInfo!$B$19:$B$33,MATCH(\"Internal Standard\",CalInfo!$A$19:$A$33,FALSE)),'Cal Data'!$R$7:$R$202))","v":""},null,"","","","",null,"","",null,"","",""]
[{"$f":"IF(CalInfo!$A$6=\"\",\"\",CalInfo!$A$6)","v":""},{"$f":"IF(A22=\"\",\"\",IF(ISERROR(MATCH(A22,$A$3:A21,FALSE)),A22,A22&\" a\"))","v":""},null,null,{"$f":"IF(A22=\"\",\"\",INDEX('Cal Prep'!$1:$21,MATCH($E$15,'Cal Prep'!L:L,FALSE),MATCH(A22,'Cal Prep'!$1:$1,FALSE)+3))","v":""},{"$f":"IF(A22=\"\",\"\",SUMIF('Cal Data'!$W$7:$W$202,\"=\"&$E$15,'Cal Data'!$V$7:$V$202))","v":""},null,{"$f":"IF(A22=\"\",\"\",INDEX('Cal Prep'!$1:$21,MATCH(INDEX(CalInfo!$B$19:$B$33,MATCH(\"Internal Standard\",CalInfo!$A$19:$A$33,FALSE)),'Cal Prep'!L:L,FALSE),MATCH(A22,'Cal Prep'!$1:$1,FALSE)+3))","v":""},{"$f":"IF(A22=\"\",\"\",SUMIF('Cal Data'!$W$7:$W$202,\"=\"&INDEX(CalInfo!$B$19:$B$33,MATCH(\"Internal Standard\",CalInfo!$A$19:$A$33,FALSE)),'Cal Data'!$V$7:$V$202))","v":""},null,"","","","",null,"","",null,"","",""]
[{"$f":"IF(CalInfo!$A$7=\"\",\"\",CalInfo!$A$7)","v":""},{"$f":"IF(A23=\"\",\"\",IF(ISERROR(MATCH(A23,$A$3:A22,FALSE)),A23,A23&\" a\"))","v":""},null,null,{"$f":"IF(A23=\"\",\"\",INDEX('Cal Prep'!$1:$21,MATCH($E$15,'Cal Prep'!L:L,FALSE),MATCH(A23,'Cal Prep'!$1:$1,FALSE)+3))","v":""},{"$f":"IF(A23=\"\",\"\",SUMIF('Cal Data'!$AA$7:$AA$202,\"=\"&$E$15,'Cal Data'!$Z$7:$Z$202))","v":""},null,{"$f":"IF(A23=\"\",\"\",INDEX('Cal Prep'!$1:$21,MATCH(INDEX(CalInfo!$B$19:$B$33,MATCH(\"Internal Standard\",CalInfo!$A$19:$A$33,FALSE)),'Cal Prep'!L:L,FALSE),MATCH(A23,'Cal Prep'!$1:$1,FALSE)+3))","v":""},{"$f":"IF(A23=\"\",\"\",SUMIF('Cal Data'!$AA$7:$AA$202,\"=\"&INDEX(CalInfo!$B$19:$B$33,MATCH(\"Internal Standard\",CalInfo!$A$19:$A$33,FALSE)),'Cal Data'!$Z$7:$Z$202))","v":""},null,"","","","",null,"","",null,"","",""]
[{"$f":"IF(CalInfo!$A$7=\"\",\"\",CalInfo!$A$7)","v":""},{"$f":"IF(A24=\"\",\"\",IF(ISERROR(MATCH(A24,$A$3:A23,FALSE)),A24,A24&\" a\"))","v":""},null,null,{"$f":"IF(A24=\"\",\"\",INDEX('Cal Prep'!$1:$21,MATCH($E$15,'Cal Prep'!L:L,FALSE),MATCH(A24,'Cal Prep'!$1:$1,FALSE)+3))","v":""},{"$f":"IF(A24=\"\",\"\",SUMIF('Cal Data'!$AE$7:$AE$202,\"=\"&$E$15,'Cal Data'!$AD$7:$AD$202))","v":""},null,{"$f":"IF(A24=\"\",\"\",INDEX('Cal Prep'!$1:$21,MATCH(INDEX(CalInfo!$B$19:$B$33,MATCH(\"Internal Standard\",CalInfo!$A$19:$A$33,FALSE)),'Cal Prep'!L:L,FALSE),MATCH(A24,'Cal Prep'!$1:$1,FALSE)+3))","v":""},{"$f":"IF(A24=\"\",\"\",SUMIF('Cal Data'!$AE$7:$AE$202,\"=\"&INDEX(CalInfo!$B$19:$B$33,MATCH(\"Internal Standard\",CalInfo!$A$19:$A$33,FALSE)),'Cal Data'!$AD$7:$AD$202))","v":""},null,"","","","",null,"","",null,"","",""]
[{"$f":"IF(CalInfo!$A$8=\"\",\"\",CalInfo!$A$8)","v":""},{"$f":"IF(A25=\"\",\"\",IF(ISERROR(MATCH(A25,$A$3:A24,FALSE)),A25,A25&\" a\"))","v":""},null,null,{"$f":"IF(A25=\"\",\"\",INDEX('Cal Prep'!$1:$21,MATCH($E$15,'Cal Prep'!L:L,FALSE),MATCH(A25,'Cal Prep'!$1:$1,FALSE)+3))","v":""},{"$f":"IF(A25=\"\",\"\",SUMIF('Cal Data'!$AI$7:$AI$202,\"=\"&$E$15,'Cal Data'!$AH$7:$AH$202))","v":""},null,{"$f":"IF(A25=\"\",\"\",INDEX('Cal Prep'!$1:$21,MATCH(INDEX(CalInfo!$B$19:$B$33,MATCH(\"Internal Standard\",CalInfo!$A$19:$A$33,FALSE)),'Cal Prep'!L:L,FALSE),MATCH(A25,'Cal Prep'!$1:$1,FALSE)+3))","v":""},{"$f":"IF(A25=\"\",\"\",SUMIF('Cal Data'!$AI$7:$AI$202,\"=\"&INDEX(CalInfo!$B$19:$B$33,MATCH(\"Internal Standard\",CalInfo!$A$19:$A$33,FALSE)),'Cal Data'!$AH$7:$AH$202))","v":""},null,"","","","",null,"","",null,"","",""]
[{"$f":"IF(CalInfo!$A$8=\"\",\"\",CalInfo!$A$8)","v":""},{"$f":"IF(A26=\"\",\"\",IF(ISERROR(MATCH(A26,$A$3:A25,FALSE)),A26,A26&\" a\"))","v":""},null,null,{"$f":"IF(A26=\"\",\"\",INDEX('Cal Prep'!$1:$21,MATCH($E$15,'Cal Prep'!L:L,FALSE),MATCH(A26,'Cal Prep'!$1:$1,FALSE)+3))","v":""},{"$f":"IF(A26=\"\",\"\",SUMIF('Cal Data'!$AM$7:$AM$202,\"=\"&$E$15,'Cal Data'!$AL$7:$AL$202))","v":""},null,{"$f":"IF(A26=\"\",\"\",INDEX('Cal Prep'!$1:$21,MATCH(INDEX(CalInfo!$B$19:$B$33,MATCH(\"Internal Standard\",CalInfo!$A$19:$A$33,FALSE)),'Cal Prep'!L:L,FALSE),MATCH(A26,'Cal Prep'!$1:$1,FALSE)+3))","v":""},{"$f":"IF(A26=\"\",\"\",SUMIF('Cal Data'!$AM$7:$AM$202,\"=\"&INDEX(CalInfo!$B$19:$B$33,MATCH(\"Internal Standard\",CalInfo!$A$19:$A$33,FALSE)),'Cal Data'!$AL$7:$AL$202))","v":""},null,"","","","",null,"","",null,"","",""]
[]
[null,null,null,{"$f":"IF(MAX($D$1:D27)>MAX(CalInfo!$K$19:$K$33),\"\",MAX($D$1:D27)+1)","v":""},{"$f":"IF(D28=\"\",\"\",IF(ISERROR(INDEX(CalInfo!$B$19:$B$33,MATCH(D28,CalInfo!$K$19:$K$33,FALSE))),INDEX(CalInfo!$B$19:$B$33,MATCH(\"Internal Standard\",CalInfo!$A$19:$A$33,FALSE)),INDEX(CalInfo!$B$19:$B$33,MATCH(D28,CalInfo!$K$19:$K$33,FALSE))))","v":""},null,null,"Internal Standard",null,null,null,null,null,null,null,null,null,null,null,null,null,null,"RRF/RF",{"$f":"IF(AND(S30=1,T30=1,U30=1),ROUND(AVERAGE(I30:I35)/AVERAGE(H30:H35),0),ROUND(AVERAGE(S30:S39)/AVERAGE(T30:T39),4))","v":{"$error":"#DIV/0!"}}]
["STD Level",null,null,null,"Prep g/L","Area Counts",null,"Prep g/L","Area Counts",null,"% Recovery","% Recovery","ABS. Diff","ABS. Diff",null,"g/L Ratio","AC Ratio",null,"X*Y","X2","Y2",null,"R2/RSD",{"$f":"IF(AND(S30=1,T30=1,U30=1),ROUND(STDEV(I30:I39)*100/AVERAGE(I30:I39),1),ROUND(AVERAGE(S30:S39)^2/(AVERAGE(T30:T39)*AVERAGE(U30:U39)),4))","v":{"$error":"#DIV/0!"}}]
[{"$f":"IF(CalInfo!$A$4=\"\",\"\",CalInfo!$A$4)","v":""},{"$f":"IF(A30=\"\",\"\",IF(ISERROR(MATCH(A30,$A$3:A29,FALSE)),A30,A30&\" a\"))","v":""},null,null,{"$f":"IF(A30=\"\",\"\",INDEX('Cal Prep'!$1:$21,MATCH($E$28,'Cal Prep'!L:L,FALSE),MATCH(A30,'Cal Prep'!$1:$1,FALSE)+3))","v":""},{"$f":"IF(A30=\"\",\"\",SUMIF('Cal Data'!$C$7:$C$202,\"=\"&$E$28,'Cal Data'!$B$7:$B$202))","v":""},null,{"$f":"IF(A30=\"\",\"\",INDEX('Cal Prep'!$1:$21,MATCH(INDEX(CalInfo!$B$19:$B$33,MATCH(\"Internal Standard\",CalInfo!$A$19:$A$33,FALSE)),'Cal Prep'!L:L,FALSE),MATCH(A30,'Cal Prep'!$1:$1,FALSE)+3))","v":""},{"$f":"IF(A30=\"\",\"\",SUMIF('Cal Data'!$C$7:$C$202,\"=\"&INDEX(CalInfo!$B$19:$B$33,MATCH(\"Internal Standard\",CalInfo!$A$19:$A$33,FALSE)),'Cal Data'!$B$7:$B$202))","v":""},null,{"$f":"IF(A30=\"\",\"\",IF(AND(S30=1,T30=1,U30=1),(I30*100/$X$28)/H30,(F30/I30)*(H30/$X$28)*100/E30))","v":""},{"$f":"TEXT(K30,\"0.0\")","v":""},{"$f":"IF(A30=\"\",\"\",IF(AND(S30=1,T30=1,U30=1),ABS(H30-(I30/$X$28)),ABS(E30-(F30/I30)*(H30/$X$28))))","v":""},{"$f":"TEXT(M30,\"0.00\")","v":""},null,{"$f":"IF(A30=\"\",\"\",E30/H30)","v":""},{"$f":"IF(A30=\"\",\"\",F30/I30)","v":""},null,{"$f":"IF(A30=\"\",\"\",P30*Q30)","v":""},{"$f":"IF(A30=\"\",\"\",P30^2)","v":""},{"$f":"IF(A30=\"\",\"\",Q30^2)","v":""},null,"Levels",{"$f":"LEFT(A30&\"/\"&A31&\"/\"&A32&\"/\"&A33&\"/\"&A34&\"/\"&A35&\"/\"&A36&\"/\"&A37&\"/\"&A38&\"/\"&A39,LEN(A30&\"/\"&A31&\"/\"&A32&\"/\"&A33&\"/\"&A34&\"/\"&A35&\"/\"&A36&\"/\"&A37&\"/\"&A38&\"/\"&A39)-(10-COUNT(A30:A39)))","v":{"$error":"#VALUE!"}}]
[{"$f":"IF(CalInfo!$A$4=\"\",\"\",CalInfo!$A$4)","v":""},{"$f":"IF(A31=\"\",\"\",IF(ISERROR(MATCH(A31,$A$3:A30,FALSE)),A31,A31&\" a\"))","v":""},null,null,{"$f":"IF(A31=\"\",\"\",INDEX('Cal Prep'!$1:$21,MATCH($E$28,'Cal Prep'!L:L,FALSE),MATCH(A31,'Cal Prep'!$1:$1,FALSE)+3))","v":""},{"$f":"IF(A31=\"\",\"\",SUMIF('Cal Data'!$G$7:$G$202,\"=\"&$E$28,'Cal Data'!$F$7:$F$202))","v":""},null,{"$f":"IF(A31=\"\",\"\",INDEX('Cal Prep'!$1:$21,MATCH(INDEX(CalInfo!$B$19:$B$33,MATCH(\"Internal Standard\",CalInfo!$A$19:$A$33,FALSE)),'Cal Prep'!L:L,FALSE),MATCH(A31,'Cal Prep'!$1:$1,FALSE)+3))","v":""},{"$f":"IF(A31=\"\",\"\",SUMIF('Cal Data'!$G$7:$G$202,\"=\"&INDEX(CalInfo!$B$19:$B$33,MATCH(\"Internal Standard\",CalInfo!$A$19:$A$33,FALSE)),'Cal Data'!$F$7:$F$202))","v":""},null,{"$f":"IF(A31=\"\",\"\",IF(AND(S31=1,T31=1,U31=1),(I31*100/$X$28)/H31,(F31/I31)*(H31/$X$28)*100/E31))","v":""},{"$f":"TEXT(K31,\"0.0\")","v":""},{"$f":"IF(A31=\"\",\"\",IF(AND(S31=1,T31=1,U31=1),ABS(H31-(I31/$X$28)),ABS(E31-(F31/I31)*(H31/$X$28))))","v":""},{"$f":"TEXT(M31,\"0.00\")","v":""},null,{"$f":"IF(A31=\"\",\"\",E31/H31)","v":""},{"$f":"IF(A31=\"\",\"\",F31/I31)","v":""},null,{"$f":"IF(A31=\"\",\"\",P31*Q31)","v":""},{"$f":"IF(A31=\"\",\"\",P31^2)","v":""},{"$f":"IF(A31=\"\",\"\",Q31^2)","v":""},null,"% R",{"$f":"LEFT(L30&\"/\"&L31&\"/\"&L32&\"/\"&L33&\"/\"&L34&\"/\"&L35&\"/\"&L36&\"/\"&L37&\"/\"&L38&\"/\"&L39,LEN(L30&\"/\"&L31&\"/\"&L32&\"/\"&L33&\"/\"&L34&\"/\"&L35&\"/\"&L36&\"/\"&L37&\"/\"&L38&\"/\"&L39)-(10-COUNT(A30:A39)))","v":{"$error":"#VALUE!"}}]
[{"$f":"IF(CalInfo!$A$5=\"\",\"\",CalInfo!$A$5)","v":""},{"$f":"IF(A32=\"\",\"\",IF(ISERROR(MATCH(A32,$A$3:A31,FALSE)),A32,A32&\" a\"))","v":""},null,null,{"$f":"IF(A32=\"\",\"\",INDEX('Cal Prep'!$1:$21,MATCH($E$28,'Cal Prep'!L:L,FALSE),MATCH(A32,'Cal Prep'!$1:$1,FALSE)+3))","v":""},{"$f":"IF(A32=\"\",\"\",SUMIF('Cal Data'!$K$7:$K$202,\"=\"&$E$28,'Cal Data'!$J$7:$J$202))","v":""},null,{"$f":"IF(A32=\"\",\"\",INDEX('Cal Prep'!$1:$21,MATCH(INDEX(CalInfo!$B$19:$B$33,MATCH(\"Internal Standard\",CalInfo!$A$19:$A$33,FALSE)),'Cal Prep'!L:L,FALSE),MATCH(A32,'Cal Prep'!$1:$1,FALSE)+3))","v":""},{"$f":"IF(A32=\"\",\"\",SUMIF('Cal Data'!$K$7:$K$202,\"=\"&INDEX(CalInfo!$B$19:$B$33,MATCH(\"Internal Standard\",CalInfo!$A$19:$A$33,FALSE)),'Cal Data'!$J$7:$J$202))","v":""},null,"","","","",null,"","",null,"","","",null,"ABS D",{"$f":"LEFT(N30&\"/\"&N31&\"/\"&N32&\"/\"&N33&\"/\"&N34&\"/\"&N35&\"/\"&N36&\"/\"&N37&\"/\"&N38&\"/\"&N39,LEN(N30&\"/\"&N31&\"/\"&N32&\"/\"&N33&\"/\"&N34&\"/\"&N35&\"/\"&N36&\"/\"&N37&\"/\"&N38&\"/\"&N39)-(10-COUNT(A30:A39)))","v":{"$error":"#VALUE!"}}]
[{"$f":"IF(CalInfo!$A$5=\"\",\"\",CalInfo!$A$5)","v":""},{"$f":"IF(A33=\"\",\"\",IF(ISERROR(MATCH(A33,$A$3:A32,FALSE)),A33,A33&\" a\"))","v":""},null,null,{"$f":"IF(A33=\"\",\"\",INDEX('Cal Prep'!$1:$21,MATCH($E$28,'Cal Prep'!L:L,FALSE),MATCH(A33,'Cal Prep'!$1:$1,FALSE)+3))","v":""},{"$f":"IF(A33=\"\",\"\",SUMIF('Cal Data'!$O$7:$O$202,\"=\"&$E$28,'Cal Data'!$N$7:$N$202))","v":""},null,{"$f":"IF(A33=\"\",\"\",INDEX('Cal Prep'!$1:$21,MATCH(INDEX(CalInfo!$B$19:$B$33,MATCH(\"Internal Standard\",CalInfo!$A$19:$A$33,FALSE)),'Cal Prep'!L:L,FALSE),MATCH(A33,'Cal Prep'!$1:$1,FALSE)+3))","v":""},{"$f":"IF(A33=\"\",\"\",SUMIF('Cal Data'!$O$7:$O$202,\"=\"&INDEX(CalInfo!$B$19:$B$33,MATCH(\"Internal Standard\",CalInfo!$A$19:$A$33,FALSE)),'Cal Data'!$N$7:$N$202))","v":""},null,"","","","",null,"","",null,"","",""]
[{"$f":"IF(CalInfo!$A$6=\"\",\"\",CalInfo!$A$6)","v":""},{"$f":"IF(A34=\"\",\"\",IF(ISERROR(MATCH(A34,$A$3:A33,FALSE)),A34,A34&\" a\"))","v":""},null,null,{"$f":"IF(A34=\"\",\"\",INDEX('Cal Prep'!$1:$21,MATCH($E$28,'Cal Prep'!L:L,FALSE),MATCH(A34,'Cal Prep'!$1:$1,FALSE)+3))","v":""},{"$f":"IF(A34=\"\",\"\",SUMIF('Cal Data'!$S$7:$S$202,\"=\"&$E$28,'Cal Data'!$R$7:$R$202))","v":""},null,{"$f":"IF(A34=\"\",\"\",INDEX('Cal Prep'!$1:$21,MATCH(INDEX(CalInfo!$B$19:$B$33,MATCH(\"Internal Standard\",CalInfo!$A$19:$A$33,FALSE)),'Cal Prep'!L:L,FALSE),MATCH(A34,'Cal Prep'!$1:$1,FALSE)+3))","v":""},{"$f":"IF(A34=\"\",\"\",SUMIF('Cal Data'!$S$7:$S$202,\"=\"&INDEX(CalInfo!$B$19:$B$33,MATCH(\"Internal Standard\",CalInfo!$A$19:$A$33,FALSE)),'Cal Data'!$R$7:$R$202))","v":""},null,"","","","",null,"","",null,"","",""]
[{"$f":"IF(CalInfo!$A$6=\"\",\"\",CalInfo!$A$6)","v":""},{"$f":"IF(A35=\"\",\"\",IF(ISERROR(MATCH(A35,$A$3:A34,FALSE)),A35,A35&\" a\"))","v":""},null,null,{"$f":"IF(A35=\"\",\"\",INDEX('Cal Prep'!$1:$21,MATCH($E$28,'Cal Prep'!L:L,FALSE),MATCH(A35,'Cal Prep'!$1:$1,FALSE)+3))","v":""},{"$f":"IF(A35=\"\",\"\",SUMIF('Cal Data'!$W$7:$W$202,\"=\"&$E$28,'Cal Data'!$V$7:$V$202))","v":""},null,{"$f":"IF(A35=\"\",\"\",INDEX('Cal Prep'!$1:$21,MATCH(INDEX(CalInfo!$B$19:$B$33,MATCH(\"Internal Standard\",CalInfo!$A$19:$A$33,FALSE)),'Cal Prep'!L:L,FALSE),MATCH(A35,'Cal Prep'!$1:$1,FALSE)+3))","v":""},{"$f":"IF(A35=\"\",\"\",SUMIF('Cal Data'!$W$7:$W$202,\"=\"&INDEX(CalInfo!$B$19:$B$33,MATCH(\"Internal Standard\",CalInfo!$A$19:$A$33,FALSE)),'Cal Data'!$V$7:$V$202))","v":""},null,"","","","",null,"","",null,"","",""]
[{"$f":"IF(CalInfo!$A$7=\"\",\"\",CalInfo!$A$7)","v":""},{"$f":"IF(A36=\"\",\"\",IF(ISERROR(MATCH(A36,$A$3:A35,FALSE)),A36,A36&\" a\"))","v":""},null,null,{"$f":"IF(A36=\"\",\"\",INDEX('Cal Prep'!$1:$21,MATCH($E$28,'Cal Prep'!L:L,FALSE),MATCH(A36,'Cal Prep'!$1:$1,FALSE)+3))","v":""},{"$f":"IF(A36=\"\",\"\",SUMIF('Cal Data'!$AA$7:$AA$202,\"=\"&$E$28,'Cal Data'!$Z$7:$Z$202))","v":""},null,{"$f":"IF(A36=\"\",\"\",INDEX('Cal Prep'!$1:$21,MATCH(INDEX(CalInfo!$B$19:$B$33,MATCH(\"Internal Standard\",CalInfo!$A$19:$A$33,FALSE)),'Cal Prep'!L:L,FALSE),MATCH(A36,'Cal Prep'!$1:$1,FALSE)+3))","v":""},{"$f":"IF(A36=\"\",\"\",SUMIF('Cal Data'!$AA$7:$AA$202,\"=\"&INDEX(CalInfo!$B$19:$B$33,MATCH(\"Internal Standard\",CalInfo!$A$19:$A$33,FALSE)),'Cal Data'!$Z$7:$Z$202))","v":""},null,"","","","",null,"","",null,"","",""]
[{"$f":"IF(CalInfo!$A$7=\"\",\"\",CalInfo!$A$7)","v":""},{"$f":"IF(A37=\"\",\"\",IF(ISERROR(MATCH(A37,$A$3:A36,FALSE)),A37,A37&\" a\"))","v":""},null,null,{"$f":"IF(A37=\"\",\"\",INDEX('Cal Prep'!$1:$21,MATCH($E$28,'Cal Prep'!L:L,FALSE),MATCH(A37,'Cal Prep'!$1:$1,FALSE)+3))","v":""},{"$f":"IF(A37=\"\",\"\",SUMIF('Cal Data'!$AE$7:$AE$202,\"=\"&$E$28,'Cal Data'!$AD$7:$AD$202))","v":""},null,{"$f":"IF(A37=\"\",\"\",INDEX('Cal Prep'!$1:$21,MATCH(INDEX(CalInfo!$B$19:$B$33,MATCH(\"Internal Standard\",CalInfo!$A$19:$A$33,FALSE)),'Cal Prep'!L:L,FALSE),MATCH(A37,'Cal Prep'!$1:$1,FALSE)+3))","v":""},{"$f":"IF(A37=\"\",\"\",SUMIF('Cal Data'!$AE$7:$AE$202,\"=\"&INDEX(CalInfo!$B$19:$B$33,MATCH(\"Internal Standard\",CalInfo!$A$19:$A$33,FALSE)),'Cal Data'!$AD$7:$AD$202))","v":""},null,"","","","",null,"","",null,"","",""]
[{"$f":"IF(CalInfo!$A$8=\"\",\"\",CalInfo!$A$8)","v":""},{"$f":"IF(A38=\"\",\"\",IF(ISERROR(MATCH(A38,$A$3:A37,FALSE)),A38,A38&\" a\"))","v":""},null,null,{"$f":"IF(A38=\"\",\"\",INDEX('Cal Prep'!$1:$21,MATCH($E$28,'Cal Prep'!L:L,FALSE),MATCH(A38,'Cal Prep'!$1:$1,FALSE)+3))","v":""},{"$f":"IF(A38=\"\",\"\",SUMIF('Cal Data'!$AI$7:$AI$202,\"=\"&$E$28,'Cal Data'!$AH$7:$AH$202))","v":""},null,{"$f":"IF(A38=\"\",\"\",INDEX('Cal Prep'!$1:$21,MATCH(INDEX(CalInfo!$B$19:$B$33,MATCH(\"Internal Standard\",CalInfo!$A$19:$A$33,FALSE)),'Cal Prep'!L:L,FALSE),MATCH(A38,'Cal Prep'!$1:$1,FALSE)+3))","v":""},{"$f":"IF(A38=\"\",\"\",SUMIF('Cal Data'!$AI$7:$AI$202,\"=\"&INDEX(CalInfo!$B$19:$B$33,MATCH(\"Internal Standard\",CalInfo!$A$19:$A$33,FALSE)),'Cal Data'!$AH$7:$AH$202))","v":""},null,"","","","",null,"","",null,"","",""]
[{"$f":"IF(CalInfo!$A$8=\"\",\"\",CalInfo!$A$8)","v":""},{"$f":"IF(A39=\"\",\"\",IF(ISERROR(MATCH(A39,$A$3:A38,FALSE)),A39,A39&\" a\"))","v":""},null,null,{"$f":"IF(A39=\"\",\"\",INDEX('Cal Prep'!$1:$21,MATCH($E$28,'Cal Prep'!L:L,FALSE),MATCH(A39,'Cal Prep'!$1:$1,FALSE)+3))","v":""},{"$f":"IF(A39=\"\",\"\",SUMIF('Cal Data'!$AM$7:$AM$202,\"=\"&$E$28,'Cal Data'!$AL$7:$AL$202))","v":""},null,{"$f":"IF(A39=\"\",\"\",INDEX('Cal Prep'!$1:$21,MATCH(INDEX(CalInfo!$B$19:$B$33,MATCH(\"Internal Standard\",CalInfo!$A$19:$A$33,FALSE)),'Cal Prep'!L:L,FALSE),MATCH(A39,'Cal Prep'!$1:$1,FALSE)+3))","v":""},{"$f":"IF(A39=\"\",\"\",SUMIF('Cal Data'!$AM$7:$AM$202,\"=\"&INDEX(CalInfo!$B$19:$B$33,MATCH(\"Internal Standard\",CalInfo!$A$19:$A$33,FALSE)),'Cal Data'!$AL$7:$AL$202))","v":""},null,"","","","",null,"","",null,"","",""]
[]
[null,null,null,{"$f":"IF(MAX($D$1:D40)>MAX(CalInfo!$K$19:$K$33),\"\",MAX($D$1:D40)+1)","v":""},{"$f":"IF(D41=\"\",\"\",IF(ISERROR(INDEX(CalInfo!$B$19:$B$33,MATCH(D41,CalInfo!$K$19:$K$33,FALSE))),INDEX(CalInfo!$B$19:$B$33,MATCH(\"Internal Standard\",CalInfo!$A$19:$A$33,FALSE)),INDEX(CalInfo!$B$19:$B$33,MATCH(D41,CalInfo!$K$19:$K$33,FALSE))))","v":""},null,null,"Internal Standard",null,null,null,null,null,null,null,null,null,null,null,null,null,null,"RRF/RF",{"$f":"IF(AND(S43=1,T43=1,U43=1),ROUND(AVERAGE(I43:I52)/AVERAGE(H43:H52),0),ROUND(AVERAGE(S43:S52)/AVERAGE(T43:T52),4))","v":{"$error":"#DIV/0!"}}]
["STD Level",null,null,null,"Prep g/L","Area Counts",null,"Prep g/L","Area Counts",null,"% Recovery","% Recovery","ABS. Diff","ABS. Diff",null,"g/L Ratio","AC Ratio",null,"X*Y","X2","Y2",null,"R2/RSD",{"$f":"IF(AND(S43=1,T43=1,U43=1),ROUND(STDEV(I43:I52)*100/AVERAGE(I43:I52),1),ROUND(AVERAGE(S43:S52)^2/(AVERAGE(T43:T52)*AVERAGE(U43:U52)),4))","v":{"$error":"#DIV/0!"}}]
[{"$f":"IF(CalInfo!$A$4=\"\",\"\",CalInfo!$A$4)","v":""},{"$f":"IF(A43=\"\",\"\",IF(ISERROR(MATCH(A43,$A$3:A42,FALSE)),A43,A43&\" a\"))","v":""},null,null,{"$f":"IF(A43=\"\",\"\",INDEX('Cal Prep'!$1:$21,MATCH($E$41,'Cal Prep'!L:L,FALSE),MATCH(A43,'Cal Prep'!$1:$1,FALSE)+3))","v":""},{"$f":"IF(A43=\"\",\"\",SUMIF('Cal Data'!$C$7:$C$202,\"=\"&$E$41,'Cal Data'!$B$7:$B$202))","v":""},null,{"$f":"IF(A43=\"\",\"\",INDEX('Cal Prep'!$1:$21,MATCH(INDEX(CalInfo!$B$19:$B$33,MATCH(\"Internal Standard\",CalInfo!$A$19:$A$33,FALSE)),'Cal Prep'!L:L,FALSE),MATCH(A43,'Cal Prep'!$1:$1,FALSE)+3))","v":""},{"$f":"IF(A43=\"\",\"\",SUMIF('Cal Data'!$C$7:$C$202,\"=\"&INDEX(CalInfo!$B$19:$B$33,MATCH(\"Internal Standard\",CalInfo!$A$19:$A$33,FALSE)),'Cal Data'!$B$7:$B$202))","v":""},null,{"$f":"IF(A43=\"\",\"\",IF(AND(S43=1,T43=1,U43=1),(I43*100/$X$41)/H43,(F43/I43)*(H43/$X$41)*100/E43))","v":""},{"$f":"TEXT(K43,\"0.0\")","v":""},{"$f":"IF(A43=\"\",\"\",IF(AND(S43=1,T43=1,U43=1),ABS(H43-(I43/$X$41)),ABS(E43-(F43/I43)*(H43/$X$41))))","v":""},{"$f":"TEXT(M43,\"0.00\")","v":""},null,{"$f":"IF(A43=\"\",\"\",E43/H43)","v":""},{"$f":"IF(A43=\"\",\"\",F43/I43)","v":""},null,{"$f":"IF(A43=\"\",\"\",P43*Q43)","v":""},{"$f":"IF(A43=\"\",\"\",P43^2)","v":""},{"$f":"IF(A43=\"\",\"\",Q43^2)","v":""},null,"Levels",{"$f":"LEFT(A43&\"/\"&A44&\"/\"&A45&\"/\"&A46&\"/\"&A47&\"/\"&A48&\"/\"&A49&\"/\"&A50&\"/\"&A51&\"/\"&A52,LEN(A43&\"/\"&A44&\"/\"&A45&\"/\"&A46&\"/\"&A47&\"/\"&A48&\"/\"&A49&\"/\"&A50&\"/\"&A51&\"/\"&A52)-(10-COUNT(A43:A52)))","v":{"$error":"#VALUE!"}}]
[{"$f":"IF(CalInfo!$A$4=\"\",\"\",CalInfo!$A$4)","v":""},{"$f":"IF(A44=\"\",\"\",IF(ISERROR(MATCH(A44,$A$3:A43,FALSE)),A44,A44&\" a\"))","v":""},null,null,{"$f":"IF(A44=\"\",\"\",INDEX('Cal Prep'!$1:$21,MATCH($E$41,'Cal Prep'!L:L,FALSE),MATCH(A44,'Cal Prep'!$1:$1,FALSE)+3))","v":""},{"$f":"IF(A44=\"\",\"\",SUMIF('Cal Data'!$G$7:$G$202,\"=\"&$E$41,'Cal Data'!$F$7:$F$202))","v":""},null,{"$f":"IF(A44=\"\",\"\",INDEX('Cal Prep'!$1:$21,MATCH(INDEX(CalInfo!$B$19:$B$33,MATCH(\"Internal Standard\",CalInfo!$A$19:$A$33,FALSE)),'Cal Prep'!L:L,FALSE),MATCH(A44,'Cal Prep'!$1:$1,FALSE)+3))","v":""},{"$f":"IF(A44=\"\",\"\",SUMIF('Cal Data'!$G$7:$G$202,\"=\"&INDEX(CalInfo!$B$19:$B$33,MATCH(\"Internal Standard\",CalInfo!$A$19:$A$33,FALSE)),'Cal Data'!$F$7:$F$202))","v":""},null,{"$f":"IF(A44=\"\",\"\",IF(AND(S44=1,T44=1,U44=1),(I44*100/$X$41)/H44,(F44/I44)*(H44/$X$41)*100/E44))","v":""},{"$f":"TEXT(K44,\"0.0\")","v":""},{"$f":"IF(A44=\"\",\"\",IF(AND(S44=1,T44=1,U44=1),ABS(H44-(I44/$X$41)),ABS(E44-(F44/I44)*(H44/$X$41))))","v":""},{"$f":"TEXT(M44,\"0.00\")","v":""},null,{"$f":"IF(A44=\"\",\"\",E44/H44)","v":""},{"$f":"IF(A44=\"\",\"\",F44/I44)","v":""},null,{"$f":"IF(A44=\"\",\"\",P44*Q44)","v":""},{"$f":"IF(A44=\"\",\"\",P44^2)","v":""},{"$f":"IF(A44=\"\",\"\",Q44^2)","v":""},null,"% R",{"$f":"LEFT(L43&\"/\"&L44&\"/\"&L45&\"/\"&L46&\"/\"&L47&\"/\"&L48&\"/\"&L49&\"/\"&L50&\"/\"&L51&\"/\"&L52,LEN(L43&\"/\"&L44&\"/\"&L45&\"/\"&L46&\"/\"&L47&\"/\"&L48&\"/\"&L49&\"/\"&L50&\"/\"&L51&\"/\"&L52)-(10-COUNT(A43:A52)))","v":{"$error":"#VALUE!"}}]
[{"$f":"IF(CalInfo!$A$5=\"\",\"\",CalInfo!$A$5)","v":""},{"$f":"IF(A45=\"\",\"\",IF(ISERROR(MATCH(A45,$A$3:A44,FALSE)),A45,A45&\" a\"))","v":""},null,null,{"$f":"IF(A45=\"\",\"\",INDEX('Cal Prep'!$1:$21,MATCH($E$41,'Cal Prep'!L:L,FALSE),MATCH(A45,'Cal Prep'!$1:$1,FALSE)+3))","v":""},{"$f":"IF(A45=\"\",\"\",SUMIF('Cal Data'!$K$7:$K$202,\"=\"&$E$41,'Cal Data'!$J$7:$J$202))","v":""},null,{"$f":"IF(A45=\"\",\"\",INDEX('Cal Prep'!$1:$21,MATCH(INDEX(CalInfo!$B$19:$B$33,MATCH(\"Internal Standard\",CalInfo!$A$19:$A$33,FALSE)),'Cal Prep'!L:L,FALSE),MATCH(A45,'Cal Prep'!$1:$1,FALSE)+3))","v":""},{"$f":"IF(A45=\"\",\"\",SUMIF('Cal Data'!$K$7:$K$202,\"=\"&INDEX(CalInfo!$B$19:$B$33,MATCH(\"Internal Standard\",CalInfo!$A$19:$A$33,FALSE)),'Cal Data'!$J$7:$J$202))","v":""},null,"","","","",null,"","",null,"","","",null,"ABS D",{"$f":"LEFT(N43&\"/\"&N44&\"/\"&N45&\"/\"&N46&\"/\"&N47&\"/\"&N48&\"/\"&N49&\"/\"&N50&\"/\"&N51&\"/\"&N52,LEN(N43&\"/\"&N44&\"/\"&N45&\"/\"&N46&\"/\"&N47&\"/\"&N48&\"/\"&N49&\"/\"&N50&\"/\"&N51&\"/\"&N52)-(10-COUNT(A43:A52)))","v":{"$error":"#VALUE!"}}]
[{"$f":"IF(CalInfo!$A$5=\"\",\"\",CalInfo!$A$5)","v":""},{"$f":"IF(A46=\"\",\"\",IF(ISERROR(MATCH(A46,$A$3:A45,FALSE)),A46,A46&\" a\"))","v":""},null,null,{"$f":"IF(A46=\"\",\"\",INDEX('Cal Prep'!$1:$21,MATCH($E$41,'Cal Prep'!L:L,FALSE),MATCH(A46,'Cal Prep'!$1:$1,FALSE)+3))","v":""},{"$f":"IF(A46=\"\",\"\",SUMIF('Cal Data'!$O$7:$O$202,\"=\"&$E$41,'Cal Data'!$N$7:$N$202))","v":""},null,{"$f":"IF(A46=\"\",\"\",INDEX('Cal Prep'!$1:$21,MATCH(INDEX(CalInfo!$B$19:$B$33,MATCH(\"Internal Standard\",CalInfo!$A$19:$A$33,FALSE)),'Cal Prep'!L:L,FALSE),MATCH(A46,'Cal Prep'!$1:$1,FALSE)+3))","v":""},{"$f":"IF(A46=\"\",\"\",SUMIF('Cal Data'!$O$7:$O$202,\"=\"&INDEX(CalInfo!$B$19:$B$33,MATCH(\"Internal Standard\",CalInfo!$A$19:$A$33,FALSE)),'Cal Data'!$N$7:$N$202))","v":""},null,"","","","",null,"","",null,"","",""]
[{"$f":"IF(CalInfo!$A$6=\"\",\"\",CalInfo!$A$6)","v":""},{"$f":"IF(A47=\"\",\"\",IF(ISERROR(MATCH(A47,$A$3:A46,FALSE)),A47,A47&\" a\"))","v":""},null,null,{"$f":"IF(A47=\"\",\"\",INDEX('Cal Prep'!$1:$21,MATCH($E$41,'Cal Prep'!L:L,FALSE),MATCH(A47,'Cal Prep'!$1:$1,FALSE)+3))","v":""},{"$f":"IF(A47=\"\",\"\",SUMIF('Cal Data'!$S$7:$S$202,\"=\"&$E$41,'Cal Data'!$R$7:$R$202))","v":""},null,{"$f":"IF(A47=\"\",\"\",INDEX('Cal Prep'!$1:$21,MATCH(INDEX(CalInfo!$B$19:$B$33,MATCH(\"Internal Standard\",CalInfo!$A$19:$A$33,FALSE)),'Cal Prep'!L:L,FALSE),MATCH(A47,'Cal Prep'!$1:$1,FALSE)+3))","v":""},{"$f":"IF(A47=\"\",\"\",SUMIF('Cal Data'!$S$7:$S$202,\"=\"&INDEX(CalInfo!$B$19:$B$33,MATCH(\"Internal Standard\",CalInfo!$A$19:$A$33,FALSE)),'Cal Data'!$R$7:$R$202))","v":""},null,"","","","",null,"","",null,"","",""]
[{"$f":"IF(CalInfo!$A$6=\"\",\"\",CalInfo!$A$6)","v":""},{"$f":"IF(A48=\"\",\"\",IF(ISERROR(MATCH(A48,$A$3:A47,FALSE)),A48,A48&\" a\"))","v":""},null,null,{"$f":"IF(A48=\"\",\"\",INDEX('Cal Prep'!$1:$21,MATCH($E$41,'Cal Prep'!L:L,FALSE),MATCH(A48,'Cal Prep'!$1:$1,FALSE)+3))","v":""},{"$f":"IF(A48=\"\",\"\",SUMIF('Cal Data'!$W$7:$W$202,\"=\"&$E$41,'Cal Data'!$V$7:$V$202))","v":""},null,{"$f":"IF(A48=\"\",\"\",INDEX('Cal Prep'!$1:$21,MATCH(INDEX(CalInfo!$B$19:$B$33,MATCH(\"Internal Standard\",CalInfo!$A$19:$A$33,FALSE)),'Cal Prep'!L:L,FALSE),MATCH(A48,'Cal Prep'!$1:$1,FALSE)+3))","v":""},{"$f":"IF(A48=\"\",\"\",SUMIF('Cal Data'!$W$7:$W$202,\"=\"&INDEX(CalInfo!$B$19:$B$33,MATCH(\"Internal Standard\",CalInfo!$A$19:$A$33,FALSE)),'Cal Data'!$V$7:$V$202))","v":""},null,"","","","",null,"","",null,"","",""]
[{"$f":"IF(CalInfo!$A$7=\"\",\"\",CalInfo!$A$7)","v":""},{"$f":"IF(A49=\"\",\"\",IF(ISERROR(MATCH(A49,$A$3:A48,FALSE)),A49,A49&\" a\"))","v":""},null,null,{"$f":"IF(A49=\"\",\"\",INDEX('Cal Prep'!$1:$21,MATCH($E$41,'Cal Prep'!L:L,FALSE),MATCH(A49,'Cal Prep'!$1:$1,FALSE)+3))","v":""},{"$f":"IF(A49=\"\",\"\",SUMIF('Cal Data'!$AA$7:$AA$202,\"=\"&$E$41,'Cal Data'!$Z$7:$Z$202))","v":""},null,{"$f":"IF(A49=\"\",\"\",INDEX('Cal Prep'!$1:$21,MATCH(INDEX(CalInfo!$B$19:$B$33,MATCH(\"Internal Standard\",CalInfo!$A$19:$A$33,FALSE)),'Cal Prep'!L:L,FALSE),MATCH(A49,'Cal Prep'!$1:$1,FALSE)+3))","v":""},{"$f":"IF(A49=\"\",\"\",SUMIF('Cal Data'!$AA$7:$AA$202,\"=\"&INDEX(CalInfo!$B$19:$B$33,MATCH(\"Internal Standard\",CalInfo!$A$19:$A$33,FALSE)),'Cal Data'!$Z$7:$Z$202))","v":""},null,"","","","",null,"","",null,"","",""]
[{"$f":"IF(CalInfo!$A$7=\"\",\"\",CalInfo!$A$7)","v":""},{"$f":"IF(A50=\"\",\"\",IF(ISERROR(MATCH(A50,$A$3:A49,FALSE)),A50,A50&\" a\"))","v":""},null,null,{"$f":"IF(A50=\"\",\"\",INDEX('Cal Prep'!$1:$21,MATCH($E$41,'Cal Prep'!L:L,FALSE),MATCH(A50,'Cal Prep'!$1:$1,FALSE)+3))","v":""},{"$f":"IF(A50=\"\",\"\",SUMIF('Cal Data'!$AE$7:$AE$202,\"=\"&$E$41,'Cal Data'!$AD$7:$AD$202))","v":""},null,{"$f":"IF(A50=\"\",\"\",INDEX('Cal Prep'!$1:$21,MATCH(INDEX(CalInfo!$B$19:$B$33,MATCH(\"Internal Standard\",CalInfo!$A$19:$A$33,FALSE)),'Cal Prep'!L:L,FALSE),MATCH(A50,'Cal Prep'!$1:$1,FALSE)+3))","v":""},{"$f":"IF(A50=\"\",\"\",SUMIF('Cal Data'!$AE$7:$AE$202,\"=\"&INDEX(CalInfo!$B$19:$B$33,MATCH(\"Internal Standard\",CalInfo!$A$19:$A$33,FALSE)),'Cal Data'!$AD$7:$AD$202))","v":""},null,"","","","",null,"","",null,"","",""]
[{"$f":"IF(CalInfo!$A$8=\"\",\"\",CalInfo!$A$8)","v":""},{"$f":"IF(A51=\"\",\"\",IF(ISERROR(MATCH(A51,$A$3:A50,FALSE)),A51,A51&\" a\"))","v":""},null,null,{"$f":"IF(A51=\"\",\"\",INDEX('Cal Prep'!$1:$21,MATCH($E$41,'Cal Prep'!L:L,FALSE),MATCH(A51,'Cal Prep'!$1:$1,FALSE)+3))","v":""},{"$f":"IF(A51=\"\",\"\",SUMIF('Cal Data'!$AI$7:$AI$202,\"=\"&$E$41,'Cal Data'!$AH$7:$AH$202))","v":""},null,{"$f":"IF(A51=\"\",\"\",INDEX('Cal Prep'!$1:$21,MATCH(INDEX(CalInfo!$B$19:$B$33,MATCH(\"Internal Standard\",CalInfo!$A$19:$A$33,FALSE)),'Cal Prep'!L:L,FALSE),MATCH(A51,'Cal Prep'!$1:$1,FALSE)+3))","v":""},{"$f":"IF(A51=\"\",\"\",SUMIF('Cal Data'!$AI$7:$AI$202,\"=\"&INDEX(CalInfo!$B$19:$B$33,MATCH(\"Internal Standard\",CalInfo!$A$19:$A$33,FALSE)),'Cal Data'!$AH$7:$AH$202))","v":""},null,"","","","",null,"","",null,"","",""]
[{"$f":"IF(CalInfo!$A$8=\"\",\"\",CalInfo!$A$8)","v":""},{"$f":"IF(A52=\"\",\"\",IF(ISERROR(MATCH(A52,$A$3:A51,FALSE)),A52,A52&\" a\"))","v":""},null,null,{"$f":"IF(A52=\"\",\"\",INDEX('Cal Prep'!$1:$21,MATCH($E$41,'Cal Prep'!L:L,FALSE),MATCH(A52,'Cal Prep'!$1:$1,FALSE)+3))","v":""},{"$f":"IF(A52=\"\",\"\",SUMIF('Cal Data'!$AM$7:$AM$202,\"=\"&$E$41,'Cal Data'!$AL$7:$AL$202))","v":""},null,{"$f":"IF(A52=\"\",\"\",INDEX('Cal Prep'!$1:$21,MATCH(INDEX(CalInfo!$B$19:$B$33,MATCH(\"Internal Standard\",CalInfo!$A$19:$A$33,FALSE)),'Cal Prep'!L:L,FALSE),MATCH(A52,'Cal Prep'!$1:$1,FALSE)+3))","v":""},{"$f":"IF(A52=\"\",\"\",SUMIF('Cal Data'!$AM$7:$AM$202,\"=\"&INDEX(CalInfo!$B$19:$B$33,MATCH(\"Internal Standard\",CalInfo!$A$19:$A$33,FALSE)),'Cal Data'!$AL$7:$AL$202))","v":""},null,"","","","",null,"","",null,"","",""]
[]
[null,null,null,{"$f":"IF(MAX($D$1:D53)>MAX(CalInfo!$K$19:$K$33),\"\",MAX($D$1:D53)+1)","v":""},{"$f":"IF(D54=\"\",\"\",IF(ISERROR(INDEX(CalInfo!$B$19:$B$33,MATCH(D54,CalInfo!$K$19:$K$33,FALSE))),INDEX(CalInfo!$B$19:$B$33,MATCH(\"Internal Standard\",CalInfo!$A$19:$A$33,FALSE)),INDEX(CalInfo!$B$19:$B$33,MATCH(D54,CalInfo!$K$19:$K$33,FALSE))))","v":""},null,null,"Internal Standard",null,null,null,null,null,null,null,null,null,null,null,null,null,null,"RRF/RF",{"$f":"IF(AND(S56=1,T56=1,U56=1),ROUND(AVERAGE(I56:I65)/AVERAGE(H56:H65),0),ROUND(AVERAGE(S56:S65)/AVERAGE(T56:T65),4))","v":{"$error":"#DIV/0!"}}]
["STD Level",null,null,null,"Prep g/L","Area Counts",null,"Prep g/L","Area Counts",null,"% Recovery","% Recovery","ABS. Diff","ABS. Diff",null,"g/L Ratio","AC Ratio",null,"X*Y","X2","Y2",null,"R2/RSD",{"$f":"IF(AND(S56=1,T56=1,U56=1),ROUND(STDEV(I56:I65)*100/AVERAGE(I56:I65),1),ROUND(AVERAGE(S56:S65)^2/(AVERAGE(T56:T65)*AVERAGE(U56:U65)),4))","v":{"$error":"#DIV/0!"}}]
[{"$f":"IF(CalInfo!$A$4=\"\",\"\",CalInfo!$A$4)","v":""},{"$f":"IF(A56=\"\",\"\",IF(ISERROR(MATCH(A56,$A$3:A55,FALSE)),A56,A56&\" a\"))","v":""},null,null,{"$f":"IF(A56=\"\",\"\",INDEX('Cal Prep'!$1:$21,MATCH($E$54,'Cal Prep'!L:L,FALSE),MATCH(A56,'Cal Prep'!$1:$1,FALSE)+3))","v":""},{"$f":"IF(A56=\"\",\"\",SUMIF('Cal Data'!$C$7:$C$202,\"=\"&$E$54,'Cal Data'!$B$7:$B$202))","v":""},null,{"$f":"IF(A56=\"\",\"\",INDEX('Cal Prep'!$1:$21,MATCH(INDEX(CalInfo!$B$19:$B$33,MATCH(\"Internal Standard\",CalInfo!$A$19:$A$33,FALSE)),'Cal Prep'!L:L,FALSE),MATCH(A56,'Cal Prep'!$1:$1,FALSE)+3))","v":""},{"$f":"IF(A56=\"\",\"\",SUMIF('Cal Data'!$C$7:$C$202,\"=\"&INDEX(CalInfo!$B$19:$B$33,MATCH(\"Internal Standard\",CalInfo!$A$19:$A$33,FALSE)),'Cal Data'!$B$7:$B$202))","v":""},null,{"$f":"IF(A56=\"\",\"\",IF(AND(S56=1,T56=1,U56=1),(I56*100/$X$54)/H56,(F56/I56)*(H56/$X$54)*100/E56))","v":""},{"$f":"TEXT(K56,\"0.0\")","v":""},{"$f":"IF(A56=\"\",\"\",IF(AND(S56=1,T56=1,U56=1),ABS(H56-(I56/$X$54)),ABS(E56-(F56/I56)*(H56/$X$54))))","v":""},{"$f":"TEXT(M56,\"0.00\")","v":""},null,{"$f":"IF(A56=\"\",\"\",E56/H56)","v":""},{"$f":"IF(A56=\"\",\"\",F56/I56)","v":""},null,{"$f":"IF(A56=\"\",\"\",P56*Q56)","v":""},{"$f":"IF(A56=\"\",\"\",P56^2)","v":""},{"$f":"IF(A56=\"\",\"\",Q56^2)","v":""},null,"Levels",{"$f":"LEFT(A56&\"/\"&A57&\"/\"&A58&\"/\"&A59&\"/\"&A60&\"/\"&A61&\"/\"&A62&\"/\"&A63&\"/\"&A64&\"/\"&A65,LEN(A56&\"/\"&A57&\"/\"&A58&\"/\"&A59&\"/\"&A60&\"/\"&A61&\"/\"&A62&\"/\"&A63&\"/\"&A64&\"/\"&A65)-(10-COUNT(A56:A65)))","v":{"$error":"#VALUE!"}}]
[{"$f":"IF(CalInfo!$A$4=\"\",\"\",CalInfo!$A$4)","v":""},{"$f":"IF(A57=\"\",\"\",IF(ISERROR(MATCH(A57,$A$3:A56,FALSE)),A57,A57&\" a\"))","v":""},null,null,{"$f":"IF(A57=\"\",\"\",INDEX('Cal Prep'!$1:$21,MATCH($E$54,'Cal Prep'!L:L,FALSE),MATCH(A57,'Cal Prep'!$1:$1,FALSE)+3))","v":""},{"$f":"IF(A57=\"\",\"\",SUMIF('Cal Data'!$G$7:$G$202,\"=\"&$E$54,'Cal Data'!$F$7:$F$202))","v":""},null,{"$f":"IF(A57=\"\",\"\",INDEX('Cal Prep'!$1:$21,MATCH(INDEX(CalInfo!$B$19:$B$33,MATCH(\"Internal Standard\",CalInfo!$A$19:$A$33,FALSE)),'Cal Prep'!L:L,FALSE),MATCH(A57,'Cal Prep'!$1:$1,FALSE)+3))","v":""},{"$f":"IF(A57=\"\",\"\",SUMIF('Cal Data'!$G$7:$G$202,\"=\"&INDEX(CalInfo!$B$19:$B$33,MATCH(\"Internal Standard\",CalInfo!$A$19:$A$33,FALSE)),'Cal Data'!$F$7:$F$202))","v":""},null,{"$f":"IF(A57=\"\",\"\",IF(AND(S57=1,T57=1,U57=1),(I57*100/$X$54)/H57,(F57/I57)*(H57/$X$54)*100/E57))","v":""},{"$f":"TEXT(K57,\"0.0\")","v":""},{"$f":"IF(A57=\"\",\"\",IF(AND(S57=1,T57=1,U57=1),ABS(H57-(I57/$X$54)),ABS(E57-(F57/I57)*(H57/$X$54))))","v":""},{"$f":"TEXT(M57,\"0.00\")","v":""},null,{"$f":"IF(A57=\"\",\"\",E57/H57)","v":""},{"$f":"IF(A57=\"\",\"\",F57/I57)","v":""},null,{"$f":"IF(A57=\"\",\"\",P57*Q57)","v":""},{"$f":"IF(A57=\"\",\"\",P57^2)","v":""},{"$f":"IF(A57=\"\",\"\",Q57^2)","v":""},null,"% R",{"$f":"LEFT(L56&\"/\"&L57&\"/\"&L58&\"/\"&L59&\"/\"&L60&\"/\"&L61&\"/\"&L62&\"/\"&L63&\"/\"&L64&\"/\"&L65,LEN(L56&\"/\"&L57&\"/\"&L58&\"/\"&L59&\"/\"&L60&\"/\"&L61&\"/\"&L62&\"/\"&L63&\"/\"&L64&\"/\"&L65)-(10-COUNT(A56:A65)))","v":{"$error":"#VALUE!"}}]
[{"$f":"IF(CalInfo!$A$5=\"\",\"\",CalInfo!$A$5)","v":""},{"$f":"IF(A58=\"\",\"\",IF(ISERROR(MATCH(A58,$A$3:A57,FALSE)),A58,A58&\" a\"))","v":""},null,null,{"$f":"IF(A58=\"\",\"\",INDEX('Cal Prep'!$1:$21,MATCH($E$54,'Cal Prep'!L:L,FALSE),MATCH(A58,'Cal Prep'!$1:$1,FALSE)+3))","v":""},{"$f":"IF(A58=\"\",\"\",SUMIF('Cal Data'!$K$7:$K$202,\"=\"&$E$54,'Cal Data'!$J$7:$J$202))","v":""},null,{"$f":"IF(A58=\"\",\"\",INDEX('Cal Prep'!$1:$21,MATCH(INDEX(CalInfo!$B$19:$B$33,MATCH(\"Internal Standard\",CalInfo!$A$19:$A$33,FALSE)),'Cal Prep'!L:L,FALSE),MATCH(A58,'Cal Prep'!$1:$1,FALSE)+3))","v":""},{"$f":"IF(A58=\"\",\"\",SUMIF('Cal Data'!$K$7:$K$202,\"=\"&INDEX(CalInfo!$B$19:$B$33,MATCH(\"Internal Standard\",CalInfo!$A$19:$A$33,FALSE)),'Cal Data'!$J$7:$J$202))","v":""},null,"","","","",null,"","",null,"","","",null,"ABS D",{"$f":"LEFT(N56&\"/\"&N57&\"/\"&N58&\"/\"&N59&\"/\"&N60&\"/\"&N61&\"/\"&N62&\"/\"&N63&\"/\"&N64&\"/\"&N65,LEN(N56&\"/\"&N57&\"/\"&N58&\"/\"&N59&\"/\"&N60&\"/\"&N61&\"/\"&N62&\"/\"&N63&\"/\"&N64&\"/\"&N65)-(10-COUNT(A56:A65)))","v":{"$error":"#VALUE!"}}]
[{"$f":"IF(CalInfo!$A$5=\"\",\"\",CalInfo!$A$5)","v":""},{"$f":"IF(A59=\"\",\"\",IF(ISERROR(MATCH(A59,$A$3:A58,FALSE)),A59,A59&\" a\"))","v":""},null,null,{"$f":"IF(A59=\"\",\"\",INDEX('Cal Prep'!$1:$21,MATCH($E$54,'Cal Prep'!L:L,FALSE),MATCH(A59,'Cal Prep'!$1:$1,FALSE)+3))","v":""},{"$f":"IF(A59=\"\",\"\",SUMIF('Cal Data'!$O$7:$O$202,\"=\"&$E$54,'Cal Data'!$N$7:$N$202))","v":""},null,{"$f":"IF(A59=\"\",\"\",INDEX('Cal Prep'!$1:$21,MATCH(INDEX(CalInfo!$B$19:$B$33,MATCH(\"Internal Standard\",CalInfo!$A$19:$A$33,FALSE)),'Cal Prep'!L:L,FALSE),MATCH(A59,'Cal Prep'!$1:$1,FALSE)+3))","v":""},{"$f":"IF(A59=\"\",\"\",SUMIF('Cal Data'!$O$7:$O$202,\"=\"&INDEX(CalInfo!$B$19:$B$33,MATCH(\"Internal Standard\",CalInfo!$A$19:$A$33,FALSE)),'Cal Data'!$N$7:$N$202))","v":""},null,"","","","",null,"","",null,"","",""]
[{"$f":"IF(CalInfo!$A$6=\"\",\"\",CalInfo!$A$6)","v":""},{"$f":"IF(A60=\"\",\"\",IF(ISERROR(MATCH(A60,$A$3:A59,FALSE)),A60,A60&\" a\"))","v":""},null,null,{"$f":"IF(A60=\"\",\"\",INDEX('Cal Prep'!$1:$21,MATCH($E$54,'Cal Prep'!L:L,FALSE),MATCH(A60,'Cal Prep'!$1:$1,FALSE)+3))","v":""},{"$f":"IF(A60=\"\",\"\",SUMIF('Cal Data'!$S$7:$S$202,\"=\"&$E$54,'Cal Data'!$R$7:$R$202))","v":""},null,{"$f":"IF(A60=\"\",\"\",INDEX('Cal Prep'!$1:$21,MATCH(INDEX(CalInfo!$B$19:$B$33,MATCH(\"Internal Standard\",CalInfo!$A$19:$A$33,FALSE)),'Cal Prep'!L:L,FALSE),MATCH(A60,'Cal Prep'!$1:$1,FALSE)+3))","v":""},{"$f":"IF(A60=\"\",\"\",SUMIF('Cal Data'!$S$7:$S$202,\"=\"&INDEX(CalInfo!$B$19:$B$33,MATCH(\"Internal Standard\",CalInfo!$A$19:$A$33,FALSE)),'Cal Data'!$R$7:$R$202))","v":""},null,"","","","",null,"","",null,"","",""]
[{"$f":"IF(CalInfo!$A$6=\"\",\"\",CalInfo!$A$6)","v":""},{"$f":"IF(A61=\"\",\"\",IF(ISERROR(MATCH(A61,$A$3:A60,FALSE)),A61,A61&\" a\"))","v":""},null,null,{"$f":"IF(A61=\"\",\"\",INDEX('Cal Prep'!$1:$21,MATCH($E$54,'Cal Prep'!L:L,FALSE),MATCH(A61,'Cal Prep'!$1:$1,FALSE)+3))","v":""},{"$f":"IF(A61=\"\",\"\",SUMIF('Cal Data'!$W$7:$W$202,\"=\"&$E$54,'Cal Data'!$V$7:$V$202))","v":""},null,{"$f":"IF(A61=\"\",\"\",INDEX('Cal Prep'!$1:$21,MATCH(INDEX(CalInfo!$B$19:$B$33,MATCH(\"Internal Standard\",CalInfo!$A$19:$A$33,FALSE)),'Cal Prep'!L:L,FALSE),MATCH(A61,'Cal Prep'!$1:$1,FALSE)+3))","v":""},{"$f":"IF(A61=\"\",\"\",SUMIF('Cal Data'!$W$7:$W$202,\"=\"&INDEX(CalInfo!$B$19:$B$33,MATCH(\"Internal Standard\",CalInfo!$A$19:$A$33,FALSE)),'Cal Data'!$V$7:$V$202))","v":""},null,"","","","",null,"","",null,"","",""]
[{"$f":"IF(CalInfo!$A$7=\"\",\"\",CalInfo!$A$7)","v":""},{"$f":"IF(A62=\"\",\"\",IF(ISERROR(MATCH(A62,$A$3:A61,FALSE)),A62,A62&\" a\"))","v":""},null,null,{"$f":"IF(A62=\"\",\"\",INDEX('Cal Prep'!$1:$21,MATCH($E$54,'Cal Prep'!L:L,FALSE),MATCH(A62,'Cal Prep'!$1:$1,FALSE)+3))","v":""},{"$f":"IF(A62=\"\",\"\",SUMIF('Cal Data'!$AA$7:$AA$202,\"=\"&$E$54,'Cal Data'!$Z$7:$Z$202))","v":""},null,{"$f":"IF(A62=\"\",\"\",INDEX('Cal Prep'!$1:$21,MATCH(INDEX(CalInfo!$B$19:$B$33,MATCH(\"Internal Standard\",CalInfo!$A$19:$A$33,FALSE)),'Cal Prep'!L:L,FALSE),MATCH(A62,'Cal Prep'!$1:$1,FALSE)+3))","v":""},{"$f":"IF(A62=\"\",\"\",SUMIF('Cal Data'!$AA$7:$AA$202,\"=\"&INDEX(CalInfo!$B$19:$B$33,MATCH(\"Internal Standard\",CalInfo!$A$19:$A$33,FALSE)),'Cal Data'!$Z$7:$Z$202))","v":""},null,"","","","",null,"","",null,"","",""]
[{"$f":"IF(CalInfo!$A$7=\"\",\"\",CalInfo!$A$7)","v":""},{"$f":"IF(A63=\"\",\"\",IF(ISERROR(MATCH(A63,$A$3:A62,FALSE)),A63,A63&\" a\"))","v":""},null,null,{"$f":"IF(A63=\"\",\"\",INDEX('Cal Prep'!$1:$21,MATCH($E$54,'Cal Prep'!L:L,FALSE),MATCH(A63,'Cal Prep'!$1:$1,FALSE)+3))","v":""},{"$f":"IF(A63=\"\",\"\",SUMIF('Cal Data'!$AE$7:$AE$202,\"=\"&$E$54,'Cal Data'!$AD$7:$AD$202))","v":""},null,{"$f":"IF(A63=\"\",\"\",INDEX('Cal Prep'!$1:$21,MATCH(INDEX(CalInfo!$B$19:$B$33,MATCH(\"Internal Standard\",CalInfo!$A$19:$A$33,FALSE)),'Cal Prep'!L:L,FALSE),MATCH(A63,'Cal Prep'!$1:$1,FALSE)+3))","v":""},{"$f":"IF(A63=\"\",\"\",SUMIF('Cal Data'!$AE$7:$AE$202,\"=\"&INDEX(CalInfo!$B$19:$B$33,MATCH(\"Internal Standard\",CalInfo!$A$19:$A$33,FALSE)),'Cal Data'!$AD$7:$AD$202))","v":""},null,"","","","",null,"","",null,"","",""]
[{"$f":"IF(CalInfo!$A$8=\"\",\"\",CalInfo!$A$8)","v":""},{"$f":"IF(A64=\"\",\"\",IF(ISERROR(MATCH(A64,$A$3:A63,FALSE)),A64,A64&\" a\"))","v":""},null,null,{"$f":"IF(A64=\"\",\"\",INDEX('Cal Prep'!$1:$21,MATCH($E$54,'Cal Prep'!L:L,FALSE),MATCH(A64,'Cal Prep'!$1:$1,FALSE)+3))","v":""},{"$f":"IF(A64=\"\",\"\",SUMIF('Cal Data'!$AI$7:$AI$202,\"=\"&$E$54,'Cal Data'!$AH$7:$AH$202))","v":""},null,{"$f":"IF(A64=\"\",\"\",INDEX('Cal Prep'!$1:$21,MATCH(INDEX(CalInfo!$B$19:$B$33,MATCH(\"Internal Standard\",CalInfo!$A$19:$A$33,FALSE)),'Cal Prep'!L:L,FALSE),MATCH(A64,'Cal Prep'!$1:$1,FALSE)+3))","v":""},{"$f":"IF(A64=\"\",\"\",SUMIF('Cal Data'!$AI$7:$AI$202,\"=\"&INDEX(CalInfo!$B$19:$B$33,MATCH(\"Internal Standard\",CalInfo!$A$19:$A$33,FALSE)),'Cal Data'!$AH$7:$AH$202))","v":""},null,"","","","",null,"","",null,"","",""]
[{"$f":"IF(CalInfo!$A$8=\"\",\"\",CalInfo!$A$8)","v":""},{"$f":"IF(A65=\"\",\"\",IF(ISERROR(MATCH(A65,$A$3:A64,FALSE)),A65,A65&\" a\"))","v":""},null,null,{"$f":"IF(A65=\"\",\"\",INDEX('Cal Prep'!$1:$21,MATCH($E$54,'Cal Prep'!L:L,FALSE),MATCH(A65,'Cal Prep'!$1:$1,FALSE)+3))","v":""},{"$f":"IF(A65=\"\",\"\",SUMIF('Cal Data'!$AM$7:$AM$202,\"=\"&$E$54,'Cal Data'!$AL$7:$AL$202))","v":""},null,{"$f":"IF(A65=\"\",\"\",INDEX('Cal Prep'!$1:$21,MATCH(INDEX(CalInfo!$B$19:$B$33,MATCH(\"Internal Standard\",CalInfo!$A$19:$A$33,FALSE)),'Cal Prep'!L:L,FALSE),MATCH(A65,'Cal Prep'!$1:$1,FALSE)+3))","v":""},{"$f":"IF(A65=\"\",\"\",SUMIF('Cal Data'!$AM$7:$AM$202,\"=\"&INDEX(CalInfo!$B$19:$B$33,MATCH(\"Internal Standard\",CalInfo!$A$19:$A$33,FALSE)),'Cal Data'!$AL$7:$AL$202))","v":""},null,"","","","",null,"","",null,"","",""]
[]
[null,null,null,{"$f":"IF(MAX($D$1:D66)>MAX(CalInfo!$K$19:$K$33),\"\",MAX($D$1:D66)+1)","v":""},{"$f":"IF(D67=\"\",\"\",IF(ISERROR(INDEX(CalInfo!$B$19:$B$33,MATCH(D67,CalInfo!$K$19:$K$33,FALSE))),INDEX(CalInfo!$B$19:$B$33,MATCH(\"Internal Standard\",CalInfo!$A$19:$A$33,FALSE)),INDEX(CalInfo!$B$19:$B$33,MATCH(D67,CalInfo!$K$19:$K$33,FALSE))))","v":""},null,null,"Internal Standard",null,null,null,null,null,null,null,null,null,null,null,null,null,null,"RRF/RF",{"$f":"IF(AND(S69=1,T69=1,U69=1),ROUND(AVERAGE(I69:I78)/AVERAGE(H69:H78),0),ROUND(AVERAGE(S69:S78)/AVERAGE(T69:T78),4))","v":{"$error":"#DIV/0!"}}]
["STD Level",null,null,null,"Prep g/L","Area Counts",null,"Prep g/L","Area Counts",null,"% Recovery","% Recovery","ABS. Diff","ABS. Diff",null,"g/L Ratio","AC Ratio",null,"X*Y","X2","Y2",null,"R2/RSD",{"$f":"IF(AND(S69=1,T69=1,U69=1),ROUND(STDEV(I69:I78)*100/AVERAGE(I69:I78),1),ROUND(AVERAGE(S69:S78)^2/(AVERAGE(T69:T78)*AVERAGE(U69:U78)),4))","v":{"$error":"#DIV/0!"}}]
[{"$f":"IF(CalInfo!$A$4=\"\",\"\",CalInfo!$A$4)","v":""},{"$f":"IF(A69=\"\",\"\",IF(ISERROR(MATCH(A69,$A$3:A68,FALSE)),A69,A69&\" a\"))","v":""},null,null,{"$f":"IF(A69=\"\",\"\",INDEX('Cal Prep'!$1:$21,MATCH($E$67,'Cal Prep'!L:L,FALSE),MATCH(A69,'Cal Prep'!$1:$1,FALSE)+3))","v":""},{"$f":"IF(A69=\"\",\"\",SUMIF('Cal Data'!$C$7:$C$202,\"=\"&$E$67,'Cal Data'!$B$7:$B$202))","v":""},null,{"$f":"IF(A69=\"\",\"\",INDEX('Cal Prep'!$1:$21,MATCH(INDEX(CalInfo!$B$19:$B$33,MATCH(\"Internal Standard\",CalInfo!$A$19:$A$33,FALSE)),'Cal Prep'!L:L,FALSE),MATCH(A69,'Cal Prep'!$1:$1,FALSE)+3))","v":""},{"$f":"IF(A69=\"\",\"\",SUMIF('Cal Data'!$C$7:$C$202,\"=\"&INDEX(CalInfo!$B$19:$B$33,MATCH(\"Internal Standard\",CalInfo!$A$19:$A$33,FALSE)),'Cal Data'!$B$7:$B$202))","v":""},null,{"$f":"IF(A69=\"\",\"\",IF(AND(S69=1,T69=1,U69=1),(I69*100/$X$67)/H69,(F69/I69)*(H69/$X$67)*100/E69))","v":""},{"$f":"TEXT(K69,\"0.0\")","v":""},{"$f":"IF(A69=\"\",\"\",IF(AND(S69=1,T69=1,U69=1),ABS(H69-(I69/$X$67)),ABS(E69-(F69/I69)*(H69/$X$67))))","v":""},{"$f":"TEXT(M69,\"0.00\")","v":""},null,{"$f":"IF(A69=\"\",\"\",E69/H69)","v":""},{"$f":"IF(A69=\"\",\"\",F69/I69)","v":""},null,{"$f":"IF(A69=\"\",\"\",P69*Q69)","v":""},{"$f":"IF(A69=\"\",\"\",P69^2)","v":""},{"$f":"IF(A69=\"\",\"\",Q69^2)","v":""},null,"Levels",{"$f":"LEFT(A69&\"/\"&A70&\"/\"&A71&\"/\"&A72&\"/\"&A73&\"/\"&A74&\"/\"&A75&\"/\"&A76&\"/\"&A77&\"/\"&A78,LEN(A69&\"/\"&A70&\"/\"&A71&\"/\"&A72&\"/\"&A73&\"/\"&A74&\"/\"&A75&\"/\"&A76&\"/\"&A77&\"/\"&A78)-(10-COUNT(A69:A78)))","v":{"$error":"#VALUE!"}}]
[{"$f":"IF(CalInfo!$A$4=\"\",\"\",CalInfo!$A$4)","v":""},{"$f":"IF(A70=\"\",\"\",IF(ISERROR(MATCH(A70,$A$3:A69,FALSE)),A70,A70&\" a\"))","v":""},null,null,{"$f":"IF(A70=\"\",\"\",INDEX('Cal Prep'!$1:$21,MATCH($E$67,'Cal Prep'!L:L,FALSE),MATCH(A70,'Cal Prep'!$1:$1,FALSE)+3))","v":""},{"$f":"IF(A70=\"\",\"\",SUMIF('Cal Data'!$G$7:$G$202,\"=\"&$E$67,'Cal Data'!$F$7:$F$202))","v":""},null,{"$f":"IF(A70=\"\",\"\",INDEX('Cal Prep'!$1:$21,MATCH(INDEX(CalInfo!$B$19:$B$33,MATCH(\"Internal Standard\",CalInfo!$A$19:$A$33,FALSE)),'Cal Prep'!L:L,FALSE),MATCH(A70,'Cal Prep'!$1:$1,FALSE)+3))","v":""},{"$f":"IF(A70=\"\",\"\",SUMIF('Cal Data'!$G$7:$G$202,\"=\"&INDEX(CalInfo!$B$19:$B$33,MATCH(\"Internal Standard\",CalInfo!$A$19:$A$33,FALSE)),'Cal Data'!$F$7:$F$202))","v":""},null,{"$f":"IF(A70=\"\",\"\",IF(AND(S70=1,T70=1,U70=1),(I70*100/$X$67)/H70,(F70/I70)*(H70/$X$67)*100/E70))","v":""},{"$f":"TEXT(K70,\"0.0\")","v":""},{"$f":"IF(A70=\"\",\"\",IF(AND(S70=1,T70=1,U70=1),ABS(H70-(I70/$X$67)),ABS(E70-(F70/I70)*(H70/$X$67))))","v":""},{"$f":"TEXT(M70,\"0.00\")","v":""},null,{"$f":"IF(A70=\"\",\"\",E70/H70)","v":""},{"$f":"IF(A70=\"\",\"\",F70/I70)","v":""},null,{"$f":"IF(A70=\"\",\"\",P70*Q70)","v":""},{"$f":"IF(A70=\"\",\"\",P70^2)","v":""},{"$f":"IF(A70=\"\",\"\",Q70^2)","v":""},null,"% R",{"$f":"LEFT(L69&\"/\"&L70&\"/\"&L71&\"/\"&L72&\"/\"&L73&\"/\"&L74&\"/\"&L75&\"/\"&L76&\"/\"&L77&\"/\"&L78,LEN(L69&\"/\"&L70&\"/\"&L71&\"/\"&L72&\"/\"&L73&\"/\"&L74&\"/\"&L75&\"/\"&L76&\"/\"&L77&\"/\"&L78)-(10-COUNT(A69:A78)))","v":{"$error":"#VALUE!"}}]
[{"$f":"IF(CalInfo!$A$5=\"\",\"\",CalInfo!$A$5)","v":""},{"$f":"IF(A71=\"\",\"\",IF(ISERROR(MATCH(A71,$A$3:A70,FALSE)),A71,A71&\" a\"))","v":""},null,null,{"$f":"IF(A71=\"\",\"\",INDEX('Cal Prep'!$1:$21,MATCH($E$67,'Cal Prep'!L:L,FALSE),MATCH(A71,'Cal Prep'!$1:$1,FALSE)+3))","v":""},{"$f":"IF(A71=\"\",\"\",SUMIF('Cal Data'!$K$7:$K$202,\"=\"&$E$67,'Cal Data'!$J$7:$J$202))","v":""},null,{"$f":"IF(A71=\"\",\"\",INDEX('Cal Prep'!$1:$21,MATCH(INDEX(CalInfo!$B$19:$B$33,MATCH(\"Internal Standard\",CalInfo!$A$19:$A$33,FALSE)),'Cal Prep'!L:L,FALSE),MATCH(A71,'Cal Prep'!$1:$1,FALSE)+3))","v":""},{"$f":"IF(A71=\"\",\"\",SUMIF('Cal Data'!$K$7:$K$202,\"=\"&INDEX(CalInfo!$B$19:$B$33,MATCH(\"Internal Standard\",CalInfo!$A$19:$A$33,FALSE)),'Cal Data'!$J$7:$J$202))","v":""},null,"","","","",null,"","",null,"","","",null,"ABS D",{"$f":"LEFT(N69&\"/\"&N70&\"/\"&N71&\"/\"&N72&\"/\"&N73&\"/\"&N74&\"/\"&N75&\"/\"&N76&\"/\"&N77&\"/\"&N78,LEN(N69&\"/\"&N70&\"/\"&N71&\"/\"&N72&\"/\"&N73&\"/\"&N74&\"/\"&N75&\"/\"&N76&\"/\"&N77&\"/\"&N78)-(10-COUNT(A69:A78)))","v":{"$error":"#VALUE!"}}]
[{"$f":"IF(CalInfo!$A$5=\"\",\"\",CalInfo!$A$5)","v":""},{"$f":"IF(A72=\"\",\"\",IF(ISERROR(MATCH(A72,$A$3:A71,FALSE)),A72,A72&\" a\"))","v":""},null,null,{"$f":"IF(A72=\"\",\"\",INDEX('Cal Prep'!$1:$21,MATCH($E$67,'Cal Prep'!L:L,FALSE),MATCH(A72,'Cal Prep'!$1:$1,FALSE)+3))","v":""},{"$f":"IF(A72=\"\",\"\",SUMIF('Cal Data'!$O$7:$O$202,\"=\"&$E$67,'Cal Data'!$N$7:$N$202))","v":""},null,{"$f":"IF(A72=\"\",\"\",INDEX('Cal Prep'!$1:$21,MATCH(INDEX(CalInfo!$B$19:$B$33,MATCH(\"Internal Standard\",CalInfo!$A$19:$A$33,FALSE)),'Cal Prep'!L:L,FALSE),MATCH(A72,'Cal Prep'!$1:$1,FALSE)+3))","v":""},{"$f":"IF(A72=\"\",\"\",SUMIF('Cal Data'!$O$7:$O$202,\"=\"&INDEX(CalInfo!$B$19:$B$33,MATCH(\"Internal Standard\",CalInfo!$A$19:$A$33,FALSE)),'Cal Data'!$N$7:$N$202))","v":""},null,"","","","",null,"","",null,"","",""]
[{"$f":"IF(CalInfo!$A$6=\"\",\"\",CalInfo!$A$6)","v":""},{"$f":"IF(A73=\"\",\"\",IF(ISERROR(MATCH(A73,$A$3:A72,FALSE)),A73,A73&\" a\"))","v":""},null,null,{"$f":"IF(A73=\"\",\"\",INDEX('Cal Prep'!$1:$21,MATCH($E$67,'Cal Prep'!L:L,FALSE),MATCH(A73,'Cal Prep'!$1:$1,FALSE)+3))","v":""},{"$f":"IF(A73=\"\",\"\",SUMIF('Cal Data'!$S$7:$S$202,\"=\"&$E$67,'Cal Data'!$R$7:$R$202))","v":""},null,{"$f":"IF(A73=\"\",\"\",INDEX('Cal Prep'!$1:$21,MATCH(INDEX(CalInfo!$B$19:$B$33,MATCH(\"Internal Standard\",CalInfo!$A$19:$A$33,FALSE)),'Cal Prep'!L:L,FALSE),MATCH(A73,'Cal Prep'!$1:$1,FALSE)+3))","v":""},{"$f":"IF(A73=\"\",\"\",SUMIF('Cal Data'!$S$7:$S$202,\"=\"&INDEX(CalInfo!$B$19:$B$33,MATCH(\"Internal Standard\",CalInfo!$A$19:$A$33,FALSE)),'Cal Data'!$R$7:$R$202))","v":""},null,"","","","",null,"","",null,"","",""]
[{"$f":"IF(CalInfo!$A$6=\"\",\"\",CalInfo!$A$6)","v":""},{"$f":"IF(A74=\"\",\"\",IF(ISERROR(MATCH(A74,$A$3:A73,FALSE)),A74,A74&\" a\"))","v":""},null,null,{"$f":"IF(A74=\"\",\"\",INDEX('Cal Prep'!$1:$21,MATCH($E$67,'Cal Prep'!L:L,FALSE),MATCH(A74,'Cal Prep'!$1:$1,FALSE)+3))","v":""},{"$f":"IF(A74=\"\",\"\",SUMIF('Cal Data'!$W$7:$W$202,\"=\"&$E$67,'Cal Data'!$V$7:$V$202))","v":""},null,{"$f":"IF(A74=\"\",\"\",INDEX('Cal Prep'!$1:$21,MATCH(INDEX(CalInfo!$B$19:$B$33,MATCH(\"Internal Standard\",CalInfo!$A$19:$A$33,FALSE)),'Cal Prep'!L:L,FALSE),MATCH(A74,'Cal Prep'!$1:$1,FALSE)+3))","v":""},{"$f":"IF(A74=\"\",\"\",SUMIF('Cal Data'!$W$7:$W$202,\"=\"&INDEX(CalInfo!$B$19:$B$33,MATCH(\"Internal Standard\",CalInfo!$A$19:$A$33,FALSE)),'Cal Data'!$V$7:$V$202))","v":""},null,"","","","",null,"","",null,"","",""]
[{"$f":"IF(CalInfo!$A$7=\"\",\"\",CalInfo!$A$7)","v":""},{"$f":"IF(A75=\"\",\"\",IF(ISERROR(MATCH(A75,$A$3:A74,FALSE)),A75,A75&\" a\"))","v":""},null,null,{"$f":"IF(A75=\"\",\"\",INDEX('Cal Prep'!$1:$21,MATCH($E$67,'Cal Prep'!L:L,FALSE),MATCH(A75,'Cal Prep'!$1:$1,FALSE)+3))","v":""},{"$f":"IF(A75=\"\",\"\",SUMIF('Cal Data'!$AA$7:$AA$202,\"=\"&$E$67,'Cal Data'!$Z$7:$Z$202))","v":""},null,{"$f":"IF(A75=\"\",\"\",INDEX('Cal Prep'!$1:$21,MATCH(INDEX(CalInfo!$B$19:$B$33,MATCH(\"Internal Standard\",CalInfo!$A$19:$A$33,FALSE)),'Cal Prep'!L:L,FALSE),MATCH(A75,'Cal Prep'!$1:$1,FALSE)+3))","v":""},{"$f":"IF(A75=\"\",\"\",SUMIF('Cal Data'!$AA$7:$AA$202,\"=\"&INDEX(CalInfo!$B$19:$B$33,MATCH(\"Internal Standard\",CalInfo!$A$19:$A$33,FALSE)),'Cal Data'!$Z$7:$Z$202))","v":""},null,{"$f":"IF(A75=\"\",\"\",IF(AND(S75=1,T75=1,U75=1),(I75*100/$X$67)/H75,(F75/I75)*(H75/$X$67)*100/E75))","v":""},"","","",null,"","",null,"","",""]
[{"$f":"IF(CalInfo!$A$7=\"\",\"\",CalInfo!$A$7)","v":""},{"$f":"IF(A76=\"\",\"\",IF(ISERROR(MATCH(A76,$A$3:A75,FALSE)),A76,A76&\" a\"))","v":""},null,null,{"$f":"IF(A76=\"\",\"\",INDEX('Cal Prep'!$1:$21,MATCH($E$67,'Cal Prep'!L:L,FALSE),MATCH(A76,'Cal Prep'!$1:$1,FALSE)+3))","v":""},{"$f":"IF(A76=\"\",\"\",SUMIF('Cal Data'!$AE$7:$AE$202,\"=\"&$E$67,'Cal Data'!$AD$7:$AD$202))","v":""},null,{"$f":"IF(A76=\"\",\"\",INDEX('Cal Prep'!$1:$21,MATCH(INDEX(CalInfo!$B$19:$B$33,MATCH(\"Internal Standard\",CalInfo!$A$19:$A$33,FALSE)),'Cal Prep'!L:L,FALSE),MATCH(A76,'Cal Prep'!$1:$1,FALSE)+3))","v":""},{"$f":"IF(A76=\"\",\"\",SUMIF('Cal Data'!$AE$7:$AE$202,\"=\"&INDEX(CalInfo!$B$19:$B$33,MATCH(\"Internal Standard\",CalInfo!$A$19:$A$33,FALSE)),'Cal Data'!$AD$7:$AD$202))","v":""},null,"","","","",null,"","",null,"","",""]
[{"$f":"IF(CalInfo!$A$8=\"\",\"\",CalInfo!$A$8)","v":""},{"$f":"IF(A77=\"\",\"\",IF(ISERROR(MATCH(A77,$A$3:A76,FALSE)),A77,A77&\" a\"))","v":""},null,null,{"$f":"IF(A77=\"\",\"\",INDEX('Cal Prep'!$1:$21,MATCH($E$67,'Cal Prep'!L:L,FALSE),MATCH(A77,'Cal Prep'!$1:$1,FALSE)+3))","v":""},{"$f":"IF(A77=\"\",\"\",SUMIF('Cal Data'!$AI$7:$AI$202,\"=\"&$E$67,'Cal Data'!$AH$7:$AH$202))","v":""},null,{"$f":"IF(A77=\"\",\"\",INDEX('Cal Prep'!$1:$21,MATCH(INDEX(CalInfo!$B$19:$B$33,MATCH(\"Internal Standard\",CalInfo!$A$19:$A$33,FALSE)),'Cal Prep'!L:L,FALSE),MATCH(A77,'Cal Prep'!$1:$1,FALSE)+3))","v":""},{"$f":"IF(A77=\"\",\"\",SUMIF('Cal Data'!$AI$7:$AI$202,\"=\"&INDEX(CalInfo!$B$19:$B$33,MATCH(\"Internal Standard\",CalInfo!$A$19:$A$33,FALSE)),'Cal Data'!$AH$7:$AH$202))","v":""},null,"","","","",null,"","",null,"","",""]
[{"$f":"IF(CalInfo!$A$8=\"\",\"\",CalInfo!$A$8)","v":""},{"$f":"IF(A78=\"\",\"\",IF(ISERROR(MATCH(A78,$A$3:A77,FALSE)),A78,A78&\" a\"))","v":""},null,null,{"$f":"IF(A78=\"\",\"\",INDEX('Cal Prep'!$1:$21,MATCH($E$67,'Cal Prep'!L:L,FALSE),MATCH(A78,'Cal Prep'!$1:$1,FALSE)+3))","v":""},{"$f":"IF(A78=\"\",\"\",SUMIF('Cal Data'!$AM$7:$AM$202,\"=\"&$E$67,'Cal Data'!$AL$7:$AL$202))","v":""},null,{"$f":"IF(A78=\"\",\"\",INDEX('Cal Prep'!$1:$21,MATCH(INDEX(CalInfo!$B$19:$B$33,MATCH(\"Internal Standard\",CalInfo!$A$19:$A$33,FALSE)),'Cal Prep'!L:L,FALSE),MATCH(A78,'Cal Prep'!$1:$1,FALSE)+3))","v":""},{"$f":"IF(A78=\"\",\"\",SUMIF('Cal Data'!$AM$7:$AM$202,\"=\"&INDEX(CalInfo!$B$19:$B$33,MATCH(\"Internal Standard\",CalInfo!$A$19:$A$33,FALSE)),'Cal Data'!$AL$7:$AL$202))","v":""},null,"","","","",null,"","",null,"","",""]
[]
[null,null,null,{"$f":"IF(MAX($D$1:D79)>MAX(CalInfo!$K$19:$K$33),\"\",MAX($D$1:D79)+1)","v":""},{"$f":"IF(D80=\"\",\"\",IF(ISERROR(INDEX(CalInfo!$B$19:$B$33,MATCH(D80,CalInfo!$K$19:$K$33,FALSE))),INDEX(CalInfo!$B$19:$B$33,MATCH(\"Internal Standard\",CalInfo!$A$19:$A$33,FALSE)),INDEX(CalInfo!$B$19:$B$33,MATCH(D80,CalInfo!$K$19:$K$33,FALSE))))","v":""},null,null,"Internal Standard",null,null,null,null,null,null,null,null,null,null,null,null,null,null,"RRF/RF",{"$f":"IF(AND(S82=1,T82=1,U82=1),ROUND(AVERAGE(I82:I91)/AVERAGE(H82:H91),0),ROUND(AVERAGE(S82:S91)/AVERAGE(T82:T91),4))","v":{"$error":"#DIV/0!"}}]
["STD Level",null,null,null,"Prep g/L","Area Counts",null,"Prep g/L","Area Counts",null,"% Recovery","% Recovery","ABS. Diff","ABS. Diff",null,"g/L Ratio","AC Ratio",null,"X*Y","X2","Y2",null,"R2/RSD",{"$f":"IF(AND(S82=1,T82=1,U82=1),ROUND(STDEV(I82:I91)*100/AVERAGE(I82:I91),1),ROUND(AVERAGE(S82:S91)^2/(AVERAGE(T82:T91)*AVERAGE(U82:U91)),4))","v":{"$error":"#DIV/0!"}}]
[{"$f":"IF(CalInfo!$A$4=\"\",\"\",CalInfo!$A$4)","v":""},{"$f":"IF(A82=\"\",\"\",IF(ISERROR(MATCH(A82,$A$3:A81,FALSE)),A82,A82&\" a\"))","v":""},null,null,{"$f":"IF(A82=\"\",\"\",INDEX('Cal Prep'!$1:$21,MATCH($E$80,'Cal Prep'!L:L,FALSE),MATCH(A82,'Cal Prep'!$1:$1,FALSE)+3))","v":""},{"$f":"IF(A82=\"\",\"\",SUMIF('Cal Data'!$C$7:$C$202,\"=\"&$E$80,'Cal Data'!$B$7:$B$202))","v":""},null,{"$f":"IF(A82=\"\",\"\",INDEX('Cal Prep'!$1:$21,MATCH(INDEX(CalInfo!$B$19:$B$33,MATCH(\"Internal Standard\",CalInfo!$A$19:$A$33,FALSE)),'Cal Prep'!L:L,FALSE),MATCH(A82,'Cal Prep'!$1:$1,FALSE)+3))","v":""},{"$f":"IF(A82=\"\",\"\",SUMIF('Cal Data'!$C$7:$C$202,\"=\"&INDEX(CalInfo!$B$19:$B$33,MATCH(\"Internal Standard\",CalInfo!$A$19:$A$33,FALSE)),'Cal Data'!$B$7:$B$202))","v":""},null,{"$f":"IF(A82=\"\",\"\",IF(AND(S82=1,T82=1,U82=1),(I82*100/$X$80)/H82,(F82/I82)*(H82/$X$80)*100/E82))","v":""},{"$f":"TEXT(K82,\"0.0\")","v":""},{"$f":"IF(A82=\"\",\"\",IF(AND(S82=1,T82=1,U82=1),ABS(H82-(I82/$X$80)),ABS(E82-(F82/I82)*(H82/$X$80))))","v":""},{"$f":"TEXT(M82,\"0.00\")","v":""},null,{"$f":"IF(A82=\"\",\"\",E82/H82)","v":""},{"$f":"IF(A82=\"\",\"\",F82/I82)","v":""},null,{"$f":"IF(A82=\"\",\"\",P82*Q82)","v":""},{"$f":"IF(A82=\"\",\"\",P82^2)","v":""},{"$f":"IF(A82=\"\",\"\",Q82^2)","v":""},null,"Levels",{"$f":"LEFT(A82&\"/\"&A83&\"/\"&A84&\"/\"&A85&\"/\"&A86&\"/\"&A87&\"/\"&A88&\"/\"&A89&\"/\"&A90&\"/\"&A91,LEN(A82&\"/\"&A83&\"/\"&A84&\"/\"&A85&\"/\"&A86&\"/\"&A87&\"/\"&A88&\"/\"&A89&\"/\"&A90&\"/\"&A91)-(10-COUNT(A82:A91)))","v":{"$error":"#VALUE!"}}]
[{"$f":"IF(CalInfo!$A$4=\"\",\"\",CalInfo!$A$4)","v":""},{"$f":"IF(A83=\"\",\"\",IF(ISERROR(MATCH(A83,$A$3:A82,FALSE)),A83,A83&\" a\"))","v":""},null,null,{"$f":"IF(A83=\"\",\"\",INDEX('Cal Prep'!$1:$21,MATCH($E$80,'Cal Prep'!L:L,FALSE),MATCH(A83,'Cal Prep'!$1:$1,FALSE)+3))","v":""},{"$f":"IF(A83=\"\",\"\",SUMIF('Cal Data'!$G$7:$G$202,\"=\"&$E$80,'Cal Data'!$F$7:$F$202))","v":""},null,{"$f":"IF(A83=\"\",\"\",INDEX('Cal Prep'!$1:$21,MATCH(INDEX(CalInfo!$B$19:$B$33,MATCH(\"Internal Standard\",CalInfo!$A$19:$A$33,FALSE)),'Cal Prep'!L:L,FALSE),MATCH(A83,'Cal Prep'!$1:$1,FALSE)+3))","v":""},{"$f":"IF(A83=\"\",\"\",SUMIF('Cal Data'!$G$7:$G$202,\"=\"&INDEX(CalInfo!$B$19:$B$33,MATCH(\"Internal Standard\",CalInfo!$A$19:$A$33,FALSE)),'Cal Data'!$F$7:$F$202))","v":""},null,{"$f":"IF(A83=\"\",\"\",IF(AND(S83=1,T83=1,U83=1),(I83*100/$X$80)/H83,(F83/I83)*(H83/$X$80)*100/E83))","v":""},{"$f":"TEXT(K83,\"0.0\")","v":""},{"$f":"IF(A83=\"\",\"\",IF(AND(S83=1,T83=1,U83=1),ABS(H83-(I83/$X$80)),ABS(E83-(F83/I83)*(H83/$X$80))))","v":""},{"$f":"TEXT(M83,\"0.00\")","v":""},null,{"$f":"IF(A83=\"\",\"\",E83/H83)","v":""},{"$f":"IF(A83=\"\",\"\",F83/I83)","v":""},null,{"$f":"IF(A83=\"\",\"\",P83*Q83)","v":""},{"$f":"IF(A83=\"\",\"\",P83^2)","v":""},{"$f":"IF(A83=\"\",\"\",Q83^2)","v":""},null,"% R",{"$f":"LEFT(L82&\"/\"&L83&\"/\"&L84&\"/\"&L85&\"/\"&L86&\"/\"&L87&\"/\"&L88&\"/\"&L89&\"/\"&L90&\"/\"&L91,LEN(L82&\"/\"&L83&\"/\"&L84&\"/\"&L85&\"/\"&L86&\"/\"&L87&\"/\"&L88&\"/\"&L89&\"/\"&L90&\"/\"&L91)-(10-COUNT(A82:A91)))","v":{"$error":"#VALUE!"}}]
[{"$f":"IF(CalInfo!$A$5=\"\",\"\",CalInfo!$A$5)","v":""},{"$f":"IF(A84=\"\",\"\",IF(ISERROR(MATCH(A84,$A$3:A83,FALSE)),A84,A84&\" a\"))","v":""},null,null,{"$f":"IF(A84=\"\",\"\",INDEX('Cal Prep'!$1:$21,MATCH($E$80,'Cal Prep'!L:L,FALSE),MATCH(A84,'Cal Prep'!$1:$1,FALSE)+3))","v":""},{"$f":"IF(A84=\"\",\"\",SUMIF('Cal Data'!$K$7:$K$202,\"=\"&$E$80,'Cal Data'!$J$7:$J$202))","v":""},null,{"$f":"IF(A84=\"\",\"\",INDEX('Cal Prep'!$1:$21,MATCH(INDEX(CalInfo!$B$19:$B$33,MATCH(\"Internal Standard\",CalInfo!$A$19:$A$33,FALSE)),'Cal Prep'!L:L,FALSE),MATCH(A84,'Cal Prep'!$1:$1,FALSE)+3))","v":""},{"$f":"IF(A84=\"\",\"\",SUMIF('Cal Data'!$K$7:$K$202,\"=\"&INDEX(CalInfo!$B$19:$B$33,MATCH(\"Internal Standard\",CalInfo!$A$19:$A$33,FALSE)),'Cal Data'!$J$7:$J$202))","v":""},null,"","","","",null,"","",null,"","","",null,"ABS D",{"$f":"LEFT(N82&\"/\"&N83&\"/\"&N84&\"/\"&N85&\"/\"&N86&\"/\"&N87&\"/\"&N88&\"/\"&N89&\"/\"&N90&\"/\"&N91,LEN(N82&\"/\"&N83&\"/\"&N84&\"/\"&N85&\"/\"&N86&\"/\"&N87&\"/\"&N88&\"/\"&N89&\"/\"&N90&\"/\"&N91)-(10-COUNT(A82:A91)))","v":{"$error":"#VALUE!"}}]
[{"$f":"IF(CalInfo!$A$5=\"\",\"\",CalInfo!$A$5)","v":""},{"$f":"IF(A85=\"\",\"\",IF(ISERROR(MATCH(A85,$A$3:A84,FALSE)),A85,A85&\" a\"))","v":""},null,null,{"$f":"IF(A85=\"\",\"\",INDEX('Cal Prep'!$1:$21,MATCH($E$80,'Cal Prep'!L:L,FALSE),MATCH(A85,'Cal Prep'!$1:$1,FALSE)+3))","v":""},{"$f":"IF(A85=\"\",\"\",SUMIF('Cal Data'!$O$7:$O$202,\"=\"&$E$80,'Cal Data'!$N$7:$N$202))","v":""},null,{"$f":"IF(A85=\"\",\"\",INDEX('Cal Prep'!$1:$21,MATCH(INDEX(CalInfo!$B$19:$B$33,MATCH(\"Internal Standard\",CalInfo!$A$19:$A$33,FALSE)),'Cal Prep'!L:L,FALSE),MATCH(A85,'Cal Prep'!$1:$1,FALSE)+3))","v":""},{"$f":"IF(A85=\"\",\"\",SUMIF('Cal Data'!$O$7:$O$202,\"=\"&INDEX(CalInfo!$B$19:$B$33,MATCH(\"Internal Standard\",CalInfo!$A$19:$A$33,FALSE)),'Cal Data'!$N$7:$N$202))","v":""},null,"","","","",null,"","",null,"","",""]
[{"$f":"IF(CalInfo!$A$6=\"\",\"\",CalInfo!$A$6)","v":""},{"$f":"IF(A86=\"\",\"\",IF(ISERROR(MATCH(A86,$A$3:A85,FALSE)),A86,A86&\" a\"))","v":""},null,null,{"$f":"IF(A86=\"\",\"\",INDEX('Cal Prep'!$1:$21,MATCH($E$80,'Cal Prep'!L:L,FALSE),MATCH(A86,'Cal Prep'!$1:$1,FALSE)+3))","v":""},{"$f":"IF(A86=\"\",\"\",SUMIF('Cal Data'!$S$7:$S$202,\"=\"&$E$80,'Cal Data'!$R$7:$R$202))","v":""},null,{"$f":"IF(A86=\"\",\"\",INDEX('Cal Prep'!$1:$21,MATCH(INDEX(CalInfo!$B$19:$B$33,MATCH(\"Internal Standard\",CalInfo!$A$19:$A$33,FALSE)),'Cal Prep'!L:L,FALSE),MATCH(A86,'Cal Prep'!$1:$1,FALSE)+3))","v":""},{"$f":"IF(A86=\"\",\"\",SUMIF('Cal Data'!$S$7:$S$202,\"=\"&INDEX(CalInfo!$B$19:$B$33,MATCH(\"Internal Standard\",CalInfo!$A$19:$A$33,FALSE)),'Cal Data'!$R$7:$R$202))","v":""},null,"","","","",null,"","",null,"","",""]
[{"$f":"IF(CalInfo!$A$6=\"\",\"\",CalInfo!$A$6)","v":""},{"$f":"IF(A87=\"\",\"\",IF(ISERROR(MATCH(A87,$A$3:A86,FALSE)),A87,A87&\" a\"))","v":""},null,null,{"$f":"IF(A87=\"\",\"\",INDEX('Cal Prep'!$1:$21,MATCH($E$80,'Cal Prep'!L:L,FALSE),MATCH(A87,'Cal Prep'!$1:$1,FALSE)+3))","v":""},{"$f":"IF(A87=\"\",\"\",SUMIF('Cal Data'!$W$7:$W$202,\"=\"&$E$80,'Cal Data'!$V$7:$V$202))","v":""},null,{"$f":"IF(A87=\"\",\"\",INDEX('Cal Prep'!$1:$21,MATCH(INDEX(CalInfo!$B$19:$B$33,MATCH(\"Internal Standard\",CalInfo!$A$19:$A$33,FALSE)),'Cal Prep'!L:L,FALSE),MATCH(A87,'Cal Prep'!$1:$1,FALSE)+3))","v":""},{"$f":"IF(A87=\"\",\"\",SUMIF('Cal Data'!$W$7:$W$202,\"=\"&INDEX(CalInfo!$B$19:$B$33,MATCH(\"Internal Standard\",CalInfo!$A$19:$A$33,FALSE)),'Cal Data'!$V$7:$V$202))","v":""},null,"","","","",null,"","",null,"","",""]
[{"$f":"IF(CalInfo!$A$7=\"\",\"\",CalInfo!$A$7)","v":""},{"$f":"IF(A88=\"\",\"\",IF(ISERROR(MATCH(A88,$A$3:A87,FALSE)),A88,A88&\" a\"))","v":""},null,null,{"$f":"IF(A88=\"\",\"\",INDEX('Cal Prep'!$1:$21,MATCH($E$80,'Cal Prep'!L:L,FALSE),MATCH(A88,'Cal Prep'!$1:$1,FALSE)+3))","v":""},{"$f":"IF(A88=\"\",\"\",SUMIF('Cal Data'!$AA$7:$AA$202,\"=\"&$E$80,'Cal Data'!$Z$7:$Z$202))","v":""},null,{"$f":"IF(A88=\"\",\"\",INDEX('Cal Prep'!$1:$21,MATCH(INDEX(CalInfo!$B$19:$B$33,MATCH(\"Internal Standard\",CalInfo!$A$19:$A$33,FALSE)),'Cal Prep'!L:L,FALSE),MATCH(A88,'Cal Prep'!$1:$1,FALSE)+3))","v":""},{"$f":"IF(A88=\"\",\"\",SUMIF('Cal Data'!$AA$7:$AA$202,\"=\"&INDEX(CalInfo!$B$19:$B$33,MATCH(\"Internal Standard\",CalInfo!$A$19:$A$33,FALSE)),'Cal Data'!$Z$7:$Z$202))","v":""},null,"","","","",null,"","",null,"","",""]
[{"$f":"IF(CalInfo!$A$7=\"\",\"\",CalInfo!$A$7)","v":""},{"$f":"IF(A89=\"\",\"\",IF(ISERROR(MATCH(A89,$A$3:A88,FALSE)),A89,A89&\" a\"))","v":""},null,null,{"$f":"IF(A89=\"\",\"\",INDEX('Cal Prep'!$1:$21,MATCH($E$80,'Cal Prep'!L:L,FALSE),MATCH(A89,'Cal Prep'!$1:$1,FALSE)+3))","v":""},{"$f":"IF(A89=\"\",\"\",SUMIF('Cal Data'!$AE$7:$AE$202,\"=\"&$E$80,'Cal Data'!$AD$7:$AD$202))","v":""},null,{"$f":"IF(A89=\"\",\"\",INDEX('Cal Prep'!$1:$21,MATCH(INDEX(CalInfo!$B$19:$B$33,MATCH(\"Internal Standard\",CalInfo!$A$19:$A$33,FALSE)),'Cal Prep'!L:L,FALSE),MATCH(A89,'Cal Prep'!$1:$1,FALSE)+3))","v":""},{"$f":"IF(A89=\"\",\"\",SUMIF('Cal Data'!$AE$7:$AE$202,\"=\"&INDEX(CalInfo!$B$19:$B$33,MATCH(\"Internal Standard\",CalInfo!$A$19:$A$33,FALSE)),'Cal Data'!$AD$7:$AD$202))","v":""},null,"","","","",null,"","",null,"","",""]
[{"$f":"IF(CalInfo!$A$8=\"\",\"\",CalInfo!$A$8)","v":""},{"$f":"IF(A90=\"\",\"\",IF(ISERROR(MATCH(A90,$A$3:A89,FALSE)),A90,A90&\" a\"))","v":""},null,null,{"$f":"IF(A90=\"\",\"\",INDEX('Cal Prep'!$1:$21,MATCH($E$80,'Cal Prep'!L:L,FALSE),MATCH(A90,'Cal Prep'!$1:$1,FALSE)+3))","v":""},{"$f":"IF(A90=\"\",\"\",SUMIF('Cal Data'!$AI$7:$AI$202,\"=\"&$E$80,'Cal Data'!$AH$7:$AH$202))","v":""},null,{"$f":"IF(A90=\"\",\"\",INDEX('Cal Prep'!$1:$21,MATCH(INDEX(CalInfo!$B$19:$B$33,MATCH(\"Internal Standard\",CalInfo!$A$19:$A$33,FALSE)),'Cal Prep'!L:L,FALSE),MATCH(A90,'Cal Prep'!$1:$1,FALSE)+3))","v":""},{"$f":"IF(A90=\"\",\"\",SUMIF('Cal Data'!$AI$7:$AI$202,\"=\"&INDEX(CalInfo!$B$19:$B$33,MATCH(\"Internal Standard\",CalInfo!$A$19:$A$33,FALSE)),'Cal Data'!$AH$7:$AH$202))","v":""},null,"","","","",null,"","",null,"","",""]
[{"$f":"IF(CalInfo!$A$8=\"\",\"\",CalInfo!$A$8)","v":""},{"$f":"IF(A91=\"\",\"\",IF(ISERROR(MATCH(A91,$A$3:A90,FALSE)),A91,A91&\" a\"))","v":""},null,null,{"$f":"IF(A91=\"\",\"\",INDEX('Cal Prep'!$1:$21,MATCH($E$80,'Cal Prep'!L:L,FALSE),MATCH(A91,'Cal Prep'!$1:$1,FALSE)+3))","v":""},{"$f":"IF(A91=\"\",\"\",SUMIF('Cal Data'!$AM$7:$AM$202,\"=\"&$E$80,'Cal Data'!$AL$7:$AL$202))","v":""},null,{"$f":"IF(A91=\"\",\"\",INDEX('Cal Prep'!$1:$21,MATCH(INDEX(CalInfo!$B$19:$B$33,MATCH(\"Internal Standard\",CalInfo!$A$19:$A$33,FALSE)),'Cal Prep'!L:L,FALSE),MATCH(A91,'Cal Prep'!$1:$1,FALSE)+3))","v":""},{"$f":"IF(A91=\"\",\"\",SUMIF('Cal Data'!$AM$7:$AM$202,\"=\"&INDEX(CalInfo!$B$19:$B$33,MATCH(\"Internal Standard\",CalInfo!$A$19:$A$33,FALSE)),'Cal Data'!$AL$7:$AL$202))","v":""},null,"","","","",null,"","",null,"","",""]
[]
[null,null,null,{"$f":"IF(MAX($D$1:D92)>MAX(CalInfo!$K$19:$K$33),\"\",MAX($D$1:D92)+1)","v":""},{"$f":"IF(D93=\"\",\"\",IF(ISERROR(INDEX(CalInfo!$B$19:$B$33,MATCH(D93,CalInfo!$K$19:$K$33,FALSE))),INDEX(CalInfo!$B$19:$B$33,MATCH(\"Internal Standard\",CalInfo!$A$19:$A$33,FALSE)),INDEX(CalInfo!$B$19:$B$33,MATCH(D93,CalInfo!$K$19:$K$33,FALSE))))","v":""},null,null,"Internal Standard",null,null,null,null,null,null,null,null,null,null,null,null,null,null,"RRF/RF",{"$f":"IF(AND(S95=1,T95=1,U95=1),ROUND(AVERAGE(I95:I104)/AVERAGE(H95:H104),0),ROUND(AVERAGE(S95:S104)/AVERAGE(T95:T104),4))","v":{"$error":"#DIV/0!"}}]
["STD Level",null,null,null,"Prep g/L","Area Counts",null,"Prep g/L","Area Counts",null,"% Recovery","% Recovery","ABS. Diff","ABS. Diff",null,"g/L Ratio","AC Ratio",null,"X*Y","X2","Y2",null,"R2/RSD",{"$f":"IF(AND(S95=1,T95=1,U95=1),ROUND(STDEV(I95:I104)*100/AVERAGE(I95:I104),1),ROUND(AVERAGE(S95:S104)^2/(AVERAGE(T95:T104)*AVERAGE(U95:U104)),4))","v":{"$error":"#DIV/0!"}}]
[{"$f":"IF(CalInfo!$A$4=\"\",\"\",CalInfo!$A$4)","v":""},{"$f":"IF(A95=\"\",\"\",IF(ISERROR(MATCH(A95,$A$3:A94,FALSE)),A95,A95&\" a\"))","v":""},null,null,{"$f":"IF(A95=\"\",\"\",INDEX('Cal Prep'!$1:$21,MATCH($E$93,'Cal Prep'!L:L,FALSE),MATCH(A95,'Cal Prep'!$1:$1,FALSE)+3))","v":""},{"$f":"IF(A95=\"\",\"\",SUMIF('Cal Data'!$C$7:$C$202,\"=\"&$E$93,'Cal Data'!$B$7:$B$202))","v":""},null,{"$f":"IF(A95=\"\",\"\",INDEX('Cal Prep'!$1:$21,MATCH(INDEX(CalInfo!$B$19:$B$33,MATCH(\"Internal Standard\",CalInfo!$A$19:$A$33,FALSE)),'Cal Prep'!L:L,FALSE),MATCH(A95,'Cal Prep'!$1:$1,FALSE)+3))","v":""},{"$f":"IF(A95=\"\",\"\",SUMIF('Cal Data'!$C$7:$C$202,\"=\"&INDEX(CalInfo!$B$19:$B$33,MATCH(\"Internal Standard\",CalInfo!$A$19:$A$33,FALSE)),'Cal Data'!$B$7:$B$202))","v":""},null,{"$f":"IF(A95=\"\",\"\",IF(AND(S95=1,T95=1,U95=1),(I95*100/$X$93)/H95,(F95/I95)*(H95/$X$93)*100/E95))","v":""},{"$f":"TEXT(K95,\"0.0\")","v":""},{"$f":"IF(A95=\"\",\"\",IF(AND(S95=1,T95=1,U95=1),ABS(H95-(I95/$X$93)),ABS(E95-(F95/I95)*(H95/$X$93))))","v":""},{"$f":"TEXT(M95,\"0.00\")","v":""},null,{"$f":"IF(A95=\"\",\"\",E95/H95)","v":""},{"$f":"IF(A95=\"\",\"\",F95/I95)","v":""},null,{"$f":"IF(A95=\"\",\"\",P95*Q95)","v":""},{"$f":"IF(A95=\"\",\"\",P95^2)","v":""},{"$f":"IF(A95=\"\",\"\",Q95^2)","v":""},null,"Levels",{"$f":"LEFT(A95&\"/\"&A96&\"/\"&A97&\"/\"&A98&\"/\"&A99&\"/\"&A100&\"/\"&A101&\"/\"&A102&\"/\"&A103&\"/\"&A104,LEN(A95&\"/\"&A96&\"/\"&A97&\"/\"&A98&\"/\"&A99&\"/\"&A100&\"/\"&A101&\"/\"&A102&\"/\"&A103&\"/\"&A104)-(10-COUNT(A95:A104)))","v":{"$error":"#VALUE!"}}]
[{"$f":"IF(CalInfo!$A$4=\"\",\"\",CalInfo!$A$4)","v":""},{"$f":"IF(A96=\"\",\"\",IF(ISERROR(MATCH(A96,$A$3:A95,FALSE)),A96,A96&\" a\"))","v":""},null,null,{"$f":"IF(A96=\"\",\"\",INDEX('Cal Prep'!$1:$21,MATCH($E$93,'Cal Prep'!L:L,FALSE),MATCH(A96,'Cal Prep'!$1:$1,FALSE)+3))","v":""},{"$f":"IF(A96=\"\",\"\",SUMIF('Cal Data'!$G$7:$G$202,\"=\"&$E$93,'Cal Data'!$F$7:$F$202))","v":""},null,{"$f":"IF(A96=\"\",\"\",INDEX('Cal Prep'!$1:$21,MATCH(INDEX(CalInfo!$B$19:$B$33,MATCH(\"Internal Standard\",CalInfo!$A$19:$A$33,FALSE)),'Cal Prep'!L:L,FALSE),MATCH(A96,'Cal Prep'!$1:$1,FALSE)+3))","v":""},{"$f":"IF(A96=\"\",\"\",SUMIF('Cal Data'!$G$7:$G$202,\"=\"&INDEX(CalInfo!$B$19:$B$33,MATCH(\"Internal Standard\",CalInfo!$A$19:$A$33,FALSE)),'Cal Data'!$F$7:$F$202))","v":""},null,{"$f":"IF(A96=\"\",\"\",IF(AND(S96=1,T96=1,U96=1),(I96*100/$X$93)/H96,(F96/I96)*(H96/$X$93)*100/E96))","v":""},{"$f":"TEXT(K96,\"0.0\")","v":""},{"$f":"IF(A96=\"\",\"\",IF(AND(S96=1,T96=1,U96=1),ABS(H96-(I96/$X$93)),ABS(E96-(F96/I96)*(H96/$X$93))))","v":""},{"$f":"TEXT(M96,\"0.00\")","v":""},null,{"$f":"IF(A96=\"\",\"\",E96/H96)","v":""},{"$f":"IF(A96=\"\",\"\",F96/I96)","v":""},null,{"$f":"IF(A96=\"\",\"\",P96*Q96)","v":""},{"$f":"IF(A96=\"\",\"\",P96^2)","v":""},{"$f":"IF(A96=\"\",\"\",Q96^2)","v":""},null,"% R",{"$f":"LEFT(L95&\"/\"&L96&\"/\"&L97&\"/\"&L98&\"/\"&L99&\"/\"&L100&\"/\"&L101&\"/\"&L102&\"/\"&L103&\"/\"&L104,LEN(L95&\"/\"&L96&\"/\"&L97&\"/\"&L98&\"/\"&L99&\"/\"&L100&\"/\"&L101&\"/\"&L102&\"/\"&L103&\"/\"&L104)-(10-COUNT(A95:A104)))","v":{"$error":"#VALUE!"}}]
[{"$f":"IF(CalInfo!$A$5=\"\",\"\",CalInfo!$A$5)","v":""},{"$f":"IF(A97=\"\",\"\",IF(ISERROR(MATCH(A97,$A$3:A96,FALSE)),A97,A97&\" a\"))","v":""},null,null,{"$f":"IF(A97=\"\",\"\",INDEX('Cal Prep'!$1:$21,MATCH($E$93,'Cal Prep'!L:L,FALSE),MATCH(A97,'Cal Prep'!$1:$1,FALSE)+3))","v":""},{"$f":"IF(A97=\"\",\"\",SUMIF('Cal Data'!$K$7:$K$202,\"=\"&$E$93,'Cal Data'!$J$7:$J$202))","v":""},null,{"$f":"IF(A97=\"\",\"\",INDEX('Cal Prep'!$1:$21,MATCH(INDEX(CalInfo!$B$19:$B$33,MATCH(\"Internal Standard\",CalInfo!$A$19:$A$33,FALSE)),'Cal Prep'!L:L,FALSE),MATCH(A97,'Cal Prep'!$1:$1,FALSE)+3))","v":""},{"$f":"IF(A97=\"\",\"\",SUMIF('Cal Data'!$K$7:$K$202,\"=\"&INDEX(CalInfo!$B$19:$B$33,MATCH(\"Internal Standard\",CalInfo!$A$19:$A$33,FALSE)),'Cal Data'!$J$7:$J$202))","v":""},null,"","","","",null,"","",null,"","","",null,"ABS D",{"$f":"LEFT(N95&\"/\"&N96&\"/\"&N97&\"/\"&N98&\"/\"&N99&\"/\"&N100&\"/\"&N101&\"/\"&N102&\"/\"&N103&\"/\"&N104,LEN(N95&\"/\"&N96&\"/\"&N97&\"/\"&N98&\"/\"&N99&\"/\"&N100&\"/\"&N101&\"/\"&N102&\"/\"&N103&\"/\"&N104)-(10-COUNT(A95:A104)))","v":{"$error":"#VALUE!"}}]
[{"$f":"IF(CalInfo!$A$5=\"\",\"\",CalInfo!$A$5)","v":""},{"$f":"IF(A98=\"\",\"\",IF(ISERROR(MATCH(A98,$A$3:A97,FALSE)),A98,A98&\" a\"))","v":""},null,null,{"$f":"IF(A98=\"\",\"\",INDEX('Cal Prep'!$1:$21,MATCH($E$93,'Cal Prep'!L:L,FALSE),MATCH(A98,'Cal Prep'!$1:$1,FALSE)+3))","v":""},{"$f":"IF(A98=\"\",\"\",SUMIF('Cal Data'!$O$7:$O$202,\"=\"&$E$93,'Cal Data'!$N$7:$N$202))","v":""},null,{"$f":"IF(A98=\"\",\"\",INDEX('Cal Prep'!$1:$21,MATCH(INDEX(CalInfo!$B$19:$B$33,MATCH(\"Internal Standard\",CalInfo!$A$19:$A$33,FALSE)),'Cal Prep'!L:L,FALSE),MATCH(A98,'Cal Prep'!$1:$1,FALSE)+3))","v":""},{"$f":"IF(A98=\"\",\"\",SUMIF('Cal Data'!$O$7:$O$202,\"=\"&INDEX(CalInfo!$B$19:$B$33,MATCH(\"Internal Standard\",CalInfo!$A$19:$A$33,FALSE)),'Cal Data'!$N$7:$N$202))","v":""},null,"","","","",null,"","",null,"","",""]
[{"$f":"IF(CalInfo!$A$6=\"\",\"\",CalInfo!$A$6)","v":""},{"$f":"IF(A99=\"\",\"\",IF(ISERROR(MATCH(A99,$A$3:A98,FALSE)),A99,A99&\" a\"))","v":""},null,null,{"$f":"IF(A99=\"\",\"\",INDEX('Cal Prep'!$1:$21,MATCH($E$93,'Cal Prep'!L:L,FALSE),MATCH(A99,'Cal Prep'!$1:$1,FALSE)+3))","v":""},{"$f":"IF(A99=\"\",\"\",SUMIF('Cal Data'!$S$7:$S$202,\"=\"&$E$93,'Cal Data'!$R$7:$R$202))","v":""},null,{"$f":"IF(A99=\"\",\"\",INDEX('Cal Prep'!$1:$21,MATCH(INDEX(CalInfo!$B$19:$B$33,MATCH(\"Internal Standard\",CalInfo!$A$19:$A$33,FALSE)),'Cal Prep'!L:L,FALSE),MATCH(A99,'Cal Prep'!$1:$1,FALSE)+3))","v":""},{"$f":"IF(A99=\"\",\"\",SUMIF('Cal Data'!$S$7:$S$202,\"=\"&INDEX(CalInfo!$B$19:$B$33,MATCH(\"Internal Standard\",CalInfo!$A$19:$A$33,FALSE)),'Cal Data'!$R$7:$R$202))","v":""},null,"","","","",null,"","",null,"","",""]
[{"$f":"IF(CalInfo!$A$6=\"\",\"\",CalInfo!$A$6)","v":""},{"$f":"IF(A100=\"\",\"\",IF(ISERROR(MATCH(A100,$A$3:A99,FALSE)),A100,A100&\" a\"))","v":""},null,null,{"$f":"IF(A100=\"\",\"\",INDEX('Cal Prep'!$1:$21,MATCH($E$93,'Cal Prep'!L:L,FALSE),MATCH(A100,'Cal Prep'!$1:$1,FALSE)+3))","v":""},{"$f":"IF(A100=\"\",\"\",SUMIF('Cal Data'!$W$7:$W$202,\"=\"&$E$93,'Cal Data'!$V$7:$V$202))","v":""},null,{"$f":"IF(A100=\"\",\"\",INDEX('Cal Prep'!$1:$21,MATCH(INDEX(CalInfo!$B$19:$B$33,MATCH(\"Internal Standard\",CalInfo!$A$19:$A$33,FALSE)),'Cal Prep'!L:L,FALSE),MATCH(A100,'Cal Prep'!$1:$1,FALSE)+3))","v":""},{"$f":"IF(A100=\"\",\"\",SUMIF('Cal Data'!$W$7:$W$202,\"=\"&INDEX(CalInfo!$B$19:$B$33,MATCH(\"Internal Standard\",CalInfo!$A$19:$A$33,FALSE)),'Cal Data'!$V$7:$V$202))","v":""},null,"","","","",null,"","",null,"","",""]
[{"$f":"IF(CalInfo!$A$7=\"\",\"\",CalInfo!$A$7)","v":""},{"$f":"IF(A101=\"\",\"\",IF(ISERROR(MATCH(A101,$A$3:A100,FALSE)),A101,A101&\" a\"))","v":""},null,null,{"$f":"IF(A101=\"\",\"\",INDEX('Cal Prep'!$1:$21,MATCH($E$93,'Cal Prep'!L:L,FALSE),MATCH(A101,'Cal Prep'!$1:$1,FALSE)+3))","v":""},{"$f":"IF(A101=\"\",\"\",SUMIF('Cal Data'!$AA$7:$AA$202,\"=\"&$E$93,'Cal Data'!$Z$7:$Z$202))","v":""},null,{"$f":"IF(A101=\"\",\"\",INDEX('Cal Prep'!$1:$21,MATCH(INDEX(CalInfo!$B$19:$B$33,MATCH(\"Internal Standard\",CalInfo!$A$19:$A$33,FALSE)),'Cal Prep'!L:L,FALSE),MATCH(A101,'Cal Prep'!$1:$1,FALSE)+3))","v":""},{"$f":"IF(A101=\"\",\"\",SUMIF('Cal Data'!$AA$7:$AA$202,\"=\"&INDEX(CalInfo!$B$19:$B$33,MATCH(\"Internal Standard\",CalInfo!$A$19:$A$33,FALSE)),'Cal Data'!$Z$7:$Z$202))","v":""},null,"","","","",null,"","",null,"","",""]
[{"$f":"IF(CalInfo!$A$7=\"\",\"\",CalInfo!$A$7)","v":""},{"$f":"IF(A102=\"\",\"\",IF(ISERROR(MATCH(A102,$A$3:A101,FALSE)),A102,A102&\" a\"))","v":""},null,null,{"$f":"IF(A102=\"\",\"\",INDEX('Cal Prep'!$1:$21,MATCH($E$93,'Cal Prep'!L:L,FALSE),MATCH(A102,'Cal Prep'!$1:$1,FALSE)+3))","v":""},{"$f":"IF(A102=\"\",\"\",SUMIF('Cal Data'!$AE$7:$AE$202,\"=\"&$E$93,'Cal Data'!$AD$7:$AD$202))","v":""},null,{"$f":"IF(A102=\"\",\"\",INDEX('Cal Prep'!$1:$21,MATCH(INDEX(CalInfo!$B$19:$B$33,MATCH(\"Internal Standard\",CalInfo!$A$19:$A$33,FALSE)),'Cal Prep'!L:L,FALSE),MATCH(A102,'Cal Prep'!$1:$1,FALSE)+3))","v":""},{"$f":"IF(A102=\"\",\"\",SUMIF('Cal Data'!$AE$7:$AE$202,\"=\"&INDEX(CalInfo!$B$19:$B$33,MATCH(\"Internal Standard\",CalInfo!$A$19:$A$33,FALSE)),'Cal Data'!$AD$7:$AD$202))","v":""},null,"","","","",null,"","",null,"","",""]
[{"$f":"IF(CalInfo!$A$8=\"\",\"\",CalInfo!$A$8)","v":""},{"$f":"IF(A103=\"\",\"\",IF(ISERROR(MATCH(A103,$A$3:A102,FALSE)),A103,A103&\" a\"))","v":""},null,null,{"$f":"IF(A103=\"\",\"\",INDEX('Cal Prep'!$1:$21,MATCH($E$93,'Cal Prep'!L:L,FALSE),MATCH(A103,'Cal Prep'!$1:$1,FALSE)+3))","v":""},{"$f":"IF(A103=\"\",\"\",SUMIF('Cal Data'!$AI$7:$AI$202,\"=\"&$E$93,'Cal Data'!$AH$7:$AH$202))","v":""},null,{"$f":"IF(A103=\"\",\"\",INDEX('Cal Prep'!$1:$21,MATCH(INDEX(CalInfo!$B$19:$B$33,MATCH(\"Internal Standard\",CalInfo!$A$19:$A$33,FALSE)),'Cal Prep'!L:L,FALSE),MATCH(A103,'Cal Prep'!$1:$1,FALSE)+3))","v":""},{"$f":"IF(A103=\"\",\"\",SUMIF('Cal Data'!$AI$7:$AI$202,\"=\"&INDEX(CalInfo!$B$19:$B$33,MATCH(\"Internal Standard\",CalInfo!$A$19:$A$33,FALSE)),'Cal Data'!$AH$7:$AH$202))","v":""},null,"","","","",null,"","",null,"","",""]
[{"$f":"IF(CalInfo!$A$8=\"\",\"\",CalInfo!$A$8)","v":""},{"$f":"IF(A104=\"\",\"\",IF(ISERROR(MATCH(A104,$A$3:A103,FALSE)),A104,A104&\" a\"))","v":""},null,null,{"$f":"IF(A104=\"\",\"\",INDEX('Cal Prep'!$1:$21,MATCH($E$93,'Cal Prep'!L:L,FALSE),MATCH(A104,'Cal Prep'!$1:$1,FALSE)+3))","v":""},{"$f":"IF(A104=\"\",\"\",SUMIF('Cal Data'!$AM$7:$AM$202,\"=\"&$E$93,'Cal Data'!$AL$7:$AL$202))","v":""},null,{"$f":"IF(A104=\"\",\"\",INDEX('Cal Prep'!$1:$21,MATCH(INDEX(CalInfo!$B$19:$B$33,MATCH(\"Internal Standard\",CalInfo!$A$19:$A$33,FALSE)),'Cal Prep'!L:L,FALSE),MATCH(A104,'Cal Prep'!$1:$1,FALSE)+3))","v":""},{"$f":"IF(A104=\"\",\"\",SUMIF('Cal Data'!$AM$7:$AM$202,\"=\"&INDEX(CalInfo!$B$19:$B$33,MATCH(\"Internal Standard\",CalInfo!$A$19:$A$33,FALSE)),'Cal Data'!$AL$7:$AL$202))","v":""},null,"","","","",null,"","",null,"","",""]
[]
[null,null,null,{"$f":"IF(MAX($D$1:D105)>MAX(CalInfo!$K$19:$K$33),\"\",MAX($D$1:D105)+1)","v":""},{"$f":"IF(D106=\"\",\"\",IF(ISERROR(INDEX(CalInfo!$B$19:$B$33,MATCH(D106,CalInfo!$K$19:$K$33,FALSE))),INDEX(CalInfo!$B$19:$B$33,MATCH(\"Internal Standard\",CalInfo!$A$19:$A$33,FALSE)),INDEX(CalInfo!$B$19:$B$33,MATCH(D106,CalInfo!$K$19:$K$33,FALSE))))","v":""},null,null,"Internal Standard",null,null,null,null,null,null,null,null,null,null,null,null,null,null,"RRF/RF",{"$f":"IF(AND(S108=1,T108=1,U108=1),ROUND(AVERAGE(I108:I117)/AVERAGE(H108:H117),0),ROUND(AVERAGE(S108:S117)/AVERAGE(T108:T117),4))","v":{"$error":"#DIV/0!"}}]
["STD Level",null,null,null,"Prep g/L","Area Counts",null,"Prep g/L","Area Counts",null,"% Recovery","% Recovery","ABS. Diff","ABS. Diff",null,"g/L Ratio","AC Ratio",null,"X*Y","X2","Y2",null,"R2/RSD",{"$f":"IF(AND(S108=1,T108=1,U108=1),ROUND(STDEV(I108:I117)*100/AVERAGE(I108:I117),1),ROUND(AVERAGE(S108:S117)^2/(AVERAGE(T108:T117)*AVERAGE(U108:U117)),4))","v":{"$error":"#DIV/0!"}}]
[{"$f":"IF(CalInfo!$A$4=\"\",\"\",CalInfo!$A$4)","v":""},{"$f":"IF(A108=\"\",\"\",IF(ISERROR(MATCH(A108,$A$3:A107,FALSE)),A108,A108&\" a\"))","v":""},null,null,{"$f":"IF(A108=\"\",\"\",INDEX('Cal Prep'!$1:$21,MATCH($E$106,'Cal Prep'!L:L,FALSE),MATCH(A108,'Cal Prep'!$1:$1,FALSE)+3))","v":""},{"$f":"IF(A108=\"\",\"\",SUMIF('Cal Data'!$C$7:$C$202,\"=\"&$E$106,'Cal Data'!$B$7:$B$202))","v":""},null,{"$f":"IF(A108=\"\",\"\",INDEX('Cal Prep'!$1:$21,MATCH(INDEX(CalInfo!$B$19:$B$33,MATCH(\"Internal Standard\",CalInfo!$A$19:$A$33,FALSE)),'Cal Prep'!L:L,FALSE),MATCH(A108,'Cal Prep'!$1:$1,FALSE)+3))","v":""},{"$f":"IF(A108=\"\",\"\",SUMIF('Cal Data'!$C$7:$C$202,\"=\"&INDEX(CalInfo!$B$19:$B$33,MATCH(\"Internal Standard\",CalInfo!$A$19:$A$33,FALSE)),'Cal Data'!$B$7:$B$202))","v":""},null,{"$f":"IF(A108=\"\",\"\",IF(AND(S108=1,T108=1,U108=1),(I108*100/$X$106)/H108,(F108/I108)*(H108/$X$106)*100/E108))","v":""},{"$f":"TEXT(K108,\"0.0\")","v":""},{"$f":"IF(A108=\"\",\"\",IF(AND(S108=1,T108=1,U108=1),ABS(H108-(I108/$X$106)),ABS(E108-(F108/I108)*(H108/$X$106))))","v":""},{"$f":"TEXT(M108,\"0.00\")","v":""},null,{"$f":"IF(A108=\"\",\"\",E108/H108)","v":""},{"$f":"IF(A108=\"\",\"\",F108/I108)","v":""},null,{"$f":"IF(A108=\"\",\"\",P108*Q108)","v":""},{"$f":"IF(A108=\"\",\"\",P108^2)","v":""},{"$f":"IF(A108=\"\",\"\",Q108^2)","v":""},null,"Levels",{"$f":"LEFT(A108&\"/\"&A109&\"/\"&A110&\"/\"&A111&\"/\"&A112&\"/\"&A113&\"/\"&A114&\"/\"&A115&\"/\"&A116&\"/\"&A117,LEN(A108&\"/\"&A109&\"/\"&A110&\"/\"&A111&\"/\"&A112&\"/\"&A113&\"/\"&A114&\"/\"&A115&\"/\"&A116&\"/\"&A117)-(10-COUNT(A108:A117)))","v":{"$error":"#VALUE!"}}]
[{"$f":"IF(CalInfo!$A$4=\"\",\"\",CalInfo!$A$4)","v":""},{"$f":"IF(A109=\"\",\"\",IF(ISERROR(MATCH(A109,$A$3:A108,FALSE)),A109,A109&\" a\"))","v":""},null,null,{"$f":"IF(A109=\"\",\"\",INDEX('Cal Prep'!$1:$21,MATCH($E$106,'Cal Prep'!L:L,FALSE),MATCH(A109,'Cal Prep'!$1:$1,FALSE)+3))","v":""},{"$f":"IF(A109=\"\",\"\",SUMIF('Cal Data'!$G$7:$G$202,\"=\"&$E$106,'Cal Data'!$F$7:$F$202))","v":""},null,{"$f":"IF(A109=\"\",\"\",INDEX('Cal Prep'!$1:$21,MATCH(INDEX(CalInfo!$B$19:$B$33,MATCH(\"Internal Standard\",CalInfo!$A$19:$A$33,FALSE)),'Cal Prep'!L:L,FALSE),MATCH(A109,'Cal Prep'!$1:$1,FALSE)+3))","v":""},{"$f":"IF(A109=\"\",\"\",SUMIF('Cal Data'!$G$7:$G$202,\"=\"&INDEX(CalInfo!$B$19:$B$33,MATCH(\"Internal Standard\",CalInfo!$A$19:$A$33,FALSE)),'Cal Data'!$F$7:$F$202))","v":""},null,{"$f":"IF(A109=\"\",\"\",IF(AND(S109=1,T109=1,U109=1),(I109*100/$X$106)/H109,(F109/I109)*(H109/$X$106)*100/E109))","v":""},{"$f":"TEXT(K109,\"0.0\")","v":""},{"$f":"IF(A109=\"\",\"\",IF(AND(S109=1,T109=1,U109=1),ABS(H109-(I109/$X$106)),ABS(E109-(F109/I109)*(H109/$X$106))))","v":""},{"$f":"TEXT(M109,\"0.00\")","v":""},null,{"$f":"IF(A109=\"\",\"\",E109/H109)","v":""},{"$f":"IF(A109=\"\",\"\",F109/I109)","v":""},null,{"$f":"IF(A109=\"\",\"\",P109*Q109)","v":""},{"$f":"IF(A109=\"\",\"\",P109^2)","v":""},{"$f":"IF(A109=\"\",\"\",Q109^2)","v":""},null,"% R",{"$f":"LEFT(L108&\"/\"&L109&\"/\"&L110&\"/\"&L111&\"/\"&L112&\"/\"&L113&\"/\"&L114&\"/\"&L115&\"/\"&L116&\"/\"&L117,LEN(L108&\"/\"&L109&\"/\"&L110&\"/\"&L111&\"/\"&L112&\"/\"&L113&\"/\"&L114&\"/\"&L115&\"/\"&L116&\"/\"&L117)-(10-COUNT(A108:A117)))","v":{"$error":"#VALUE!"}}]
[{"$f":"IF(CalInfo!$A$5=\"\",\"\",CalInfo!$A$5)","v":""},{"$f":"IF(A110=\"\",\"\",IF(ISERROR(MATCH(A110,$A$3:A109,FALSE)),A110,A110&\" a\"))","v":""},null,null,{"$f":"IF(A110=\"\",\"\",INDEX('Cal Prep'!$1:$21,MATCH($E$106,'Cal Prep'!L:L,FALSE),MATCH(A110,'Cal Prep'!$1:$1,FALSE)+3))","v":""},{"$f":"IF(A110=\"\",\"\",SUMIF('Cal Data'!$K$7:$K$202,\"=\"&$E$106,'Cal Data'!$J$7:$J$202))","v":""},null,{"$f":"IF(A110=\"\",\"\",INDEX('Cal Prep'!$1:$21,MATCH(INDEX(CalInfo!$B$19:$B$33,MATCH(\"Internal Standard\",CalInfo!$A$19:$A$33,FALSE)),'Cal Prep'!L:L,FALSE),MATCH(A110,'Cal Prep'!$1:$1,FALSE)+3))","v":""},{"$f":"IF(A110=\"\",\"\",SUMIF('Cal Data'!$K$7:$K$202,\"=\"&INDEX(CalInfo!$B$19:$B$33,MATCH(\"Internal Standard\",CalInfo!$A$19:$A$33,FALSE)),'Cal Data'!$J$7:$J$202))","v":""},null,"","","","",null,{"$f":"IF(A110=\"\",\"\",E110/H110)","v":""},"",null,"","","",null,"ABS D",{"$f":"LEFT(N108&\"/\"&N109&\"/\"&N110&\"/\"&N111&\"/\"&N112&\"/\"&N113&\"/\"&N114&\"/\"&N115&\"/\"&N116&\"/\"&N117,LEN(N108&\"/\"&N109&\"/\"&N110&\"/\"&N111&\"/\"&N112&\"/\"&N113&\"/\"&N114&\"/\"&N115&\"/\"&N116&\"/\"&N117)-(10-COUNT(A108:A117)))","v":{"$error":"#VALUE!"}}]
[{"$f":"IF(CalInfo!$A$5=\"\",\"\",CalInfo!$A$5)","v":""},{"$f":"IF(A111=\"\",\"\",IF(ISERROR(MATCH(A111,$A$3:A110,FALSE)),A111,A111&\" a\"))","v":""},null,null,{"$f":"IF(A111=\"\",\"\",INDEX('Cal Prep'!$1:$21,MATCH($E$106,'Cal Prep'!L:L,FALSE),MATCH(A111,'Cal Prep'!$1:$1,FALSE)+3))","v":""},{"$f":"IF(A111=\"\",\"\",SUMIF('Cal Data'!$O$7:$O$202,\"=\"&$E$106,'Cal Data'!$N$7:$N$202))","v":""},null,{"$f":"IF(A111=\"\",\"\",INDEX('Cal Prep'!$1:$21,MATCH(INDEX(CalInfo!$B$19:$B$33,MATCH(\"Internal Standard\",CalInfo!$A$19:$A$33,FALSE)),'Cal Prep'!L:L,FALSE),MATCH(A111,'Cal Prep'!$1:$1,FALSE)+3))","v":""},{"$f":"IF(A111=\"\",\"\",SUMIF('Cal Data'!$O$7:$O$202,\"=\"&INDEX(CalInfo!$B$19:$B$33,MATCH(\"Internal Standard\",CalInfo!$A$19:$A$33,FALSE)),'Cal Data'!$N$7:$N$202))","v":""},null,"","","","",null,"","",null,"","",""]
[{"$f":"IF(CalInfo!$A$6=\"\",\"\",CalInfo!$A$6)","v":""},{"$f":"IF(A112=\"\",\"\",IF(ISERROR(MATCH(A112,$A$3:A111,FALSE)),A112,A112&\" a\"))","v":""},null,null,{"$f":"IF(A112=\"\",\"\",INDEX('Cal Prep'!$1:$21,MATCH($E$106,'Cal Prep'!L:L,FALSE),MATCH(A112,'Cal Prep'!$1:$1,FALSE)+3))","v":""},{"$f":"IF(A112=\"\",\"\",SUMIF('Cal Data'!$S$7:$S$202,\"=\"&$E$106,'Cal Data'!$R$7:$R$202))","v":""},null,{"$f":"IF(A112=\"\",\"\",INDEX('Cal Prep'!$1:$21,MATCH(INDEX(CalInfo!$B$19:$B$33,MATCH(\"Internal Standard\",CalInfo!$A$19:$A$33,FALSE)),'Cal Prep'!L:L,FALSE),MATCH(A112,'Cal Prep'!$1:$1,FALSE)+3))","v":""},{"$f":"IF(A112=\"\",\"\",SUMIF('Cal Data'!$S$7:$S$202,\"=\"&INDEX(CalInfo!$B$19:$B$33,MATCH(\"Internal Standard\",CalInfo!$A$19:$A$33,FALSE)),'Cal Data'!$R$7:$R$202))","v":""},null,"","","","",null,"","",null,"","",""]
[{"$f":"IF(CalInfo!$A$6=\"\",\"\",CalInfo!$A$6)","v":""},{"$f":"IF(A113=\"\",\"\",IF(ISERROR(MATCH(A113,$A$3:A112,FALSE)),A113,A113&\" a\"))","v":""},null,null,{"$f":"IF(A113=\"\",\"\",INDEX('Cal Prep'!$1:$21,MATCH($E$106,'Cal Prep'!L:L,FALSE),MATCH(A113,'Cal Prep'!$1:$1,FALSE)+3))","v":""},{"$f":"IF(A113=\"\",\"\",SUMIF('Cal Data'!$W$7:$W$202,\"=\"&$E$106,'Cal Data'!$V$7:$V$202))","v":""},null,{"$f":"IF(A113=\"\",\"\",INDEX('Cal Prep'!$1:$21,MATCH(INDEX(CalInfo!$B$19:$B$33,MATCH(\"Internal Standard\",CalInfo!$A$19:$A$33,FALSE)),'Cal Prep'!L:L,FALSE),MATCH(A113,'Cal Prep'!$1:$1,FALSE)+3))","v":""},{"$f":"IF(A113=\"\",\"\",SUMIF('Cal Data'!$W$7:$W$202,\"=\"&INDEX(CalInfo!$B$19:$B$33,MATCH(\"Internal Standard\",CalInfo!$A$19:$A$33,FALSE)),'Cal Data'!$V$7:$V$202))","v":""},null,"","","","",null,"","",null,"","",""]
[{"$f":"IF(CalInfo!$A$7=\"\",\"\",CalInfo!$A$7)","v":""},{"$f":"IF(A114=\"\",\"\",IF(ISERROR(MATCH(A114,$A$3:A113,FALSE)),A114,A114&\" a\"))","v":""},null,null,{"$f":"IF(A114=\"\",\"\",INDEX('Cal Prep'!$1:$21,MATCH($E$106,'Cal Prep'!L:L,FALSE),MATCH(A114,'Cal Prep'!$1:$1,FALSE)+3))","v":""},{"$f":"IF(A114=\"\",\"\",SUMIF('Cal Data'!$AA$7:$AA$202,\"=\"&$E$106,'Cal Data'!$Z$7:$Z$202))","v":""},null,{"$f":"IF(A114=\"\",\"\",INDEX('Cal Prep'!$1:$21,MATCH(INDEX(CalInfo!$B$19:$B$33,MATCH(\"Internal Standard\",CalInfo!$A$19:$A$33,FALSE)),'Cal Prep'!L:L,FALSE),MATCH(A114,'Cal Prep'!$1:$1,FALSE)+3))","v":""},{"$f":"IF(A114=\"\",\"\",SUMIF('Cal Data'!$AA$7:$AA$202,\"=\"&INDEX(CalInfo!$B$19:$B$33,MATCH(\"Internal Standard\",CalInfo!$A$19:$A$33,FALSE)),'Cal Data'!$Z$7:$Z$202))","v":""},null,"","","","",null,"","",null,"","",""]
[{"$f":"IF(CalInfo!$A$7=\"\",\"\",CalInfo!$A$7)","v":""},{"$f":"IF(A115=\"\",\"\",IF(ISERROR(MATCH(A115,$A$3:A114,FALSE)),A115,A115&\" a\"))","v":""},null,null,{"$f":"IF(A115=\"\",\"\",INDEX('Cal Prep'!$1:$21,MATCH($E$106,'Cal Prep'!L:L,FALSE),MATCH(A115,'Cal Prep'!$1:$1,FALSE)+3))","v":""},{"$f":"IF(A115=\"\",\"\",SUMIF('Cal Data'!$AE$7:$AE$202,\"=\"&$E$106,'Cal Data'!$AD$7:$AD$202))","v":""},null,{"$f":"IF(A115=\"\",\"\",INDEX('Cal Prep'!$1:$21,MATCH(INDEX(CalInfo!$B$19:$B$33,MATCH(\"Internal Standard\",CalInfo!$A$19:$A$33,FALSE)),'Cal Prep'!L:L,FALSE),MATCH(A115,'Cal Prep'!$1:$1,FALSE)+3))","v":""},{"$f":"IF(A115=\"\",\"\",SUMIF('Cal Data'!$AE$7:$AE$202,\"=\"&INDEX(CalInfo!$B$19:$B$33,MATCH(\"Internal Standard\",CalInfo!$A$19:$A$33,FALSE)),'Cal Data'!$AD$7:$AD$202))","v":""},null,"","","","",null,"","",null,"","",""]
[{"$f":"IF(CalInfo!$A$8=\"\",\"\",CalInfo!$A$8)","v":""},{"$f":"IF(A116=\"\",\"\",IF(ISERROR(MATCH(A116,$A$3:A115,FALSE)),A116,A116&\" a\"))","v":""},null,null,{"$f":"IF(A116=\"\",\"\",INDEX('Cal Prep'!$1:$21,MATCH($E$106,'Cal Prep'!L:L,FALSE),MATCH(A116,'Cal Prep'!$1:$1,FALSE)+3))","v":""},{"$f":"IF(A116=\"\",\"\",SUMIF('Cal Data'!$AI$7:$AI$202,\"=\"&$E$106,'Cal Data'!$AH$7:$AH$202))","v":""},null,{"$f":"IF(A116=\"\",\"\",INDEX('Cal Prep'!$1:$21,MATCH(INDEX(CalInfo!$B$19:$B$33,MATCH(\"Internal Standard\",CalInfo!$A$19:$A$33,FALSE)),'Cal Prep'!L:L,FALSE),MATCH(A116,'Cal Prep'!$1:$1,FALSE)+3))","v":""},{"$f":"IF(A116=\"\",\"\",SUMIF('Cal Data'!$AI$7:$AI$202,\"=\"&INDEX(CalInfo!$B$19:$B$33,MATCH(\"Internal Standard\",CalInfo!$A$19:$A$33,FALSE)),'Cal Data'!$AH$7:$AH$202))","v":""},null,"","","","",null,"","",null,"","",""]
[{"$f":"IF(CalInfo!$A$8=\"\",\"\",CalInfo!$A$8)","v":""},{"$f":"IF(A117=\"\",\"\",IF(ISERROR(MATCH(A117,$A$3:A116,FALSE)),A117,A117&\" a\"))","v":""},null,null,{"$f":"IF(A117=\"\",\"\",INDEX('Cal Prep'!$1:$21,MATCH($E$106,'Cal Prep'!L:L,FALSE),MATCH(A117,'Cal Prep'!$1:$1,FALSE)+3))","v":""},{"$f":"IF(A117=\"\",\"\",SUMIF('Cal Data'!$AM$7:$AM$202,\"=\"&$E$106,'Cal Data'!$AL$7:$AL$202))","v":""},null,{"$f":"IF(A117=\"\",\"\",INDEX('Cal Prep'!$1:$21,MATCH(INDEX(CalInfo!$B$19:$B$33,MATCH(\"Internal Standard\",CalInfo!$A$19:$A$33,FALSE)),'Cal Prep'!L:L,FALSE),MATCH(A117,'Cal Prep'!$1:$1,FALSE)+3))","v":""},{"$f":"IF(A117=\"\",\"\",SUMIF('Cal Data'!$AM$7:$AM$202,\"=\"&INDEX(CalInfo!$B$19:$B$33,MATCH(\"Internal Standard\",CalInfo!$A$19:$A$33,FALSE)),'Cal Data'!$AL$7:$AL$202))","v":""},null,"","","","",null,"","",null,"","",""]
[]
[null,null,null,{"$f":"IF(MAX($D$1:D118)>MAX(CalInfo!$K$19:$K$33),\"\",MAX($D$1:D118)+1)","v":""},{"$f":"IF(D119=\"\",\"\",IF(ISERROR(INDEX(CalInfo!$B$19:$B$33,MATCH(D119,CalInfo!$K$19:$K$33,FALSE))),INDEX(CalInfo!$B$19:$B$33,MATCH(\"Internal Standard\",CalInfo!$A$19:$A$33,FALSE)),INDEX(CalInfo!$B$19:$B$33,MATCH(D119,CalInfo!$K$19:$K$33,FALSE))))","v":""},null,null,"Internal Standard",null,null,null,null,null,null,null,null,null,null,null,null,null,null,"RRF/RF",{"$f":"IF(AND(S121=1,T121=1,U121=1),ROUND(AVERAGE(I121:I130)/AVERAGE(H121:H130),0),ROUND(AVERAGE(S121:S130)/AVERAGE(T121:T130),4))","v":{"$error":"#DIV/0!"}}]
["STD Level",null,null,null,"Prep g/L","Area Counts",null,"Prep g/L","Area Counts",null,"% Recovery","% Recovery","ABS. Diff","ABS. Diff",null,"g/L Ratio","AC Ratio",null,"X*Y","X2","Y2",null,"R2/RSD",{"$f":"IF(AND(S121=1,T121=1,U121=1),ROUND(STDEV(I121:I130)*100/AVERAGE(I121:I130),1),ROUND(AVERAGE(S121:S130)^2/(AVERAGE(T121:T130)*AVERAGE(U121:U130)),4))","v":{"$error":"#DIV/0!"}}]
[{"$f":"IF(CalInfo!$A$4=\"\",\"\",CalInfo!$A$4)","v":""},{"$f":"IF(A121=\"\",\"\",IF(ISERROR(MATCH(A121,$A$3:A120,FALSE)),A121,A121&\" a\"))","v":""},null,null,{"$f":"IF(A121=\"\",\"\",INDEX('Cal Prep'!$1:$21,MATCH($E$119,'Cal Prep'!L:L,FALSE),MATCH(A121,'Cal Prep'!$1:$1,FALSE)+3))","v":""},{"$f":"IF(A121=\"\",\"\",SUMIF('Cal Data'!$C$7:$C$202,\"=\"&$E$119,'Cal Data'!$B$7:$B$202))","v":""},null,{"$f":"IF(A121=\"\",\"\",INDEX('Cal Prep'!$1:$21,MATCH(INDEX(CalInfo!$B$19:$B$33,MATCH(\"Internal Standard\",CalInfo!$A$19:$A$33,FALSE)),'Cal Prep'!L:L,FALSE),MATCH(A121,'Cal Prep'!$1:$1,FALSE)+3))","v":""},{"$f":"IF(A121=\"\",\"\",SUMIF('Cal Data'!$C$7:$C$202,\"=\"&INDEX(CalInfo!$B$19:$B$33,MATCH(\"Internal Standard\",CalInfo!$A$19:$A$33,FALSE)),'Cal Data'!$B$7:$B$202))","v":""},null,{"$f":"IF(A121=\"\",\"\",IF(AND(S121=1,T121=1,U121=1),(I121*100/$X$119)/H121,(F121/I121)*(H121/$X$119)*100/E121))","v":""},{"$f":"TEXT(K121,\"0.0\")","v":""},{"$f":"IF(A121=\"\",\"\",IF(AND(S121=1,T121=1,U121=1),ABS(H121-(I121/$X$119)),ABS(E121-(F121/I121)*(H121/$X$119))))","v":""},{"$f":"TEXT(M121,\"0.00\")","v":""},null,{"$f":"IF(A121=\"\",\"\",E121/H121)","v":""},{"$f":"IF(A121=\"\",\"\",F121/I121)","v":""},null,{"$f":"IF(A121=\"\",\"\",P121*Q121)","v":""},{"$f":"IF(A121=\"\",\"\",P121^2)","v":""},{"$f":"IF(A121=\"\",\"\",Q121^2)","v":""},null,"Levels",{"$f":"LEFT(A121&\"/\"&A122&\"/\"&A123&\"/\"&A124&\"/\"&A125&\"/\"&A126&\"/\"&A127&\"/\"&A128&\"/\"&A129&\"/\"&A130,LEN(A121&\"/\"&A122&\"/\"&A123&\"/\"&A124&\"/\"&A125&\"/\"&A126&\"/\"&A127&\"/\"&A128&\"/\"&A129&\"/\"&A130)-(10-COUNT(A121:A130)))","v":{"$error":"#VALUE!"}}]
[{"$f":"IF(CalInfo!$A$4=\"\",\"\",CalInfo!$A$4)","v":""},{"$f":"IF(A122=\"\",\"\",IF(ISERROR(MATCH(A122,$A$3:A121,FALSE)),A122,A122&\" a\"))","v":""},null,null,{"$f":"IF(A122=\"\",\"\",INDEX('Cal Prep'!$1:$21,MATCH($E$119,'Cal Prep'!L:L,FALSE),MATCH(A122,'Cal Prep'!$1:$1,FALSE)+3))","v":""},{"$f":"IF(A122=\"\",\"\",SUMIF('Cal Data'!$G$7:$G$202,\"=\"&$E$119,'Cal Data'!$F$7:$F$202))","v":""},null,{"$f":"IF(A122=\"\",\"\",INDEX('Cal Prep'!$1:$21,MATCH(INDEX(CalInfo!$B$19:$B$33,MATCH(\"Internal Standard\",CalInfo!$A$19:$A$33,FALSE)),'Cal Prep'!L:L,FALSE),MATCH(A122,'Cal Prep'!$1:$1,FALSE)+3))","v":""},{"$f":"IF(A122=\"\",\"\",SUMIF('Cal Data'!$G$7:$G$202,\"=\"&INDEX(CalInfo!$B$19:$B$33,MATCH(\"Internal Standard\",CalInfo!$A$19:$A$33,FALSE)),'Cal Data'!$F$7:$F$202))","v":""},null,{"$f":"IF(A122=\"\",\"\",IF(AND(S122=1,T122=1,U122=1),(I122*100/$X$119)/H122,(F122/I122)*(H122/$X$119)*100/E122))","v":""},{"$f":"TEXT(K122,\"0.0\")","v":""},{"$f":"IF(A122=\"\",\"\",IF(AND(S122=1,T122=1,U122=1),ABS(H122-(I122/$X$119)),ABS(E122-(F122/I122)*(H122/$X$119))))","v":""},{"$f":"TEXT(M122,\"0.00\")","v":""},null,{"$f":"IF(A122=\"\",\"\",E122/H122)","v":""},{"$f":"IF(A122=\"\",\"\",F122/I122)","v":""},null,{"$f":"IF(A122=\"\",\"\",P122*Q122)","v":""},{"$f":"IF(A122=\"\",\"\",P122^2)","v":""},{"$f":"IF(A122=\"\",\"\",Q122^2)","v":""},null,"% R",{"$f":"LEFT(L121&\"/\"&L122&\"/\"&L123&\"/\"&L124&\"/\"&L125&\"/\"&L126&\"/\"&L127&\"/\"&L128&\"/\"&L129&\"/\"&L130,LEN(L121&\"/\"&L122&\"/\"&L123&\"/\"&L124&\"/\"&L125&\"/\"&L126&\"/\"&L127&\"/\"&L128&\"/\"&L129&\"/\"&L130)-(10-COUNT(A121:A130)))","v":{"$error":"#VALUE!"}}]
[{"$f":"IF(CalInfo!$A$5=\"\",\"\",CalInfo!$A$5)","v":""},{"$f":"IF(A123=\"\",\"\",IF(ISERROR(MATCH(A123,$A$3:A122,FALSE)),A123,A123&\" a\"))","v":""},null,null,{"$f":"IF(A123=\"\",\"\",INDEX('Cal Prep'!$1:$21,MATCH($E$119,'Cal Prep'!L:L,FALSE),MATCH(A123,'Cal Prep'!$1:$1,FALSE)+3))","v":""},{"$f":"IF(A123=\"\",\"\",SUMIF('Cal Data'!$K$7:$K$202,\"=\"&$E$119,'Cal Data'!$J$7:$J$202))","v":""},null,{"$f":"IF(A123=\"\",\"\",INDEX('Cal Prep'!$1:$21,MATCH(INDEX(CalInfo!$B$19:$B$33,MATCH(\"Internal Standard\",CalInfo!$A$19:$A$33,FALSE)),'Cal Prep'!L:L,FALSE),MATCH(A123,'Cal Prep'!$1:$1,FALSE)+3))","v":""},{"$f":"IF(A123=\"\",\"\",SUMIF('Cal Data'!$K$7:$K$202,\"=\"&INDEX(CalInfo!$B$19:$B$33,MATCH(\"Internal Standard\",CalInfo!$A$19:$A$33,FALSE)),'Cal Data'!$J$7:$J$202))","v":""},null,"","","","",null,"","",null,"","","",null,"ABS D",{"$f":"LEFT(N121&\"/\"&N122&\"/\"&N123&\"/\"&N124&\"/\"&N125&\"/\"&N126&\"/\"&N127&\"/\"&N128&\"/\"&N129&\"/\"&N130,LEN(N121&\"/\"&N122&\"/\"&N123&\"/\"&N124&\"/\"&N125&\"/\"&N126&\"/\"&N127&\"/\"&N128&\"/\"&N129&\"/\"&N130)-(10-COUNT(A121:A130)))","v":{"$error":"#VALUE!"}}]
[{"$f":"IF(CalInfo!$A$5=\"\",\"\",CalInfo!$A$5)","v":""},{"$f":"IF(A124=\"\",\"\",IF(ISERROR(MATCH(A124,$A$3:A123,FALSE)),A124,A124&\" a\"))","v":""},null,null,{"$f":"IF(A124=\"\",\"\",INDEX('Cal Prep'!$1:$21,MATCH($E$119,'Cal Prep'!L:L,FALSE),MATCH(A124,'Cal Prep'!$1:$1,FALSE)+3))","v":""},{"$f":"IF(A124=\"\",\"\",SUMIF('Cal Data'!$O$7:$O$202,\"=\"&$E$119,'Cal Data'!$N$7:$N$202))","v":""},null,{"$f":"IF(A124=\"\",\"\",INDEX('Cal Prep'!$1:$21,MATCH(INDEX(CalInfo!$B$19:$B$33,MATCH(\"Internal Standard\",CalInfo!$A$19:$A$33,FALSE)),'Cal Prep'!L:L,FALSE),MATCH(A124,'Cal Prep'!$1:$1,FALSE)+3))","v":""},{"$f":"IF(A124=\"\",\"\",SUMIF('Cal Data'!$O$7:$O$202,\"=\"&INDEX(CalInfo!$B$19:$B$33,MATCH(\"Internal Standard\",CalInfo!$A$19:$A$33,FALSE)),'Cal Data'!$N$7:$N$202))","v":""},null,"","","","",null,"","",null,"","",""]
[{"$f":"IF(CalInfo!$A$6=\"\",\"\",CalInfo!$A$6)","v":""},{"$f":"IF(A125=\"\",\"\",IF(ISERROR(MATCH(A125,$A$3:A124,FALSE)),A125,A125&\" a\"))","v":""},null,null,{"$f":"IF(A125=\"\",\"\",INDEX('Cal Prep'!$1:$21,MATCH($E$119,'Cal Prep'!L:L,FALSE),MATCH(A125,'Cal Prep'!$1:$1,FALSE)+3))","v":""},{"$f":"IF(A125=\"\",\"\",SUMIF('Cal Data'!$S$7:$S$202,\"=\"&$E$119,'Cal Data'!$R$7:$R$202))","v":""},null,{"$f":"IF(A125=\"\",\"\",INDEX('Cal Prep'!$1:$21,MATCH(INDEX(CalInfo!$B$19:$B$33,MATCH(\"Internal Standard\",CalInfo!$A$19:$A$33,FALSE)),'Cal Prep'!L:L,FALSE),MATCH(A125,'Cal Prep'!$1:$1,FALSE)+3))","v":""},{"$f":"IF(A125=\"\",\"\",SUMIF('Cal Data'!$S$7:$S$202,\"=\"&INDEX(CalInfo!$B$19:$B$33,MATCH(\"Internal Standard\",CalInfo!$A$19:$A$33,FALSE)),'Cal Data'!$R$7:$R$202))","v":""},null,"","","","",null,"","",null,"","",""]
[{"$f":"IF(CalInfo!$A$6=\"\",\"\",CalInfo!$A$6)","v":""},{"$f":"IF(A126=\"\",\"\",IF(ISERROR(MATCH(A126,$A$3:A125,FALSE)),A126,A126&\" a\"))","v":""},null,null,{"$f":"IF(A126=\"\",\"\",INDEX('Cal Prep'!$1:$21,MATCH($E$119,'Cal Prep'!L:L,FALSE),MATCH(A126,'Cal Prep'!$1:$1,FALSE)+3))","v":""},{"$f":"IF(A126=\"\",\"\",SUMIF('Cal Data'!$W$7:$W$202,\"=\"&$E$119,'Cal Data'!$V$7:$V$202))","v":""},null,{"$f":"IF(A126=\"\",\"\",INDEX('Cal Prep'!$1:$21,MATCH(INDEX(CalInfo!$B$19:$B$33,MATCH(\"Internal Standard\",CalInfo!$A$19:$A$33,FALSE)),'Cal Prep'!L:L,FALSE),MATCH(A126,'Cal Prep'!$1:$1,FALSE)+3))","v":""},{"$f":"IF(A126=\"\",\"\",SUMIF('Cal Data'!$W$7:$W$202,\"=\"&INDEX(CalInfo!$B$19:$B$33,MATCH(\"Internal Standard\",CalInfo!$A$19:$A$33,FALSE)),'Cal Data'!$V$7:$V$202))","v":""},null,"","","","",null,"","",null,"","",""]
[{"$f":"IF(CalInfo!$A$7=\"\",\"\",CalInfo!$A$7)","v":""},{"$f":"IF(A127=\"\",\"\",IF(ISERROR(MATCH(A127,$A$3:A126,FALSE)),A127,A127&\" a\"))","v":""},null,null,{"$f":"IF(A127=\"\",\"\",INDEX('Cal Prep'!$1:$21,MATCH($E$119,'Cal Prep'!L:L,FALSE),MATCH(A127,'Cal Prep'!$1:$1,FALSE)+3))","v":""},{"$f":"IF(A127=\"\",\"\",SUMIF('Cal Data'!$AA$7:$AA$202,\"=\"&$E$119,'Cal Data'!$Z$7:$Z$202))","v":""},null,{"$f":"IF(A127=\"\",\"\",INDEX('Cal Prep'!$1:$21,MATCH(INDEX(CalInfo!$B$19:$B$33,MATCH(\"Internal Standard\",CalInfo!$A$19:$A$33,FALSE)),'Cal Prep'!L:L,FALSE),MATCH(A127,'Cal Prep'!$1:$1,FALSE)+3))","v":""},{"$f":"IF(A127=\"\",\"\",SUMIF('Cal Data'!$AA$7:$AA$202,\"=\"&INDEX(CalInfo!$B$19:$B$33,MATCH(\"Internal Standard\",CalInfo!$A$19:$A$33,FALSE)),'Cal Data'!$Z$7:$Z$202))","v":""},null,"","","","",null,"","",null,"","",""]
[{"$f":"IF(CalInfo!$A$7=\"\",\"\",CalInfo!$A$7)","v":""},{"$f":"IF(A128=\"\",\"\",IF(ISERROR(MATCH(A128,$A$3:A127,FALSE)),A128,A128&\" a\"))","v":""},null,null,{"$f":"IF(A128=\"\",\"\",INDEX('Cal Prep'!$1:$21,MATCH($E$119,'Cal Prep'!L:L,FALSE),MATCH(A128,'Cal Prep'!$1:$1,FALSE)+3))","v":""},{"$f":"IF(A128=\"\",\"\",SUMIF('Cal Data'!$AE$7:$AE$202,\"=\"&$E$119,'Cal Data'!$AD$7:$AD$202))","v":""},null,{"$f":"IF(A128=\"\",\"\",INDEX('Cal Prep'!$1:$21,MATCH(INDEX(CalInfo!$B$19:$B$33,MATCH(\"Internal Standard\",CalInfo!$A$19:$A$33,FALSE)),'Cal Prep'!L:L,FALSE),MATCH(A128,'Cal Prep'!$1:$1,FALSE)+3))","v":""},{"$f":"IF(A128=\"\",\"\",SUMIF('Cal Data'!$AE$7:$AE$202,\"=\"&INDEX(CalInfo!$B$19:$B$33,MATCH(\"Internal Standard\",CalInfo!$A$19:$A$33,FALSE)),'Cal Data'!$AD$7:$AD$202))","v":""},null,"","","","",null,"","",null,"","",""]
[{"$f":"IF(CalInfo!$A$8=\"\",\"\",CalInfo!$A$8)","v":""},{"$f":"IF(A129=\"\",\"\",IF(ISERROR(MATCH(A129,$A$3:A128,FALSE)),A129,A129&\" a\"))","v":""},null,null,{"$f":"IF(A129=\"\",\"\",INDEX('Cal Prep'!$1:$21,MATCH($E$119,'Cal Prep'!L:L,FALSE),MATCH(A129,'Cal Prep'!$1:$1,FALSE)+3))","v":""},{"$f":"IF(A129=\"\",\"\",SUMIF('Cal Data'!$AI$7:$AI$202,\"=\"&$E$119,'Cal Data'!$AH$7:$AH$202))","v":""},null,{"$f":"IF(A129=\"\",\"\",INDEX('Cal Prep'!$1:$21,MATCH(INDEX(CalInfo!$B$19:$B$33,MATCH(\"Internal Standard\",CalInfo!$A$19:$A$33,FALSE)),'Cal Prep'!L:L,FALSE),MATCH(A129,'Cal Prep'!$1:$1,FALSE)+3))","v":""},{"$f":"IF(A129=\"\",\"\",SUMIF('Cal Data'!$AI$7:$AI$202,\"=\"&INDEX(CalInfo!$B$19:$B$33,MATCH(\"Internal Standard\",CalInfo!$A$19:$A$33,FALSE)),'Cal Data'!$AH$7:$AH$202))","v":""},null,"","","","",null,"","",null,"","",""]
[{"$f":"IF(CalInfo!$A$8=\"\",\"\",CalInfo!$A$8)","v":""},{"$f":"IF(A130=\"\",\"\",IF(ISERROR(MATCH(A130,$A$3:A129,FALSE)),A130,A130&\" a\"))","v":""},null,null,{"$f":"IF(A130=\"\",\"\",INDEX('Cal Prep'!$1:$21,MATCH($E$119,'Cal Prep'!L:L,FALSE),MATCH(A130,'Cal Prep'!$1:$1,FALSE)+3))","v":""},{"$f":"IF(A130=\"\",\"\",SUMIF('Cal Data'!$AM$7:$AM$202,\"=\"&$E$119,'Cal Data'!$AL$7:$AL$202))","v":""},null,{"$f":"IF(A130=\"\",\"\",INDEX('Cal Prep'!$1:$21,MATCH(INDEX(CalInfo!$B$19:$B$33,MATCH(\"Internal Standard\",CalInfo!$A$19:$A$33,FALSE)),'Cal Prep'!L:L,FALSE),MATCH(A130,'Cal Prep'!$1:$1,FALSE)+3))","v":""},{"$f":"IF(A130=\"\",\"\",SUMIF('Cal Data'!$AM$7:$AM$202,\"=\"&INDEX(CalInfo!$B$19:$B$33,MATCH(\"Internal Standard\",CalInfo!$A$19:$A$33,FALSE)),'Cal Data'!$AL$7:$AL$202))","v":""},null,"","","","",null,"","",null,"","",""]
[]
[null,null,null,{"$f":"IF(MAX($D$1:D131)>MAX(CalInfo!$K$19:$K$33),\"\",MAX($D$1:D131)+1)","v":""},{"$f":"IF(D132=\"\",\"\",IF(ISERROR(INDEX(CalInfo!$B$19:$B$33,MATCH(D132,CalInfo!$K$19:$K$33,FALSE))),INDEX(CalInfo!$B$19:$B$33,MATCH(\"Internal Standard\",CalInfo!$A$19:$A$33,FALSE)),INDEX(CalInfo!$B$19:$B$33,MATCH(D132,CalInfo!$K$19:$K$33,FALSE))))","v":""},null,null,"Internal Standard",null,null,null,null,null,null,null,null,null,null,null,null,null,null,"RRF/RF",{"$f":"IF(AND(S134=1,T134=1,U134=1),ROUND(AVERAGE(I134:I143)/AVERAGE(H134:H143),0),ROUND(AVERAGE(S134:S143)/AVERAGE(T134:T143),4))","v":{"$error":"#DIV/0!"}}]
["STD Level",null,null,null,"Prep g/L","Area Counts",null,"Prep g/L","Area Counts",null,"% Recovery","% Recovery","ABS. Diff","ABS. Diff",null,"g/L Ratio","AC Ratio",null,"X*Y","X2","Y2",null,"R2/RSD",{"$f":"IF(AND(S134=1,T134=1,U134=1),ROUND(STDEV(I134:I143)*100/AVERAGE(I134:I143),1),ROUND(AVERAGE(S134:S143)^2/(AVERAGE(T134:T143)*AVERAGE(U134:U143)),4))","v":{"$error":"#DIV/0!"}}]
[{"$f":"IF(CalInfo!$A$4=\"\",\"\",CalInfo!$A$4)","v":""},{"$f":"IF(A134=\"\",\"\",IF(ISERROR(MATCH(A134,$A$3:A133,FALSE)),A134,A134&\" a\"))","v":""},null,null,{"$f":"IF(A134=\"\",\"\",INDEX('Cal Prep'!$1:$21,MATCH($E$132,'Cal Prep'!L:L,FALSE),MATCH(A134,'Cal Prep'!$1:$1,FALSE)+3))","v":""},{"$f":"IF(A134=\"\",\"\",SUMIF('Cal Data'!$C$7:$C$202,\"=\"&$E$132,'Cal Data'!$B$7:$B$202))","v":""},null,{"$f":"IF(A134=\"\",\"\",INDEX('Cal Prep'!$1:$21,MATCH(INDEX(CalInfo!$B$19:$B$33,MATCH(\"Internal Standard\",CalInfo!$A$19:$A$33,FALSE)),'Cal Prep'!L:L,FALSE),MATCH(A134,'Cal Prep'!$1:$1,FALSE)+3))","v":""},{"$f":"IF(A134=\"\",\"\",SUMIF('Cal Data'!$C$7:$C$202,\"=\"&INDEX(CalInfo!$B$19:$B$33,MATCH(\"Internal Standard\",CalInfo!$A$19:$A$33,FALSE)),'Cal Data'!$B$7:$B$202))","v":""},null,{"$f":"IF(A134=\"\",\"\",IF(AND(S134=1,T134=1,U134=1),(I134*100/$X$132)/H134,(F134/I134)*(H134/$X$132)*100/E134))","v":""},{"$f":"TEXT(K134,\"0.0\")","v":""},{"$f":"IF(A134=\"\",\"\",IF(AND(S134=1,T134=1,U134=1),ABS(H134-(I134/$X$132)),ABS(E134-(F134/I134)*(H134/$X$132))))","v":""},{"$f":"TEXT(M134,\"0.00\")","v":""},null,{"$f":"IF(A134=\"\",\"\",E134/H134)","v":""},{"$f":"IF(A134=\"\",\"\",F134/I134)","v":""},null,{"$f":"IF(A134=\"\",\"\",P134*Q134)","v":""},{"$f":"IF(A134=\"\",\"\",P134^2)","v":""},{"$f":"IF(A134=\"\",\"\",Q134^2)","v":""},null,"Levels",{"$f":"LEFT(A134&\"/\"&A135&\"/\"&A136&\"/\"&A137&\"/\"&A138&\"/\"&A139&\"/\"&A140&\"/\"&A141&\"/\"&A142&\"/\"&A143,LEN(A134&\"/\"&A135&\"/\"&A136&\"/\"&A137&\"/\"&A138&\"/\"&A139&\"/\"&A140&\"/\"&A141&\"/\"&A142&\"/\"&A143)-(10-COUNT(A134:A143)))","v":{"$error":"#VALUE!"}}]
[{"$f":"IF(CalInfo!$A$4=\"\",\"\",CalInfo!$A$4)","v":""},{"$f":"IF(A135=\"\",\"\",IF(ISERROR(MATCH(A135,$A$3:A134,FALSE)),A135,A135&\" a\"))","v":""},null,null,{"$f":"IF(A135=\"\",\"\",INDEX('Cal Prep'!$1:$21,MATCH($E$132,'Cal Prep'!L:L,FALSE),MATCH(A135,'Cal Prep'!$1:$1,FALSE)+3))","v":""},{"$f":"IF(A135=\"\",\"\",SUMIF('Cal Data'!$G$7:$G$202,\"=\"&$E$132,'Cal Data'!$F$7:$F$202))","v":""},null,{"$f":"IF(A135=\"\",\"\",INDEX('Cal Prep'!$1:$21,MATCH(INDEX(CalInfo!$B$19:$B$33,MATCH(\"Internal Standard\",CalInfo!$A$19:$A$33,FALSE)),'Cal Prep'!L:L,FALSE),MATCH(A135,'Cal Prep'!$1:$1,FALSE)+3))","v":""},{"$f":"IF(A135=\"\",\"\",SUMIF('Cal Data'!$G$7:$G$202,\"=\"&INDEX(CalInfo!$B$19:$B$33,MATCH(\"Internal Standard\",CalInfo!$A$19:$A$33,FALSE)),'Cal Data'!$F$7:$F$202))","v":""},null,{"$f":"IF(A135=\"\",\"\",IF(AND(S135=1,T135=1,U135=1),(I135*100/$X$132)/H135,(F135/I135)*(H135/$X$132)*100/E135))","v":""},{"$f":"TEXT(K135,\"0.0\")","v":""},{"$f":"IF(A135=\"\",\"\",IF(AND(S135=1,T135=1,U135=1),ABS(H135-(I135/$X$132)),ABS(E135-(F135/I135)*(H135/$X$132))))","v":""},{"$f":"TEXT(M135,\"0.00\")","v":""},null,{"$f":"IF(A135=\"\",\"\",E135/H135)","v":""},{"$f":"IF(A135=\"\",\"\",F135/I135)","v":""},null,{"$f":"IF(A135=\"\",\"\",P135*Q135)","v":""},{"$f":"IF(A135=\"\",\"\",P135^2)","v":""},{"$f":"IF(A135=\"\",\"\",Q135^2)","v":""},null,"% R",{"$f":"LEFT(L134&\"/\"&L135&\"/\"&L136&\"/\"&L137&\"/\"&L138&\"/\"&L139&\"/\"&L140&\"/\"&L141&\"/\"&L142&\"/\"&L143,LEN(L134&\"/\"&L135&\"/\"&L136&\"/\"&L137&\"/\"&L138&\"/\"&L139&\"/\"&L140&\"/\"&L141&\"/\"&L142&\"/\"&L143)-(10-COUNT(A134:A143)))","v":{"$error":"#VALUE!"}}]
[{"$f":"IF(CalInfo!$A$5=\"\",\"\",CalInfo!$A$5)","v":""},{"$f":"IF(A136=\"\",\"\",IF(ISERROR(MATCH(A136,$A$3:A135,FALSE)),A136,A136&\" a\"))","v":""},null,null,{"$f":"IF(A136=\"\",\"\",INDEX('Cal Prep'!$1:$21,MATCH($E$132,'Cal Prep'!L:L,FALSE),MATCH(A136,'Cal Prep'!$1:$1,FALSE)+3))","v":""},{"$f":"IF(A136=\"\",\"\",SUMIF('Cal Data'!$K$7:$K$202,\"=\"&$E$132,'Cal Data'!$J$7:$J$202))","v":""},null,{"$f":"IF(A136=\"\",\"\",INDEX('Cal Prep'!$1:$21,MATCH(INDEX(CalInfo!$B$19:$B$33,MATCH(\"Internal Standard\",CalInfo!$A$19:$A$33,FALSE)),'Cal Prep'!L:L,FALSE),MATCH(A136,'Cal Prep'!$1:$1,FALSE)+3))","v":""},{"$f":"IF(A136=\"\",\"\",SUMIF('Cal Data'!$K$7:$K$202,\"=\"&INDEX(CalInfo!$B$19:$B$33,MATCH(\"Internal Standard\",CalInfo!$A$19:$A$33,FALSE)),'Cal Data'!$J$7:$J$202))","v":""},null,"","","","",null,"","",null,"","","",null,"ABS D",{"$f":"LEFT(N134&\"/\"&N135&\"/\"&N136&\"/\"&N137&\"/\"&N138&\"/\"&N139&\"/\"&N140&\"/\"&N141&\"/\"&N142&\"/\"&N143,LEN(N134&\"/\"&N135&\"/\"&N136&\"/\"&N137&\"/\"&N138&\"/\"&N139&\"/\"&N140&\"/\"&N141&\"/\"&N142&\"/\"&N143)-(10-COUNT(A134:A143)))","v":{"$error":"#VALUE!"}}]
[{"$f":"IF(CalInfo!$A$5=\"\",\"\",CalInfo!$A$5)","v":""},{"$f":"IF(A137=\"\",\"\",IF(ISERROR(MATCH(A137,$A$3:A136,FALSE)),A137,A137&\" a\"))","v":""},null,null,{"$f":"IF(A137=\"\",\"\",INDEX('Cal Prep'!$1:$21,MATCH($E$132,'Cal Prep'!L:L,FALSE),MATCH(A137,'Cal Prep'!$1:$1,FALSE)+3))","v":""},{"$f":"IF(A137=\"\",\"\",SUMIF('Cal Data'!$O$7:$O$202,\"=\"&$E$132,'Cal Data'!$N$7:$N$202))","v":""},null,{"$f":"IF(A137=\"\",\"\",INDEX('Cal Prep'!$1:$21,MATCH(INDEX(CalInfo!$B$19:$B$33,MATCH(\"Internal Standard\",CalInfo!$A$19:$A$33,FALSE)),'Cal Prep'!L:L,FALSE),MATCH(A137,'Cal Prep'!$1:$1,FALSE)+3))","v":""},{"$f":"IF(A137=\"\",\"\",SUMIF('Cal Data'!$O$7:$O$202,\"=\"&INDEX(CalInfo!$B$19:$B$33,MATCH(\"Internal Standard\",CalInfo!$A$19:$A$33,FALSE)),'Cal Data'!$N$7:$N$202))","v":""},null,"","","","",null,"","",null,"","",""]
[{"$f":"IF(CalInfo!$A$6=\"\",\"\",CalInfo!$A$6)","v":""},{"$f":"IF(A138=\"\",\"\",IF(ISERROR(MATCH(A138,$A$3:A137,FALSE)),A138,A138&\" a\"))","v":""},null,null,{"$f":"IF(A138=\"\",\"\",INDEX('Cal Prep'!$1:$21,MATCH($E$132,'Cal Prep'!L:L,FALSE),MATCH(A138,'Cal Prep'!$1:$1,FALSE)+3))","v":""},{"$f":"IF(A138=\"\",\"\",SUMIF('Cal Data'!$S$7:$S$202,\"=\"&$E$132,'Cal Data'!$R$7:$R$202))","v":""},null,{"$f":"IF(A138=\"\",\"\",INDEX('Cal Prep'!$1:$21,MATCH(INDEX(CalInfo!$B$19:$B$33,MATCH(\"Internal Standard\",CalInfo!$A$19:$A$33,FALSE)),'Cal Prep'!L:L,FALSE),MATCH(A138,'Cal Prep'!$1:$1,FALSE)+3))","v":""},{"$f":"IF(A138=\"\",\"\",SUMIF('Cal Data'!$S$7:$S$202,\"=\"&INDEX(CalInfo!$B$19:$B$33,MATCH(\"Internal Standard\",CalInfo!$A$19:$A$33,FALSE)),'Cal Data'!$R$7:$R$202))","v":""},null,"","","","",null,"","",null,"","",""]
[{"$f":"IF(CalInfo!$A$6=\"\",\"\",CalInfo!$A$6)","v":""},{"$f":"IF(A139=\"\",\"\",IF(ISERROR(MATCH(A139,$A$3:A138,FALSE)),A139,A139&\" a\"))","v":""},null,null,{"$f":"IF(A139=\"\",\"\",INDEX('Cal Prep'!$1:$21,MATCH($E$132,'Cal Prep'!L:L,FALSE),MATCH(A139,'Cal Prep'!$1:$1,FALSE)+3))","v":""},{"$f":"IF(A139=\"\",\"\",SUMIF('Cal Data'!$W$7:$W$202,\"=\"&$E$132,'Cal Data'!$V$7:$V$202))","v":""},null,{"$f":"IF(A139=\"\",\"\",INDEX('Cal Prep'!$1:$21,MATCH(INDEX(CalInfo!$B$19:$B$33,MATCH(\"Internal Standard\",CalInfo!$A$19:$A$33,FALSE)),'Cal Prep'!L:L,FALSE),MATCH(A139,'Cal Prep'!$1:$1,FALSE)+3))","v":""},{"$f":"IF(A139=\"\",\"\",SUMIF('Cal Data'!$W$7:$W$202,\"=\"&INDEX(CalInfo!$B$19:$B$33,MATCH(\"Internal Standard\",CalInfo!$A$19:$A$33,FALSE)),'Cal Data'!$V$7:$V$202))","v":""},null,"","","","",null,"","",null,"","",""]
[{"$f":"IF(CalInfo!$A$7=\"\",\"\",CalInfo!$A$7)","v":""},{"$f":"IF(A140=\"\",\"\",IF(ISERROR(MATCH(A140,$A$3:A139,FALSE)),A140,A140&\" a\"))","v":""},null,null,{"$f":"IF(A140=\"\",\"\",INDEX('Cal Prep'!$1:$21,MATCH($E$132,'Cal Prep'!L:L,FALSE),MATCH(A140,'Cal Prep'!$1:$1,FALSE)+3))","v":""},{"$f":"IF(A140=\"\",\"\",SUMIF('Cal Data'!$AA$7:$AA$202,\"=\"&$E$132,'Cal Data'!$Z$7:$Z$202))","v":""},null,{"$f":"IF(A140=\"\",\"\",INDEX('Cal Prep'!$1:$21,MATCH(INDEX(CalInfo!$B$19:$B$33,MATCH(\"Internal Standard\",CalInfo!$A$19:$A$33,FALSE)),'Cal Prep'!L:L,FALSE),MATCH(A140,'Cal Prep'!$1:$1,FALSE)+3))","v":""},{"$f":"IF(A140=\"\",\"\",SUMIF('Cal Data'!$AA$7:$AA$202,\"=\"&INDEX(CalInfo!$B$19:$B$33,MATCH(\"Internal Standard\",CalInfo!$A$19:$A$33,FALSE)),'Cal Data'!$Z$7:$Z$202))","v":""},null,"","","","",null,"","",null,"","",""]
[{"$f":"IF(CalInfo!$A$7=\"\",\"\",CalInfo!$A$7)","v":""},{"$f":"IF(A141=\"\",\"\",IF(ISERROR(MATCH(A141,$A$3:A140,FALSE)),A141,A141&\" a\"))","v":""},null,null,{"$f":"IF(A141=\"\",\"\",INDEX('Cal Prep'!$1:$21,MATCH($E$132,'Cal Prep'!L:L,FALSE),MATCH(A141,'Cal Prep'!$1:$1,FALSE)+3))","v":""},{"$f":"IF(A141=\"\",\"\",SUMIF('Cal Data'!$AE$7:$AE$202,\"=\"&$E$132,'Cal Data'!$AD$7:$AD$202))","v":""},null,{"$f":"IF(A141=\"\",\"\",INDEX('Cal Prep'!$1:$21,MATCH(INDEX(CalInfo!$B$19:$B$33,MATCH(\"Internal Standard\",CalInfo!$A$19:$A$33,FALSE)),'Cal Prep'!L:L,FALSE),MATCH(A141,'Cal Prep'!$1:$1,FALSE)+3))","v":""},{"$f":"IF(A141=\"\",\"\",SUMIF('Cal Data'!$AE$7:$AE$202,\"=\"&INDEX(CalInfo!$B$19:$B$33,MATCH(\"Internal Standard\",CalInfo!$A$19:$A$33,FALSE)),'Cal Data'!$AD$7:$AD$202))","v":""},null,"","","","",null,"","",null,"","",""]
[{"$f":"IF(CalInfo!$A$8=\"\",\"\",CalInfo!$A$8)","v":""},{"$f":"IF(A142=\"\",\"\",IF(ISERROR(MATCH(A142,$A$3:A141,FALSE)),A142,A142&\" a\"))","v":""},null,null,{"$f":"IF(A142=\"\",\"\",INDEX('Cal Prep'!$1:$21,MATCH($E$132,'Cal Prep'!L:L,FALSE),MATCH(A142,'Cal Prep'!$1:$1,FALSE)+3))","v":""},{"$f":"IF(A142=\"\",\"\",SUMIF('Cal Data'!$AI$7:$AI$202,\"=\"&$E$132,'Cal Data'!$AH$7:$AH$202))","v":""},null,{"$f":"IF(A142=\"\",\"\",INDEX('Cal Prep'!$1:$21,MATCH(INDEX(CalInfo!$B$19:$B$33,MATCH(\"Internal Standard\",CalInfo!$A$19:$A$33,FALSE)),'Cal Prep'!L:L,FALSE),MATCH(A142,'Cal Prep'!$1:$1,FALSE)+3))","v":""},{"$f":"IF(A142=\"\",\"\",SUMIF('Cal Data'!$AI$7:$AI$202,\"=\"&INDEX(CalInfo!$B$19:$B$33,MATCH(\"Internal Standard\",CalInfo!$A$19:$A$33,FALSE)),'Cal Data'!$AH$7:$AH$202))","v":""},null,"","","","",null,"","",null,"","",""]
[{"$f":"IF(CalInfo!$A$8=\"\",\"\",CalInfo!$A$8)","v":""},{"$f":"IF(A143=\"\",\"\",IF(ISERROR(MATCH(A143,$A$3:A142,FALSE)),A143,A143&\" a\"))","v":""},null,null,{"$f":"IF(A143=\"\",\"\",INDEX('Cal Prep'!$1:$21,MATCH($E$132,'Cal Prep'!L:L,FALSE),MATCH(A143,'Cal Prep'!$1:$1,FALSE)+3))","v":""},{"$f":"IF(A143=\"\",\"\",SUMIF('Cal Data'!$AM$7:$AM$202,\"=\"&$E$132,'Cal Data'!$AL$7:$AL$202))","v":""},null,{"$f":"IF(A143=\"\",\"\",INDEX('Cal Prep'!$1:$21,MATCH(INDEX(CalInfo!$B$19:$B$33,MATCH(\"Internal Standard\",CalInfo!$A$19:$A$33,FALSE)),'Cal Prep'!L:L,FALSE),MATCH(A143,'Cal Prep'!$1:$1,FALSE)+3))","v":""},{"$f":"IF(A143=\"\",\"\",SUMIF('Cal Data'!$AM$7:$AM$202,\"=\"&INDEX(CalInfo!$B$19:$B$33,MATCH(\"Internal Standard\",CalInfo!$A$19:$A$33,FALSE)),'Cal Data'!$AL$7:$AL$202))","v":""},null,"","","","",null,"","",null,"","",""]
[]
[null,null,null,{"$f":"IF(MAX($D$1:D144)>MAX(CalInfo!$K$19:$K$33),\"\",MAX($D$1:D144)+1)","v":""},{"$f":"IF(D145=\"\",\"\",IF(ISERROR(INDEX(CalInfo!$B$19:$B$33,MATCH(D145,CalInfo!$K$19:$K$33,FALSE))),INDEX(CalInfo!$B$19:$B$33,MATCH(\"Internal Standard\",CalInfo!$A$19:$A$33,FALSE)),INDEX(CalInfo!$B$19:$B$33,MATCH(D145,CalInfo!$K$19:$K$33,FALSE))))","v":""},null,null,"Internal Standard",null,null,null,null,null,null,null,null,null,null,null,null,null,null,"RRF/RF",{"$f":"IF(AND(S147=1,T147=1,U147=1),ROUND(AVERAGE(I147:I156)/AVERAGE(H147:H156),0),ROUND(AVERAGE(S147:S156)/AVERAGE(T147:T156),4))","v":{"$error":"#DIV/0!"}}]
["STD Level",null,null,null,"Prep g/L","Area Counts",null,"Prep g/L","Area Counts",null,"% Recovery","% Recovery","ABS. Diff","ABS. Diff",null,"g/L Ratio","AC Ratio",null,"X*Y","X2","Y2",null,"R2/RSD",{"$f":"IF(AND(S147=1,T147=1,U147=1),ROUND(STDEV(I147:I156)*100/AVERAGE(I147:I156),1),ROUND(AVERAGE(S147:S156)^2/(AVERAGE(T147:T156)*AVERAGE(U147:U156)),4))","v":{"$error":"#DIV/0!"}}]
[{"$f":"IF(CalInfo!$A$4=\"\",\"\",CalInfo!$A$4)","v":""},{"$f":"IF(A147=\"\",\"\",IF(ISERROR(MATCH(A147,$A$3:A146,FALSE)),A147,A147&\" a\"))","v":""},null,null,{"$f":"IF(A147=\"\",\"\",INDEX('Cal Prep'!$1:$21,MATCH($E$145,'Cal Prep'!L:L,FALSE),MATCH(A147,'Cal Prep'!$1:$1,FALSE)+3))","v":""},{"$f":"IF(A147=\"\",\"\",SUMIF('Cal Data'!$C$7:$C$202,\"=\"&$E$145,'Cal Data'!$B$7:$B$202))","v":""},null,{"$f":"IF(A147=\"\",\"\",INDEX('Cal Prep'!$1:$21,MATCH(INDEX(CalInfo!$B$19:$B$33,MATCH(\"Internal Standard\",CalInfo!$A$19:$A$33,FALSE)),'Cal Prep'!L:L,FALSE),MATCH(A147,'Cal Prep'!$1:$1,FALSE)+3))","v":""},{"$f":"IF(A147=\"\",\"\",SUMIF('Cal Data'!$C$7:$C$202,\"=\"&INDEX(CalInfo!$B$19:$B$33,MATCH(\"Internal Standard\",CalInfo!$A$19:$A$33,FALSE)),'Cal Data'!$B$7:$B$202))","v":""},null,{"$f":"IF(A147=\"\",\"\",IF(AND(S147=1,T147=1,U147=1),(I147*100/$X$145)/H147,(F147/I147)*(H147/$X$145)*100/E147))","v":""},{"$f":"TEXT(K147,\"0.0\")","v":""},{"$f":"IF(A147=\"\",\"\",IF(AND(S147=1,T147=1,U147=1),ABS(H147-(I147/$X$145)),ABS(E147-(F147/I147)*(H147/$X$145))))","v":""},{"$f":"TEXT(M147,\"0.00\")","v":""},null,{"$f":"IF(A147=\"\",\"\",E147/H147)","v":""},{"$f":"IF(A147=\"\",\"\",F147/I147)","v":""},null,{"$f":"IF(A147=\"\",\"\",P147*Q147)","v":""},{"$f":"IF(A147=\"\",\"\",P147^2)","v":""},{"$f":"IF(A147=\"\",\"\",Q147^2)","v":""},null,"Levels",{"$f":"LEFT(A147&\"/\"&A148&\"/\"&A149&\"/\"&A150&\"/\"&A151&\"/\"&A152&\"/\"&A153&\"/\"&A154&\"/\"&A155&\"/\"&A156,LEN(A147&\"/\"&A148&\"/\"&A149&\"/\"&A150&\"/\"&A151&\"/\"&A152&\"/\"&A153&\"/\"&A154&\"/\"&A155&\"/\"&A156)-(10-COUNT(A147:A156)))","v":{"$error":"#VALUE!"}}]
[{"$f":"IF(CalInfo!$A$4=\"\",\"\",CalInfo!$A$4)","v":""},{"$f":"IF(A148=\"\",\"\",IF(ISERROR(MATCH(A148,$A$3:A147,FALSE)),A148,A148&\" a\"))","v":""},null,null,{"$f":"IF(A148=\"\",\"\",INDEX('Cal Prep'!$1:$21,MATCH($E$145,'Cal Prep'!L:L,FALSE),MATCH(A148,'Cal Prep'!$1:$1,FALSE)+3))","v":""},{"$f":"IF(A148=\"\",\"\",SUMIF('Cal Data'!$G$7:$G$202,\"=\"&$E$145,'Cal Data'!$F$7:$F$202))","v":""},null,{"$f":"IF(A148=\"\",\"\",INDEX('Cal Prep'!$1:$21,MATCH(INDEX(CalInfo!$B$19:$B$33,MATCH(\"Internal Standard\",CalInfo!$A$19:$A$33,FALSE)),'Cal Prep'!L:L,FALSE),MATCH(A148,'Cal Prep'!$1:$1,FALSE)+3))","v":""},{"$f":"IF(A148=\"\",\"\",SUMIF('Cal Data'!$G$7:$G$202,\"=\"&INDEX(CalInfo!$B$19:$B$33,MATCH(\"Internal Standard\",CalInfo!$A$19:$A$33,FALSE)),'Cal Data'!$F$7:$F$202))","v":""},null,{"$f":"IF(A148=\"\",\"\",IF(AND(S148=1,T148=1,U148=1),(I148*100/$X$145)/H148,(F148/I148)*(H148/$X$145)*100/E148))","v":""},{"$f":"TEXT(K148,\"0.0\")","v":""},{"$f":"IF(A148=\"\",\"\",IF(AND(S148=1,T148=1,U148=1),ABS(H148-(I148/$X$145)),ABS(E148-(F148/I148)*(H148/$X$145))))","v":""},{"$f":"TEXT(M148,\"0.00\")","v":""},null,{"$f":"IF(A148=\"\",\"\",E148/H148)","v":""},{"$f":"IF(A148=\"\",\"\",F148/I148)","v":""},null,{"$f":"IF(A148=\"\",\"\",P148*Q148)","v":""},{"$f":"IF(A148=\"\",\"\",P148^2)","v":""},{"$f":"IF(A148=\"\",\"\",Q148^2)","v":""},null,"% R",{"$f":"LEFT(L147&\"/\"&L148&\"/\"&L149&\"/\"&L150&\"/\"&L151&\"/\"&L152&\"/\"&L153&\"/\"&L154&\"/\"&L155&\"/\"&L156,LEN(L147&\"/\"&L148&\"/\"&L149&\"/\"&L150&\"/\"&L151&\"/\"&L152&\"/\"&L153&\"/\"&L154&\"/\"&L155&\"/\"&L156)-(10-COUNT(A147:A156)))","v":{"$error":"#VALUE!"}}]
[{"$f":"IF(CalInfo!$A$5=\"\",\"\",CalInfo!$A$5)","v":""},{"$f":"IF(A149=\"\",\"\",IF(ISERROR(MATCH(A149,$A$3:A148,FALSE)),A149,A149&\" a\"))","v":""},null,null,{"$f":"IF(A149=\"\",\"\",INDEX('Cal Prep'!$1:$21,MATCH($E$145,'Cal Prep'!L:L,FALSE),MATCH(A149,'Cal Prep'!$1:$1,FALSE)+3))","v":""},{"$f":"IF(A149=\"\",\"\",SUMIF('Cal Data'!$K$7:$K$202,\"=\"&$E$145,'Cal Data'!$J$7:$J$202))","v":""},null,{"$f":"IF(A149=\"\",\"\",INDEX('Cal Prep'!$1:$21,MATCH(INDEX(CalInfo!$B$19:$B$33,MATCH(\"Internal Standard\",CalInfo!$A$19:$A$33,FALSE)),'Cal Prep'!L:L,FALSE),MATCH(A149,'Cal Prep'!$1:$1,FALSE)+3))","v":""},{"$f":"IF(A149=\"\",\"\",SUMIF('Cal Data'!$K$7:$K$202,\"=\"&INDEX(CalInfo!$B$19:$B$33,MATCH(\"Internal Standard\",CalInfo!$A$19:$A$33,FALSE)),'Cal Data'!$J$7:$J$202))","v":""},null,"","","","",null,"","",null,"","","",null,"ABS D",{"$f":"LEFT(N147&\"/\"&N148&\"/\"&N149&\"/\"&N150&\"/\"&N151&\"/\"&N152&\"/\"&N153&\"/\"&N154&\"/\"&N155&\"/\"&N156,LEN(N147&\"/\"&N148&\"/\"&N149&\"/\"&N150&\"/\"&N151&\"/\"&N152&\"/\"&N153&\"/\"&N154&\"/\"&N155&\"/\"&N156)-(10-COUNT(A147:A156)))","v":{"$error":"#VALUE!"}}]
[{"$f":"IF(CalInfo!$A$5=\"\",\"\",CalInfo!$A$5)","v":""},{"$f":"IF(A150=\"\",\"\",IF(ISERROR(MATCH(A150,$A$3:A149,FALSE)),A150,A150&\" a\"))","v":""},null,null,{"$f":"IF(A150=\"\",\"\",INDEX('Cal Prep'!$1:$21,MATCH($E$145,'Cal Prep'!L:L,FALSE),MATCH(A150,'Cal Prep'!$1:$1,FALSE)+3))","v":""},{"$f":"IF(A150=\"\",\"\",SUMIF('Cal Data'!$O$7:$O$202,\"=\"&$E$145,'Cal Data'!$N$7:$N$202))","v":""},null,{"$f":"IF(A150=\"\",\"\",INDEX('Cal Prep'!$1:$21,MATCH(INDEX(CalInfo!$B$19:$B$33,MATCH(\"Internal Standard\",CalInfo!$A$19:$A$33,FALSE)),'Cal Prep'!L:L,FALSE),MATCH(A150,'Cal Prep'!$1:$1,FALSE)+3))","v":""},{"$f":"IF(A150=\"\",\"\",SUMIF('Cal Data'!$O$7:$O$202,\"=\"&INDEX(CalInfo!$B$19:$B$33,MATCH(\"Internal Standard\",CalInfo!$A$19:$A$33,FALSE)),'Cal Data'!$N$7:$N$202))","v":""},null,"","","","",null,"","",null,"","",""]
[{"$f":"IF(CalInfo!$A$6=\"\",\"\",CalInfo!$A$6)","v":""},{"$f":"IF(A151=\"\",\"\",IF(ISERROR(MATCH(A151,$A$3:A150,FALSE)),A151,A151&\" a\"))","v":""},null,null,{"$f":"IF(A151=\"\",\"\",INDEX('Cal Prep'!$1:$21,MATCH($E$145,'Cal Prep'!L:L,FALSE),MATCH(A151,'Cal Prep'!$1:$1,FALSE)+3))","v":""},{"$f":"IF(A151=\"\",\"\",SUMIF('Cal Data'!$S$7:$S$202,\"=\"&$E$145,'Cal Data'!$R$7:$R$202))","v":""},null,{"$f":"IF(A151=\"\",\"\",INDEX('Cal Prep'!$1:$21,MATCH(INDEX(CalInfo!$B$19:$B$33,MATCH(\"Internal Standard\",CalInfo!$A$19:$A$33,FALSE)),'Cal Prep'!L:L,FALSE),MATCH(A151,'Cal Prep'!$1:$1,FALSE)+3))","v":""},{"$f":"IF(A151=\"\",\"\",SUMIF('Cal Data'!$S$7:$S$202,\"=\"&INDEX(CalInfo!$B$19:$B$33,MATCH(\"Internal Standard\",CalInfo!$A$19:$A$33,FALSE)),'Cal Data'!$R$7:$R$202))","v":""},null,"","","","",null,"","",null,"","",""]
[{"$f":"IF(CalInfo!$A$6=\"\",\"\",CalInfo!$A$6)","v":""},{"$f":"IF(A152=\"\",\"\",IF(ISERROR(MATCH(A152,$A$3:A151,FALSE)),A152,A152&\" a\"))","v":""},null,null,{"$f":"IF(A152=\"\",\"\",INDEX('Cal Prep'!$1:$21,MATCH($E$145,'Cal Prep'!L:L,FALSE),MATCH(A152,'Cal Prep'!$1:$1,FALSE)+3))","v":""},{"$f":"IF(A152=\"\",\"\",SUMIF('Cal Data'!$W$7:$W$202,\"=\"&$E$145,'Cal Data'!$V$7:$V$202))","v":""},null,{"$f":"IF(A152=\"\",\"\",INDEX('Cal Prep'!$1:$21,MATCH(INDEX(CalInfo!$B$19:$B$33,MATCH(\"Internal Standard\",CalInfo!$A$19:$A$33,FALSE)),'Cal Prep'!L:L,FALSE),MATCH(A152,'Cal Prep'!$1:$1,FALSE)+3))","v":""},{"$f":"IF(A152=\"\",\"\",SUMIF('Cal Data'!$W$7:$W$202,\"=\"&INDEX(CalInfo!$B$19:$B$33,MATCH(\"Internal Standard\",CalInfo!$A$19:$A$33,FALSE)),'Cal Data'!$V$7:$V$202))","v":""},null,"","","","",null,"","",null,"","",""]
[{"$f":"IF(CalInfo!$A$7=\"\",\"\",CalInfo!$A$7)","v":""},{"$f":"IF(A153=\"\",\"\",IF(ISERROR(MATCH(A153,$A$3:A152,FALSE)),A153,A153&\" a\"))","v":""},null,null,{"$f":"IF(A153=\"\",\"\",INDEX('Cal Prep'!$1:$21,MATCH($E$145,'Cal Prep'!L:L,FALSE),MATCH(A153,'Cal Prep'!$1:$1,FALSE)+3))","v":""},{"$f":"IF(A153=\"\",\"\",SUMIF('Cal Data'!$AA$7:$AA$202,\"=\"&$E$145,'Cal Data'!$Z$7:$Z$202))","v":""},null,{"$f":"IF(A153=\"\",\"\",INDEX('Cal Prep'!$1:$21,MATCH(INDEX(CalInfo!$B$19:$B$33,MATCH(\"Internal Standard\",CalInfo!$A$19:$A$33,FALSE)),'Cal Prep'!L:L,FALSE),MATCH(A153,'Cal Prep'!$1:$1,FALSE)+3))","v":""},{"$f":"IF(A153=\"\",\"\",SUMIF('Cal Data'!$AA$7:$AA$202,\"=\"&INDEX(CalInfo!$B$19:$B$33,MATCH(\"Internal Standard\",CalInfo!$A$19:$A$33,FALSE)),'Cal Data'!$Z$7:$Z$202))","v":""},null,"","","","",null,"","",null,"","",""]
[{"$f":"IF(CalInfo!$A$7=\"\",\"\",CalInfo!$A$7)","v":""},{"$f":"IF(A154=\"\",\"\",IF(ISERROR(MATCH(A154,$A$3:A153,FALSE)),A154,A154&\" a\"))","v":""},null,null,{"$f":"IF(A154=\"\",\"\",INDEX('Cal Prep'!$1:$21,MATCH($E$145,'Cal Prep'!L:L,FALSE),MATCH(A154,'Cal Prep'!$1:$1,FALSE)+3))","v":""},{"$f":"IF(A154=\"\",\"\",SUMIF('Cal Data'!$AE$7:$AE$202,\"=\"&$E$145,'Cal Data'!$AD$7:$AD$202))","v":""},null,{"$f":"IF(A154=\"\",\"\",INDEX('Cal Prep'!$1:$21,MATCH(INDEX(CalInfo!$B$19:$B$33,MATCH(\"Internal Standard\",CalInfo!$A$19:$A$33,FALSE)),'Cal Prep'!L:L,FALSE),MATCH(A154,'Cal Prep'!$1:$1,FALSE)+3))","v":""},{"$f":"IF(A154=\"\",\"\",SUMIF('Cal Data'!$AE$7:$AE$202,\"=\"&INDEX(CalInfo!$B$19:$B$33,MATCH(\"Internal Standard\",CalInfo!$A$19:$A$33,FALSE)),'Cal Data'!$AD$7:$AD$202))","v":""},null,"","","","",null,"","",null,"","",""]
[{"$f":"IF(CalInfo!$A$8=\"\",\"\",CalInfo!$A$8)","v":""},{"$f":"IF(A155=\"\",\"\",IF(ISERROR(MATCH(A155,$A$3:A154,FALSE)),A155,A155&\" a\"))","v":""},null,null,{"$f":"IF(A155=\"\",\"\",INDEX('Cal Prep'!$1:$21,MATCH($E$145,'Cal Prep'!L:L,FALSE),MATCH(A155,'Cal Prep'!$1:$1,FALSE)+3))","v":""},{"$f":"IF(A155=\"\",\"\",SUMIF('Cal Data'!$AI$7:$AI$202,\"=\"&$E$145,'Cal Data'!$AH$7:$AH$202))","v":""},null,{"$f":"IF(A155=\"\",\"\",INDEX('Cal Prep'!$1:$21,MATCH(INDEX(CalInfo!$B$19:$B$33,MATCH(\"Internal Standard\",CalInfo!$A$19:$A$33,FALSE)),'Cal Prep'!L:L,FALSE),MATCH(A155,'Cal Prep'!$1:$1,FALSE)+3))","v":""},{"$f":"IF(A155=\"\",\"\",SUMIF('Cal Data'!$AI$7:$AI$202,\"=\"&INDEX(CalInfo!$B$19:$B$33,MATCH(\"Internal Standard\",CalInfo!$A$19:$A$33,FALSE)),'Cal Data'!$AH$7:$AH$202))","v":""},null,"","","","",null,"","",null,"","",""]
[{"$f":"IF(CalInfo!$A$8=\"\",\"\",CalInfo!$A$8)","v":""},{"$f":"IF(A156=\"\",\"\",IF(ISERROR(MATCH(A156,$A$3:A155,FALSE)),A156,A156&\" a\"))","v":""},null,null,{"$f":"IF(A156=\"\",\"\",INDEX('Cal Prep'!$1:$21,MATCH($E$145,'Cal Prep'!L:L,FALSE),MATCH(A156,'Cal Prep'!$1:$1,FALSE)+3))","v":""},{"$f":"IF(A156=\"\",\"\",SUMIF('Cal Data'!$AM$7:$AM$202,\"=\"&$E$145,'Cal Data'!$AL$7:$AL$202))","v":""},null,{"$f":"IF(A156=\"\",\"\",INDEX('Cal Prep'!$1:$21,MATCH(INDEX(CalInfo!$B$19:$B$33,MATCH(\"Internal Standard\",CalInfo!$A$19:$A$33,FALSE)),'Cal Prep'!L:L,FALSE),MATCH(A156,'Cal Prep'!$1:$1,FALSE)+3))","v":""},{"$f":"IF(A156=\"\",\"\",SUMIF('Cal Data'!$AM$7:$AM$202,\"=\"&INDEX(CalInfo!$B$19:$B$33,MATCH(\"Internal Standard\",CalInfo!$A$19:$A$33,FALSE)),'Cal Data'!$AL$7:$AL$202))","v":""},null,"","","","",null,"","",null,"","",""]
[]
[null,null,null,{"$f":"IF(MAX($D$1:D157)>MAX(CalInfo!$K$19:$K$33),\"\",MAX($D$1:D157)+1)","v":""},{"$f":"IF(D158=\"\",\"\",IF(ISERROR(INDEX(CalInfo!$B$19:$B$33,MATCH(D158,CalInfo!$K$19:$K$33,FALSE))),INDEX(CalInfo!$B$19:$B$33,MATCH(\"Internal Standard\",CalInfo!$A$19:$A$33,FALSE)),INDEX(CalInfo!$B$19:$B$33,MATCH(D158,CalInfo!$K$19:$K$33,FALSE))))","v":""},null,null,"Internal Standard",null,null,null,null,null,null,null,null,null,null,null,null,null,null,"RRF/RF",{"$f":"IF(AND(S160=1,T160=1,U160=1),ROUND(AVERAGE(I160:I169)/AVERAGE(H160:H169),0),ROUND(AVERAGE(S160:S169)/AVERAGE(T160:T169),4))","v":{"$error":"#DIV/0!"}}]
["STD Level",null,null,null,"Prep g/L","Area Counts",null,"Prep g/L","Area Counts",null,"% Recovery","% Recovery","ABS. Diff","ABS. Diff",null,"g/L Ratio","AC Ratio",null,"X*Y","X2","Y2",null,"R2/RSD",{"$f":"IF(AND(S160=1,T160=1,U160=1),ROUND(STDEV(I160:I169)*100/AVERAGE(I160:I169),1),ROUND(AVERAGE(S160:S169)^2/(AVERAGE(T160:T169)*AVERAGE(U160:U169)),4))","v":{"$error":"#DIV/0!"}}]
[{"$f":"IF(CalInfo!$A$4=\"\",\"\",CalInfo!$A$4)","v":""},{"$f":"IF(A160=\"\",\"\",IF(ISERROR(MATCH(A160,$A$3:A159,FALSE)),A160,A160&\" a\"))","v":""},null,null,{"$f":"IF(A160=\"\",\"\",INDEX('Cal Prep'!$1:$21,MATCH($E$158,'Cal Prep'!L:L,FALSE),MATCH(A160,'Cal Prep'!$1:$1,FALSE)+3))","v":""},{"$f":"IF(A160=\"\",\"\",SUMIF('Cal Data'!$C$7:$C$202,\"=\"&$E$158,'Cal Data'!$B$7:$B$202))","v":""},null,{"$f":"IF(A160=\"\",\"\",INDEX('Cal Prep'!$1:$21,MATCH(INDEX(CalInfo!$B$19:$B$33,MATCH(\"Internal Standard\",CalInfo!$A$19:$A$33,FALSE)),'Cal Prep'!L:L,FALSE),MATCH(A160,'Cal Prep'!$1:$1,FALSE)+3))","v":""},{"$f":"IF(A160=\"\",\"\",SUMIF('Cal Data'!$C$7:$C$202,\"=\"&INDEX(CalInfo!$B$19:$B$33,MATCH(\"Internal Standard\",CalInfo!$A$19:$A$33,FALSE)),'Cal Data'!$B$7:$B$202))","v":""},null,{"$f":"IF(A160=\"\",\"\",IF(AND(S160=1,T160=1,U160=1),(I160*100/$X$158)/H160,(F160/I160)*(H160/$X$158)*100/E160))","v":""},{"$f":"TEXT(K160,\"0.0\")","v":""},{"$f":"IF(A160=\"\",\"\",IF(AND(S160=1,T160=1,U160=1),ABS(H160-(I160/$X$158)),ABS(E160-(F160/I160)*(H160/$X$158))))","v":""},{"$f":"TEXT(M160,\"0.00\")","v":""},null,{"$f":"IF(A160=\"\",\"\",E160/H160)","v":""},{"$f":"IF(A160=\"\",\"\",F160/I160)","v":""},null,{"$f":"IF(A160=\"\",\"\",P160*Q160)","v":""},{"$f":"IF(A160=\"\",\"\",P160^2)","v":""},{"$f":"IF(A160=\"\",\"\",Q160^2)","v":""},null,"Levels",{"$f":"LEFT(A160&\"/\"&A161&\"/\"&A162&\"/\"&A163&\"/\"&A164&\"/\"&A165&\"/\"&A166&\"/\"&A167&\"/\"&A168&\"/\"&A169,LEN(A160&\"/\"&A161&\"/\"&A162&\"/\"&A163&\"/\"&A164&\"/\"&A165&\"/\"&A166&\"/\"&A167&\"/\"&A168&\"/\"&A169)-(10-COUNT(A160:A169)))","v":{"$error":"#VALUE!"}}]
[{"$f":"IF(CalInfo!$A$4=\"\",\"\",CalInfo!$A$4)","v":""},{"$f":"IF(A161=\"\",\"\",IF(ISERROR(MATCH(A161,$A$3:A160,FALSE)),A161,A161&\" a\"))","v":""},null,null,{"$f":"IF(A161=\"\",\"\",INDEX('Cal Prep'!$1:$21,MATCH($E$158,'Cal Prep'!L:L,FALSE),MATCH(A161,'Cal Prep'!$1:$1,FALSE)+3))","v":""},{"$f":"IF(A161=\"\",\"\",SUMIF('Cal Data'!$G$7:$G$202,\"=\"&$E$158,'Cal Data'!$F$7:$F$202))","v":""},null,{"$f":"IF(A161=\"\",\"\",INDEX('Cal Prep'!$1:$21,MATCH(INDEX(CalInfo!$B$19:$B$33,MATCH(\"Internal Standard\",CalInfo!$A$19:$A$33,FALSE)),'Cal Prep'!L:L,FALSE),MATCH(A161,'Cal Prep'!$1:$1,FALSE)+3))","v":""},{"$f":"IF(A161=\"\",\"\",SUMIF('Cal Data'!$G$7:$G$202,\"=\"&INDEX(CalInfo!$B$19:$B$33,MATCH(\"Internal Standard\",CalInfo!$A$19:$A$33,FALSE)),'Cal Data'!$F$7:$F$202))","v":""},null,{"$f":"IF(A161=\"\",\"\",IF(AND(S161=1,T161=1,U161=1),(I161*100/$X$158)/H161,(F161/I161)*(H161/$X$158)*100/E161))","v":""},{"$f":"TEXT(K161,\"0.0\")","v":""},{"$f":"IF(A161=\"\",\"\",IF(AND(S161=1,T161=1,U161=1),ABS(H161-(I161/$X$158)),ABS(E161-(F161/I161)*(H161/$X$158))))","v":""},{"$f":"TEXT(M161,\"0.00\")","v":""},null,{"$f":"IF(A161=\"\",\"\",E161/H161)","v":""},{"$f":"IF(A161=\"\",\"\",F161/I161)","v":""},null,{"$f":"IF(A161=\"\",\"\",P161*Q161)","v":""},{"$f":"IF(A161=\"\",\"\",P161^2)","v":""},{"$f":"IF(A161=\"\",\"\",Q161^2)","v":""},null,"% R",{"$f":"LEFT(L160&\"/\"&L161&\"/\"&L162&\"/\"&L163&\"/\"&L164&\"/\"&L165&\"/\"&L166&\"/\"&L167&\"/\"&L168&\"/\"&L169,LEN(L160&\"/\"&L161&\"/\"&L162&\"/\"&L163&\"/\"&L164&\"/\"&L165&\"/\"&L166&\"/\"&L167&\"/\"&L168&\"/\"&L169)-(10-COUNT(A160:A169)))","v":{"$error":"#VALUE!"}}]
[{"$f":"IF(CalInfo!$A$5=\"\",\"\",CalInfo!$A$5)","v":""},{"$f":"IF(A162=\"\",\"\",IF(ISERROR(MATCH(A162,$A$3:A161,FALSE)),A162,A162&\" a\"))","v":""},null,null,{"$f":"IF(A162=\"\",\"\",INDEX('Cal Prep'!$1:$21,MATCH($E$158,'Cal Prep'!L:L,FALSE),MATCH(A162,'Cal Prep'!$1:$1,FALSE)+3))","v":""},{"$f":"IF(A162=\"\",\"\",SUMIF('Cal Data'!$K$7:$K$202,\"=\"&$E$158,'Cal Data'!$J$7:$J$202))","v":""},null,{"$f":"IF(A162=\"\",\"\",INDEX('Cal Prep'!$1:$21,MATCH(INDEX(CalInfo!$B$19:$B$33,MATCH(\"Internal Standard\",CalInfo!$A$19:$A$33,FALSE)),'Cal Prep'!L:L,FALSE),MATCH(A162,'Cal Prep'!$1:$1,FALSE)+3))","v":""},{"$f":"IF(A162=\"\",\"\",SUMIF('Cal Data'!$K$7:$K$202,\"=\"&INDEX(CalInfo!$B$19:$B$33,MATCH(\"Internal Standard\",CalInfo!$A$19:$A$33,FALSE)),'Cal Data'!$J$7:$J$202))","v":""},null,"","","","",null,"","",null,"","","",null,"ABS D",{"$f":"LEFT(N160&\"/\"&N161&\"/\"&N162&\"/\"&N163&\"/\"&N164&\"/\"&N165&\"/\"&N166&\"/\"&N167&\"/\"&N168&\"/\"&N169,LEN(N160&\"/\"&N161&\"/\"&N162&\"/\"&N163&\"/\"&N164&\"/\"&N165&\"/\"&N166&\"/\"&N167&\"/\"&N168&\"/\"&N169)-(10-COUNT(A160:A169)))","v":{"$error":"#VALUE!"}}]
[{"$f":"IF(CalInfo!$A$5=\"\",\"\",CalInfo!$A$5)","v":""},{"$f":"IF(A163=\"\",\"\",IF(ISERROR(MATCH(A163,$A$3:A162,FALSE)),A163,A163&\" a\"))","v":""},null,null,{"$f":"IF(A163=\"\",\"\",INDEX('Cal Prep'!$1:$21,MATCH($E$158,'Cal Prep'!L:L,FALSE),MATCH(A163,'Cal Prep'!$1:$1,FALSE)+3))","v":""},{"$f":"IF(A163=\"\",\"\",SUMIF('Cal Data'!$O$7:$O$202,\"=\"&$E$158,'Cal Data'!$N$7:$N$202))","v":""},null,{"$f":"IF(A163=\"\",\"\",INDEX('Cal Prep'!$1:$21,MATCH(INDEX(CalInfo!$B$19:$B$33,MATCH(\"Internal Standard\",CalInfo!$A$19:$A$33,FALSE)),'Cal Prep'!L:L,FALSE),MATCH(A163,'Cal Prep'!$1:$1,FALSE)+3))","v":""},{"$f":"IF(A163=\"\",\"\",SUMIF('Cal Data'!$O$7:$O$202,\"=\"&INDEX(CalInfo!$B$19:$B$33,MATCH(\"Internal Standard\",CalInfo!$A$19:$A$33,FALSE)),'Cal Data'!$N$7:$N$202))","v":""},null,"","","","",null,"","",null,"","",""]
[{"$f":"IF(CalInfo!$A$6=\"\",\"\",CalInfo!$A$6)","v":""},{"$f":"IF(A164=\"\",\"\",IF(ISERROR(MATCH(A164,$A$3:A163,FALSE)),A164,A164&\" a\"))","v":""},null,null,{"$f":"IF(A164=\"\",\"\",INDEX('Cal Prep'!$1:$21,MATCH($E$158,'Cal Prep'!L:L,FALSE),MATCH(A164,'Cal Prep'!$1:$1,FALSE)+3))","v":""},{"$f":"IF(A164=\"\",\"\",SUMIF('Cal Data'!$S$7:$S$202,\"=\"&$E$158,'Cal Data'!$R$7:$R$202))","v":""},null,{"$f":"IF(A164=\"\",\"\",INDEX('Cal Prep'!$1:$21,MATCH(INDEX(CalInfo!$B$19:$B$33,MATCH(\"Internal Standard\",CalInfo!$A$19:$A$33,FALSE)),'Cal Prep'!L:L,FALSE),MATCH(A164,'Cal Prep'!$1:$1,FALSE)+3))","v":""},{"$f":"IF(A164=\"\",\"\",SUMIF('Cal Data'!$O$7:$O$202,\"=\"&INDEX(CalInfo!$B$19:$B$33,MATCH(\"Internal Standard\",CalInfo!$A$19:$A$33,FALSE)),'Cal Data'!$N$7:$N$202))","v":""},null,"",null,"","",null,"","",null,"","",""]
[{"$f":"IF(CalInfo!$A$6=\"\",\"\",CalInfo!$A$6)","v":""},{"$f":"IF(A165=\"\",\"\",IF(ISERROR(MATCH(A165,$A$3:A164,FALSE)),A165,A165&\" a\"))","v":""},null,null,{"$f":"IF(A165=\"\",\"\",INDEX('Cal Prep'!$1:$21,MATCH($E$158,'Cal Prep'!L:L,FALSE),MATCH(A165,'Cal Prep'!$1:$1,FALSE)+3))","v":""},{"$f":"IF(A165=\"\",\"\",SUMIF('Cal Data'!$W$7:$W$202,\"=\"&$E$158,'Cal Data'!$V$7:$V$202))","v":""},null,{"$f":"IF(A165=\"\",\"\",INDEX('Cal Prep'!$1:$21,MATCH(INDEX(CalInfo!$B$19:$B$33,MATCH(\"Internal Standard\",CalInfo!$A$19:$A$33,FALSE)),'Cal Prep'!L:L,FALSE),MATCH(A165,'Cal Prep'!$1:$1,FALSE)+3))","v":""},{"$f":"IF(A165=\"\",\"\",SUMIF('Cal Data'!$O$7:$O$202,\"=\"&INDEX(CalInfo!$B$19:$B$33,MATCH(\"Internal Standard\",CalInfo!$A$19:$A$33,FALSE)),'Cal Data'!$N$7:$N$202))","v":""},null,"",null,"","",null,"","",null,"","",""]
[{"$f":"IF(CalInfo!$A$7=\"\",\"\",CalInfo!$A$7)","v":""},{"$f":"IF(A166=\"\",\"\",IF(ISERROR(MATCH(A166,$A$3:A165,FALSE)),A166,A166&\" a\"))","v":""},null,null,{"$f":"IF(A166=\"\",\"\",INDEX('Cal Prep'!$1:$21,MATCH($E$158,'Cal Prep'!L:L,FALSE),MATCH(A166,'Cal Prep'!$1:$1,FALSE)+3))","v":""},{"$f":"IF(A166=\"\",\"\",SUMIF('Cal Data'!$AA$7:$AA$202,\"=\"&$E$158,'Cal Data'!$Z$7:$Z$202))","v":""},null,{"$f":"IF(A166=\"\",\"\",INDEX('Cal Prep'!$1:$21,MATCH(INDEX(CalInfo!$B$19:$B$33,MATCH(\"Internal Standard\",CalInfo!$A$19:$A$33,FALSE)),'Cal Prep'!L:L,FALSE),MATCH(A166,'Cal Prep'!$1:$1,FALSE)+3))","v":""},{"$f":"IF(A166=\"\",\"\",SUMIF('Cal Data'!$O$7:$O$202,\"=\"&INDEX(CalInfo!$B$19:$B$33,MATCH(\"Internal Standard\",CalInfo!$A$19:$A$33,FALSE)),'Cal Data'!$N$7:$N$202))","v":""},null,"",null,"","",null,"","",null,"","",""]
[{"$f":"IF(CalInfo!$A$7=\"\",\"\",CalInfo!$A$7)","v":""},{"$f":"IF(A167=\"\",\"\",IF(ISERROR(MATCH(A167,$A$3:A166,FALSE)),A167,A167&\" a\"))","v":""},null,null,{"$f":"IF(A167=\"\",\"\",INDEX('Cal Prep'!$1:$21,MATCH($E$158,'Cal Prep'!L:L,FALSE),MATCH(A167,'Cal Prep'!$1:$1,FALSE)+3))","v":""},{"$f":"IF(A167=\"\",\"\",SUMIF('Cal Data'!$AE$7:$AE$202,\"=\"&$E$158,'Cal Data'!$AD$7:$AD$202))","v":""},null,{"$f":"IF(A167=\"\",\"\",INDEX('Cal Prep'!$1:$21,MATCH(INDEX(CalInfo!$B$19:$B$33,MATCH(\"Internal Standard\",CalInfo!$A$19:$A$33,FALSE)),'Cal Prep'!L:L,FALSE),MATCH(A167,'Cal Prep'!$1:$1,FALSE)+3))","v":""},{"$f":"IF(A167=\"\",\"\",SUMIF('Cal Data'!$O$7:$O$202,\"=\"&INDEX(CalInfo!$B$19:$B$33,MATCH(\"Internal Standard\",CalInfo!$A$19:$A$33,FALSE)),'Cal Data'!$N$7:$N$202))","v":""},null,"",null,"","",null,"","",null,"","",""]
[{"$f":"IF(CalInfo!$A$8=\"\",\"\",CalInfo!$A$8)","v":""},{"$f":"IF(A168=\"\",\"\",IF(ISERROR(MATCH(A168,$A$3:A167,FALSE)),A168,A168&\" a\"))","v":""},null,null,{"$f":"IF(A168=\"\",\"\",INDEX('Cal Prep'!$1:$21,MATCH($E$158,'Cal Prep'!L:L,FALSE),MATCH(A168,'Cal Prep'!$1:$1,FALSE)+3))","v":""},{"$f":"IF(A168=\"\",\"\",SUMIF('Cal Data'!$AI$7:$AI$202,\"=\"&$E$158,'Cal Data'!$AH$7:$AH$202))","v":""},null,{"$f":"IF(A168=\"\",\"\",INDEX('Cal Prep'!$1:$21,MATCH(INDEX(CalInfo!$B$19:$B$33,MATCH(\"Internal Standard\",CalInfo!$A$19:$A$33,FALSE)),'Cal Prep'!L:L,FALSE),MATCH(A168,'Cal Prep'!$1:$1,FALSE)+3))","v":""},{"$f":"IF(A168=\"\",\"\",SUMIF('Cal Data'!$O$7:$O$202,\"=\"&INDEX(CalInfo!$B$19:$B$33,MATCH(\"Internal Standard\",CalInfo!$A$19:$A$33,FALSE)),'Cal Data'!$N$7:$N$202))","v":""},null,"",null,"","",null,"","",null,"","",""]
[{"$f":"IF(CalInfo!$A$8=\"\",\"\",CalInfo!$A$8)","v":""},{"$f":"IF(A169=\"\",\"\",IF(ISERROR(MATCH(A169,$A$3:A168,FALSE)),A169,A169&\" a\"))","v":""},null,null,{"$f":"IF(A169=\"\",\"\",INDEX('Cal Prep'!$1:$21,MATCH($E$158,'Cal Prep'!L:L,FALSE),MATCH(A169,'Cal Prep'!$1:$1,FALSE)+3))","v":""},{"$f":"IF(A169=\"\",\"\",SUMIF('Cal Data'!$AM$7:$AM$202,\"=\"&$E$158,'Cal Data'!$AL$7:$AL$202))","v":""},null,{"$f":"IF(A169=\"\",\"\",INDEX('Cal Prep'!$1:$21,MATCH(INDEX(CalInfo!$B$19:$B$33,MATCH(\"Internal Standard\",CalInfo!$A$19:$A$33,FALSE)),'Cal Prep'!L:L,FALSE),MATCH(A169,'Cal Prep'!$1:$1,FALSE)+3))","v":""},{"$f":"IF(A169=\"\",\"\",SUMIF('Cal Data'!$O$7:$O$202,\"=\"&INDEX(CalInfo!$B$19:$B$33,MATCH(\"Internal Standard\",CalInfo!$A$19:$A$33,FALSE)),'Cal Data'!$N$7:$N$202))","v":""},null,"",null,"","",null,"","",null,"","",""]

{"sheet":"CalExport","index":5,"n_rows":30,"n_cols":13,"rows_kept":30,"cut":false,"hidden":false,"merged":[[0,1,1,8]]}
[{"$f":"MAX(RRFs!A:A)+2","v":2},"Calibration Summary"]
[]
[]
[{"$f":"IF(C4=\"Yes\",MAX(CalInfo!$K$19:$K$33)+1,MAX((CalInfo!$K$19:$K$33)))","v":0},"Set Internal Standard RF?"]
[]
[null,"Compound","CAS #","CAS #","RF/RRF","R2/RSD","MFG","Lot #","Purity","Density (g/mL)","Levels","% R","ABS D"]
[{"$f":"IF(MAX($A$6:A6)<$A$4,MAX($A$6:A6)+1,\"\")","v":""},{"$f":"IF(A7=\"\",\"\",IF(AND(ISNUMBER(A7),ISERROR(INDEX(CalInfo!$B$19:$B$33,MATCH(\"Compound \"&A7,CalInfo!$L$19:$L$33,FALSE))),$C$4=\"yes\"),INDEX(CalInfo!$B$19:$B$33,MATCH(\"Internal Standard\",CalInfo!$A$19:$A$33,FALSE)),INDEX(CalInfo!$B$19:$B$33,MATCH(\"Compound \"&A7,CalInfo!$L$19:$L$33,FALSE))))","v":""},{"$f":"IF(B7=\"\",\"\",INDEX(CalInfo!$I$19:$I$33,MATCH(B7,CalInfo!$B$19:$B$33,FALSE)))","v":""},{"$f":"IF(B7=\"\",\"\",LEFT(C7,LEN(C7)-3)&\"-\"&MID(C7,LEN(LEFT(C7,LEN(C7)-3))+1,2)&\"-\"&RIGHT(C7,1))","v":""},{"$f":"IF(B7=\"\",\"\",INDEX(CalSummary!X:X,MATCH(CalExport!B7,CalSummary!E:E,FALSE)))","v":""},{"$f":"IF(B7=\"\",\"\",INDEX(CalSummary!X:X,MATCH(CalExport!B7,CalSummary!E:E,FALSE)+1))","v":""},{"$f":"IF(B7=\"\",\"\",INDEX(CalInfo!$F$19:$F$33,MATCH(B7,CalInfo!$B$19:$B$33,FALSE)))","v":""},{"$f":"IF(B7=\"\",\"\",INDEX(CalInfo!$G$19:$G$33,MATCH(B7,CalInfo!$B$19:$B$33,FALSE)))","v":""},{"$f":"IF(B7=\"\",\"\",INDEX(CalInfo!$J$19:$J$33,MATCH(B7,CalInfo!$B$19:$B$33,FALSE)))","v":""},{"$f":"IF(B7=\"\",\"\",INDEX(CalInfo!$H$19:$H$33,MATCH(B7,CalInfo!$B$19:$B$33,FALSE)))","v":""},{"$f":"IF(B7=\"\",\"\",INDEX(CalSummary!X:X,MATCH(CalExport!B7,CalSummary!E:E,FALSE)+2))","v":""},{"$f":"IF(B7=\"\",\"\",INDEX(CalSummary!X:X,MATCH(CalExport!B7,CalSummary!E:E,FALSE)+3))","v":""},{"$f":"IF(B7=\"\",\"\",INDEX(CalSummary!X:X,MATCH(CalExport!B7,CalSummary!E:E,FALSE)+4))","v":""}]
[{"$f":"IF(MAX($A$6:A7)<$A$4,MAX($A$6:A7)+1,\"\")","v":""},{"$f":"IF(A8=\"\",\"\",IF(AND(ISNUMBER(A8),ISERROR(INDEX(CalInfo!$B$19:$B$33,MATCH(\"Compound \"&A8,CalInfo!$L$19:$L$33,FALSE))),$C$4=\"yes\"),INDEX(CalInfo!$B$19:$B$33,MATCH(\"Internal Standard\",CalInfo!$A$19:$A$33,FALSE)),INDEX(CalInfo!$B$19:$B$33,MATCH(\"Compound \"&A8,CalInfo!$L$19:$L$33,FALSE))))","v":""},{"$f":"IF(B8=\"\",\"\",INDEX(CalInfo!$I$19:$I$33,MATCH(B8,CalInfo!$B$19:$B$33,FALSE)))","v":""},{"$f":"IF(B8=\"\",\"\",LEFT(C8,LEN(C8)-3)&\"-\"&MID(C8,LEN(LEFT(C8,LEN(C8)-3))+1,2)&\"-\"&RIGHT(C8,1))","v":""},{"$f":"IF(B8=\"\",\"\",INDEX(CalSummary!X:X,MATCH(CalExport!B8,CalSummary!E:E,FALSE)))","v":""},{"$f":"IF(B8=\"\",\"\",INDEX(CalSummary!X:X,MATCH(CalExport!B8,CalSummary!E:E,FALSE)+1))","v":""},{"$f":"IF(B8=\"\",\"\",INDEX(CalInfo!$F$19:$F$33,MATCH(B8,CalInfo!$B$19:$B$33,FALSE)))","v":""},{"$f":"IF(B8=\"\",\"\",INDEX(CalInfo!$G$19:$G$33,MATCH(B8,CalInfo!$B$19:$B$33,FALSE)))","v":""},{"$f":"IF(B8=\"\",\"\",INDEX(CalInfo!$J$19:$J$33,MATCH(B8,CalInfo!$B$19:$B$33,FALSE)))","v":""},{"$f":"IF(B8=\"\",\"\",INDEX(CalInfo!$H$19:$H$33,MATCH(B8,CalInfo!$B$19:$B$33,FALSE)))","v":""},{"$f":"IF(B8=\"\",\"\",INDEX(CalSummary!X:X,MATCH(CalExport!B8,CalSummary!E:E,FALSE)+2))","v":""},{"$f":"IF(B8=\"\",\"\",INDEX(CalSummary!X:X,MATCH(CalExport!B8,CalSummary!E:E,FALSE)+3))","v":""},{"$f":"IF(B8=\"\",\"\",INDEX(CalSummary!X:X,MATCH(CalExport!B8,CalSummary!E:E,FALSE)+4))","v":""}]
[{"$f":"IF(MAX($A$6:A8)<$A$4,MAX($A$6:A8)+1,\"\")","v":""},{"$f":"IF(A9=\"\",\"\",IF(AND(ISNUMBER(A9),ISERROR(INDEX(CalInfo!$B$19:$B$33,MATCH(\"Compound \"&A9,CalInfo!$L$19:$L$33,FALSE))),$C$4=\"yes\"),INDEX(CalInfo!$B$19:$B$33,MATCH(\"Internal Standard\",CalInfo!$A$19:$A$33,FALSE)),INDEX(CalInfo!$B$19:$B$33,MATCH(\"Compound \"&A9,CalInfo!$L$19:$L$33,FALSE))))","v":""},{"$f":"IF(B9=\"\",\"\",INDEX(CalInfo!$I$19:$I$33,MATCH(B9,CalInfo!$B$19:$B$33,FALSE)))","v":""},"",{"$f":"IF(B9=\"\",\"\",INDEX(CalSummary!X:X,MATCH(CalExport!B9,CalSummary!E:E,FALSE)))","v":""},{"$f":"IF(B9=\"\",\"\",INDEX(CalSummary!X:X,MATCH(CalExport!B9,CalSummary!E:E,FALSE)+1))","v":""},{"$f":"IF(B9=\"\",\"\",INDEX(CalInfo!$F$19:$F$33,MATCH(B9,CalInfo!$B$19:$B$33,FALSE)))","v":""},{"$f":"IF(B9=\"\",\"\",INDEX(CalInfo!$G$19:$G$33,MATCH(B9,CalInfo!$B$19:$B$33,FALSE)))","v":""},{"$f":"IF(B9=\"\",\"\",INDEX(CalInfo!$J$19:$J$33,MATCH(B9,CalInfo!$B$19:$B$33,FALSE)))","v":""},{"$f":"IF(B9=\"\",\"\",INDEX(CalInfo!$H$19:$H$33,MATCH(B9,CalInfo!$B$19:$B$33,FALSE)))","v":""},{"$f":"IF(B9=\"\",\"\",INDEX(CalSummary!X:X,MATCH(CalExport!B9,CalSummary!E:E,FALSE)+2))","v":""},{"$f":"IF(B9=\"\",\"\",INDEX(CalSummary!X:X,MATCH(CalExport!B9,CalSummary!E:E,FALSE)+3))","v":""},{"$f":"IF(B9=\"\",\"\",INDEX(CalSummary!X:X,MATCH(CalExport!B9,CalSummary!E:E,FALSE)+4))","v":""}]
[{"$f":"IF(MAX($A$6:A9)<$A$4,MAX($A$6:A9)+1,\"\")","v":""},{"$f":"IF(A10=\"\",\"\",IF(AND(ISNUMBER(A10),ISERROR(INDEX(CalInfo!$B$19:$B$33,MATCH(\"Compound \"&A10,CalInfo!$L$19:$L$33,FALSE))),$C$4=\"yes\"),INDEX(CalInfo!$B$19:$B$33,MATCH(\"Internal Standard\",CalInfo!$A$19:$A$33,FALSE)),INDEX(CalInfo!$B$19:$B$33,MATCH(\"Compound \"&A10,CalInfo!$L$19:$L$33,FALSE))))","v":""},{"$f":"IF(B10=\"\",\"\",INDEX(CalInfo!$I$19:$I$33,MATCH(B10,CalInfo!$B$19:$B$33,FALSE)))","v":""},"",{"$f":"IF(B10=\"\",\"\",INDEX(CalSummary!X:X,MATCH(CalExport!B10,CalSummary!E:E,FALSE)))","v":""},{"$f":"IF(B10=\"\",\"\",INDEX(CalSummary!X:X,MATCH(CalExport!B10,CalSummary!E:E,FALSE)+1))","v":""},{"$f":"IF(B10=\"\",\"\",INDEX(CalInfo!$F$19:$F$33,MATCH(B10,CalInfo!$B$19:$B$33,FALSE)))","v":""},{"$f":"IF(B10=\"\",\"\",INDEX(CalInfo!$G$19:$G$33,MATCH(B10,CalInfo!$B$19:$B$33,FALSE)))","v":""},{"$f":"IF(B10=\"\",\"\",INDEX(CalInfo!$J$19:$J$33,MATCH(B10,CalInfo!$B$19:$B$33,FALSE)))","v":""},{"$f":"IF(B10=\"\",\"\",INDEX(CalInfo!$H$19:$H$33,MATCH(B10,CalInfo!$B$19:$B$33,FALSE)))","v":""},{"$f":"IF(B10=\"\",\"\",INDEX(CalSummary!X:X,MATCH(CalExport!B10,CalSummary!E:E,FALSE)+2))","v":""},{"$f":"IF(B10=\"\",\"\",INDEX(CalSummary!X:X,MATCH(CalExport!B10,CalSummary!E:E,FALSE)+3))","v":""},{"$f":"IF(B10=\"\",\"\",INDEX(CalSummary!X:X,MATCH(CalExport!B10,CalSummary!E:E,FALSE)+4))","v":""}]
[{"$f":"IF(MAX($A$6:A10)<$A$4,MAX($A$6:A10)+1,\"\")","v":""},{"$f":"IF(A11=\"\",\"\",IF(AND(ISNUMBER(A11),ISERROR(INDEX(CalInfo!$B$19:$B$33,MATCH(\"Compound \"&A11,CalInfo!$L$19:$L$33,FALSE))),$C$4=\"yes\"),INDEX(CalInfo!$B$19:$B$33,MATCH(\"Internal Standard\",CalInfo!$A$19:$A$33,FALSE)),INDEX(CalInfo!$B$19:$B$33,MATCH(\"Compound \"&A11,CalInfo!$L$19:$L$33,FALSE))))","v":""},{"$f":"IF(B11=\"\",\"\",INDEX(CalInfo!$I$19:$I$33,MATCH(B11,CalInfo!$B$19:$B$33,FALSE)))","v":""},"",{"$f":"IF(B11=\"\",\"\",INDEX(CalSummary!X:X,MATCH(CalExport!B11,CalSummary!E:E,FALSE)))","v":""},{"$f":"IF(B11=\"\",\"\",INDEX(CalSummary!X:X,MATCH(CalExport!B11,CalSummary!E:E,FALSE)+1))","v":""},{"$f":"IF(B11=\"\",\"\",INDEX(CalInfo!$F$19:$F$33,MATCH(B11,CalInfo!$B$19:$B$33,FALSE)))","v":""},{"$f":"IF(B11=\"\",\"\",INDEX(CalInfo!$G$19:$G$33,MATCH(B11,CalInfo!$B$19:$B$33,FALSE)))","v":""},{"$f":"IF(B11=\"\",\"\",INDEX(CalInfo!$J$19:$J$33,MATCH(B11,CalInfo!$B$19:$B$33,FALSE)))","v":""},{"$f":"IF(B11=\"\",\"\",INDEX(CalInfo!$H$19:$H$33,MATCH(B11,CalInfo!$B$19:$B$33,FALSE)))","v":""},{"$f":"IF(B11=\"\",\"\",INDEX(CalSummary!X:X,MATCH(CalExport!B11,CalSummary!E:E,FALSE)+2))","v":""},{"$f":"IF(B11=\"\",\"\",INDEX(CalSummary!X:X,MATCH(CalExport!B11,CalSummary!E:E,FALSE)+3))","v":""},{"$f":"IF(B11=\"\",\"\",INDEX(CalSummary!X:X,MATCH(CalExport!B11,CalSummary!E:E,FALSE)+4))","v":""}]
[{"$f":"IF(MAX($A$6:A11)<$A$4,MAX($A$6:A11)+1,\"\")","v":""},{"$f":"IF(A12=\"\",\"\",IF(AND(ISNUMBER(A12),ISERROR(INDEX(CalInfo!$B$19:$B$33,MATCH(\"Compound \"&A12,CalInfo!$L$19:$L$33,FALSE))),$C$4=\"yes\"),INDEX(CalInfo!$B$19:$B$33,MATCH(\"Internal Standard\",CalInfo!$A$19:$A$33,FALSE)),INDEX(CalInfo!$B$19:$B$33,MATCH(\"Compound \"&A12,CalInfo!$L$19:$L$33,FALSE))))","v":""},{"$f":"IF(B12=\"\",\"\",INDEX(CalInfo!$I$19:$I$33,MATCH(B12,CalInfo!$B$19:$B$33,FALSE)))","v":""},"",{"$f":"IF(B12=\"\",\"\",INDEX(CalSummary!X:X,MATCH(CalExport!B12,CalSummary!E:E,FALSE)))","v":""},{"$f":"IF(B12=\"\",\"\",INDEX(CalSummary!X:X,MATCH(CalExport!B12,CalSummary!E:E,FALSE)+1))","v":""},{"$f":"IF(B12=\"\",\"\",INDEX(CalInfo!$F$19:$F$33,MATCH(B12,CalInfo!$B$19:$B$33,FALSE)))","v":""},{"$f":"IF(B12=\"\",\"\",INDEX(CalInfo!$G$19:$G$33,MATCH(B12,CalInfo!$B$19:$B$33,FALSE)))","v":""},{"$f":"IF(B12=\"\",\"\",INDEX(CalInfo!$J$19:$J$33,MATCH(B12,CalInfo!$B$19:$B$33,FALSE)))","v":""},{"$f":"IF(B12=\"\",\"\",INDEX(CalInfo!$H$19:$H$33,MATCH(B12,CalInfo!$B$19:$B$33,FALSE)))","v":""},{"$f":"IF(B12=\"\",\"\",INDEX(CalSummary!X:X,MATCH(CalExport!B12,CalSummary!E:E,FALSE)+2))","v":""},{"$f":"IF(B12=\"\",\"\",INDEX(CalSummary!X:X,MATCH(CalExport!B12,CalSummary!E:E,FALSE)+3))","v":""},{"$f":"IF(B12=\"\",\"\",INDEX(CalSummary!X:X,MATCH(CalExport!B12,CalSummary!E:E,FALSE)+4))","v":""}]
[{"$f":"IF(MAX($A$6:A12)<$A$4,MAX($A$6:A12)+1,\"\")","v":""},{"$f":"IF(A13=\"\",\"\",IF(AND(ISNUMBER(A13),ISERROR(INDEX(CalInfo!$B$19:$B$33,MATCH(\"Compound \"&A13,CalInfo!$L$19:$L$33,FALSE))),$C$4=\"yes\"),INDEX(CalInfo!$B$19:$B$33,MATCH(\"Internal Standard\",CalInfo!$A$19:$A$33,FALSE)),INDEX(CalInfo!$B$19:$B$33,MATCH(\"Compound \"&A13,CalInfo!$L$19:$L$33,FALSE))))","v":""},{"$f":"IF(B13=\"\",\"\",INDEX(CalInfo!$I$19:$I$33,MATCH(B13,CalInfo!$B$19:$B$33,FALSE)))","v":""},"",{"$f":"IF(B13=\"\",\"\",INDEX(CalSummary!X:X,MATCH(CalExport!B13,CalSummary!E:E,FALSE)))","v":""},{"$f":"IF(B13=\"\",\"\",INDEX(CalSummary!X:X,MATCH(CalExport!B13,CalSummary!E:E,FALSE)+1))","v":""},{"$f":"IF(B13=\"\",\"\",INDEX(CalInfo!$F$19:$F$33,MATCH(B13,CalInfo!$B$19:$B$33,FALSE)))","v":""},{"$f":"IF(B13=\"\",\"\",INDEX(CalInfo!$G$19:$G$33,MATCH(B13,CalInfo!$B$19:$B$33,FALSE)))","v":""},{"$f":"IF(B13=\"\",\"\",INDEX(CalInfo!$J$19:$J$33,MATCH(B13,CalInfo!$B$19:$B$33,FALSE)))","v":""},{"$f":"IF(B13=\"\",\"\",INDEX(CalInfo!$H$19:$H$33,MATCH(B13,CalInfo!$B$19:$B$33,FALSE)))","v":""},{"$f":"IF(B13=\"\",\"\",INDEX(CalSummary!X:X,MATCH(CalExport!B13,CalSummary!E:E,FALSE)+2))","v":""},{"$f":"IF(B13=\"\",\"\",INDEX(CalSummary!X:X,MATCH(CalExport!B13,CalSummary!E:E,FALSE)+3))","v":""},{"$f":"IF(B13=\"\",\"\",INDEX(CalSummary!X:X,MATCH(CalExport!B13,CalSummary!E:E,FALSE)+4))","v":""}]
[{"$f":"IF(MAX($A$6:A13)<$A$4,MAX($A$6:A13)+1,\"\")","v":""},{"$f":"IF(A14=\"\",\"\",IF(AND(ISNUMBER(A14),ISERROR(INDEX(CalInfo!$B$19:$B$33,MATCH(\"Compound \"&A14,CalInfo!$L$19:$L$33,FALSE))),$C$4=\"yes\"),INDEX(CalInfo!$B$19:$B$33,MATCH(\"Internal Standard\",CalInfo!$A$19:$A$33,FALSE)),INDEX(CalInfo!$B$19:$B$33,MATCH(\"Compound \"&A14,CalInfo!$L$19:$L$33,FALSE))))","v":""},{"$f":"IF(B14=\"\",\"\",INDEX(CalInfo!$I$19:$I$33,MATCH(B14,CalInfo!$B$19:$B$33,FALSE)))","v":""},"",{"$f":"IF(B14=\"\",\"\",INDEX(CalSummary!X:X,MATCH(CalExport!B14,CalSummary!E:E,FALSE)))","v":""},{"$f":"IF(B14=\"\",\"\",INDEX(CalSummary!X:X,MATCH(CalExport!B14,CalSummary!E:E,FALSE)+1))","v":""},{"$f":"IF(B14=\"\",\"\",INDEX(CalInfo!$F$19:$F$33,MATCH(B14,CalInfo!$B$19:$B$33,FALSE)))","v":""},{"$f":"IF(B14=\"\",\"\",INDEX(CalInfo!$G$19:$G$33,MATCH(B14,CalInfo!$B$19:$B$33,FALSE)))","v":""},{"$f":"IF(B14=\"\",\"\",INDEX(CalInfo!$J$19:$J$33,MATCH(B14,CalInfo!$B$19:$B$33,FALSE)))","v":""},{"$f":"IF(B14=\"\",\"\",INDEX(CalInfo!$H$19:$H$33,MATCH(B14,CalInfo!$B$19:$B$33,FALSE)))","v":""},{"$f":"IF(B14=\"\",\"\",INDEX(CalSummary!X:X,MATCH(CalExport!B14,CalSummary!E:E,FALSE)+2))","v":""},{"$f":"IF(B14=\"\",\"\",INDEX(CalSummary!X:X,MATCH(CalExport!B14,CalSummary!E:E,FALSE)+3))","v":""},{"$f":"IF(B14=\"\",\"\",INDEX(CalSummary!X:X,MATCH(CalExport!B14,CalSummary!E:E,FALSE)+4))","v":""}]
[{"$f":"IF(MAX($A$6:A14)<$A$4,MAX($A$6:A14)+1,\"\")","v":""},{"$f":"IF(A15=\"\",\"\",IF(AND(ISNUMBER(A15),ISERROR(INDEX(CalInfo!$B$19:$B$33,MATCH(\"Compound \"&A15,CalInfo!$L$19:$L$33,FALSE))),$C$4=\"yes\"),INDEX(CalInfo!$B$19:$B$33,MATCH(\"Internal Standard\",CalInfo!$A$19:$A$33,FALSE)),INDEX(CalInfo!$B$19:$B$33,MATCH(\"Compound \"&A15,CalInfo!$L$19:$L$33,FALSE))))","v":""},{"$f":"IF(B15=\"\",\"\",INDEX(CalInfo!$I$19:$I$33,MATCH(B15,CalInfo!$B$19:$B$33,FALSE)))","v":""},"",{"$f":"IF(B15=\"\",\"\",INDEX(CalSummary!X:X,MATCH(CalExport!B15,CalSummary!E:E,FALSE)))","v":""},{"$f":"IF(B15=\"\",\"\",INDEX(CalSummary!X:X,MATCH(CalExport!B15,CalSummary!E:E,FALSE)+1))","v":""},{"$f":"IF(B15=\"\",\"\",INDEX(CalInfo!$F$19:$F$33,MATCH(B15,CalInfo!$B$19:$B$33,FALSE)))","v":""},{"$f":"IF(B15=\"\",\"\",INDEX(CalInfo!$G$19:$G$33,MATCH(B15,CalInfo!$B$19:$B$33,FALSE)))","v":""},{"$f":"IF(B15=\"\",\"\",INDEX(CalInfo!$J$19:$J$33,MATCH(B15,CalInfo!$B$19:$B$33,FALSE)))","v":""},{"$f":"IF(B15=\"\",\"\",INDEX(CalInfo!$H$19:$H$33,MATCH(B15,CalInfo!$B$19:$B$33,FALSE)))","v":""},{"$f":"IF(B15=\"\",\"\",INDEX(CalSummary!X:X,MATCH(CalExport!B15,CalSummary!E:E,FALSE)+2))","v":""},{"$f":"IF(B15=\"\",\"\",INDEX(CalSummary!X:X,MATCH(CalExport!B15,CalSummary!E:E,FALSE)+3))","v":""},{"$f":"IF(B15=\"\",\"\",INDEX(CalSummary!X:X,MATCH(CalExport!B15,CalSummary!E:E,FALSE)+4))","v":""}]
[{"$f":"IF(MAX($A$6:A15)<$A$4,MAX($A$6:A15)+1,\"\")","v":""},{"$f":"IF(A16=\"\",\"\",IF(AND(ISNUMBER(A16),ISERROR(INDEX(CalInfo!$B$19:$B$33,MATCH(\"Compound \"&A16,CalInfo!$L$19:$L$33,FALSE))),$C$4=\"yes\"),INDEX(CalInfo!$B$19:$B$33,MATCH(\"Internal Standard\",CalInfo!$A$19:$A$33,FALSE)),INDEX(CalInfo!$B$19:$B$33,MATCH(\"Compound \"&A16,CalInfo!$L$19:$L$33,FALSE))))","v":""},{"$f":"IF(B16=\"\",\"\",INDEX(CalInfo!$I$19:$I$33,MATCH(B16,CalInfo!$B$19:$B$33,FALSE)))","v":""},"",{"$f":"IF(B16=\"\",\"\",INDEX(CalSummary!X:X,MATCH(CalExport!B16,CalSummary!E:E,FALSE)))","v":""},{"$f":"IF(B16=\"\",\"\",INDEX(CalSummary!X:X,MATCH(CalExport!B16,CalSummary!E:E,FALSE)+1))","v":""},{"$f":"IF(B16=\"\",\"\",INDEX(CalInfo!$F$19:$F$33,MATCH(B16,CalInfo!$B$19:$B$33,FALSE)))","v":""},{"$f":"IF(B16=\"\",\"\",INDEX(CalInfo!$G$19:$G$33,MATCH(B16,CalInfo!$B$19:$B$33,FALSE)))","v":""},{"$f":"IF(B16=\"\",\"\",INDEX(CalInfo!$J$19:$J$33,MATCH(B16,CalInfo!$B$19:$B$33,FALSE)))","v":""},{"$f":"IF(B16=\"\",\"\",INDEX(CalInfo!$H$19:$H$33,MATCH(B16,CalInfo!$B$19:$B$33,FALSE)))","v":""},{"$f":"IF(B16=\"\",\"\",INDEX(CalSummary!X:X,MATCH(CalExport!B16,CalSummary!E:E,FALSE)+2))","v":""},{"$f":"IF(B16=\"\",\"\",INDEX(CalSummary!X:X,MATCH(CalExport!B16,CalSummary!E:E,FALSE)+3))","v":""},{"$f":"IF(B16=\"\",\"\",INDEX(CalSummary!X:X,MATCH(CalExport!B16,CalSummary!E:E,FALSE)+4))","v":""}]
[{"$f":"IF(MAX($A$6:A16)<$A$4,MAX($A$6:A16)+1,\"\")","v":""},{"$f":"IF(A17=\"\",\"\",IF(AND(ISNUMBER(A17),ISERROR(INDEX(CalInfo!$B$19:$B$33,MATCH(\"Compound \"&A17,CalInfo!$L$19:$L$33,FALSE))),$C$4=\"yes\"),INDEX(CalInfo!$B$19:$B$33,MATCH(\"Internal Standard\",CalInfo!$A$19:$A$33,FALSE)),INDEX(CalInfo!$B$19:$B$33,MATCH(\"Compound \"&A17,CalInfo!$L$19:$L$33,FALSE))))","v":""},{"$f":"IF(B17=\"\",\"\",INDEX(CalInfo!$I$19:$I$33,MATCH(B17,CalInfo!$B$19:$B$33,FALSE)))","v":""},"",{"$f":"IF(B17=\"\",\"\",INDEX(CalSummary!X:X,MATCH(CalExport!B17,CalSummary!E:E,FALSE)))","v":""},{"$f":"IF(B17=\"\",\"\",INDEX(CalSummary!X:X,MATCH(CalExport!B17,CalSummary!E:E,FALSE)+1))","v":""},{"$f":"IF(B17=\"\",\"\",INDEX(CalInfo!$F$19:$F$33,MATCH(B17,CalInfo!$B$19:$B$33,FALSE)))","v":""},{"$f":"IF(B17=\"\",\"\",INDEX(CalInfo!$G$19:$G$33,MATCH(B17,CalInfo!$B$19:$B$33,FALSE)))","v":""},{"$f":"IF(B17=\"\",\"\",INDEX(CalInfo!$J$19:$J$33,MATCH(B17,CalInfo!$B$19:$B$33,FALSE)))","v":""},{"$f":"IF(B17=\"\",\"\",INDEX(CalInfo!$H$19:$H$33,MATCH(B17,CalInfo!$B$19:$B$33,FALSE)))","v":""},{"$f":"IF(B17=\"\",\"\",INDEX(CalSummary!X:X,MATCH(CalExport!B17,CalSummary!E:E,FALSE)+2))","v":""},{"$f":"IF(B17=\"\",\"\",INDEX(CalSummary!X:X,MATCH(CalExport!B17,CalSummary!E:E,FALSE)+3))","v":""},{"$f":"IF(B17=\"\",\"\",INDEX(CalSummary!X:X,MATCH(CalExport!B17,CalSummary!E:E,FALSE)+4))","v":""}]
[{"$f":"IF(MAX($A$6:A17)<$A$4,MAX($A$6:A17)+1,\"\")","v":""},{"$f":"IF(A18=\"\",\"\",IF(AND(ISNUMBER(A18),ISERROR(INDEX(CalInfo!$B$19:$B$33,MATCH(\"Compound \"&A18,CalInfo!$L$19:$L$33,FALSE))),$C$4=\"yes\"),INDEX(CalInfo!$B$19:$B$33,MATCH(\"Internal Standard\",CalInfo!$A$19:$A$33,FALSE)),INDEX(CalInfo!$B$19:$B$33,MATCH(\"Compound \"&A18,CalInfo!$L$19:$L$33,FALSE))))","v":""},{"$f":"IF(B18=\"\",\"\",INDEX(CalInfo!$I$19:$I$33,MATCH(B18,CalInfo!$B$19:$B$33,FALSE)))","v":""},"",{"$f":"IF(B18=\"\",\"\",INDEX(CalSummary!X:X,MATCH(CalExport!B18,CalSummary!E:E,FALSE)))","v":""},{"$f":"IF(B18=\"\",\"\",INDEX(CalSummary!X:X,MATCH(CalExport!B18,CalSummary!E:E,FALSE)+1))","v":""},{"$f":"IF(B18=\"\",\"\",INDEX(CalInfo!$F$19:$F$33,MATCH(B18,CalInfo!$B$19:$B$33,FALSE)))","v":""},{"$f":"IF(B18=\"\",\"\",INDEX(CalInfo!$G$19:$G$33,MATCH(B18,CalInfo!$B$19:$B$33,FALSE)))","v":""},{"$f":"IF(B18=\"\",\"\",INDEX(CalInfo!$J$19:$J$33,MATCH(B18,CalInfo!$B$19:$B$33,FALSE)))","v":""},{"$f":"IF(B18=\"\",\"\",INDEX(CalInfo!$H$19:$H$33,MATCH(B18,CalInfo!$B$19:$B$33,FALSE)))","v":""},{"$f":"IF(B18=\"\",\"\",INDEX(CalSummary!X:X,MATCH(CalExport!B18,CalSummary!E:E,FALSE)+2))","v":""},{"$f":"IF(B18=\"\",\"\",INDEX(CalSummary!X:X,MATCH(CalExport!B18,CalSummary!E:E,FALSE)+3))","v":""},{"$f":"IF(B18=\"\",\"\",INDEX(CalSummary!X:X,MATCH(CalExport!B18,CalSummary!E:E,FALSE)+4))","v":""}]
[{"$f":"IF(MAX($A$6:A18)<$A$4,MAX($A$6:A18)+1,\"\")","v":""},{"$f":"IF(A19=\"\",\"\",IF(AND(ISNUMBER(A19),ISERROR(INDEX(CalInfo!$B$19:$B$33,MATCH(\"Compound \"&A19,CalInfo!$L$19:$L$33,FALSE))),$C$4=\"yes\"),INDEX(CalInfo!$B$19:$B$33,MATCH(\"Internal Standard\",CalInfo!$A$19:$A$33,FALSE)),INDEX(CalInfo!$B$19:$B$33,MATCH(\"Compound \"&A19,CalInfo!$L$19:$L$33,FALSE))))","v":""},{"$f":"IF(B19=\"\",\"\",INDEX(CalInfo!$I$19:$I$33,MATCH(B19,CalInfo!$B$19:$B$33,FALSE)))","v":""},"",{"$f":"IF(B19=\"\",\"\",INDEX(CalSummary!X:X,MATCH(CalExport!B19,CalSummary!E:E,FALSE)))","v":""},{"$f":"IF(B19=\"\",\"\",INDEX(CalSummary!X:X,MATCH(CalExport!B19,CalSummary!E:E,FALSE)+1))","v":""},{"$f":"IF(B19=\"\",\"\",INDEX(CalInfo!$F$19:$F$33,MATCH(B19,CalInfo!$B$19:$B$33,FALSE)))","v":""},{"$f":"IF(B19=\"\",\"\",INDEX(CalInfo!$G$19:$G$33,MATCH(B19,CalInfo!$B$19:$B$33,FALSE)))","v":""},{"$f":"IF(B19=\"\",\"\",INDEX(CalInfo!$J$19:$J$33,MATCH(B19,CalInfo!$B$19:$B$33,FALSE)))","v":""},{"$f":"IF(B19=\"\",\"\",INDEX(CalInfo!$H$19:$H$33,MATCH(B19,CalInfo!$B$19:$B$33,FALSE)))","v":""},{"$f":"IF(B19=\"\",\"\",INDEX(CalSummary!X:X,MATCH(CalExport!B19,CalSummary!E:E,FALSE)+2))","v":""},{"$f":"IF(B19=\"\",\"\",INDEX(CalSummary!X:X,MATCH(CalExport!B19,CalSummary!E:E,FALSE)+3))","v":""},{"$f":"IF(B19=\"\",\"\",INDEX(CalSummary!X:X,MATCH(CalExport!B19,CalSummary!E:E,FALSE)+4))","v":""}]
[{"$f":"IF(MAX($A$6:A19)<$A$4,MAX($A$6:A19)+1,\"\")","v":""},{"$f":"IF(A20=\"\",\"\",IF(AND(ISNUMBER(A20),ISERROR(INDEX(CalInfo!$B$19:$B$33,MATCH(\"Compound \"&A20,CalInfo!$L$19:$L$33,FALSE))),$C$4=\"yes\"),INDEX(CalInfo!$B$19:$B$33,MATCH(\"Internal Standard\",CalInfo!$A$19:$A$33,FALSE)),INDEX(CalInfo!$B$19:$B$33,MATCH(\"Compound \"&A20,CalInfo!$L$19:$L$33,FALSE))))","v":""},{"$f":"IF(B20=\"\",\"\",INDEX(CalInfo!$I$19:$I$33,MATCH(B20,CalInfo!$B$19:$B$33,FALSE)))","v":""},"",{"$f":"IF(B20=\"\",\"\",INDEX(CalSummary!X:X,MATCH(CalExport!B20,CalSummary!E:E,FALSE)))","v":""},{"$f":"IF(B20=\"\",\"\",INDEX(CalSummary!X:X,MATCH(CalExport!B20,CalSummary!E:E,FALSE)+1))","v":""},{"$f":"IF(B20=\"\",\"\",INDEX(CalInfo!$F$19:$F$33,MATCH(B20,CalInfo!$B$19:$B$33,FALSE)))","v":""},{"$f":"IF(B20=\"\",\"\",INDEX(CalInfo!$G$19:$G$33,MATCH(B20,CalInfo!$B$19:$B$33,FALSE)))","v":""},{"$f":"IF(B20=\"\",\"\",INDEX(CalInfo!$J$19:$J$33,MATCH(B20,CalInfo!$B$19:$B$33,FALSE)))","v":""},{"$f":"IF(B20=\"\",\"\",INDEX(CalInfo!$H$19:$H$33,MATCH(B20,CalInfo!$B$19:$B$33,FALSE)))","v":""},{"$f":"IF(B20=\"\",\"\",INDEX(CalSummary!X:X,MATCH(CalExport!B20,CalSummary!E:E,FALSE)+2))","v":""},{"$f":"IF(B20=\"\",\"\",INDEX(CalSummary!X:X,MATCH(CalExport!B20,CalSummary!E:E,FALSE)+3))","v":""},{"$f":"IF(B20=\"\",\"\",INDEX(CalSummary!X:X,MATCH(CalExport!B20,CalSummary!E:E,FALSE)+4))","v":""}]
[{"$f":"IF(MAX($A$6:A20)<$A$4,MAX($A$6:A20)+1,\"\")","v":""},{"$f":"IF(A21=\"\",\"\",IF(AND(ISNUMBER(A21),ISERROR(INDEX(CalInfo!$B$19:$B$33,MATCH(\"Compound \"&A21,CalInfo!$L$19:$L$33,FALSE))),$C$4=\"yes\"),INDEX(CalInfo!$B$19:$B$33,MATCH(\"Internal Standard\",CalInfo!$A$19:$A$33,FALSE)),INDEX(CalInfo!$B$19:$B$33,MATCH(\"Compound \"&A21,CalInfo!$L$19:$L$33,FALSE))))","v":""},{"$f":"IF(B21=\"\",\"\",INDEX(CalInfo!$I$19:$I$33,MATCH(B21,CalInfo!$B$19:$B$33,FALSE)))","v":""},"",{"$f":"IF(B21=\"\",\"\",INDEX(CalSummary!X:X,MATCH(CalExport!B21,CalSummary!E:E,FALSE)))","v":""},{"$f":"IF(B21=\"\",\"\",INDEX(CalSummary!X:X,MATCH(CalExport!B21,CalSummary!E:E,FALSE)+1))","v":""},{"$f":"IF(B21=\"\",\"\",INDEX(CalInfo!$F$19:$F$33,MATCH(B21,CalInfo!$B$19:$B$33,FALSE)))","v":""},{"$f":"IF(B21=\"\",\"\",INDEX(CalInfo!$G$19:$G$33,MATCH(B21,CalInfo!$B$19:$B$33,FALSE)))","v":""},{"$f":"IF(B21=\"\",\"\",INDEX(CalInfo!$J$19:$J$33,MATCH(B21,CalInfo!$B$19:$B$33,FALSE)))","v":""},{"$f":"IF(B21=\"\",\"\",INDEX(CalInfo!$H$19:$H$33,MATCH(B21,CalInfo!$B$19:$B$33,FALSE)))","v":""},{"$f":"IF(B21=\"\",\"\",INDEX(CalSummary!X:X,MATCH(CalExport!B21,CalSummary!E:E,FALSE)+2))","v":""},{"$f":"IF(B21=\"\",\"\",INDEX(CalSummary!X:X,MATCH(CalExport!B21,CalSummary!E:E,FALSE)+3))","v":""},{"$f":"IF(B21=\"\",\"\",INDEX(CalSummary!X:X,MATCH(CalExport!B21,CalSummary!E:E,FALSE)+4))","v":""}]
[{"$f":"IF(MAX($A$6:A21)<$A$4,MAX($A$6:A21)+1,\"\")","v":""},{"$f":"IF(A22=\"\",\"\",IF(AND(ISNUMBER(A22),ISERROR(INDEX(CalInfo!$B$19:$B$33,MATCH(\"Compound \"&A22,CalInfo!$L$19:$L$33,FALSE))),$C$4=\"yes\"),INDEX(CalInfo!$B$19:$B$33,MATCH(\"Internal Standard\",CalInfo!$A$19:$A$33,FALSE)),INDEX(CalInfo!$B$19:$B$33,MATCH(\"Compound \"&A22,CalInfo!$L$19:$L$33,FALSE))))","v":""},{"$f":"IF(B22=\"\",\"\",INDEX(CalInfo!$I$19:$I$33,MATCH(B22,CalInfo!$B$19:$B$33,FALSE)))","v":""},"",{"$f":"IF(B22=\"\",\"\",INDEX(CalSummary!X:X,MATCH(CalExport!B22,CalSummary!E:E,FALSE)))","v":""},{"$f":"IF(B22=\"\",\"\",INDEX(CalSummary!X:X,MATCH(CalExport!B22,CalSummary!E:E,FALSE)+1))","v":""},{"$f":"IF(B22=\"\",\"\",INDEX(CalInfo!$F$19:$F$33,MATCH(B22,CalInfo!$B$19:$B$33,FALSE)))","v":""},{"$f":"IF(B22=\"\",\"\",INDEX(CalInfo!$G$19:$G$33,MATCH(B22,CalInfo!$B$19:$B$33,FALSE)))","v":""},{"$f":"IF(B22=\"\",\"\",INDEX(CalInfo!$J$19:$J$33,MATCH(B22,CalInfo!$B$19:$B$33,FALSE)))","v":""},{"$f":"IF(B22=\"\",\"\",INDEX(CalInfo!$H$19:$H$33,MATCH(B22,CalInfo!$B$19:$B$33,FALSE)))","v":""},{"$f":"IF(B22=\"\",\"\",INDEX(CalSummary!X:X,MATCH(CalExport!B22,CalSummary!E:E,FALSE)+2))","v":""},{"$f":"IF(B22=\"\",\"\",INDEX(CalSummary!X:X,MATCH(CalExport!B22,CalSummary!E:E,FALSE)+3))","v":""},{"$f":"IF(B22=\"\",\"\",INDEX(CalSummary!X:X,MATCH(CalExport!B22,CalSummary!E:E,FALSE)+4))","v":""}]
[{"$f":"IF(MAX($A$6:A22)<$A$4,MAX($A$6:A22)+1,\"\")","v":""},{"$f":"IF(A23=\"\",\"\",IF(AND(ISNUMBER(A23),ISERROR(INDEX(CalInfo!$B$19:$B$33,MATCH(\"Compound \"&A23,CalInfo!$L$19:$L$33,FALSE))),$C$4=\"yes\"),INDEX(CalInfo!$B$19:$B$33,MATCH(\"Internal Standard\",CalInfo!$A$19:$A$33,FALSE)),INDEX(CalInfo!$B$19:$B$33,MATCH(\"Compound \"&A23,CalInfo!$L$19:$L$33,FALSE))))","v":""},{"$f":"IF(B23=\"\",\"\",INDEX(CalInfo!$I$19:$I$33,MATCH(B23,CalInfo!$B$19:$B$33,FALSE)))","v":""},"",{"$f":"IF(B23=\"\",\"\",INDEX(CalSummary!X:X,MATCH(CalExport!B23,CalSummary!E:E,FALSE)))","v":""},{"$f":"IF(B23=\"\",\"\",INDEX(CalSummary!X:X,MATCH(CalExport!B23,CalSummary!E:E,FALSE)+1))","v":""},{"$f":"IF(B23=\"\",\"\",INDEX(CalInfo!$F$19:$F$33,MATCH(B23,CalInfo!$B$19:$B$33,FALSE)))","v":""},{"$f":"IF(B23=\"\",\"\",INDEX(CalInfo!$G$19:$G$33,MATCH(B23,CalInfo!$B$19:$B$33,FALSE)))","v":""},{"$f":"IF(B23=\"\",\"\",INDEX(CalInfo!$J$19:$J$33,MATCH(B23,CalInfo!$B$19:$B$33,FALSE)))","v":""},{"$f":"IF(B23=\"\",\"\",INDEX(CalInfo!$H$19:$H$33,MATCH(B23,CalInfo!$B$19:$B$33,FALSE)))","v":""},{"$f":"IF(B23=\"\",\"\",INDEX(CalSummary!X:X,MATCH(CalExport!B23,CalSummary!E:E,FALSE)+2))","v":""},{"$f":"IF(B23=\"\",\"\",INDEX(CalSummary!X:X,MATCH(CalExport!B23,CalSummary!E:E,FALSE)+3))","v":""},{"$f":"IF(B23=\"\",\"\",INDEX(CalSummary!X:X,MATCH(CalExport!B23,CalSummary!E:E,FALSE)+4))","v":""}]
[{"$f":"IF(MAX($A$6:A23)<$A$4,MAX($A$6:A23)+1,\"\")","v":""},{"$f":"IF(A24=\"\",\"\",IF(AND(ISNUMBER(A24),ISERROR(INDEX(CalInfo!$B$19:$B$33,MATCH(\"Compound \"&A24,CalInfo!$L$19:$L$33,FALSE))),$C$4=\"yes\"),INDEX(CalInfo!$B$19:$B$33,MATCH(\"Internal Standard\",CalInfo!$A$19:$A$33,FALSE)),INDEX(CalInfo!$B$19:$B$33,MATCH(\"Compound \"&A24,CalInfo!$L$19:$L$33,FALSE))))","v":""},{"$f":"IF(B24=\"\",\"\",INDEX(CalInfo!$I$19:$I$33,MATCH(B24,CalInfo!$B$19:$B$33,FALSE)))","v":""},"",{"$f":"IF(B24=\"\",\"\",INDEX(CalSummary!X:X,MATCH(CalExport!B24,CalSummary!E:E,FALSE)))","v":""},{"$f":"IF(B24=\"\",\"\",INDEX(CalSummary!X:X,MATCH(CalExport!B24,CalSummary!E:E,FALSE)+1))","v":""},{"$f":"IF(B24=\"\",\"\",INDEX(CalInfo!$F$19:$F$33,MATCH(B24,CalInfo!$B$19:$B$33,FALSE)))","v":""},{"$f":"IF(B24=\"\",\"\",INDEX(CalInfo!$G$19:$G$33,MATCH(B24,CalInfo!$B$19:$B$33,FALSE)))","v":""},{"$f":"IF(B24=\"\",\"\",INDEX(CalInfo!$J$19:$J$33,MATCH(B24,CalInfo!$B$19:$B$33,FALSE)))","v":""},{"$f":"IF(B24=\"\",\"\",INDEX(CalInfo!$H$19:$H$33,MATCH(B24,CalInfo!$B$19:$B$33,FALSE)))","v":""},{"$f":"IF(B24=\"\",\"\",INDEX(CalSummary!X:X,MATCH(CalExport!B24,CalSummary!E:E,FALSE)+2))","v":""},{"$f":"IF(B24=\"\",\"\",INDEX(CalSummary!X:X,MATCH(CalExport!B24,CalSummary!E:E,FALSE)+3))","v":""},{"$f":"IF(B24=\"\",\"\",INDEX(CalSummary!X:X,MATCH(CalExport!B24,CalSummary!E:E,FALSE)+4))","v":""}]
[{"$f":"IF(MAX($A$6:A24)<$A$4,MAX($A$6:A24)+1,\"\")","v":""},{"$f":"IF(A25=\"\",\"\",IF(AND(ISNUMBER(A25),ISERROR(INDEX(CalInfo!$B$19:$B$33,MATCH(\"Compound \"&A25,CalInfo!$L$19:$L$33,FALSE))),$C$4=\"yes\"),INDEX(CalInfo!$B$19:$B$33,MATCH(\"Internal Standard\",CalInfo!$A$19:$A$33,FALSE)),INDEX(CalInfo!$B$19:$B$33,MATCH(\"Compound \"&A25,CalInfo!$L$19:$L$33,FALSE))))","v":""},{"$f":"IF(B25=\"\",\"\",INDEX(CalInfo!$I$19:$I$33,MATCH(B25,CalInfo!$B$19:$B$33,FALSE)))","v":""},""]
[{"$f":"IF(MAX($A$6:A25)<$A$4,MAX($A$6:A25)+1,\"\")","v":""},{"$f":"IF(A26=\"\",\"\",IF(AND(ISNUMBER(A26),ISERROR(INDEX(CalInfo!$B$19:$B$33,MATCH(\"Compound \"&A26,CalInfo!$L$19:$L$33,FALSE))),$C$4=\"yes\"),INDEX(CalInfo!$B$19:$B$33,MATCH(\"Internal Standard\",CalInfo!$A$19:$A$33,FALSE)),INDEX(CalInfo!$B$19:$B$33,MATCH(\"Compound \"&A26,CalInfo!$L$19:$L$33,FALSE))))","v":""},{"$f":"IF(B26=\"\",\"\",INDEX(CalInfo!$I$19:$I$33,MATCH(B26,CalInfo!$B$19:$B$33,FALSE)))","v":""},""]
[{"$f":"IF(MAX($A$6:A26)<$A$4,MAX($A$6:A26)+1,\"\")","v":""},{"$f":"IF(A27=\"\",\"\",IF(AND(ISNUMBER(A27),ISERROR(INDEX(CalInfo!$B$19:$B$33,MATCH(\"Compound \"&A27,CalInfo!$L$19:$L$33,FALSE))),$C$4=\"yes\"),INDEX(CalInfo!$B$19:$B$33,MATCH(\"Internal Standard\",CalInfo!$A$19:$A$33,FALSE)),INDEX(CalInfo!$B$19:$B$33,MATCH(\"Compound \"&A27,CalInfo!$L$19:$L$33,FALSE))))","v":""},{"$f":"IF(B27=\"\",\"\",INDEX(CalInfo!$I$19:$I$33,MATCH(B27,CalInfo!$B$19:$B$33,FALSE)))","v":""},""]
[{"$f":"IF(MAX($A$6:A27)<$A$4,MAX($A$6:A27)+1,\"\")","v":""},{"$f":"IF(A28=\"\",\"\",IF(AND(ISNUMBER(A28),ISERROR(INDEX(CalInfo!$B$19:$B$33,MATCH(\"Compound \"&A28,CalInfo!$L$19:$L$33,FALSE))),$C$4=\"yes\"),INDEX(CalInfo!$B$19:$B$33,MATCH(\"Internal Standard\",CalInfo!$A$19:$A$33,FALSE)),INDEX(CalInfo!$B$19:$B$33,MATCH(\"Compound \"&A28,CalInfo!$L$19:$L$33,FALSE))))","v":""},{"$f":"IF(B28=\"\",\"\",INDEX(CalInfo!$I$19:$I$33,MATCH(B28,CalInfo!$B$19:$B$33,FALSE)))","v":""},""]
[{"$f":"IF(MAX($A$6:A28)<$A$4,MAX($A$6:A28)+1,\"\")","v":""},{"$f":"IF(A29=\"\",\"\",IF(AND(ISNUMBER(A29),ISERROR(INDEX(CalInfo!$B$19:$B$33,MATCH(\"Compound \"&A29,CalInfo!$L$19:$L$33,FALSE))),$C$4=\"yes\"),INDEX(CalInfo!$B$19:$B$33,MATCH(\"Internal Standard\",CalInfo!$A$19:$A$33,FALSE)),INDEX(CalInfo!$B$19:$B$33,MATCH(\"Compound \"&A29,CalInfo!$L$19:$L$33,FALSE))))","v":""},{"$f":"IF(B29=\"\",\"\",INDEX(CalInfo!$I$19:$I$33,MATCH(B29,CalInfo!$B$19:$B$33,FALSE)))","v":""},""]
[{"$f":"IF(MAX($A$6:A29)<$A$4,MAX($A$6:A29)+1,\"\")","v":""},{"$f":"IF(A30=\"\",\"\",IF(AND(ISNUMBER(A30),ISERROR(INDEX(CalInfo!$B$19:$B$33,MATCH(\"Compound \"&A30,CalInfo!$L$19:$L$33,FALSE))),$C$4=\"yes\"),INDEX(CalInfo!$B$19:$B$33,MATCH(\"Internal Standard\",CalInfo!$A$19:$A$33,FALSE)),INDEX(CalInfo!$B$19:$B$33,MATCH(\"Compound \"&A30,CalInfo!$L$19:$L$33,FALSE))))","v":""},{"$f":"IF(B30=\"\",\"\",INDEX(CalInfo!$I$19:$I$33,MATCH(B30,CalInfo!$B$19:$B$33,FALSE)))","v":""},""]

{"sheet":"CSV Prep","index":6,"n_rows":152,"n_cols":5,"rows_kept":152,"cut":false,"hidden":false,"merged":[[0,0,1,2]]}
["CSV Preparation"]
[]
[]
["CSV Prep",{"$f":"COUNTIF($A$1:A4,\"=CSV Prep\")","v":1},"CSV 1"]
["Prep Date:"]
["Flask Volume (mL):"]
["Solvent:"]
[]
[null,null,"To Add","Mass (g)","g/L"]
[{"$f":"C6&\" mL Flask\"","v":" mL Flask"},{"$f":"A10&\" CSV \"&MAX($B$1:B9)","v":" mL Flask CSV 1"},{"$f":"IF(RIGHT(A10,5)=\"Flask\",\"-\",IF(A10=$C$7,INDEX(Backend!$V$1:$V$8,MATCH(A10,Backend!$U$1:$U$8,FALSE))&\" mL\",IF(ISERROR(MATCH(A10,Backend!$U$1:$U$8,FALSE)),\"To \"&$C$6&\" mL\",INDEX(Backend!$V$1:$V$8,MATCH(A10,Backend!$U$1:$U$8,FALSE))&\" uL\")))","v":"-"},null,{"$f":"IF(OR(A10=\"\",D10=\"\"),\"\",IF(OR(RIGHT(A10,5)=\"Flask\",RIGHT(A10,2)=\"mL\"),\"-\",(D10-MAX($D$9:D9))*INDEX(Compounds!G:G,MATCH(A10,Compounds!A:A,FALSE))*1000/$C$6))","v":""}]
[{"$f":"C7","v":0},{"$f":"A11&\" CSV \"&MAX($B$1:B10)","v":"0 CSV 1"},{"$f":"IF(RIGHT(A11,5)=\"Flask\",\"-\",IF(A11=$C$7,INDEX(Backend!$V$1:$V$8,MATCH(A11,Backend!$U$1:$U$8,FALSE))&\" mL\",IF(ISERROR(MATCH(A11,Backend!$U$1:$U$8,FALSE)),\"To \"&$C$6&\" mL\",INDEX(Backend!$V$1:$V$8,MATCH(A11,Backend!$U$1:$U$8,FALSE))&\" uL\")))","v":{"$error":"#N/A"}},null,{"$f":"IF(OR(A11=\"\",D11=\"\"),\"\",IF(OR(RIGHT(A11,5)=\"Flask\",RIGHT(A11,2)=\"mL\"),\"-\",(D11-MAX($D$9:D10))*INDEX(Compounds!G:G,MATCH(A11,Compounds!A:A,FALSE))*1000/$C$6))","v":""}]
["EGDE",{"$f":"A12&\" CSV \"&MAX($B$1:B11)","v":"EGDE CSV 1"},{"$f":"IF(RIGHT(A12,5)=\"Flask\",\"-\",IF(A12=$C$7,INDEX(Backend!$V$1:$V$8,MATCH(A12,Backend!$U$1:$U$8,FALSE))&\" mL\",IF(ISERROR(MATCH(A12,Backend!$U$1:$U$8,FALSE)),\"To \"&$C$6&\" mL\",INDEX(Backend!$V$1:$V$8,MATCH(A12,Backend!$U$1:$U$8,FALSE))&\" uL\")))","v":"150 uL"},null,{"$f":"IF(OR(A12=\"\",D12=\"\"),\"\",IF(OR(RIGHT(A12,5)=\"Flask\",RIGHT(A12,2)=\"mL\"),\"-\",(D12-MAX($D$9:D11))*INDEX(Compounds!G:G,MATCH(A12,Compounds!A:A,FALSE))*1000/$C$6))","v":""}]
["Triglyme",{"$f":"A13&\" CSV \"&MAX($B$1:B12)","v":"Triglyme CSV 1"},{"$f":"IF(RIGHT(A13,5)=\"Flask\",\"-\",IF(A13=$C$7,INDEX(Backend!$V$1:$V$8,MATCH(A13,Backend!$U$1:$U$8,FALSE))&\" mL\",IF(ISERROR(MATCH(A13,Backend!$U$1:$U$8,FALSE)),\"To \"&$C$6&\" mL\",INDEX(Backend!$V$1:$V$8,MATCH(A13,Backend!$U$1:$U$8,FALSE))&\" uL\")))","v":"26 uL"},null,{"$f":"IF(OR(A13=\"\",D13=\"\"),\"\",IF(OR(RIGHT(A13,5)=\"Flask\",RIGHT(A13,2)=\"mL\"),\"-\",(D13-MAX($D$9:D12))*INDEX(Compounds!G:G,MATCH(A13,Compounds!A:A,FALSE))*1000/$C$6))","v":""}]
["IPA",{"$f":"A14&\" CSV \"&MAX($B$1:B13)","v":"IPA CSV 1"},{"$f":"IF(RIGHT(A14,5)=\"Flask\",\"-\",IF(A14=$C$7,INDEX(Backend!$V$1:$V$8,MATCH(A14,Backend!$U$1:$U$8,FALSE))&\" mL\",IF(ISERROR(MATCH(A14,Backend!$U$1:$U$8,FALSE)),\"To \"&$C$6&\" mL\",INDEX(Backend!$V$1:$V$8,MATCH(A14,Backend!$U$1:$U$8,FALSE))&\" uL\")))","v":"31 uL"},null,{"$f":"IF(OR(A14=\"\",D14=\"\"),\"\",IF(OR(RIGHT(A14,5)=\"Flask\",RIGHT(A14,2)=\"mL\"),\"-\",(D14-MAX($D$9:D13))*INDEX(Compounds!G:G,MATCH(A14,Compounds!A:A,FALSE))*1000/$C$6))","v":""}]
["DIIBA",{"$f":"A15&\" CSV \"&MAX($B$1:B14)","v":"DIIBA CSV 1"},{"$f":"IF(RIGHT(A15,5)=\"Flask\",\"-\",IF(A15=$C$7,INDEX(Backend!$V$1:$V$8,MATCH(A15,Backend!$U$1:$U$8,FALSE))&\" mL\",IF(ISERROR(MATCH(A15,Backend!$U$1:$U$8,FALSE)),\"To \"&$C$6&\" mL\",INDEX(Backend!$V$1:$V$8,MATCH(A15,Backend!$U$1:$U$8,FALSE))&\" uL\")))","v":"26 uL"},null,{"$f":"IF(OR(A15=\"\",D15=\"\"),\"\",IF(OR(RIGHT(A15,5)=\"Flask\",RIGHT(A15,2)=\"mL\"),\"-\",(D15-MAX($D$9:D14))*INDEX(Compounds!G:G,MATCH(A15,Compounds!A:A,FALSE))*1000/$C$6))","v":""}]
["Heptane",{"$f":"A16&\" CSV \"&MAX($B$1:B15)","v":"Heptane CSV 1"},{"$f":"IF(RIGHT(A16,5)=\"Flask\",\"-\",IF(A16=$C$7,INDEX(Backend!$V$1:$V$8,MATCH(A16,Backend!$U$1:$U$8,FALSE))&\" mL\",IF(ISERROR(MATCH(A16,Backend!$U$1:$U$8,FALSE)),\"To \"&$C$6&\" mL\",INDEX(Backend!$V$1:$V$8,MATCH(A16,Backend!$U$1:$U$8,FALSE))&\" uL\")))","v":"36 uL"},null,{"$f":"IF(OR(A16=\"\",D16=\"\"),\"\",IF(OR(RIGHT(A16,5)=\"Flask\",RIGHT(A16,2)=\"mL\"),\"-\",(D16-MAX($D$9:D15))*INDEX(Compounds!G:G,MATCH(A16,Compounds!A:A,FALSE))*1000/$C$6))","v":""}]
[{"$f":"\"QS w/ \"&C7&\" to \"&C6&\" mL\"","v":"QS w/  to  mL"},{"$f":"A17&\" CSV \"&MAX($B$1:B16)","v":"QS w/  to  mL CSV 1"},{"$f":"IF(RIGHT(A17,5)=\"Flask\",\"-\",IF(A17=$C$7,INDEX(Backend!$V$1:$V$8,MATCH(A17,Backend!$U$1:$U$8,FALSE))&\" mL\",IF(ISERROR(MATCH(A17,Backend!$U$1:$U$8,FALSE)),\"To \"&$C$6&\" mL\",INDEX(Backend!$V$1:$V$8,MATCH(A17,Backend!$U$1:$U$8,FALSE))&\" uL\")))","v":"To  mL"},null,{"$f":"IF(OR(A17=\"\",D17=\"\"),\"\",IF(OR(RIGHT(A17,5)=\"Flask\",RIGHT(A17,2)=\"mL\"),\"-\",(D17-MAX($D$9:D16))*INDEX(Compounds!G:G,MATCH(A17,Compounds!A:A,FALSE))*1000/$C$6))","v":""}]
[]
["CSV Prep",{"$f":"COUNTIF($A$1:A19,\"=CSV Prep\")","v":2},"CSV 2"]
["Prep Date:"]
["Flask Volume (mL):"]
["Solvent:"]
[]
[null,null,"To Add","Mass (g)","g/L"]
[{"$f":"C21&\" mL Flask\"","v":" mL Flask"},{"$f":"A25&\" CSV \"&MAX($B$1:B24)","v":" mL Flask CSV 2"},{"$f":"IF(RIGHT(A25,5)=\"Flask\",\"-\",IF(A25=$C$22,INDEX(Backend!$V$1:$V$8,MATCH(A25,Backend!$U$1:$U$8,FALSE))&\" mL\",IF(ISERROR(MATCH(A25,Backend!$U$1:$U$8,FALSE)),\"To \"&$C$21&\" mL\",INDEX(Backend!$V$1:$V$8,MATCH(A25,Backend!$U$1:$U$8,FALSE))&\" uL\")))","v":"-"},null,{"$f":"IF(OR(A25=\"\",D25=\"\"),\"\",IF(OR(RIGHT(A25,5)=\"Flask\",RIGHT(A25,2)=\"mL\"),\"-\",(D25-MAX($D$24:D24))*INDEX(Compounds!G:G,MATCH(A25,Compounds!A:A,FALSE))*1000/$C$21))","v":""}]
[{"$f":"C22","v":0},{"$f":"A26&\" CSV \"&MAX($B$1:B25)","v":"0 CSV 2"},{"$f":"IF(RIGHT(A26,5)=\"Flask\",\"-\",IF(A26=$C$22,INDEX(Backend!$V$1:$V$8,MATCH(A26,Backend!$U$1:$U$8,FALSE))&\" mL\",IF(ISERROR(MATCH(A26,Backend!$U$1:$U$8,FALSE)),\"To \"&$C$21&\" mL\",INDEX(Backend!$V$1:$V$8,MATCH(A26,Backend!$U$1:$U$8,FALSE))&\" uL\")))","v":{"$error":"#N/A"}},null,{"$f":"IF(OR(A26=\"\",D26=\"\"),\"\",IF(OR(RIGHT(A26,5)=\"Flask\",RIGHT(A26,2)=\"mL\"),\"-\",(D26-MAX($D$24:D25))*INDEX(Compounds!G:G,MATCH(A26,Compounds!A:A,FALSE))*1000/$C$21))","v":""}]
["EGDE",{"$f":"A27&\" CSV \"&MAX($B$1:B26)","v":"EGDE CSV 2"},{"$f":"IF(RIGHT(A27,5)=\"Flask\",\"-\",IF(A27=$C$22,INDEX(Backend!$V$1:$V$8,MATCH(A27,Backend!$U$1:$U$8,FALSE))&\" mL\",IF(ISERROR(MATCH(A27,Backend!$U$1:$U$8,FALSE)),\"To \"&$C$21&\" mL\",INDEX(Backend!$V$1:$V$8,MATCH(A27,Backend!$U$1:$U$8,FALSE))&\" uL\")))","v":"150 uL"},null,{"$f":"IF(OR(A27=\"\",D27=\"\"),\"\",IF(OR(RIGHT(A27,5)=\"Flask\",RIGHT(A27,2)=\"mL\"),\"-\",(D27-MAX($D$24:D26))*INDEX(Compounds!G:G,MATCH(A27,Compounds!A:A,FALSE))*1000/$C$21))","v":""}]
["Triglyme",{"$f":"A28&\" CSV \"&MAX($B$1:B27)","v":"Triglyme CSV 2"},{"$f":"IF(RIGHT(A28,5)=\"Flask\",\"-\",IF(A28=$C$22,INDEX(Backend!$V$1:$V$8,MATCH(A28,Backend!$U$1:$U$8,FALSE))&\" mL\",IF(ISERROR(MATCH(A28,Backend!$U$1:$U$8,FALSE)),\"To \"&$C$21&\" mL\",INDEX(Backend!$V$1:$V$8,MATCH(A28,Backend!$U$1:$U$8,FALSE))&\" uL\")))","v":"26 uL"},null,{"$f":"IF(OR(A28=\"\",D28=\"\"),\"\",IF(OR(RIGHT(A28,5)=\"Flask\",RIGHT(A28,2)=\"mL\"),\"-\",(D28-MAX($D$24:D27))*INDEX(Compounds!G:G,MATCH(A28,Compounds!A:A,FALSE))*1000/$C$21))","v":""}]
["IPA",{"$f":"A29&\" CSV \"&MAX($B$1:B28)","v":"IPA CSV 2"},{"$f":"IF(RIGHT(A29,5)=\"Flask\",\"-\",IF(A29=$C$22,INDEX(Backend!$V$1:$V$8,MATCH(A29,Backend!$U$1:$U$8,FALSE))&\" mL\",IF(ISERROR(MATCH(A29,Backend!$U$1:$U$8,FALSE)),\"To \"&$C$21&\" mL\",INDEX(Backend!$V$1:$V$8,MATCH(A29,Backend!$U$1:$U$8,FALSE))&\" uL\")))","v":"31 uL"},null,{"$f":"IF(OR(A29=\"\",D29=\"\"),\"\",IF(OR(RIGHT(A29,5)=\"Flask\",RIGHT(A29,2)=\"mL\"),\"-\",(D29-MAX($D$24:D28))*INDEX(Compounds!G:G,MATCH(A29,Compounds!A:A,FALSE))*1000/$C$21))","v":""}]
["DIIBA",{"$f":"A30&\" CSV \"&MAX($B$1:B29)","v":"DIIBA CSV 2"},{"$f":"IF(RIGHT(A30,5)=\"Flask\",\"-\",IF(A30=$C$22,INDEX(Backend!$V$1:$V$8,MATCH(A30,Backend!$U$1:$U$8,FALSE))&\" mL\",IF(ISERROR(MATCH(A30,Backend!$U$1:$U$8,FALSE)),\"To \"&$C$21&\" mL\",INDEX(Backend!$V$1:$V$8,MATCH(A30,Backend!$U$1:$U$8,FALSE))&\" uL\")))","v":"26 uL"},null,{"$f":"IF(OR(A30=\"\",D30=\"\"),\"\",IF(OR(RIGHT(A30,5)=\"Flask\",RIGHT(A30,2)=\"mL\"),\"-\",(D30-MAX($D$24:D29))*INDEX(Compounds!G:G,MATCH(A30,Compounds!A:A,FALSE))*1000/$C$21))","v":""}]
["Heptane",{"$f":"A31&\" CSV \"&MAX($B$1:B30)","v":"Heptane CSV 2"},{"$f":"IF(RIGHT(A31,5)=\"Flask\",\"-\",IF(A31=$C$22,INDEX(Backend!$V$1:$V$8,MATCH(A31,Backend!$U$1:$U$8,FALSE))&\" mL\",IF(ISERROR(MATCH(A31,Backend!$U$1:$U$8,FALSE)),\"To \"&$C$21&\" mL\",INDEX(Backend!$V$1:$V$8,MATCH(A31,Backend!$U$1:$U$8,FALSE))&\" uL\")))","v":"36 uL"},null,{"$f":"IF(OR(A31=\"\",D31=\"\"),\"\",IF(OR(RIGHT(A31,5)=\"Flask\",RIGHT(A31,2)=\"mL\"),\"-\",(D31-MAX($D$24:D30))*INDEX(Compounds!G:G,MATCH(A31,Compounds!A:A,FALSE))*1000/$C$21))","v":""}]
[{"$f":"\"QS w/ \"&C22&\" to \"&C21&\" mL\"","v":"QS w/  to  mL"},{"$f":"A32&\" CSV \"&MAX($B$1:B31)","v":"QS w/  to  mL CSV 2"},{"$f":"IF(RIGHT(A32,5)=\"Flask\",\"-\",IF(A32=$C$22,INDEX(Backend!$V$1:$V$8,MATCH(A32,Backend!$U$1:$U$8,FALSE))&\" mL\",IF(ISERROR(MATCH(A32,Backend!$U$1:$U$8,FALSE)),\"To \"&$C$21&\" mL\",INDEX(Backend!$V$1:$V$8,MATCH(A32,Backend!$U$1:$U$8,FALSE))&\" uL\")))","v":"To  mL"},null,{"$f":"IF(OR(A32=\"\",D32=\"\"),\"\",IF(OR(RIGHT(A32,5)=\"Flask\",RIGHT(A32,2)=\"mL\"),\"-\",(D32-MAX($D$24:D31))*INDEX(Compounds!G:G,MATCH(A32,Compounds!A:A,FALSE))*1000/$C$21))","v":""}]
[]
["CSV Prep",{"$f":"COUNTIF($A$1:A34,\"=CSV Prep\")","v":3},"CSV 3"]
["Prep Date:"]
["Flask Volume (mL):"]
["Solvent:"]
[]
[null,null,"To Add","Mass (g)","g/L"]
[{"$f":"C36&\" mL Flask\"","v":" mL Flask"},{"$f":"A40&\" CSV \"&MAX($B$1:B39)","v":" mL Flask CSV 3"},{"$f":"IF(RIGHT(A40,5)=\"Flask\",\"-\",IF(A40=$C$37,INDEX(Backend!$V$1:$V$8,MATCH(A40,Backend!$U$1:$U$8,FALSE))&\" mL\",IF(ISERROR(MATCH(A40,Backend!$U$1:$U$8,FALSE)),\"To \"&$C$36&\" mL\",INDEX(Backend!$V$1:$V$8,MATCH(A40,Backend!$U$1:$U$8,FALSE))&\" uL\")))","v":"-"},null,{"$f":"IF(OR(A40=\"\",D40=\"\"),\"\",IF(OR(RIGHT(A40,5)=\"Flask\",RIGHT(A40,2)=\"mL\"),\"-\",(D40-MAX($D$39:D39))*INDEX(Compounds!G:G,MATCH(A40,Compounds!A:A,FALSE))*1000/$C$36))","v":""}]
[{"$f":"C37","v":0},{"$f":"A41&\" CSV \"&MAX($B$1:B40)","v":"0 CSV 3"},{"$f":"IF(RIGHT(A41,5)=\"Flask\",\"-\",IF(A41=$C$37,INDEX(Backend!$V$1:$V$8,MATCH(A41,Backend!$U$1:$U$8,FALSE))&\" mL\",IF(ISERROR(MATCH(A41,Backend!$U$1:$U$8,FALSE)),\"To \"&$C$36&\" mL\",INDEX(Backend!$V$1:$V$8,MATCH(A41,Backend!$U$1:$U$8,FALSE))&\" uL\")))","v":{"$error":"#N/A"}},null,{"$f":"IF(OR(A41=\"\",D41=\"\"),\"\",IF(OR(RIGHT(A41,5)=\"Flask\",RIGHT(A41,2)=\"mL\"),\"-\",(D41-MAX($D$39:D40))*INDEX(Compounds!G:G,MATCH(A41,Compounds!A:A,FALSE))*1000/$C$36))","v":""}]
["EGDE",{"$f":"A42&\" CSV \"&MAX($B$1:B41)","v":"EGDE CSV 3"},{"$f":"IF(RIGHT(A42,5)=\"Flask\",\"-\",IF(A42=$C$37,INDEX(Backend!$V$1:$V$8,MATCH(A42,Backend!$U$1:$U$8,FALSE))&\" mL\",IF(ISERROR(MATCH(A42,Backend!$U$1:$U$8,FALSE)),\"To \"&$C$36&\" mL\",INDEX(Backend!$V$1:$V$8,MATCH(A42,Backend!$U$1:$U$8,FALSE))&\" uL\")))","v":"150 uL"},null,{"$f":"IF(OR(A42=\"\",D42=\"\"),\"\",IF(OR(RIGHT(A42,5)=\"Flask\",RIGHT(A42,2)=\"mL\"),\"-\",(D42-MAX($D$39:D41))*INDEX(Compounds!G:G,MATCH(A42,Compounds!A:A,FALSE))*1000/$C$36))","v":""}]
["Triglyme",{"$f":"A43&\" CSV \"&MAX($B$1:B42)","v":"Triglyme CSV 3"},{"$f":"IF(RIGHT(A43,5)=\"Flask\",\"-\",IF(A43=$C$37,INDEX(Backend!$V$1:$V$8,MATCH(A43,Backend!$U$1:$U$8,FALSE))&\" mL\",IF(ISERROR(MATCH(A43,Backend!$U$1:$U$8,FALSE)),\"To \"&$C$36&\" mL\",INDEX(Backend!$V$1:$V$8,MATCH(A43,Backend!$U$1:$U$8,FALSE))&\" uL\")))","v":"26 uL"},null,{"$f":"IF(OR(A43=\"\",D43=\"\"),\"\",IF(OR(RIGHT(A43,5)=\"Flask\",RIGHT(A43,2)=\"mL\"),\"-\",(D43-MAX($D$39:D42))*INDEX(Compounds!G:G,MATCH(A43,Compounds!A:A,FALSE))*1000/$C$36))","v":""}]
["IPA",{"$f":"A44&\" CSV \"&MAX($B$1:B43)","v":"IPA CSV 3"},{"$f":"IF(RIGHT(A44,5)=\"Flask\",\"-\",IF(A44=$C$37,INDEX(Backend!$V$1:$V$8,MATCH(A44,Backend!$U$1:$U$8,FALSE))&\" mL\",IF(ISERROR(MATCH(A44,Backend!$U$1:$U$8,FALSE)),\"To \"&$C$36&\" mL\",INDEX(Backend!$V$1:$V$8,MATCH(A44,Backend!$U$1:$U$8,FALSE))&\" uL\")))","v":"31 uL"},null,{"$f":"IF(OR(A44=\"\",D44=\"\"),\"\",IF(OR(RIGHT(A44,5)=\"Flask\",RIGHT(A44,2)=\"mL\"),\"-\",(D44-MAX($D$39:D43))*INDEX(Compounds!G:G,MATCH(A44,Compounds!A:A,FALSE))*1000/$C$36))","v":""}]
["DIIBA",{"$f":"A45&\" CSV \"&MAX($B$1:B44)","v":"DIIBA CSV 3"},{"$f":"IF(RIGHT(A45,5)=\"Flask\",\"-\",IF(A45=$C$37,INDEX(Backend!$V$1:$V$8,MATCH(A45,Backend!$U$1:$U$8,FALSE))&\" mL\",IF(ISERROR(MATCH(A45,Backend!$U$1:$U$8,FALSE)),\"To \"&$C$36&\" mL\",INDEX(Backend!$V$1:$V$8,MATCH(A45,Backend!$U$1:$U$8,FALSE))&\" uL\")))","v":"26 uL"},null,{"$f":"IF(OR(A45=\"\",D45=\"\"),\"\",IF(OR(RIGHT(A45,5)=\"Flask\",RIGHT(A45,2)=\"mL\"),\"-\",(D45-MAX($D$39:D44))*INDEX(Compounds!G:G,MATCH(A45,Compounds!A:A,FALSE))*1000/$C$36))","v":""}]
["Heptane",{"$f":"A46&\" CSV \"&MAX($B$1:B45)","v":"Heptane CSV 3"},{"$f":"IF(RIGHT(A46,5)=\"Flask\",\"-\",IF(A46=$C$37,INDEX(Backend!$V$1:$V$8,MATCH(A46,Backend!$U$1:$U$8,FALSE))&\" mL\",IF(ISERROR(MATCH(A46,Backend!$U$1:$U$8,FALSE)),\"To \"&$C$36&\" mL\",INDEX(Backend!$V$1:$V$8,MATCH(A46,Backend!$U$1:$U$8,FALSE))&\" uL\")))","v":"36 uL"},null,{"$f":"IF(OR(A46=\"\",D46=\"\"),\"\",IF(OR(RIGHT(A46,5)=\"Flask\",RIGHT(A46,2)=\"mL\"),\"-\",(D46-MAX($D$39:D45))*INDEX(Compounds!G:G,MATCH(A46,Compounds!A:A,FALSE))*1000/$C$36))","v":""}]
[{"$f":"\"QS w/ \"&C37&\" to \"&C36&\" mL\"","v":"QS w/  to  mL"},{"$f":"A47&\" CSV \"&MAX($B$1:B46)","v":"QS w/  to  mL CSV 3"},{"$f":"IF(RIGHT(A47,5)=\"Flask\",\"-\",IF(A47=$C$37,INDEX(Backend!$V$1:$V$8,MATCH(A47,Backend!$U$1:$U$8,FALSE))&\" mL\",IF(ISERROR(MATCH(A47,Backend!$U$1:$U$8,FALSE)),\"To \"&$C$36&\" mL\",INDEX(Backend!$V$1:$V$8,MATCH(A47,Backend!$U$1:$U$8,FALSE))&\" uL\")))","v":"To  mL"},null,{"$f":"IF(OR(A47=\"\",D47=\"\"),\"\",IF(OR(RIGHT(A47,5)=\"Flask\",RIGHT(A47,2)=\"mL\"),\"-\",(D47-MAX($D$39:D46))*INDEX(Compounds!G:G,MATCH(A47,Compounds!A:A,FALSE))*1000/$C$36))","v":""}]
[]
["CSV Prep",{"$f":"COUNTIF($A$1:A49,\"=CSV Prep\")","v":4},"CSV 4"]
["Prep Date:"]
["Flask Volume (mL):"]
["Solvent:"]
[]
[null,null,"To Add","Mass (g)","g/L"]
[{"$f":"C51&\" mL Flask\"","v":" mL Flask"},{"$f":"A55&\" CSV \"&MAX($B$1:B54)","v":" mL Flask CSV 4"},{"$f":"IF(RIGHT(A55,5)=\"Flask\",\"-\",IF(A55=$C$52,INDEX(Backend!$V$1:$V$8,MATCH(A55,Backend!$U$1:$U$8,FALSE))&\" mL\",IF(ISERROR(MATCH(A55,Backend!$U$1:$U$8,FALSE)),\"To \"&$C$51&\" mL\",INDEX(Backend!$V$1:$V$8,MATCH(A55,Backend!$U$1:$U$8,FALSE))&\" uL\")))","v":"-"},null,{"$f":"IF(OR(A55=\"\",D55=\"\"),\"\",IF(OR(RIGHT(A55,5)=\"Flask\",RIGHT(A55,2)=\"mL\"),\"-\",(D55-MAX($D$54:D54))*INDEX(Compounds!G:G,MATCH(A55,Compounds!A:A,FALSE))*1000/$C$51))","v":""}]
[{"$f":"C52","v":0},{"$f":"A56&\" CSV \"&MAX($B$1:B55)","v":"0 CSV 4"},{"$f":"IF(RIGHT(A56,5)=\"Flask\",\"-\",IF(A56=$C$52,INDEX(Backend!$V$1:$V$8,MATCH(A56,Backend!$U$1:$U$8,FALSE))&\" mL\",IF(ISERROR(MATCH(A56,Backend!$U$1:$U$8,FALSE)),\"To \"&$C$51&\" mL\",INDEX(Backend!$V$1:$V$8,MATCH(A56,Backend!$U$1:$U$8,FALSE))&\" uL\")))","v":{"$error":"#N/A"}},null,{"$f":"IF(OR(A56=\"\",D56=\"\"),\"\",IF(OR(RIGHT(A56,5)=\"Flask\",RIGHT(A56,2)=\"mL\"),\"-\",(D56-MAX($D$54:D55))*INDEX(Compounds!G:G,MATCH(A56,Compounds!A:A,FALSE))*1000/$C$51))","v":""}]
["EGDE",{"$f":"A57&\" CSV \"&MAX($B$1:B56)","v":"EGDE CSV 4"},{"$f":"IF(RIGHT(A57,5)=\"Flask\",\"-\",IF(A57=$C$52,INDEX(Backend!$V$1:$V$8,MATCH(A57,Backend!$U$1:$U$8,FALSE))&\" mL\",IF(ISERROR(MATCH(A57,Backend!$U$1:$U$8,FALSE)),\"To \"&$C$51&\" mL\",INDEX(Backend!$V$1:$V$8,MATCH(A57,Backend!$U$1:$U$8,FALSE))&\" uL\")))","v":"150 uL"},null,{"$f":"IF(OR(A57=\"\",D57=\"\"),\"\",IF(OR(RIGHT(A57,5)=\"Flask\",RIGHT(A57,2)=\"mL\"),\"-\",(D57-MAX($D$54:D56))*INDEX(Compounds!G:G,MATCH(A57,Compounds!A:A,FALSE))*1000/$C$51))","v":""}]
["Triglyme",{"$f":"A58&\" CSV \"&MAX($B$1:B57)","v":"Triglyme CSV 4"},{"$f":"IF(RIGHT(A58,5)=\"Flask\",\"-\",IF(A58=$C$52,INDEX(Backend!$V$1:$V$8,MATCH(A58,Backend!$U$1:$U$8,FALSE))&\" mL\",IF(ISERROR(MATCH(A58,Backend!$U$1:$U$8,FALSE)),\"To \"&$C$51&\" mL\",INDEX(Backend!$V$1:$V$8,MATCH(A58,Backend!$U$1:$U$8,FALSE))&\" uL\")))","v":"26 uL"},null,{"$f":"IF(OR(A58=\"\",D58=\"\"),\"\",IF(OR(RIGHT(A58,5)=\"Flask\",RIGHT(A58,2)=\"mL\"),\"-\",(D58-MAX($D$54:D57))*INDEX(Compounds!G:G,MATCH(A58,Compounds!A:A,FALSE))*1000/$C$51))","v":""}]
["IPA",{"$f":"A59&\" CSV \"&MAX($B$1:B58)","v":"IPA CSV 4"},{"$f":"IF(RIGHT(A59,5)=\"Flask\",\"-\",IF(A59=$C$52,INDEX(Backend!$V$1:$V$8,MATCH(A59,Backend!$U$1:$U$8,FALSE))&\" mL\",IF(ISERROR(MATCH(A59,Backend!$U$1:$U$8,FALSE)),\"To \"&$C$51&\" mL\",INDEX(Backend!$V$1:$V$8,MATCH(A59,Backend!$U$1:$U$8,FALSE))&\" uL\")))","v":"31 uL"},null,{"$f":"IF(OR(A59=\"\",D59=\"\"),\"\",IF(OR(RIGHT(A59,5)=\"Flask\",RIGHT(A59,2)=\"mL\"),\"-\",(D59-MAX($D$54:D58))*INDEX(Compounds!G:G,MATCH(A59,Compounds!A:A,FALSE))*1000/$C$51))","v":""}]
["DIIBA",{"$f":"A60&\" CSV \"&MAX($B$1:B59)","v":"DIIBA CSV 4"},{"$f":"IF(RIGHT(A60,5)=\"Flask\",\"-\",IF(A60=$C$52,INDEX(Backend!$V$1:$V$8,MATCH(A60,Backend!$U$1:$U$8,FALSE))&\" mL\",IF(ISERROR(MATCH(A60,Backend!$U$1:$U$8,FALSE)),\"To \"&$C$51&\" mL\",INDEX(Backend!$V$1:$V$8,MATCH(A60,Backend!$U$1:$U$8,FALSE))&\" uL\")))","v":"26 uL"},null,{"$f":"IF(OR(A60=\"\",D60=\"\"),\"\",IF(OR(RIGHT(A60,5)=\"Flask\",RIGHT(A60,2)=\"mL\"),\"-\",(D60-MAX($D$54:D59))*INDEX(Compounds!G:G,MATCH(A60,Compounds!A:A,FALSE))*1000/$C$51))","v":""}]
["Heptane",{"$f":"A61&\" CSV \"&MAX($B$1:B60)","v":"Heptane CSV 4"},{"$f":"IF(RIGHT(A61,5)=\"Flask\",\"-\",IF(A61=$C$52,INDEX(Backend!$V$1:$V$8,MATCH(A61,Backend!$U$1:$U$8,FALSE))&\" mL\",IF(ISERROR(MATCH(A61,Backend!$U$1:$U$8,FALSE)),\"To \"&$C$51&\" mL\",INDEX(Backend!$V$1:$V$8,MATCH(A61,Backend!$U$1:$U$8,FALSE))&\" uL\")))","v":"36 uL"},null,{"$f":"IF(OR(A61=\"\",D61=\"\"),\"\",IF(OR(RIGHT(A61,5)=\"Flask\",RIGHT(A61,2)=\"mL\"),\"-\",(D61-MAX($D$54:D60))*INDEX(Compounds!G:G,MATCH(A61,Compounds!A:A,FALSE))*1000/$C$51))","v":""}]
[{"$f":"\"QS w/ \"&C52&\" to \"&C51&\" mL\"","v":"QS w/  to  mL"},{"$f":"A62&\" CSV \"&MAX($B$1:B61)","v":"QS w/  to  mL CSV 4"},{"$f":"IF(RIGHT(A62,5)=\"Flask\",\"-\",IF(A62=$C$52,INDEX(Backend!$V$1:$V$8,MATCH(A62,Backend!$U$1:$U$8,FALSE))&\" mL\",IF(ISERROR(MATCH(A62,Backend!$U$1:$U$8,FALSE)),\"To \"&$C$51&\" mL\",INDEX(Backend!$V$1:$V$8,MATCH(A62,Backend!$U$1:$U$8,FALSE))&\" uL\")))","v":"To  mL"},null,{"$f":"IF(OR(A62=\"\",D62=\"\"),\"\",IF(OR(RIGHT(A62,5)=\"Flask\",RIGHT(A62,2)=\"mL\"),\"-\",(D62-MAX($D$54:D61))*INDEX(Compounds!G:G,MATCH(A62,Compounds!A:A,FALSE))*1000/$C$51))","v":""}]
[]
[]
[]
[]
[]
[]
[]
[]
[]
[]
[]
[]
[]
[]
[]
[]
[]
[]
[]
[]
[]
[]
[]
[]
[]
[]
[]
[]
[]
[]
[]
[]
[]
[]
[]
[]
[]
[]
[{"$f":"C97","v":0},{"$f":"A101&\"#\"&MAX($B$1:B100)","v":"0#4"},{"$f":"IF(RIGHT(A101,5)=\"Flask\",\"-\",IF(A101=$C$97,INDEX(Backend!$V$1:$V$8,MATCH(A101,Backend!$U$1:$U$8,FALSE))&\" mL\",IF(ISERROR(MATCH(A101,Backend!$U$1:$U$8,FALSE)),\"To \"&$C$96&\" mL\",INDEX(Backend!$V$1:$V$8,MATCH(A101,Backend!$U$1:$U$8,FALSE))&\" uL\")))","v":{"$error":"#N/A"}},null,{"$f":"IF(OR(A101=\"\",D101=\"\"),\"\",IF(OR(RIGHT(A101,5)=\"Flask\",RIGHT(A101,2)=\"mL\"),\"-\",(D101-MAX($D$99:D100))*INDEX(Compounds!G:G,MATCH(A101,Compounds!A:A,FALSE))*1000/$C$96))","v":""}]
["EGDE",{"$f":"A102&\"#\"&MAX($B$1:B101)","v":"EGDE#4"},{"$f":"IF(RIGHT(A102,5)=\"Flask\",\"-\",IF(A102=$C$97,INDEX(Backend!$V$1:$V$8,MATCH(A102,Backend!$U$1:$U$8,FALSE))&\" mL\",IF(ISERROR(MATCH(A102,Backend!$U$1:$U$8,FALSE)),\"To \"&$C$96&\" mL\",INDEX(Backend!$V$1:$V$8,MATCH(A102,Backend!$U$1:$U$8,FALSE))&\" uL\")))","v":"150 uL"},null,{"$f":"IF(OR(A102=\"\",D102=\"\"),\"\",IF(OR(RIGHT(A102,5)=\"Flask\",RIGHT(A102,2)=\"mL\"),\"-\",(D102-MAX($D$99:D101))*INDEX(Compounds!G:G,MATCH(A102,Compounds!A:A,FALSE))*1000/$C$96))","v":""}]
["Triglyme",{"$f":"A103&\"#\"&MAX($B$1:B102)","v":"Triglyme#4"},{"$f":"IF(RIGHT(A103,5)=\"Flask\",\"-\",IF(A103=$C$97,INDEX(Backend!$V$1:$V$8,MATCH(A103,Backend!$U$1:$U$8,FALSE))&\" mL\",IF(ISERROR(MATCH(A103,Backend!$U$1:$U$8,FALSE)),\"To \"&$C$96&\" mL\",INDEX(Backend!$V$1:$V$8,MATCH(A103,Backend!$U$1:$U$8,FALSE))&\" uL\")))","v":"26 uL"},null,{"$f":"IF(OR(A103=\"\",D103=\"\"),\"\",IF(OR(RIGHT(A103,5)=\"Flask\",RIGHT(A103,2)=\"mL\"),\"-\",(D103-MAX($D$99:D102))*INDEX(Compounds!G:G,MATCH(A103,Compounds!A:A,FALSE))*1000/$C$96))","v":""}]
["IPA",{"$f":"A104&\"#\"&MAX($B$1:B103)","v":"IPA#4"},{"$f":"IF(RIGHT(A104,5)=\"Flask\",\"-\",IF(A104=$C$97,INDEX(Backend!$V$1:$V$8,MATCH(A104,Backend!$U$1:$U$8,FALSE))&\" mL\",IF(ISERROR(MATCH(A104,Backend!$U$1:$U$8,FALSE)),\"To \"&$C$96&\" mL\",INDEX(Backend!$V$1:$V$8,MATCH(A104,Backend!$U$1:$U$8,FALSE))&\" uL\")))","v":"31 uL"},null,{"$f":"IF(OR(A104=\"\",D104=\"\"),\"\",IF(OR(RIGHT(A104,5)=\"Flask\",RIGHT(A104,2)=\"mL\"),\"-\",(D104-MAX($D$99:D103))*INDEX(Compounds!G:G,MATCH(A104,Compounds!A:A,FALSE))*1000/$C$96))","v":""}]
["DIIBA",{"$f":"A105&\"#\"&MAX($B$1:B104)","v":"DIIBA#4"},{"$f":"IF(RIGHT(A105,5)=\"Flask\",\"-\",IF(A105=$C$97,INDEX(Backend!$V$1:$V$8,MATCH(A105,Backend!$U$1:$U$8,FALSE))&\" mL\",IF(ISERROR(MATCH(A105,Backend!$U$1:$U$8,FALSE)),\"To \"&$C$96&\" mL\",INDEX(Backend!$V$1:$V$8,MATCH(A105,Backend!$U$1:$U$8,FALSE))&\" uL\")))","v":"26 uL"},null,{"$f":"IF(OR(A105=\"\",D105=\"\"),\"\",IF(OR(RIGHT(A105,5)=\"Flask\",RIGHT(A105,2)=\"mL\"),\"-\",(D105-MAX($D$99:D104))*INDEX(Compounds!G:G,MATCH(A105,Compounds!A:A,FALSE))*1000/$C$96))","v":""}]
["Heptane",{"$f":"A106&\"#\"&MAX($B$1:B105)","v":"Heptane#4"},{"$f":"IF(RIGHT(A106,5)=\"Flask\",\"-\",IF(A106=$C$97,INDEX(Backend!$V$1:$V$8,MATCH(A106,Backend!$U$1:$U$8,FALSE))&\" mL\",IF(ISERROR(MATCH(A106,Backend!$U$1:$U$8,FALSE)),\"To \"&$C$96&\" mL\",INDEX(Backend!$V$1:$V$8,MATCH(A106,Backend!$U$1:$U$8,FALSE))&\" uL\")))","v":"36 uL"},null,{"$f":"IF(OR(A106=\"\",D106=\"\"),\"\",IF(OR(RIGHT(A106,5)=\"Flask\",RIGHT(A106,2)=\"mL\"),\"-\",(D106-MAX($D$99:D105))*INDEX(Compounds!G:G,MATCH(A106,Compounds!A:A,FALSE))*1000/$C$96))","v":""}]
[{"$f":"\"QS w/ \"&C97&\" to \"&C96&\" mL\"","v":"QS w/  to  mL"},{"$f":"A107&\"#\"&MAX($B$1:B106)","v":"QS w/  to  mL#4"},{"$f":"IF(RIGHT(A107,5)=\"Flask\",\"-\",IF(A107=$C$97,INDEX(Backend!$V$1:$V$8,MATCH(A107,Backend!$U$1:$U$8,FALSE))&\" mL\",IF(ISERROR(MATCH(A107,Backend!$U$1:$U$8,FALSE)),\"To \"&$C$96&\" mL\",INDEX(Backend!$V$1:$V$8,MATCH(A107,Backend!$U$1:$U$8,FALSE))&\" uL\")))","v":"To  mL"},null,{"$f":"IF(OR(A107=\"\",D107=\"\"),\"\",IF(OR(RIGHT(A107,5)=\"Flask\",RIGHT(A107,2)=\"mL\"),\"-\",(D107-MAX($D$99:D106))*INDEX(Compounds!G:G,MATCH(A107,Compounds!A:A,FALSE))*1000/$C$96))","v":""}]
[]
["CSV Prep",{"$f":"COUNTIF($A$1:A109,\"=CSV Prep\")","v":5},{"$f":"\"CSV \"&COUNTIF($A$1:A109,\"=CSV Prep\")","v":"CSV 5"}]
["Prep Date:",null,"2016-10-15"]
["Flask Volume (mL):",null,25]
["Solvent:",null,"THF"]
[]
[null,null,"To Add","Mass (g)","g/L"]
[{"$f":"C111&\" mL Flask\"","v":"25 mL Flask"},{"$f":"A115&\"#\"&MAX($B$1:B114)","v":"25 mL Flask#5"},{"$f":"IF(RIGHT(A115,5)=\"Flask\",\"-\",IF(A115=$C$112,INDEX(Backend!$V$1:$V$8,MATCH(A115,Backend!$U$1:$U$8,FALSE))&\" mL\",IF(ISERROR(MATCH(A115,Backend!$U$1:$U$8,FALSE)),\"To \"&$C$111&\" mL\",INDEX(Backend!$V$1:$V$8,MATCH(A115,Backend!$U$1:$U$8,FALSE))&\" uL\")))","v":"-"},null,{"$f":"IF(OR(A115=\"\",D115=\"\"),\"\",IF(OR(RIGHT(A115,5)=\"Flask\",RIGHT(A115,2)=\"mL\"),\"-\",(D115-MAX($D$114:D114))*INDEX(Compounds!G:G,MATCH(A115,Compounds!A:A,FALSE))*1000/$C$111))","v":""}]
[{"$f":"C112","v":"THF"},{"$f":"A116&\"#\"&MAX($B$1:B115)","v":"THF#5"},{"$f":"IF(RIGHT(A116,5)=\"Flask\",\"-\",IF(A116=$C$112,INDEX(Backend!$V$1:$V$8,MATCH(A116,Backend!$U$1:$U$8,FALSE))&\" mL\",IF(ISERROR(MATCH(A116,Backend!$U$1:$U$8,FALSE)),\"To \"&$C$111&\" mL\",INDEX(Backend!$V$1:$V$8,MATCH(A116,Backend!$U$1:$U$8,FALSE))&\" uL\")))","v":"10 mL"},null,{"$f":"IF(OR(A116=\"\",D116=\"\"),\"\",IF(OR(RIGHT(A116,5)=\"Flask\",RIGHT(A116,2)=\"mL\"),\"-\",(D116-MAX($D$114:D115))*INDEX(Compounds!G:G,MATCH(A116,Compounds!A:A,FALSE))*1000/$C$111))","v":""}]
["EGDE",{"$f":"A117&\"#\"&MAX($B$1:B116)","v":"EGDE#5"},{"$f":"IF(RIGHT(A117,5)=\"Flask\",\"-\",IF(A117=$C$112,INDEX(Backend!$V$1:$V$8,MATCH(A117,Backend!$U$1:$U$8,FALSE))&\" mL\",IF(ISERROR(MATCH(A117,Backend!$U$1:$U$8,FALSE)),\"To \"&$C$111&\" mL\",INDEX(Backend!$V$1:$V$8,MATCH(A117,Backend!$U$1:$U$8,FALSE))&\" uL\")))","v":"150 uL"},null,{"$f":"IF(OR(A117=\"\",D117=\"\"),\"\",IF(OR(RIGHT(A117,5)=\"Flask\",RIGHT(A117,2)=\"mL\"),\"-\",(D117-MAX($D$114:D116))*INDEX(Compounds!G:G,MATCH(A117,Compounds!A:A,FALSE))*1000/$C$111))","v":""}]
["Triglyme",{"$f":"A118&\"#\"&MAX($B$1:B117)","v":"Triglyme#5"},{"$f":"IF(RIGHT(A118,5)=\"Flask\",\"-\",IF(A118=$C$112,INDEX(Backend!$V$1:$V$8,MATCH(A118,Backend!$U$1:$U$8,FALSE))&\" mL\",IF(ISERROR(MATCH(A118,Backend!$U$1:$U$8,FALSE)),\"To \"&$C$111&\" mL\",INDEX(Backend!$V$1:$V$8,MATCH(A118,Backend!$U$1:$U$8,FALSE))&\" uL\")))","v":"26 uL"},null,{"$f":"IF(OR(A118=\"\",D118=\"\"),\"\",IF(OR(RIGHT(A118,5)=\"Flask\",RIGHT(A118,2)=\"mL\"),\"-\",(D118-MAX($D$114:D117))*INDEX(Compounds!G:G,MATCH(A118,Compounds!A:A,FALSE))*1000/$C$111))","v":""}]
["IPA",{"$f":"A119&\"#\"&MAX($B$1:B118)","v":"IPA#5"},{"$f":"IF(RIGHT(A119,5)=\"Flask\",\"-\",IF(A119=$C$112,INDEX(Backend!$V$1:$V$8,MATCH(A119,Backend!$U$1:$U$8,FALSE))&\" mL\",IF(ISERROR(MATCH(A119,Backend!$U$1:$U$8,FALSE)),\"To \"&$C$111&\" mL\",INDEX(Backend!$V$1:$V$8,MATCH(A119,Backend!$U$1:$U$8,FALSE))&\" uL\")))","v":"31 uL"},null,{"$f":"IF(OR(A119=\"\",D119=\"\"),\"\",IF(OR(RIGHT(A119,5)=\"Flask\",RIGHT(A119,2)=\"mL\"),\"-\",(D119-MAX($D$114:D118))*INDEX(Compounds!G:G,MATCH(A119,Compounds!A:A,FALSE))*1000/$C$111))","v":""}]
["DIIBA",{"$f":"A120&\"#\"&MAX($B$1:B119)","v":"DIIBA#5"},{"$f":"IF(RIGHT(A120,5)=\"Flask\",\"-\",IF(A120=$C$112,INDEX(Backend!$V$1:$V$8,MATCH(A120,Backend!$U$1:$U$8,FALSE))&\" mL\",IF(ISERROR(MATCH(A120,Backend!$U$1:$U$8,FALSE)),\"To \"&$C$111&\" mL\",INDEX(Backend!$V$1:$V$8,MATCH(A120,Backend!$U$1:$U$8,FALSE))&\" uL\")))","v":"26 uL"},null,{"$f":"IF(OR(A120=\"\",D120=\"\"),\"\",IF(OR(RIGHT(A120,5)=\"Flask\",RIGHT(A120,2)=\"mL\"),\"-\",(D120-MAX($D$114:D119))*INDEX(Compounds!G:G,MATCH(A120,Compounds!A:A,FALSE))*1000/$C$111))","v":""}]
["Heptane",{"$f":"A121&\"#\"&MAX($B$1:B120)","v":"Heptane#5"},{"$f":"IF(RIGHT(A121,5)=\"Flask\",\"-\",IF(A121=$C$112,INDEX(Backend!$V$1:$V$8,MATCH(A121,Backend!$U$1:$U$8,FALSE))&\" mL\",IF(ISERROR(MATCH(A121,Backend!$U$1:$U$8,FALSE)),\"To \"&$C$111&\" mL\",INDEX(Backend!$V$1:$V$8,MATCH(A121,Backend!$U$1:$U$8,FALSE))&\" uL\")))","v":"36 uL"},null,{"$f":"IF(OR(A121=\"\",D121=\"\"),\"\",IF(OR(RIGHT(A121,5)=\"Flask\",RIGHT(A121,2)=\"mL\"),\"-\",(D121-MAX($D$114:D120))*INDEX(Compounds!G:G,MATCH(A121,Compounds!A:A,FALSE))*1000/$C$111))","v":""}]
[{"$f":"\"QS w/ \"&C112&\" to \"&C111&\" mL\"","v":"QS w/ THF to 25 mL"},{"$f":"A122&\"#\"&MAX($B$1:B121)","v":"QS w/ THF to 25 mL#5"},{"$f":"IF(RIGHT(A122,5)=\"Flask\",\"-\",IF(A122=$C$112,INDEX(Backend!$V$1:$V$8,MATCH(A122,Backend!$U$1:$U$8,FALSE))&\" mL\",IF(ISERROR(MATCH(A122,Backend!$U$1:$U$8,FALSE)),\"To \"&$C$111&\" mL\",INDEX(Backend!$V$1:$V$8,MATCH(A122,Backend!$U$1:$U$8,FALSE))&\" uL\")))","v":"To 25 mL"},null,{"$f":"IF(OR(A122=\"\",D122=\"\"),\"\",IF(OR(RIGHT(A122,5)=\"Flask\",RIGHT(A122,2)=\"mL\"),\"-\",(D122-MAX($D$114:D121))*INDEX(Compounds!G:G,MATCH(A122,Compounds!A:A,FALSE))*1000/$C$111))","v":""}]
[]
["CSV Prep",{"$f":"COUNTIF($A$1:A124,\"=CSV Prep\")","v":6},{"$f":"\"CSV \"&COUNTIF($A$1:A124,\"=CSV Prep\")","v":"CSV 6"}]
["Prep Date:",null,"2016-10-15"]
["Flask Volume (mL):",null,25]
["Solvent:",null,"THF"]
[]
[null,null,"To Add","Mass (g)","g/L"]
[{"$f":"C126&\" mL Flask\"","v":"25 mL Flask"},{"$f":"A130&\"#\"&MAX($B$1:B129)","v":"25 mL Flask#6"},{"$f":"IF(RIGHT(A130,5)=\"Flask\",\"-\",IF(A130=$C$127,INDEX(Backend!$V$1:$V$8,MATCH(A130,Backend!$U$1:$U$8,FALSE))&\" mL\",IF(ISERROR(MATCH(A130,Backend!$U$1:$U$8,FALSE)),\"To \"&$C$126&\" mL\",INDEX(Backend!$V$1:$V$8,MATCH(A130,Backend!$U$1:$U$8,FALSE))&\" uL\")))","v":"-"},null,{"$f":"IF(OR(A130=\"\",D130=\"\"),\"\",IF(OR(RIGHT(A130,5)=\"Flask\",RIGHT(A130,2)=\"mL\"),\"-\",(D130-MAX($D$129:D129))*INDEX(Compounds!G:G,MATCH(A130,Compounds!A:A,FALSE))*1000/$C$126))","v":""}]
[{"$f":"C127","v":"THF"},{"$f":"A131&\"#\"&MAX($B$1:B130)","v":"THF#6"},{"$f":"IF(RIGHT(A131,5)=\"Flask\",\"-\",IF(A131=$C$127,INDEX(Backend!$V$1:$V$8,MATCH(A131,Backend!$U$1:$U$8,FALSE))&\" mL\",IF(ISERROR(MATCH(A131,Backend!$U$1:$U$8,FALSE)),\"To \"&$C$126&\" mL\",INDEX(Backend!$V$1:$V$8,MATCH(A131,Backend!$U$1:$U$8,FALSE))&\" uL\")))","v":"10 mL"},null,{"$f":"IF(OR(A131=\"\",D131=\"\"),\"\",IF(OR(RIGHT(A131,5)=\"Flask\",RIGHT(A131,2)=\"mL\"),\"-\",(D131-MAX($D$129:D130))*INDEX(Compounds!G:G,MATCH(A131,Compounds!A:A,FALSE))*1000/$C$126))","v":""}]
["EGDE",{"$f":"A132&\"#\"&MAX($B$1:B131)","v":"EGDE#6"},{"$f":"IF(RIGHT(A132,5)=\"Flask\",\"-\",IF(A132=$C$127,INDEX(Backend!$V$1:$V$8,MATCH(A132,Backend!$U$1:$U$8,FALSE))&\" mL\",IF(ISERROR(MATCH(A132,Backend!$U$1:$U$8,FALSE)),\"To \"&$C$126&\" mL\",INDEX(Backend!$V$1:$V$8,MATCH(A132,Backend!$U$1:$U$8,FALSE))&\" uL\")))","v":"150 uL"},null,{"$f":"IF(OR(A132=\"\",D132=\"\"),\"\",IF(OR(RIGHT(A132,5)=\"Flask\",RIGHT(A132,2)=\"mL\"),\"-\",(D132-MAX($D$129:D131))*INDEX(Compounds!G:G,MATCH(A132,Compounds!A:A,FALSE))*1000/$C$126))","v":""}]
["Triglyme",{"$f":"A133&\"#\"&MAX($B$1:B132)","v":"Triglyme#6"},{"$f":"IF(RIGHT(A133,5)=\"Flask\",\"-\",IF(A133=$C$127,INDEX(Backend!$V$1:$V$8,MATCH(A133,Backend!$U$1:$U$8,FALSE))&\" mL\",IF(ISERROR(MATCH(A133,Backend!$U$1:$U$8,FALSE)),\"To \"&$C$126&\" mL\",INDEX(Backend!$V$1:$V$8,MATCH(A133,Backend!$U$1:$U$8,FALSE))&\" uL\")))","v":"26 uL"},null,{"$f":"IF(OR(A133=\"\",D133=\"\"),\"\",IF(OR(RIGHT(A133,5)=\"Flask\",RIGHT(A133,2)=\"mL\"),\"-\",(D133-MAX($D$129:D132))*INDEX(Compounds!G:G,MATCH(A133,Compounds!A:A,FALSE))*1000/$C$126))","v":""}]
["IPA",{"$f":"A134&\"#\"&MAX($B$1:B133)","v":"IPA#6"},{"$f":"IF(RIGHT(A134,5)=\"Flask\",\"-\",IF(A134=$C$127,INDEX(Backend!$V$1:$V$8,MATCH(A134,Backend!$U$1:$U$8,FALSE))&\" mL\",IF(ISERROR(MATCH(A134,Backend!$U$1:$U$8,FALSE)),\"To \"&$C$126&\" mL\",INDEX(Backend!$V$1:$V$8,MATCH(A134,Backend!$U$1:$U$8,FALSE))&\" uL\")))","v":"31 uL"},null,{"$f":"IF(OR(A134=\"\",D134=\"\"),\"\",IF(OR(RIGHT(A134,5)=\"Flask\",RIGHT(A134,2)=\"mL\"),\"-\",(D134-MAX($D$129:D133))*INDEX(Compounds!G:G,MATCH(A134,Compounds!A:A,FALSE))*1000/$C$126))","v":""}]
["DIIBA",{"$f":"A135&\"#\"&MAX($B$1:B134)","v":"DIIBA#6"},{"$f":"IF(RIGHT(A135,5)=\"Flask\",\"-\",IF(A135=$C$127,INDEX(Backend!$V$1:$V$8,MATCH(A135,Backend!$U$1:$U$8,FALSE))&\" mL\",IF(ISERROR(MATCH(A135,Backend!$U$1:$U$8,FALSE)),\"To \"&$C$126&\" mL\",INDEX(Backend!$V$1:$V$8,MATCH(A135,Backend!$U$1:$U$8,FALSE))&\" uL\")))","v":"26 uL"},null,{"$f":"IF(OR(A135=\"\",D135=\"\"),\"\",IF(OR(RIGHT(A135,5)=\"Flask\",RIGHT(A135,2)=\"mL\"),\"-\",(D135-MAX($D$129:D134))*INDEX(Compounds!G:G,MATCH(A135,Compounds!A:A,FALSE))*1000/$C$126))","v":""}]
["Heptane",{"$f":"A136&\"#\"&MAX($B$1:B135)","v":"Heptane#6"},{"$f":"IF(RIGHT(A136,5)=\"Flask\",\"-\",IF(A136=$C$127,INDEX(Backend!$V$1:$V$8,MATCH(A136,Backend!$U$1:$U$8,FALSE))&\" mL\",IF(ISERROR(MATCH(A136,Backend!$U$1:$U$8,FALSE)),\"To \"&$C$126&\" mL\",INDEX(Backend!$V$1:$V$8,MATCH(A136,Backend!$U$1:$U$8,FALSE))&\" uL\")))","v":"36 uL"},null,{"$f":"IF(OR(A136=\"\",D136=\"\"),\"\",IF(OR(RIGHT(A136,5)=\"Flask\",RIGHT(A136,2)=\"mL\"),\"-\",(D136-MAX($D$129:D135))*INDEX(Compounds!G:G,MATCH(A136,Compounds!A:A,FALSE))*1000/$C$126))","v":""}]
[{"$f":"\"QS w/ \"&C127&\" to \"&C126&\" mL\"","v":"QS w/ THF to 25 mL"},{"$f":"A137&\"#\"&MAX($B$1:B136)","v":"QS w/ THF to 25 mL#6"},{"$f":"IF(RIGHT(A137,5)=\"Flask\",\"-\",IF(A137=$C$127,INDEX(Backend!$V$1:$V$8,MATCH(A137,Backend!$U$1:$U$8,FALSE))&\" mL\",IF(ISERROR(MATCH(A137,Backend!$U$1:$U$8,FALSE)),\"To \"&$C$126&\" mL\",INDEX(Backend!$V$1:$V$8,MATCH(A137,Backend!$U$1:$U$8,FALSE))&\" uL\")))","v":"To 25 mL"},null,{"$f":"IF(OR(A137=\"\",D137=\"\"),\"\",IF(OR(RIGHT(A137,5)=\"Flask\",RIGHT(A137,2)=\"mL\"),\"-\",(D137-MAX($D$129:D136))*INDEX(Compounds!G:G,MATCH(A137,Compounds!A:A,FALSE))*1000/$C$126))","v":""}]
[]
["CSV Prep",{"$f":"COUNTIF($A$1:A139,\"=CSV Prep\")","v":7},{"$f":"\"CSV \"&COUNTIF($A$1:A139,\"=CSV Prep\")","v":"CSV 7"}]
["Prep Date:",null,"2016-10-15"]
["Flask Volume (mL):",null,25]
["Solvent:",null,"THF"]
[]
[null,null,"To Add","Mass (g)","g/L"]
[{"$f":"C141&\" mL Flask\"","v":"25 mL Flask"},{"$f":"A145&\"#\"&MAX($B$1:B144)","v":"25 mL Flask#7"},{"$f":"IF(RIGHT(A145,5)=\"Flask\",\"-\",IF(A145=$C$142,INDEX(Backend!$V$1:$V$8,MATCH(A145,Backend!$U$1:$U$8,FALSE))&\" mL\",IF(ISERROR(MATCH(A145,Backend!$U$1:$U$8,FALSE)),\"To \"&$C$141&\" mL\",INDEX(Backend!$V$1:$V$8,MATCH(A145,Backend!$U$1:$U$8,FALSE))&\" uL\")))","v":"-"},null,{"$f":"IF(OR(A145=\"\",D145=\"\"),\"\",IF(OR(RIGHT(A145,5)=\"Flask\",RIGHT(A145,2)=\"mL\"),\"-\",(D145-MAX($D$144:D144))*INDEX(Compounds!G:G,MATCH(A145,Compounds!A:A,FALSE))*1000/$C$141))","v":""}]
[{"$f":"C142","v":"THF"},{"$f":"A146&\"#\"&MAX($B$1:B145)","v":"THF#7"},{"$f":"IF(RIGHT(A146,5)=\"Flask\",\"-\",IF(A146=$C$142,INDEX(Backend!$V$1:$V$8,MATCH(A146,Backend!$U$1:$U$8,FALSE))&\" mL\",IF(ISERROR(MATCH(A146,Backend!$U$1:$U$8,FALSE)),\"To \"&$C$141&\" mL\",INDEX(Backend!$V$1:$V$8,MATCH(A146,Backend!$U$1:$U$8,FALSE))&\" uL\")))","v":"10 mL"},null,{"$f":"IF(OR(A146=\"\",D146=\"\"),\"\",IF(OR(RIGHT(A146,5)=\"Flask\",RIGHT(A146,2)=\"mL\"),\"-\",(D146-MAX($D$144:D145))*INDEX(Compounds!G:G,MATCH(A146,Compounds!A:A,FALSE))*1000/$C$141))","v":""}]
["EGDE",{"$f":"A147&\"#\"&MAX($B$1:B146)","v":"EGDE#7"},{"$f":"IF(RIGHT(A147,5)=\"Flask\",\"-\",IF(A147=$C$142,INDEX(Backend!$V$1:$V$8,MATCH(A147,Backend!$U$1:$U$8,FALSE))&\" mL\",IF(ISERROR(MATCH(A147,Backend!$U$1:$U$8,FALSE)),\"To \"&$C$141&\" mL\",INDEX(Backend!$V$1:$V$8,MATCH(A147,Backend!$U$1:$U$8,FALSE))&\" uL\")))","v":"150 uL"},null,{"$f":"IF(OR(A147=\"\",D147=\"\"),\"\",IF(OR(RIGHT(A147,5)=\"Flask\",RIGHT(A147,2)=\"mL\"),\"-\",(D147-MAX($D$144:D146))*INDEX(Compounds!G:G,MATCH(A147,Compounds!A:A,FALSE))*1000/$C$141))","v":""}]
["Triglyme",{"$f":"A148&\"#\"&MAX($B$1:B147)","v":"Triglyme#7"},{"$f":"IF(RIGHT(A148,5)=\"Flask\",\"-\",IF(A148=$C$142,INDEX(Backend!$V$1:$V$8,MATCH(A148,Backend!$U$1:$U$8,FALSE))&\" mL\",IF(ISERROR(MATCH(A148,Backend!$U$1:$U$8,FALSE)),\"To \"&$C$141&\" mL\",INDEX(Backend!$V$1:$V$8,MATCH(A148,Backend!$U$1:$U$8,FALSE))&\" uL\")))","v":"26 uL"},null,{"$f":"IF(OR(A148=\"\",D148=\"\"),\"\",IF(OR(RIGHT(A148,5)=\"Flask\",RIGHT(A148,2)=\"mL\"),\"-\",(D148-MAX($D$144:D147))*INDEX(Compounds!G:G,MATCH(A148,Compounds!A:A,FALSE))*1000/$C$141))","v":""}]
["IPA",{"$f":"A149&\"#\"&MAX($B$1:B148)","v":"IPA#7"},{"$f":"IF(RIGHT(A149,5)=\"Flask\",\"-\",IF(A149=$C$142,INDEX(Backend!$V$1:$V$8,MATCH(A149,Backend!$U$1:$U$8,FALSE))&\" mL\",IF(ISERROR(MATCH(A149,Backend!$U$1:$U$8,FALSE)),\"To \"&$C$141&\" mL\",INDEX(Backend!$V$1:$V$8,MATCH(A149,Backend!$U$1:$U$8,FALSE))&\" uL\")))","v":"31 uL"},null,{"$f":"IF(OR(A149=\"\",D149=\"\"),\"\",IF(OR(RIGHT(A149,5)=\"Flask\",RIGHT(A149,2)=\"mL\"),\"-\",(D149-MAX($D$144:D148))*INDEX(Compounds!G:G,MATCH(A149,Compounds!A:A,FALSE))*1000/$C$141))","v":""}]
["DIIBA",{"$f":"A150&\"#\"&MAX($B$1:B149)","v":"DIIBA#7"},{"$f":"IF(RIGHT(A150,5)=\"Flask\",\"-\",IF(A150=$C$142,INDEX(Backend!$V$1:$V$8,MATCH(A150,Backend!$U$1:$U$8,FALSE))&\" mL\",IF(ISERROR(MATCH(A150,Backend!$U$1:$U$8,FALSE)),\"To \"&$C$141&\" mL\",INDEX(Backend!$V$1:$V$8,MATCH(A150,Backend!$U$1:$U$8,FALSE))&\" uL\")))","v":"26 uL"},null,{"$f":"IF(OR(A150=\"\",D150=\"\"),\"\",IF(OR(RIGHT(A150,5)=\"Flask\",RIGHT(A150,2)=\"mL\"),\"-\",(D150-MAX($D$144:D149))*INDEX(Compounds!G:G,MATCH(A150,Compounds!A:A,FALSE))*1000/$C$141))","v":""}]
["Heptane",{"$f":"A151&\"#\"&MAX($B$1:B150)","v":"Heptane#7"},{"$f":"IF(RIGHT(A151,5)=\"Flask\",\"-\",IF(A151=$C$142,INDEX(Backend!$V$1:$V$8,MATCH(A151,Backend!$U$1:$U$8,FALSE))&\" mL\",IF(ISERROR(MATCH(A151,Backend!$U$1:$U$8,FALSE)),\"To \"&$C$141&\" mL\",INDEX(Backend!$V$1:$V$8,MATCH(A151,Backend!$U$1:$U$8,FALSE))&\" uL\")))","v":"36 uL"},null,{"$f":"IF(OR(A151=\"\",D151=\"\"),\"\",IF(OR(RIGHT(A151,5)=\"Flask\",RIGHT(A151,2)=\"mL\"),\"-\",(D151-MAX($D$144:D150))*INDEX(Compounds!G:G,MATCH(A151,Compounds!A:A,FALSE))*1000/$C$141))","v":""}]
[{"$f":"\"QS w/ \"&C142&\" to \"&C141&\" mL\"","v":"QS w/ THF to 25 mL"},{"$f":"A152&\"#\"&MAX($B$1:B151)","v":"QS w/ THF to 25 mL#7"},{"$f":"IF(RIGHT(A152,5)=\"Flask\",\"-\",IF(A152=$C$142,INDEX(Backend!$V$1:$V$8,MATCH(A152,Backend!$U$1:$U$8,FALSE))&\" mL\",IF(ISERROR(MATCH(A152,Backend!$U$1:$U$8,FALSE)),\"To \"&$C$141&\" mL\",INDEX(Backend!$V$1:$V$8,MATCH(A152,Backend!$U$1:$U$8,FALSE))&\" uL\")))","v":"To 25 mL"},null,{"$f":"IF(OR(A152=\"\",D152=\"\"),\"\",IF(OR(RIGHT(A152,5)=\"Flask\",RIGHT(A152,2)=\"mL\"),\"-\",(D152-MAX($D$144:D151))*INDEX(Compounds!G:G,MATCH(A152,Compounds!A:A,FALSE))*1000/$C$141))","v":""}]

{"sheet":"CSV 1 Data","index":7,"n_rows":5,"n_cols":15,"rows_kept":5,"cut":false,"hidden":true,"merged":[]}
[]
["ID:","CSV 1 A",null,null,"ID:","CSV 1 B",null,null,"ID:","CSV 1 C",null,null,"ID:","CSV 1 D"]
["Filename",null,null,null,"Filename",null,null,null,"Filename",null,null,null,"Filename"]
[]
["RT (min)","Area Counts","Compound ID",null,"RT (min)","Area Counts","Compound ID",null,"RT (min)","Area Counts","Compound ID",null,"RT (min)","Area Counts","Compound ID"]

{"sheet":"CSV 2 Data","index":8,"n_rows":5,"n_cols":15,"rows_kept":5,"cut":false,"hidden":true,"merged":[]}
[]
["ID:","CSV 2 A",null,null,"ID:","CSV 2 B",null,null,"ID:","CSV 2 C",null,null,"ID:","CSV 2 D"]
["Filename",null,null,null,"Filename",null,null,null,"Filename",null,null,null,"Filename"]
[]
["RT (min)","Area Counts","Compound ID",null,"RT (min)","Area Counts","Compound ID",null,"RT (min)","Area Counts","Compound ID",null,"RT (min)","Area Counts","Compound ID"]

{"sheet":"CSV 3 Data","index":9,"n_rows":5,"n_cols":15,"rows_kept":5,"cut":false,"hidden":true,"merged":[]}
[]
["ID:","CSV 3 A",null,null,"ID:","CSV 3 B",null,null,"ID:","CSV 3 C",null,null,"ID:","CSV 3 D"]
["Filename",null,null,null,"Filename",null,null,null,"Filename",null,null,null,"Filename"]
[]
["RT (min)","Area Counts","Compound ID",null,"RT (min)","Area Counts","Compound ID",null,"RT (min)","Area Counts","Compound ID",null,"RT (min)","Area Counts","Compound ID"]

{"sheet":"CSV 4 Data","index":10,"n_rows":5,"n_cols":15,"rows_kept":5,"cut":false,"hidden":true,"merged":[]}
[]
["ID:","CSV 4 A",null,null,"ID:","CSV 4 B",null,null,"ID:","CSV 4 C",null,null,"ID:","CSV 4 D"]
["Filename",null,null,null,"Filename",null,null,null,"Filename",null,null,null,"Filename"]
[]
["RT (min)","Area Counts","Compound ID",null,"RT (min)","Area Counts","Compound ID",null,"RT (min)","Area Counts","Compound ID",null,"RT (min)","Area Counts","Compound ID"]

{"sheet":"CSV Summary","index":11,"n_rows":38,"n_cols":11,"rows_kept":38,"cut":false,"hidden":false,"merged":[[30,0,30,10],[31,4,31,6],[31,8,31,10],[1,4,1,6],[0,0,0,10],[1,8,1,10],[10,0,10,10],[11,4,11,6],[11,8,11,10],[20,0,20,10],[21,4,21,6],[21,8,21,10]]}
["CSV 1"]
[null,null,null,null,"A + B",null,null,null,"C + D"]
["Compound","Prep g/L","RRF",null,"Avg. AC","g/L","% Recovery",null,"Avg. AC","g/L","% Recovery"]
["EGDE",{"$f":"INDEX('CSV Prep'!E:E,MATCH(A4&\" \"&$A$1,'CSV Prep'!B:B,FALSE))","v":""},{"$f":"IF(A4=\"\",\"\",INDEX(RRFs!E:E,MATCH(A4,RRFs!B:B,FALSE)))","v":{"$error":"#N/A"}},null,{"$f":"IF(A4=\"\",\"\",AVERAGE(SUMIF('CSV 1 Data'!C:C,\"=\"&'CSV Summary'!A4,'CSV 1 Data'!B:B),SUMIF('CSV 1 Data'!G:G,\"=\"&'CSV Summary'!A4,'CSV 1 Data'!F:F)))","v":0},{"$f":"IF(A4=\"\",\"\",IF(A4=\"EGDE\",E4/C4,E4/$E$4*$B$4/C4))","v":{"$error":"#N/A"}},{"$f":"IF(B4=\"\",\"\",F4*100/B4)","v":""},null,{"$f":"IF(A4=\"\",\"\",AVERAGE(SUMIF('CSV 1 Data'!K:K,\"=\"&'CSV Summary'!A4,'CSV 1 Data'!J:J),SUMIF('CSV 1 Data'!O:O,\"=\"&'CSV Summary'!A4,'CSV 1 Data'!N:N)))","v":0},{"$f":"IF(A4=\"\",\"\",IF(A4=\"EGDE\",I4/C4,I4/$I$4*$B$4/C4))","v":{"$error":"#N/A"}},{"$f":"IF(B4=\"\",\"\",J4*100/B4)","v":""}]
["IPA",{"$f":"INDEX('CSV Prep'!E:E,MATCH(A5&\" \"&$A$1,'CSV Prep'!B:B,FALSE))","v":""},{"$f":"IF(A5=\"\",\"\",INDEX(RRFs!E:E,MATCH(A5,RRFs!B:B,FALSE)))","v":{"$error":"#N/A"}},null,{"$f":"IF(A5=\"\",\"\",AVERAGE(SUMIF('CSV 1 Data'!C:C,\"=\"&'CSV Summary'!A5,'CSV 1 Data'!B:B),SUMIF('CSV 1 Data'!G:G,\"=\"&'CSV Summary'!A5,'CSV 1 Data'!F:F)))","v":0},{"$f":"IF(A5=\"\",\"\",IF(A5=\"EGDE\",E5/C5,E5/$E$4*$B$4/C5))","v":{"$error":"#DIV/0!"}},{"$f":"IF(B5=\"\",\"\",F5*100/B5)","v":""},null,{"$f":"IF(A5=\"\",\"\",AVERAGE(SUMIF('CSV 1 Data'!K:K,\"=\"&'CSV Summary'!A5,'CSV 1 Data'!J:J),SUMIF('CSV 1 Data'!O:O,\"=\"&'CSV Summary'!A5,'CSV 1 Data'!N:N)))","v":0},{"$f":"IF(A5=\"\",\"\",IF(A5=\"EGDE\",I5/C5,I5/$I$4*$B$4/C5))","v":{"$error":"#DIV/0!"}},{"$f":"IF(B5=\"\",\"\",J5*100/B5)","v":""}]
["Heptane",{"$f":"INDEX('CSV Prep'!E:E,MATCH(A6&\" \"&$A$1,'CSV Prep'!B:B,FALSE))","v":""},{"$f":"IF(A6=\"\",\"\",INDEX(RRFs!E:E,MATCH(A6,RRFs!B:B,FALSE)))","v":{"$error":"#N/A"}},null,{"$f":"IF(A6=\"\",\"\",AVERAGE(SUMIF('CSV 1 Data'!C:C,\"=\"&'CSV Summary'!A6,'CSV 1 Data'!B:B),SUMIF('CSV 1 Data'!G:G,\"=\"&'CSV Summary'!A6,'CSV 1 Data'!F:F)))","v":0},{"$f":"IF(A6=\"\",\"\",IF(A6=\"EGDE\",E6/C6,E6/$E$4*$B$4/C6))","v":{"$error":"#DIV/0!"}},{"$f":"IF(B6=\"\",\"\",F6*100/B6)","v":""},null,{"$f":"IF(A6=\"\",\"\",AVERAGE(SUMIF('CSV 1 Data'!K:K,\"=\"&'CSV Summary'!A6,'CSV 1 Data'!J:J),SUMIF('CSV 1 Data'!O:O,\"=\"&'CSV Summary'!A6,'CSV 1 Data'!N:N)))","v":0},{"$error":"#DIV/0!"},""]
["Triglyme",{"$f":"INDEX('CSV Prep'!E:E,MATCH(A7&\" \"&$A$1,'CSV Prep'!B:B,FALSE))","v":""},{"$f":"IF(A7=\"\",\"\",INDEX(RRFs!E:E,MATCH(A7,RRFs!B:B,FALSE)))","v":{"$error":"#N/A"}},null,{"$f":"IF(A7=\"\",\"\",AVERAGE(SUMIF('CSV 1 Data'!C:C,\"=\"&'CSV Summary'!A7,'CSV 1 Data'!B:B),SUMIF('CSV 1 Data'!G:G,\"=\"&'CSV Summary'!A7,'CSV 1 Data'!F:F)))","v":0},{"$f":"IF(A7=\"\",\"\",IF(A7=\"EGDE\",E7/C7,E7/$E$4*$B$4/C7))","v":{"$error":"#DIV/0!"}},{"$f":"IF(B7=\"\",\"\",F7*100/B7)","v":""},null,{"$f":"IF(A7=\"\",\"\",AVERAGE(SUMIF('CSV 1 Data'!K:K,\"=\"&'CSV Summary'!A7,'CSV 1 Data'!J:J),SUMIF('CSV 1 Data'!O:O,\"=\"&'CSV Summary'!A7,'CSV 1 Data'!N:N)))","v":0},{"$error":"#DIV/0!"},""]
["DIIBA",{"$f":"INDEX('CSV Prep'!E:E,MATCH(A8&\" \"&$A$1,'CSV Prep'!B:B,FALSE))","v":""},{"$f":"IF(A8=\"\",\"\",INDEX(RRFs!E:E,MATCH(A8,RRFs!B:B,FALSE)))","v":{"$error":"#N/A"}},null,{"$f":"IF(A8=\"\",\"\",AVERAGE(SUMIF('CSV 1 Data'!C:C,\"=\"&'CSV Summary'!A8,'CSV 1 Data'!B:B),SUMIF('CSV 1 Data'!G:G,\"=\"&'CSV Summary'!A8,'CSV 1 Data'!F:F)))","v":0},{"$f":"IF(A8=\"\",\"\",IF(A8=\"EGDE\",E8/C8,E8/$E$4*$B$4/C8))","v":{"$error":"#DIV/0!"}},{"$f":"IF(B8=\"\",\"\",F8*100/B8)","v":""},null,{"$f":"IF(A8=\"\",\"\",AVERAGE(SUMIF('CSV 1 Data'!K:K,\"=\"&'CSV Summary'!A8,'CSV 1 Data'!J:J),SUMIF('CSV 1 Data'!O:O,\"=\"&'CSV Summary'!A8,'CSV 1 Data'!N:N)))","v":0},{"$error":"#DIV/0!"},""]
[]
[]
["CSV 2"]
[null,null,null,null,"A + B",null,null,null,"C + D"]
["Compound","Prep g/L","RRF",null,"Avg. AC","g/L","% Recovery",null,"Avg. AC","g/L","% Recovery"]
["EGDE",{"$f":"INDEX('CSV Prep'!E:E,MATCH(A14&\" \"&$A$11,'CSV Prep'!B:B,FALSE))","v":""},{"$f":"IF(A14=\"\",\"\",INDEX(RRFs!E:E,MATCH(A14,RRFs!B:B,FALSE)))","v":{"$error":"#N/A"}},null,{"$f":"IF(A14=\"\",\"\",AVERAGE(SUMIF('CSV 2 Data'!C:C,\"=\"&'CSV Summary'!A14,'CSV 2 Data'!B:B),SUMIF('CSV 2 Data'!G:G,\"=\"&'CSV Summary'!A14,'CSV 2 Data'!F:F)))","v":0},{"$f":"IF(A14=\"\",\"\",IF(A14=\"EGDE\",E14/C14,E14/$E$14*$B$14/C14))","v":{"$error":"#N/A"}},{"$f":"IF(B14=\"\",\"\",F14*100/B14)","v":""},null,{"$f":"IF(A14=\"\",\"\",AVERAGE(SUMIF('CSV 2 Data'!K:K,\"=\"&'CSV Summary'!A14,'CSV 2 Data'!J:J),SUMIF('CSV 2 Data'!O:O,\"=\"&'CSV Summary'!A14,'CSV 2 Data'!N:N)))","v":0},{"$f":"IF(A14=\"\",\"\",IF(A14=\"EGDE\",I14/C14,I14/$I$14*$B$14/C14))","v":{"$error":"#N/A"}},{"$f":"IF(B14=\"\",\"\",J14*100/B14)","v":""}]
["IPA",{"$f":"INDEX('CSV Prep'!E:E,MATCH(A15&\" \"&$A$11,'CSV Prep'!B:B,FALSE))","v":""},{"$f":"IF(A15=\"\",\"\",INDEX(RRFs!E:E,MATCH(A15,RRFs!B:B,FALSE)))","v":{"$error":"#N/A"}},null,{"$f":"IF(A15=\"\",\"\",AVERAGE(SUMIF('CSV 2 Data'!C:C,\"=\"&'CSV Summary'!A15,'CSV 2 Data'!B:B),SUMIF('CSV 2 Data'!G:G,\"=\"&'CSV Summary'!A15,'CSV 2 Data'!F:F)))","v":0},{"$f":"IF(A15=\"\",\"\",IF(A15=\"EGDE\",E15/C15,E15/$E$14*$B$14/C15))","v":{"$error":"#DIV/0!"}},{"$f":"IF(B15=\"\",\"\",F15*100/B15)","v":""},null,{"$f":"IF(A15=\"\",\"\",AVERAGE(SUMIF('CSV 2 Data'!K:K,\"=\"&'CSV Summary'!A15,'CSV 2 Data'!J:J),SUMIF('CSV 2 Data'!O:O,\"=\"&'CSV Summary'!A15,'CSV 2 Data'!N:N)))","v":0},{"$f":"IF(A15=\"\",\"\",IF(A15=\"EGDE\",I15/C15,I15/$I$14*$B$14/C15))","v":{"$error":"#DIV/0!"}},{"$f":"IF(B15=\"\",\"\",J15*100/B15)","v":""}]
["Heptane",{"$f":"INDEX('CSV Prep'!E:E,MATCH(A16&\" \"&$A$11,'CSV Prep'!B:B,FALSE))","v":""},{"$f":"IF(A16=\"\",\"\",INDEX(RRFs!E:E,MATCH(A16,RRFs!B:B,FALSE)))","v":{"$error":"#N/A"}},null,{"$f":"IF(A16=\"\",\"\",AVERAGE(SUMIF('CSV 2 Data'!C:C,\"=\"&'CSV Summary'!A16,'CSV 2 Data'!B:B),SUMIF('CSV 2 Data'!G:G,\"=\"&'CSV Summary'!A16,'CSV 2 Data'!F:F)))","v":0},{"$error":"#DIV/0!"},{"$f":"IF(B16=\"\",\"\",F16*100/B16)","v":""},null,{"$f":"IF(A16=\"\",\"\",AVERAGE(SUMIF('CSV 2 Data'!K:K,\"=\"&'CSV Summary'!A16,'CSV 2 Data'!J:J),SUMIF('CSV 2 Data'!O:O,\"=\"&'CSV Summary'!A16,'CSV 2 Data'!N:N)))","v":0},{"$error":"#DIV/0!"},""]
["Triglyme",{"$f":"INDEX('CSV Prep'!E:E,MATCH(A17&\" \"&$A$11,'CSV Prep'!B:B,FALSE))","v":""},{"$f":"IF(A17=\"\",\"\",INDEX(RRFs!E:E,MATCH(A17,RRFs!B:B,FALSE)))","v":{"$error":"#N/A"}},null,{"$f":"IF(A17=\"\",\"\",AVERAGE(SUMIF('CSV 2 Data'!C:C,\"=\"&'CSV Summary'!A17,'CSV 2 Data'!B:B),SUMIF('CSV 2 Data'!G:G,\"=\"&'CSV Summary'!A17,'CSV 2 Data'!F:F)))","v":0},{"$error":"#DIV/0!"},{"$f":"IF(B17=\"\",\"\",F17*100/B17)","v":""},null,{"$f":"IF(A17=\"\",\"\",AVERAGE(SUMIF('CSV 2 Data'!K:K,\"=\"&'CSV Summary'!A17,'CSV 2 Data'!J:J),SUMIF('CSV 2 Data'!O:O,\"=\"&'CSV Summary'!A17,'CSV 2 Data'!N:N)))","v":0},{"$error":"#DIV/0!"},""]
["DIIBA",{"$f":"INDEX('CSV Prep'!E:E,MATCH(A18&\" \"&$A$11,'CSV Prep'!B:B,FALSE))","v":""},{"$f":"IF(A18=\"\",\"\",INDEX(RRFs!E:E,MATCH(A18,RRFs!B:B,FALSE)))","v":{"$error":"#N/A"}},null,{"$f":"IF(A18=\"\",\"\",AVERAGE(SUMIF('CSV 2 Data'!C:C,\"=\"&'CSV Summary'!A18,'CSV 2 Data'!B:B),SUMIF('CSV 2 Data'!G:G,\"=\"&'CSV Summary'!A18,'CSV 2 Data'!F:F)))","v":0},{"$error":"#DIV/0!"},{"$f":"IF(B18=\"\",\"\",F18*100/B18)","v":""},null,{"$f":"IF(A18=\"\",\"\",AVERAGE(SUMIF('CSV 2 Data'!K:K,\"=\"&'CSV Summary'!A18,'CSV 2 Data'!J:J),SUMIF('CSV 2 Data'!O:O,\"=\"&'CSV Summary'!A18,'CSV 2 Data'!N:N)))","v":0},{"$error":"#DIV/0!"},""]
[]
[]
["CSV 3"]
[null,null,null,null,"A + B",null,null,null,"C + D"]
["Compound","Prep g/L","RRF",null,"Avg. AC","g/L","% Recovery",null,"Avg. AC","g/L","% Recovery"]
["EGDE",{"$f":"INDEX('CSV Prep'!E:E,MATCH(A24&\" \"&$A$21,'CSV Prep'!B:B,FALSE))","v":""},{"$f":"IF(A24=\"\",\"\",INDEX(RRFs!E:E,MATCH(A24,RRFs!B:B,FALSE)))","v":{"$error":"#N/A"}},null,{"$f":"IF(A24=\"\",\"\",AVERAGE(SUMIF('CSV 3 Data'!C:C,\"=\"&'CSV Summary'!A24,'CSV 3 Data'!B:B),SUMIF('CSV 3 Data'!G:G,\"=\"&'CSV Summary'!A24,'CSV 3 Data'!F:F)))","v":0},{"$f":"IF(A24=\"\",\"\",IF(A24=\"EGDE\",E24/C24,E24/$E$24*$B$24/C24))","v":{"$error":"#N/A"}},{"$f":"IF(B24=\"\",\"\",F24*100/B24)","v":""},null,{"$f":"IF(A24=\"\",\"\",AVERAGE(SUMIF('CSV 3 Data'!K:K,\"=\"&'CSV Summary'!A24,'CSV 3 Data'!J:J),SUMIF('CSV 3 Data'!O:O,\"=\"&'CSV Summary'!A24,'CSV 3 Data'!N:N)))","v":0},{"$f":"IF(A24=\"\",\"\",IF(A24=\"EGDE\",I24/C24,I24/$I$24*$B$24/C24))","v":{"$error":"#N/A"}},{"$f":"IF(B24=\"\",\"\",J24*100/B24)","v":""}]
["IPA",{"$f":"INDEX('CSV Prep'!E:E,MATCH(A25&\" \"&$A$21,'CSV Prep'!B:B,FALSE))","v":""},{"$f":"IF(A25=\"\",\"\",INDEX(RRFs!E:E,MATCH(A25,RRFs!B:B,FALSE)))","v":{"$error":"#N/A"}},null,{"$f":"IF(A25=\"\",\"\",AVERAGE(SUMIF('CSV 3 Data'!C:C,\"=\"&'CSV Summary'!A25,'CSV 3 Data'!B:B),SUMIF('CSV 3 Data'!G:G,\"=\"&'CSV Summary'!A25,'CSV 3 Data'!F:F)))","v":0},{"$f":"IF(A25=\"\",\"\",IF(A25=\"EGDE\",E25/C25,E25/$E$24*$B$24/C25))","v":{"$error":"#DIV/0!"}},{"$f":"IF(B25=\"\",\"\",F25*100/B25)","v":""},null,{"$f":"IF(A25=\"\",\"\",AVERAGE(SUMIF('CSV 3 Data'!K:K,\"=\"&'CSV Summary'!A25,'CSV 3 Data'!J:J),SUMIF('CSV 3 Data'!O:O,\"=\"&'CSV Summary'!A25,'CSV 3 Data'!N:N)))","v":0},{"$f":"IF(A25=\"\",\"\",IF(A25=\"EGDE\",I25/C25,I25/$I$4*$B$4/C25))","v":{"$error":"#DIV/0!"}},{"$f":"IF(B25=\"\",\"\",J25*100/B25)","v":""}]
["Heptane",{"$f":"INDEX('CSV Prep'!E:E,MATCH(A26&\" \"&$A$21,'CSV Prep'!B:B,FALSE))","v":""},{"$f":"IF(A26=\"\",\"\",INDEX(RRFs!E:E,MATCH(A26,RRFs!B:B,FALSE)))","v":{"$error":"#N/A"}},null,{"$f":"IF(A26=\"\",\"\",AVERAGE(SUMIF('CSV 3 Data'!C:C,\"=\"&'CSV Summary'!A26,'CSV 3 Data'!B:B),SUMIF('CSV 3 Data'!G:G,\"=\"&'CSV Summary'!A26,'CSV 3 Data'!F:F)))","v":0},{"$error":"#DIV/0!"},{"$f":"IF(B26=\"\",\"\",F26*100/B26)","v":""},null,{"$f":"IF(A26=\"\",\"\",AVERAGE(SUMIF('CSV 3 Data'!K:K,\"=\"&'CSV Summary'!A26,'CSV 3 Data'!J:J),SUMIF('CSV 3 Data'!O:O,\"=\"&'CSV Summary'!A26,'CSV 3 Data'!N:N)))","v":0},{"$error":"#DIV/0!"},""]
["Triglyme",{"$f":"INDEX('CSV Prep'!E:E,MATCH(A27&\" \"&$A$21,'CSV Prep'!B:B,FALSE))","v":""},{"$f":"IF(A27=\"\",\"\",INDEX(RRFs!E:E,MATCH(A27,RRFs!B:B,FALSE)))","v":{"$error":"#N/A"}},null,{"$f":"IF(A27=\"\",\"\",AVERAGE(SUMIF('CSV 3 Data'!C:C,\"=\"&'CSV Summary'!A27,'CSV 3 Data'!B:B),SUMIF('CSV 3 Data'!G:G,\"=\"&'CSV Summary'!A27,'CSV 3 Data'!F:F)))","v":0},{"$error":"#DIV/0!"},{"$f":"IF(B27=\"\",\"\",F27*100/B27)","v":""},null,{"$f":"IF(A27=\"\",\"\",AVERAGE(SUMIF('CSV 3 Data'!K:K,\"=\"&'CSV Summary'!A27,'CSV 3 Data'!J:J),SUMIF('CSV 3 Data'!O:O,\"=\"&'CSV Summary'!A27,'CSV 3 Data'!N:N)))","v":0},{"$error":"#DIV/0!"},""]
["DIIBA",{"$f":"INDEX('CSV Prep'!E:E,MATCH(A28&\" \"&$A$21,'CSV Prep'!B:B,FALSE))","v":""},{"$f":"IF(A28=\"\",\"\",INDEX(RRFs!E:E,MATCH(A28,RRFs!B:B,FALSE)))","v":{"$error":"#N/A"}},null,{"$f":"IF(A28=\"\",\"\",AVERAGE(SUMIF('CSV 3 Data'!C:C,\"=\"&'CSV Summary'!A28,'CSV 3 Data'!B:B),SUMIF('CSV 3 Data'!G:G,\"=\"&'CSV Summary'!A28,'CSV 3 Data'!F:F)))","v":0},{"$error":"#DIV/0!"},{"$f":"IF(B28=\"\",\"\",F28*100/B28)","v":""},null,{"$f":"IF(A28=\"\",\"\",AVERAGE(SUMIF('CSV 3 Data'!K:K,\"=\"&'CSV Summary'!A28,'CSV 3 Data'!J:J),SUMIF('CSV 3 Data'!O:O,\"=\"&'CSV Summary'!A28,'CSV 3 Data'!N:N)))","v":0},{"$error":"#DIV/0!"},""]
[]
[]
["CSV 4"]
[null,null,null,null,"A + B",null,null,null,"C + D"]
["Compound","Prep g/L","RRF",null,"Avg. AC","g/L","% Recovery",null,"Avg. AC","g/L","% Recovery"]
["EGDE",{"$f":"INDEX('CSV Prep'!E:E,MATCH(A34&\" \"&$A$31,'CSV Prep'!B:B,FALSE))","v":""},{"$f":"IF(A34=\"\",\"\",INDEX(RRFs!E:E,MATCH(A34,RRFs!B:B,FALSE)))","v":{"$error":"#N/A"}},null,{"$f":"IF(A34=\"\",\"\",AVERAGE(SUMIF('CSV 4 Data'!C:C,\"=\"&'CSV Summary'!A34,'CSV 4 Data'!B:B),SUMIF('CSV 4 Data'!G:G,\"=\"&'CSV Summary'!A34,'CSV 4 Data'!F:F)))","v":0},{"$f":"IF(A34=\"\",\"\",IF(A34=\"EGDE\",E34/C34,E34/$E$34*$B$34/C34))","v":{"$error":"#N/A"}},{"$f":"IF(B34=\"\",\"\",F34*100/B34)","v":""},null,{"$f":"IF(A34=\"\",\"\",AVERAGE(SUMIF('CSV 4 Data'!K:K,\"=\"&'CSV Summary'!A34,'CSV 4 Data'!J:J),SUMIF('CSV 4 Data'!O:O,\"=\"&'CSV Summary'!A34,'CSV 4 Data'!N:N)))","v":0},{"$f":"IF(A34=\"\",\"\",IF(A34=\"EGDE\",I34/C34,I34/$I$34*$B$34/C34))","v":{"$error":"#N/A"}},{"$f":"IF(B34=\"\",\"\",J34*100/B34)","v":""}]
["IPA",{"$f":"INDEX('CSV Prep'!E:E,MATCH(A35&\" \"&$A$31,'CSV Prep'!B:B,FALSE))","v":""},{"$f":"IF(A35=\"\",\"\",INDEX(RRFs!E:E,MATCH(A35,RRFs!B:B,FALSE)))","v":{"$error":"#N/A"}},null,{"$f":"IF(A35=\"\",\"\",AVERAGE(SUMIF('CSV 4 Data'!C:C,\"=\"&'CSV Summary'!A35,'CSV 4 Data'!B:B),SUMIF('CSV 4 Data'!G:G,\"=\"&'CSV Summary'!A35,'CSV 4 Data'!F:F)))","v":0},{"$f":"IF(A35=\"\",\"\",IF(A35=\"EGDE\",E35/C35,E35/$E$34*$B$34/C35))","v":{"$error":"#DIV/0!"}},{"$f":"IF(B35=\"\",\"\",F35*100/B35)","v":""},null,{"$f":"IF(A35=\"\",\"\",AVERAGE(SUMIF('CSV 4 Data'!K:K,\"=\"&'CSV Summary'!A35,'CSV 4 Data'!J:J),SUMIF('CSV 4 Data'!O:O,\"=\"&'CSV Summary'!A35,'CSV 4 Data'!N:N)))","v":0},{"$f":"IF(A35=\"\",\"\",IF(A35=\"EGDE\",I35/C35,I35/$I$34*$B$34/C35))","v":{"$error":"#DIV/0!"}},{"$f":"IF(B35=\"\",\"\",J35*100/B35)","v":""}]
["Heptane",{"$f":"INDEX('CSV Prep'!E:E,MATCH(A36&\" \"&$A$31,'CSV Prep'!B:B,FALSE))","v":""},{"$f":"IF(A36=\"\",\"\",INDEX(RRFs!E:E,MATCH(A36,RRFs!B:B,FALSE)))","v":{"$error":"#N/A"}},null,{"$f":"IF(A36=\"\",\"\",AVERAGE(SUMIF('CSV 4 Data'!C:C,\"=\"&'CSV Summary'!A36,'CSV 4 Data'!B:B),SUMIF('CSV 4 Data'!G:G,\"=\"&'CSV Summary'!A36,'CSV 4 Data'!F:F)))","v":0},{"$error":"#DIV/0!"},{"$f":"IF(B36=\"\",\"\",F36*100/B36)","v":""},null,{"$f":"IF(A36=\"\",\"\",AVERAGE(SUMIF('CSV 4 Data'!K:K,\"=\"&'CSV Summary'!A36,'CSV 4 Data'!J:J),SUMIF('CSV 4 Data'!O:O,\"=\"&'CSV Summary'!A36,'CSV 4 Data'!N:N)))","v":0},{"$error":"#DIV/0!"},""]
["Triglyme",{"$f":"INDEX('CSV Prep'!E:E,MATCH(A37&\" \"&$A$31,'CSV Prep'!B:B,FALSE))","v":""},{"$f":"IF(A37=\"\",\"\",INDEX(RRFs!E:E,MATCH(A37,RRFs!B:B,FALSE)))","v":{"$error":"#N/A"}},null,{"$f":"IF(A37=\"\",\"\",AVERAGE(SUMIF('CSV 4 Data'!C:C,\"=\"&'CSV Summary'!A37,'CSV 4 Data'!B:B),SUMIF('CSV 4 Data'!G:G,\"=\"&'CSV Summary'!A37,'CSV 4 Data'!F:F)))","v":0},{"$error":"#DIV/0!"},{"$f":"IF(B37=\"\",\"\",F37*100/B37)","v":""},null,{"$f":"IF(A37=\"\",\"\",AVERAGE(SUMIF('CSV 4 Data'!K:K,\"=\"&'CSV Summary'!A37,'CSV 4 Data'!J:J),SUMIF('CSV 4 Data'!O:O,\"=\"&'CSV Summary'!A37,'CSV 4 Data'!N:N)))","v":0},{"$error":"#DIV/0!"},""]
["DIIBA",{"$f":"INDEX('CSV Prep'!E:E,MATCH(A38&\" \"&$A$31,'CSV Prep'!B:B,FALSE))","v":""},{"$f":"IF(A38=\"\",\"\",INDEX(RRFs!E:E,MATCH(A38,RRFs!B:B,FALSE)))","v":{"$error":"#N/A"}},null,{"$f":"IF(A38=\"\",\"\",AVERAGE(SUMIF('CSV 4 Data'!C:C,\"=\"&'CSV Summary'!A38,'CSV 4 Data'!B:B),SUMIF('CSV 4 Data'!G:G,\"=\"&'CSV Summary'!A38,'CSV 4 Data'!F:F)))","v":0},{"$error":"#DIV/0!"},{"$f":"IF(B38=\"\",\"\",F38*100/B38)","v":""},null,{"$f":"IF(A38=\"\",\"\",AVERAGE(SUMIF('CSV 4 Data'!K:K,\"=\"&'CSV Summary'!A38,'CSV 4 Data'!J:J),SUMIF('CSV 4 Data'!O:O,\"=\"&'CSV Summary'!A38,'CSV 4 Data'!N:N)))","v":0},{"$error":"#DIV/0!"},""]

{"sheet":"CCV Prep","index":12,"n_rows":121,"n_cols":33,"rows_kept":121,"cut":false,"hidden":false,"merged":[[0,0,2,2]]}
["CCV Preparation",null,null,null,null,null,null,null,null,null,null,null,null,null,null,null,null,"CCV 1","CCV 2","CCV 3","CCV 4","CCV 5","CCV 6","CCV 7","CCV 8","CCV 9","CCV 10"]
[null,null,null,null,null,null,null,null,null,"Density","Per ml","CCV 1","CCV 2","CCV 3","CCV 4","CCV 5",null,null,null,null,null,null,null,null,null,null,null,null,"EGDE","EGDE","EGDE","EGDE","EGDE"]
[null,null,null,null,null,null,null,null,1,{"$f":"INDEX(Compounds!C:C,MATCH(Q3,Compounds!A:A,FALSE))","v":1.036},{"$f":"25/J3/25","v":0.9652509652509651},{"$f":"IF($F$6=\"Yes\",MAX($L$1:L2)+1,\"\")","v":""},{"$f":"IF($F$30=\"Yes\",MAX(M$1:M2)+1,\"\")","v":""},{"$f":"IF($F$54=\"Yes\",MAX(N$1:N2)+1,\"\")","v":""},{"$f":"IF($F$78=\"Yes\",MAX(O$1:O2)+1,\"\")","v":""},{"$f":"IF($F$102=\"Yes\",MAX(P$1:P2)+1,\"\")","v":""},"Propylene Glycol",{"$f":"IF(ISERROR(INDEX($Q$3:$Q$22,MATCH(I3,$L$3:$L$22,FALSE))),\"\",INDEX($Q$3:$Q$22,MATCH(I3,$L$3:$L$22,FALSE)))","v":""},{"$f":"IF(ISERROR(INDEX($Q$3:$Q$22,MATCH($I3,M$3:M$22,FALSE))),\"\",INDEX($Q$3:$Q$22,MATCH($I3,M$3:M$22,FALSE)))","v":""},{"$f":"IF(ISERROR(INDEX($Q$3:$Q$22,MATCH($I3,N$3:N$22,FALSE))),\"\",INDEX($Q$3:$Q$22,MATCH($I3,N$3:N$22,FALSE)))","v":""},{"$f":"IF(ISERROR(INDEX($Q$3:$Q$22,MATCH($I3,O$3:O$22,FALSE))),\"\",INDEX($Q$3:$Q$22,MATCH($I3,O$3:O$22,FALSE)))","v":""},{"$f":"IF(ISERROR(INDEX($Q$3:$Q$22,MATCH($I3,P$3:P$22,FALSE))),\"\",INDEX($Q$3:$Q$22,MATCH($I3,P$3:P$22,FALSE)))","v":""},null,null,null,null,null,null,{"$f":"R3","v":""},{"$f":"S3","v":""},{"$f":"T3","v":""},{"$f":"U3","v":""},{"$f":"V3","v":""}]
[null,null,null,null,null,null,null,null,2,{"$f":"INDEX(Compounds!C:C,MATCH(Q4,Compounds!A:A,FALSE))","v":0.95},{"$f":"25/J4/25","v":1.0526315789473686},{"$f":"IF($F$6=\"Yes\",MAX($L$1:L3)+1,\"\")","v":""},{"$f":"IF($F$30=\"Yes\",MAX($M$1:M3)+1,\"\")","v":""},{"$f":"IF($F$54=\"Yes\",MAX(N$1:N3)+1,\"\")","v":""},{"$f":"IF($F$78=\"Yes\",MAX(O$1:O3)+1,\"\")","v":""},{"$f":"IF($F$102=\"Yes\",MAX(P$1:P3)+1,\"\")","v":""},"Texanol","",{"$f":"IF(ISERROR(INDEX($Q$3:$Q$22,MATCH(I4,$M$3:$M$22,FALSE))),\"\",INDEX($Q$3:$Q$22,MATCH(I4,$M$3:$M$22,FALSE)))","v":""},{"$f":"IF(ISERROR(INDEX($Q$3:$Q$22,MATCH($I4,N$3:N$22,FALSE))),\"\",INDEX($Q$3:$Q$22,MATCH($I4,N$3:N$22,FALSE)))","v":""},{"$f":"IF(ISERROR(INDEX($Q$3:$Q$22,MATCH($I4,O$3:O$22,FALSE))),\"\",INDEX($Q$3:$Q$22,MATCH($I4,O$3:O$22,FALSE)))","v":""},{"$f":"IF(ISERROR(INDEX($Q$3:$Q$22,MATCH($I4,P$3:P$22,FALSE))),\"\",INDEX($Q$3:$Q$22,MATCH($I4,P$3:P$22,FALSE)))","v":""},null,null,null,null,null,null,{"$f":"R4","v":""},{"$f":"S4","v":""},{"$f":"T4","v":""},{"$f":"U4","v":""},{"$f":"V4","v":""}]
[null,null,null,null,"In Set?",null,null,null,3,{"$f":"INDEX(Compounds!C:C,MATCH(Q5,Compounds!A:A,FALSE))","v":1},1,{"$f":"IF($F$6=\"Yes\",MAX($L$1:L4)+1,\"\")","v":""},{"$f":"IF($F$30=\"Yes\",MAX($M$1:M4)+1,\"\")","v":""},{"$f":"IF($F$54=\"Yes\",MAX(N$1:N4)+1,\"\")","v":""},{"$f":"IF($F$78=\"Yes\",MAX(O$1:O4)+1,\"\")","v":""},{"$f":"IF($F$102=\"Yes\",MAX(P$1:P4)+1,\"\")","v":""},"Benzophenone","","","","","",null,null,null,null,null,null,"","","","",""]
["CCV Prep",{"$f":"COUNTIF($A$1:A6,\"=CCV Prep\")","v":1},{"$f":"\"CCV \"&COUNTIF($A$1:A6,\"=CCV Prep\")","v":"CCV 1"},null,"Sample #1",null,null,null,4,{"$f":"INDEX(Compounds!C:C,MATCH(Q6,Compounds!A:A,FALSE))","v":1.034},0.96711798839458407,{"$f":"IF($F$7=\"Yes\",MAX($L$1:L5)+1,\"\")","v":""},{"$f":"IF($F$31=\"Yes\",MAX(M$1:M5)+1,\"\")","v":""},{"$f":"IF($F$55=\"Yes\",MAX(N$1:N5)+1,\"\")","v":""},{"$f":"IF($F$79=\"Yes\",MAX(O$1:O5)+1,\"\")","v":""},{"$f":"IF($F$103=\"Yes\",MAX(P$1:P5)+1,\"\")","v":""},"Dipropylene Glycol","","","","","",null,null,null,null,null,null,"","","","",""]
["Prep Date:",null,null,null,"Sample #2",null,null,null,5,{"$f":"INDEX(Compounds!C:C,MATCH(Q7,Compounds!A:A,FALSE))","v":1.125},0.88888888888888884,{"$f":"IF($F$7=\"Yes\",MAX($L$1:L6)+1,\"\")","v":""},{"$f":"IF($F$31=\"Yes\",MAX($M$1:M6)+1,\"\")","v":""},{"$f":"IF($F$55=\"Yes\",MAX(N$1:N6)+1,\"\")","v":""},{"$f":"IF($F$79=\"Yes\",MAX(O$1:O6)+1,\"\")","v":""},{"$f":"IF($F$103=\"Yes\",MAX(P$1:P6)+1,\"\")","v":""},"Tetraethylene Glycol","","","","","",null,null,null,null,null,null,"","","","",""]
["Flask Volume (mL):",null,null,null,"Sample #3",null,null,null,6,{"$f":"INDEX(Compounds!C:C,MATCH(Q8,Compounds!A:A,FALSE))","v":1.1259999999999999},0.88809946714031984,{"$f":"IF($F$7=\"Yes\",MAX($L$1:L7)+1,\"\")","v":""},{"$f":"IF($F$31=\"Yes\",MAX($M$1:M7)+1,\"\")","v":""},{"$f":"IF($F$55=\"Yes\",MAX(N$1:N7)+1,\"\")","v":""},{"$f":"IF($F$79=\"Yes\",MAX(O$1:O7)+1,\"\")","v":""},{"$f":"IF($F$103=\"Yes\",MAX(P$1:P7)+1,\"\")","v":""},"Pentaethylene Glycol","","","","","",null,null,null,null,null,null,"","","","",""]
["Solvent:",null,null,null,null,null,null,null,7,{"$f":"INDEX(Compounds!C:C,MATCH(Q9,Compounds!A:A,FALSE))","v":0.72599999999999998},1.3774104683195592,{"$f":"IF($F$8=\"Yes\",MAX($L$1:L8)+1,\"\")","v":""},{"$f":"IF($F$32=\"Yes\",MAX(M$1:M8)+1,\"\")","v":""},{"$f":"IF($F$56=\"Yes\",MAX(N$1:N8)+1,\"\")","v":""},{"$f":"IF($F$80=\"Yes\",MAX(O$1:O8)+1,\"\")","v":""},{"$f":"IF($F$104=\"Yes\",MAX(P$1:P8)+1,\"\")","v":""},"Triethylamine","","","","","",null,null,null,null,null,null,"","","","",""]
["Solvent:",null,null,null,"Sample #4",null,null,null,8,{"$f":"INDEX(Compounds!C:C,MATCH(Q10,Compounds!A:A,FALSE))","v":0.95499999999999996},1.0471204188481675,{"$f":"IF($F$8=\"Yes\",MAX($L$1:L9)+1,\"\")","v":""},{"$f":"IF($F$32=\"Yes\",MAX($M$1:M9)+1,\"\")","v":""},{"$f":"IF($F$56=\"Yes\",MAX(N$1:N9)+1,\"\")","v":""},{"$f":"IF($F$80=\"Yes\",MAX(O$1:O9)+1,\"\")","v":""},{"$f":"IF($F$104=\"Yes\",MAX(P$1:P9)+1,\"\")","v":""},"Dipropylene Glycol Methyl Ether","","","","","",null,null,null,null,null,null,"","","","",""]
[null,null,null,null,null,null,null,null,9,{"$f":"INDEX(Compounds!C:C,MATCH(Q11,Compounds!A:A,FALSE))","v":1.03},{"$f":"25/J11/25","v":0.97087378640776689},{"$f":"IF($F$8=\"Yes\",MAX($L$1:L10)+1,\"\")","v":""},{"$f":"IF($F$32=\"Yes\",MAX($M$1:M10)+1,\"\")","v":""},{"$f":"IF($F$56=\"Yes\",MAX(N$1:N10)+1,\"\")","v":""},{"$f":"IF($F$80=\"Yes\",MAX(O$1:O10)+1,\"\")","v":""},{"$f":"IF($F$104=\"Yes\",MAX(P$1:P10)+1,\"\")","v":""},"NMP","","","","","",null,null,null,null,null,null,{"$f":"R11","v":""},{"$f":"S11","v":""},{"$f":"T11","v":""},{"$f":"U11","v":""}]
[null,null,"To Add","Mass (g)","g/L",null,null,null,10,{"$f":"INDEX(Compounds!C:C,MATCH(Q12,Compounds!A:A,FALSE))","v":0.91300000000000003},1.0952902519167578,{"$f":"IF($F$8=\"Yes\",MAX($L$1:L11)+1,\"\")","v":""},{"$f":"IF($F$32=\"Yes\",MAX($M$1:M11)+1,\"\")","v":""},{"$f":"IF($F$56=\"Yes\",MAX(N$1:N11)+1,\"\")","v":""},{"$f":"IF($F$80=\"Yes\",MAX(O$1:O11)+1,\"\")","v":""},{"$f":"IF($F$104=\"Yes\",MAX(P$1:P11)+1,\"\")","v":""},"Dipropylene Glycol Butyl Ether","","","","","",null,null,null,null,null,null,"","","","",{"$f":"V11","v":""}]
[{"$f":"C8&\" mL Flask\"","v":" mL Flask"},{"$f":"A13&\" CCV \"&MAX($B$1:B12)","v":" mL Flask CCV 1"},{"$f":"IF(A13=\"\",\"\",IF(OR(RIGHT(A13,5)=\"Flask\",LEFT(A13,2)=\"QS\"),\"-\",IF(A13=\"Benzophenone\",0.025/25*$C$8&\" g\",IF(A13=$C$10,10*$C$8/25&\" mL\",IF(A13=\"EGDE\",150*$C$8/25&\" uL\",ROUND(INDEX($K$3:$K$22,MATCH(A13,$Q$3:$Q$22,FALSE))*$C$8,0)&\" uL\")))))","v":"-"},null,{"$f":"IF(OR(A13=\"\",D13=\"\"),\"\",IF(OR(RIGHT(A13,5)=\"Flask\",RIGHT(A13,2)=\"mL\"),\"-\",(D13-MAX($D$12:D12))*INDEX(Compounds!G:G,MATCH(A13,Compounds!A:A,FALSE))*1000/$C$8))","v":""},null,null,null,11,{"$f":"INDEX(Compounds!C:C,MATCH(Q13,Compounds!A:A,FALSE))","v":0.86699999999999999},1.1534025374855825,{"$f":"IF($F$10=\"Yes\",MAX($L$1:L12)+1,\"\")","v":""},{"$f":"IF($F$34=\"Yes\",MAX(M$1:M12)+1,\"\")","v":""},{"$f":"IF($F$58=\"Yes\",MAX(N$1:N12)+1,\"\")","v":""},{"$f":"IF($F$82=\"Yes\",MAX(O$1:O12)+1,\"\")","v":""},{"$f":"IF($F$105=\"Yes\",MAX(P$1:P12)+1,\"\")","v":""},"Toluene","","","","","",null,null,null,null,null,null,"","","","",""]
[{"$f":"C10","v":0},{"$f":"A14&\" CCV \"&MAX($B$1:B13)","v":"0 CCV 1"},{"$f":"IF(A14=\"\",\"\",IF(OR(RIGHT(A14,5)=\"Flask\",LEFT(A14,2)=\"QS\"),\"-\",IF(A14=\"Benzophenone\",0.025/25*$C$8&\" g\",IF(A14=$C$10,10*$C$8/25&\" mL\",IF(A14=\"EGDE\",150*$C$8/25&\" uL\",ROUND(INDEX($K$3:$K$22,MATCH(A14,$Q$3:$Q$22,FALSE))*$C$8,0)&\" uL\")))))","v":"0 mL"},null,{"$f":"IF(OR(A14=\"\",D14=\"\"),\"\",IF(OR(RIGHT(A14,5)=\"Flask\",RIGHT(A14,2)=\"mL\"),\"-\",(D14-MAX($D$12:D13))*INDEX(Compounds!G:G,MATCH(A14,Compounds!A:A,FALSE))*1000/$C$8))","v":""},null,null,null,12,{"$f":"INDEX(Compounds!C:C,MATCH(Q14,Compounds!A:A,FALSE))","v":0.9},1.1111111111111112,{"$f":"IF($F$10=\"Yes\",MAX($L$1:L13)+1,\"\")","v":""},{"$f":"IF($F$34=\"Yes\",MAX($M$1:M13)+1,\"\")","v":""},{"$f":"IF($F$58=\"Yes\",MAX(N$1:N13)+1,\"\")","v":""},{"$f":"IF($F$82=\"Yes\",MAX(O$1:O13)+1,\"\")","v":""},{"$f":"IF($F$105=\"Yes\",MAX(P$1:P13)+1,\"\")","v":""},"2-Butanone Oxime","","","","","",null,null,null,null,null,null,"","","","",""]
["EGDE",{"$f":"A15&\" CCV \"&MAX($B$1:B14)","v":"EGDE CCV 1"},"0 uL",null,{"$f":"IF(OR(A15=\"\",D15=\"\"),\"\",IF(OR(RIGHT(A15,5)=\"Flask\",RIGHT(A15,2)=\"mL\"),\"-\",(D15-MAX($D$12:D14))*INDEX(Compounds!G:G,MATCH(A15,Compounds!A:A,FALSE))*1000/$C$8))","v":""},null,null,null,13,{"$f":"INDEX(Compounds!C:C,MATCH(Q15,Compounds!A:A,FALSE))","v":0.86099999999999999},1.1614401858304297,{"$f":"IF($F$10=\"Yes\",MAX($L$1:L14)+1,\"\")","v":""},{"$f":"IF($F$34=\"Yes\",MAX($M$1:M14)+1,\"\")","v":""},{"$f":"IF($F$58=\"Yes\",MAX(N$1:N14)+1,\"\")","v":""},{"$f":"IF($F$82=\"Yes\",MAX(O$1:O14)+1,\"\")","v":""},{"$f":"IF($F$105=\"Yes\",MAX(P$1:P14)+1,\"\")","v":""},"p-Xylene","","","","","",null,null,null,null,null,null,"","","","",""]
[{"$f":"R3","v":""},{"$f":"A16&\" CCV \"&MAX($B$1:B15)","v":" CCV 1"},"",null,{"$f":"IF(OR(A16=\"\",D16=\"\"),\"\",IF(OR(RIGHT(A16,5)=\"Flask\",RIGHT(A16,2)=\"mL\"),\"-\",(D16-MAX($D$12:D15))*INDEX(Compounds!G:G,MATCH(A16,Compounds!A:A,FALSE))*1000/$C$8))","v":""},null,null,null,14,{"$f":"INDEX(Compounds!C:C,MATCH(Q16,Compounds!A:A,FALSE))","v":0.72399999999999998},1.3812154696132597,{"$f":"IF($F$10=\"Yes\",MAX($L$1:L15)+1,\"\")","v":""},{"$f":"IF($F$34=\"Yes\",MAX($M$1:M15)+1,\"\")","v":""},{"$f":"IF($F$58=\"Yes\",MAX(N$1:N15)+1,\"\")","v":""},{"$f":"IF($F$82=\"Yes\",MAX(O$1:O15)+1,\"\")","v":""},{"$f":"IF($F$105=\"Yes\",MAX(P$1:P15)+1,\"\")","v":""},"Nonane","","","","","",null,null,null,null,null,null,"","","","",""]
["",{"$f":"A17&\" CCV \"&MAX($B$1:B16)","v":" CCV 1"},"",null,{"$f":"IF(OR(A17=\"\",D17=\"\"),\"\",IF(OR(RIGHT(A17,5)=\"Flask\",RIGHT(A17,2)=\"mL\"),\"-\",(D17-MAX($D$12:D16))*INDEX(Compounds!G:G,MATCH(A17,Compounds!A:A,FALSE))*1000/$C$8))","v":""},null,null,null,15,{"$f":"INDEX(Compounds!C:C,MATCH(Q17,Compounds!A:A,FALSE))","v":0.82},1.2195121951219512,{"$f":"IF($F$10=\"Yes\",MAX($L$1:L16)+1,\"\")","v":""},{"$f":"IF($F$34=\"Yes\",MAX($M$1:M16)+1,\"\")","v":""},{"$f":"IF($F$58=\"Yes\",MAX(N$1:N16)+1,\"\")","v":""},{"$f":"IF($F$82=\"Yes\",MAX(O$1:O16)+1,\"\")","v":""},{"$f":"IF($F$105=\"Yes\",MAX(P$1:P16)+1,\"\")","v":""},"2-Heptanone","","","","","",null,null,null,null,null,null,"","","","",""]
["",{"$f":"A18&\" CCV \"&MAX($B$1:B17)","v":" CCV 1"},"",null,{"$f":"IF(OR(A18=\"\",D18=\"\"),\"\",IF(OR(RIGHT(A18,5)=\"Flask\",RIGHT(A18,2)=\"mL\"),\"-\",(D18-MAX($D$12:D17))*INDEX(Compounds!G:G,MATCH(A18,Compounds!A:A,FALSE))*1000/$C$8))","v":""},null,null,null,16,{"$f":"INDEX(Compounds!C:C,MATCH(Q18,Compounds!A:A,FALSE))","v":0.86370000000000002},1.1578094245687161,{"$f":"IF($F$10=\"Yes\",MAX($L$1:L17)+1,\"\")","v":""},{"$f":"IF($F$34=\"Yes\",MAX($M$1:M17)+1,\"\")","v":""},{"$f":"IF($F$58=\"Yes\",MAX(N$1:N17)+1,\"\")","v":""},{"$f":"IF($F$82=\"Yes\",MAX(O$1:O17)+1,\"\")","v":""},{"$f":"IF($F$105=\"Yes\",MAX(P$1:P17)+1,\"\")","v":""},"Mesitylene","","","","","",null,null,null,null,null,null,"","","","",""]
["",{"$f":"A19&\" CCV \"&MAX($B$1:B18)","v":" CCV 1"},{"$f":"IF(A19=\"\",\"\",IF(OR(RIGHT(A19,5)=\"Flask\",LEFT(A19,2)=\"QS\"),\"-\",IF(A19=\"Benzophenone\",0.025/25*$C$8&\" g\",IF(A19=$C$10,10*$C$8/25&\" mL\",IF(A19=\"EGDE\",150*$C$8/25&\" uL\",ROUND(INDEX($K$3:$K$22,MATCH(A19,$Q$3:$Q$22,FALSE))*$C$8,0)&\" uL\")))))","v":""},null,{"$f":"IF(OR(A19=\"\",D19=\"\"),\"\",IF(OR(RIGHT(A19,5)=\"Flask\",RIGHT(A19,2)=\"mL\"),\"-\",(D19-MAX($D$12:D18))*INDEX(Compounds!G:G,MATCH(A19,Compounds!A:A,FALSE))*1000/$C$8))","v":""},null,null,null,17,{"$f":"INDEX(Compounds!C:C,MATCH(Q19,Compounds!A:A,FALSE))","v":0.74299999999999999},1.3458950201884252,{"$f":"IF($F$10=\"Yes\",MAX($L$1:L18)+1,\"\")","v":""},{"$f":"IF($F$34=\"Yes\",MAX($M$1:M18)+1,\"\")","v":""},{"$f":"IF($F$58=\"Yes\",MAX(N$1:N18)+1,\"\")","v":""},{"$f":"IF($F$82=\"Yes\",MAX(O$1:O18)+1,\"\")","v":""},{"$f":"IF($F$105=\"Yes\",MAX(P$1:P18)+1,\"\")","v":""},"Undecane","","","","","",null,null,null,null,null,null,"","","","",""]
["",{"$f":"A20&\" CCV \"&MAX($B$1:B19)","v":" CCV 1"},"",null,{"$f":"IF(OR(A20=\"\",D20=\"\"),\"\",IF(OR(RIGHT(A20,5)=\"Flask\",RIGHT(A20,2)=\"mL\"),\"-\",(D20-MAX($D$12:D19))*INDEX(Compounds!G:G,MATCH(A20,Compounds!A:A,FALSE))*1000/$C$8))","v":""},null,null,null,18,{"$f":"INDEX(Compounds!C:C,MATCH(Q20,Compounds!A:A,FALSE))","v":0.751},1.3315579227696404,{"$f":"IF($F$10=\"Yes\",MAX($L$1:L19)+1,\"\")","v":""},{"$f":"IF($F$34=\"Yes\",MAX($M$1:M19)+1,\"\")","v":""},{"$f":"IF($F$58=\"Yes\",MAX(N$1:N19)+1,\"\")","v":""},{"$f":"IF($F$82=\"Yes\",MAX(O$1:O19)+1,\"\")","v":""},{"$f":"IF($F$105=\"Yes\",MAX(P$1:P19)+1,\"\")","v":""},"Dodecane","","","","","",null,null,null,null,null,null,"","","","",""]
["",{"$f":"A21&\" CCV \"&MAX($B$1:B20)","v":" CCV 1"},"",null,{"$f":"IF(OR(A21=\"\",D21=\"\"),\"\",IF(OR(RIGHT(A21,5)=\"Flask\",RIGHT(A21,2)=\"mL\"),\"-\",(D21-MAX($D$12:D20))*INDEX(Compounds!G:G,MATCH(A21,Compounds!A:A,FALSE))*1000/$C$8))","v":""},null,null,null,19,{"$f":"INDEX(Compounds!C:C,MATCH(Q21,Compounds!A:A,FALSE))","v":0.94099999999999995},1.0626992561105206,{"$f":"IF($F$10=\"Yes\",MAX($L$1:L20)+1,\"\")","v":""},{"$f":"IF($F$34=\"Yes\",MAX($M$1:M20)+1,\"\")","v":""},{"$f":"IF($F$58=\"Yes\",MAX(N$1:N20)+1,\"\")","v":""},{"$f":"IF($F$82=\"Yes\",MAX(O$1:O20)+1,\"\")","v":""},{"$f":"IF($F$105=\"Yes\",MAX(P$1:P20)+1,\"\")","v":""},"TXIB","","","","","",null,null,null,null,null,null,"","","","",""]
["",{"$f":"A22&\" CCV \"&MAX($B$1:B21)","v":" CCV 1"},"",null,{"$f":"IF(OR(A22=\"\",D22=\"\"),\"\",IF(OR(RIGHT(A22,5)=\"Flask\",RIGHT(A22,2)=\"mL\"),\"-\",(D22-MAX($D$12:D21))*INDEX(Compounds!G:G,MATCH(A22,Compounds!A:A,FALSE))*1000/$C$8))","v":""},null,null,null,20,{"$f":"INDEX(Compounds!C:C,MATCH(Q22,Compounds!A:A,FALSE))","v":0.73499999999999999},1.360544217687075,{"$f":"IF($F$10=\"Yes\",MAX($L$1:L21)+1,\"\")","v":""},{"$f":"IF($F$34=\"Yes\",MAX($M$1:M21)+1,\"\")","v":""},{"$f":"IF($F$58=\"Yes\",MAX(N$1:N21)+1,\"\")","v":""},{"$f":"IF($F$82=\"Yes\",MAX(O$1:O21)+1,\"\")","v":""},{"$f":"IF($F$105=\"Yes\",MAX(P$1:P21)+1,\"\")","v":""},"Decane","","","","","",null,null,null,null,null,null,"","","","",""]
["",{"$f":"A23&\" CCV \"&MAX($B$1:B22)","v":" CCV 1"},"",null,{"$f":"IF(OR(A23=\"\",D23=\"\"),\"\",IF(OR(RIGHT(A23,5)=\"Flask\",RIGHT(A23,2)=\"mL\"),\"-\",(D23-MAX($D$12:D22))*INDEX(Compounds!G:G,MATCH(A23,Compounds!A:A,FALSE))*1000/$C$8))","v":""},null,null,null,null,null,null,null,null,null,null,null,null,null,null,null,null,null,null,null,null,null,null,null,null,null,null,null,""]
["",{"$f":"A24&\" CCV \"&MAX($B$1:B23)","v":" CCV 1"},"",null,{"$f":"IF(OR(A24=\"\",D24=\"\"),\"\",IF(OR(RIGHT(A24,5)=\"Flask\",RIGHT(A24,2)=\"mL\"),\"-\",(D24-MAX($D$12:D23))*INDEX(Compounds!G:G,MATCH(A24,Compounds!A:A,FALSE))*1000/$C$8))","v":""}]
["",{"$f":"A25&\" CCV \"&MAX($B$1:B24)","v":" CCV 1"},"",null,{"$f":"IF(OR(A25=\"\",D25=\"\"),\"\",IF(OR(RIGHT(A25,5)=\"Flask\",RIGHT(A25,2)=\"mL\"),\"-\",(D25-MAX($D$12:D24))*INDEX(Compounds!G:G,MATCH(A25,Compounds!A:A,FALSE))*1000/$C$8))","v":""}]
[{"$f":"\"QS w/ \"&C10&\" to \"&C8&\" mL\"","v":"QS w/  to  mL"},{"$f":"A26&\" CCV \"&MAX($B$1:B25)","v":"QS w/  to  mL CCV 1"},"-",null,{"$f":"IF(OR(A26=\"\",D26=\"\"),\"\",IF(OR(RIGHT(A26,5)=\"Flask\",RIGHT(A26,2)=\"mL\"),\"-\",(D26-MAX($D$12:D24))*INDEX(Compounds!G:G,MATCH(A26,Compounds!A:A,FALSE))*1000/$C$8))","v":""}]
[]
[]
[null,null,null,null,"In Set?"]
["CCV Prep",{"$f":"COUNTIF($A$1:A30,\"=CCV Prep\")","v":2},{"$f":"\"CCV \"&COUNTIF($A$1:A30,\"=CCV Prep\")","v":"CCV 2"},null,"Sample #1"]
["Prep Date:",null,null,null,"Sample #2"]
["Flask Volume (mL):",null,null,null,"Sample #3"]
["Solvent:"]
["Solvent:",null,null,null,"Sample #4"]
[]
[null,null,"To Add","Mass (g)","g/L"]
[{"$f":"C32&\" mL Flask\"","v":" mL Flask"},{"$f":"A37&\" CCV \"&MAX($B$1:B36)","v":" mL Flask CCV 2"},{"$f":"IF(A37=\"\",\"\",IF(OR(RIGHT(A37,5)=\"Flask\",LEFT(A37,2)=\"QS\"),\"-\",IF(A37=\"Benzophenone\",0.025/25*$C$32&\" g\",IF(A37=$C$34,10*$C$32/25&\" mL\",IF(A37=\"EGDE\",150*$C$32/25&\" uL\",ROUND(INDEX($K$3:$K$22,MATCH(A37,$Q$3:$Q$22,FALSE))*$C$32,0)&\" uL\")))))","v":"-"},null,{"$f":"IF(OR(A37=\"\",D37=\"\"),\"\",IF(OR(RIGHT(A37,5)=\"Flask\",RIGHT(A37,2)=\"mL\"),\"-\",(D37-MAX($D$36:D36))*INDEX(Compounds!G:G,MATCH(A37,Compounds!A:A,FALSE))*1000/$C$32))","v":""}]
[{"$f":"C34","v":0},{"$f":"A38&\" CCV \"&MAX($B$1:B37)","v":"0 CCV 2"},{"$f":"IF(A38=\"\",\"\",IF(OR(RIGHT(A38,5)=\"Flask\",LEFT(A38,2)=\"QS\"),\"-\",IF(A38=\"Benzophenone\",0.025/25*$C$32&\" g\",IF(A38=$C$34,10*$C$32/25&\" mL\",IF(A38=\"EGDE\",150*$C$32/25&\" uL\",ROUND(INDEX($K$3:$K$22,MATCH(A38,$Q$3:$Q$22,FALSE))*$C$32,0)&\" uL\")))))","v":"0 mL"},null,{"$f":"IF(OR(A38=\"\",D38=\"\"),\"\",IF(OR(RIGHT(A38,5)=\"Flask\",RIGHT(A38,2)=\"mL\"),\"-\",(D38-MAX($D$36:D37))*INDEX(Compounds!G:G,MATCH(A38,Compounds!A:A,FALSE))*1000/$C$32))","v":""}]
["EGDE",{"$f":"A39&\" CCV \"&MAX($B$1:B38)","v":"EGDE CCV 2"},"0 uL",null,{"$f":"IF(OR(A39=\"\",D39=\"\"),\"\",IF(OR(RIGHT(A39,5)=\"Flask\",RIGHT(A39,2)=\"mL\"),\"-\",(D39-MAX($D$36:D38))*INDEX(Compounds!G:G,MATCH(A39,Compounds!A:A,FALSE))*1000/$C$32))","v":""}]
[{"$f":"S3","v":""},{"$f":"A40&\" CCV \"&MAX($B$1:B39)","v":" CCV 2"},"",null,{"$f":"IF(OR(A40=\"\",D40=\"\"),\"\",IF(OR(RIGHT(A40,5)=\"Flask\",RIGHT(A40,2)=\"mL\"),\"-\",(D40-MAX($D$36:D39))*INDEX(Compounds!G:G,MATCH(A40,Compounds!A:A,FALSE))*1000/$C$32))","v":""}]
["",{"$f":"A41&\" CCV \"&MAX($B$1:B40)","v":" CCV 2"},"",null,{"$f":"IF(OR(A41=\"\",D41=\"\"),\"\",IF(OR(RIGHT(A41,5)=\"Flask\",RIGHT(A41,2)=\"mL\"),\"-\",(D41-MAX($D$36:D40))*INDEX(Compounds!G:G,MATCH(A41,Compounds!A:A,FALSE))*1000/$C$32))","v":""}]
["",{"$f":"A42&\" CCV \"&MAX($B$1:B41)","v":" CCV 2"},"",null,{"$f":"IF(OR(A42=\"\",D42=\"\"),\"\",IF(OR(RIGHT(A42,5)=\"Flask\",RIGHT(A42,2)=\"mL\"),\"-\",(D42-MAX($D$36:D41))*INDEX(Compounds!G:G,MATCH(A42,Compounds!A:A,FALSE))*1000/$C$32))","v":""}]
["",{"$f":"A43&\" CCV \"&MAX($B$1:B42)","v":" CCV 2"},"",null,{"$f":"IF(OR(A43=\"\",D43=\"\"),\"\",IF(OR(RIGHT(A43,5)=\"Flask\",RIGHT(A43,2)=\"mL\"),\"-\",(D43-MAX($D$36:D42))*INDEX(Compounds!G:G,MATCH(A43,Compounds!A:A,FALSE))*1000/$C$32))","v":""}]
["",{"$f":"A44&\" CCV \"&MAX($B$1:B43)","v":" CCV 2"},"",null,{"$f":"IF(OR(A44=\"\",D44=\"\"),\"\",IF(OR(RIGHT(A44,5)=\"Flask\",RIGHT(A44,2)=\"mL\"),\"-\",(D44-MAX($D$36:D43))*INDEX(Compounds!G:G,MATCH(A44,Compounds!A:A,FALSE))*1000/$C$32))","v":""}]
["",{"$f":"A45&\" CCV \"&MAX($B$1:B44)","v":" CCV 2"},"",null,{"$f":"IF(OR(A45=\"\",D45=\"\"),\"\",IF(OR(RIGHT(A45,5)=\"Flask\",RIGHT(A45,2)=\"mL\"),\"-\",(D45-MAX($D$36:D44))*INDEX(Compounds!G:G,MATCH(A45,Compounds!A:A,FALSE))*1000/$C$32))","v":""}]
["",{"$f":"A46&\" CCV \"&MAX($B$1:B45)","v":" CCV 2"},"",null,{"$f":"IF(OR(A46=\"\",D46=\"\"),\"\",IF(OR(RIGHT(A46,5)=\"Flask\",RIGHT(A46,2)=\"mL\"),\"-\",(D46-MAX($D$36:D45))*INDEX(Compounds!G:G,MATCH(A46,Compounds!A:A,FALSE))*1000/$C$32))","v":""}]
["",{"$f":"A47&\" CCV \"&MAX($B$1:B46)","v":" CCV 2"},"",null,{"$f":"IF(OR(A47=\"\",D47=\"\"),\"\",IF(OR(RIGHT(A47,5)=\"Flask\",RIGHT(A47,2)=\"mL\"),\"-\",(D47-MAX($D$36:D46))*INDEX(Compounds!G:G,MATCH(A47,Compounds!A:A,FALSE))*1000/$C$32))","v":""}]
["",{"$f":"A48&\" CCV \"&MAX($B$1:B47)","v":" CCV 2"},"",null,{"$f":"IF(OR(A48=\"\",D48=\"\"),\"\",IF(OR(RIGHT(A48,5)=\"Flask\",RIGHT(A48,2)=\"mL\"),\"-\",(D48-MAX($D$36:D47))*INDEX(Compounds!G:G,MATCH(A48,Compounds!A:A,FALSE))*1000/$C$32))","v":""}]
["",{"$f":"A49&\" CCV \"&MAX($B$1:B48)","v":" CCV 2"},"",null,{"$f":"IF(OR(A49=\"\",D49=\"\"),\"\",IF(OR(RIGHT(A49,5)=\"Flask\",RIGHT(A49,2)=\"mL\"),\"-\",(D49-MAX($D$36:D48))*INDEX(Compounds!G:G,MATCH(A49,Compounds!A:A,FALSE))*1000/$C$32))","v":""}]
[{"$f":"\"QS w/ \"&C34&\" to \"&C32&\" mL\"","v":"QS w/  to  mL"},{"$f":"A50&\" CCV \"&MAX($B$1:B49)","v":"QS w/  to  mL CCV 2"},"-",null,{"$f":"IF(OR(A50=\"\",D50=\"\"),\"\",IF(OR(RIGHT(A50,5)=\"Flask\",RIGHT(A50,2)=\"mL\"),\"-\",(D50-MAX($D$36:D49))*INDEX(Compounds!G:G,MATCH(A50,Compounds!A:A,FALSE))*1000/$C$32))","v":""}]
[]
[]
[null,null,null,null,"In Set?"]
["CCV Prep",{"$f":"COUNTIF($A$1:A54,\"=CCV Prep\")","v":3},{"$f":"\"CCV \"&COUNTIF($A$1:A54,\"=CCV Prep\")","v":"CCV 3"},null,"Sample #1"]
["Prep Date:",null,null,null,"Sample #2"]
["Flask Volume (mL):",null,null,null,"Sample #3"]
["Solvent:"]
["Solvent:",null,null,null,"Sample #4"]
[]
[null,null,"To Add","Mass (g)","g/L"]
[{"$f":"C56&\" mL Flask\"","v":" mL Flask"},{"$f":"A61&\" CCV \"&MAX($B$1:B60)","v":" mL Flask CCV 3"},{"$f":"IF(A61=\"\",\"\",IF(OR(RIGHT(A61,5)=\"Flask\",LEFT(A61,2)=\"QS\"),\"-\",IF(A61=\"Benzophenone\",0.025/25*$C$56&\" g\",IF(A61=$C$58,10*$C$56/25&\" mL\",IF(A61=\"EGDE\",150*$C$56/25&\" uL\",ROUND(INDEX($K$3:$K$22,MATCH(A61,$Q$3:$Q$22,FALSE))*$C$56,0)&\" uL\")))))","v":"-"},null,{"$f":"IF(OR(A61=\"\",D61=\"\"),\"\",IF(OR(RIGHT(A61,5)=\"Flask\",RIGHT(A61,2)=\"mL\"),\"-\",(D61-MAX($D$60:D60))*INDEX(Compounds!G:G,MATCH(A61,Compounds!A:A,FALSE))*1000/$C$56))","v":""}]
[{"$f":"C58","v":0},{"$f":"A62&\" CCV \"&MAX($B$1:B61)","v":"0 CCV 3"},{"$f":"IF(A62=\"\",\"\",IF(OR(RIGHT(A62,5)=\"Flask\",LEFT(A62,2)=\"QS\"),\"-\",IF(A62=\"Benzophenone\",0.025/25*$C$56&\" g\",IF(A62=$C$58,10*$C$56/25&\" mL\",IF(A62=\"EGDE\",150*$C$56/25&\" uL\",ROUND(INDEX($K$3:$K$22,MATCH(A62,$Q$3:$Q$22,FALSE))*$C$56,0)&\" uL\")))))","v":"0 mL"},null,{"$f":"IF(OR(A62=\"\",D62=\"\"),\"\",IF(OR(RIGHT(A62,5)=\"Flask\",RIGHT(A62,2)=\"mL\"),\"-\",(D62-MAX($D$60:D61))*INDEX(Compounds!G:G,MATCH(A62,Compounds!A:A,FALSE))*1000/$C$56))","v":""}]
["EGDE",{"$f":"A63&\" CCV \"&MAX($B$1:B62)","v":"EGDE CCV 3"},"0 uL",null,{"$f":"IF(OR(A63=\"\",D63=\"\"),\"\",IF(OR(RIGHT(A63,5)=\"Flask\",RIGHT(A63,2)=\"mL\"),\"-\",(D63-MAX($D$60:D62))*INDEX(Compounds!G:G,MATCH(A63,Compounds!A:A,FALSE))*1000/$C$56))","v":""}]
[{"$f":"T3","v":""},{"$f":"A64&\" CCV \"&MAX($B$1:B63)","v":" CCV 3"},"",null,{"$f":"IF(OR(A64=\"\",D64=\"\"),\"\",IF(OR(RIGHT(A64,5)=\"Flask\",RIGHT(A64,2)=\"mL\"),\"-\",(D64-MAX($D$60:D63))*INDEX(Compounds!G:G,MATCH(A64,Compounds!A:A,FALSE))*1000/$C$56))","v":""}]
["",{"$f":"A65&\" CCV \"&MAX($B$1:B64)","v":" CCV 3"},"",null,{"$f":"IF(OR(A65=\"\",D65=\"\"),\"\",IF(OR(RIGHT(A65,5)=\"Flask\",RIGHT(A65,2)=\"mL\"),\"-\",(D65-MAX($D$60:D64))*INDEX(Compounds!G:G,MATCH(A65,Compounds!A:A,FALSE))*1000/$C$56))","v":""}]
["",{"$f":"A66&\" CCV \"&MAX($B$1:B65)","v":" CCV 3"},"",null,{"$f":"IF(OR(A66=\"\",D66=\"\"),\"\",IF(OR(RIGHT(A66,5)=\"Flask\",RIGHT(A66,2)=\"mL\"),\"-\",(D66-MAX($D$60:D65))*INDEX(Compounds!G:G,MATCH(A66,Compounds!A:A,FALSE))*1000/$C$56))","v":""}]
["",{"$f":"A67&\" CCV \"&MAX($B$1:B66)","v":" CCV 3"},"",null,{"$f":"IF(OR(A67=\"\",D67=\"\"),\"\",IF(OR(RIGHT(A67,5)=\"Flask\",RIGHT(A67,2)=\"mL\"),\"-\",(D67-MAX($D$60:D66))*INDEX(Compounds!G:G,MATCH(A67,Compounds!A:A,FALSE))*1000/$C$56))","v":""}]
["",{"$f":"A68&\" CCV \"&MAX($B$1:B67)","v":" CCV 3"},"",null,{"$f":"IF(OR(A68=\"\",D68=\"\"),\"\",IF(OR(RIGHT(A68,5)=\"Flask\",RIGHT(A68,2)=\"mL\"),\"-\",(D68-MAX($D$60:D67))*INDEX(Compounds!G:G,MATCH(A68,Compounds!A:A,FALSE))*1000/$C$56))","v":""}]
["",{"$f":"A69&\" CCV \"&MAX($B$1:B68)","v":" CCV 3"},"",null,{"$f":"IF(OR(A69=\"\",D69=\"\"),\"\",IF(OR(RIGHT(A69,5)=\"Flask\",RIGHT(A69,2)=\"mL\"),\"-\",(D69-MAX($D$60:D68))*INDEX(Compounds!G:G,MATCH(A69,Compounds!A:A,FALSE))*1000/$C$56))","v":""}]
["",{"$f":"A70&\" CCV \"&MAX($B$1:B69)","v":" CCV 3"},"",null,{"$f":"IF(OR(A70=\"\",D70=\"\"),\"\",IF(OR(RIGHT(A70,5)=\"Flask\",RIGHT(A70,2)=\"mL\"),\"-\",(D70-MAX($D$60:D69))*INDEX(Compounds!G:G,MATCH(A70,Compounds!A:A,FALSE))*1000/$C$56))","v":""}]
["",{"$f":"A71&\" CCV \"&MAX($B$1:B70)","v":" CCV 3"},"",null,{"$f":"IF(OR(A71=\"\",D71=\"\"),\"\",IF(OR(RIGHT(A71,5)=\"Flask\",RIGHT(A71,2)=\"mL\"),\"-\",(D71-MAX($D$60:D70))*INDEX(Compounds!G:G,MATCH(A71,Compounds!A:A,FALSE))*1000/$C$56))","v":""}]
["",{"$f":"A72&\" CCV \"&MAX($B$1:B71)","v":" CCV 3"},"",null,{"$f":"IF(OR(A72=\"\",D72=\"\"),\"\",IF(OR(RIGHT(A72,5)=\"Flask\",RIGHT(A72,2)=\"mL\"),\"-\",(D72-MAX($D$60:D71))*INDEX(Compounds!G:G,MATCH(A72,Compounds!A:A,FALSE))*1000/$C$56))","v":""}]
["",{"$f":"A73&\" CCV \"&MAX($B$1:B72)","v":" CCV 3"},"",null,{"$f":"IF(OR(A73=\"\",D73=\"\"),\"\",IF(OR(RIGHT(A73,5)=\"Flask\",RIGHT(A73,2)=\"mL\"),\"-\",(D73-MAX($D$60:D72))*INDEX(Compounds!G:G,MATCH(A73,Compounds!A:A,FALSE))*1000/$C$56))","v":""}]
[{"$f":"\"QS w/ \"&C58&\" to \"&C56&\" mL\"","v":"QS w/  to  mL"},{"$f":"A74&\" CCV \"&MAX($B$1:B73)","v":"QS w/  to  mL CCV 3"},"-",null,{"$f":"IF(OR(A74=\"\",D74=\"\"),\"\",IF(OR(RIGHT(A74,5)=\"Flask\",RIGHT(A74,2)=\"mL\"),\"-\",(D74-MAX($D$60:D73))*INDEX(Compounds!G:G,MATCH(A74,Compounds!A:A,FALSE))*1000/$C$56))","v":""}]
[]
[]
[null,null,null,null,"In Set?"]
["CCV Prep",{"$f":"COUNTIF($A$1:A78,\"=CCV Prep\")","v":4},{"$f":"\"CCV \"&COUNTIF($A$1:A78,\"=CCV Prep\")","v":"CCV 4"},null,"Sample #1"]
["Prep Date:",null,null,null,"Sample #2"]
["Flask Volume (mL):",null,null,null,"Sample #3"]
["Solvent:"]
["Solvent:",null,null,null,"Sample #4"]
[]
[null,null,"To Add","Mass (g)","g/L"]
[{"$f":"C80&\" mL Flask\"","v":" mL Flask"},{"$f":"A85&\" CCV \"&MAX($B$1:B84)","v":" mL Flask CCV 4"},{"$f":"IF(A85=\"\",\"\",IF(OR(RIGHT(A85,5)=\"Flask\",LEFT(A85,2)=\"QS\"),\"-\",IF(A85=\"Benzophenone\",0.025/25*$C$80&\" g\",IF(A85=$C$82,10*$C$80/25&\" mL\",IF(A85=\"EGDE\",150*$C$80/25&\" uL\",ROUND(INDEX($K$3:$K$22,MATCH(A85,$Q$3:$Q$22,FALSE))*$C$80,0)&\" uL\")))))","v":"-"},null,{"$f":"IF(OR(A85=\"\",D85=\"\"),\"\",IF(OR(RIGHT(A85,5)=\"Flask\",RIGHT(A85,2)=\"mL\"),\"-\",(D85-MAX($D$84:D84))*INDEX(Compounds!G:G,MATCH(A85,Compounds!A:A,FALSE))*1000/$C$56))","v":""}]
[{"$f":"C82","v":0},{"$f":"A86&\" CCV \"&MAX($B$1:B85)","v":"0 CCV 4"},{"$f":"IF(A86=\"\",\"\",IF(OR(RIGHT(A86,5)=\"Flask\",LEFT(A86,2)=\"QS\"),\"-\",IF(A86=\"Benzophenone\",0.025/25*$C$80&\" g\",IF(A86=$C$82,10*$C$80/25&\" mL\",IF(A86=\"EGDE\",150*$C$80/25&\" uL\",ROUND(INDEX($K$3:$K$22,MATCH(A86,$Q$3:$Q$22,FALSE))*$C$80,0)&\" uL\")))))","v":"0 mL"},null,{"$f":"IF(OR(A86=\"\",D86=\"\"),\"\",IF(OR(RIGHT(A86,5)=\"Flask\",RIGHT(A86,2)=\"mL\"),\"-\",(D86-MAX($D$84:D85))*INDEX(Compounds!G:G,MATCH(A86,Compounds!A:A,FALSE))*1000/$C$56))","v":""}]
["EGDE",{"$f":"A87&\" CCV \"&MAX($B$1:B86)","v":"EGDE CCV 4"},"0 uL",null,{"$f":"IF(OR(A87=\"\",D87=\"\"),\"\",IF(OR(RIGHT(A87,5)=\"Flask\",RIGHT(A87,2)=\"mL\"),\"-\",(D87-MAX($D$84:D86))*INDEX(Compounds!G:G,MATCH(A87,Compounds!A:A,FALSE))*1000/$C$56))","v":""}]
[{"$f":"U3","v":""},{"$f":"A88&\" CCV \"&MAX($B$1:B87)","v":" CCV 4"},"",null,{"$f":"IF(OR(A88=\"\",D88=\"\"),\"\",IF(OR(RIGHT(A88,5)=\"Flask\",RIGHT(A88,2)=\"mL\"),\"-\",(D88-MAX($D$84:D87))*INDEX(Compounds!G:G,MATCH(A88,Compounds!A:A,FALSE))*1000/$C$56))","v":""}]
["",{"$f":"A89&\" CCV \"&MAX($B$1:B88)","v":" CCV 4"},"",null,{"$f":"IF(OR(A89=\"\",D89=\"\"),\"\",IF(OR(RIGHT(A89,5)=\"Flask\",RIGHT(A89,2)=\"mL\"),\"-\",(D89-MAX($D$84:D88))*INDEX(Compounds!G:G,MATCH(A89,Compounds!A:A,FALSE))*1000/$C$56))","v":""}]
["",{"$f":"A90&\" CCV \"&MAX($B$1:B89)","v":" CCV 4"},"",null,{"$f":"IF(OR(A90=\"\",D90=\"\"),\"\",IF(OR(RIGHT(A90,5)=\"Flask\",RIGHT(A90,2)=\"mL\"),\"-\",(D90-MAX($D$84:D89))*INDEX(Compounds!G:G,MATCH(A90,Compounds!A:A,FALSE))*1000/$C$56))","v":""}]
["",{"$f":"A91&\" CCV \"&MAX($B$1:B90)","v":" CCV 4"},"",null,{"$f":"IF(OR(A91=\"\",D91=\"\"),\"\",IF(OR(RIGHT(A91,5)=\"Flask\",RIGHT(A91,2)=\"mL\"),\"-\",(D91-MAX($D$84:D90))*INDEX(Compounds!G:G,MATCH(A91,Compounds!A:A,FALSE))*1000/$C$56))","v":""}]
["",{"$f":"A92&\" CCV \"&MAX($B$1:B91)","v":" CCV 4"},"",null,{"$f":"IF(OR(A92=\"\",D92=\"\"),\"\",IF(OR(RIGHT(A92,5)=\"Flask\",RIGHT(A92,2)=\"mL\"),\"-\",(D92-MAX($D$84:D91))*INDEX(Compounds!G:G,MATCH(A92,Compounds!A:A,FALSE))*1000/$C$56))","v":""}]
["",{"$f":"A93&\" CCV \"&MAX($B$1:B92)","v":" CCV 4"},"",null,{"$f":"IF(OR(A93=\"\",D93=\"\"),\"\",IF(OR(RIGHT(A93,5)=\"Flask\",RIGHT(A93,2)=\"mL\"),\"-\",(D93-MAX($D$84:D92))*INDEX(Compounds!G:G,MATCH(A93,Compounds!A:A,FALSE))*1000/$C$56))","v":""}]
["",{"$f":"A94&\" CCV \"&MAX($B$1:B93)","v":" CCV 4"},"",null,{"$f":"IF(OR(A94=\"\",D94=\"\"),\"\",IF(OR(RIGHT(A94,5)=\"Flask\",RIGHT(A94,2)=\"mL\"),\"-\",(D94-MAX($D$84:D93))*INDEX(Compounds!G:G,MATCH(A94,Compounds!A:A,FALSE))*1000/$C$56))","v":""}]
["",{"$f":"A95&\" CCV \"&MAX($B$1:B94)","v":" CCV 4"},"",null,{"$f":"IF(OR(A95=\"\",D95=\"\"),\"\",IF(OR(RIGHT(A95,5)=\"Flask\",RIGHT(A95,2)=\"mL\"),\"-\",(D95-MAX($D$84:D94))*INDEX(Compounds!G:G,MATCH(A95,Compounds!A:A,FALSE))*1000/$C$56))","v":""}]
["",{"$f":"A96&\" CCV \"&MAX($B$1:B95)","v":" CCV 4"},"",null,{"$f":"IF(OR(A96=\"\",D96=\"\"),\"\",IF(OR(RIGHT(A96,5)=\"Flask\",RIGHT(A96,2)=\"mL\"),\"-\",(D96-MAX($D$84:D95))*INDEX(Compounds!G:G,MATCH(A96,Compounds!A:A,FALSE))*1000/$C$56))","v":""}]
["",{"$f":"A97&\" CCV \"&MAX($B$1:B96)","v":" CCV 4"},"",null,{"$f":"IF(OR(A97=\"\",D97=\"\"),\"\",IF(OR(RIGHT(A97,5)=\"Flask\",RIGHT(A97,2)=\"mL\"),\"-\",(D97-MAX($D$84:D96))*INDEX(Compounds!G:G,MATCH(A97,Compounds!A:A,FALSE))*1000/$C$56))","v":""}]
[{"$f":"\"QS w/ \"&C82&\" to \"&C80&\" mL\"","v":"QS w/  to  mL"},{"$f":"A98&\" CCV \"&MAX($B$1:B97)","v":"QS w/  to  mL CCV 4"},"-",null,{"$f":"IF(OR(A98=\"\",D98=\"\"),\"\",IF(OR(RIGHT(A98,5)=\"Flask\",RIGHT(A98,2)=\"mL\"),\"-\",(D98-MAX($D$84:D97))*INDEX(Compounds!G:G,MATCH(A98,Compounds!A:A,FALSE))*1000/$C$56))","v":""}]
[]
[]
[null,null,null,null,"In Set?"]
["CCV Prep",{"$f":"COUNTIF($A$1:A102,\"=CCV Prep\")","v":5},{"$f":"\"CCV \"&COUNTIF($A$1:A102,\"=CCV Prep\")","v":"CCV 5"},null,"Sample #1"]
["Prep Date:",null,"2016-10-19",null,"Sample #2"]
["Flask Volume (mL):",null,25,null,"Sample #3"]
["Solvent:",null,"THF",null,"Sample #4"]
[]
[null,null,"To Add","Mass (g)","g/L"]
[{"$f":"C104&\" mL Flask\"","v":"25 mL Flask"},{"$f":"A108&\" CCV \"&MAX($B$1:B107)","v":"25 mL Flask CCV 5"},{"$f":"IF(OR(RIGHT(A108,5)=\"Flask\",LEFT(A108,2)=\"QS\"),\"-\",IF(A108=$C$9,10*$C$8/25&\" mL\",IF(A108=\"EGDE\",150*$C$8/25&\" uL\",ROUND(INDEX($K$3:$K$22,MATCH(A108,$Q$3:$Q$22,FALSE))*$C$8,0)&\" uL\")))","v":"-"},50.1768,{"$f":"IF(OR(A108=\"\",D108=\"\"),\"\",IF(OR(RIGHT(A108,5)=\"Flask\",RIGHT(A108,2)=\"mL\"),\"-\",(D108-MAX($D$107:D107))*INDEX(Compounds!G:G,MATCH(A108,Compounds!A:A,FALSE))*1000/$C$56))","v":"-"}]
[{"$f":"C105","v":"THF"},{"$f":"A109&\" CCV \"&MAX($B$1:B108)","v":"THF CCV 5"},{"$f":"IF(OR(RIGHT(A109,5)=\"Flask\",LEFT(A109,2)=\"QS\"),\"-\",IF(A109=$C$9,10*$C$8/25&\" mL\",IF(A109=\"EGDE\",150*$C$8/25&\" uL\",ROUND(INDEX($K$3:$K$22,MATCH(A109,$Q$3:$Q$22,FALSE))*$C$8,0)&\" uL\")))","v":{"$error":"#N/A"}},64.431799999999996,{"$f":"IF(OR(A109=\"\",D109=\"\"),\"\",IF(OR(RIGHT(A109,5)=\"Flask\",RIGHT(A109,2)=\"mL\"),\"-\",(D109-MAX($D$107:D108))*INDEX(Compounds!G:G,MATCH(A109,Compounds!A:A,FALSE))*1000/$C$56))","v":{"$error":"#DIV/0!"}}]
["EGDE",{"$f":"A110&\" CCV \"&MAX($B$1:B109)","v":"EGDE CCV 5"},{"$f":"IF(OR(RIGHT(A110,5)=\"Flask\",LEFT(A110,2)=\"QS\"),\"-\",IF(A110=$C$9,10*$C$8/25&\" mL\",IF(A110=\"EGDE\",150*$C$8/25&\" uL\",ROUND(INDEX($K$3:$K$22,MATCH(A110,$Q$3:$Q$22,FALSE))*$C$8,0)&\" uL\")))","v":"0 uL"},64.556700000000006,{"$f":"IF(OR(A110=\"\",D110=\"\"),\"\",IF(OR(RIGHT(A110,5)=\"Flask\",RIGHT(A110,2)=\"mL\"),\"-\",(D110-MAX($D$107:D109))*INDEX(Compounds!G:G,MATCH(A110,Compounds!A:A,FALSE))*1000/$C$56))","v":{"$error":"#DIV/0!"}}]
[{"$f":"V3","v":""},{"$f":"A111&\" CCV \"&MAX($B$1:B110)","v":" CCV 5"},{"$f":"IF(A111=\"\",\"\",IF(OR(RIGHT(A111,5)=\"Flask\",LEFT(A111,2)=\"QS\"),\"-\",IF(A111=$C$9,10*$C$8/25&\" mL\",IF(A111=\"EGDE\",150*$C$8/25&\" uL\",ROUND(INDEX($K$3:$K$22,MATCH(A111,$Q$3:$Q$22,FALSE))*$C$8,0)&\" uL\"))))","v":""},{"$f":"D110+0.026","v":64.582700000000003},{"$f":"IF(OR(A111=\"\",D111=\"\"),\"\",IF(OR(RIGHT(A111,5)=\"Flask\",RIGHT(A111,2)=\"mL\"),\"-\",(D111-MAX($D$107:D110))*INDEX(Compounds!G:G,MATCH(A111,Compounds!A:A,FALSE))*1000/$C$56))","v":""}]
["",{"$f":"A112&\" CCV \"&MAX($B$1:B111)","v":" CCV 5"},"",{"$f":"D111+0.026","v":64.608699999999999},{"$f":"IF(OR(A112=\"\",D112=\"\"),\"\",IF(OR(RIGHT(A112,5)=\"Flask\",RIGHT(A112,2)=\"mL\"),\"-\",(D112-MAX($D$107:D111))*INDEX(Compounds!G:G,MATCH(A112,Compounds!A:A,FALSE))*1000/$C$56))","v":""}]
["",{"$f":"A113&\" CCV \"&MAX($B$1:B112)","v":" CCV 5"},"",64.634699999999995,{"$f":"IF(OR(A113=\"\",D113=\"\"),\"\",IF(OR(RIGHT(A113,5)=\"Flask\",RIGHT(A113,2)=\"mL\"),\"-\",(D113-MAX($D$107:D112))*INDEX(Compounds!G:G,MATCH(A113,Compounds!A:A,FALSE))*1000/$C$56))","v":""}]
["",{"$f":"A114&\" CCV \"&MAX($B$1:B113)","v":" CCV 5"},"",64.660699999999991,{"$f":"IF(OR(A114=\"\",D114=\"\"),\"\",IF(OR(RIGHT(A114,5)=\"Flask\",RIGHT(A114,2)=\"mL\"),\"-\",(D114-MAX($D$107:D113))*INDEX(Compounds!G:G,MATCH(A114,Compounds!A:A,FALSE))*1000/$C$56))","v":""}]
["",{"$f":"A115&\" CCV \"&MAX($B$1:B114)","v":" CCV 5"},"",64.686699999999988,{"$f":"IF(OR(A115=\"\",D115=\"\"),\"\",IF(OR(RIGHT(A115,5)=\"Flask\",RIGHT(A115,2)=\"mL\"),\"-\",(D115-MAX($D$107:D114))*INDEX(Compounds!G:G,MATCH(A115,Compounds!A:A,FALSE))*1000/$C$56))","v":""}]
["",{"$f":"A116&\" CCV \"&MAX($B$1:B115)","v":" CCV 5"},"",64.712699999999984,{"$f":"IF(OR(A116=\"\",D116=\"\"),\"\",IF(OR(RIGHT(A116,5)=\"Flask\",RIGHT(A116,2)=\"mL\"),\"-\",(D116-MAX($D$107:D115))*INDEX(Compounds!G:G,MATCH(A116,Compounds!A:A,FALSE))*1000/$C$56))","v":""}]
["",{"$f":"A117&\" CCV \"&MAX($B$1:B116)","v":" CCV 5"},"",64.73869999999998,{"$f":"IF(OR(A117=\"\",D117=\"\"),\"\",IF(OR(RIGHT(A117,5)=\"Flask\",RIGHT(A117,2)=\"mL\"),\"-\",(D117-MAX($D$107:D116))*INDEX(Compounds!G:G,MATCH(A117,Compounds!A:A,FALSE))*1000/$C$56))","v":""}]
["",{"$f":"A118&\" CCV \"&MAX($B$1:B117)","v":" CCV 5"},"",64.764699999999976,{"$f":"IF(OR(A118=\"\",D118=\"\"),\"\",IF(OR(RIGHT(A118,5)=\"Flask\",RIGHT(A118,2)=\"mL\"),\"-\",(D118-MAX($D$107:D117))*INDEX(Compounds!G:G,MATCH(A118,Compounds!A:A,FALSE))*1000/$C$56))","v":""}]
["",{"$f":"A119&\" CCV \"&MAX($B$1:B118)","v":" CCV 5"},"",64.790699999999973,{"$f":"IF(OR(A119=\"\",D119=\"\"),\"\",IF(OR(RIGHT(A119,5)=\"Flask\",RIGHT(A119,2)=\"mL\"),\"-\",(D119-MAX($D$107:D118))*INDEX(Compounds!G:G,MATCH(A119,Compounds!A:A,FALSE))*1000/$C$56))","v":""}]
["",{"$f":"A120&\" CCV \"&MAX($B$1:B119)","v":" CCV 5"},"",64.816699999999969,{"$f":"IF(OR(A120=\"\",D120=\"\"),\"\",IF(OR(RIGHT(A120,5)=\"Flask\",RIGHT(A120,2)=\"mL\"),\"-\",(D120-MAX($D$107:D119))*INDEX(Compounds!G:G,MATCH(A120,Compounds!A:A,FALSE))*1000/$C$56))","v":""}]
[{"$f":"\"QS w/ \"&C105&\" to \"&C104&\" mL\"","v":"QS w/ THF to 25 mL"},{"$f":"A121&\" CCV \"&MAX($B$1:B120)","v":"QS w/ THF to 25 mL CCV 5"},{"$f":"IF(OR(RIGHT(A121,5)=\"Flask\",LEFT(A121,2)=\"QS\"),\"-\",IF(A121=$C$9,10*$C$8/25&\" mL\",IF(A121=\"EGDE\",150*$C$8/25&\" uL\",ROUND(INDEX($K$3:$K$22,MATCH(A121,$Q$3:$Q$22,FALSE))*$C$8,0)&\" uL\")))","v":"-"},{"$f":"D113+15","v":79.634699999999995},{"$f":"IF(OR(A121=\"\",D121=\"\"),\"\",IF(OR(RIGHT(A121,5)=\"Flask\",RIGHT(A121,2)=\"mL\"),\"-\",(D121-MAX($D$107:D120))*INDEX(Compounds!G:G,MATCH(A121,Compounds!A:A,FALSE))*1000/$C$56))","v":"-"}]

{"sheet":"CCV 1 Data","index":13,"n_rows":5,"n_cols":15,"rows_kept":5,"cut":false,"hidden":true,"merged":[]}
[]
["ID:","CCV 1 A",null,null,"ID:","CCV 1 B",null,null,"ID:","CCV 1 C",null,null,"ID:","CCV 1 D"]
["Filename",null,null,null,"Filename",null,null,null,"Filename",null,null,null,"Filename"]
[]
["RT (min)","Area Counts","Compound ID",null,"RT (min)","Area Counts","Compound ID",null,"RT (min)","Area Counts","Compound ID",null,"RT (min)","Area Counts","Compound ID"]

{"sheet":"CCV 2 Data","index":14,"n_rows":5,"n_cols":15,"rows_kept":5,"cut":false,"hidden":true,"merged":[]}
[]
["ID:","CCV 2 A",null,null,"ID:","CCV 2 B",null,null,"ID:","CCV 2 C",null,null,"ID:","CCV 2 D"]
["Filename",null,null,null,"Filename",null,null,null,"Filename",null,null,null,"Filename"]
[]
["RT (min)","Area Counts","Compound ID",null,"RT (min)","Area Counts","Compound ID",null,"RT (min)","Area Counts","Compound ID",null,"RT (min)","Area Counts","Compound ID"]

{"sheet":"CCV 3 Data","index":15,"n_rows":5,"n_cols":15,"rows_kept":5,"cut":false,"hidden":true,"merged":[]}
[]
["ID:","CCV 3 A",null,null,"ID:","CCV 3 B",null,null,"ID:","CCV 3 C",null,null,"ID:","CCV 3 D"]
["Filename",null,null,null,"Filename",null,null,null,"Filename",null,null,null,"Filename"]
[]
["RT (min)","Area Counts","Compound ID",null,"RT (min)","Area Counts","Compound ID",null,"RT (min)","Area Counts","Compound ID",null,"RT (min)","Area Counts","Compound ID"]

{"sheet":"CCV 4 Data","index":16,"n_rows":5,"n_cols":15,"rows_kept":5,"cut":false,"hidden":true,"merged":[]}
[]
["ID:","CCV 4 A",null,null,"ID:","CCV 4 B",null,null,"ID:","CCV 4 C",null,null,"ID:","CCV 4 D"]
["Filename",null,null,null,"Filename",null,null,null,"Filename",null,null,null,"Filename"]
[]
["RT (min)","Area Counts","Compound ID",null,"RT (min)","Area Counts","Compound ID",null,"RT (min)","Area Counts","Compound ID",null,"RT (min)","Area Counts","Compound ID"]

{"sheet":"CCV Summary","index":17,"n_rows":63,"n_cols":11,"rows_kept":63,"cut":false,"hidden":false,"merged":[[33,0,33,10],[34,4,34,6],[34,8,34,10],[49,0,49,10],[50,4,50,6],[50,8,50,10],[1,0,1,10],[2,8,2,10],[2,4,2,6],[17,0,17,10],[18,4,18,6],[18,8,18,10]]}
[]
["CCV 1"]
[null,null,null,null,"A + B",null,null,null,"C + D"]
["Compound","Prep g/L","RRF",null,"Avg. AC","g/L","% Recovery",null,"Avg. AC","g/L","% Recovery"]
[{"$f":"'CCV Prep'!A15","v":"EGDE"},{"$f":"INDEX('CCV Prep'!E:E,MATCH(A5&\" \"&$A$2,'CCV Prep'!B:B,FALSE))","v":""},{"$f":"IF(A5=\"\",\"\",INDEX(RRFs!E:E,MATCH(A5,RRFs!B:B,FALSE)))","v":{"$error":"#N/A"}},null,{"$f":"IF(A5=\"\",\"\",AVERAGE(SUMIF('CCV 1 Data'!C:C,\"=\"&'CCV Summary'!A5,'CCV 1 Data'!B:B),SUMIF('CCV 1 Data'!G:G,\"=\"&'CCV Summary'!A5,'CCV 1 Data'!F:F)))","v":0},{"$f":"IF(A5=\"\",\"\",IF(A5=\"EGDE\",E5/C5,E5/$E$5*$B$5/C5))","v":{"$error":"#N/A"}},{"$f":"IF(B5=\"\",\"\",F5*100/B5)","v":""},null,{"$f":"IF(A5=\"\",\"\",AVERAGE(SUMIF('CCV 1 Data'!K:K,\"=\"&'CCV Summary'!A5,'CCV 1 Data'!J:J),SUMIF('CCV 1 Data'!O:O,\"=\"&'CCV Summary'!A5,'CCV 1 Data'!N:N)))","v":0},{"$f":"IF(A5=\"\",\"\",IF(A5=\"EGDE\",I5/C5,I5/$I$5*$B$5/C5))","v":{"$error":"#N/A"}},{"$f":"IF(B5=\"\",\"\",J5*100/B5)","v":""}]
[{"$f":"'CCV Prep'!A16","v":""},{"$f":"INDEX('CCV Prep'!E:E,MATCH(A6&\" \"&$A$2,'CCV Prep'!B:B,FALSE))","v":""},{"$f":"IF(A6=\"\",\"\",INDEX(RRFs!E:E,MATCH(A6,RRFs!B:B,FALSE)))","v":""},null,{"$f":"IF(A6=\"\",\"\",AVERAGE(SUMIF('CCV 1 Data'!C:C,\"=\"&'CCV Summary'!A6,'CCV 1 Data'!B:B),SUMIF('CCV 1 Data'!G:G,\"=\"&'CCV Summary'!A6,'CCV 1 Data'!F:F)))","v":""},"",{"$f":"IF(B6=\"\",\"\",F6*100/B6)","v":""},null,{"$f":"IF(A6=\"\",\"\",AVERAGE(SUMIF('CCV 1 Data'!K:K,\"=\"&'CCV Summary'!A6,'CCV 1 Data'!J:J),SUMIF('CCV 1 Data'!O:O,\"=\"&'CCV Summary'!A6,'CCV 1 Data'!N:N)))","v":""},"",{"$f":"IF(B6=\"\",\"\",J6*100/B6)","v":""}]
[{"$f":"'CCV Prep'!A17","v":""},{"$f":"INDEX('CCV Prep'!E:E,MATCH(A7&\" \"&$A$2,'CCV Prep'!B:B,FALSE))","v":""},{"$f":"IF(A7=\"\",\"\",INDEX(RRFs!E:E,MATCH(A7,RRFs!B:B,FALSE)))","v":""},null,{"$f":"IF(A7=\"\",\"\",AVERAGE(SUMIF('CCV 1 Data'!C:C,\"=\"&'CCV Summary'!A7,'CCV 1 Data'!B:B),SUMIF('CCV 1 Data'!G:G,\"=\"&'CCV Summary'!A7,'CCV 1 Data'!F:F)))","v":""},"","",null,{"$f":"IF(A7=\"\",\"\",AVERAGE(SUMIF('CCV 1 Data'!K:K,\"=\"&'CCV Summary'!A7,'CCV 1 Data'!J:J),SUMIF('CCV 1 Data'!O:O,\"=\"&'CCV Summary'!A7,'CCV 1 Data'!N:N)))","v":""},"",""]
[{"$f":"'CCV Prep'!A18","v":""},{"$f":"INDEX('CCV Prep'!E:E,MATCH(A8&\" \"&$A$2,'CCV Prep'!B:B,FALSE))","v":""},{"$f":"IF(A8=\"\",\"\",INDEX(RRFs!E:E,MATCH(A8,RRFs!B:B,FALSE)))","v":""},null,{"$f":"IF(A8=\"\",\"\",AVERAGE(SUMIF('CCV 1 Data'!C:C,\"=\"&'CCV Summary'!A8,'CCV 1 Data'!B:B),SUMIF('CCV 1 Data'!G:G,\"=\"&'CCV Summary'!A8,'CCV 1 Data'!F:F)))","v":""},"","",null,{"$f":"IF(A8=\"\",\"\",AVERAGE(SUMIF('CCV 1 Data'!K:K,\"=\"&'CCV Summary'!A8,'CCV 1 Data'!J:J),SUMIF('CCV 1 Data'!O:O,\"=\"&'CCV Summary'!A8,'CCV 1 Data'!N:N)))","v":""},"",""]
[{"$f":"'CCV Prep'!A19","v":""},{"$f":"INDEX('CCV Prep'!E:E,MATCH(A9&\" \"&$A$2,'CCV Prep'!B:B,FALSE))","v":""},{"$f":"IF(A9=\"\",\"\",INDEX(RRFs!E:E,MATCH(A9,RRFs!B:B,FALSE)))","v":""},null,{"$f":"IF(A9=\"\",\"\",AVERAGE(SUMIF('CCV 1 Data'!C:C,\"=\"&'CCV Summary'!A9,'CCV 1 Data'!B:B),SUMIF('CCV 1 Data'!G:G,\"=\"&'CCV Summary'!A9,'CCV 1 Data'!F:F)))","v":""},"","",null,{"$f":"IF(A9=\"\",\"\",AVERAGE(SUMIF('CCV 1 Data'!K:K,\"=\"&'CCV Summary'!A9,'CCV 1 Data'!J:J),SUMIF('CCV 1 Data'!O:O,\"=\"&'CCV Summary'!A9,'CCV 1 Data'!N:N)))","v":""},"",""]
[{"$f":"'CCV Prep'!A20","v":""},{"$f":"INDEX('CCV Prep'!E:E,MATCH(A10&\" \"&$A$2,'CCV Prep'!B:B,FALSE))","v":""},{"$f":"IF(A10=\"\",\"\",INDEX(RRFs!E:E,MATCH(A10,RRFs!B:B,FALSE)))","v":""},null,{"$f":"IF(A10=\"\",\"\",AVERAGE(SUMIF('CCV 1 Data'!C:C,\"=\"&'CCV Summary'!A10,'CCV 1 Data'!B:B),SUMIF('CCV 1 Data'!G:G,\"=\"&'CCV Summary'!A10,'CCV 1 Data'!F:F)))","v":""},"","",null,{"$f":"IF(A10=\"\",\"\",AVERAGE(SUMIF('CCV 1 Data'!K:K,\"=\"&'CCV Summary'!A10,'CCV 1 Data'!J:J),SUMIF('CCV 1 Data'!O:O,\"=\"&'CCV Summary'!A10,'CCV 1 Data'!N:N)))","v":""},"",""]
[{"$f":"'CCV Prep'!A21","v":""},{"$f":"INDEX('CCV Prep'!E:E,MATCH(A11&\" \"&$A$2,'CCV Prep'!B:B,FALSE))","v":""},{"$f":"IF(A11=\"\",\"\",INDEX(RRFs!E:E,MATCH(A11,RRFs!B:B,FALSE)))","v":""},null,{"$f":"IF(A11=\"\",\"\",AVERAGE(SUMIF('CCV 1 Data'!C:C,\"=\"&'CCV Summary'!A11,'CCV 1 Data'!B:B),SUMIF('CCV 1 Data'!G:G,\"=\"&'CCV Summary'!A11,'CCV 1 Data'!F:F)))","v":""},"","",null,{"$f":"IF(A11=\"\",\"\",AVERAGE(SUMIF('CCV 1 Data'!K:K,\"=\"&'CCV Summary'!A11,'CCV 1 Data'!J:J),SUMIF('CCV 1 Data'!O:O,\"=\"&'CCV Summary'!A11,'CCV 1 Data'!N:N)))","v":""},"",""]
[{"$f":"'CCV Prep'!A22","v":""},{"$f":"INDEX('CCV Prep'!E:E,MATCH(A12&\" \"&$A$2,'CCV Prep'!B:B,FALSE))","v":""},{"$f":"IF(A12=\"\",\"\",INDEX(RRFs!E:E,MATCH(A12,RRFs!B:B,FALSE)))","v":""},null,{"$f":"IF(A12=\"\",\"\",AVERAGE(SUMIF('CCV 1 Data'!C:C,\"=\"&'CCV Summary'!A12,'CCV 1 Data'!B:B),SUMIF('CCV 1 Data'!G:G,\"=\"&'CCV Summary'!A12,'CCV 1 Data'!F:F)))","v":""},"","",null,{"$f":"IF(A12=\"\",\"\",AVERAGE(SUMIF('CCV 1 Data'!K:K,\"=\"&'CCV Summary'!A12,'CCV 1 Data'!J:J),SUMIF('CCV 1 Data'!O:O,\"=\"&'CCV Summary'!A12,'CCV 1 Data'!N:N)))","v":""},"",""]
[{"$f":"'CCV Prep'!A23","v":""},{"$f":"INDEX('CCV Prep'!E:E,MATCH(A13&\" \"&$A$2,'CCV Prep'!B:B,FALSE))","v":""},{"$f":"IF(A13=\"\",\"\",INDEX(RRFs!E:E,MATCH(A13,RRFs!B:B,FALSE)))","v":""},null,{"$f":"IF(A13=\"\",\"\",AVERAGE(SUMIF('CCV 1 Data'!C:C,\"=\"&'CCV Summary'!A13,'CCV 1 Data'!B:B),SUMIF('CCV 1 Data'!G:G,\"=\"&'CCV Summary'!A13,'CCV 1 Data'!F:F)))","v":""},"","",null,{"$f":"IF(A13=\"\",\"\",AVERAGE(SUMIF('CCV 1 Data'!K:K,\"=\"&'CCV Summary'!A13,'CCV 1 Data'!J:J),SUMIF('CCV 1 Data'!O:O,\"=\"&'CCV Summary'!A13,'CCV 1 Data'!N:N)))","v":""},"",""]
[{"$f":"'CCV Prep'!A24","v":""},{"$f":"INDEX('CCV Prep'!E:E,MATCH(A14&\" \"&$A$2,'CCV Prep'!B:B,FALSE))","v":""},{"$f":"IF(A14=\"\",\"\",INDEX(RRFs!E:E,MATCH(A14,RRFs!B:B,FALSE)))","v":""},null,{"$f":"IF(A14=\"\",\"\",AVERAGE(SUMIF('CCV 1 Data'!C:C,\"=\"&'CCV Summary'!A14,'CCV 1 Data'!B:B),SUMIF('CCV 1 Data'!G:G,\"=\"&'CCV Summary'!A14,'CCV 1 Data'!F:F)))","v":""},"","",null,{"$f":"IF(A14=\"\",\"\",AVERAGE(SUMIF('CCV 1 Data'!K:K,\"=\"&'CCV Summary'!A14,'CCV 1 Data'!J:J),SUMIF('CCV 1 Data'!O:O,\"=\"&'CCV Summary'!A14,'CCV 1 Data'!N:N)))","v":""},"",""]
[{"$f":"'CCV Prep'!A25","v":""},{"$f":"INDEX('CCV Prep'!E:E,MATCH(A15&\" \"&$A$2,'CCV Prep'!B:B,FALSE))","v":""},{"$f":"IF(A15=\"\",\"\",INDEX(RRFs!E:E,MATCH(A15,RRFs!B:B,FALSE)))","v":""},null,{"$f":"IF(A15=\"\",\"\",AVERAGE(SUMIF('CCV 1 Data'!C:C,\"=\"&'CCV Summary'!A15,'CCV 1 Data'!B:B),SUMIF('CCV 1 Data'!G:G,\"=\"&'CCV Summary'!A15,'CCV 1 Data'!F:F)))","v":""},"","",null,{"$f":"IF(A15=\"\",\"\",AVERAGE(SUMIF('CCV 1 Data'!K:K,\"=\"&'CCV Summary'!A15,'CCV 1 Data'!J:J),SUMIF('CCV 1 Data'!O:O,\"=\"&'CCV Summary'!A15,'CCV 1 Data'!N:N)))","v":""},"",""]
[]
[]
["CCV 2"]
[null,null,null,null,"A + B",null,null,null,"C + D"]
["Compound","Prep g/L","RRF",null,"Avg. AC","g/L","% Recovery",null,"Avg. AC","g/L","% Recovery"]
[{"$f":"'CCV Prep'!A39","v":"EGDE"},{"$f":"INDEX('CCV Prep'!E:E,MATCH(A21&\" \"&$A$18,'CCV Prep'!B:B,FALSE))","v":""},{"$f":"IF(A21=\"\",\"\",INDEX(RRFs!E:E,MATCH(A21,RRFs!B:B,FALSE)))","v":{"$error":"#N/A"}},null,{"$f":"IF(A21=\"\",\"\",AVERAGE(SUMIF('CCV 2 Data'!C:C,\"=\"&'CCV Summary'!A21,'CCV 2 Data'!B:B),SUMIF('CCV 2 Data'!G:G,\"=\"&'CCV Summary'!A21,'CCV 2 Data'!F:F)))","v":0},{"$f":"IF(A21=\"\",\"\",IF(A21=\"EGDE\",E21/C21,E21/$E$21*$B$21/C21))","v":{"$error":"#N/A"}},{"$f":"IF(B21=\"\",\"\",F21*100/B21)","v":""},null,{"$f":"IF(A21=\"\",\"\",AVERAGE(SUMIF('CCV 2 Data'!K:K,\"=\"&'CCV Summary'!A21,'CCV 2 Data'!J:J),SUMIF('CCV 2 Data'!O:O,\"=\"&'CCV Summary'!A21,'CCV 2 Data'!N:N)))","v":0},{"$f":"IF(A21=\"\",\"\",IF(A21=\"EGDE\",I21/C21,I21/$I$21*$B$21/C21))","v":{"$error":"#N/A"}},{"$f":"IF(B21=\"\",\"\",J21*100/B21)","v":""}]
[{"$f":"'CCV Prep'!A40","v":""},{"$f":"INDEX('CCV Prep'!E:E,MATCH(A22&\" \"&$A$18,'CCV Prep'!B:B,FALSE))","v":""},{"$f":"IF(A22=\"\",\"\",INDEX(RRFs!E:E,MATCH(A22,RRFs!B:B,FALSE)))","v":""},null,{"$f":"IF(A22=\"\",\"\",AVERAGE(SUMIF('CCV 2 Data'!C:C,\"=\"&'CCV Summary'!A22,'CCV 2 Data'!B:B),SUMIF('CCV 2 Data'!G:G,\"=\"&'CCV Summary'!A22,'CCV 2 Data'!F:F)))","v":""},{"$f":"IF(A22=\"\",\"\",IF(A22=\"EGDE\",E22/C22,E22/$E$21*$B$21/C22))","v":""},{"$f":"IF(B22=\"\",\"\",F22*100/B22)","v":""},null,{"$f":"IF(A22=\"\",\"\",AVERAGE(SUMIF('CCV 2 Data'!K:K,\"=\"&'CCV Summary'!A22,'CCV 2 Data'!J:J),SUMIF('CCV 2 Data'!O:O,\"=\"&'CCV Summary'!A22,'CCV 2 Data'!N:N)))","v":""},{"$f":"IF(A22=\"\",\"\",IF(A22=\"EGDE\",I22/C22,I22/$I$21*$B$21/C22))","v":""},{"$f":"IF(B22=\"\",\"\",J22*100/B22)","v":""}]
[{"$f":"'CCV Prep'!A41","v":""},{"$f":"INDEX('CCV Prep'!E:E,MATCH(A23&\" \"&$A$18,'CCV Prep'!B:B,FALSE))","v":""},{"$f":"IF(A23=\"\",\"\",INDEX(RRFs!E:E,MATCH(A23,RRFs!B:B,FALSE)))","v":""},null,{"$f":"IF(A23=\"\",\"\",AVERAGE(SUMIF('CCV 2 Data'!C:C,\"=\"&'CCV Summary'!A23,'CCV 2 Data'!B:B),SUMIF('CCV 2 Data'!G:G,\"=\"&'CCV Summary'!A23,'CCV 2 Data'!F:F)))","v":""},"","",null,{"$f":"IF(A23=\"\",\"\",AVERAGE(SUMIF('CCV 2 Data'!K:K,\"=\"&'CCV Summary'!A23,'CCV 2 Data'!J:J),SUMIF('CCV 2 Data'!O:O,\"=\"&'CCV Summary'!A23,'CCV 2 Data'!N:N)))","v":""},"",""]
[{"$f":"'CCV Prep'!A42","v":""},{"$f":"INDEX('CCV Prep'!E:E,MATCH(A24&\" \"&$A$18,'CCV Prep'!B:B,FALSE))","v":""},{"$f":"IF(A24=\"\",\"\",INDEX(RRFs!E:E,MATCH(A24,RRFs!B:B,FALSE)))","v":""},null,{"$f":"IF(A24=\"\",\"\",AVERAGE(SUMIF('CCV 2 Data'!C:C,\"=\"&'CCV Summary'!A24,'CCV 2 Data'!B:B),SUMIF('CCV 2 Data'!G:G,\"=\"&'CCV Summary'!A24,'CCV 2 Data'!F:F)))","v":""},"","",null,{"$f":"IF(A24=\"\",\"\",AVERAGE(SUMIF('CCV 2 Data'!K:K,\"=\"&'CCV Summary'!A24,'CCV 2 Data'!J:J),SUMIF('CCV 2 Data'!O:O,\"=\"&'CCV Summary'!A24,'CCV 2 Data'!N:N)))","v":""},"",""]
[{"$f":"'CCV Prep'!A43","v":""},{"$f":"INDEX('CCV Prep'!E:E,MATCH(A25&\" \"&$A$18,'CCV Prep'!B:B,FALSE))","v":""},{"$f":"IF(A25=\"\",\"\",INDEX(RRFs!E:E,MATCH(A25,RRFs!B:B,FALSE)))","v":""},null,{"$f":"IF(A25=\"\",\"\",AVERAGE(SUMIF('CCV 2 Data'!C:C,\"=\"&'CCV Summary'!A25,'CCV 2 Data'!B:B),SUMIF('CCV 2 Data'!G:G,\"=\"&'CCV Summary'!A25,'CCV 2 Data'!F:F)))","v":""},"","",null,{"$f":"IF(A25=\"\",\"\",AVERAGE(SUMIF('CCV 2 Data'!K:K,\"=\"&'CCV Summary'!A25,'CCV 2 Data'!J:J),SUMIF('CCV 2 Data'!O:O,\"=\"&'CCV Summary'!A25,'CCV 2 Data'!N:N)))","v":""},"",""]
[{"$f":"'CCV Prep'!A44","v":""},{"$f":"INDEX('CCV Prep'!E:E,MATCH(A26&\" \"&$A$18,'CCV Prep'!B:B,FALSE))","v":""},{"$f":"IF(A26=\"\",\"\",INDEX(RRFs!E:E,MATCH(A26,RRFs!B:B,FALSE)))","v":""},null,{"$f":"IF(A26=\"\",\"\",AVERAGE(SUMIF('CCV 2 Data'!C:C,\"=\"&'CCV Summary'!A26,'CCV 2 Data'!B:B),SUMIF('CCV 2 Data'!G:G,\"=\"&'CCV Summary'!A26,'CCV 2 Data'!F:F)))","v":""},"","",null,{"$f":"IF(A26=\"\",\"\",AVERAGE(SUMIF('CCV 2 Data'!K:K,\"=\"&'CCV Summary'!A26,'CCV 2 Data'!J:J),SUMIF('CCV 2 Data'!O:O,\"=\"&'CCV Summary'!A26,'CCV 2 Data'!N:N)))","v":""},"",""]
[{"$f":"'CCV Prep'!A45","v":""},{"$f":"INDEX('CCV Prep'!E:E,MATCH(A27&\" \"&$A$18,'CCV Prep'!B:B,FALSE))","v":""},{"$f":"IF(A27=\"\",\"\",INDEX(RRFs!E:E,MATCH(A27,RRFs!B:B,FALSE)))","v":""},null,{"$f":"IF(A27=\"\",\"\",AVERAGE(SUMIF('CCV 2 Data'!C:C,\"=\"&'CCV Summary'!A27,'CCV 2 Data'!B:B),SUMIF('CCV 2 Data'!G:G,\"=\"&'CCV Summary'!A27,'CCV 2 Data'!F:F)))","v":""},"","",null,{"$f":"IF(A27=\"\",\"\",AVERAGE(SUMIF('CCV 2 Data'!K:K,\"=\"&'CCV Summary'!A27,'CCV 2 Data'!J:J),SUMIF('CCV 2 Data'!O:O,\"=\"&'CCV Summary'!A27,'CCV 2 Data'!N:N)))","v":""},"",""]
[{"$f":"'CCV Prep'!A46","v":""},{"$f":"INDEX('CCV Prep'!E:E,MATCH(A28&\" \"&$A$18,'CCV Prep'!B:B,FALSE))","v":""},{"$f":"IF(A28=\"\",\"\",INDEX(RRFs!E:E,MATCH(A28,RRFs!B:B,FALSE)))","v":""},null,{"$f":"IF(A28=\"\",\"\",AVERAGE(SUMIF('CCV 2 Data'!C:C,\"=\"&'CCV Summary'!A28,'CCV 2 Data'!B:B),SUMIF('CCV 2 Data'!G:G,\"=\"&'CCV Summary'!A28,'CCV 2 Data'!F:F)))","v":""},"","",null,{"$f":"IF(A28=\"\",\"\",AVERAGE(SUMIF('CCV 2 Data'!K:K,\"=\"&'CCV Summary'!A28,'CCV 2 Data'!J:J),SUMIF('CCV 2 Data'!O:O,\"=\"&'CCV Summary'!A28,'CCV 2 Data'!N:N)))","v":""},"",""]
[{"$f":"'CCV Prep'!A47","v":""},{"$f":"INDEX('CCV Prep'!E:E,MATCH(A29&\" \"&$A$18,'CCV Prep'!B:B,FALSE))","v":""},{"$f":"IF(A29=\"\",\"\",INDEX(RRFs!E:E,MATCH(A29,RRFs!B:B,FALSE)))","v":""},null,{"$f":"IF(A29=\"\",\"\",AVERAGE(SUMIF('CCV 2 Data'!C:C,\"=\"&'CCV Summary'!A29,'CCV 2 Data'!B:B),SUMIF('CCV 2 Data'!G:G,\"=\"&'CCV Summary'!A29,'CCV 2 Data'!F:F)))","v":""},"","",null,{"$f":"IF(A29=\"\",\"\",AVERAGE(SUMIF('CCV 2 Data'!K:K,\"=\"&'CCV Summary'!A29,'CCV 2 Data'!J:J),SUMIF('CCV 2 Data'!O:O,\"=\"&'CCV Summary'!A29,'CCV 2 Data'!N:N)))","v":""},"",""]
[{"$f":"'CCV Prep'!A48","v":""},{"$f":"INDEX('CCV Prep'!E:E,MATCH(A30&\" \"&$A$18,'CCV Prep'!B:B,FALSE))","v":""},{"$f":"IF(A30=\"\",\"\",INDEX(RRFs!E:E,MATCH(A30,RRFs!B:B,FALSE)))","v":""},null,{"$f":"IF(A30=\"\",\"\",AVERAGE(SUMIF('CCV 2 Data'!C:C,\"=\"&'CCV Summary'!A30,'CCV 2 Data'!B:B),SUMIF('CCV 2 Data'!G:G,\"=\"&'CCV Summary'!A30,'CCV 2 Data'!F:F)))","v":""},"","",null,{"$f":"IF(A30=\"\",\"\",AVERAGE(SUMIF('CCV 2 Data'!K:K,\"=\"&'CCV Summary'!A30,'CCV 2 Data'!J:J),SUMIF('CCV 2 Data'!O:O,\"=\"&'CCV Summary'!A30,'CCV 2 Data'!N:N)))","v":""},"",""]
[{"$f":"'CCV Prep'!A49","v":""},{"$f":"INDEX('CCV Prep'!E:E,MATCH(A31&\" \"&$A$18,'CCV Prep'!B:B,FALSE))","v":""},{"$f":"IF(A31=\"\",\"\",INDEX(RRFs!E:E,MATCH(A31,RRFs!B:B,FALSE)))","v":""},null,{"$f":"IF(A31=\"\",\"\",AVERAGE(SUMIF('CCV 2 Data'!C:C,\"=\"&'CCV Summary'!A31,'CCV 2 Data'!B:B),SUMIF('CCV 2 Data'!G:G,\"=\"&'CCV Summary'!A31,'CCV 2 Data'!F:F)))","v":""},"","",null,{"$f":"IF(A31=\"\",\"\",AVERAGE(SUMIF('CCV 2 Data'!K:K,\"=\"&'CCV Summary'!A31,'CCV 2 Data'!J:J),SUMIF('CCV 2 Data'!O:O,\"=\"&'CCV Summary'!A31,'CCV 2 Data'!N:N)))","v":""},"",""]
[]
[]
["CCV 3"]
[null,null,null,null,"A + B",null,null,null,"C + D"]
["Compound","Prep g/L","RRF",null,"Avg. AC","g/L","% Recovery",null,"Avg. AC","g/L","% Recovery"]
[{"$f":"'CCV Prep'!A63","v":"EGDE"},{"$f":"INDEX('CCV Prep'!E:E,MATCH(A37&\" \"&$A$34,'CCV Prep'!B:B,FALSE))","v":""},{"$f":"IF(A37=\"\",\"\",INDEX(RRFs!E:E,MATCH(A37,RRFs!B:B,FALSE)))","v":{"$error":"#N/A"}},null,{"$f":"IF(A37=\"\",\"\",AVERAGE(SUMIF('CCV 3 Data'!C:C,\"=\"&'CCV Summary'!A37,'CCV 3 Data'!B:B),SUMIF('CCV 3 Data'!G:G,\"=\"&'CCV Summary'!A37,'CCV 3 Data'!F:F)))","v":0},{"$f":"IF(A37=\"\",\"\",IF(A37=\"EGDE\",E37/C37,E37/$E$37*$B$37/C37))","v":{"$error":"#N/A"}},{"$f":"IF(B37=\"\",\"\",F37*100/B37)","v":""},null,{"$f":"IF(A37=\"\",\"\",AVERAGE(SUMIF('CCV 3 Data'!K:K,\"=\"&'CCV Summary'!A37,'CCV 3 Data'!J:J),SUMIF('CCV 3 Data'!O:O,\"=\"&'CCV Summary'!A37,'CCV 3 Data'!N:N)))","v":0},{"$f":"IF(A37=\"\",\"\",IF(A37=\"EGDE\",I37/C37,I37/$I$37*$B$37/C37))","v":{"$error":"#N/A"}},{"$f":"IF(B37=\"\",\"\",J37*100/B37)","v":""}]
[{"$f":"'CCV Prep'!A64","v":""},{"$f":"INDEX('CCV Prep'!E:E,MATCH(A38&\" \"&$A$34,'CCV Prep'!B:B,FALSE))","v":""},{"$f":"IF(A38=\"\",\"\",INDEX(RRFs!E:E,MATCH(A38,RRFs!B:B,FALSE)))","v":""},null,{"$f":"IF(A38=\"\",\"\",AVERAGE(SUMIF('CCV 3 Data'!C:C,\"=\"&'CCV Summary'!A38,'CCV 3 Data'!B:B),SUMIF('CCV 3 Data'!G:G,\"=\"&'CCV Summary'!A38,'CCV 3 Data'!F:F)))","v":""},{"$f":"IF(A38=\"\",\"\",IF(A38=\"EGDE\",E38/C38,E38/$E$37*$B$37/C38))","v":""},{"$f":"IF(B38=\"\",\"\",F38*100/B38)","v":""},null,{"$f":"IF(A38=\"\",\"\",AVERAGE(SUMIF('CCV 3 Data'!K:K,\"=\"&'CCV Summary'!A38,'CCV 3 Data'!J:J),SUMIF('CCV 3 Data'!O:O,\"=\"&'CCV Summary'!A38,'CCV 3 Data'!N:N)))","v":""},"",{"$f":"IF(B38=\"\",\"\",J38*100/B38)","v":""}]
[{"$f":"'CCV Prep'!A65","v":""},{"$f":"INDEX('CCV Prep'!E:E,MATCH(A39&\" \"&$A$34,'CCV Prep'!B:B,FALSE))","v":""},{"$f":"IF(A39=\"\",\"\",INDEX(RRFs!E:E,MATCH(A39,RRFs!B:B,FALSE)))","v":""},null,{"$f":"IF(A39=\"\",\"\",AVERAGE(SUMIF('CCV 3 Data'!C:C,\"=\"&'CCV Summary'!A39,'CCV 3 Data'!B:B),SUMIF('CCV 3 Data'!G:G,\"=\"&'CCV Summary'!A39,'CCV 3 Data'!F:F)))","v":""},"","",null,{"$f":"IF(A39=\"\",\"\",AVERAGE(SUMIF('CCV 3 Data'!K:K,\"=\"&'CCV Summary'!A39,'CCV 3 Data'!J:J),SUMIF('CCV 3 Data'!O:O,\"=\"&'CCV Summary'!A39,'CCV 3 Data'!N:N)))","v":""},"",""]
[{"$f":"'CCV Prep'!A66","v":""},{"$f":"INDEX('CCV Prep'!E:E,MATCH(A40&\" \"&$A$34,'CCV Prep'!B:B,FALSE))","v":""},{"$f":"IF(A40=\"\",\"\",INDEX(RRFs!E:E,MATCH(A40,RRFs!B:B,FALSE)))","v":""},null,{"$f":"IF(A40=\"\",\"\",AVERAGE(SUMIF('CCV 3 Data'!C:C,\"=\"&'CCV Summary'!A40,'CCV 3 Data'!B:B),SUMIF('CCV 3 Data'!G:G,\"=\"&'CCV Summary'!A40,'CCV 3 Data'!F:F)))","v":""},"","",null,{"$f":"IF(A40=\"\",\"\",AVERAGE(SUMIF('CCV 3 Data'!K:K,\"=\"&'CCV Summary'!A40,'CCV 3 Data'!J:J),SUMIF('CCV 3 Data'!O:O,\"=\"&'CCV Summary'!A40,'CCV 3 Data'!N:N)))","v":""},"",""]
[{"$f":"'CCV Prep'!A67","v":""},{"$f":"INDEX('CCV Prep'!E:E,MATCH(A41&\" \"&$A$34,'CCV Prep'!B:B,FALSE))","v":""},{"$f":"IF(A41=\"\",\"\",INDEX(RRFs!E:E,MATCH(A41,RRFs!B:B,FALSE)))","v":""},null,{"$f":"IF(A41=\"\",\"\",AVERAGE(SUMIF('CCV 3 Data'!C:C,\"=\"&'CCV Summary'!A41,'CCV 3 Data'!B:B),SUMIF('CCV 3 Data'!G:G,\"=\"&'CCV Summary'!A41,'CCV 3 Data'!F:F)))","v":""},"","",null,{"$f":"IF(A41=\"\",\"\",AVERAGE(SUMIF('CCV 3 Data'!K:K,\"=\"&'CCV Summary'!A41,'CCV 3 Data'!J:J),SUMIF('CCV 3 Data'!O:O,\"=\"&'CCV Summary'!A41,'CCV 3 Data'!N:N)))","v":""},"",""]
[{"$f":"'CCV Prep'!A68","v":""},{"$f":"INDEX('CCV Prep'!E:E,MATCH(A42&\" \"&$A$34,'CCV Prep'!B:B,FALSE))","v":""},{"$f":"IF(A42=\"\",\"\",INDEX(RRFs!E:E,MATCH(A42,RRFs!B:B,FALSE)))","v":""},null,{"$f":"IF(A42=\"\",\"\",AVERAGE(SUMIF('CCV 3 Data'!C:C,\"=\"&'CCV Summary'!A42,'CCV 3 Data'!B:B),SUMIF('CCV 3 Data'!G:G,\"=\"&'CCV Summary'!A42,'CCV 3 Data'!F:F)))","v":""},"","",null,{"$f":"IF(A42=\"\",\"\",AVERAGE(SUMIF('CCV 3 Data'!K:K,\"=\"&'CCV Summary'!A42,'CCV 3 Data'!J:J),SUMIF('CCV 3 Data'!O:O,\"=\"&'CCV Summary'!A42,'CCV 3 Data'!N:N)))","v":""},"",""]
[{"$f":"'CCV Prep'!A69","v":""},{"$f":"INDEX('CCV Prep'!E:E,MATCH(A43&\" \"&$A$34,'CCV Prep'!B:B,FALSE))","v":""},{"$f":"IF(A43=\"\",\"\",INDEX(RRFs!E:E,MATCH(A43,RRFs!B:B,FALSE)))","v":""},null,{"$f":"IF(A43=\"\",\"\",AVERAGE(SUMIF('CCV 3 Data'!C:C,\"=\"&'CCV Summary'!A43,'CCV 3 Data'!B:B),SUMIF('CCV 3 Data'!G:G,\"=\"&'CCV Summary'!A43,'CCV 3 Data'!F:F)))","v":""},"","",null,{"$f":"IF(A43=\"\",\"\",AVERAGE(SUMIF('CCV 3 Data'!K:K,\"=\"&'CCV Summary'!A43,'CCV 3 Data'!J:J),SUMIF('CCV 3 Data'!O:O,\"=\"&'CCV Summary'!A43,'CCV 3 Data'!N:N)))","v":""},"",""]
[{"$f":"'CCV Prep'!A70","v":""},{"$f":"INDEX('CCV Prep'!E:E,MATCH(A44&\" \"&$A$34,'CCV Prep'!B:B,FALSE))","v":""},{"$f":"IF(A44=\"\",\"\",INDEX(RRFs!E:E,MATCH(A44,RRFs!B:B,FALSE)))","v":""},null,{"$f":"IF(A44=\"\",\"\",AVERAGE(SUMIF('CCV 3 Data'!C:C,\"=\"&'CCV Summary'!A44,'CCV 3 Data'!B:B),SUMIF('CCV 3 Data'!G:G,\"=\"&'CCV Summary'!A44,'CCV 3 Data'!F:F)))","v":""},"","",null,{"$f":"IF(A44=\"\",\"\",AVERAGE(SUMIF('CCV 3 Data'!K:K,\"=\"&'CCV Summary'!A44,'CCV 3 Data'!J:J),SUMIF('CCV 3 Data'!O:O,\"=\"&'CCV Summary'!A44,'CCV 3 Data'!N:N)))","v":""},"",""]
[{"$f":"'CCV Prep'!A71","v":""},{"$f":"INDEX('CCV Prep'!E:E,MATCH(A45&\" \"&$A$34,'CCV Prep'!B:B,FALSE))","v":""},{"$f":"IF(A45=\"\",\"\",INDEX(RRFs!E:E,MATCH(A45,RRFs!B:B,FALSE)))","v":""},null,{"$f":"IF(A45=\"\",\"\",AVERAGE(SUMIF('CCV 3 Data'!C:C,\"=\"&'CCV Summary'!A45,'CCV 3 Data'!B:B),SUMIF('CCV 3 Data'!G:G,\"=\"&'CCV Summary'!A45,'CCV 3 Data'!F:F)))","v":""},"","",null,{"$f":"IF(A45=\"\",\"\",AVERAGE(SUMIF('CCV 3 Data'!K:K,\"=\"&'CCV Summary'!A45,'CCV 3 Data'!J:J),SUMIF('CCV 3 Data'!O:O,\"=\"&'CCV Summary'!A45,'CCV 3 Data'!N:N)))","v":""},"",""]
[{"$f":"'CCV Prep'!A72","v":""},{"$f":"INDEX('CCV Prep'!E:E,MATCH(A46&\" \"&$A$34,'CCV Prep'!B:B,FALSE))","v":""},{"$f":"IF(A46=\"\",\"\",INDEX(RRFs!E:E,MATCH(A46,RRFs!B:B,FALSE)))","v":""},null,{"$f":"IF(A46=\"\",\"\",AVERAGE(SUMIF('CCV 3 Data'!C:C,\"=\"&'CCV Summary'!A46,'CCV 3 Data'!B:B),SUMIF('CCV 3 Data'!G:G,\"=\"&'CCV Summary'!A46,'CCV 3 Data'!F:F)))","v":""},"","",null,{"$f":"IF(A46=\"\",\"\",AVERAGE(SUMIF('CCV 3 Data'!K:K,\"=\"&'CCV Summary'!A46,'CCV 3 Data'!J:J),SUMIF('CCV 3 Data'!O:O,\"=\"&'CCV Summary'!A46,'CCV 3 Data'!N:N)))","v":""},"",""]
[{"$f":"'CCV Prep'!A73","v":""},{"$f":"INDEX('CCV Prep'!E:E,MATCH(A47&\" \"&$A$34,'CCV Prep'!B:B,FALSE))","v":""},{"$f":"IF(A47=\"\",\"\",INDEX(RRFs!E:E,MATCH(A47,RRFs!B:B,FALSE)))","v":""},null,{"$f":"IF(A47=\"\",\"\",AVERAGE(SUMIF('CCV 3 Data'!C:C,\"=\"&'CCV Summary'!A47,'CCV 3 Data'!B:B),SUMIF('CCV 3 Data'!G:G,\"=\"&'CCV Summary'!A47,'CCV 3 Data'!F:F)))","v":""},"","",null,{"$f":"IF(A47=\"\",\"\",AVERAGE(SUMIF('CCV 3 Data'!K:K,\"=\"&'CCV Summary'!A47,'CCV 3 Data'!J:J),SUMIF('CCV 3 Data'!O:O,\"=\"&'CCV Summary'!A47,'CCV 3 Data'!N:N)))","v":""},"",""]
[]
[]
["CCV 4"]
[null,null,null,null,"A + B",null,null,null,"C + D"]
["Compound","Prep g/L","RRF",null,"Avg. AC","g/L","% Recovery",null,"Avg. AC","g/L","% Recovery"]
[{"$f":"'CCV Prep'!A87","v":"EGDE"},{"$f":"INDEX('CCV Prep'!E:E,MATCH(A53&\" \"&$A$50,'CCV Prep'!B:B,FALSE))","v":""},{"$f":"IF(A53=\"\",\"\",INDEX(RRFs!E:E,MATCH(A53,RRFs!B:B,FALSE)))","v":{"$error":"#N/A"}},null,{"$f":"IF(A53=\"\",\"\",AVERAGE(SUMIF('CCV 4 Data'!C:C,\"=\"&'CCV Summary'!A53,'CCV 4 Data'!B:B),SUMIF('CCV 4 Data'!G:G,\"=\"&'CCV Summary'!A53,'CCV 4 Data'!F:F)))","v":0},{"$f":"IF(A53=\"\",\"\",IF(A53=\"EGDE\",E53/C53,E53/$E$53*$B$53/C53))","v":{"$error":"#N/A"}},{"$f":"IF(B53=\"\",\"\",F53*100/B53)","v":""},null,{"$f":"IF(A53=\"\",\"\",AVERAGE(SUMIF('CCV 4 Data'!K:K,\"=\"&'CCV Summary'!A53,'CCV 4 Data'!J:J),SUMIF('CCV 4 Data'!O:O,\"=\"&'CCV Summary'!A53,'CCV 4 Data'!N:N)))","v":0},{"$f":"IF(A53=\"\",\"\",IF(A53=\"EGDE\",I53/C53,I53/$I$53*$B$53/C53))","v":{"$error":"#N/A"}},{"$f":"IF(B53=\"\",\"\",J53*100/B53)","v":""}]
[{"$f":"'CCV Prep'!A88","v":""},{"$f":"INDEX('CCV Prep'!E:E,MATCH(A54&\" \"&$A$50,'CCV Prep'!B:B,FALSE))","v":""},{"$f":"IF(A54=\"\",\"\",INDEX(RRFs!E:E,MATCH(A54,RRFs!B:B,FALSE)))","v":""},null,{"$f":"IF(A54=\"\",\"\",AVERAGE(SUMIF('CCV 4 Data'!C:C,\"=\"&'CCV Summary'!A54,'CCV 4 Data'!B:B),SUMIF('CCV 4 Data'!G:G,\"=\"&'CCV Summary'!A54,'CCV 4 Data'!F:F)))","v":""},{"$f":"IF(A54=\"\",\"\",IF(A54=\"EGDE\",E54/C54,E54/$E$53*$B$53/C54))","v":""},{"$f":"IF(B54=\"\",\"\",F54*100/B54)","v":""},null,{"$f":"IF(A54=\"\",\"\",AVERAGE(SUMIF('CCV 4 Data'!K:K,\"=\"&'CCV Summary'!A54,'CCV 4 Data'!J:J),SUMIF('CCV 4 Data'!O:O,\"=\"&'CCV Summary'!A54,'CCV 4 Data'!N:N)))","v":""},{"$f":"IF(A54=\"\",\"\",IF(A54=\"EGDE\",I54/C54,I54/$I$53*$B$53/C54))","v":""},{"$f":"IF(B54=\"\",\"\",J54*100/B54)","v":""}]
[{"$f":"'CCV Prep'!A89","v":""},{"$f":"INDEX('CCV Prep'!E:E,MATCH(A55&\" \"&$A$50,'CCV Prep'!B:B,FALSE))","v":""},{"$f":"IF(A55=\"\",\"\",INDEX(RRFs!E:E,MATCH(A55,RRFs!B:B,FALSE)))","v":""},null,{"$f":"IF(A55=\"\",\"\",AVERAGE(SUMIF('CCV 4 Data'!C:C,\"=\"&'CCV Summary'!A55,'CCV 4 Data'!B:B),SUMIF('CCV 4 Data'!G:G,\"=\"&'CCV Summary'!A55,'CCV 4 Data'!F:F)))","v":""},"","",null,{"$f":"IF(A55=\"\",\"\",AVERAGE(SUMIF('CCV 4 Data'!K:K,\"=\"&'CCV Summary'!A55,'CCV 4 Data'!J:J),SUMIF('CCV 4 Data'!O:O,\"=\"&'CCV Summary'!A55,'CCV 4 Data'!N:N)))","v":""},"",""]
[{"$f":"'CCV Prep'!A90","v":""},{"$f":"INDEX('CCV Prep'!E:E,MATCH(A56&\" \"&$A$50,'CCV Prep'!B:B,FALSE))","v":""},{"$f":"IF(A56=\"\",\"\",INDEX(RRFs!E:E,MATCH(A56,RRFs!B:B,FALSE)))","v":""},null,{"$f":"IF(A56=\"\",\"\",AVERAGE(SUMIF('CCV 4 Data'!C:C,\"=\"&'CCV Summary'!A56,'CCV 4 Data'!B:B),SUMIF('CCV 4 Data'!G:G,\"=\"&'CCV Summary'!A56,'CCV 4 Data'!F:F)))","v":""},"","",null,{"$f":"IF(A56=\"\",\"\",AVERAGE(SUMIF('CCV 4 Data'!K:K,\"=\"&'CCV Summary'!A56,'CCV 4 Data'!J:J),SUMIF('CCV 4 Data'!O:O,\"=\"&'CCV Summary'!A56,'CCV 4 Data'!N:N)))","v":""},"",""]
[{"$f":"'CCV Prep'!A91","v":""},{"$f":"INDEX('CCV Prep'!E:E,MATCH(A57&\" \"&$A$50,'CCV Prep'!B:B,FALSE))","v":""},{"$f":"IF(A57=\"\",\"\",INDEX(RRFs!E:E,MATCH(A57,RRFs!B:B,FALSE)))","v":""},null,{"$f":"IF(A57=\"\",\"\",AVERAGE(SUMIF('CCV 4 Data'!C:C,\"=\"&'CCV Summary'!A57,'CCV 4 Data'!B:B),SUMIF('CCV 4 Data'!G:G,\"=\"&'CCV Summary'!A57,'CCV 4 Data'!F:F)))","v":""},"","",null,{"$f":"IF(A57=\"\",\"\",AVERAGE(SUMIF('CCV 4 Data'!K:K,\"=\"&'CCV Summary'!A57,'CCV 4 Data'!J:J),SUMIF('CCV 4 Data'!O:O,\"=\"&'CCV Summary'!A57,'CCV 4 Data'!N:N)))","v":""},"",""]
[{"$f":"'CCV Prep'!A92","v":""},{"$f":"INDEX('CCV Prep'!E:E,MATCH(A58&\" \"&$A$50,'CCV Prep'!B:B,FALSE))","v":""},{"$f":"IF(A58=\"\",\"\",INDEX(RRFs!E:E,MATCH(A58,RRFs!B:B,FALSE)))","v":""},null,{"$f":"IF(A58=\"\",\"\",AVERAGE(SUMIF('CCV 4 Data'!C:C,\"=\"&'CCV Summary'!A58,'CCV 4 Data'!B:B),SUMIF('CCV 4 Data'!G:G,\"=\"&'CCV Summary'!A58,'CCV 4 Data'!F:F)))","v":""},"","",null,{"$f":"IF(A58=\"\",\"\",AVERAGE(SUMIF('CCV 4 Data'!K:K,\"=\"&'CCV Summary'!A58,'CCV 4 Data'!J:J),SUMIF('CCV 4 Data'!O:O,\"=\"&'CCV Summary'!A58,'CCV 4 Data'!N:N)))","v":""},"",""]
[{"$f":"'CCV Prep'!A93","v":""},{"$f":"INDEX('CCV Prep'!E:E,MATCH(A59&\" \"&$A$50,'CCV Prep'!B:B,FALSE))","v":""},{"$f":"IF(A59=\"\",\"\",INDEX(RRFs!E:E,MATCH(A59,RRFs!B:B,FALSE)))","v":""},null,{"$f":"IF(A59=\"\",\"\",AVERAGE(SUMIF('CCV 4 Data'!C:C,\"=\"&'CCV Summary'!A59,'CCV 4 Data'!B:B),SUMIF('CCV 4 Data'!G:G,\"=\"&'CCV Summary'!A59,'CCV 4 Data'!F:F)))","v":""},"","",null,{"$f":"IF(A59=\"\",\"\",AVERAGE(SUMIF('CCV 4 Data'!K:K,\"=\"&'CCV Summary'!A59,'CCV 4 Data'!J:J),SUMIF('CCV 4 Data'!O:O,\"=\"&'CCV Summary'!A59,'CCV 4 Data'!N:N)))","v":""},"",""]
[{"$f":"'CCV Prep'!A94","v":""},{"$f":"INDEX('CCV Prep'!E:E,MATCH(A60&\" \"&$A$50,'CCV Prep'!B:B,FALSE))","v":""},{"$f":"IF(A60=\"\",\"\",INDEX(RRFs!E:E,MATCH(A60,RRFs!B:B,FALSE)))","v":""},null,{"$f":"IF(A60=\"\",\"\",AVERAGE(SUMIF('CCV 4 Data'!C:C,\"=\"&'CCV Summary'!A60,'CCV 4 Data'!B:B),SUMIF('CCV 4 Data'!G:G,\"=\"&'CCV Summary'!A60,'CCV 4 Data'!F:F)))","v":""},"","",null,{"$f":"IF(A60=\"\",\"\",AVERAGE(SUMIF('CCV 4 Data'!K:K,\"=\"&'CCV Summary'!A60,'CCV 4 Data'!J:J),SUMIF('CCV 4 Data'!O:O,\"=\"&'CCV Summary'!A60,'CCV 4 Data'!N:N)))","v":""},"",""]
[{"$f":"'CCV Prep'!A95","v":""},{"$f":"INDEX('CCV Prep'!E:E,MATCH(A61&\" \"&$A$50,'CCV Prep'!B:B,FALSE))","v":""},{"$f":"IF(A61=\"\",\"\",INDEX(RRFs!E:E,MATCH(A61,RRFs!B:B,FALSE)))","v":""},null,{"$f":"IF(A61=\"\",\"\",AVERAGE(SUMIF('CCV 4 Data'!C:C,\"=\"&'CCV Summary'!A61,'CCV 4 Data'!B:B),SUMIF('CCV 4 Data'!G:G,\"=\"&'CCV Summary'!A61,'CCV 4 Data'!F:F)))","v":""},"","",null,{"$f":"IF(A61=\"\",\"\",AVERAGE(SUMIF('CCV 4 Data'!K:K,\"=\"&'CCV Summary'!A61,'CCV 4 Data'!J:J),SUMIF('CCV 4 Data'!O:O,\"=\"&'CCV Summary'!A61,'CCV 4 Data'!N:N)))","v":""},"",""]
[{"$f":"'CCV Prep'!A96","v":""},{"$f":"INDEX('CCV Prep'!E:E,MATCH(A62&\" \"&$A$50,'CCV Prep'!B:B,FALSE))","v":""},{"$f":"IF(A62=\"\",\"\",INDEX(RRFs!E:E,MATCH(A62,RRFs!B:B,FALSE)))","v":""},null,{"$f":"IF(A62=\"\",\"\",AVERAGE(SUMIF('CCV 4 Data'!C:C,\"=\"&'CCV Summary'!A62,'CCV 4 Data'!B:B),SUMIF('CCV 4 Data'!G:G,\"=\"&'CCV Summary'!A62,'CCV 4 Data'!F:F)))","v":""},"","",null,{"$f":"IF(A62=\"\",\"\",AVERAGE(SUMIF('CCV 4 Data'!K:K,\"=\"&'CCV Summary'!A62,'CCV 4 Data'!J:J),SUMIF('CCV 4 Data'!O:O,\"=\"&'CCV Summary'!A62,'CCV 4 Data'!N:N)))","v":""},"",""]
[{"$f":"'CCV Prep'!A97","v":""},{"$f":"INDEX('CCV Prep'!E:E,MATCH(A63&\" \"&$A$50,'CCV Prep'!B:B,FALSE))","v":""},{"$f":"IF(A63=\"\",\"\",INDEX(RRFs!E:E,MATCH(A63,RRFs!B:B,FALSE)))","v":""},null,{"$f":"IF(A63=\"\",\"\",AVERAGE(SUMIF('CCV 4 Data'!C:C,\"=\"&'CCV Summary'!A63,'CCV 4 Data'!B:B),SUMIF('CCV 4 Data'!G:G,\"=\"&'CCV Summary'!A63,'CCV 4 Data'!F:F)))","v":""},"","",null,{"$f":"IF(A63=\"\",\"\",AVERAGE(SUMIF('CCV 4 Data'!K:K,\"=\"&'CCV Summary'!A63,'CCV 4 Data'!J:J),SUMIF('CCV 4 Data'!O:O,\"=\"&'CCV Summary'!A63,'CCV 4 Data'!N:N)))","v":""},"",""]

{"sheet":"Sample #1","index":18,"n_rows":200,"n_cols":33,"rows_kept":200,"cut":false,"hidden":false,"merged":[[40,1,40,3],[40,4,40,5],[1,16,1,23],[1,25,1,32],[23,1,23,5],[10,1,10,5],[1,8,1,10],[1,12,1,14],[1,1,1,5]]}
[]
[null,"Sample Information",null,null,null,null,null,null,"Pre-Sample #1 Blank",null,null,null,"CSV 1 B",null,null,null,"Sample #1 A",null,null,null,null,null,null,null,null,"Sample #1 B"]
[]
[null,null,"Density (g/mL)",null,null,null,null,null,"RT (min)","Area Counts","~ Measured g/L*",null,"RT (min)","Area Counts","~Measured g/L*",null,"RT (min)","Area Counts","Assignment","RF/RRF","Measured g/L","Sample g/L","ID Required?","Qual ID (CAS #)",null,"RT (min)","Area Counts","Assignment","RF/RRF","Measured g/L","Sample g/L","ID Required?","Qual ID (CAS #)"]
[null,null,"Wt% Water",null,null,null,null,5,null,null,{"$f":"IF(J5=\"\",\"\",(J5/LARGE($J$5:$J$100,2)*(5/(INDEX(RRFs!E:E,MATCH(\"Triglyme\",RRFs!B:B,FALSE))))))","v":""},null,{"$f":"IF(INDEX(INDIRECT(\"'\"&SUBSTITUTE($M$2,RIGHT($M$2,1),\"\")&\"Data\"&\"'!2:100\"),H5,MATCH($M$2,INDIRECT(\"'\"&SUBSTITUTE($M$2,RIGHT($M$2,1),\"\")&\"Data\"&\"'!2:2\"),FALSE)-1)=0,\"\",INDEX(INDIRECT(\"'\"&SUBSTITUTE($M$2,RIGHT($M$2,1),\"\")&\"Data\"&\"'!2:100\"),H5,MATCH($M$2,INDIRECT(\"'\"&SUBSTITUTE($M$2,RIGHT($M$2,1),\"\")&\"Data\"&\"'!2:2\"),FALSE)-1))","v":""},{"$f":"IF(INDEX(INDIRECT(\"'\"&SUBSTITUTE($M$2,RIGHT($M$2,1),\"\")&\"Data\"&\"'!2:100\"),H5,MATCH($M$2,INDIRECT(\"'\"&SUBSTITUTE($M$2,RIGHT($M$2,1),\"\")&\"Data\"&\"'!2:2\"),FALSE))=0,\"\",INDEX(INDIRECT(\"'\"&SUBSTITUTE($M$2,RIGHT($M$2,1),\"\")&\"Data\"&\"'!2:100\"),H5,MATCH($M$2,INDIRECT(\"'\"&SUBSTITUTE($M$2,RIGHT($M$2,1),\"\")&\"Data\"&\"'!2:2\"),FALSE)))","v":""},{"$f":"IF(N5=\"\",\"\",(N5/(INDEX(INDIRECT(\"'\"&LEFT($M$2,5)&\" Data'!F:F\"),MATCH(\"EGDE\",INDIRECT(\"'\"&LEFT($M$2,5)&\" Data\"&\"'!G:G\"),FALSE))))*(INDEX('CSV Prep'!E:E,MATCH(\"EGDE \"&LEFT($M$2,5),'CSV Prep'!B:B,FALSE))/(INDEX(RRFs!E:E,MATCH(\"Triglyme\",RRFs!B:B,FALSE)))))","v":""},null,null,null,{"$f":"IF(Q5>=$E$41,\"After MeP\",\"\")","v":"After MeP"},{"$f":"IF(Q5=\"\",\"\",IF(OR(S5=\"Solvent\",S5=\"After MeP\"),0,IF(S5=\"\",INDEX(RRFs!E:E,MATCH(\"Triglyme\",RRFs!B:B,FALSE)),INDEX(RRFs!E:E,MATCH(S5,RRFs!B:B,FALSE)))))","v":""},{"$f":"IF(Q5=\"\",\"\",IF(T5=0,0,IF(S5=\"EGDE\",R5/T5,R5/INDEX(R:R,MATCH(\"EGDE\",S:S,FALSE)) *INDEX($F$29:$F$38,MATCH(\"EGDE\",$C$29:$C$38,FALSE))/T5)))","v":""},{"$f":"IF(Q5=\"\",\"\",IF(OR(S5=\"Heptane\",S5=\"IPA\",S5=\"Triglyme\",S5=\"DIIBA\",S5=\"EGDE\"),\"\",U5*($D$26/(LARGE($F$16:$F$21,1)*($E$32-$E$31)))*$D$4))","v":""},{"$f":"IF(V5=\"\",\"\",IF(AND(V5>1,S5=\"\"),\"Yes\",\"\"))","v":""},null,null,null,null,{"$f":"IF(Z5>=$E$41,\"After MeP\",\"\")","v":"After MeP"},{"$f":"IF(Z5=\"\",\"\",IF(OR(AB5=\"Solvent\",AB5=\"After MeP\"),0,IF(AB5=\"\",INDEX(RRFs!E:E,MATCH(\"Triglyme\",RRFs!B:B,FALSE)),INDEX(RRFs!E:E,MATCH(AB5,RRFs!B:B,FALSE)))))","v":""},{"$f":"IF(Z5=\"\",\"\",IF(AC5=0,0,IF(AB5=\"EGDE\",AA5/AC5,AA5/INDEX(AA:AA,MATCH(\"EGDE\",AB:AB,FALSE)) *INDEX($F$29:$F$38,MATCH(\"EGDE\",$C$29:$C$38,FALSE))/AC5)))","v":""},{"$f":"IF(Z5=\"\",\"\",IF(OR(AB5=\"Heptane\",AB5=\"IPA\",AB5=\"Triglyme\",AB5=\"DIIBA\",AB5=\"EGDE\"),\"\",AD5*($D$26/((LARGE($F$16:$F$21,1)*($E$32-$E$31)))*$D$4)))","v":""},{"$f":"IF(AE5=\"\",\"\",IF(AND(AE5>1,AB5=\"\"),\"Yes\",\"\"))","v":""}]
[null,null,"Wt % Non-Volatiles",null,null,null,null,{"$f":"H5+1","v":6},null,null,{"$f":"IF(J6=\"\",\"\",(J6/LARGE($J$5:$J$100,2)*(5/(INDEX(RRFs!E:E,MATCH(\"Triglyme\",RRFs!B:B,FALSE))))))","v":""},null,{"$f":"IF(INDEX(INDIRECT(\"'\"&SUBSTITUTE($M$2,RIGHT($M$2,1),\"\")&\"Data\"&\"'!2:100\"),H6,MATCH($M$2,INDIRECT(\"'\"&SUBSTITUTE($M$2,RIGHT($M$2,1),\"\")&\"Data\"&\"'!2:2\"),FALSE)-1)=0,\"\",INDEX(INDIRECT(\"'\"&SUBSTITUTE($M$2,RIGHT($M$2,1),\"\")&\"Data\"&\"'!2:100\"),H6,MATCH($M$2,INDIRECT(\"'\"&SUBSTITUTE($M$2,RIGHT($M$2,1),\"\")&\"Data\"&\"'!2:2\"),FALSE)-1))","v":""},{"$f":"IF(INDEX(INDIRECT(\"'\"&SUBSTITUTE($M$2,RIGHT($M$2,1),\"\")&\"Data\"&\"'!2:100\"),H6,MATCH($M$2,INDIRECT(\"'\"&SUBSTITUTE($M$2,RIGHT($M$2,1),\"\")&\"Data\"&\"'!2:2\"),FALSE))=0,\"\",INDEX(INDIRECT(\"'\"&SUBSTITUTE($M$2,RIGHT($M$2,1),\"\")&\"Data\"&\"'!2:100\"),H6,MATCH($M$2,INDIRECT(\"'\"&SUBSTITUTE($M$2,RIGHT($M$2,1),\"\")&\"Data\"&\"'!2:2\"),FALSE)))","v":""},{"$f":"IF(N6=\"\",\"\",(N6/(INDEX(INDIRECT(\"'\"&LEFT($M$2,5)&\" Data'!F:F\"),MATCH(\"EGDE\",INDIRECT(\"'\"&LEFT($M$2,5)&\" Data\"&\"'!G:G\"),FALSE))))*(INDEX('CSV Prep'!E:E,MATCH(\"EGDE \"&LEFT($M$2,5),'CSV Prep'!B:B,FALSE))/(INDEX(RRFs!E:E,MATCH(\"Triglyme\",RRFs!B:B,FALSE)))))","v":""},null,null,null,"After MeP",{"$f":"IF(Q6=\"\",\"\",IF(OR(S6=\"Solvent\",S6=\"After MeP\"),0,IF(S6=\"\",INDEX(RRFs!E:E,MATCH(\"Triglyme\",RRFs!B:B,FALSE)),INDEX(RRFs!E:E,MATCH(S6,RRFs!B:B,FALSE)))))","v":""},"",{"$f":"IF(Q6=\"\",\"\",IF(OR(S6=\"Heptane\",S6=\"IPA\",S6=\"Triglyme\",S6=\"DIIBA\",S6=\"EGDE\"),\"\",U6*($D$26/(LARGE($F$16:$F$21,1)*($E$32-$E$31)))*$D$4))","v":""},{"$f":"IF(V6=\"\",\"\",IF(AND(V6>1,S6=\"\"),\"Yes\",\"\"))","v":""},null,null,null,null,"After MeP",{"$f":"IF(Z6=\"\",\"\",IF(OR(AB6=\"Solvent\",AB6=\"After MeP\"),0,IF(AB6=\"\",INDEX(RRFs!E:E,MATCH(\"Triglyme\",RRFs!B:B,FALSE)),INDEX(RRFs!E:E,MATCH(AB6,RRFs!B:B,FALSE)))))","v":""},{"$f":"IF(Z6=\"\",\"\",IF(AC6=0,0,IF(AB6=\"EGDE\",AA6/AC6,AA6/INDEX(AA:AA,MATCH(\"EGDE\",AB:AB,FALSE)) *INDEX($F$29:$F$38,MATCH(\"EGDE\",$C$29:$C$38,FALSE))/AC6)))","v":""},{"$f":"IF(Z6=\"\",\"\",IF(OR(AB6=\"Heptane\",AB6=\"IPA\",AB6=\"Triglyme\",AB6=\"DIIBA\",AB6=\"EGDE\"),\"\",AD6*($D$26/((LARGE($F$16:$F$21,1)*($E$32-$E$31)))*$D$4)))","v":""},{"$f":"IF(AE6=\"\",\"\",IF(AND(AE6>1,AB6=\"\"),\"Yes\",\"\"))","v":""}]
[null,null,"Wt % pCBTF",null,null,null,null,{"$f":"H6+1","v":7},null,null,{"$f":"IF(J7=\"\",\"\",(J7/LARGE($J$5:$J$100,2)*(5/(INDEX(RRFs!E:E,MATCH(\"Triglyme\",RRFs!B:B,FALSE))))))","v":""},null,"","",{"$f":"IF(N7=\"\",\"\",(N7/(INDEX(INDIRECT(\"'\"&LEFT($M$2,5)&\" Data'!F:F\"),MATCH(\"EGDE\",INDIRECT(\"'\"&LEFT($M$2,5)&\" Data\"&\"'!G:G\"),FALSE))))*(INDEX('CSV Prep'!E:E,MATCH(\"EGDE \"&LEFT($M$2,5),'CSV Prep'!B:B,FALSE))/(INDEX(RRFs!E:E,MATCH(\"Triglyme\",RRFs!B:B,FALSE)))))","v":""},null,null,null,"After MeP",{"$f":"IF(Q7=\"\",\"\",IF(OR(S7=\"Solvent\",S7=\"After MeP\"),0,IF(S7=\"\",INDEX(RRFs!E:E,MATCH(\"Triglyme\",RRFs!B:B,FALSE)),INDEX(RRFs!E:E,MATCH(S7,RRFs!B:B,FALSE)))))","v":""},"","","",null,null,null,null,"After MeP",{"$f":"IF(Z7=\"\",\"\",IF(OR(AB7=\"Solvent\",AB7=\"After MeP\"),0,IF(AB7=\"\",INDEX(RRFs!E:E,MATCH(\"Triglyme\",RRFs!B:B,FALSE)),INDEX(RRFs!E:E,MATCH(AB7,RRFs!B:B,FALSE)))))","v":""},"","",""]
[null,null,"Wt % D4",null,null,null,null,8,null,null,{"$f":"IF(J8=\"\",\"\",(J8/LARGE($J$5:$J$100,2)*(5/(INDEX(RRFs!E:E,MATCH(\"Triglyme\",RRFs!B:B,FALSE))))))","v":""},null,"","",{"$f":"IF(N8=\"\",\"\",(N8/(INDEX(INDIRECT(\"'\"&LEFT($M$2,5)&\" Data'!F:F\"),MATCH(\"EGDE\",INDIRECT(\"'\"&LEFT($M$2,5)&\" Data\"&\"'!G:G\"),FALSE))))*(INDEX('CSV Prep'!E:E,MATCH(\"EGDE \"&LEFT($M$2,5),'CSV Prep'!B:B,FALSE))/(INDEX(RRFs!E:E,MATCH(\"Triglyme\",RRFs!B:B,FALSE)))))","v":""},null,null,null,"After MeP",{"$f":"IF(Q8=\"\",\"\",IF(OR(S8=\"Solvent\",S8=\"After MeP\"),0,IF(S8=\"\",INDEX(RRFs!E:E,MATCH(\"Triglyme\",RRFs!B:B,FALSE)),INDEX(RRFs!E:E,MATCH(S8,RRFs!B:B,FALSE)))))","v":""},"","","",null,null,null,null,"After MeP",{"$f":"IF(Z8=\"\",\"\",IF(OR(AB8=\"Solvent\",AB8=\"After MeP\"),0,IF(AB8=\"\",INDEX(RRFs!E:E,MATCH(\"Triglyme\",RRFs!B:B,FALSE)),INDEX(RRFs!E:E,MATCH(AB8,RRFs!B:B,FALSE)))))","v":""},"","",""]
[null,null,"Wt % D5",null,null,null,null,9,null,null,{"$f":"IF(J9=\"\",\"\",(J9/LARGE($J$5:$J$100,2)*(5/(INDEX(RRFs!E:E,MATCH(\"Triglyme\",RRFs!B:B,FALSE))))))","v":""},null,"","",{"$f":"IF(N9=\"\",\"\",(N9/(INDEX(INDIRECT(\"'\"&LEFT($M$2,5)&\" Data'!F:F\"),MATCH(\"EGDE\",INDIRECT(\"'\"&LEFT($M$2,5)&\" Data\"&\"'!G:G\"),FALSE))))*(INDEX('CSV Prep'!E:E,MATCH(\"EGDE \"&LEFT($M$2,5),'CSV Prep'!B:B,FALSE))/(INDEX(RRFs!E:E,MATCH(\"Triglyme\",RRFs!B:B,FALSE)))))","v":""},null,null,null,"After MeP",{"$f":"IF(Q9=\"\",\"\",IF(OR(S9=\"Solvent\",S9=\"After MeP\"),0,IF(S9=\"\",INDEX(RRFs!E:E,MATCH(\"Triglyme\",RRFs!B:B,FALSE)),INDEX(RRFs!E:E,MATCH(S9,RRFs!B:B,FALSE)))))","v":""},"","","",null,null,null,null,"After MeP",{"$f":"IF(Z9=\"\",\"\",IF(OR(AB9=\"Solvent\",AB9=\"After MeP\"),0,IF(AB9=\"\",INDEX(RRFs!E:E,MATCH(\"Triglyme\",RRFs!B:B,FALSE)),INDEX(RRFs!E:E,MATCH(AB9,RRFs!B:B,FALSE)))))","v":""},"","",""]
[null,null,null,null,null,null,null,10,null,null,{"$f":"IF(J10=\"\",\"\",(J10/LARGE($J$5:$J$100,2)*(5/(INDEX(RRFs!E:E,MATCH(\"Triglyme\",RRFs!B:B,FALSE))))))","v":""},null,"","",{"$f":"IF(N10=\"\",\"\",(N10/(INDEX(INDIRECT(\"'\"&LEFT($M$2,5)&\" Data'!F:F\"),MATCH(\"EGDE\",INDIRECT(\"'\"&LEFT($M$2,5)&\" Data\"&\"'!G:G\"),FALSE))))*(INDEX('CSV Prep'!E:E,MATCH(\"EGDE \"&LEFT($M$2,5),'CSV Prep'!B:B,FALSE))/(INDEX(RRFs!E:E,MATCH(\"Triglyme\",RRFs!B:B,FALSE)))))","v":""},null,null,null,"After MeP",{"$f":"IF(Q10=\"\",\"\",IF(OR(S10=\"Solvent\",S10=\"After MeP\"),0,IF(S10=\"\",INDEX(RRFs!E:E,MATCH(\"Triglyme\",RRFs!B:B,FALSE)),INDEX(RRFs!E:E,MATCH(S10,RRFs!B:B,FALSE)))))","v":""},"","","",null,null,null,null,"After MeP",{"$f":"IF(Z10=\"\",\"\",IF(OR(AB10=\"Solvent\",AB10=\"After MeP\"),0,IF(AB10=\"\",INDEX(RRFs!E:E,MATCH(\"Triglyme\",RRFs!B:B,FALSE)),INDEX(RRFs!E:E,MATCH(AB10,RRFs!B:B,FALSE)))))","v":""},"","",""]
[null,"Sample Spiking",null,null,null,null,null,11,null,null,{"$f":"IF(J11=\"\",\"\",(J11/LARGE($J$5:$J$100,2)*(5/(INDEX(RRFs!E:E,MATCH(\"Triglyme\",RRFs!B:B,FALSE))))))","v":""},null,"","",{"$f":"IF(N11=\"\",\"\",(N11/(INDEX(INDIRECT(\"'\"&LEFT($M$2,5)&\" Data'!F:F\"),MATCH(\"EGDE\",INDIRECT(\"'\"&LEFT($M$2,5)&\" Data\"&\"'!G:G\"),FALSE))))*(INDEX('CSV Prep'!E:E,MATCH(\"EGDE \"&LEFT($M$2,5),'CSV Prep'!B:B,FALSE))/(INDEX(RRFs!E:E,MATCH(\"Triglyme\",RRFs!B:B,FALSE)))))","v":""},null,null,null,"After MeP",{"$f":"IF(Q11=\"\",\"\",IF(OR(S11=\"Solvent\",S11=\"After MeP\"),0,IF(S11=\"\",INDEX(RRFs!E:E,MATCH(\"Triglyme\",RRFs!B:B,FALSE)),INDEX(RRFs!E:E,MATCH(S11,RRFs!B:B,FALSE)))))","v":""},"","","",null,null,null,null,"After MeP",{"$f":"IF(Z11=\"\",\"\",IF(OR(AB11=\"Solvent\",AB11=\"After MeP\"),0,IF(AB11=\"\",INDEX(RRFs!E:E,MATCH(\"Triglyme\",RRFs!B:B,FALSE)),INDEX(RRFs!E:E,MATCH(AB11,RRFs!B:B,FALSE)))))","v":""},"","",""]
[null,null,null,null,null,null,null,12,null,null,{"$f":"IF(J12=\"\",\"\",(J12/LARGE($J$5:$J$100,2)*(5/(INDEX(RRFs!E:E,MATCH(\"Triglyme\",RRFs!B:B,FALSE))))))","v":""},null,"","",{"$f":"IF(N12=\"\",\"\",(N12/(INDEX(INDIRECT(\"'\"&LEFT($M$2,5)&\" Data'!F:F\"),MATCH(\"EGDE\",INDIRECT(\"'\"&LEFT($M$2,5)&\" Data\"&\"'!G:G\"),FALSE))))*(INDEX('CSV Prep'!E:E,MATCH(\"EGDE \"&LEFT($M$2,5),'CSV Prep'!B:B,FALSE))/(INDEX(RRFs!E:E,MATCH(\"Triglyme\",RRFs!B:B,FALSE)))))","v":""},null,null,null,"After MeP",{"$f":"IF(Q12=\"\",\"\",IF(OR(S12=\"Solvent\",S12=\"After MeP\"),0,IF(S12=\"\",INDEX(RRFs!E:E,MATCH(\"Triglyme\",RRFs!B:B,FALSE)),INDEX(RRFs!E:E,MATCH(S12,RRFs!B:B,FALSE)))))","v":""},"","","",null,null,null,null,"After MeP",{"$f":"IF(Z12=\"\",\"\",IF(OR(AB12=\"Solvent\",AB12=\"After MeP\"),0,IF(AB12=\"\",INDEX(RRFs!E:E,MATCH(\"Triglyme\",RRFs!B:B,FALSE)),INDEX(RRFs!E:E,MATCH(AB12,RRFs!B:B,FALSE)))))","v":""},"","",""]
[null,null,"Target Mass (g)",30,null,null,null,13,null,null,{"$f":"IF(J13=\"\",\"\",(J13/LARGE($J$5:$J$100,2)*(5/(INDEX(RRFs!E:E,MATCH(\"Triglyme\",RRFs!B:B,FALSE))))))","v":""},null,"","",{"$f":"IF(N13=\"\",\"\",(N13/(INDEX(INDIRECT(\"'\"&LEFT($M$2,5)&\" Data'!F:F\"),MATCH(\"EGDE\",INDIRECT(\"'\"&LEFT($M$2,5)&\" Data\"&\"'!G:G\"),FALSE))))*(INDEX('CSV Prep'!E:E,MATCH(\"EGDE \"&LEFT($M$2,5),'CSV Prep'!B:B,FALSE))/(INDEX(RRFs!E:E,MATCH(\"Triglyme\",RRFs!B:B,FALSE)))))","v":""},null,null,null,"After MeP",{"$f":"IF(Q13=\"\",\"\",IF(OR(S13=\"Solvent\",S13=\"After MeP\"),0,IF(S13=\"\",INDEX(RRFs!E:E,MATCH(\"Triglyme\",RRFs!B:B,FALSE)),INDEX(RRFs!E:E,MATCH(S13,RRFs!B:B,FALSE)))))","v":""},"","","",null,null,null,null,"After MeP",{"$f":"IF(Z13=\"\",\"\",IF(OR(AB13=\"Solvent\",AB13=\"After MeP\"),0,IF(AB13=\"\",INDEX(RRFs!E:E,MATCH(\"Triglyme\",RRFs!B:B,FALSE)),INDEX(RRFs!E:E,MATCH(AB13,RRFs!B:B,FALSE)))))","v":""},"","",""]
[null,null,null,null,null,null,null,14,null,null,{"$f":"IF(J14=\"\",\"\",(J14/LARGE($J$5:$J$100,2)*(5/(INDEX(RRFs!E:E,MATCH(\"Triglyme\",RRFs!B:B,FALSE))))))","v":""},null,"","",{"$f":"IF(N14=\"\",\"\",(N14/(INDEX(INDIRECT(\"'\"&LEFT($M$2,5)&\" Data'!F:F\"),MATCH(\"EGDE\",INDIRECT(\"'\"&LEFT($M$2,5)&\" Data\"&\"'!G:G\"),FALSE))))*(INDEX('CSV Prep'!E:E,MATCH(\"EGDE \"&LEFT($M$2,5),'CSV Prep'!B:B,FALSE))/(INDEX(RRFs!E:E,MATCH(\"Triglyme\",RRFs!B:B,FALSE)))))","v":""},null,null,null,"After MeP",{"$f":"IF(Q14=\"\",\"\",IF(OR(S14=\"Solvent\",S14=\"After MeP\"),0,IF(S14=\"\",INDEX(RRFs!E:E,MATCH(\"Triglyme\",RRFs!B:B,FALSE)),INDEX(RRFs!E:E,MATCH(S14,RRFs!B:B,FALSE)))))","v":""},"","","",null,null,null,null,"After MeP",{"$f":"IF(Z14=\"\",\"\",IF(OR(AB14=\"Solvent\",AB14=\"After MeP\"),0,IF(AB14=\"\",INDEX(RRFs!E:E,MATCH(\"Triglyme\",RRFs!B:B,FALSE)),INDEX(RRFs!E:E,MATCH(AB14,RRFs!B:B,FALSE)))))","v":""},"","",""]
[null,null,null,"To Add","Mass","Wt fx",null,15,null,null,{"$f":"IF(J15=\"\",\"\",(J15/LARGE($J$5:$J$100,2)*(5/(INDEX(RRFs!E:E,MATCH(\"Triglyme\",RRFs!B:B,FALSE))))))","v":""},null,"","",{"$f":"IF(N15=\"\",\"\",(N15/(INDEX(INDIRECT(\"'\"&LEFT($M$2,5)&\" Data'!F:F\"),MATCH(\"EGDE\",INDIRECT(\"'\"&LEFT($M$2,5)&\" Data\"&\"'!G:G\"),FALSE))))*(INDEX('CSV Prep'!E:E,MATCH(\"EGDE \"&LEFT($M$2,5),'CSV Prep'!B:B,FALSE))/(INDEX(RRFs!E:E,MATCH(\"Triglyme\",RRFs!B:B,FALSE)))))","v":""},null,null,null,"After MeP",{"$f":"IF(Q15=\"\",\"\",IF(OR(S15=\"Solvent\",S15=\"After MeP\"),0,IF(S15=\"\",INDEX(RRFs!E:E,MATCH(\"Triglyme\",RRFs!B:B,FALSE)),INDEX(RRFs!E:E,MATCH(S15,RRFs!B:B,FALSE)))))","v":""},"","","",null,null,null,null,"After MeP",{"$f":"IF(Z15=\"\",\"\",IF(OR(AB15=\"Solvent\",AB15=\"After MeP\"),0,IF(AB15=\"\",INDEX(RRFs!E:E,MATCH(\"Triglyme\",RRFs!B:B,FALSE)),INDEX(RRFs!E:E,MATCH(AB15,RRFs!B:B,FALSE)))))","v":""},"","",""]
[null,null,"Vial",{"$f":"\"-\"","v":"-"},null,{"$f":"\"-\"","v":"-"},null,16,null,null,{"$f":"IF(J16=\"\",\"\",(J16/LARGE($J$5:$J$100,2)*(5/(INDEX(RRFs!E:E,MATCH(\"Triglyme\",RRFs!B:B,FALSE))))))","v":""},null,"","",{"$f":"IF(N16=\"\",\"\",(N16/(INDEX(INDIRECT(\"'\"&LEFT($M$2,5)&\" Data'!F:F\"),MATCH(\"EGDE\",INDIRECT(\"'\"&LEFT($M$2,5)&\" Data\"&\"'!G:G\"),FALSE))))*(INDEX('CSV Prep'!E:E,MATCH(\"EGDE \"&LEFT($M$2,5),'CSV Prep'!B:B,FALSE))/(INDEX(RRFs!E:E,MATCH(\"Triglyme\",RRFs!B:B,FALSE)))))","v":""},null,null,null,"After MeP",{"$f":"IF(Q16=\"\",\"\",IF(OR(S16=\"Solvent\",S16=\"After MeP\"),0,IF(S16=\"\",INDEX(RRFs!E:E,MATCH(\"Triglyme\",RRFs!B:B,FALSE)),INDEX(RRFs!E:E,MATCH(S16,RRFs!B:B,FALSE)))))","v":""},"","","",null,null,null,null,"After MeP",{"$f":"IF(Z16=\"\",\"\",IF(OR(AB16=\"Solvent\",AB16=\"After MeP\"),0,IF(AB16=\"\",INDEX(RRFs!E:E,MATCH(\"Triglyme\",RRFs!B:B,FALSE)),INDEX(RRFs!E:E,MATCH(AB16,RRFs!B:B,FALSE)))))","v":""},"","",""]
[null,null,"Sample #1",{"$f":"D13&\" g\"","v":"30 g"},null,{"$f":"(E17-MAX($E$16:E16))*100/(MAX($E$16:$E$21)-MIN($E$16:$E$21))/100","v":{"$error":"#DIV/0!"}},null,17,null,null,{"$f":"IF(J17=\"\",\"\",(J17/LARGE($J$5:$J$100,2)*(5/(INDEX(RRFs!E:E,MATCH(\"Triglyme\",RRFs!B:B,FALSE))))))","v":""},null,"","",{"$f":"IF(N17=\"\",\"\",(N17/(INDEX(INDIRECT(\"'\"&LEFT($M$2,5)&\" Data'!F:F\"),MATCH(\"EGDE\",INDIRECT(\"'\"&LEFT($M$2,5)&\" Data\"&\"'!G:G\"),FALSE))))*(INDEX('CSV Prep'!E:E,MATCH(\"EGDE \"&LEFT($M$2,5),'CSV Prep'!B:B,FALSE))/(INDEX(RRFs!E:E,MATCH(\"Triglyme\",RRFs!B:B,FALSE)))))","v":""},null,null,null,"After MeP",{"$f":"IF(Q17=\"\",\"\",IF(OR(S17=\"Solvent\",S17=\"After MeP\"),0,IF(S17=\"\",INDEX(RRFs!E:E,MATCH(\"Triglyme\",RRFs!B:B,FALSE)),INDEX(RRFs!E:E,MATCH(S17,RRFs!B:B,FALSE)))))","v":""},"","","",null,null,null,null,"After MeP",{"$f":"IF(Z17=\"\",\"\",IF(OR(AB17=\"Solvent\",AB17=\"After MeP\"),0,IF(AB17=\"\",INDEX(RRFs!E:E,MATCH(\"Triglyme\",RRFs!B:B,FALSE)),INDEX(RRFs!E:E,MATCH(AB17,RRFs!B:B,FALSE)))))","v":""},"","",""]
[null,null,"Triglyme",{"$f":"250/30*$D$13&\" uL\"","v":"250 uL"},null,{"$f":"(E18-MAX($E$16:E17))*100*INDEX(Compounds!G:G,MATCH('Sample #1'!C18,Compounds!A:A,FALSE))/(MAX($E$16:$E$21)-MIN($E$16:$E$21))/100","v":{"$error":"#DIV/0!"}},null,18,null,null,{"$f":"IF(J18=\"\",\"\",(J18/LARGE($J$5:$J$100,2)*(5/(INDEX(RRFs!E:E,MATCH(\"Triglyme\",RRFs!B:B,FALSE))))))","v":""},null,"","",{"$f":"IF(N18=\"\",\"\",(N18/(INDEX(INDIRECT(\"'\"&LEFT($M$2,5)&\" Data'!F:F\"),MATCH(\"EGDE\",INDIRECT(\"'\"&LEFT($M$2,5)&\" Data\"&\"'!G:G\"),FALSE))))*(INDEX('CSV Prep'!E:E,MATCH(\"EGDE \"&LEFT($M$2,5),'CSV Prep'!B:B,FALSE))/(INDEX(RRFs!E:E,MATCH(\"Triglyme\",RRFs!B:B,FALSE)))))","v":""},null,null,null,"After MeP",{"$f":"IF(Q18=\"\",\"\",IF(OR(S18=\"Solvent\",S18=\"After MeP\"),0,IF(S18=\"\",INDEX(RRFs!E:E,MATCH(\"Triglyme\",RRFs!B:B,FALSE)),INDEX(RRFs!E:E,MATCH(S18,RRFs!B:B,FALSE)))))","v":""},"","","",null,null,null,null,"After MeP",{"$f":"IF(Z18=\"\",\"\",IF(OR(AB18=\"Solvent\",AB18=\"After MeP\"),0,IF(AB18=\"\",INDEX(RRFs!E:E,MATCH(\"Triglyme\",RRFs!B:B,FALSE)),INDEX(RRFs!E:E,MATCH(AB18,RRFs!B:B,FALSE)))))","v":""},"","",""]
[null,null,"IPA",{"$f":"310/30*$D$13&\" uL\"","v":"310 uL"},null,{"$f":"(E19-MAX($E$16:E18))*100*INDEX(Compounds!G:G,MATCH('Sample #1'!C19,Compounds!A:A,FALSE))/(MAX($E$16:$E$21)-MIN($E$16:$E$21))/100","v":{"$error":"#DIV/0!"}},null,19,null,null,{"$f":"IF(J19=\"\",\"\",(J19/LARGE($J$5:$J$100,2)*(5/(INDEX(RRFs!E:E,MATCH(\"Triglyme\",RRFs!B:B,FALSE))))))","v":""},null,"","",{"$f":"IF(N19=\"\",\"\",(N19/(INDEX(INDIRECT(\"'\"&LEFT($M$2,5)&\" Data'!F:F\"),MATCH(\"EGDE\",INDIRECT(\"'\"&LEFT($M$2,5)&\" Data\"&\"'!G:G\"),FALSE))))*(INDEX('CSV Prep'!E:E,MATCH(\"EGDE \"&LEFT($M$2,5),'CSV Prep'!B:B,FALSE))/(INDEX(RRFs!E:E,MATCH(\"Triglyme\",RRFs!B:B,FALSE)))))","v":""},null,null,null,"After MeP",{"$f":"IF(Q19=\"\",\"\",IF(OR(S19=\"Solvent\",S19=\"After MeP\"),0,IF(S19=\"\",INDEX(RRFs!E:E,MATCH(\"Triglyme\",RRFs!B:B,FALSE)),INDEX(RRFs!E:E,MATCH(S19,RRFs!B:B,FALSE)))))","v":""},"","","",null,null,null,null,"After MeP",{"$f":"IF(Z19=\"\",\"\",IF(OR(AB19=\"Solvent\",AB19=\"After MeP\"),0,IF(AB19=\"\",INDEX(RRFs!E:E,MATCH(\"Triglyme\",RRFs!B:B,FALSE)),INDEX(RRFs!E:E,MATCH(AB19,RRFs!B:B,FALSE)))))","v":""},"","",""]
[null,null,"DIIBA",{"$f":"250/30*$D$13&\" uL\"","v":"250 uL"},null,{"$f":"(E20-MAX($E$16:E19))*100*INDEX(Compounds!G:G,MATCH('Sample #1'!C20,Compounds!A:A,FALSE))/(MAX($E$16:$E$21)-MIN($E$16:$E$21))/100","v":{"$error":"#DIV/0!"}},null,20,null,null,{"$f":"IF(J20=\"\",\"\",(J20/LARGE($J$5:$J$100,2)*(5/(INDEX(RRFs!E:E,MATCH(\"Triglyme\",RRFs!B:B,FALSE))))))","v":""},null,"","",{"$f":"IF(N20=\"\",\"\",(N20/(INDEX(INDIRECT(\"'\"&LEFT($M$2,5)&\" Data'!F:F\"),MATCH(\"EGDE\",INDIRECT(\"'\"&LEFT($M$2,5)&\" Data\"&\"'!G:G\"),FALSE))))*(INDEX('CSV Prep'!E:E,MATCH(\"EGDE \"&LEFT($M$2,5),'CSV Prep'!B:B,FALSE))/(INDEX(RRFs!E:E,MATCH(\"Triglyme\",RRFs!B:B,FALSE)))))","v":""},null,null,null,"After MeP",{"$f":"IF(Q20=\"\",\"\",IF(OR(S20=\"Solvent\",S20=\"After MeP\"),0,IF(S20=\"\",INDEX(RRFs!E:E,MATCH(\"Triglyme\",RRFs!B:B,FALSE)),INDEX(RRFs!E:E,MATCH(S20,RRFs!B:B,FALSE)))))","v":""},"","","",null,null,null,null,"After MeP",{"$f":"IF(Z20=\"\",\"\",IF(OR(AB20=\"Solvent\",AB20=\"After MeP\"),0,IF(AB20=\"\",INDEX(RRFs!E:E,MATCH(\"Triglyme\",RRFs!B:B,FALSE)),INDEX(RRFs!E:E,MATCH(AB20,RRFs!B:B,FALSE)))))","v":""},"","",""]
[null,null,"Heptane",{"$f":"350/30*$D$13&\" uL\"","v":"350 uL"},null,{"$f":"(E21-MAX($E$16:E20))*100*INDEX(Compounds!G:G,MATCH('Sample #1'!C21,Compounds!A:A,FALSE))/(MAX($E$16:$E$21)-MIN($E$16:$E$21))/100","v":{"$error":"#DIV/0!"}},null,21,null,null,{"$f":"IF(J21=\"\",\"\",(J21/LARGE($J$5:$J$100,2)*(5/(INDEX(RRFs!E:E,MATCH(\"Triglyme\",RRFs!B:B,FALSE))))))","v":""},null,"","",{"$f":"IF(N21=\"\",\"\",(N21/(INDEX(INDIRECT(\"'\"&LEFT($M$2,5)&\" Data'!F:F\"),MATCH(\"EGDE\",INDIRECT(\"'\"&LEFT($M$2,5)&\" Data\"&\"'!G:G\"),FALSE))))*(INDEX('CSV Prep'!E:E,MATCH(\"EGDE \"&LEFT($M$2,5),'CSV Prep'!B:B,FALSE))/(INDEX(RRFs!E:E,MATCH(\"Triglyme\",RRFs!B:B,FALSE)))))","v":""},null,null,null,"After MeP",{"$f":"IF(Q21=\"\",\"\",IF(OR(S21=\"Solvent\",S21=\"After MeP\"),0,IF(S21=\"\",INDEX(RRFs!E:E,MATCH(\"Triglyme\",RRFs!B:B,FALSE)),INDEX(RRFs!E:E,MATCH(S21,RRFs!B:B,FALSE)))))","v":""},"","","",null,null,null,null,"After MeP",{"$f":"IF(Z21=\"\",\"\",IF(OR(AB21=\"Solvent\",AB21=\"After MeP\"),0,IF(AB21=\"\",INDEX(RRFs!E:E,MATCH(\"Triglyme\",RRFs!B:B,FALSE)),INDEX(RRFs!E:E,MATCH(AB21,RRFs!B:B,FALSE)))))","v":""},"","",""]
[null,null,null,null,null,null,null,22,null,null,{"$f":"IF(J22=\"\",\"\",(J22/LARGE($J$5:$J$100,2)*(5/(INDEX(RRFs!E:E,MATCH(\"Triglyme\",RRFs!B:B,FALSE))))))","v":""},null,"","",{"$f":"IF(N22=\"\",\"\",(N22/(INDEX(INDIRECT(\"'\"&LEFT($M$2,5)&\" Data'!F:F\"),MATCH(\"EGDE\",INDIRECT(\"'\"&LEFT($M$2,5)&\" Data\"&\"'!G:G\"),FALSE))))*(INDEX('CSV Prep'!E:E,MATCH(\"EGDE \"&LEFT($M$2,5),'CSV Prep'!B:B,FALSE))/(INDEX(RRFs!E:E,MATCH(\"Triglyme\",RRFs!B:B,FALSE)))))","v":""},null,null,null,"After MeP",{"$f":"IF(Q22=\"\",\"\",IF(OR(S22=\"Solvent\",S22=\"After MeP\"),0,IF(S22=\"\",INDEX(RRFs!E:E,MATCH(\"Triglyme\",RRFs!B:B,FALSE)),INDEX(RRFs!E:E,MATCH(S22,RRFs!B:B,FALSE)))))","v":""},"","","",null,null,null,null,"After MeP",{"$f":"IF(Z22=\"\",\"\",IF(OR(AB22=\"Solvent\",AB22=\"After MeP\"),0,IF(AB22=\"\",INDEX(RRFs!E:E,MATCH(\"Triglyme\",RRFs!B:B,FALSE)),INDEX(RRFs!E:E,MATCH(AB22,RRFs!B:B,FALSE)))))","v":""},"","",""]
[null,null,null,null,null,null,null,23,null,null,{"$f":"IF(J23=\"\",\"\",(J23/LARGE($J$5:$J$100,2)*(5/(INDEX(RRFs!E:E,MATCH(\"Triglyme\",RRFs!B:B,FALSE))))))","v":""},null,"","",{"$f":"IF(N23=\"\",\"\",(N23/(INDEX(INDIRECT(\"'\"&LEFT($M$2,5)&\" Data'!F:F\"),MATCH(\"EGDE\",INDIRECT(\"'\"&LEFT($M$2,5)&\" Data\"&\"'!G:G\"),FALSE))))*(INDEX('CSV Prep'!E:E,MATCH(\"EGDE \"&LEFT($M$2,5),'CSV Prep'!B:B,FALSE))/(INDEX(RRFs!E:E,MATCH(\"Triglyme\",RRFs!B:B,FALSE)))))","v":""},null,null,null,"After MeP",{"$f":"IF(Q23=\"\",\"\",IF(OR(S23=\"Solvent\",S23=\"After MeP\"),0,IF(S23=\"\",INDEX(RRFs!E:E,MATCH(\"Triglyme\",RRFs!B:B,FALSE)),INDEX(RRFs!E:E,MATCH(S23,RRFs!B:B,FALSE)))))","v":""},"","","",null,null,null,null,"After MeP",{"$f":"IF(Z23=\"\",\"\",IF(OR(AB23=\"Solvent\",AB23=\"After MeP\"),0,IF(AB23=\"\",INDEX(RRFs!E:E,MATCH(\"Triglyme\",RRFs!B:B,FALSE)),INDEX(RRFs!E:E,MATCH(AB23,RRFs!B:B,FALSE)))))","v":""},"","",""]
[null,"Sample Dilution",null,null,null,null,null,24,null,null,{"$f":"IF(J24=\"\",\"\",(J24/LARGE($J$5:$J$100,2)*(5/(INDEX(RRFs!E:E,MATCH(\"Triglyme\",RRFs!B:B,FALSE))))))","v":""},null,"","",{"$f":"IF(N24=\"\",\"\",(N24/(INDEX(INDIRECT(\"'\"&LEFT($M$2,5)&\" Data'!F:F\"),MATCH(\"EGDE\",INDIRECT(\"'\"&LEFT($M$2,5)&\" Data\"&\"'!G:G\"),FALSE))))*(INDEX('CSV Prep'!E:E,MATCH(\"EGDE \"&LEFT($M$2,5),'CSV Prep'!B:B,FALSE))/(INDEX(RRFs!E:E,MATCH(\"Triglyme\",RRFs!B:B,FALSE)))))","v":""},null,null,null,"After MeP",{"$f":"IF(Q24=\"\",\"\",IF(OR(S24=\"Solvent\",S24=\"After MeP\"),0,IF(S24=\"\",INDEX(RRFs!E:E,MATCH(\"Triglyme\",RRFs!B:B,FALSE)),INDEX(RRFs!E:E,MATCH(S24,RRFs!B:B,FALSE)))))","v":""},"","","",null,null,null,null,"After MeP",{"$f":"IF(Z24=\"\",\"\",IF(OR(AB24=\"Solvent\",AB24=\"After MeP\"),0,IF(AB24=\"\",INDEX(RRFs!E:E,MATCH(\"Triglyme\",RRFs!B:B,FALSE)),INDEX(RRFs!E:E,MATCH(AB24,RRFs!B:B,FALSE)))))","v":""},"","",""]
[null,null,null,null,null,null,null,25,null,null,{"$f":"IF(J25=\"\",\"\",(J25/LARGE($J$5:$J$100,2)*(5/(INDEX(RRFs!E:E,MATCH(\"Triglyme\",RRFs!B:B,FALSE))))))","v":""},null,"","",{"$f":"IF(N25=\"\",\"\",(N25/(INDEX(INDIRECT(\"'\"&LEFT($M$2,5)&\" Data'!F:F\"),MATCH(\"EGDE\",INDIRECT(\"'\"&LEFT($M$2,5)&\" Data\"&\"'!G:G\"),FALSE))))*(INDEX('CSV Prep'!E:E,MATCH(\"EGDE \"&LEFT($M$2,5),'CSV Prep'!B:B,FALSE))/(INDEX(RRFs!E:E,MATCH(\"Triglyme\",RRFs!B:B,FALSE)))))","v":""},null,null,null,"After MeP",{"$f":"IF(Q25=\"\",\"\",IF(OR(S25=\"Solvent\",S25=\"After MeP\"),0,IF(S25=\"\",INDEX(RRFs!E:E,MATCH(\"Triglyme\",RRFs!B:B,FALSE)),INDEX(RRFs!E:E,MATCH(S25,RRFs!B:B,FALSE)))))","v":""},"","","",null,null,null,null,"After MeP",{"$f":"IF(Z25=\"\",\"\",IF(OR(AB25=\"Solvent\",AB25=\"After MeP\"),0,IF(AB25=\"\",INDEX(RRFs!E:E,MATCH(\"Triglyme\",RRFs!B:B,FALSE)),INDEX(RRFs!E:E,MATCH(AB25,RRFs!B:B,FALSE)))))","v":""},"","",""]
[null,null,"Flask Volume (mL)",null,"Solvent",null,null,26,null,null,{"$f":"IF(J26=\"\",\"\",(J26/LARGE($J$5:$J$100,2)*(5/(INDEX(RRFs!E:E,MATCH(\"Triglyme\",RRFs!B:B,FALSE))))))","v":""},null,"","",{"$f":"IF(N26=\"\",\"\",(N26/(INDEX(INDIRECT(\"'\"&LEFT($M$2,5)&\" Data'!F:F\"),MATCH(\"EGDE\",INDIRECT(\"'\"&LEFT($M$2,5)&\" Data\"&\"'!G:G\"),FALSE))))*(INDEX('CSV Prep'!E:E,MATCH(\"EGDE \"&LEFT($M$2,5),'CSV Prep'!B:B,FALSE))/(INDEX(RRFs!E:E,MATCH(\"Triglyme\",RRFs!B:B,FALSE)))))","v":""},null,null,null,"After MeP",{"$f":"IF(Q26=\"\",\"\",IF(OR(S26=\"Solvent\",S26=\"After MeP\"),0,IF(S26=\"\",INDEX(RRFs!E:E,MATCH(\"Triglyme\",RRFs!B:B,FALSE)),INDEX(RRFs!E:E,MATCH(S26,RRFs!B:B,FALSE)))))","v":""},"","","",null,null,null,null,"After MeP",{"$f":"IF(Z26=\"\",\"\",IF(OR(AB26=\"Solvent\",AB26=\"After MeP\"),0,IF(AB26=\"\",INDEX(RRFs!E:E,MATCH(\"Triglyme\",RRFs!B:B,FALSE)),INDEX(RRFs!E:E,MATCH(AB26,RRFs!B:B,FALSE)))))","v":""},"","",""]
[null,null,null,null,null,null,null,27,null,null,{"$f":"IF(J27=\"\",\"\",(J27/LARGE($J$5:$J$100,2)*(5/(INDEX(RRFs!E:E,MATCH(\"Triglyme\",RRFs!B:B,FALSE))))))","v":""},null,"","",{"$f":"IF(N27=\"\",\"\",(N27/(INDEX(INDIRECT(\"'\"&LEFT($M$2,5)&\" Data'!F:F\"),MATCH(\"EGDE\",INDIRECT(\"'\"&LEFT($M$2,5)&\" Data\"&\"'!G:G\"),FALSE))))*(INDEX('CSV Prep'!E:E,MATCH(\"EGDE \"&LEFT($M$2,5),'CSV Prep'!B:B,FALSE))/(INDEX(RRFs!E:E,MATCH(\"Triglyme\",RRFs!B:B,FALSE)))))","v":""},null,null,null,"After MeP",{"$f":"IF(Q27=\"\",\"\",IF(OR(S27=\"Solvent\",S27=\"After MeP\"),0,IF(S27=\"\",INDEX(RRFs!E:E,MATCH(\"Triglyme\",RRFs!B:B,FALSE)),INDEX(RRFs!E:E,MATCH(S27,RRFs!B:B,FALSE)))))","v":""},"","","",null,null,null,null,"After MeP",{"$f":"IF(Z27=\"\",\"\",IF(OR(AB27=\"Solvent\",AB27=\"After MeP\"),0,IF(AB27=\"\",INDEX(RRFs!E:E,MATCH(\"Triglyme\",RRFs!B:B,FALSE)),INDEX(RRFs!E:E,MATCH(AB27,RRFs!B:B,FALSE)))))","v":""},"","",""]
[null,null,null,"To Add","Mass","g/L",null,28,null,null,{"$f":"IF(J28=\"\",\"\",(J28/LARGE($J$5:$J$100,2)*(5/(INDEX(RRFs!E:E,MATCH(\"Triglyme\",RRFs!B:B,FALSE))))))","v":""},null,"","",{"$f":"IF(N28=\"\",\"\",(N28/(INDEX(INDIRECT(\"'\"&LEFT($M$2,5)&\" Data'!F:F\"),MATCH(\"EGDE\",INDIRECT(\"'\"&LEFT($M$2,5)&\" Data\"&\"'!G:G\"),FALSE))))*(INDEX('CSV Prep'!E:E,MATCH(\"EGDE \"&LEFT($M$2,5),'CSV Prep'!B:B,FALSE))/(INDEX(RRFs!E:E,MATCH(\"Triglyme\",RRFs!B:B,FALSE)))))","v":""},null,null,null,"After MeP",{"$f":"IF(Q28=\"\",\"\",IF(OR(S28=\"Solvent\",S28=\"After MeP\"),0,IF(S28=\"\",INDEX(RRFs!E:E,MATCH(\"Triglyme\",RRFs!B:B,FALSE)),INDEX(RRFs!E:E,MATCH(S28,RRFs!B:B,FALSE)))))","v":""},"","","",null,null,null,null,"After MeP",{"$f":"IF(Z28=\"\",\"\",IF(OR(AB28=\"Solvent\",AB28=\"After MeP\"),0,IF(AB28=\"\",INDEX(RRFs!E:E,MATCH(\"Triglyme\",RRFs!B:B,FALSE)),INDEX(RRFs!E:E,MATCH(AB28,RRFs!B:B,FALSE)))))","v":""},"","",""]
[null,null,{"$f":"D26&\" mL Flask\"","v":" mL Flask"},{"$f":"\"-\"","v":"-"},null,{"$f":"IF(E29=\"\",\"\",\"-\")","v":""},null,29,null,null,{"$f":"IF(J29=\"\",\"\",(J29/LARGE($J$5:$J$100,2)*(5/(INDEX(RRFs!E:E,MATCH(\"Triglyme\",RRFs!B:B,FALSE))))))","v":""},null,"","",{"$f":"IF(N29=\"\",\"\",(N29/(INDEX(INDIRECT(\"'\"&LEFT($M$2,5)&\" Data'!F:F\"),MATCH(\"EGDE\",INDIRECT(\"'\"&LEFT($M$2,5)&\" Data\"&\"'!G:G\"),FALSE))))*(INDEX('CSV Prep'!E:E,MATCH(\"EGDE \"&LEFT($M$2,5),'CSV Prep'!B:B,FALSE))/(INDEX(RRFs!E:E,MATCH(\"Triglyme\",RRFs!B:B,FALSE)))))","v":""},null,null,null,"After MeP",{"$f":"IF(Q29=\"\",\"\",IF(OR(S29=\"Solvent\",S29=\"After MeP\"),0,IF(S29=\"\",INDEX(RRFs!E:E,MATCH(\"Triglyme\",RRFs!B:B,FALSE)),INDEX(RRFs!E:E,MATCH(S29,RRFs!B:B,FALSE)))))","v":""},"","","",null,null,null,null,"After MeP",{"$f":"IF(Z29=\"\",\"\",IF(OR(AB29=\"Solvent\",AB29=\"After MeP\"),0,IF(AB29=\"\",INDEX(RRFs!E:E,MATCH(\"Triglyme\",RRFs!B:B,FALSE)),INDEX(RRFs!E:E,MATCH(AB29,RRFs!B:B,FALSE)))))","v":""},"","",""]
[null,null,{"$f":"F26","v":0},{"$f":"\"~ \"&10/25*D26&\" mL\"","v":"~ 0 mL"},null,{"$f":"IF(E30=\"\",\"\",(E30-MAX($E$29:E29))*INDEX(Compounds!G:G,MATCH(C30,Compounds!A:A,FALSE))*1000/$D$26)","v":""},null,30,null,null,{"$f":"IF(J30=\"\",\"\",(J30/LARGE($J$5:$J$100,2)*(5/(INDEX(RRFs!E:E,MATCH(\"Triglyme\",RRFs!B:B,FALSE))))))","v":""},null,"","",{"$f":"IF(N30=\"\",\"\",(N30/(INDEX(INDIRECT(\"'\"&LEFT($M$2,5)&\" Data'!F:F\"),MATCH(\"EGDE\",INDIRECT(\"'\"&LEFT($M$2,5)&\" Data\"&\"'!G:G\"),FALSE))))*(INDEX('CSV Prep'!E:E,MATCH(\"EGDE \"&LEFT($M$2,5),'CSV Prep'!B:B,FALSE))/(INDEX(RRFs!E:E,MATCH(\"Triglyme\",RRFs!B:B,FALSE)))))","v":""},null,null,null,"After MeP",{"$f":"IF(Q30=\"\",\"\",IF(OR(S30=\"Solvent\",S30=\"After MeP\"),0,IF(S30=\"\",INDEX(RRFs!E:E,MATCH(\"Triglyme\",RRFs!B:B,FALSE)),INDEX(RRFs!E:E,MATCH(S30,RRFs!B:B,FALSE)))))","v":""},"","","",null,null,null,null,"After MeP",{"$f":"IF(Z30=\"\",\"\",IF(OR(AB30=\"Solvent\",AB30=\"After MeP\"),0,IF(AB30=\"\",INDEX(RRFs!E:E,MATCH(\"Triglyme\",RRFs!B:B,FALSE)),INDEX(RRFs!E:E,MATCH(AB30,RRFs!B:B,FALSE)))))","v":""},"","",""]
[null,null,"EGDE",{"$f":"150/25*D26&\" uL\"","v":"0 uL"},null,{"$f":"IF(E31=\"\",\"\",(E31-MAX($E$29:E30))*INDEX(Compounds!G:G,MATCH(C31,Compounds!A:A,FALSE))*1000/$D$26)","v":""},null,31,null,null,{"$f":"IF(J31=\"\",\"\",(J31/LARGE($J$5:$J$100,2)*(5/(INDEX(RRFs!E:E,MATCH(\"Triglyme\",RRFs!B:B,FALSE))))))","v":""},null,"","",{"$f":"IF(N31=\"\",\"\",(N31/(INDEX(INDIRECT(\"'\"&LEFT($M$2,5)&\" Data'!F:F\"),MATCH(\"EGDE\",INDIRECT(\"'\"&LEFT($M$2,5)&\" Data\"&\"'!G:G\"),FALSE))))*(INDEX('CSV Prep'!E:E,MATCH(\"EGDE \"&LEFT($M$2,5),'CSV Prep'!B:B,FALSE))/(INDEX(RRFs!E:E,MATCH(\"Triglyme\",RRFs!B:B,FALSE)))))","v":""},null,null,null,"After MeP",{"$f":"IF(Q31=\"\",\"\",IF(OR(S31=\"Solvent\",S31=\"After MeP\"),0,IF(S31=\"\",INDEX(RRFs!E:E,MATCH(\"Triglyme\",RRFs!B:B,FALSE)),INDEX(RRFs!E:E,MATCH(S31,RRFs!B:B,FALSE)))))","v":""},"","","",null,null,null,null,"After MeP",{"$f":"IF(Z31=\"\",\"\",IF(OR(AB31=\"Solvent\",AB31=\"After MeP\"),0,IF(AB31=\"\",INDEX(RRFs!E:E,MATCH(\"Triglyme\",RRFs!B:B,FALSE)),INDEX(RRFs!E:E,MATCH(AB31,RRFs!B:B,FALSE)))))","v":""},"","",""]
[null,null,"Spiked Sample #1",{"$f":"\"~ \"&2.5/25*D26&\" g\"","v":"~ 0 g"},null,{"$f":"IF(E32=\"\",\"\",(E32-MAX($E$29:E31))*INDEX($F$16:$F$21,MATCH(RIGHT(C32,9),$C$16:$C$21,FALSE))*1000/$D$26)","v":""},null,32,null,null,{"$f":"IF(J32=\"\",\"\",(J32/LARGE($J$5:$J$100,2)*(5/(INDEX(RRFs!E:E,MATCH(\"Triglyme\",RRFs!B:B,FALSE))))))","v":""},null,"","",{"$f":"IF(N32=\"\",\"\",(N32/(INDEX(INDIRECT(\"'\"&LEFT($M$2,5)&\" Data'!F:F\"),MATCH(\"EGDE\",INDIRECT(\"'\"&LEFT($M$2,5)&\" Data\"&\"'!G:G\"),FALSE))))*(INDEX('CSV Prep'!E:E,MATCH(\"EGDE \"&LEFT($M$2,5),'CSV Prep'!B:B,FALSE))/(INDEX(RRFs!E:E,MATCH(\"Triglyme\",RRFs!B:B,FALSE)))))","v":""},null,null,null,"After MeP",{"$f":"IF(Q32=\"\",\"\",IF(OR(S32=\"Solvent\",S32=\"After MeP\"),0,IF(S32=\"\",INDEX(RRFs!E:E,MATCH(\"Triglyme\",RRFs!B:B,FALSE)),INDEX(RRFs!E:E,MATCH(S32,RRFs!B:B,FALSE)))))","v":""},"","","",null,null,null,null,"After MeP",{"$f":"IF(Z32=\"\",\"\",IF(OR(AB32=\"Solvent\",AB32=\"After MeP\"),0,IF(AB32=\"\",INDEX(RRFs!E:E,MATCH(\"Triglyme\",RRFs!B:B,FALSE)),INDEX(RRFs!E:E,MATCH(AB32,RRFs!B:B,FALSE)))))","v":""},"","",""]
[null,null,{"$f":"\"QS to \"&D26&\" mL\"","v":"QS to  mL"},{"$f":"\"To \"&D26&\" mL\"","v":"To  mL"},null,{"$f":"IF(E33=\"\",\"\",\"-\")","v":""},null,33,null,null,{"$f":"IF(J33=\"\",\"\",(J33/LARGE($J$5:$J$100,2)*(5/(INDEX(RRFs!E:E,MATCH(\"Triglyme\",RRFs!B:B,FALSE))))))","v":""},null,"","",{"$f":"IF(N33=\"\",\"\",(N33/(INDEX(INDIRECT(\"'\"&LEFT($M$2,5)&\" Data'!F:F\"),MATCH(\"EGDE\",INDIRECT(\"'\"&LEFT($M$2,5)&\" Data\"&\"'!G:G\"),FALSE))))*(INDEX('CSV Prep'!E:E,MATCH(\"EGDE \"&LEFT($M$2,5),'CSV Prep'!B:B,FALSE))/(INDEX(RRFs!E:E,MATCH(\"Triglyme\",RRFs!B:B,FALSE)))))","v":""},null,null,null,"After MeP",{"$f":"IF(Q33=\"\",\"\",IF(OR(S33=\"Solvent\",S33=\"After MeP\"),0,IF(S33=\"\",INDEX(RRFs!E:E,MATCH(\"Triglyme\",RRFs!B:B,FALSE)),INDEX(RRFs!E:E,MATCH(S33,RRFs!B:B,FALSE)))))","v":""},"","","",null,null,null,null,"After MeP",{"$f":"IF(Z33=\"\",\"\",IF(OR(AB33=\"Solvent\",AB33=\"After MeP\"),0,IF(AB33=\"\",INDEX(RRFs!E:E,MATCH(\"Triglyme\",RRFs!B:B,FALSE)),INDEX(RRFs!E:E,MATCH(AB33,RRFs!B:B,FALSE)))))","v":""},"","",""]
[null,null,null,null,null,null,null,34,null,null,{"$f":"IF(J34=\"\",\"\",(J34/LARGE($J$5:$J$100,2)*(5/(INDEX(RRFs!E:E,MATCH(\"Triglyme\",RRFs!B:B,FALSE))))))","v":""},null,"","",{"$f":"IF(N34=\"\",\"\",(N34/(INDEX(INDIRECT(\"'\"&LEFT($M$2,5)&\" Data'!F:F\"),MATCH(\"EGDE\",INDIRECT(\"'\"&LEFT($M$2,5)&\" Data\"&\"'!G:G\"),FALSE))))*(INDEX('CSV Prep'!E:E,MATCH(\"EGDE \"&LEFT($M$2,5),'CSV Prep'!B:B,FALSE))/(INDEX(RRFs!E:E,MATCH(\"Triglyme\",RRFs!B:B,FALSE)))))","v":""},null,null,null,"After MeP",{"$f":"IF(Q34=\"\",\"\",IF(OR(S34=\"Solvent\",S34=\"After MeP\"),0,IF(S34=\"\",INDEX(RRFs!E:E,MATCH(\"Triglyme\",RRFs!B:B,FALSE)),INDEX(RRFs!E:E,MATCH(S34,RRFs!B:B,FALSE)))))","v":""},"","","",null,null,null,null,"After MeP",{"$f":"IF(Z34=\"\",\"\",IF(OR(AB34=\"Solvent\",AB34=\"After MeP\"),0,IF(AB34=\"\",INDEX(RRFs!E:E,MATCH(\"Triglyme\",RRFs!B:B,FALSE)),INDEX(RRFs!E:E,MATCH(AB34,RRFs!B:B,FALSE)))))","v":""},"","",""]
[null,null,"Triglyme",null,null,{"$f":"INDEX($F$16:$F$21,MATCH(C35,$C$16:$C$21,FALSE))*($E$32-$E$31)*1000/$D$26","v":{"$error":"#DIV/0!"}},null,35,null,null,{"$f":"IF(J35=\"\",\"\",(J35/LARGE($J$5:$J$100,2)*(5/(INDEX(RRFs!E:E,MATCH(\"Triglyme\",RRFs!B:B,FALSE))))))","v":""},null,"","",{"$f":"IF(N35=\"\",\"\",(N35/(INDEX(INDIRECT(\"'\"&LEFT($M$2,5)&\" Data'!F:F\"),MATCH(\"EGDE\",INDIRECT(\"'\"&LEFT($M$2,5)&\" Data\"&\"'!G:G\"),FALSE))))*(INDEX('CSV Prep'!E:E,MATCH(\"EGDE \"&LEFT($M$2,5),'CSV Prep'!B:B,FALSE))/(INDEX(RRFs!E:E,MATCH(\"Triglyme\",RRFs!B:B,FALSE)))))","v":""},null,null,null,"After MeP",{"$f":"IF(Q35=\"\",\"\",IF(OR(S35=\"Solvent\",S35=\"After MeP\"),0,IF(S35=\"\",INDEX(RRFs!E:E,MATCH(\"Triglyme\",RRFs!B:B,FALSE)),INDEX(RRFs!E:E,MATCH(S35,RRFs!B:B,FALSE)))))","v":""},"","","",null,null,null,null,"After MeP",{"$f":"IF(Z35=\"\",\"\",IF(OR(AB35=\"Solvent\",AB35=\"After MeP\"),0,IF(AB35=\"\",INDEX(RRFs!E:E,MATCH(\"Triglyme\",RRFs!B:B,FALSE)),INDEX(RRFs!E:E,MATCH(AB35,RRFs!B:B,FALSE)))))","v":""},"","",""]
[null,null,"IPA",null,null,{"$f":"INDEX($F$16:$F$21,MATCH(C36,$C$16:$C$21,FALSE))*($E$32-$E$31)*1000/$D$26","v":{"$error":"#DIV/0!"}},null,36,null,null,{"$f":"IF(J36=\"\",\"\",(J36/LARGE($J$5:$J$100,2)*(5/(INDEX(RRFs!E:E,MATCH(\"Triglyme\",RRFs!B:B,FALSE))))))","v":""},null,"","",{"$f":"IF(N36=\"\",\"\",(N36/(INDEX(INDIRECT(\"'\"&LEFT($M$2,5)&\" Data'!F:F\"),MATCH(\"EGDE\",INDIRECT(\"'\"&LEFT($M$2,5)&\" Data\"&\"'!G:G\"),FALSE))))*(INDEX('CSV Prep'!E:E,MATCH(\"EGDE \"&LEFT($M$2,5),'CSV Prep'!B:B,FALSE))/(INDEX(RRFs!E:E,MATCH(\"Triglyme\",RRFs!B:B,FALSE)))))","v":""},null,null,null,"After MeP",{"$f":"IF(Q36=\"\",\"\",IF(OR(S36=\"Solvent\",S36=\"After MeP\"),0,IF(S36=\"\",INDEX(RRFs!E:E,MATCH(\"Triglyme\",RRFs!B:B,FALSE)),INDEX(RRFs!E:E,MATCH(S36,RRFs!B:B,FALSE)))))","v":""},"","","",null,null,null,null,"After MeP",{"$f":"IF(Z36=\"\",\"\",IF(OR(AB36=\"Solvent\",AB36=\"After MeP\"),0,IF(AB36=\"\",INDEX(RRFs!E:E,MATCH(\"Triglyme\",RRFs!B:B,FALSE)),INDEX(RRFs!E:E,MATCH(AB36,RRFs!B:B,FALSE)))))","v":""},"","",""]
[null,null,"DIIBA",null,null,{"$f":"INDEX($F$16:$F$21,MATCH(C37,$C$16:$C$21,FALSE))*($E$32-$E$31)*1000/$D$26","v":{"$error":"#DIV/0!"}},null,37,null,null,{"$f":"IF(J37=\"\",\"\",(J37/LARGE($J$5:$J$100,2)*(5/(INDEX(RRFs!E:E,MATCH(\"Triglyme\",RRFs!B:B,FALSE))))))","v":""},null,"","",{"$f":"IF(N37=\"\",\"\",(N37/(INDEX(INDIRECT(\"'\"&LEFT($M$2,5)&\" Data'!F:F\"),MATCH(\"EGDE\",INDIRECT(\"'\"&LEFT($M$2,5)&\" Data\"&\"'!G:G\"),FALSE))))*(INDEX('CSV Prep'!E:E,MATCH(\"EGDE \"&LEFT($M$2,5),'CSV Prep'!B:B,FALSE))/(INDEX(RRFs!E:E,MATCH(\"Triglyme\",RRFs!B:B,FALSE)))))","v":""},null,null,null,{"$f":"IF(Q37>=$E$41,\"After MeP\",\"\")","v":"After MeP"},{"$f":"IF(Q37=\"\",\"\",IF(OR(S37=\"Solvent\",S37=\"After MeP\"),0,IF(S37=\"\",INDEX(RRFs!E:E,MATCH(\"Triglyme\",RRFs!B:B,FALSE)),INDEX(RRFs!E:E,MATCH(S37,RRFs!B:B,FALSE)))))","v":""},{"$f":"IF(Q37=\"\",\"\",IF(T37=0,0,IF(S37=\"EGDE\",R37/T37,R37/INDEX(R:R,MATCH(\"EGDE\",S:S,FALSE)) *INDEX($F$29:$F$38,MATCH(\"EGDE\",$C$29:$C$38,FALSE))/T37)))","v":""},"","",null,null,null,null,"After MeP",{"$f":"IF(Z37=\"\",\"\",IF(OR(AB37=\"Solvent\",AB37=\"After MeP\"),0,IF(AB37=\"\",INDEX(RRFs!E:E,MATCH(\"Triglyme\",RRFs!B:B,FALSE)),INDEX(RRFs!E:E,MATCH(AB37,RRFs!B:B,FALSE)))))","v":""},{"$f":"IF(Z37=\"\",\"\",IF(AC37=0,0,IF(AB37=\"EGDE\",AA37/AC37,AA37/INDEX(AA:AA,MATCH(\"EGDE\",AB:AB,FALSE)) *INDEX($F$29:$F$38,MATCH(\"EGDE\",$C$29:$C$38,FALSE))/AC37)))","v":""},"",""]
[null,null,"Heptane",null,null,{"$f":"INDEX($F$16:$F$21,MATCH(C38,$C$16:$C$21,FALSE))*($E$32-$E$31)*1000/$D$26","v":{"$error":"#DIV/0!"}},null,38,null,null,{"$f":"IF(J38=\"\",\"\",(J38/LARGE($J$5:$J$100,2)*(5/(INDEX(RRFs!E:E,MATCH(\"Triglyme\",RRFs!B:B,FALSE))))))","v":""},null,"","",{"$f":"IF(N38=\"\",\"\",(N38/(INDEX(INDIRECT(\"'\"&LEFT($M$2,5)&\" Data'!F:F\"),MATCH(\"EGDE\",INDIRECT(\"'\"&LEFT($M$2,5)&\" Data\"&\"'!G:G\"),FALSE))))*(INDEX('CSV Prep'!E:E,MATCH(\"EGDE \"&LEFT($M$2,5),'CSV Prep'!B:B,FALSE))/(INDEX(RRFs!E:E,MATCH(\"Triglyme\",RRFs!B:B,FALSE)))))","v":""},null,null,null,"After MeP",{"$f":"IF(Q38=\"\",\"\",IF(OR(S38=\"Solvent\",S38=\"After MeP\"),0,IF(S38=\"\",INDEX(RRFs!E:E,MATCH(\"Triglyme\",RRFs!B:B,FALSE)),INDEX(RRFs!E:E,MATCH(S38,RRFs!B:B,FALSE)))))","v":""},"","","",null,null,null,null,"After MeP",{"$f":"IF(Z38=\"\",\"\",IF(OR(AB38=\"Solvent\",AB38=\"After MeP\"),0,IF(AB38=\"\",INDEX(RRFs!E:E,MATCH(\"Triglyme\",RRFs!B:B,FALSE)),INDEX(RRFs!E:E,MATCH(AB38,RRFs!B:B,FALSE)))))","v":""},"","",""]
[null,null,null,null,null,null,null,39,null,null,{"$f":"IF(J39=\"\",\"\",(J39/LARGE($J$5:$J$100,2)*(5/(INDEX(RRFs!E:E,MATCH(\"Triglyme\",RRFs!B:B,FALSE))))))","v":""},null,"","",{"$f":"IF(N39=\"\",\"\",(N39/(INDEX(INDIRECT(\"'\"&LEFT($M$2,5)&\" Data'!F:F\"),MATCH(\"EGDE\",INDIRECT(\"'\"&LEFT($M$2,5)&\" Data\"&\"'!G:G\"),FALSE))))*(INDEX('CSV Prep'!E:E,MATCH(\"EGDE \"&LEFT($M$2,5),'CSV Prep'!B:B,FALSE))/(INDEX(RRFs!E:E,MATCH(\"Triglyme\",RRFs!B:B,FALSE)))))","v":""},null,null,null,"After MeP",{"$f":"IF(Q39=\"\",\"\",IF(OR(S39=\"Solvent\",S39=\"After MeP\"),0,IF(S39=\"\",INDEX(RRFs!E:E,MATCH(\"Triglyme\",RRFs!B:B,FALSE)),INDEX(RRFs!E:E,MATCH(S39,RRFs!B:B,FALSE)))))","v":""},"","","",null,null,null,null,"After MeP",{"$f":"IF(Z39=\"\",\"\",IF(OR(AB39=\"Solvent\",AB39=\"After MeP\"),0,IF(AB39=\"\",INDEX(RRFs!E:E,MATCH(\"Triglyme\",RRFs!B:B,FALSE)),INDEX(RRFs!E:E,MATCH(AB39,RRFs!B:B,FALSE)))))","v":""},"","",""]
[null,null,null,null,null,null,null,40,null,null,{"$f":"IF(J40=\"\",\"\",(J40/LARGE($J$5:$J$100,2)*(5/(INDEX(RRFs!E:E,MATCH(\"Triglyme\",RRFs!B:B,FALSE))))))","v":""},null,"","",{"$f":"IF(N40=\"\",\"\",(N40/(INDEX(INDIRECT(\"'\"&LEFT($M$2,5)&\" Data'!F:F\"),MATCH(\"EGDE\",INDIRECT(\"'\"&LEFT($M$2,5)&\" Data\"&\"'!G:G\"),FALSE))))*(INDEX('CSV Prep'!E:E,MATCH(\"EGDE \"&LEFT($M$2,5),'CSV Prep'!B:B,FALSE))/(INDEX(RRFs!E:E,MATCH(\"Triglyme\",RRFs!B:B,FALSE)))))","v":""},null,null,null,{"$f":"IF(Q40>=$E$41,\"After MeP\",\"\")","v":"After MeP"},{"$f":"IF(Q40=\"\",\"\",IF(OR(S40=\"Solvent\",S40=\"After MeP\"),0,IF(S40=\"\",INDEX(RRFs!E:E,MATCH(\"Triglyme\",RRFs!B:B,FALSE)),INDEX(RRFs!E:E,MATCH(S40,RRFs!B:B,FALSE)))))","v":""},"","","",null,null,null,null,"After MeP",{"$f":"IF(Z40=\"\",\"\",IF(OR(AB40=\"Solvent\",AB40=\"After MeP\"),0,IF(AB40=\"\",INDEX(RRFs!E:E,MATCH(\"Triglyme\",RRFs!B:B,FALSE)),INDEX(RRFs!E:E,MATCH(AB40,RRFs!B:B,FALSE)))))","v":""},"","",""]
[null,"Methyl Palmitate RT (Min)",null,null,null,null,null,41,null,null,{"$f":"IF(J41=\"\",\"\",(J41/LARGE($J$5:$J$100,2)*(5/(INDEX(RRFs!E:E,MATCH(\"Triglyme\",RRFs!B:B,FALSE))))))","v":""},null,"","",{"$f":"IF(N41=\"\",\"\",(N41/(INDEX(INDIRECT(\"'\"&LEFT($M$2,5)&\" Data'!F:F\"),MATCH(\"EGDE\",INDIRECT(\"'\"&LEFT($M$2,5)&\" Data\"&\"'!G:G\"),FALSE))))*(INDEX('CSV Prep'!E:E,MATCH(\"EGDE \"&LEFT($M$2,5),'CSV Prep'!B:B,FALSE))/(INDEX(RRFs!E:E,MATCH(\"Triglyme\",RRFs!B:B,FALSE)))))","v":""},null,null,null,"After MeP",{"$f":"IF(Q41=\"\",\"\",IF(OR(S41=\"Solvent\",S41=\"After MeP\"),0,IF(S41=\"\",INDEX(RRFs!E:E,MATCH(\"Triglyme\",RRFs!B:B,FALSE)),INDEX(RRFs!E:E,MATCH(S41,RRFs!B:B,FALSE)))))","v":""},"","","",null,null,null,null,{"$f":"IF(Z41>=$E$41,\"After MeP\",\"\")","v":"After MeP"},{"$f":"IF(Z41=\"\",\"\",IF(OR(AB41=\"Solvent\",AB41=\"After MeP\"),0,IF(AB41=\"\",INDEX(RRFs!E:E,MATCH(\"Triglyme\",RRFs!B:B,FALSE)),INDEX(RRFs!E:E,MATCH(AB41,RRFs!B:B,FALSE)))))","v":""},"","",""]
[null,null,null,null,null,null,null,42,null,null,{"$f":"IF(J42=\"\",\"\",(J42/LARGE($J$5:$J$100,2)*(5/(INDEX(RRFs!E:E,MATCH(\"Triglyme\",RRFs!B:B,FALSE))))))","v":""},null,"","",{"$f":"IF(N42=\"\",\"\",(N42/(INDEX(INDIRECT(\"'\"&LEFT($M$2,5)&\" Data'!F:F\"),MATCH(\"EGDE\",INDIRECT(\"'\"&LEFT($M$2,5)&\" Data\"&\"'!G:G\"),FALSE))))*(INDEX('CSV Prep'!E:E,MATCH(\"EGDE \"&LEFT($M$2,5),'CSV Prep'!B:B,FALSE))/(INDEX(RRFs!E:E,MATCH(\"Triglyme\",RRFs!B:B,FALSE)))))","v":""},null,null,null,{"$f":"IF(Q42>=$E$41,\"After MeP\",\"\")","v":"After MeP"},{"$f":"IF(Q42=\"\",\"\",IF(OR(S42=\"Solvent\",S42=\"After MeP\"),0,IF(S42=\"\",INDEX(RRFs!E:E,MATCH(\"Triglyme\",RRFs!B:B,FALSE)),INDEX(RRFs!E:E,MATCH(S42,RRFs!B:B,FALSE)))))","v":""},"","","",null,null,null,null,{"$f":"IF(Z42>=$E$41,\"After MeP\",\"\")","v":"After MeP"},{"$f":"IF(Z42=\"\",\"\",IF(OR(AB42=\"Solvent\",AB42=\"After MeP\"),0,IF(AB42=\"\",INDEX(RRFs!E:E,MATCH(\"Triglyme\",RRFs!B:B,FALSE)),INDEX(RRFs!E:E,MATCH(AB42,RRFs!B:B,FALSE)))))","v":""},"","",""]
[null,null,null,null,null,null,null,43,null,null,{"$f":"IF(J43=\"\",\"\",(J43/LARGE($J$5:$J$100,2)*(5/(INDEX(RRFs!E:E,MATCH(\"Triglyme\",RRFs!B:B,FALSE))))))","v":""},null,"","",{"$f":"IF(N43=\"\",\"\",(N43/(INDEX(INDIRECT(\"'\"&LEFT($M$2,5)&\" Data'!F:F\"),MATCH(\"EGDE\",INDIRECT(\"'\"&LEFT($M$2,5)&\" Data\"&\"'!G:G\"),FALSE))))*(INDEX('CSV Prep'!E:E,MATCH(\"EGDE \"&LEFT($M$2,5),'CSV Prep'!B:B,FALSE))/(INDEX(RRFs!E:E,MATCH(\"Triglyme\",RRFs!B:B,FALSE)))))","v":""},null,null,null,"After MeP",{"$f":"IF(Q43=\"\",\"\",IF(OR(S43=\"Solvent\",S43=\"After MeP\"),0,IF(S43=\"\",INDEX(RRFs!E:E,MATCH(\"Triglyme\",RRFs!B:B,FALSE)),INDEX(RRFs!E:E,MATCH(S43,RRFs!B:B,FALSE)))))","v":""},"","","",null,null,null,null,{"$f":"IF(Z43>=$E$41,\"After MeP\",\"\")","v":"After MeP"},{"$f":"IF(Z43=\"\",\"\",IF(OR(AB43=\"Solvent\",AB43=\"After MeP\"),0,IF(AB43=\"\",INDEX(RRFs!E:E,MATCH(\"Triglyme\",RRFs!B:B,FALSE)),INDEX(RRFs!E:E,MATCH(AB43,RRFs!B:B,FALSE)))))","v":""},"","",""]
[null,null,null,null,null,"*g/L as Triglyme",null,44,null,null,{"$f":"IF(J44=\"\",\"\",(J44/LARGE($J$5:$J$100,2)*(5/(INDEX(RRFs!E:E,MATCH(\"Triglyme\",RRFs!B:B,FALSE))))))","v":""},null,"","",{"$f":"IF(N44=\"\",\"\",(N44/(INDEX(INDIRECT(\"'\"&LEFT($M$2,5)&\" Data'!F:F\"),MATCH(\"EGDE\",INDIRECT(\"'\"&LEFT($M$2,5)&\" Data\"&\"'!G:G\"),FALSE))))*(INDEX('CSV Prep'!E:E,MATCH(\"EGDE \"&LEFT($M$2,5),'CSV Prep'!B:B,FALSE))/(INDEX(RRFs!E:E,MATCH(\"Triglyme\",RRFs!B:B,FALSE)))))","v":""},null,null,null,"After MeP",{"$f":"IF(Q44=\"\",\"\",IF(OR(S44=\"Solvent\",S44=\"After MeP\"),0,IF(S44=\"\",INDEX(RRFs!E:E,MATCH(\"Triglyme\",RRFs!B:B,FALSE)),INDEX(RRFs!E:E,MATCH(S44,RRFs!B:B,FALSE)))))","v":""},"","","",null,null,null,null,"After MeP",{"$f":"IF(Z44=\"\",\"\",IF(OR(AB44=\"Solvent\",AB44=\"After MeP\"),0,IF(AB44=\"\",INDEX(RRFs!E:E,MATCH(\"Triglyme\",RRFs!B:B,FALSE)),INDEX(RRFs!E:E,MATCH(AB44,RRFs!B:B,FALSE)))))","v":""},"","",""]
[null,null,null,null,null,null,null,45,null,null,{"$f":"IF(J45=\"\",\"\",(J45/LARGE($J$5:$J$100,2)*(5/(INDEX(RRFs!E:E,MATCH(\"Triglyme\",RRFs!B:B,FALSE))))))","v":""},null,"","",{"$f":"IF(N45=\"\",\"\",(N45/(INDEX(INDIRECT(\"'\"&LEFT($M$2,5)&\" Data'!F:F\"),MATCH(\"EGDE\",INDIRECT(\"'\"&LEFT($M$2,5)&\" Data\"&\"'!G:G\"),FALSE))))*(INDEX('CSV Prep'!E:E,MATCH(\"EGDE \"&LEFT($M$2,5),'CSV Prep'!B:B,FALSE))/(INDEX(RRFs!E:E,MATCH(\"Triglyme\",RRFs!B:B,FALSE)))))","v":""},null,null,null,"After MeP",{"$f":"IF(Q45=\"\",\"\",IF(OR(S45=\"Solvent\",S45=\"After MeP\"),0,IF(S45=\"\",INDEX(RRFs!E:E,MATCH(\"Triglyme\",RRFs!B:B,FALSE)),INDEX(RRFs!E:E,MATCH(S45,RRFs!B:B,FALSE)))))","v":""},"","","",null,null,null,null,"After MeP",{"$f":"IF(Z45=\"\",\"\",IF(OR(AB45=\"Solvent\",AB45=\"After MeP\"),0,IF(AB45=\"\",INDEX(RRFs!E:E,MATCH(\"Triglyme\",RRFs!B:B,FALSE)),INDEX(RRFs!E:E,MATCH(AB45,RRFs!B:B,FALSE)))))","v":""},"","",""]
[null,null,null,null,null,null,null,46,null,null,{"$f":"IF(J46=\"\",\"\",(J46/LARGE($J$5:$J$100,2)*(5/(INDEX(RRFs!E:E,MATCH(\"Triglyme\",RRFs!B:B,FALSE))))))","v":""},null,"","",{"$f":"IF(N46=\"\",\"\",(N46/(INDEX(INDIRECT(\"'\"&LEFT($M$2,5)&\" Data'!F:F\"),MATCH(\"EGDE\",INDIRECT(\"'\"&LEFT($M$2,5)&\" Data\"&\"'!G:G\"),FALSE))))*(INDEX('CSV Prep'!E:E,MATCH(\"EGDE \"&LEFT($M$2,5),'CSV Prep'!B:B,FALSE))/(INDEX(RRFs!E:E,MATCH(\"Triglyme\",RRFs!B:B,FALSE)))))","v":""},null,null,null,"After MeP",{"$f":"IF(Q46=\"\",\"\",IF(OR(S46=\"Solvent\",S46=\"After MeP\"),0,IF(S46=\"\",INDEX(RRFs!E:E,MATCH(\"Triglyme\",RRFs!B:B,FALSE)),INDEX(RRFs!E:E,MATCH(S46,RRFs!B:B,FALSE)))))","v":""},"","","",null,null,null,null,{"$f":"IF(Z46>=$E$41,\"After MeP\",\"\")","v":"After MeP"},{"$f":"IF(Z46=\"\",\"\",IF(OR(AB46=\"Solvent\",AB46=\"After MeP\"),0,IF(AB46=\"\",INDEX(RRFs!E:E,MATCH(\"Triglyme\",RRFs!B:B,FALSE)),INDEX(RRFs!E:E,MATCH(AB46,RRFs!B:B,FALSE)))))","v":""},"","",""]
[null,null,null,null,null,null,null,47,null,null,{"$f":"IF(J47=\"\",\"\",(J47/LARGE($J$5:$J$100,2)*(5/(INDEX(RRFs!E:E,MATCH(\"Triglyme\",RRFs!B:B,FALSE))))))","v":""},null,"","",{"$f":"IF(N47=\"\",\"\",(N47/(INDEX(INDIRECT(\"'\"&LEFT($M$2,5)&\" Data'!F:F\"),MATCH(\"EGDE\",INDIRECT(\"'\"&LEFT($M$2,5)&\" Data\"&\"'!G:G\"),FALSE))))*(INDEX('CSV Prep'!E:E,MATCH(\"EGDE \"&LEFT($M$2,5),'CSV Prep'!B:B,FALSE))/(INDEX(RRFs!E:E,MATCH(\"Triglyme\",RRFs!B:B,FALSE)))))","v":""},null,null,null,"After MeP",{"$f":"IF(Q47=\"\",\"\",IF(OR(S47=\"Solvent\",S47=\"After MeP\"),0,IF(S47=\"\",INDEX(RRFs!E:E,MATCH(\"Triglyme\",RRFs!B:B,FALSE)),INDEX(RRFs!E:E,MATCH(S47,RRFs!B:B,FALSE)))))","v":""},"","","",null,null,null,null,"After MeP",{"$f":"IF(Z47=\"\",\"\",IF(OR(AB47=\"Solvent\",AB47=\"After MeP\"),0,IF(AB47=\"\",INDEX(RRFs!E:E,MATCH(\"Triglyme\",RRFs!B:B,FALSE)),INDEX(RRFs!E:E,MATCH(AB47,RRFs!B:B,FALSE)))))","v":""},"","",""]
[null,null,null,null,null,null,null,48,null,null,{"$f":"IF(J48=\"\",\"\",(J48/LARGE($J$5:$J$100,2)*(5/(INDEX(RRFs!E:E,MATCH(\"Triglyme\",RRFs!B:B,FALSE))))))","v":""},null,"","",{"$f":"IF(N48=\"\",\"\",(N48/(INDEX(INDIRECT(\"'\"&LEFT($M$2,5)&\" Data'!F:F\"),MATCH(\"EGDE\",INDIRECT(\"'\"&LEFT($M$2,5)&\" Data\"&\"'!G:G\"),FALSE))))*(INDEX('CSV Prep'!E:E,MATCH(\"EGDE \"&LEFT($M$2,5),'CSV Prep'!B:B,FALSE))/(INDEX(RRFs!E:E,MATCH(\"Triglyme\",RRFs!B:B,FALSE)))))","v":""},null,null,null,"After MeP",{"$f":"IF(Q48=\"\",\"\",IF(OR(S48=\"Solvent\",S48=\"After MeP\"),0,IF(S48=\"\",INDEX(RRFs!E:E,MATCH(\"Triglyme\",RRFs!B:B,FALSE)),INDEX(RRFs!E:E,MATCH(S48,RRFs!B:B,FALSE)))))","v":""},"","","",null,null,null,null,"After MeP",{"$f":"IF(Z48=\"\",\"\",IF(OR(AB48=\"Solvent\",AB48=\"After MeP\"),0,IF(AB48=\"\",INDEX(RRFs!E:E,MATCH(\"Triglyme\",RRFs!B:B,FALSE)),INDEX(RRFs!E:E,MATCH(AB48,RRFs!B:B,FALSE)))))","v":""},"","",""]
[null,null,null,null,null,null,null,49,null,null,{"$f":"IF(J49=\"\",\"\",(J49/LARGE($J$5:$J$100,2)*(5/(INDEX(RRFs!E:E,MATCH(\"Triglyme\",RRFs!B:B,FALSE))))))","v":""},null,"","",{"$f":"IF(N49=\"\",\"\",(N49/(INDEX(INDIRECT(\"'\"&LEFT($M$2,5)&\" Data'!F:F\"),MATCH(\"EGDE\",INDIRECT(\"'\"&LEFT($M$2,5)&\" Data\"&\"'!G:G\"),FALSE))))*(INDEX('CSV Prep'!E:E,MATCH(\"EGDE \"&LEFT($M$2,5),'CSV Prep'!B:B,FALSE))/(INDEX(RRFs!E:E,MATCH(\"Triglyme\",RRFs!B:B,FALSE)))))","v":""},null,null,null,"After MeP",{"$f":"IF(Q49=\"\",\"\",IF(OR(S49=\"Solvent\",S49=\"After MeP\"),0,IF(S49=\"\",INDEX(RRFs!E:E,MATCH(\"Triglyme\",RRFs!B:B,FALSE)),INDEX(RRFs!E:E,MATCH(S49,RRFs!B:B,FALSE)))))","v":""},"","","",null,null,null,null,"After MeP",{"$f":"IF(Z49=\"\",\"\",IF(OR(AB49=\"Solvent\",AB49=\"After MeP\"),0,IF(AB49=\"\",INDEX(RRFs!E:E,MATCH(\"Triglyme\",RRFs!B:B,FALSE)),INDEX(RRFs!E:E,MATCH(AB49,RRFs!B:B,FALSE)))))","v":""},"","",""]
[null,null,null,null,null,null,null,50,null,null,{"$f":"IF(J50=\"\",\"\",(J50/LARGE($J$5:$J$100,2)*(5/(INDEX(RRFs!E:E,MATCH(\"Triglyme\",RRFs!B:B,FALSE))))))","v":""},null,"","",{"$f":"IF(N50=\"\",\"\",(N50/(INDEX(INDIRECT(\"'\"&LEFT($M$2,5)&\" Data'!F:F\"),MATCH(\"EGDE\",INDIRECT(\"'\"&LEFT($M$2,5)&\" Data\"&\"'!G:G\"),FALSE))))*(INDEX('CSV Prep'!E:E,MATCH(\"EGDE \"&LEFT($M$2,5),'CSV Prep'!B:B,FALSE))/(INDEX(RRFs!E:E,MATCH(\"Triglyme\",RRFs!B:B,FALSE)))))","v":""},null,null,null,"After MeP",{"$f":"IF(Q50=\"\",\"\",IF(OR(S50=\"Solvent\",S50=\"After MeP\"),0,IF(S50=\"\",INDEX(RRFs!E:E,MATCH(\"Triglyme\",RRFs!B:B,FALSE)),INDEX(RRFs!E:E,MATCH(S50,RRFs!B:B,FALSE)))))","v":""},"","","",null,null,null,null,"After MeP",{"$f":"IF(Z50=\"\",\"\",IF(OR(AB50=\"Solvent\",AB50=\"After MeP\"),0,IF(AB50=\"\",INDEX(RRFs!E:E,MATCH(\"Triglyme\",RRFs!B:B,FALSE)),INDEX(RRFs!E:E,MATCH(AB50,RRFs!B:B,FALSE)))))","v":""},"","",""]
[null,null,null,null,null,null,null,51,null,null,{"$f":"IF(J51=\"\",\"\",(J51/LARGE($J$5:$J$100,2)*(5/(INDEX(RRFs!E:E,MATCH(\"Triglyme\",RRFs!B:B,FALSE))))))","v":""},null,"","",{"$f":"IF(N51=\"\",\"\",(N51/(INDEX(INDIRECT(\"'\"&LEFT($M$2,5)&\" Data'!F:F\"),MATCH(\"EGDE\",INDIRECT(\"'\"&LEFT($M$2,5)&\" Data\"&\"'!G:G\"),FALSE))))*(INDEX('CSV Prep'!E:E,MATCH(\"EGDE \"&LEFT($M$2,5),'CSV Prep'!B:B,FALSE))/(INDEX(RRFs!E:E,MATCH(\"Triglyme\",RRFs!B:B,FALSE)))))","v":""},null,null,null,"After MeP",{"$f":"IF(Q51=\"\",\"\",IF(OR(S51=\"Solvent\",S51=\"After MeP\"),0,IF(S51=\"\",INDEX(RRFs!E:E,MATCH(\"Triglyme\",RRFs!B:B,FALSE)),INDEX(RRFs!E:E,MATCH(S51,RRFs!B:B,FALSE)))))","v":""},"","","",null,null,null,null,"After MeP",{"$f":"IF(Z51=\"\",\"\",IF(OR(AB51=\"Solvent\",AB51=\"After MeP\"),0,IF(AB51=\"\",INDEX(RRFs!E:E,MATCH(\"Triglyme\",RRFs!B:B,FALSE)),INDEX(RRFs!E:E,MATCH(AB51,RRFs!B:B,FALSE)))))","v":""},"","",""]
[null,null,null,null,null,null,null,52,null,null,{"$f":"IF(J52=\"\",\"\",(J52/LARGE($J$5:$J$100,2)*(5/(INDEX(RRFs!E:E,MATCH(\"Triglyme\",RRFs!B:B,FALSE))))))","v":""},null,"","",{"$f":"IF(N52=\"\",\"\",(N52/(INDEX(INDIRECT(\"'\"&LEFT($M$2,5)&\" Data'!F:F\"),MATCH(\"EGDE\",INDIRECT(\"'\"&LEFT($M$2,5)&\" Data\"&\"'!G:G\"),FALSE))))*(INDEX('CSV Prep'!E:E,MATCH(\"EGDE \"&LEFT($M$2,5),'CSV Prep'!B:B,FALSE))/(INDEX(RRFs!E:E,MATCH(\"Triglyme\",RRFs!B:B,FALSE)))))","v":""},null,null,null,"After MeP",{"$f":"IF(Q52=\"\",\"\",IF(OR(S52=\"Solvent\",S52=\"After MeP\"),0,IF(S52=\"\",INDEX(RRFs!E:E,MATCH(\"Triglyme\",RRFs!B:B,FALSE)),INDEX(RRFs!E:E,MATCH(S52,RRFs!B:B,FALSE)))))","v":""},"","","",null,null,null,null,"After MeP",{"$f":"IF(Z52=\"\",\"\",IF(OR(AB52=\"Solvent\",AB52=\"After MeP\"),0,IF(AB52=\"\",INDEX(RRFs!E:E,MATCH(\"Triglyme\",RRFs!B:B,FALSE)),INDEX(RRFs!E:E,MATCH(AB52,RRFs!B:B,FALSE)))))","v":""},"","",""]
[null,null,null,null,null,null,null,53,null,null,{"$f":"IF(J53=\"\",\"\",(J53/LARGE($J$5:$J$100,2)*(5/(INDEX(RRFs!E:E,MATCH(\"Triglyme\",RRFs!B:B,FALSE))))))","v":""},null,"","",{"$f":"IF(N53=\"\",\"\",(N53/(INDEX(INDIRECT(\"'\"&LEFT($M$2,5)&\" Data'!F:F\"),MATCH(\"EGDE\",INDIRECT(\"'\"&LEFT($M$2,5)&\" Data\"&\"'!G:G\"),FALSE))))*(INDEX('CSV Prep'!E:E,MATCH(\"EGDE \"&LEFT($M$2,5),'CSV Prep'!B:B,FALSE))/(INDEX(RRFs!E:E,MATCH(\"Triglyme\",RRFs!B:B,FALSE)))))","v":""},null,null,null,"After MeP",{"$f":"IF(Q53=\"\",\"\",IF(OR(S53=\"Solvent\",S53=\"After MeP\"),0,IF(S53=\"\",INDEX(RRFs!E:E,MATCH(\"Triglyme\",RRFs!B:B,FALSE)),INDEX(RRFs!E:E,MATCH(S53,RRFs!B:B,FALSE)))))","v":""},"","","",null,null,null,null,"After MeP",{"$f":"IF(Z53=\"\",\"\",IF(OR(AB53=\"Solvent\",AB53=\"After MeP\"),0,IF(AB53=\"\",INDEX(RRFs!E:E,MATCH(\"Triglyme\",RRFs!B:B,FALSE)),INDEX(RRFs!E:E,MATCH(AB53,RRFs!B:B,FALSE)))))","v":""},"","",""]
[null,null,null,null,null,null,null,54,null,null,{"$f":"IF(J54=\"\",\"\",(J54/LARGE($J$5:$J$100,2)*(5/(INDEX(RRFs!E:E,MATCH(\"Triglyme\",RRFs!B:B,FALSE))))))","v":""},null,"","",{"$f":"IF(N54=\"\",\"\",(N54/(INDEX(INDIRECT(\"'\"&LEFT($M$2,5)&\" Data'!F:F\"),MATCH(\"EGDE\",INDIRECT(\"'\"&LEFT($M$2,5)&\" Data\"&\"'!G:G\"),FALSE))))*(INDEX('CSV Prep'!E:E,MATCH(\"EGDE \"&LEFT($M$2,5),'CSV Prep'!B:B,FALSE))/(INDEX(RRFs!E:E,MATCH(\"Triglyme\",RRFs!B:B,FALSE)))))","v":""},null,null,null,"After MeP",{"$f":"IF(Q54=\"\",\"\",IF(OR(S54=\"Solvent\",S54=\"After MeP\"),0,IF(S54=\"\",INDEX(RRFs!E:E,MATCH(\"Triglyme\",RRFs!B:B,FALSE)),INDEX(RRFs!E:E,MATCH(S54,RRFs!B:B,FALSE)))))","v":""},"","","",null,null,null,null,"After MeP",{"$f":"IF(Z54=\"\",\"\",IF(OR(AB54=\"Solvent\",AB54=\"After MeP\"),0,IF(AB54=\"\",INDEX(RRFs!E:E,MATCH(\"Triglyme\",RRFs!B:B,FALSE)),INDEX(RRFs!E:E,MATCH(AB54,RRFs!B:B,FALSE)))))","v":""},"","",""]
[null,null,null,null,null,null,null,55,null,null,{"$f":"IF(J55=\"\",\"\",(J55/LARGE($J$5:$J$100,2)*(5/(INDEX(RRFs!E:E,MATCH(\"Triglyme\",RRFs!B:B,FALSE))))))","v":""},null,"","",{"$f":"IF(N55=\"\",\"\",(N55/(INDEX(INDIRECT(\"'\"&LEFT($M$2,5)&\" Data'!F:F\"),MATCH(\"EGDE\",INDIRECT(\"'\"&LEFT($M$2,5)&\" Data\"&\"'!G:G\"),FALSE))))*(INDEX('CSV Prep'!E:E,MATCH(\"EGDE \"&LEFT($M$2,5),'CSV Prep'!B:B,FALSE))/(INDEX(RRFs!E:E,MATCH(\"Triglyme\",RRFs!B:B,FALSE)))))","v":""},null,null,null,"After MeP",{"$f":"IF(Q55=\"\",\"\",IF(OR(S55=\"Solvent\",S55=\"After MeP\"),0,IF(S55=\"\",INDEX(RRFs!E:E,MATCH(\"Triglyme\",RRFs!B:B,FALSE)),INDEX(RRFs!E:E,MATCH(S55,RRFs!B:B,FALSE)))))","v":""},"","","",null,null,null,null,"After MeP",{"$f":"IF(Z55=\"\",\"\",IF(OR(AB55=\"Solvent\",AB55=\"After MeP\"),0,IF(AB55=\"\",INDEX(RRFs!E:E,MATCH(\"Triglyme\",RRFs!B:B,FALSE)),INDEX(RRFs!E:E,MATCH(AB55,RRFs!B:B,FALSE)))))","v":""},"","",""]
[null,null,null,null,null,null,null,56,null,null,{"$f":"IF(J56=\"\",\"\",(J56/LARGE($J$5:$J$100,2)*(5/(INDEX(RRFs!E:E,MATCH(\"Triglyme\",RRFs!B:B,FALSE))))))","v":""},null,"","",{"$f":"IF(N56=\"\",\"\",(N56/(INDEX(INDIRECT(\"'\"&LEFT($M$2,5)&\" Data'!F:F\"),MATCH(\"EGDE\",INDIRECT(\"'\"&LEFT($M$2,5)&\" Data\"&\"'!G:G\"),FALSE))))*(INDEX('CSV Prep'!E:E,MATCH(\"EGDE \"&LEFT($M$2,5),'CSV Prep'!B:B,FALSE))/(INDEX(RRFs!E:E,MATCH(\"Triglyme\",RRFs!B:B,FALSE)))))","v":""},null,null,null,"After MeP",{"$f":"IF(Q56=\"\",\"\",IF(OR(S56=\"Solvent\",S56=\"After MeP\"),0,IF(S56=\"\",INDEX(RRFs!E:E,MATCH(\"Triglyme\",RRFs!B:B,FALSE)),INDEX(RRFs!E:E,MATCH(S56,RRFs!B:B,FALSE)))))","v":""},"","","",null,null,null,null,"After MeP",{"$f":"IF(Z56=\"\",\"\",IF(OR(AB56=\"Solvent\",AB56=\"After MeP\"),0,IF(AB56=\"\",INDEX(RRFs!E:E,MATCH(\"Triglyme\",RRFs!B:B,FALSE)),INDEX(RRFs!E:E,MATCH(AB56,RRFs!B:B,FALSE)))))","v":""},"","",""]
[null,null,null,null,null,null,null,57,null,null,{"$f":"IF(J57=\"\",\"\",(J57/LARGE($J$5:$J$100,2)*(5/(INDEX(RRFs!E:E,MATCH(\"Triglyme\",RRFs!B:B,FALSE))))))","v":""},null,"","",{"$f":"IF(N57=\"\",\"\",(N57/(INDEX(INDIRECT(\"'\"&LEFT($M$2,5)&\" Data'!F:F\"),MATCH(\"EGDE\",INDIRECT(\"'\"&LEFT($M$2,5)&\" Data\"&\"'!G:G\"),FALSE))))*(INDEX('CSV Prep'!E:E,MATCH(\"EGDE \"&LEFT($M$2,5),'CSV Prep'!B:B,FALSE))/(INDEX(RRFs!E:E,MATCH(\"Triglyme\",RRFs!B:B,FALSE)))))","v":""},null,null,null,"After MeP",{"$f":"IF(Q57=\"\",\"\",IF(OR(S57=\"Solvent\",S57=\"After MeP\"),0,IF(S57=\"\",INDEX(RRFs!E:E,MATCH(\"Triglyme\",RRFs!B:B,FALSE)),INDEX(RRFs!E:E,MATCH(S57,RRFs!B:B,FALSE)))))","v":""},"","","",null,null,null,null,"After MeP",{"$f":"IF(Z57=\"\",\"\",IF(OR(AB57=\"Solvent\",AB57=\"After MeP\"),0,IF(AB57=\"\",INDEX(RRFs!E:E,MATCH(\"Triglyme\",RRFs!B:B,FALSE)),INDEX(RRFs!E:E,MATCH(AB57,RRFs!B:B,FALSE)))))","v":""},"","",""]
[null,null,null,null,null,null,null,58,null,null,{"$f":"IF(J58=\"\",\"\",(J58/LARGE($J$5:$J$100,2)*(5/(INDEX(RRFs!E:E,MATCH(\"Triglyme\",RRFs!B:B,FALSE))))))","v":""},null,"","",{"$f":"IF(N58=\"\",\"\",(N58/(INDEX(INDIRECT(\"'\"&LEFT($M$2,5)&\" Data'!F:F\"),MATCH(\"EGDE\",INDIRECT(\"'\"&LEFT($M$2,5)&\" Data\"&\"'!G:G\"),FALSE))))*(INDEX('CSV Prep'!E:E,MATCH(\"EGDE \"&LEFT($M$2,5),'CSV Prep'!B:B,FALSE))/(INDEX(RRFs!E:E,MATCH(\"Triglyme\",RRFs!B:B,FALSE)))))","v":""},null,null,null,"After MeP",{"$f":"IF(Q58=\"\",\"\",IF(OR(S58=\"Solvent\",S58=\"After MeP\"),0,IF(S58=\"\",INDEX(RRFs!E:E,MATCH(\"Triglyme\",RRFs!B:B,FALSE)),INDEX(RRFs!E:E,MATCH(S58,RRFs!B:B,FALSE)))))","v":""},"","","",null,null,null,null,"After MeP",{"$f":"IF(Z58=\"\",\"\",IF(OR(AB58=\"Solvent\",AB58=\"After MeP\"),0,IF(AB58=\"\",INDEX(RRFs!E:E,MATCH(\"Triglyme\",RRFs!B:B,FALSE)),INDEX(RRFs!E:E,MATCH(AB58,RRFs!B:B,FALSE)))))","v":""},"","",""]
[null,null,null,null,null,null,null,59,null,null,{"$f":"IF(J59=\"\",\"\",(J59/LARGE($J$5:$J$100,2)*(5/(INDEX(RRFs!E:E,MATCH(\"Triglyme\",RRFs!B:B,FALSE))))))","v":""},null,"","",{"$f":"IF(N59=\"\",\"\",(N59/(INDEX(INDIRECT(\"'\"&LEFT($M$2,5)&\" Data'!F:F\"),MATCH(\"EGDE\",INDIRECT(\"'\"&LEFT($M$2,5)&\" Data\"&\"'!G:G\"),FALSE))))*(INDEX('CSV Prep'!E:E,MATCH(\"EGDE \"&LEFT($M$2,5),'CSV Prep'!B:B,FALSE))/(INDEX(RRFs!E:E,MATCH(\"Triglyme\",RRFs!B:B,FALSE)))))","v":""},null,null,null,"After MeP",{"$f":"IF(Q59=\"\",\"\",IF(OR(S59=\"Solvent\",S59=\"After MeP\"),0,IF(S59=\"\",INDEX(RRFs!E:E,MATCH(\"Triglyme\",RRFs!B:B,FALSE)),INDEX(RRFs!E:E,MATCH(S59,RRFs!B:B,FALSE)))))","v":""},"","","",null,null,null,null,"After MeP",{"$f":"IF(Z59=\"\",\"\",IF(OR(AB59=\"Solvent\",AB59=\"After MeP\"),0,IF(AB59=\"\",INDEX(RRFs!E:E,MATCH(\"Triglyme\",RRFs!B:B,FALSE)),INDEX(RRFs!E:E,MATCH(AB59,RRFs!B:B,FALSE)))))","v":""},"","",""]
[null,null,null,null,null,null,null,60,null,null,{"$f":"IF(J60=\"\",\"\",(J60/LARGE($J$5:$J$100,2)*(5/(INDEX(RRFs!E:E,MATCH(\"Triglyme\",RRFs!B:B,FALSE))))))","v":""},null,"","",{"$f":"IF(N60=\"\",\"\",(N60/(INDEX(INDIRECT(\"'\"&LEFT($M$2,5)&\" Data'!F:F\"),MATCH(\"EGDE\",INDIRECT(\"'\"&LEFT($M$2,5)&\" Data\"&\"'!G:G\"),FALSE))))*(INDEX('CSV Prep'!E:E,MATCH(\"EGDE \"&LEFT($M$2,5),'CSV Prep'!B:B,FALSE))/(INDEX(RRFs!E:E,MATCH(\"Triglyme\",RRFs!B:B,FALSE)))))","v":""},null,null,null,"After MeP",{"$f":"IF(Q60=\"\",\"\",IF(OR(S60=\"Solvent\",S60=\"After MeP\"),0,IF(S60=\"\",INDEX(RRFs!E:E,MATCH(\"Triglyme\",RRFs!B:B,FALSE)),INDEX(RRFs!E:E,MATCH(S60,RRFs!B:B,FALSE)))))","v":""},"","","",null,null,null,null,"After MeP",{"$f":"IF(Z60=\"\",\"\",IF(OR(AB60=\"Solvent\",AB60=\"After MeP\"),0,IF(AB60=\"\",INDEX(RRFs!E:E,MATCH(\"Triglyme\",RRFs!B:B,FALSE)),INDEX(RRFs!E:E,MATCH(AB60,RRFs!B:B,FALSE)))))","v":""},"","",""]
[null,null,null,null,null,null,null,61,null,null,{"$f":"IF(J61=\"\",\"\",(J61/LARGE($J$5:$J$100,2)*(5/(INDEX(RRFs!E:E,MATCH(\"Triglyme\",RRFs!B:B,FALSE))))))","v":""},null,"","",{"$f":"IF(N61=\"\",\"\",(N61/(INDEX(INDIRECT(\"'\"&LEFT($M$2,5)&\" Data'!F:F\"),MATCH(\"EGDE\",INDIRECT(\"'\"&LEFT($M$2,5)&\" Data\"&\"'!G:G\"),FALSE))))*(INDEX('CSV Prep'!E:E,MATCH(\"EGDE \"&LEFT($M$2,5),'CSV Prep'!B:B,FALSE))/(INDEX(RRFs!E:E,MATCH(\"Triglyme\",RRFs!B:B,FALSE)))))","v":""},null,null,null,"After MeP",{"$f":"IF(Q61=\"\",\"\",IF(OR(S61=\"Solvent\",S61=\"After MeP\"),0,IF(S61=\"\",INDEX(RRFs!E:E,MATCH(\"Triglyme\",RRFs!B:B,FALSE)),INDEX(RRFs!E:E,MATCH(S61,RRFs!B:B,FALSE)))))","v":""},"","","",null,null,null,null,"After MeP",{"$f":"IF(Z61=\"\",\"\",IF(OR(AB61=\"Solvent\",AB61=\"After MeP\"),0,IF(AB61=\"\",INDEX(RRFs!E:E,MATCH(\"Triglyme\",RRFs!B:B,FALSE)),INDEX(RRFs!E:E,MATCH(AB61,RRFs!B:B,FALSE)))))","v":""},"","",""]
[null,null,null,null,null,null,null,62,null,null,{"$f":"IF(J62=\"\",\"\",(J62/LARGE($J$5:$J$100,2)*(5/(INDEX(RRFs!E:E,MATCH(\"Triglyme\",RRFs!B:B,FALSE))))))","v":""},null,"","",{"$f":"IF(N62=\"\",\"\",(N62/(INDEX(INDIRECT(\"'\"&LEFT($M$2,5)&\" Data'!F:F\"),MATCH(\"EGDE\",INDIRECT(\"'\"&LEFT($M$2,5)&\" Data\"&\"'!G:G\"),FALSE))))*(INDEX('CSV Prep'!E:E,MATCH(\"EGDE \"&LEFT($M$2,5),'CSV Prep'!B:B,FALSE))/(INDEX(RRFs!E:E,MATCH(\"Triglyme\",RRFs!B:B,FALSE)))))","v":""},null,null,null,"After MeP",{"$f":"IF(Q62=\"\",\"\",IF(OR(S62=\"Solvent\",S62=\"After MeP\"),0,IF(S62=\"\",INDEX(RRFs!E:E,MATCH(\"Triglyme\",RRFs!B:B,FALSE)),INDEX(RRFs!E:E,MATCH(S62,RRFs!B:B,FALSE)))))","v":""},"","","",null,null,null,null,"After MeP",{"$f":"IF(Z62=\"\",\"\",IF(OR(AB62=\"Solvent\",AB62=\"After MeP\"),0,IF(AB62=\"\",INDEX(RRFs!E:E,MATCH(\"Triglyme\",RRFs!B:B,FALSE)),INDEX(RRFs!E:E,MATCH(AB62,RRFs!B:B,FALSE)))))","v":""},"","",""]
[null,null,null,null,null,null,null,63,null,null,{"$f":"IF(J63=\"\",\"\",(J63/LARGE($J$5:$J$100,2)*(5/(INDEX(RRFs!E:E,MATCH(\"Triglyme\",RRFs!B:B,FALSE))))))","v":""},null,"","",{"$f":"IF(N63=\"\",\"\",(N63/(INDEX(INDIRECT(\"'\"&LEFT($M$2,5)&\" Data'!F:F\"),MATCH(\"EGDE\",INDIRECT(\"'\"&LEFT($M$2,5)&\" Data\"&\"'!G:G\"),FALSE))))*(INDEX('CSV Prep'!E:E,MATCH(\"EGDE \"&LEFT($M$2,5),'CSV Prep'!B:B,FALSE))/(INDEX(RRFs!E:E,MATCH(\"Triglyme\",RRFs!B:B,FALSE)))))","v":""},null,null,null,"After MeP",{"$f":"IF(Q63=\"\",\"\",IF(OR(S63=\"Solvent\",S63=\"After MeP\"),0,IF(S63=\"\",INDEX(RRFs!E:E,MATCH(\"Triglyme\",RRFs!B:B,FALSE)),INDEX(RRFs!E:E,MATCH(S63,RRFs!B:B,FALSE)))))","v":""},"","","",null,null,null,null,"After MeP",{"$f":"IF(Z63=\"\",\"\",IF(OR(AB63=\"Solvent\",AB63=\"After MeP\"),0,IF(AB63=\"\",INDEX(RRFs!E:E,MATCH(\"Triglyme\",RRFs!B:B,FALSE)),INDEX(RRFs!E:E,MATCH(AB63,RRFs!B:B,FALSE)))))","v":""},"","",""]
[null,null,null,null,null,null,null,64,null,null,{"$f":"IF(J64=\"\",\"\",(J64/LARGE($J$5:$J$100,2)*(5/(INDEX(RRFs!E:E,MATCH(\"Triglyme\",RRFs!B:B,FALSE))))))","v":""},null,"","",{"$f":"IF(N64=\"\",\"\",(N64/(INDEX(INDIRECT(\"'\"&LEFT($M$2,5)&\" Data'!F:F\"),MATCH(\"EGDE\",INDIRECT(\"'\"&LEFT($M$2,5)&\" Data\"&\"'!G:G\"),FALSE))))*(INDEX('CSV Prep'!E:E,MATCH(\"EGDE \"&LEFT($M$2,5),'CSV Prep'!B:B,FALSE))/(INDEX(RRFs!E:E,MATCH(\"Triglyme\",RRFs!B:B,FALSE)))))","v":""},null,null,null,"After MeP",{"$f":"IF(Q64=\"\",\"\",IF(OR(S64=\"Solvent\",S64=\"After MeP\"),0,IF(S64=\"\",INDEX(RRFs!E:E,MATCH(\"Triglyme\",RRFs!B:B,FALSE)),INDEX(RRFs!E:E,MATCH(S64,RRFs!B:B,FALSE)))))","v":""},"","","",null,null,null,null,"After MeP",{"$f":"IF(Z64=\"\",\"\",IF(OR(AB64=\"Solvent\",AB64=\"After MeP\"),0,IF(AB64=\"\",INDEX(RRFs!E:E,MATCH(\"Triglyme\",RRFs!B:B,FALSE)),INDEX(RRFs!E:E,MATCH(AB64,RRFs!B:B,FALSE)))))","v":""},"","",""]
[null,null,null,null,null,null,null,65,null,null,{"$f":"IF(J65=\"\",\"\",(J65/LARGE($J$5:$J$100,2)*(5/(INDEX(RRFs!E:E,MATCH(\"Triglyme\",RRFs!B:B,FALSE))))))","v":""},null,"","",{"$f":"IF(N65=\"\",\"\",(N65/(INDEX(INDIRECT(\"'\"&LEFT($M$2,5)&\" Data'!F:F\"),MATCH(\"EGDE\",INDIRECT(\"'\"&LEFT($M$2,5)&\" Data\"&\"'!G:G\"),FALSE))))*(INDEX('CSV Prep'!E:E,MATCH(\"EGDE \"&LEFT($M$2,5),'CSV Prep'!B:B,FALSE))/(INDEX(RRFs!E:E,MATCH(\"Triglyme\",RRFs!B:B,FALSE)))))","v":""},null,null,null,"After MeP",{"$f":"IF(Q65=\"\",\"\",IF(OR(S65=\"Solvent\",S65=\"After MeP\"),0,IF(S65=\"\",INDEX(RRFs!E:E,MATCH(\"Triglyme\",RRFs!B:B,FALSE)),INDEX(RRFs!E:E,MATCH(S65,RRFs!B:B,FALSE)))))","v":""},"","","",null,null,null,null,"After MeP",{"$f":"IF(Z65=\"\",\"\",IF(OR(AB65=\"Solvent\",AB65=\"After MeP\"),0,IF(AB65=\"\",INDEX(RRFs!E:E,MATCH(\"Triglyme\",RRFs!B:B,FALSE)),INDEX(RRFs!E:E,MATCH(AB65,RRFs!B:B,FALSE)))))","v":""},"","",""]
[null,null,null,null,null,null,null,66,null,null,{"$f":"IF(J66=\"\",\"\",(J66/LARGE($J$5:$J$100,2)*(5/(INDEX(RRFs!E:E,MATCH(\"Triglyme\",RRFs!B:B,FALSE))))))","v":""},null,"","",{"$f":"IF(N66=\"\",\"\",(N66/(INDEX(INDIRECT(\"'\"&LEFT($M$2,5)&\" Data'!F:F\"),MATCH(\"EGDE\",INDIRECT(\"'\"&LEFT($M$2,5)&\" Data\"&\"'!G:G\"),FALSE))))*(INDEX('CSV Prep'!E:E,MATCH(\"EGDE \"&LEFT($M$2,5),'CSV Prep'!B:B,FALSE))/(INDEX(RRFs!E:E,MATCH(\"Triglyme\",RRFs!B:B,FALSE)))))","v":""},null,null,null,"After MeP",{"$f":"IF(Q66=\"\",\"\",IF(OR(S66=\"Solvent\",S66=\"After MeP\"),0,IF(S66=\"\",INDEX(RRFs!E:E,MATCH(\"Triglyme\",RRFs!B:B,FALSE)),INDEX(RRFs!E:E,MATCH(S66,RRFs!B:B,FALSE)))))","v":""},"","","",null,null,null,null,"After MeP",{"$f":"IF(Z66=\"\",\"\",IF(OR(AB66=\"Solvent\",AB66=\"After MeP\"),0,IF(AB66=\"\",INDEX(RRFs!E:E,MATCH(\"Triglyme\",RRFs!B:B,FALSE)),INDEX(RRFs!E:E,MATCH(AB66,RRFs!B:B,FALSE)))))","v":""},"","",""]
[null,null,null,null,null,null,null,67,null,null,{"$f":"IF(J67=\"\",\"\",(J67/LARGE($J$5:$J$100,2)*(5/(INDEX(RRFs!E:E,MATCH(\"Triglyme\",RRFs!B:B,FALSE))))))","v":""},null,"","",{"$f":"IF(N67=\"\",\"\",(N67/(INDEX(INDIRECT(\"'\"&LEFT($M$2,5)&\" Data'!F:F\"),MATCH(\"EGDE\",INDIRECT(\"'\"&LEFT($M$2,5)&\" Data\"&\"'!G:G\"),FALSE))))*(INDEX('CSV Prep'!E:E,MATCH(\"EGDE \"&LEFT($M$2,5),'CSV Prep'!B:B,FALSE))/(INDEX(RRFs!E:E,MATCH(\"Triglyme\",RRFs!B:B,FALSE)))))","v":""},null,null,null,"After MeP",{"$f":"IF(Q67=\"\",\"\",IF(OR(S67=\"Solvent\",S67=\"After MeP\"),0,IF(S67=\"\",INDEX(RRFs!E:E,MATCH(\"Triglyme\",RRFs!B:B,FALSE)),INDEX(RRFs!E:E,MATCH(S67,RRFs!B:B,FALSE)))))","v":""},"","","",null,null,null,null,"After MeP",{"$f":"IF(Z67=\"\",\"\",IF(OR(AB67=\"Solvent\",AB67=\"After MeP\"),0,IF(AB67=\"\",INDEX(RRFs!E:E,MATCH(\"Triglyme\",RRFs!B:B,FALSE)),INDEX(RRFs!E:E,MATCH(AB67,RRFs!B:B,FALSE)))))","v":""},"","",""]
[null,null,null,null,null,null,null,68,null,null,{"$f":"IF(J68=\"\",\"\",(J68/LARGE($J$5:$J$100,2)*(5/(INDEX(RRFs!E:E,MATCH(\"Triglyme\",RRFs!B:B,FALSE))))))","v":""},null,"","",{"$f":"IF(N68=\"\",\"\",(N68/(INDEX(INDIRECT(\"'\"&LEFT($M$2,5)&\" Data'!F:F\"),MATCH(\"EGDE\",INDIRECT(\"'\"&LEFT($M$2,5)&\" Data\"&\"'!G:G\"),FALSE))))*(INDEX('CSV Prep'!E:E,MATCH(\"EGDE \"&LEFT($M$2,5),'CSV Prep'!B:B,FALSE))/(INDEX(RRFs!E:E,MATCH(\"Triglyme\",RRFs!B:B,FALSE)))))","v":""},null,null,null,"After MeP",{"$f":"IF(Q68=\"\",\"\",IF(OR(S68=\"Solvent\",S68=\"After MeP\"),0,IF(S68=\"\",INDEX(RRFs!E:E,MATCH(\"Triglyme\",RRFs!B:B,FALSE)),INDEX(RRFs!E:E,MATCH(S68,RRFs!B:B,FALSE)))))","v":""},"","","",null,null,null,null,"After MeP",{"$f":"IF(Z68=\"\",\"\",IF(OR(AB68=\"Solvent\",AB68=\"After MeP\"),0,IF(AB68=\"\",INDEX(RRFs!E:E,MATCH(\"Triglyme\",RRFs!B:B,FALSE)),INDEX(RRFs!E:E,MATCH(AB68,RRFs!B:B,FALSE)))))","v":""},"","",""]
[null,null,null,null,null,null,null,69,null,null,{"$f":"IF(J69=\"\",\"\",(J69/LARGE($J$5:$J$100,2)*(5/(INDEX(RRFs!E:E,MATCH(\"Triglyme\",RRFs!B:B,FALSE))))))","v":""},null,"","",{"$f":"IF(N69=\"\",\"\",(N69/(INDEX(INDIRECT(\"'\"&LEFT($M$2,5)&\" Data'!F:F\"),MATCH(\"EGDE\",INDIRECT(\"'\"&LEFT($M$2,5)&\" Data\"&\"'!G:G\"),FALSE))))*(INDEX('CSV Prep'!E:E,MATCH(\"EGDE \"&LEFT($M$2,5),'CSV Prep'!B:B,FALSE))/(INDEX(RRFs!E:E,MATCH(\"Triglyme\",RRFs!B:B,FALSE)))))","v":""},null,null,null,"After MeP",{"$f":"IF(Q69=\"\",\"\",IF(OR(S69=\"Solvent\",S69=\"After MeP\"),0,IF(S69=\"\",INDEX(RRFs!E:E,MATCH(\"Triglyme\",RRFs!B:B,FALSE)),INDEX(RRFs!E:E,MATCH(S69,RRFs!B:B,FALSE)))))","v":""},{"$f":"IF(Q69=\"\",\"\",IF(T69=0,0,IF(S69=\"EGDE\",R69/T69,R69/INDEX(R:R,MATCH(\"EGDE\",S:S,FALSE)) *INDEX($F$29:$F$38,MATCH(\"EGDE\",$C$29:$C$38,FALSE))/T69)))","v":""},"","",null,null,null,null,"After MeP",{"$f":"IF(Z69=\"\",\"\",IF(OR(AB69=\"Solvent\",AB69=\"After MeP\"),0,IF(AB69=\"\",INDEX(RRFs!E:E,MATCH(\"Triglyme\",RRFs!B:B,FALSE)),INDEX(RRFs!E:E,MATCH(AB69,RRFs!B:B,FALSE)))))","v":""},{"$f":"IF(Z69=\"\",\"\",IF(AC69=0,0,IF(AB69=\"EGDE\",AA69/AC69,AA69/INDEX(AA:AA,MATCH(\"EGDE\",AB:AB,FALSE)) *INDEX($F$29:$F$38,MATCH(\"EGDE\",$C$29:$C$38,FALSE))/AC69)))","v":""},"",""]
[null,null,null,null,null,null,null,70,null,null,{"$f":"IF(J70=\"\",\"\",(J70/LARGE($J$5:$J$100,2)*(5/(INDEX(RRFs!E:E,MATCH(\"Triglyme\",RRFs!B:B,FALSE))))))","v":""},null,{"$f":"IF(INDEX(INDIRECT(\"'\"&SUBSTITUTE($M$2,RIGHT($M$2,1),\"\")&\"Data\"&\"'!2:100\"),H70,MATCH($M$2,INDIRECT(\"'\"&SUBSTITUTE($M$2,RIGHT($M$2,1),\"\")&\"Data\"&\"'!2:2\"),FALSE)-1)=0,\"\",INDEX(INDIRECT(\"'\"&SUBSTITUTE($M$2,RIGHT($M$2,1),\"\")&\"Data\"&\"'!2:100\"),H70,MATCH($M$2,INDIRECT(\"'\"&SUBSTITUTE($M$2,RIGHT($M$2,1),\"\")&\"Data\"&\"'!2:2\"),FALSE)-1))","v":""},{"$f":"IF(INDEX(INDIRECT(\"'\"&SUBSTITUTE($M$2,RIGHT($M$2,1),\"\")&\"Data\"&\"'!2:100\"),H70,MATCH($M$2,INDIRECT(\"'\"&SUBSTITUTE($M$2,RIGHT($M$2,1),\"\")&\"Data\"&\"'!2:2\"),FALSE))=0,\"\",INDEX(INDIRECT(\"'\"&SUBSTITUTE($M$2,RIGHT($M$2,1),\"\")&\"Data\"&\"'!2:100\"),H70,MATCH($M$2,INDIRECT(\"'\"&SUBSTITUTE($M$2,RIGHT($M$2,1),\"\")&\"Data\"&\"'!2:2\"),FALSE)))","v":""},{"$f":"IF(N70=\"\",\"\",(N70/(INDEX(INDIRECT(\"'\"&LEFT($M$2,5)&\" Data'!F:F\"),MATCH(\"EGDE\",INDIRECT(\"'\"&LEFT($M$2,5)&\" Data\"&\"'!G:G\"),FALSE))))*(INDEX('CSV Prep'!E:E,MATCH(\"EGDE \"&LEFT($M$2,5),'CSV Prep'!B:B,FALSE))/(INDEX(RRFs!E:E,MATCH(\"Triglyme\",RRFs!B:B,FALSE)))))","v":""},null,null,null,{"$f":"IF(Q70>=$E$41,\"After MeP\",\"\")","v":"After MeP"},{"$f":"IF(Q70=\"\",\"\",IF(OR(S70=\"Solvent\",S70=\"After MeP\"),0,IF(S70=\"\",INDEX(RRFs!E:E,MATCH(\"Triglyme\",RRFs!B:B,FALSE)),INDEX(RRFs!E:E,MATCH(S70,RRFs!B:B,FALSE)))))","v":""},"",{"$f":"IF(Q70=\"\",\"\",IF(OR(S70=\"Heptane\",S70=\"IPA\",S70=\"Triglyme\",S70=\"DIIBA\",S70=\"EGDE\"),\"\",U70*($D$26/(LARGE($F$16:$F$21,1)*($E$32-$E$31)))*$D$4))","v":""},{"$f":"IF(V70=\"\",\"\",IF(AND(V70>1,S70=\"\"),\"Yes\",\"\"))","v":""},null,null,null,null,"After MeP",{"$f":"IF(Z70=\"\",\"\",IF(OR(AB70=\"Solvent\",AB70=\"After MeP\"),0,IF(AB70=\"\",INDEX(RRFs!E:E,MATCH(\"Triglyme\",RRFs!B:B,FALSE)),INDEX(RRFs!E:E,MATCH(AB70,RRFs!B:B,FALSE)))))","v":""},"",{"$f":"IF(Z70=\"\",\"\",IF(OR(AB70=\"Heptane\",AB70=\"IPA\",AB70=\"Triglyme\",AB70=\"DIIBA\",AB70=\"EGDE\"),\"\",AD70*($D$26/((LARGE($F$16:$F$21,1)*($E$32-$E$31)))*$D$4)))","v":""},{"$f":"IF(AE70=\"\",\"\",IF(AND(AE70>1,AB70=\"\"),\"Yes\",\"\"))","v":""}]
[null,null,null,null,null,null,null,{"$f":"H70+1","v":71},null,null,{"$f":"IF(J71=\"\",\"\",(J71/LARGE($J$5:$J$100,2)*(5/(INDEX(RRFs!E:E,MATCH(\"Triglyme\",RRFs!B:B,FALSE))))))","v":""},null,"","",{"$f":"IF(N71=\"\",\"\",(N71/(INDEX(INDIRECT(\"'\"&LEFT($M$2,5)&\" Data'!F:F\"),MATCH(\"EGDE\",INDIRECT(\"'\"&LEFT($M$2,5)&\" Data\"&\"'!G:G\"),FALSE))))*(INDEX('CSV Prep'!E:E,MATCH(\"EGDE \"&LEFT($M$2,5),'CSV Prep'!B:B,FALSE))/(INDEX(RRFs!E:E,MATCH(\"Triglyme\",RRFs!B:B,FALSE)))))","v":""},null,null,null,"After MeP",{"$f":"IF(Q71=\"\",\"\",IF(OR(S71=\"Solvent\",S71=\"After MeP\"),0,IF(S71=\"\",INDEX(RRFs!E:E,MATCH(\"Triglyme\",RRFs!B:B,FALSE)),INDEX(RRFs!E:E,MATCH(S71,RRFs!B:B,FALSE)))))","v":""},"","","",null,null,null,null,"After MeP",{"$f":"IF(Z71=\"\",\"\",IF(OR(AB71=\"Solvent\",AB71=\"After MeP\"),0,IF(AB71=\"\",INDEX(RRFs!E:E,MATCH(\"Triglyme\",RRFs!B:B,FALSE)),INDEX(RRFs!E:E,MATCH(AB71,RRFs!B:B,FALSE)))))","v":""},"","",""]
[null,null,null,null,null,null,null,72,null,null,{"$f":"IF(J72=\"\",\"\",(J72/LARGE($J$5:$J$100,2)*(5/(INDEX(RRFs!E:E,MATCH(\"Triglyme\",RRFs!B:B,FALSE))))))","v":""},null,"","",{"$f":"IF(N72=\"\",\"\",(N72/(INDEX(INDIRECT(\"'\"&LEFT($M$2,5)&\" Data'!F:F\"),MATCH(\"EGDE\",INDIRECT(\"'\"&LEFT($M$2,5)&\" Data\"&\"'!G:G\"),FALSE))))*(INDEX('CSV Prep'!E:E,MATCH(\"EGDE \"&LEFT($M$2,5),'CSV Prep'!B:B,FALSE))/(INDEX(RRFs!E:E,MATCH(\"Triglyme\",RRFs!B:B,FALSE)))))","v":""},null,null,null,"After MeP",{"$f":"IF(Q72=\"\",\"\",IF(OR(S72=\"Solvent\",S72=\"After MeP\"),0,IF(S72=\"\",INDEX(RRFs!E:E,MATCH(\"Triglyme\",RRFs!B:B,FALSE)),INDEX(RRFs!E:E,MATCH(S72,RRFs!B:B,FALSE)))))","v":""},"","","",null,null,null,null,"After MeP",{"$f":"IF(Z72=\"\",\"\",IF(OR(AB72=\"Solvent\",AB72=\"After MeP\"),0,IF(AB72=\"\",INDEX(RRFs!E:E,MATCH(\"Triglyme\",RRFs!B:B,FALSE)),INDEX(RRFs!E:E,MATCH(AB72,RRFs!B:B,FALSE)))))","v":""},"","",""]
[null,null,null,null,null,null,null,73,null,null,{"$f":"IF(J73=\"\",\"\",(J73/LARGE($J$5:$J$100,2)*(5/(INDEX(RRFs!E:E,MATCH(\"Triglyme\",RRFs!B:B,FALSE))))))","v":""},null,"","",{"$f":"IF(N73=\"\",\"\",(N73/(INDEX(INDIRECT(\"'\"&LEFT($M$2,5)&\" Data'!F:F\"),MATCH(\"EGDE\",INDIRECT(\"'\"&LEFT($M$2,5)&\" Data\"&\"'!G:G\"),FALSE))))*(INDEX('CSV Prep'!E:E,MATCH(\"EGDE \"&LEFT($M$2,5),'CSV Prep'!B:B,FALSE))/(INDEX(RRFs!E:E,MATCH(\"Triglyme\",RRFs!B:B,FALSE)))))","v":""},null,null,null,"After MeP",{"$f":"IF(Q73=\"\",\"\",IF(OR(S73=\"Solvent\",S73=\"After MeP\"),0,IF(S73=\"\",INDEX(RRFs!E:E,MATCH(\"Triglyme\",RRFs!B:B,FALSE)),INDEX(RRFs!E:E,MATCH(S73,RRFs!B:B,FALSE)))))","v":""},"","","",null,null,null,null,"After MeP",{"$f":"IF(Z73=\"\",\"\",IF(OR(AB73=\"Solvent\",AB73=\"After MeP\"),0,IF(AB73=\"\",INDEX(RRFs!E:E,MATCH(\"Triglyme\",RRFs!B:B,FALSE)),INDEX(RRFs!E:E,MATCH(AB73,RRFs!B:B,FALSE)))))","v":""},"","",""]
[null,null,null,null,null,null,null,74,null,null,{"$f":"IF(J74=\"\",\"\",(J74/LARGE($J$5:$J$100,2)*(5/(INDEX(RRFs!E:E,MATCH(\"Triglyme\",RRFs!B:B,FALSE))))))","v":""},null,"","",{"$f":"IF(N74=\"\",\"\",(N74/(INDEX(INDIRECT(\"'\"&LEFT($M$2,5)&\" Data'!F:F\"),MATCH(\"EGDE\",INDIRECT(\"'\"&LEFT($M$2,5)&\" Data\"&\"'!G:G\"),FALSE))))*(INDEX('CSV Prep'!E:E,MATCH(\"EGDE \"&LEFT($M$2,5),'CSV Prep'!B:B,FALSE))/(INDEX(RRFs!E:E,MATCH(\"Triglyme\",RRFs!B:B,FALSE)))))","v":""},null,null,null,"After MeP",{"$f":"IF(Q74=\"\",\"\",IF(OR(S74=\"Solvent\",S74=\"After MeP\"),0,IF(S74=\"\",INDEX(RRFs!E:E,MATCH(\"Triglyme\",RRFs!B:B,FALSE)),INDEX(RRFs!E:E,MATCH(S74,RRFs!B:B,FALSE)))))","v":""},"","","",null,null,null,null,"After MeP",{"$f":"IF(Z74=\"\",\"\",IF(OR(AB74=\"Solvent\",AB74=\"After MeP\"),0,IF(AB74=\"\",INDEX(RRFs!E:E,MATCH(\"Triglyme\",RRFs!B:B,FALSE)),INDEX(RRFs!E:E,MATCH(AB74,RRFs!B:B,FALSE)))))","v":""},"","",""]
[null,null,null,null,null,null,null,75,null,null,{"$f":"IF(J75=\"\",\"\",(J75/LARGE($J$5:$J$100,2)*(5/(INDEX(RRFs!E:E,MATCH(\"Triglyme\",RRFs!B:B,FALSE))))))","v":""},null,"","",{"$f":"IF(N75=\"\",\"\",(N75/(INDEX(INDIRECT(\"'\"&LEFT($M$2,5)&\" Data'!F:F\"),MATCH(\"EGDE\",INDIRECT(\"'\"&LEFT($M$2,5)&\" Data\"&\"'!G:G\"),FALSE))))*(INDEX('CSV Prep'!E:E,MATCH(\"EGDE \"&LEFT($M$2,5),'CSV Prep'!B:B,FALSE))/(INDEX(RRFs!E:E,MATCH(\"Triglyme\",RRFs!B:B,FALSE)))))","v":""},null,null,null,"After MeP",{"$f":"IF(Q75=\"\",\"\",IF(OR(S75=\"Solvent\",S75=\"After MeP\"),0,IF(S75=\"\",INDEX(RRFs!E:E,MATCH(\"Triglyme\",RRFs!B:B,FALSE)),INDEX(RRFs!E:E,MATCH(S75,RRFs!B:B,FALSE)))))","v":""},"","","",null,null,null,null,"After MeP",{"$f":"IF(Z75=\"\",\"\",IF(OR(AB75=\"Solvent\",AB75=\"After MeP\"),0,IF(AB75=\"\",INDEX(RRFs!E:E,MATCH(\"Triglyme\",RRFs!B:B,FALSE)),INDEX(RRFs!E:E,MATCH(AB75,RRFs!B:B,FALSE)))))","v":""},"","",""]
[null,null,null,null,null,null,null,76,null,null,{"$f":"IF(J76=\"\",\"\",(J76/LARGE($J$5:$J$100,2)*(5/(INDEX(RRFs!E:E,MATCH(\"Triglyme\",RRFs!B:B,FALSE))))))","v":""},null,"","",{"$f":"IF(N76=\"\",\"\",(N76/(INDEX(INDIRECT(\"'\"&LEFT($M$2,5)&\" Data'!F:F\"),MATCH(\"EGDE\",INDIRECT(\"'\"&LEFT($M$2,5)&\" Data\"&\"'!G:G\"),FALSE))))*(INDEX('CSV Prep'!E:E,MATCH(\"EGDE \"&LEFT($M$2,5),'CSV Prep'!B:B,FALSE))/(INDEX(RRFs!E:E,MATCH(\"Triglyme\",RRFs!B:B,FALSE)))))","v":""},null,null,null,"After MeP",{"$f":"IF(Q76=\"\",\"\",IF(OR(S76=\"Solvent\",S76=\"After MeP\"),0,IF(S76=\"\",INDEX(RRFs!E:E,MATCH(\"Triglyme\",RRFs!B:B,FALSE)),INDEX(RRFs!E:E,MATCH(S76,RRFs!B:B,FALSE)))))","v":""},"","","",null,null,null,null,"After MeP",{"$f":"IF(Z76=\"\",\"\",IF(OR(AB76=\"Solvent\",AB76=\"After MeP\"),0,IF(AB76=\"\",INDEX(RRFs!E:E,MATCH(\"Triglyme\",RRFs!B:B,FALSE)),INDEX(RRFs!E:E,MATCH(AB76,RRFs!B:B,FALSE)))))","v":""},"","",""]
[null,null,null,null,null,null,null,77,null,null,{"$f":"IF(J77=\"\",\"\",(J77/LARGE($J$5:$J$100,2)*(5/(INDEX(RRFs!E:E,MATCH(\"Triglyme\",RRFs!B:B,FALSE))))))","v":""},null,"","",{"$f":"IF(N77=\"\",\"\",(N77/(INDEX(INDIRECT(\"'\"&LEFT($M$2,5)&\" Data'!F:F\"),MATCH(\"EGDE\",INDIRECT(\"'\"&LEFT($M$2,5)&\" Data\"&\"'!G:G\"),FALSE))))*(INDEX('CSV Prep'!E:E,MATCH(\"EGDE \"&LEFT($M$2,5),'CSV Prep'!B:B,FALSE))/(INDEX(RRFs!E:E,MATCH(\"Triglyme\",RRFs!B:B,FALSE)))))","v":""},null,null,null,"After MeP",{"$f":"IF(Q77=\"\",\"\",IF(OR(S77=\"Solvent\",S77=\"After MeP\"),0,IF(S77=\"\",INDEX(RRFs!E:E,MATCH(\"Triglyme\",RRFs!B:B,FALSE)),INDEX(RRFs!E:E,MATCH(S77,RRFs!B:B,FALSE)))))","v":""},"","","",null,null,null,null,"After MeP",{"$f":"IF(Z77=\"\",\"\",IF(OR(AB77=\"Solvent\",AB77=\"After MeP\"),0,IF(AB77=\"\",INDEX(RRFs!E:E,MATCH(\"Triglyme\",RRFs!B:B,FALSE)),INDEX(RRFs!E:E,MATCH(AB77,RRFs!B:B,FALSE)))))","v":""},"","",""]
[null,null,null,null,null,null,null,78,null,null,{"$f":"IF(J78=\"\",\"\",(J78/LARGE($J$5:$J$100,2)*(5/(INDEX(RRFs!E:E,MATCH(\"Triglyme\",RRFs!B:B,FALSE))))))","v":""},null,"","",{"$f":"IF(N78=\"\",\"\",(N78/(INDEX(INDIRECT(\"'\"&LEFT($M$2,5)&\" Data'!F:F\"),MATCH(\"EGDE\",INDIRECT(\"'\"&LEFT($M$2,5)&\" Data\"&\"'!G:G\"),FALSE))))*(INDEX('CSV Prep'!E:E,MATCH(\"EGDE \"&LEFT($M$2,5),'CSV Prep'!B:B,FALSE))/(INDEX(RRFs!E:E,MATCH(\"Triglyme\",RRFs!B:B,FALSE)))))","v":""},null,null,null,"After MeP",{"$f":"IF(Q78=\"\",\"\",IF(OR(S78=\"Solvent\",S78=\"After MeP\"),0,IF(S78=\"\",INDEX(RRFs!E:E,MATCH(\"Triglyme\",RRFs!B:B,FALSE)),INDEX(RRFs!E:E,MATCH(S78,RRFs!B:B,FALSE)))))","v":""},"","","",null,null,null,null,"After MeP",{"$f":"IF(Z78=\"\",\"\",IF(OR(AB78=\"Solvent\",AB78=\"After MeP\"),0,IF(AB78=\"\",INDEX(RRFs!E:E,MATCH(\"Triglyme\",RRFs!B:B,FALSE)),INDEX(RRFs!E:E,MATCH(AB78,RRFs!B:B,FALSE)))))","v":""},"","",""]
[null,null,null,null,null,null,null,79,null,null,{"$f":"IF(J79=\"\",\"\",(J79/LARGE($J$5:$J$100,2)*(5/(INDEX(RRFs!E:E,MATCH(\"Triglyme\",RRFs!B:B,FALSE))))))","v":""},null,"","",{"$f":"IF(N79=\"\",\"\",(N79/(INDEX(INDIRECT(\"'\"&LEFT($M$2,5)&\" Data'!F:F\"),MATCH(\"EGDE\",INDIRECT(\"'\"&LEFT($M$2,5)&\" Data\"&\"'!G:G\"),FALSE))))*(INDEX('CSV Prep'!E:E,MATCH(\"EGDE \"&LEFT($M$2,5),'CSV Prep'!B:B,FALSE))/(INDEX(RRFs!E:E,MATCH(\"Triglyme\",RRFs!B:B,FALSE)))))","v":""},null,null,null,"After MeP",{"$f":"IF(Q79=\"\",\"\",IF(OR(S79=\"Solvent\",S79=\"After MeP\"),0,IF(S79=\"\",INDEX(RRFs!E:E,MATCH(\"Triglyme\",RRFs!B:B,FALSE)),INDEX(RRFs!E:E,MATCH(S79,RRFs!B:B,FALSE)))))","v":""},"","","",null,null,null,null,"After MeP",{"$f":"IF(Z79=\"\",\"\",IF(OR(AB79=\"Solvent\",AB79=\"After MeP\"),0,IF(AB79=\"\",INDEX(RRFs!E:E,MATCH(\"Triglyme\",RRFs!B:B,FALSE)),INDEX(RRFs!E:E,MATCH(AB79,RRFs!B:B,FALSE)))))","v":""},"","",""]
[null,null,null,null,null,null,null,80,null,null,{"$f":"IF(J80=\"\",\"\",(J80/LARGE($J$5:$J$100,2)*(5/(INDEX(RRFs!E:E,MATCH(\"Triglyme\",RRFs!B:B,FALSE))))))","v":""},null,"","",{"$f":"IF(N80=\"\",\"\",(N80/(INDEX(INDIRECT(\"'\"&LEFT($M$2,5)&\" Data'!F:F\"),MATCH(\"EGDE\",INDIRECT(\"'\"&LEFT($M$2,5)&\" Data\"&\"'!G:G\"),FALSE))))*(INDEX('CSV Prep'!E:E,MATCH(\"EGDE \"&LEFT($M$2,5),'CSV Prep'!B:B,FALSE))/(INDEX(RRFs!E:E,MATCH(\"Triglyme\",RRFs!B:B,FALSE)))))","v":""},null,null,null,"After MeP",{"$f":"IF(Q80=\"\",\"\",IF(OR(S80=\"Solvent\",S80=\"After MeP\"),0,IF(S80=\"\",INDEX(RRFs!E:E,MATCH(\"Triglyme\",RRFs!B:B,FALSE)),INDEX(RRFs!E:E,MATCH(S80,RRFs!B:B,FALSE)))))","v":""},"","","",null,null,null,null,"After MeP",{"$f":"IF(Z80=\"\",\"\",IF(OR(AB80=\"Solvent\",AB80=\"After MeP\"),0,IF(AB80=\"\",INDEX(RRFs!E:E,MATCH(\"Triglyme\",RRFs!B:B,FALSE)),INDEX(RRFs!E:E,MATCH(AB80,RRFs!B:B,FALSE)))))","v":""},"","",""]
[null,null,null,null,null,null,null,81,null,null,{"$f":"IF(J81=\"\",\"\",(J81/LARGE($J$5:$J$100,2)*(5/(INDEX(RRFs!E:E,MATCH(\"Triglyme\",RRFs!B:B,FALSE))))))","v":""},null,"","",{"$f":"IF(N81=\"\",\"\",(N81/(INDEX(INDIRECT(\"'\"&LEFT($M$2,5)&\" Data'!F:F\"),MATCH(\"EGDE\",INDIRECT(\"'\"&LEFT($M$2,5)&\" Data\"&\"'!G:G\"),FALSE))))*(INDEX('CSV Prep'!E:E,MATCH(\"EGDE \"&LEFT($M$2,5),'CSV Prep'!B:B,FALSE))/(INDEX(RRFs!E:E,MATCH(\"Triglyme\",RRFs!B:B,FALSE)))))","v":""},null,null,null,"After MeP",{"$f":"IF(Q81=\"\",\"\",IF(OR(S81=\"Solvent\",S81=\"After MeP\"),0,IF(S81=\"\",INDEX(RRFs!E:E,MATCH(\"Triglyme\",RRFs!B:B,FALSE)),INDEX(RRFs!E:E,MATCH(S81,RRFs!B:B,FALSE)))))","v":""},"","","",null,null,null,null,"After MeP",{"$f":"IF(Z81=\"\",\"\",IF(OR(AB81=\"Solvent\",AB81=\"After MeP\"),0,IF(AB81=\"\",INDEX(RRFs!E:E,MATCH(\"Triglyme\",RRFs!B:B,FALSE)),INDEX(RRFs!E:E,MATCH(AB81,RRFs!B:B,FALSE)))))","v":""},"","",""]
[null,null,null,null,null,null,null,82,null,null,{"$f":"IF(J82=\"\",\"\",(J82/LARGE($J$5:$J$100,2)*(5/(INDEX(RRFs!E:E,MATCH(\"Triglyme\",RRFs!B:B,FALSE))))))","v":""},null,"","",{"$f":"IF(N82=\"\",\"\",(N82/(INDEX(INDIRECT(\"'\"&LEFT($M$2,5)&\" Data'!F:F\"),MATCH(\"EGDE\",INDIRECT(\"'\"&LEFT($M$2,5)&\" Data\"&\"'!G:G\"),FALSE))))*(INDEX('CSV Prep'!E:E,MATCH(\"EGDE \"&LEFT($M$2,5),'CSV Prep'!B:B,FALSE))/(INDEX(RRFs!E:E,MATCH(\"Triglyme\",RRFs!B:B,FALSE)))))","v":""},null,null,null,"After MeP",{"$f":"IF(Q82=\"\",\"\",IF(OR(S82=\"Solvent\",S82=\"After MeP\"),0,IF(S82=\"\",INDEX(RRFs!E:E,MATCH(\"Triglyme\",RRFs!B:B,FALSE)),INDEX(RRFs!E:E,MATCH(S82,RRFs!B:B,FALSE)))))","v":""},"","","",null,null,null,null,"After MeP",{"$f":"IF(Z82=\"\",\"\",IF(OR(AB82=\"Solvent\",AB82=\"After MeP\"),0,IF(AB82=\"\",INDEX(RRFs!E:E,MATCH(\"Triglyme\",RRFs!B:B,FALSE)),INDEX(RRFs!E:E,MATCH(AB82,RRFs!B:B,FALSE)))))","v":""},"","",""]
[null,null,null,null,null,null,null,83,null,null,{"$f":"IF(J83=\"\",\"\",(J83/LARGE($J$5:$J$100,2)*(5/(INDEX(RRFs!E:E,MATCH(\"Triglyme\",RRFs!B:B,FALSE))))))","v":""},null,"","",{"$f":"IF(N83=\"\",\"\",(N83/(INDEX(INDIRECT(\"'\"&LEFT($M$2,5)&\" Data'!F:F\"),MATCH(\"EGDE\",INDIRECT(\"'\"&LEFT($M$2,5)&\" Data\"&\"'!G:G\"),FALSE))))*(INDEX('CSV Prep'!E:E,MATCH(\"EGDE \"&LEFT($M$2,5),'CSV Prep'!B:B,FALSE))/(INDEX(RRFs!E:E,MATCH(\"Triglyme\",RRFs!B:B,FALSE)))))","v":""},null,null,null,"After MeP",{"$f":"IF(Q83=\"\",\"\",IF(OR(S83=\"Solvent\",S83=\"After MeP\"),0,IF(S83=\"\",INDEX(RRFs!E:E,MATCH(\"Triglyme\",RRFs!B:B,FALSE)),INDEX(RRFs!E:E,MATCH(S83,RRFs!B:B,FALSE)))))","v":""},"","","",null,null,null,null,"After MeP",{"$f":"IF(Z83=\"\",\"\",IF(OR(AB83=\"Solvent\",AB83=\"After MeP\"),0,IF(AB83=\"\",INDEX(RRFs!E:E,MATCH(\"Triglyme\",RRFs!B:B,FALSE)),INDEX(RRFs!E:E,MATCH(AB83,RRFs!B:B,FALSE)))))","v":""},"","",""]
[null,null,null,null,null,null,null,84,null,null,{"$f":"IF(J84=\"\",\"\",(J84/LARGE($J$5:$J$100,2)*(5/(INDEX(RRFs!E:E,MATCH(\"Triglyme\",RRFs!B:B,FALSE))))))","v":""},null,"","",{"$f":"IF(N84=\"\",\"\",(N84/(INDEX(INDIRECT(\"'\"&LEFT($M$2,5)&\" Data'!F:F\"),MATCH(\"EGDE\",INDIRECT(\"'\"&LEFT($M$2,5)&\" Data\"&\"'!G:G\"),FALSE))))*(INDEX('CSV Prep'!E:E,MATCH(\"EGDE \"&LEFT($M$2,5),'CSV Prep'!B:B,FALSE))/(INDEX(RRFs!E:E,MATCH(\"Triglyme\",RRFs!B:B,FALSE)))))","v":""},null,null,null,"After MeP",{"$f":"IF(Q84=\"\",\"\",IF(OR(S84=\"Solvent\",S84=\"After MeP\"),0,IF(S84=\"\",INDEX(RRFs!E:E,MATCH(\"Triglyme\",RRFs!B:B,FALSE)),INDEX(RRFs!E:E,MATCH(S84,RRFs!B:B,FALSE)))))","v":""},"","","",null,null,null,null,"After MeP",{"$f":"IF(Z84=\"\",\"\",IF(OR(AB84=\"Solvent\",AB84=\"After MeP\"),0,IF(AB84=\"\",INDEX(RRFs!E:E,MATCH(\"Triglyme\",RRFs!B:B,FALSE)),INDEX(RRFs!E:E,MATCH(AB84,RRFs!B:B,FALSE)))))","v":""},"","",""]
[null,null,null,null,null,null,null,85,null,null,{"$f":"IF(J85=\"\",\"\",(J85/LARGE($J$5:$J$100,2)*(5/(INDEX(RRFs!E:E,MATCH(\"Triglyme\",RRFs!B:B,FALSE))))))","v":""},null,"","",{"$f":"IF(N85=\"\",\"\",(N85/(INDEX(INDIRECT(\"'\"&LEFT($M$2,5)&\" Data'!F:F\"),MATCH(\"EGDE\",INDIRECT(\"'\"&LEFT($M$2,5)&\" Data\"&\"'!G:G\"),FALSE))))*(INDEX('CSV Prep'!E:E,MATCH(\"EGDE \"&LEFT($M$2,5),'CSV Prep'!B:B,FALSE))/(INDEX(RRFs!E:E,MATCH(\"Triglyme\",RRFs!B:B,FALSE)))))","v":""},null,null,null,"After MeP",{"$f":"IF(Q85=\"\",\"\",IF(OR(S85=\"Solvent\",S85=\"After MeP\"),0,IF(S85=\"\",INDEX(RRFs!E:E,MATCH(\"Triglyme\",RRFs!B:B,FALSE)),INDEX(RRFs!E:E,MATCH(S85,RRFs!B:B,FALSE)))))","v":""},"","","",null,null,null,null,"After MeP",{"$f":"IF(Z85=\"\",\"\",IF(OR(AB85=\"Solvent\",AB85=\"After MeP\"),0,IF(AB85=\"\",INDEX(RRFs!E:E,MATCH(\"Triglyme\",RRFs!B:B,FALSE)),INDEX(RRFs!E:E,MATCH(AB85,RRFs!B:B,FALSE)))))","v":""},"","",""]
[null,null,null,null,null,null,null,86,null,null,{"$f":"IF(J86=\"\",\"\",(J86/LARGE($J$5:$J$100,2)*(5/(INDEX(RRFs!E:E,MATCH(\"Triglyme\",RRFs!B:B,FALSE))))))","v":""},null,"","",{"$f":"IF(N86=\"\",\"\",(N86/(INDEX(INDIRECT(\"'\"&LEFT($M$2,5)&\" Data'!F:F\"),MATCH(\"EGDE\",INDIRECT(\"'\"&LEFT($M$2,5)&\" Data\"&\"'!G:G\"),FALSE))))*(INDEX('CSV Prep'!E:E,MATCH(\"EGDE \"&LEFT($M$2,5),'CSV Prep'!B:B,FALSE))/(INDEX(RRFs!E:E,MATCH(\"Triglyme\",RRFs!B:B,FALSE)))))","v":""},null,null,null,"After MeP",{"$f":"IF(Q86=\"\",\"\",IF(OR(S86=\"Solvent\",S86=\"After MeP\"),0,IF(S86=\"\",INDEX(RRFs!E:E,MATCH(\"Triglyme\",RRFs!B:B,FALSE)),INDEX(RRFs!E:E,MATCH(S86,RRFs!B:B,FALSE)))))","v":""},"","","",null,null,null,null,"After MeP",{"$f":"IF(Z86=\"\",\"\",IF(OR(AB86=\"Solvent\",AB86=\"After MeP\"),0,IF(AB86=\"\",INDEX(RRFs!E:E,MATCH(\"Triglyme\",RRFs!B:B,FALSE)),INDEX(RRFs!E:E,MATCH(AB86,RRFs!B:B,FALSE)))))","v":""},"","",""]
[null,null,null,null,null,null,null,87,null,null,{"$f":"IF(J87=\"\",\"\",(J87/LARGE($J$5:$J$100,2)*(5/(INDEX(RRFs!E:E,MATCH(\"Triglyme\",RRFs!B:B,FALSE))))))","v":""},null,"","",{"$f":"IF(N87=\"\",\"\",(N87/(INDEX(INDIRECT(\"'\"&LEFT($M$2,5)&\" Data'!F:F\"),MATCH(\"EGDE\",INDIRECT(\"'\"&LEFT($M$2,5)&\" Data\"&\"'!G:G\"),FALSE))))*(INDEX('CSV Prep'!E:E,MATCH(\"EGDE \"&LEFT($M$2,5),'CSV Prep'!B:B,FALSE))/(INDEX(RRFs!E:E,MATCH(\"Triglyme\",RRFs!B:B,FALSE)))))","v":""},null,null,null,"After MeP",{"$f":"IF(Q87=\"\",\"\",IF(OR(S87=\"Solvent\",S87=\"After MeP\"),0,IF(S87=\"\",INDEX(RRFs!E:E,MATCH(\"Triglyme\",RRFs!B:B,FALSE)),INDEX(RRFs!E:E,MATCH(S87,RRFs!B:B,FALSE)))))","v":""},"","","",null,null,null,null,"After MeP",{"$f":"IF(Z87=\"\",\"\",IF(OR(AB87=\"Solvent\",AB87=\"After MeP\"),0,IF(AB87=\"\",INDEX(RRFs!E:E,MATCH(\"Triglyme\",RRFs!B:B,FALSE)),INDEX(RRFs!E:E,MATCH(AB87,RRFs!B:B,FALSE)))))","v":""},"","",""]
[null,null,null,null,null,null,null,88,null,null,{"$f":"IF(J88=\"\",\"\",(J88/LARGE($J$5:$J$100,2)*(5/(INDEX(RRFs!E:E,MATCH(\"Triglyme\",RRFs!B:B,FALSE))))))","v":""},null,"","",{"$f":"IF(N88=\"\",\"\",(N88/(INDEX(INDIRECT(\"'\"&LEFT($M$2,5)&\" Data'!F:F\"),MATCH(\"EGDE\",INDIRECT(\"'\"&LEFT($M$2,5)&\" Data\"&\"'!G:G\"),FALSE))))*(INDEX('CSV Prep'!E:E,MATCH(\"EGDE \"&LEFT($M$2,5),'CSV Prep'!B:B,FALSE))/(INDEX(RRFs!E:E,MATCH(\"Triglyme\",RRFs!B:B,FALSE)))))","v":""},null,null,null,"After MeP",{"$f":"IF(Q88=\"\",\"\",IF(OR(S88=\"Solvent\",S88=\"After MeP\"),0,IF(S88=\"\",INDEX(RRFs!E:E,MATCH(\"Triglyme\",RRFs!B:B,FALSE)),INDEX(RRFs!E:E,MATCH(S88,RRFs!B:B,FALSE)))))","v":""},"","","",null,null,null,null,"After MeP",{"$f":"IF(Z88=\"\",\"\",IF(OR(AB88=\"Solvent\",AB88=\"After MeP\"),0,IF(AB88=\"\",INDEX(RRFs!E:E,MATCH(\"Triglyme\",RRFs!B:B,FALSE)),INDEX(RRFs!E:E,MATCH(AB88,RRFs!B:B,FALSE)))))","v":""},"","",""]
[null,null,null,null,null,null,null,89,null,null,{"$f":"IF(J89=\"\",\"\",(J89/LARGE($J$5:$J$100,2)*(5/(INDEX(RRFs!E:E,MATCH(\"Triglyme\",RRFs!B:B,FALSE))))))","v":""},null,"","",{"$f":"IF(N89=\"\",\"\",(N89/(INDEX(INDIRECT(\"'\"&LEFT($M$2,5)&\" Data'!F:F\"),MATCH(\"EGDE\",INDIRECT(\"'\"&LEFT($M$2,5)&\" Data\"&\"'!G:G\"),FALSE))))*(INDEX('CSV Prep'!E:E,MATCH(\"EGDE \"&LEFT($M$2,5),'CSV Prep'!B:B,FALSE))/(INDEX(RRFs!E:E,MATCH(\"Triglyme\",RRFs!B:B,FALSE)))))","v":""},null,null,null,"After MeP",{"$f":"IF(Q89=\"\",\"\",IF(OR(S89=\"Solvent\",S89=\"After MeP\"),0,IF(S89=\"\",INDEX(RRFs!E:E,MATCH(\"Triglyme\",RRFs!B:B,FALSE)),INDEX(RRFs!E:E,MATCH(S89,RRFs!B:B,FALSE)))))","v":""},"","","",null,null,null,null,"After MeP",{"$f":"IF(Z89=\"\",\"\",IF(OR(AB89=\"Solvent\",AB89=\"After MeP\"),0,IF(AB89=\"\",INDEX(RRFs!E:E,MATCH(\"Triglyme\",RRFs!B:B,FALSE)),INDEX(RRFs!E:E,MATCH(AB89,RRFs!B:B,FALSE)))))","v":""},"","",""]
[null,null,null,null,null,null,null,90,null,null,{"$f":"IF(J90=\"\",\"\",(J90/LARGE($J$5:$J$100,2)*(5/(INDEX(RRFs!E:E,MATCH(\"Triglyme\",RRFs!B:B,FALSE))))))","v":""},null,"","",{"$f":"IF(N90=\"\",\"\",(N90/(INDEX(INDIRECT(\"'\"&LEFT($M$2,5)&\" Data'!F:F\"),MATCH(\"EGDE\",INDIRECT(\"'\"&LEFT($M$2,5)&\" Data\"&\"'!G:G\"),FALSE))))*(INDEX('CSV Prep'!E:E,MATCH(\"EGDE \"&LEFT($M$2,5),'CSV Prep'!B:B,FALSE))/(INDEX(RRFs!E:E,MATCH(\"Triglyme\",RRFs!B:B,FALSE)))))","v":""},null,null,null,"After MeP",{"$f":"IF(Q90=\"\",\"\",IF(OR(S90=\"Solvent\",S90=\"After MeP\"),0,IF(S90=\"\",INDEX(RRFs!E:E,MATCH(\"Triglyme\",RRFs!B:B,FALSE)),INDEX(RRFs!E:E,MATCH(S90,RRFs!B:B,FALSE)))))","v":""},"","","",null,null,null,null,"After MeP",{"$f":"IF(Z90=\"\",\"\",IF(OR(AB90=\"Solvent\",AB90=\"After MeP\"),0,IF(AB90=\"\",INDEX(RRFs!E:E,MATCH(\"Triglyme\",RRFs!B:B,FALSE)),INDEX(RRFs!E:E,MATCH(AB90,RRFs!B:B,FALSE)))))","v":""},"","",""]
[null,null,null,null,null,null,null,91,null,null,{"$f":"IF(J91=\"\",\"\",(J91/LARGE($J$5:$J$100,2)*(5/(INDEX(RRFs!E:E,MATCH(\"Triglyme\",RRFs!B:B,FALSE))))))","v":""},null,"","",{"$f":"IF(N91=\"\",\"\",(N91/(INDEX(INDIRECT(\"'\"&LEFT($M$2,5)&\" Data'!F:F\"),MATCH(\"EGDE\",INDIRECT(\"'\"&LEFT($M$2,5)&\" Data\"&\"'!G:G\"),FALSE))))*(INDEX('CSV Prep'!E:E,MATCH(\"EGDE \"&LEFT($M$2,5),'CSV Prep'!B:B,FALSE))/(INDEX(RRFs!E:E,MATCH(\"Triglyme\",RRFs!B:B,FALSE)))))","v":""},null,null,null,"After MeP",{"$f":"IF(Q91=\"\",\"\",IF(OR(S91=\"Solvent\",S91=\"After MeP\"),0,IF(S91=\"\",INDEX(RRFs!E:E,MATCH(\"Triglyme\",RRFs!B:B,FALSE)),INDEX(RRFs!E:E,MATCH(S91,RRFs!B:B,FALSE)))))","v":""},"","","",null,null,null,null,"After MeP",{"$f":"IF(Z91=\"\",\"\",IF(OR(AB91=\"Solvent\",AB91=\"After MeP\"),0,IF(AB91=\"\",INDEX(RRFs!E:E,MATCH(\"Triglyme\",RRFs!B:B,FALSE)),INDEX(RRFs!E:E,MATCH(AB91,RRFs!B:B,FALSE)))))","v":""},"","",""]
[null,null,null,null,null,null,null,92,null,null,{"$f":"IF(J92=\"\",\"\",(J92/LARGE($J$5:$J$100,2)*(5/(INDEX(RRFs!E:E,MATCH(\"Triglyme\",RRFs!B:B,FALSE))))))","v":""},null,"","",{"$f":"IF(N92=\"\",\"\",(N92/(INDEX(INDIRECT(\"'\"&LEFT($M$2,5)&\" Data'!F:F\"),MATCH(\"EGDE\",INDIRECT(\"'\"&LEFT($M$2,5)&\" Data\"&\"'!G:G\"),FALSE))))*(INDEX('CSV Prep'!E:E,MATCH(\"EGDE \"&LEFT($M$2,5),'CSV Prep'!B:B,FALSE))/(INDEX(RRFs!E:E,MATCH(\"Triglyme\",RRFs!B:B,FALSE)))))","v":""},null,null,null,"After MeP",{"$f":"IF(Q92=\"\",\"\",IF(OR(S92=\"Solvent\",S92=\"After MeP\"),0,IF(S92=\"\",INDEX(RRFs!E:E,MATCH(\"Triglyme\",RRFs!B:B,FALSE)),INDEX(RRFs!E:E,MATCH(S92,RRFs!B:B,FALSE)))))","v":""},"","","",null,null,null,null,"After MeP",{"$f":"IF(Z92=\"\",\"\",IF(OR(AB92=\"Solvent\",AB92=\"After MeP\"),0,IF(AB92=\"\",INDEX(RRFs!E:E,MATCH(\"Triglyme\",RRFs!B:B,FALSE)),INDEX(RRFs!E:E,MATCH(AB92,RRFs!B:B,FALSE)))))","v":""},"","",""]
[null,null,null,null,null,null,null,93,null,null,{"$f":"IF(J93=\"\",\"\",(J93/LARGE($J$5:$J$100,2)*(5/(INDEX(RRFs!E:E,MATCH(\"Triglyme\",RRFs!B:B,FALSE))))))","v":""},null,"","",{"$f":"IF(N93=\"\",\"\",(N93/(INDEX(INDIRECT(\"'\"&LEFT($M$2,5)&\" Data'!F:F\"),MATCH(\"EGDE\",INDIRECT(\"'\"&LEFT($M$2,5)&\" Data\"&\"'!G:G\"),FALSE))))*(INDEX('CSV Prep'!E:E,MATCH(\"EGDE \"&LEFT($M$2,5),'CSV Prep'!B:B,FALSE))/(INDEX(RRFs!E:E,MATCH(\"Triglyme\",RRFs!B:B,FALSE)))))","v":""},null,null,null,"After MeP",{"$f":"IF(Q93=\"\",\"\",IF(OR(S93=\"Solvent\",S93=\"After MeP\"),0,IF(S93=\"\",INDEX(RRFs!E:E,MATCH(\"Triglyme\",RRFs!B:B,FALSE)),INDEX(RRFs!E:E,MATCH(S93,RRFs!B:B,FALSE)))))","v":""},"","","",null,null,null,null,"After MeP",{"$f":"IF(Z93=\"\",\"\",IF(OR(AB93=\"Solvent\",AB93=\"After MeP\"),0,IF(AB93=\"\",INDEX(RRFs!E:E,MATCH(\"Triglyme\",RRFs!B:B,FALSE)),INDEX(RRFs!E:E,MATCH(AB93,RRFs!B:B,FALSE)))))","v":""},"","",""]
[null,null,null,null,null,null,null,94,null,null,{"$f":"IF(J94=\"\",\"\",(J94/LARGE($J$5:$J$100,2)*(5/(INDEX(RRFs!E:E,MATCH(\"Triglyme\",RRFs!B:B,FALSE))))))","v":""},null,"","",{"$f":"IF(N94=\"\",\"\",(N94/(INDEX(INDIRECT(\"'\"&LEFT($M$2,5)&\" Data'!F:F\"),MATCH(\"EGDE\",INDIRECT(\"'\"&LEFT($M$2,5)&\" Data\"&\"'!G:G\"),FALSE))))*(INDEX('CSV Prep'!E:E,MATCH(\"EGDE \"&LEFT($M$2,5),'CSV Prep'!B:B,FALSE))/(INDEX(RRFs!E:E,MATCH(\"Triglyme\",RRFs!B:B,FALSE)))))","v":""},null,null,null,"After MeP",{"$f":"IF(Q94=\"\",\"\",IF(OR(S94=\"Solvent\",S94=\"After MeP\"),0,IF(S94=\"\",INDEX(RRFs!E:E,MATCH(\"Triglyme\",RRFs!B:B,FALSE)),INDEX(RRFs!E:E,MATCH(S94,RRFs!B:B,FALSE)))))","v":""},"","","",null,null,null,null,"After MeP",{"$f":"IF(Z94=\"\",\"\",IF(OR(AB94=\"Solvent\",AB94=\"After MeP\"),0,IF(AB94=\"\",INDEX(RRFs!E:E,MATCH(\"Triglyme\",RRFs!B:B,FALSE)),INDEX(RRFs!E:E,MATCH(AB94,RRFs!B:B,FALSE)))))","v":""},"","",""]
[null,null,null,null,null,null,null,95,null,null,{"$f":"IF(J95=\"\",\"\",(J95/LARGE($J$5:$J$100,2)*(5/(INDEX(RRFs!E:E,MATCH(\"Triglyme\",RRFs!B:B,FALSE))))))","v":""},null,"","",{"$f":"IF(N95=\"\",\"\",(N95/(INDEX(INDIRECT(\"'\"&LEFT($M$2,5)&\" Data'!F:F\"),MATCH(\"EGDE\",INDIRECT(\"'\"&LEFT($M$2,5)&\" Data\"&\"'!G:G\"),FALSE))))*(INDEX('CSV Prep'!E:E,MATCH(\"EGDE \"&LEFT($M$2,5),'CSV Prep'!B:B,FALSE))/(INDEX(RRFs!E:E,MATCH(\"Triglyme\",RRFs!B:B,FALSE)))))","v":""},null,null,null,"After MeP",{"$f":"IF(Q95=\"\",\"\",IF(OR(S95=\"Solvent\",S95=\"After MeP\"),0,IF(S95=\"\",INDEX(RRFs!E:E,MATCH(\"Triglyme\",RRFs!B:B,FALSE)),INDEX(RRFs!E:E,MATCH(S95,RRFs!B:B,FALSE)))))","v":""},"","","",null,null,null,null,"After MeP",{"$f":"IF(Z95=\"\",\"\",IF(OR(AB95=\"Solvent\",AB95=\"After MeP\"),0,IF(AB95=\"\",INDEX(RRFs!E:E,MATCH(\"Triglyme\",RRFs!B:B,FALSE)),INDEX(RRFs!E:E,MATCH(AB95,RRFs!B:B,FALSE)))))","v":""},"","",""]
[null,null,null,null,null,null,null,96,null,null,{"$f":"IF(J96=\"\",\"\",(J96/LARGE($J$5:$J$100,2)*(5/(INDEX(RRFs!E:E,MATCH(\"Triglyme\",RRFs!B:B,FALSE))))))","v":""},null,"","",{"$f":"IF(N96=\"\",\"\",(N96/(INDEX(INDIRECT(\"'\"&LEFT($M$2,5)&\" Data'!F:F\"),MATCH(\"EGDE\",INDIRECT(\"'\"&LEFT($M$2,5)&\" Data\"&\"'!G:G\"),FALSE))))*(INDEX('CSV Prep'!E:E,MATCH(\"EGDE \"&LEFT($M$2,5),'CSV Prep'!B:B,FALSE))/(INDEX(RRFs!E:E,MATCH(\"Triglyme\",RRFs!B:B,FALSE)))))","v":""},null,null,null,"After MeP",{"$f":"IF(Q96=\"\",\"\",IF(OR(S96=\"Solvent\",S96=\"After MeP\"),0,IF(S96=\"\",INDEX(RRFs!E:E,MATCH(\"Triglyme\",RRFs!B:B,FALSE)),INDEX(RRFs!E:E,MATCH(S96,RRFs!B:B,FALSE)))))","v":""},"","","",null,null,null,null,"After MeP",{"$f":"IF(Z96=\"\",\"\",IF(OR(AB96=\"Solvent\",AB96=\"After MeP\"),0,IF(AB96=\"\",INDEX(RRFs!E:E,MATCH(\"Triglyme\",RRFs!B:B,FALSE)),INDEX(RRFs!E:E,MATCH(AB96,RRFs!B:B,FALSE)))))","v":""},"","",""]
[null,null,null,null,null,null,null,97,null,null,{"$f":"IF(J97=\"\",\"\",(J97/LARGE($J$5:$J$100,2)*(5/(INDEX(RRFs!E:E,MATCH(\"Triglyme\",RRFs!B:B,FALSE))))))","v":""},null,"","",{"$f":"IF(N97=\"\",\"\",(N97/(INDEX(INDIRECT(\"'\"&LEFT($M$2,5)&\" Data'!F:F\"),MATCH(\"EGDE\",INDIRECT(\"'\"&LEFT($M$2,5)&\" Data\"&\"'!G:G\"),FALSE))))*(INDEX('CSV Prep'!E:E,MATCH(\"EGDE \"&LEFT($M$2,5),'CSV Prep'!B:B,FALSE))/(INDEX(RRFs!E:E,MATCH(\"Triglyme\",RRFs!B:B,FALSE)))))","v":""},null,null,null,"After MeP",{"$f":"IF(Q97=\"\",\"\",IF(OR(S97=\"Solvent\",S97=\"After MeP\"),0,IF(S97=\"\",INDEX(RRFs!E:E,MATCH(\"Triglyme\",RRFs!B:B,FALSE)),INDEX(RRFs!E:E,MATCH(S97,RRFs!B:B,FALSE)))))","v":""},"","","",null,null,null,null,"After MeP",{"$f":"IF(Z97=\"\",\"\",IF(OR(AB97=\"Solvent\",AB97=\"After MeP\"),0,IF(AB97=\"\",INDEX(RRFs!E:E,MATCH(\"Triglyme\",RRFs!B:B,FALSE)),INDEX(RRFs!E:E,MATCH(AB97,RRFs!B:B,FALSE)))))","v":""},"","",""]
[null,null,null,null,null,null,null,98,null,null,{"$f":"IF(J98=\"\",\"\",(J98/LARGE($J$5:$J$100,2)*(5/(INDEX(RRFs!E:E,MATCH(\"Triglyme\",RRFs!B:B,FALSE))))))","v":""},null,"","",{"$f":"IF(N98=\"\",\"\",(N98/(INDEX(INDIRECT(\"'\"&LEFT($M$2,5)&\" Data'!F:F\"),MATCH(\"EGDE\",INDIRECT(\"'\"&LEFT($M$2,5)&\" Data\"&\"'!G:G\"),FALSE))))*(INDEX('CSV Prep'!E:E,MATCH(\"EGDE \"&LEFT($M$2,5),'CSV Prep'!B:B,FALSE))/(INDEX(RRFs!E:E,MATCH(\"Triglyme\",RRFs!B:B,FALSE)))))","v":""},null,null,null,"After MeP",{"$f":"IF(Q98=\"\",\"\",IF(OR(S98=\"Solvent\",S98=\"After MeP\"),0,IF(S98=\"\",INDEX(RRFs!E:E,MATCH(\"Triglyme\",RRFs!B:B,FALSE)),INDEX(RRFs!E:E,MATCH(S98,RRFs!B:B,FALSE)))))","v":""},"","","",null,null,null,null,"After MeP",{"$f":"IF(Z98=\"\",\"\",IF(OR(AB98=\"Solvent\",AB98=\"After MeP\"),0,IF(AB98=\"\",INDEX(RRFs!E:E,MATCH(\"Triglyme\",RRFs!B:B,FALSE)),INDEX(RRFs!E:E,MATCH(AB98,RRFs!B:B,FALSE)))))","v":""},"","",""]
[null,null,null,null,null,null,null,99,null,null,{"$f":"IF(J99=\"\",\"\",(J99/LARGE($J$5:$J$100,2)*(5/(INDEX(RRFs!E:E,MATCH(\"Triglyme\",RRFs!B:B,FALSE))))))","v":""},null,"","",{"$f":"IF(N99=\"\",\"\",(N99/(INDEX(INDIRECT(\"'\"&LEFT($M$2,5)&\" Data'!F:F\"),MATCH(\"EGDE\",INDIRECT(\"'\"&LEFT($M$2,5)&\" Data\"&\"'!G:G\"),FALSE))))*(INDEX('CSV Prep'!E:E,MATCH(\"EGDE \"&LEFT($M$2,5),'CSV Prep'!B:B,FALSE))/(INDEX(RRFs!E:E,MATCH(\"Triglyme\",RRFs!B:B,FALSE)))))","v":""},null,null,null,"After MeP",{"$f":"IF(Q99=\"\",\"\",IF(OR(S99=\"Solvent\",S99=\"After MeP\"),0,IF(S99=\"\",INDEX(RRFs!E:E,MATCH(\"Triglyme\",RRFs!B:B,FALSE)),INDEX(RRFs!E:E,MATCH(S99,RRFs!B:B,FALSE)))))","v":""},"","","",null,null,null,null,"After MeP",{"$f":"IF(Z99=\"\",\"\",IF(OR(AB99=\"Solvent\",AB99=\"After MeP\"),0,IF(AB99=\"\",INDEX(RRFs!E:E,MATCH(\"Triglyme\",RRFs!B:B,FALSE)),INDEX(RRFs!E:E,MATCH(AB99,RRFs!B:B,FALSE)))))","v":""},"","",""]
[null,null,null,null,null,null,null,100,null,null,{"$f":"IF(J100=\"\",\"\",(J100/LARGE($J$5:$J$100,2)*(5/(INDEX(RRFs!E:E,MATCH(\"Triglyme\",RRFs!B:B,FALSE))))))","v":""},null,null,null,null,null,null,null,"After MeP",{"$f":"IF(Q100=\"\",\"\",IF(OR(S100=\"Solvent\",S100=\"After MeP\"),0,IF(S100=\"\",INDEX(RRFs!E:E,MATCH(\"Triglyme\",RRFs!B:B,FALSE)),INDEX(RRFs!E:E,MATCH(S100,RRFs!B:B,FALSE)))))","v":""},"","","",null,null,null,null,"After MeP",{"$f":"IF(Z100=\"\",\"\",IF(OR(AB100=\"Solvent\",AB100=\"After MeP\"),0,IF(AB100=\"\",INDEX(RRFs!E:E,MATCH(\"Triglyme\",RRFs!B:B,FALSE)),INDEX(RRFs!E:E,MATCH(AB100,RRFs!B:B,FALSE)))))","v":""},"","",""]
[null,null,null,null,null,null,null,null,null,null,null,null,null,null,null,null,null,null,"After MeP",{"$f":"IF(Q101=\"\",\"\",IF(OR(S101=\"Solvent\",S101=\"After MeP\"),0,IF(S101=\"\",INDEX(RRFs!E:E,MATCH(\"Triglyme\",RRFs!B:B,FALSE)),INDEX(RRFs!E:E,MATCH(S101,RRFs!B:B,FALSE)))))","v":""},{"$f":"IF(Q101=\"\",\"\",IF(T101=0,0,IF(S101=\"EGDE\",R101/T101,R101/INDEX(R:R,MATCH(\"EGDE\",S:S,FALSE)) *INDEX($F$29:$F$38,MATCH(\"EGDE\",$C$29:$C$38,FALSE))/T101)))","v":""},"","",null,null,null,null,"After MeP",{"$f":"IF(Z101=\"\",\"\",IF(OR(AB101=\"Solvent\",AB101=\"After MeP\"),0,IF(AB101=\"\",INDEX(RRFs!E:E,MATCH(\"Triglyme\",RRFs!B:B,FALSE)),INDEX(RRFs!E:E,MATCH(AB101,RRFs!B:B,FALSE)))))","v":""},{"$f":"IF(Z101=\"\",\"\",IF(AC101=0,0,IF(AB101=\"EGDE\",AA101/AC101,AA101/INDEX(AA:AA,MATCH(\"EGDE\",AB:AB,FALSE)) *INDEX($F$29:$F$38,MATCH(\"EGDE\",$C$29:$C$38,FALSE))/AC101)))","v":""},"",""]
[null,null,null,null,null,null,null,null,null,null,null,null,null,null,null,null,null,null,"After MeP",{"$f":"IF(Q102=\"\",\"\",IF(OR(S102=\"Solvent\",S102=\"After MeP\"),0,IF(S102=\"\",INDEX(RRFs!E:E,MATCH(\"Triglyme\",RRFs!B:B,FALSE)),INDEX(RRFs!E:E,MATCH(S102,RRFs!B:B,FALSE)))))","v":""},"","","",null,null,null,null,"After MeP",{"$f":"IF(Z102=\"\",\"\",IF(OR(AB102=\"Solvent\",AB102=\"After MeP\"),0,IF(AB102=\"\",INDEX(RRFs!E:E,MATCH(\"Triglyme\",RRFs!B:B,FALSE)),INDEX(RRFs!E:E,MATCH(AB102,RRFs!B:B,FALSE)))))","v":""},"","",""]
[null,null,null,null,null,null,null,null,null,null,null,null,null,null,null,null,null,null,"After MeP",{"$f":"IF(Q103=\"\",\"\",IF(OR(S103=\"Solvent\",S103=\"After MeP\"),0,IF(S103=\"\",INDEX(RRFs!E:E,MATCH(\"Triglyme\",RRFs!B:B,FALSE)),INDEX(RRFs!E:E,MATCH(S103,RRFs!B:B,FALSE)))))","v":""},"","","",null,null,null,null,"After MeP",{"$f":"IF(Z103=\"\",\"\",IF(OR(AB103=\"Solvent\",AB103=\"After MeP\"),0,IF(AB103=\"\",INDEX(RRFs!E:E,MATCH(\"Triglyme\",RRFs!B:B,FALSE)),INDEX(RRFs!E:E,MATCH(AB103,RRFs!B:B,FALSE)))))","v":""},"","",""]
[null,null,null,null,null,null,null,null,null,null,null,null,null,null,null,null,null,null,"After MeP",{"$f":"IF(Q104=\"\",\"\",IF(OR(S104=\"Solvent\",S104=\"After MeP\"),0,IF(S104=\"\",INDEX(RRFs!E:E,MATCH(\"Triglyme\",RRFs!B:B,FALSE)),INDEX(RRFs!E:E,MATCH(S104,RRFs!B:B,FALSE)))))","v":""},"","","",null,null,null,null,"After MeP",{"$f":"IF(Z104=\"\",\"\",IF(OR(AB104=\"Solvent\",AB104=\"After MeP\"),0,IF(AB104=\"\",INDEX(RRFs!E:E,MATCH(\"Triglyme\",RRFs!B:B,FALSE)),INDEX(RRFs!E:E,MATCH(AB104,RRFs!B:B,FALSE)))))","v":""},"","",""]
[null,null,null,null,null,null,null,null,null,null,null,null,null,null,null,null,null,null,"After MeP",{"$f":"IF(Q105=\"\",\"\",IF(OR(S105=\"Solvent\",S105=\"After MeP\"),0,IF(S105=\"\",INDEX(RRFs!E:E,MATCH(\"Triglyme\",RRFs!B:B,FALSE)),INDEX(RRFs!E:E,MATCH(S105,RRFs!B:B,FALSE)))))","v":""},"","","",null,null,null,null,"After MeP",{"$f":"IF(Z105=\"\",\"\",IF(OR(AB105=\"Solvent\",AB105=\"After MeP\"),0,IF(AB105=\"\",INDEX(RRFs!E:E,MATCH(\"Triglyme\",RRFs!B:B,FALSE)),INDEX(RRFs!E:E,MATCH(AB105,RRFs!B:B,FALSE)))))","v":""},"","",""]
[null,null,null,null,null,null,null,null,null,null,null,null,null,null,null,null,null,null,"After MeP",{"$f":"IF(Q106=\"\",\"\",IF(OR(S106=\"Solvent\",S106=\"After MeP\"),0,IF(S106=\"\",INDEX(RRFs!E:E,MATCH(\"Triglyme\",RRFs!B:B,FALSE)),INDEX(RRFs!E:E,MATCH(S106,RRFs!B:B,FALSE)))))","v":""},"","","",null,null,null,null,"After MeP",{"$f":"IF(Z106=\"\",\"\",IF(OR(AB106=\"Solvent\",AB106=\"After MeP\"),0,IF(AB106=\"\",INDEX(RRFs!E:E,MATCH(\"Triglyme\",RRFs!B:B,FALSE)),INDEX(RRFs!E:E,MATCH(AB106,RRFs!B:B,FALSE)))))","v":""},"","",""]
[null,null,null,null,null,null,null,null,null,null,null,null,null,null,null,null,null,null,"After MeP",{"$f":"IF(Q107=\"\",\"\",IF(OR(S107=\"Solvent\",S107=\"After MeP\"),0,IF(S107=\"\",INDEX(RRFs!E:E,MATCH(\"Triglyme\",RRFs!B:B,FALSE)),INDEX(RRFs!E:E,MATCH(S107,RRFs!B:B,FALSE)))))","v":""},"","","",null,null,null,null,{"$f":"IF(Z107>=$E$41,\"After MeP\",\"\")","v":"After MeP"},{"$f":"IF(Z107=\"\",\"\",IF(OR(AB107=\"Solvent\",AB107=\"After MeP\"),0,IF(AB107=\"\",INDEX(RRFs!E:E,MATCH(\"Triglyme\",RRFs!B:B,FALSE)),INDEX(RRFs!E:E,MATCH(AB107,RRFs!B:B,FALSE)))))","v":""},"","",""]
[null,null,null,null,null,null,null,null,null,null,null,null,null,null,null,null,null,null,"After MeP",{"$f":"IF(Q108=\"\",\"\",IF(OR(S108=\"Solvent\",S108=\"After MeP\"),0,IF(S108=\"\",INDEX(RRFs!E:E,MATCH(\"Triglyme\",RRFs!B:B,FALSE)),INDEX(RRFs!E:E,MATCH(S108,RRFs!B:B,FALSE)))))","v":""},"","","",null,null,null,null,"After MeP",{"$f":"IF(Z108=\"\",\"\",IF(OR(AB108=\"Solvent\",AB108=\"After MeP\"),0,IF(AB108=\"\",INDEX(RRFs!E:E,MATCH(\"Triglyme\",RRFs!B:B,FALSE)),INDEX(RRFs!E:E,MATCH(AB108,RRFs!B:B,FALSE)))))","v":""},"","",""]
[null,null,null,null,null,null,null,null,null,null,null,null,null,null,null,null,null,null,"After MeP",{"$f":"IF(Q109=\"\",\"\",IF(OR(S109=\"Solvent\",S109=\"After MeP\"),0,IF(S109=\"\",INDEX(RRFs!E:E,MATCH(\"Triglyme\",RRFs!B:B,FALSE)),INDEX(RRFs!E:E,MATCH(S109,RRFs!B:B,FALSE)))))","v":""},"","","",null,null,null,null,"After MeP",{"$f":"IF(Z109=\"\",\"\",IF(OR(AB109=\"Solvent\",AB109=\"After MeP\"),0,IF(AB109=\"\",INDEX(RRFs!E:E,MATCH(\"Triglyme\",RRFs!B:B,FALSE)),INDEX(RRFs!E:E,MATCH(AB109,RRFs!B:B,FALSE)))))","v":""},"","",""]
[null,null,null,null,null,null,null,null,null,null,null,null,null,null,null,null,null,null,"After MeP",{"$f":"IF(Q110=\"\",\"\",IF(OR(S110=\"Solvent\",S110=\"After MeP\"),0,IF(S110=\"\",INDEX(RRFs!E:E,MATCH(\"Triglyme\",RRFs!B:B,FALSE)),INDEX(RRFs!E:E,MATCH(S110,RRFs!B:B,FALSE)))))","v":""},"","","",null,null,null,null,"After MeP",{"$f":"IF(Z110=\"\",\"\",IF(OR(AB110=\"Solvent\",AB110=\"After MeP\"),0,IF(AB110=\"\",INDEX(RRFs!E:E,MATCH(\"Triglyme\",RRFs!B:B,FALSE)),INDEX(RRFs!E:E,MATCH(AB110,RRFs!B:B,FALSE)))))","v":""},"","",""]
[null,null,null,null,null,null,null,null,null,null,null,null,null,null,null,null,null,null,"After MeP",{"$f":"IF(Q111=\"\",\"\",IF(OR(S111=\"Solvent\",S111=\"After MeP\"),0,IF(S111=\"\",INDEX(RRFs!E:E,MATCH(\"Triglyme\",RRFs!B:B,FALSE)),INDEX(RRFs!E:E,MATCH(S111,RRFs!B:B,FALSE)))))","v":""},"","","",null,null,null,null,"After MeP",{"$f":"IF(Z111=\"\",\"\",IF(OR(AB111=\"Solvent\",AB111=\"After MeP\"),0,IF(AB111=\"\",INDEX(RRFs!E:E,MATCH(\"Triglyme\",RRFs!B:B,FALSE)),INDEX(RRFs!E:E,MATCH(AB111,RRFs!B:B,FALSE)))))","v":""},"","",""]
[null,null,null,null,null,null,null,null,null,null,null,null,null,null,null,null,null,null,"After MeP",{"$f":"IF(Q112=\"\",\"\",IF(OR(S112=\"Solvent\",S112=\"After MeP\"),0,IF(S112=\"\",INDEX(RRFs!E:E,MATCH(\"Triglyme\",RRFs!B:B,FALSE)),INDEX(RRFs!E:E,MATCH(S112,RRFs!B:B,FALSE)))))","v":""},"","","",null,null,null,null,"After MeP",{"$f":"IF(Z112=\"\",\"\",IF(OR(AB112=\"Solvent\",AB112=\"After MeP\"),0,IF(AB112=\"\",INDEX(RRFs!E:E,MATCH(\"Triglyme\",RRFs!B:B,FALSE)),INDEX(RRFs!E:E,MATCH(AB112,RRFs!B:B,FALSE)))))","v":""},"","",""]
[null,null,null,null,null,null,null,null,null,null,null,null,null,null,null,null,null,null,"After MeP",{"$f":"IF(Q113=\"\",\"\",IF(OR(S113=\"Solvent\",S113=\"After MeP\"),0,IF(S113=\"\",INDEX(RRFs!E:E,MATCH(\"Triglyme\",RRFs!B:B,FALSE)),INDEX(RRFs!E:E,MATCH(S113,RRFs!B:B,FALSE)))))","v":""},"","","",null,null,null,null,"After MeP",{"$f":"IF(Z113=\"\",\"\",IF(OR(AB113=\"Solvent\",AB113=\"After MeP\"),0,IF(AB113=\"\",INDEX(RRFs!E:E,MATCH(\"Triglyme\",RRFs!B:B,FALSE)),INDEX(RRFs!E:E,MATCH(AB113,RRFs!B:B,FALSE)))))","v":""},"","",""]
[null,null,null,null,null,null,null,null,null,null,null,null,null,null,null,null,null,null,"After MeP",{"$f":"IF(Q114=\"\",\"\",IF(OR(S114=\"Solvent\",S114=\"After MeP\"),0,IF(S114=\"\",INDEX(RRFs!E:E,MATCH(\"Triglyme\",RRFs!B:B,FALSE)),INDEX(RRFs!E:E,MATCH(S114,RRFs!B:B,FALSE)))))","v":""},"","","",null,null,null,null,"After MeP",{"$f":"IF(Z114=\"\",\"\",IF(OR(AB114=\"Solvent\",AB114=\"After MeP\"),0,IF(AB114=\"\",INDEX(RRFs!E:E,MATCH(\"Triglyme\",RRFs!B:B,FALSE)),INDEX(RRFs!E:E,MATCH(AB114,RRFs!B:B,FALSE)))))","v":""},"","",""]
[null,null,null,null,null,null,null,null,null,null,null,null,null,null,null,null,null,null,"After MeP",{"$f":"IF(Q115=\"\",\"\",IF(OR(S115=\"Solvent\",S115=\"After MeP\"),0,IF(S115=\"\",INDEX(RRFs!E:E,MATCH(\"Triglyme\",RRFs!B:B,FALSE)),INDEX(RRFs!E:E,MATCH(S115,RRFs!B:B,FALSE)))))","v":""},"","","",null,null,null,null,"After MeP",{"$f":"IF(Z115=\"\",\"\",IF(OR(AB115=\"Solvent\",AB115=\"After MeP\"),0,IF(AB115=\"\",INDEX(RRFs!E:E,MATCH(\"Triglyme\",RRFs!B:B,FALSE)),INDEX(RRFs!E:E,MATCH(AB115,RRFs!B:B,FALSE)))))","v":""},"","",""]
[null,null,null,null,null,null,null,null,null,null,null,null,null,null,null,null,null,null,"After MeP",{"$f":"IF(Q116=\"\",\"\",IF(OR(S116=\"Solvent\",S116=\"After MeP\"),0,IF(S116=\"\",INDEX(RRFs!E:E,MATCH(\"Triglyme\",RRFs!B:B,FALSE)),INDEX(RRFs!E:E,MATCH(S116,RRFs!B:B,FALSE)))))","v":""},"","","",null,null,null,null,"After MeP",{"$f":"IF(Z116=\"\",\"\",IF(OR(AB116=\"Solvent\",AB116=\"After MeP\"),0,IF(AB116=\"\",INDEX(RRFs!E:E,MATCH(\"Triglyme\",RRFs!B:B,FALSE)),INDEX(RRFs!E:E,MATCH(AB116,RRFs!B:B,FALSE)))))","v":""},"","",""]
[null,null,null,null,null,null,null,null,null,null,null,null,null,null,null,null,null,null,"After MeP",{"$f":"IF(Q117=\"\",\"\",IF(OR(S117=\"Solvent\",S117=\"After MeP\"),0,IF(S117=\"\",INDEX(RRFs!E:E,MATCH(\"Triglyme\",RRFs!B:B,FALSE)),INDEX(RRFs!E:E,MATCH(S117,RRFs!B:B,FALSE)))))","v":""},"","","",null,null,null,null,"After MeP",{"$f":"IF(Z117=\"\",\"\",IF(OR(AB117=\"Solvent\",AB117=\"After MeP\"),0,IF(AB117=\"\",INDEX(RRFs!E:E,MATCH(\"Triglyme\",RRFs!B:B,FALSE)),INDEX(RRFs!E:E,MATCH(AB117,RRFs!B:B,FALSE)))))","v":""},"","",""]
[null,null,null,null,null,null,null,null,null,null,null,null,null,null,null,null,null,null,"After MeP",{"$f":"IF(Q118=\"\",\"\",IF(OR(S118=\"Solvent\",S118=\"After MeP\"),0,IF(S118=\"\",INDEX(RRFs!E:E,MATCH(\"Triglyme\",RRFs!B:B,FALSE)),INDEX(RRFs!E:E,MATCH(S118,RRFs!B:B,FALSE)))))","v":""},"","","",null,null,null,null,"After MeP",{"$f":"IF(Z118=\"\",\"\",IF(OR(AB118=\"Solvent\",AB118=\"After MeP\"),0,IF(AB118=\"\",INDEX(RRFs!E:E,MATCH(\"Triglyme\",RRFs!B:B,FALSE)),INDEX(RRFs!E:E,MATCH(AB118,RRFs!B:B,FALSE)))))","v":""},"","",""]
[null,null,null,null,null,null,null,null,null,null,null,null,null,null,null,null,null,null,"After MeP",{"$f":"IF(Q119=\"\",\"\",IF(OR(S119=\"Solvent\",S119=\"After MeP\"),0,IF(S119=\"\",INDEX(RRFs!E:E,MATCH(\"Triglyme\",RRFs!B:B,FALSE)),INDEX(RRFs!E:E,MATCH(S119,RRFs!B:B,FALSE)))))","v":""},"","","",null,null,null,null,"After MeP",{"$f":"IF(Z119=\"\",\"\",IF(OR(AB119=\"Solvent\",AB119=\"After MeP\"),0,IF(AB119=\"\",INDEX(RRFs!E:E,MATCH(\"Triglyme\",RRFs!B:B,FALSE)),INDEX(RRFs!E:E,MATCH(AB119,RRFs!B:B,FALSE)))))","v":""},"","",""]
[null,null,null,null,null,null,null,null,null,null,null,null,null,null,null,null,null,null,"After MeP",{"$f":"IF(Q120=\"\",\"\",IF(OR(S120=\"Solvent\",S120=\"After MeP\"),0,IF(S120=\"\",INDEX(RRFs!E:E,MATCH(\"Triglyme\",RRFs!B:B,FALSE)),INDEX(RRFs!E:E,MATCH(S120,RRFs!B:B,FALSE)))))","v":""},"","","",null,null,null,null,"After MeP",{"$f":"IF(Z120=\"\",\"\",IF(OR(AB120=\"Solvent\",AB120=\"After MeP\"),0,IF(AB120=\"\",INDEX(RRFs!E:E,MATCH(\"Triglyme\",RRFs!B:B,FALSE)),INDEX(RRFs!E:E,MATCH(AB120,RRFs!B:B,FALSE)))))","v":""},"","",""]
[null,null,null,null,null,null,null,null,null,null,null,null,null,null,null,null,null,null,"After MeP",{"$f":"IF(Q121=\"\",\"\",IF(OR(S121=\"Solvent\",S121=\"After MeP\"),0,IF(S121=\"\",INDEX(RRFs!E:E,MATCH(\"Triglyme\",RRFs!B:B,FALSE)),INDEX(RRFs!E:E,MATCH(S121,RRFs!B:B,FALSE)))))","v":""},"","","",null,null,null,null,"After MeP",{"$f":"IF(Z121=\"\",\"\",IF(OR(AB121=\"Solvent\",AB121=\"After MeP\"),0,IF(AB121=\"\",INDEX(RRFs!E:E,MATCH(\"Triglyme\",RRFs!B:B,FALSE)),INDEX(RRFs!E:E,MATCH(AB121,RRFs!B:B,FALSE)))))","v":""},"","",""]
[null,null,null,null,null,null,null,null,null,null,null,null,null,null,null,null,null,null,"After MeP",{"$f":"IF(Q122=\"\",\"\",IF(OR(S122=\"Solvent\",S122=\"After MeP\"),0,IF(S122=\"\",INDEX(RRFs!E:E,MATCH(\"Triglyme\",RRFs!B:B,FALSE)),INDEX(RRFs!E:E,MATCH(S122,RRFs!B:B,FALSE)))))","v":""},"","","",null,null,null,null,"After MeP",{"$f":"IF(Z122=\"\",\"\",IF(OR(AB122=\"Solvent\",AB122=\"After MeP\"),0,IF(AB122=\"\",INDEX(RRFs!E:E,MATCH(\"Triglyme\",RRFs!B:B,FALSE)),INDEX(RRFs!E:E,MATCH(AB122,RRFs!B:B,FALSE)))))","v":""},"","",""]
[null,null,null,null,null,null,null,null,null,null,null,null,null,null,null,null,null,null,"After MeP",{"$f":"IF(Q123=\"\",\"\",IF(OR(S123=\"Solvent\",S123=\"After MeP\"),0,IF(S123=\"\",INDEX(RRFs!E:E,MATCH(\"Triglyme\",RRFs!B:B,FALSE)),INDEX(RRFs!E:E,MATCH(S123,RRFs!B:B,FALSE)))))","v":""},"","","",null,null,null,null,"After MeP",{"$f":"IF(Z123=\"\",\"\",IF(OR(AB123=\"Solvent\",AB123=\"After MeP\"),0,IF(AB123=\"\",INDEX(RRFs!E:E,MATCH(\"Triglyme\",RRFs!B:B,FALSE)),INDEX(RRFs!E:E,MATCH(AB123,RRFs!B:B,FALSE)))))","v":""},"","",""]
[null,null,null,null,null,null,null,null,null,null,null,null,null,null,null,null,null,null,"After MeP",{"$f":"IF(Q124=\"\",\"\",IF(OR(S124=\"Solvent\",S124=\"After MeP\"),0,IF(S124=\"\",INDEX(RRFs!E:E,MATCH(\"Triglyme\",RRFs!B:B,FALSE)),INDEX(RRFs!E:E,MATCH(S124,RRFs!B:B,FALSE)))))","v":""},"","","",null,null,null,null,"After MeP",{"$f":"IF(Z124=\"\",\"\",IF(OR(AB124=\"Solvent\",AB124=\"After MeP\"),0,IF(AB124=\"\",INDEX(RRFs!E:E,MATCH(\"Triglyme\",RRFs!B:B,FALSE)),INDEX(RRFs!E:E,MATCH(AB124,RRFs!B:B,FALSE)))))","v":""},"","",""]
[null,null,null,null,null,null,null,null,null,null,null,null,null,null,null,null,null,null,"After MeP",{"$f":"IF(Q125=\"\",\"\",IF(OR(S125=\"Solvent\",S125=\"After MeP\"),0,IF(S125=\"\",INDEX(RRFs!E:E,MATCH(\"Triglyme\",RRFs!B:B,FALSE)),INDEX(RRFs!E:E,MATCH(S125,RRFs!B:B,FALSE)))))","v":""},"","","",null,null,null,null,"After MeP",{"$f":"IF(Z125=\"\",\"\",IF(OR(AB125=\"Solvent\",AB125=\"After MeP\"),0,IF(AB125=\"\",INDEX(RRFs!E:E,MATCH(\"Triglyme\",RRFs!B:B,FALSE)),INDEX(RRFs!E:E,MATCH(AB125,RRFs!B:B,FALSE)))))","v":""},"","",""]
[null,null,null,null,null,null,null,null,null,null,null,null,null,null,null,null,null,null,"After MeP",{"$f":"IF(Q126=\"\",\"\",IF(OR(S126=\"Solvent\",S126=\"After MeP\"),0,IF(S126=\"\",INDEX(RRFs!E:E,MATCH(\"Triglyme\",RRFs!B:B,FALSE)),INDEX(RRFs!E:E,MATCH(S126,RRFs!B:B,FALSE)))))","v":""},"","","",null,null,null,null,"After MeP",{"$f":"IF(Z126=\"\",\"\",IF(OR(AB126=\"Solvent\",AB126=\"After MeP\"),0,IF(AB126=\"\",INDEX(RRFs!E:E,MATCH(\"Triglyme\",RRFs!B:B,FALSE)),INDEX(RRFs!E:E,MATCH(AB126,RRFs!B:B,FALSE)))))","v":""},"","",""]
[null,null,null,null,null,null,null,null,null,null,null,null,null,null,null,null,null,null,"After MeP",{"$f":"IF(Q127=\"\",\"\",IF(OR(S127=\"Solvent\",S127=\"After MeP\"),0,IF(S127=\"\",INDEX(RRFs!E:E,MATCH(\"Triglyme\",RRFs!B:B,FALSE)),INDEX(RRFs!E:E,MATCH(S127,RRFs!B:B,FALSE)))))","v":""},"","","",null,null,null,null,"After MeP",{"$f":"IF(Z127=\"\",\"\",IF(OR(AB127=\"Solvent\",AB127=\"After MeP\"),0,IF(AB127=\"\",INDEX(RRFs!E:E,MATCH(\"Triglyme\",RRFs!B:B,FALSE)),INDEX(RRFs!E:E,MATCH(AB127,RRFs!B:B,FALSE)))))","v":""},"","",""]
[null,null,null,null,null,null,null,null,null,null,null,null,null,null,null,null,null,null,"After MeP",{"$f":"IF(Q128=\"\",\"\",IF(OR(S128=\"Solvent\",S128=\"After MeP\"),0,IF(S128=\"\",INDEX(RRFs!E:E,MATCH(\"Triglyme\",RRFs!B:B,FALSE)),INDEX(RRFs!E:E,MATCH(S128,RRFs!B:B,FALSE)))))","v":""},"","","",null,null,null,null,"After MeP",{"$f":"IF(Z128=\"\",\"\",IF(OR(AB128=\"Solvent\",AB128=\"After MeP\"),0,IF(AB128=\"\",INDEX(RRFs!E:E,MATCH(\"Triglyme\",RRFs!B:B,FALSE)),INDEX(RRFs!E:E,MATCH(AB128,RRFs!B:B,FALSE)))))","v":""},"","",""]
[null,null,null,null,null,null,null,null,null,null,null,null,null,null,null,null,null,null,"After MeP",{"$f":"IF(Q129=\"\",\"\",IF(OR(S129=\"Solvent\",S129=\"After MeP\"),0,IF(S129=\"\",INDEX(RRFs!E:E,MATCH(\"Triglyme\",RRFs!B:B,FALSE)),INDEX(RRFs!E:E,MATCH(S129,RRFs!B:B,FALSE)))))","v":""},"","","",null,null,null,null,"After MeP",{"$f":"IF(Z129=\"\",\"\",IF(OR(AB129=\"Solvent\",AB129=\"After MeP\"),0,IF(AB129=\"\",INDEX(RRFs!E:E,MATCH(\"Triglyme\",RRFs!B:B,FALSE)),INDEX(RRFs!E:E,MATCH(AB129,RRFs!B:B,FALSE)))))","v":""},"","",""]
[null,null,null,null,null,null,null,null,null,null,null,null,null,null,null,null,null,null,"After MeP",{"$f":"IF(Q130=\"\",\"\",IF(OR(S130=\"Solvent\",S130=\"After MeP\"),0,IF(S130=\"\",INDEX(RRFs!E:E,MATCH(\"Triglyme\",RRFs!B:B,FALSE)),INDEX(RRFs!E:E,MATCH(S130,RRFs!B:B,FALSE)))))","v":""},"","","",null,null,null,null,"After MeP",{"$f":"IF(Z130=\"\",\"\",IF(OR(AB130=\"Solvent\",AB130=\"After MeP\"),0,IF(AB130=\"\",INDEX(RRFs!E:E,MATCH(\"Triglyme\",RRFs!B:B,FALSE)),INDEX(RRFs!E:E,MATCH(AB130,RRFs!B:B,FALSE)))))","v":""},"","",""]
[null,null,null,null,null,null,null,null,null,null,null,null,null,null,null,null,null,null,"After MeP",{"$f":"IF(Q131=\"\",\"\",IF(OR(S131=\"Solvent\",S131=\"After MeP\"),0,IF(S131=\"\",INDEX(RRFs!E:E,MATCH(\"Triglyme\",RRFs!B:B,FALSE)),INDEX(RRFs!E:E,MATCH(S131,RRFs!B:B,FALSE)))))","v":""},"","","",null,null,null,null,"After MeP",{"$f":"IF(Z131=\"\",\"\",IF(OR(AB131=\"Solvent\",AB131=\"After MeP\"),0,IF(AB131=\"\",INDEX(RRFs!E:E,MATCH(\"Triglyme\",RRFs!B:B,FALSE)),INDEX(RRFs!E:E,MATCH(AB131,RRFs!B:B,FALSE)))))","v":""},"","",""]
[null,null,null,null,null,null,null,null,null,null,null,null,null,null,null,null,null,null,"After MeP",{"$f":"IF(Q132=\"\",\"\",IF(OR(S132=\"Solvent\",S132=\"After MeP\"),0,IF(S132=\"\",INDEX(RRFs!E:E,MATCH(\"Triglyme\",RRFs!B:B,FALSE)),INDEX(RRFs!E:E,MATCH(S132,RRFs!B:B,FALSE)))))","v":""},"","","",null,null,null,null,"After MeP",{"$f":"IF(Z132=\"\",\"\",IF(OR(AB132=\"Solvent\",AB132=\"After MeP\"),0,IF(AB132=\"\",INDEX(RRFs!E:E,MATCH(\"Triglyme\",RRFs!B:B,FALSE)),INDEX(RRFs!E:E,MATCH(AB132,RRFs!B:B,FALSE)))))","v":""},"","",""]
[null,null,null,null,null,null,null,null,null,null,null,null,null,null,null,null,null,null,"After MeP",{"$f":"IF(Q133=\"\",\"\",IF(OR(S133=\"Solvent\",S133=\"After MeP\"),0,IF(S133=\"\",INDEX(RRFs!E:E,MATCH(\"Triglyme\",RRFs!B:B,FALSE)),INDEX(RRFs!E:E,MATCH(S133,RRFs!B:B,FALSE)))))","v":""},{"$f":"IF(Q133=\"\",\"\",IF(T133=0,0,IF(S133=\"EGDE\",R133/T133,R133/INDEX(R:R,MATCH(\"EGDE\",S:S,FALSE)) *INDEX($F$29:$F$38,MATCH(\"EGDE\",$C$29:$C$38,FALSE))/T133)))","v":""},"","",null,null,null,null,"After MeP",{"$f":"IF(Z133=\"\",\"\",IF(OR(AB133=\"Solvent\",AB133=\"After MeP\"),0,IF(AB133=\"\",INDEX(RRFs!E:E,MATCH(\"Triglyme\",RRFs!B:B,FALSE)),INDEX(RRFs!E:E,MATCH(AB133,RRFs!B:B,FALSE)))))","v":""},{"$f":"IF(Z133=\"\",\"\",IF(AC133=0,0,IF(AB133=\"EGDE\",AA133/AC133,AA133/INDEX(AA:AA,MATCH(\"EGDE\",AB:AB,FALSE)) *INDEX($F$29:$F$38,MATCH(\"EGDE\",$C$29:$C$38,FALSE))/AC133)))","v":""},"",""]
[null,null,null,null,null,null,null,null,null,null,null,null,null,null,null,null,null,null,{"$f":"IF(Q134>=$E$41,\"After MeP\",\"\")","v":"After MeP"},{"$f":"IF(Q134=\"\",\"\",IF(OR(S134=\"Solvent\",S134=\"After MeP\"),0,IF(S134=\"\",INDEX(RRFs!E:E,MATCH(\"Triglyme\",RRFs!B:B,FALSE)),INDEX(RRFs!E:E,MATCH(S134,RRFs!B:B,FALSE)))))","v":""},"",{"$f":"IF(Q134=\"\",\"\",IF(OR(S134=\"Heptane\",S134=\"IPA\",S134=\"Triglyme\",S134=\"DIIBA\",S134=\"EGDE\"),\"\",U134*($D$26/(LARGE($F$16:$F$21,1)*($E$32-$E$31)))*$D$4))","v":""},{"$f":"IF(V134=\"\",\"\",IF(AND(V134>1,S134=\"\"),\"Yes\",\"\"))","v":""},null,null,null,null,"After MeP",{"$f":"IF(Z134=\"\",\"\",IF(OR(AB134=\"Solvent\",AB134=\"After MeP\"),0,IF(AB134=\"\",INDEX(RRFs!E:E,MATCH(\"Triglyme\",RRFs!B:B,FALSE)),INDEX(RRFs!E:E,MATCH(AB134,RRFs!B:B,FALSE)))))","v":""},"",{"$f":"IF(Z134=\"\",\"\",IF(OR(AB134=\"Heptane\",AB134=\"IPA\",AB134=\"Triglyme\",AB134=\"DIIBA\",AB134=\"EGDE\"),\"\",AD134*($D$26/((LARGE($F$16:$F$21,1)*($E$32-$E$31)))*$D$4)))","v":""},{"$f":"IF(AE134=\"\",\"\",IF(AND(AE134>1,AB134=\"\"),\"Yes\",\"\"))","v":""}]
[null,null,null,null,null,null,null,null,null,null,null,null,null,null,null,null,null,null,"After MeP",{"$f":"IF(Q135=\"\",\"\",IF(OR(S135=\"Solvent\",S135=\"After MeP\"),0,IF(S135=\"\",INDEX(RRFs!E:E,MATCH(\"Triglyme\",RRFs!B:B,FALSE)),INDEX(RRFs!E:E,MATCH(S135,RRFs!B:B,FALSE)))))","v":""},"","","",null,null,null,null,"After MeP",{"$f":"IF(Z135=\"\",\"\",IF(OR(AB135=\"Solvent\",AB135=\"After MeP\"),0,IF(AB135=\"\",INDEX(RRFs!E:E,MATCH(\"Triglyme\",RRFs!B:B,FALSE)),INDEX(RRFs!E:E,MATCH(AB135,RRFs!B:B,FALSE)))))","v":""},"","",""]
[null,null,null,null,null,null,null,null,null,null,null,null,null,null,null,null,null,null,"After MeP",{"$f":"IF(Q136=\"\",\"\",IF(OR(S136=\"Solvent\",S136=\"After MeP\"),0,IF(S136=\"\",INDEX(RRFs!E:E,MATCH(\"Triglyme\",RRFs!B:B,FALSE)),INDEX(RRFs!E:E,MATCH(S136,RRFs!B:B,FALSE)))))","v":""},"","","",null,null,null,null,"After MeP",{"$f":"IF(Z136=\"\",\"\",IF(OR(AB136=\"Solvent\",AB136=\"After MeP\"),0,IF(AB136=\"\",INDEX(RRFs!E:E,MATCH(\"Triglyme\",RRFs!B:B,FALSE)),INDEX(RRFs!E:E,MATCH(AB136,RRFs!B:B,FALSE)))))","v":""},"","",""]
[null,null,null,null,null,null,null,null,null,null,null,null,null,null,null,null,null,null,"After MeP",{"$f":"IF(Q137=\"\",\"\",IF(OR(S137=\"Solvent\",S137=\"After MeP\"),0,IF(S137=\"\",INDEX(RRFs!E:E,MATCH(\"Triglyme\",RRFs!B:B,FALSE)),INDEX(RRFs!E:E,MATCH(S137,RRFs!B:B,FALSE)))))","v":""},"","","",null,null,null,null,"After MeP",{"$f":"IF(Z137=\"\",\"\",IF(OR(AB137=\"Solvent\",AB137=\"After MeP\"),0,IF(AB137=\"\",INDEX(RRFs!E:E,MATCH(\"Triglyme\",RRFs!B:B,FALSE)),INDEX(RRFs!E:E,MATCH(AB137,RRFs!B:B,FALSE)))))","v":""},"","",""]
[null,null,null,null,null,null,null,null,null,null,null,null,null,null,null,null,null,null,"After MeP",{"$f":"IF(Q138=\"\",\"\",IF(OR(S138=\"Solvent\",S138=\"After MeP\"),0,IF(S138=\"\",INDEX(RRFs!E:E,MATCH(\"Triglyme\",RRFs!B:B,FALSE)),INDEX(RRFs!E:E,MATCH(S138,RRFs!B:B,FALSE)))))","v":""},"","","",null,null,null,null,"After MeP",{"$f":"IF(Z138=\"\",\"\",IF(OR(AB138=\"Solvent\",AB138=\"After MeP\"),0,IF(AB138=\"\",INDEX(RRFs!E:E,MATCH(\"Triglyme\",RRFs!B:B,FALSE)),INDEX(RRFs!E:E,MATCH(AB138,RRFs!B:B,FALSE)))))","v":""},"","",""]
[null,null,null,null,null,null,null,null,null,null,null,null,null,null,null,null,null,null,"After MeP",{"$f":"IF(Q139=\"\",\"\",IF(OR(S139=\"Solvent\",S139=\"After MeP\"),0,IF(S139=\"\",INDEX(RRFs!E:E,MATCH(\"Triglyme\",RRFs!B:B,FALSE)),INDEX(RRFs!E:E,MATCH(S139,RRFs!B:B,FALSE)))))","v":""},"","","",null,null,null,null,"After MeP",{"$f":"IF(Z139=\"\",\"\",IF(OR(AB139=\"Solvent\",AB139=\"After MeP\"),0,IF(AB139=\"\",INDEX(RRFs!E:E,MATCH(\"Triglyme\",RRFs!B:B,FALSE)),INDEX(RRFs!E:E,MATCH(AB139,RRFs!B:B,FALSE)))))","v":""},"","",""]
[null,null,null,null,null,null,null,null,null,null,null,null,null,null,null,null,null,null,"After MeP",{"$f":"IF(Q140=\"\",\"\",IF(OR(S140=\"Solvent\",S140=\"After MeP\"),0,IF(S140=\"\",INDEX(RRFs!E:E,MATCH(\"Triglyme\",RRFs!B:B,FALSE)),INDEX(RRFs!E:E,MATCH(S140,RRFs!B:B,FALSE)))))","v":""},"","","",null,null,null,null,"After MeP",{"$f":"IF(Z140=\"\",\"\",IF(OR(AB140=\"Solvent\",AB140=\"After MeP\"),0,IF(AB140=\"\",INDEX(RRFs!E:E,MATCH(\"Triglyme\",RRFs!B:B,FALSE)),INDEX(RRFs!E:E,MATCH(AB140,RRFs!B:B,FALSE)))))","v":""},"","",""]
[null,null,null,null,null,null,null,null,null,null,null,null,null,null,null,null,null,null,"After MeP",{"$f":"IF(Q141=\"\",\"\",IF(OR(S141=\"Solvent\",S141=\"After MeP\"),0,IF(S141=\"\",INDEX(RRFs!E:E,MATCH(\"Triglyme\",RRFs!B:B,FALSE)),INDEX(RRFs!E:E,MATCH(S141,RRFs!B:B,FALSE)))))","v":""},"","","",null,null,null,null,"After MeP",{"$f":"IF(Z141=\"\",\"\",IF(OR(AB141=\"Solvent\",AB141=\"After MeP\"),0,IF(AB141=\"\",INDEX(RRFs!E:E,MATCH(\"Triglyme\",RRFs!B:B,FALSE)),INDEX(RRFs!E:E,MATCH(AB141,RRFs!B:B,FALSE)))))","v":""},"","",""]
[null,null,null,null,null,null,null,null,null,null,null,null,null,null,null,null,null,null,"After MeP",{"$f":"IF(Q142=\"\",\"\",IF(OR(S142=\"Solvent\",S142=\"After MeP\"),0,IF(S142=\"\",INDEX(RRFs!E:E,MATCH(\"Triglyme\",RRFs!B:B,FALSE)),INDEX(RRFs!E:E,MATCH(S142,RRFs!B:B,FALSE)))))","v":""},"","","",null,null,null,null,"After MeP",{"$f":"IF(Z142=\"\",\"\",IF(OR(AB142=\"Solvent\",AB142=\"After MeP\"),0,IF(AB142=\"\",INDEX(RRFs!E:E,MATCH(\"Triglyme\",RRFs!B:B,FALSE)),INDEX(RRFs!E:E,MATCH(AB142,RRFs!B:B,FALSE)))))","v":""},"","",""]
[null,null,null,null,null,null,null,null,null,null,null,null,null,null,null,null,null,null,"After MeP",{"$f":"IF(Q143=\"\",\"\",IF(OR(S143=\"Solvent\",S143=\"After MeP\"),0,IF(S143=\"\",INDEX(RRFs!E:E,MATCH(\"Triglyme\",RRFs!B:B,FALSE)),INDEX(RRFs!E:E,MATCH(S143,RRFs!B:B,FALSE)))))","v":""},"","","",null,null,null,null,"After MeP",{"$f":"IF(Z143=\"\",\"\",IF(OR(AB143=\"Solvent\",AB143=\"After MeP\"),0,IF(AB143=\"\",INDEX(RRFs!E:E,MATCH(\"Triglyme\",RRFs!B:B,FALSE)),INDEX(RRFs!E:E,MATCH(AB143,RRFs!B:B,FALSE)))))","v":""},"","",""]
[null,null,null,null,null,null,null,null,null,null,null,null,null,null,null,null,null,null,"After MeP",{"$f":"IF(Q144=\"\",\"\",IF(OR(S144=\"Solvent\",S144=\"After MeP\"),0,IF(S144=\"\",INDEX(RRFs!E:E,MATCH(\"Triglyme\",RRFs!B:B,FALSE)),INDEX(RRFs!E:E,MATCH(S144,RRFs!B:B,FALSE)))))","v":""},"","","",null,null,null,null,"After MeP",{"$f":"IF(Z144=\"\",\"\",IF(OR(AB144=\"Solvent\",AB144=\"After MeP\"),0,IF(AB144=\"\",INDEX(RRFs!E:E,MATCH(\"Triglyme\",RRFs!B:B,FALSE)),INDEX(RRFs!E:E,MATCH(AB144,RRFs!B:B,FALSE)))))","v":""},"","",""]
[null,null,null,null,null,null,null,null,null,null,null,null,null,null,null,null,null,null,"After MeP",{"$f":"IF(Q145=\"\",\"\",IF(OR(S145=\"Solvent\",S145=\"After MeP\"),0,IF(S145=\"\",INDEX(RRFs!E:E,MATCH(\"Triglyme\",RRFs!B:B,FALSE)),INDEX(RRFs!E:E,MATCH(S145,RRFs!B:B,FALSE)))))","v":""},"","","",null,null,null,null,"After MeP",{"$f":"IF(Z145=\"\",\"\",IF(OR(AB145=\"Solvent\",AB145=\"After MeP\"),0,IF(AB145=\"\",INDEX(RRFs!E:E,MATCH(\"Triglyme\",RRFs!B:B,FALSE)),INDEX(RRFs!E:E,MATCH(AB145,RRFs!B:B,FALSE)))))","v":""},"","",""]
[null,null,null,null,null,null,null,null,null,null,null,null,null,null,null,null,null,null,"After MeP",{"$f":"IF(Q146=\"\",\"\",IF(OR(S146=\"Solvent\",S146=\"After MeP\"),0,IF(S146=\"\",INDEX(RRFs!E:E,MATCH(\"Triglyme\",RRFs!B:B,FALSE)),INDEX(RRFs!E:E,MATCH(S146,RRFs!B:B,FALSE)))))","v":""},"","","",null,null,null,null,"After MeP",{"$f":"IF(Z146=\"\",\"\",IF(OR(AB146=\"Solvent\",AB146=\"After MeP\"),0,IF(AB146=\"\",INDEX(RRFs!E:E,MATCH(\"Triglyme\",RRFs!B:B,FALSE)),INDEX(RRFs!E:E,MATCH(AB146,RRFs!B:B,FALSE)))))","v":""},"","",""]
[null,null,null,null,null,null,null,null,null,null,null,null,null,null,null,null,null,null,"After MeP",{"$f":"IF(Q147=\"\",\"\",IF(OR(S147=\"Solvent\",S147=\"After MeP\"),0,IF(S147=\"\",INDEX(RRFs!E:E,MATCH(\"Triglyme\",RRFs!B:B,FALSE)),INDEX(RRFs!E:E,MATCH(S147,RRFs!B:B,FALSE)))))","v":""},"","","",null,null,null,null,"After MeP",{"$f":"IF(Z147=\"\",\"\",IF(OR(AB147=\"Solvent\",AB147=\"After MeP\"),0,IF(AB147=\"\",INDEX(RRFs!E:E,MATCH(\"Triglyme\",RRFs!B:B,FALSE)),INDEX(RRFs!E:E,MATCH(AB147,RRFs!B:B,FALSE)))))","v":""},"","",""]
[null,null,null,null,null,null,null,null,null,null,null,null,null,null,null,null,null,null,"After MeP",{"$f":"IF(Q148=\"\",\"\",IF(OR(S148=\"Solvent\",S148=\"After MeP\"),0,IF(S148=\"\",INDEX(RRFs!E:E,MATCH(\"Triglyme\",RRFs!B:B,FALSE)),INDEX(RRFs!E:E,MATCH(S148,RRFs!B:B,FALSE)))))","v":""},"","","",null,null,null,null,"After MeP",{"$f":"IF(Z148=\"\",\"\",IF(OR(AB148=\"Solvent\",AB148=\"After MeP\"),0,IF(AB148=\"\",INDEX(RRFs!E:E,MATCH(\"Triglyme\",RRFs!B:B,FALSE)),INDEX(RRFs!E:E,MATCH(AB148,RRFs!B:B,FALSE)))))","v":""},"","",""]
[null,null,null,null,null,null,null,null,null,null,null,null,null,null,null,null,null,null,"After MeP",{"$f":"IF(Q149=\"\",\"\",IF(OR(S149=\"Solvent\",S149=\"After MeP\"),0,IF(S149=\"\",INDEX(RRFs!E:E,MATCH(\"Triglyme\",RRFs!B:B,FALSE)),INDEX(RRFs!E:E,MATCH(S149,RRFs!B:B,FALSE)))))","v":""},"","","",null,null,null,null,"After MeP",{"$f":"IF(Z149=\"\",\"\",IF(OR(AB149=\"Solvent\",AB149=\"After MeP\"),0,IF(AB149=\"\",INDEX(RRFs!E:E,MATCH(\"Triglyme\",RRFs!B:B,FALSE)),INDEX(RRFs!E:E,MATCH(AB149,RRFs!B:B,FALSE)))))","v":""},"","",""]
[null,null,null,null,null,null,null,null,null,null,null,null,null,null,null,null,null,null,"After MeP",{"$f":"IF(Q150=\"\",\"\",IF(OR(S150=\"Solvent\",S150=\"After MeP\"),0,IF(S150=\"\",INDEX(RRFs!E:E,MATCH(\"Triglyme\",RRFs!B:B,FALSE)),INDEX(RRFs!E:E,MATCH(S150,RRFs!B:B,FALSE)))))","v":""},"","","",null,null,null,null,"After MeP",{"$f":"IF(Z150=\"\",\"\",IF(OR(AB150=\"Solvent\",AB150=\"After MeP\"),0,IF(AB150=\"\",INDEX(RRFs!E:E,MATCH(\"Triglyme\",RRFs!B:B,FALSE)),INDEX(RRFs!E:E,MATCH(AB150,RRFs!B:B,FALSE)))))","v":""},"","",""]
[null,null,null,null,null,null,null,null,null,null,null,null,null,null,null,null,null,null,"After MeP",{"$f":"IF(Q151=\"\",\"\",IF(OR(S151=\"Solvent\",S151=\"After MeP\"),0,IF(S151=\"\",INDEX(RRFs!E:E,MATCH(\"Triglyme\",RRFs!B:B,FALSE)),INDEX(RRFs!E:E,MATCH(S151,RRFs!B:B,FALSE)))))","v":""},"","","",null,null,null,null,"After MeP",{"$f":"IF(Z151=\"\",\"\",IF(OR(AB151=\"Solvent\",AB151=\"After MeP\"),0,IF(AB151=\"\",INDEX(RRFs!E:E,MATCH(\"Triglyme\",RRFs!B:B,FALSE)),INDEX(RRFs!E:E,MATCH(AB151,RRFs!B:B,FALSE)))))","v":""},"","",""]
[null,null,null,null,null,null,null,null,null,null,null,null,null,null,null,null,null,null,"After MeP",{"$f":"IF(Q152=\"\",\"\",IF(OR(S152=\"Solvent\",S152=\"After MeP\"),0,IF(S152=\"\",INDEX(RRFs!E:E,MATCH(\"Triglyme\",RRFs!B:B,FALSE)),INDEX(RRFs!E:E,MATCH(S152,RRFs!B:B,FALSE)))))","v":""},"","","",null,null,null,null,"After MeP",{"$f":"IF(Z152=\"\",\"\",IF(OR(AB152=\"Solvent\",AB152=\"After MeP\"),0,IF(AB152=\"\",INDEX(RRFs!E:E,MATCH(\"Triglyme\",RRFs!B:B,FALSE)),INDEX(RRFs!E:E,MATCH(AB152,RRFs!B:B,FALSE)))))","v":""},"","",""]
[null,null,null,null,null,null,null,null,null,null,null,null,null,null,null,null,null,null,"After MeP",{"$f":"IF(Q153=\"\",\"\",IF(OR(S153=\"Solvent\",S153=\"After MeP\"),0,IF(S153=\"\",INDEX(RRFs!E:E,MATCH(\"Triglyme\",RRFs!B:B,FALSE)),INDEX(RRFs!E:E,MATCH(S153,RRFs!B:B,FALSE)))))","v":""},"","","",null,null,null,null,"After MeP",{"$f":"IF(Z153=\"\",\"\",IF(OR(AB153=\"Solvent\",AB153=\"After MeP\"),0,IF(AB153=\"\",INDEX(RRFs!E:E,MATCH(\"Triglyme\",RRFs!B:B,FALSE)),INDEX(RRFs!E:E,MATCH(AB153,RRFs!B:B,FALSE)))))","v":""},"","",""]
[null,null,null,null,null,null,null,null,null,null,null,null,null,null,null,null,null,null,"After MeP",{"$f":"IF(Q154=\"\",\"\",IF(OR(S154=\"Solvent\",S154=\"After MeP\"),0,IF(S154=\"\",INDEX(RRFs!E:E,MATCH(\"Triglyme\",RRFs!B:B,FALSE)),INDEX(RRFs!E:E,MATCH(S154,RRFs!B:B,FALSE)))))","v":""},"","","",null,null,null,null,"After MeP",{"$f":"IF(Z154=\"\",\"\",IF(OR(AB154=\"Solvent\",AB154=\"After MeP\"),0,IF(AB154=\"\",INDEX(RRFs!E:E,MATCH(\"Triglyme\",RRFs!B:B,FALSE)),INDEX(RRFs!E:E,MATCH(AB154,RRFs!B:B,FALSE)))))","v":""},"","",""]
[null,null,null,null,null,null,null,null,null,null,null,null,null,null,null,null,null,null,"After MeP",{"$f":"IF(Q155=\"\",\"\",IF(OR(S155=\"Solvent\",S155=\"After MeP\"),0,IF(S155=\"\",INDEX(RRFs!E:E,MATCH(\"Triglyme\",RRFs!B:B,FALSE)),INDEX(RRFs!E:E,MATCH(S155,RRFs!B:B,FALSE)))))","v":""},"","","",null,null,null,null,"After MeP",{"$f":"IF(Z155=\"\",\"\",IF(OR(AB155=\"Solvent\",AB155=\"After MeP\"),0,IF(AB155=\"\",INDEX(RRFs!E:E,MATCH(\"Triglyme\",RRFs!B:B,FALSE)),INDEX(RRFs!E:E,MATCH(AB155,RRFs!B:B,FALSE)))))","v":""},"","",""]
[null,null,null,null,null,null,null,null,null,null,null,null,null,null,null,null,null,null,"After MeP",{"$f":"IF(Q156=\"\",\"\",IF(OR(S156=\"Solvent\",S156=\"After MeP\"),0,IF(S156=\"\",INDEX(RRFs!E:E,MATCH(\"Triglyme\",RRFs!B:B,FALSE)),INDEX(RRFs!E:E,MATCH(S156,RRFs!B:B,FALSE)))))","v":""},"","","",null,null,null,null,"After MeP",{"$f":"IF(Z156=\"\",\"\",IF(OR(AB156=\"Solvent\",AB156=\"After MeP\"),0,IF(AB156=\"\",INDEX(RRFs!E:E,MATCH(\"Triglyme\",RRFs!B:B,FALSE)),INDEX(RRFs!E:E,MATCH(AB156,RRFs!B:B,FALSE)))))","v":""},"","",""]
[null,null,null,null,null,null,null,null,null,null,null,null,null,null,null,null,null,null,"After MeP",{"$f":"IF(Q157=\"\",\"\",IF(OR(S157=\"Solvent\",S157=\"After MeP\"),0,IF(S157=\"\",INDEX(RRFs!E:E,MATCH(\"Triglyme\",RRFs!B:B,FALSE)),INDEX(RRFs!E:E,MATCH(S157,RRFs!B:B,FALSE)))))","v":""},"","","",null,null,null,null,"After MeP",{"$f":"IF(Z157=\"\",\"\",IF(OR(AB157=\"Solvent\",AB157=\"After MeP\"),0,IF(AB157=\"\",INDEX(RRFs!E:E,MATCH(\"Triglyme\",RRFs!B:B,FALSE)),INDEX(RRFs!E:E,MATCH(AB157,RRFs!B:B,FALSE)))))","v":""},"","",""]
[null,null,null,null,null,null,null,null,null,null,null,null,null,null,null,null,null,null,"After MeP",{"$f":"IF(Q158=\"\",\"\",IF(OR(S158=\"Solvent\",S158=\"After MeP\"),0,IF(S158=\"\",INDEX(RRFs!E:E,MATCH(\"Triglyme\",RRFs!B:B,FALSE)),INDEX(RRFs!E:E,MATCH(S158,RRFs!B:B,FALSE)))))","v":""},"","","",null,null,null,null,"After MeP",{"$f":"IF(Z158=\"\",\"\",IF(OR(AB158=\"Solvent\",AB158=\"After MeP\"),0,IF(AB158=\"\",INDEX(RRFs!E:E,MATCH(\"Triglyme\",RRFs!B:B,FALSE)),INDEX(RRFs!E:E,MATCH(AB158,RRFs!B:B,FALSE)))))","v":""},"","",""]
[null,null,null,null,null,null,null,null,null,null,null,null,null,null,null,null,null,null,"After MeP",{"$f":"IF(Q159=\"\",\"\",IF(OR(S159=\"Solvent\",S159=\"After MeP\"),0,IF(S159=\"\",INDEX(RRFs!E:E,MATCH(\"Triglyme\",RRFs!B:B,FALSE)),INDEX(RRFs!E:E,MATCH(S159,RRFs!B:B,FALSE)))))","v":""},"","","",null,null,null,null,"After MeP",{"$f":"IF(Z159=\"\",\"\",IF(OR(AB159=\"Solvent\",AB159=\"After MeP\"),0,IF(AB159=\"\",INDEX(RRFs!E:E,MATCH(\"Triglyme\",RRFs!B:B,FALSE)),INDEX(RRFs!E:E,MATCH(AB159,RRFs!B:B,FALSE)))))","v":""},"","",""]
[null,null,null,null,null,null,null,null,null,null,null,null,null,null,null,null,null,null,"After MeP",{"$f":"IF(Q160=\"\",\"\",IF(OR(S160=\"Solvent\",S160=\"After MeP\"),0,IF(S160=\"\",INDEX(RRFs!E:E,MATCH(\"Triglyme\",RRFs!B:B,FALSE)),INDEX(RRFs!E:E,MATCH(S160,RRFs!B:B,FALSE)))))","v":""},"","","",null,null,null,null,"After MeP",{"$f":"IF(Z160=\"\",\"\",IF(OR(AB160=\"Solvent\",AB160=\"After MeP\"),0,IF(AB160=\"\",INDEX(RRFs!E:E,MATCH(\"Triglyme\",RRFs!B:B,FALSE)),INDEX(RRFs!E:E,MATCH(AB160,RRFs!B:B,FALSE)))))","v":""},"","",""]
[null,null,null,null,null,null,null,null,null,null,null,null,null,null,null,null,null,null,"After MeP",{"$f":"IF(Q161=\"\",\"\",IF(OR(S161=\"Solvent\",S161=\"After MeP\"),0,IF(S161=\"\",INDEX(RRFs!E:E,MATCH(\"Triglyme\",RRFs!B:B,FALSE)),INDEX(RRFs!E:E,MATCH(S161,RRFs!B:B,FALSE)))))","v":""},"","","",null,null,null,null,"After MeP",{"$f":"IF(Z161=\"\",\"\",IF(OR(AB161=\"Solvent\",AB161=\"After MeP\"),0,IF(AB161=\"\",INDEX(RRFs!E:E,MATCH(\"Triglyme\",RRFs!B:B,FALSE)),INDEX(RRFs!E:E,MATCH(AB161,RRFs!B:B,FALSE)))))","v":""},"","",""]
[null,null,null,null,null,null,null,null,null,null,null,null,null,null,null,null,null,null,"After MeP",{"$f":"IF(Q162=\"\",\"\",IF(OR(S162=\"Solvent\",S162=\"After MeP\"),0,IF(S162=\"\",INDEX(RRFs!E:E,MATCH(\"Triglyme\",RRFs!B:B,FALSE)),INDEX(RRFs!E:E,MATCH(S162,RRFs!B:B,FALSE)))))","v":""},"","","",null,null,null,null,"After MeP",{"$f":"IF(Z162=\"\",\"\",IF(OR(AB162=\"Solvent\",AB162=\"After MeP\"),0,IF(AB162=\"\",INDEX(RRFs!E:E,MATCH(\"Triglyme\",RRFs!B:B,FALSE)),INDEX(RRFs!E:E,MATCH(AB162,RRFs!B:B,FALSE)))))","v":""},"","",""]
[null,null,null,null,null,null,null,null,null,null,null,null,null,null,null,null,null,null,"After MeP",{"$f":"IF(Q163=\"\",\"\",IF(OR(S163=\"Solvent\",S163=\"After MeP\"),0,IF(S163=\"\",INDEX(RRFs!E:E,MATCH(\"Triglyme\",RRFs!B:B,FALSE)),INDEX(RRFs!E:E,MATCH(S163,RRFs!B:B,FALSE)))))","v":""},"","","",null,null,null,null,"After MeP",{"$f":"IF(Z163=\"\",\"\",IF(OR(AB163=\"Solvent\",AB163=\"After MeP\"),0,IF(AB163=\"\",INDEX(RRFs!E:E,MATCH(\"Triglyme\",RRFs!B:B,FALSE)),INDEX(RRFs!E:E,MATCH(AB163,RRFs!B:B,FALSE)))))","v":""},"","",""]
[null,null,null,null,null,null,null,null,null,null,null,null,null,null,null,null,null,null,"After MeP",{"$f":"IF(Q164=\"\",\"\",IF(OR(S164=\"Solvent\",S164=\"After MeP\"),0,IF(S164=\"\",INDEX(RRFs!E:E,MATCH(\"Triglyme\",RRFs!B:B,FALSE)),INDEX(RRFs!E:E,MATCH(S164,RRFs!B:B,FALSE)))))","v":""},"","","",null,null,null,null,"After MeP",{"$f":"IF(Z164=\"\",\"\",IF(OR(AB164=\"Solvent\",AB164=\"After MeP\"),0,IF(AB164=\"\",INDEX(RRFs!E:E,MATCH(\"Triglyme\",RRFs!B:B,FALSE)),INDEX(RRFs!E:E,MATCH(AB164,RRFs!B:B,FALSE)))))","v":""},"","",""]
[null,null,null,null,null,null,null,null,null,null,null,null,null,null,null,null,null,null,"After MeP",{"$f":"IF(Q165=\"\",\"\",IF(OR(S165=\"Solvent\",S165=\"After MeP\"),0,IF(S165=\"\",INDEX(RRFs!E:E,MATCH(\"Triglyme\",RRFs!B:B,FALSE)),INDEX(RRFs!E:E,MATCH(S165,RRFs!B:B,FALSE)))))","v":""},{"$f":"IF(Q165=\"\",\"\",IF(T165=0,0,IF(S165=\"EGDE\",R165/T165,R165/INDEX(R:R,MATCH(\"EGDE\",S:S,FALSE)) *INDEX($F$29:$F$38,MATCH(\"EGDE\",$C$29:$C$38,FALSE))/T165)))","v":""},"","",null,null,null,null,"After MeP",{"$f":"IF(Z165=\"\",\"\",IF(OR(AB165=\"Solvent\",AB165=\"After MeP\"),0,IF(AB165=\"\",INDEX(RRFs!E:E,MATCH(\"Triglyme\",RRFs!B:B,FALSE)),INDEX(RRFs!E:E,MATCH(AB165,RRFs!B:B,FALSE)))))","v":""},{"$f":"IF(Z165=\"\",\"\",IF(AC165=0,0,IF(AB165=\"EGDE\",AA165/AC165,AA165/INDEX(AA:AA,MATCH(\"EGDE\",AB:AB,FALSE)) *INDEX($F$29:$F$38,MATCH(\"EGDE\",$C$29:$C$38,FALSE))/AC165)))","v":""},"",""]
[null,null,null,null,null,null,null,null,null,null,null,null,null,null,null,null,null,null,"After MeP",{"$f":"IF(Q166=\"\",\"\",IF(OR(S166=\"Solvent\",S166=\"After MeP\"),0,IF(S166=\"\",INDEX(RRFs!E:E,MATCH(\"Triglyme\",RRFs!B:B,FALSE)),INDEX(RRFs!E:E,MATCH(S166,RRFs!B:B,FALSE)))))","v":""},"","","",null,null,null,null,"After MeP",{"$f":"IF(Z166=\"\",\"\",IF(OR(AB166=\"Solvent\",AB166=\"After MeP\"),0,IF(AB166=\"\",INDEX(RRFs!E:E,MATCH(\"Triglyme\",RRFs!B:B,FALSE)),INDEX(RRFs!E:E,MATCH(AB166,RRFs!B:B,FALSE)))))","v":""},"","",""]
[null,null,null,null,null,null,null,null,null,null,null,null,null,null,null,null,null,null,"After MeP",{"$f":"IF(Q167=\"\",\"\",IF(OR(S167=\"Solvent\",S167=\"After MeP\"),0,IF(S167=\"\",INDEX(RRFs!E:E,MATCH(\"Triglyme\",RRFs!B:B,FALSE)),INDEX(RRFs!E:E,MATCH(S167,RRFs!B:B,FALSE)))))","v":""},"","","",null,null,null,null,"After MeP",{"$f":"IF(Z167=\"\",\"\",IF(OR(AB167=\"Solvent\",AB167=\"After MeP\"),0,IF(AB167=\"\",INDEX(RRFs!E:E,MATCH(\"Triglyme\",RRFs!B:B,FALSE)),INDEX(RRFs!E:E,MATCH(AB167,RRFs!B:B,FALSE)))))","v":""},"","",""]
[null,null,null,null,null,null,null,null,null,null,null,null,null,null,null,null,null,null,"After MeP",{"$f":"IF(Q168=\"\",\"\",IF(OR(S168=\"Solvent\",S168=\"After MeP\"),0,IF(S168=\"\",INDEX(RRFs!E:E,MATCH(\"Triglyme\",RRFs!B:B,FALSE)),INDEX(RRFs!E:E,MATCH(S168,RRFs!B:B,FALSE)))))","v":""},"","","",null,null,null,null,"After MeP",{"$f":"IF(Z168=\"\",\"\",IF(OR(AB168=\"Solvent\",AB168=\"After MeP\"),0,IF(AB168=\"\",INDEX(RRFs!E:E,MATCH(\"Triglyme\",RRFs!B:B,FALSE)),INDEX(RRFs!E:E,MATCH(AB168,RRFs!B:B,FALSE)))))","v":""},"","",""]
[null,null,null,null,null,null,null,null,null,null,null,null,null,null,null,null,null,null,"After MeP",{"$f":"IF(Q169=\"\",\"\",IF(OR(S169=\"Solvent\",S169=\"After MeP\"),0,IF(S169=\"\",INDEX(RRFs!E:E,MATCH(\"Triglyme\",RRFs!B:B,FALSE)),INDEX(RRFs!E:E,MATCH(S169,RRFs!B:B,FALSE)))))","v":""},"","","",null,null,null,null,"After MeP",{"$f":"IF(Z169=\"\",\"\",IF(OR(AB169=\"Solvent\",AB169=\"After MeP\"),0,IF(AB169=\"\",INDEX(RRFs!E:E,MATCH(\"Triglyme\",RRFs!B:B,FALSE)),INDEX(RRFs!E:E,MATCH(AB169,RRFs!B:B,FALSE)))))","v":""},"","",""]
[null,null,null,null,null,null,null,null,null,null,null,null,null,null,null,null,null,null,"After MeP",{"$f":"IF(Q170=\"\",\"\",IF(OR(S170=\"Solvent\",S170=\"After MeP\"),0,IF(S170=\"\",INDEX(RRFs!E:E,MATCH(\"Triglyme\",RRFs!B:B,FALSE)),INDEX(RRFs!E:E,MATCH(S170,RRFs!B:B,FALSE)))))","v":""},"","","",null,null,null,null,"After MeP",{"$f":"IF(Z170=\"\",\"\",IF(OR(AB170=\"Solvent\",AB170=\"After MeP\"),0,IF(AB170=\"\",INDEX(RRFs!E:E,MATCH(\"Triglyme\",RRFs!B:B,FALSE)),INDEX(RRFs!E:E,MATCH(AB170,RRFs!B:B,FALSE)))))","v":""},"","",""]
[null,null,null,null,null,null,null,null,null,null,null,null,null,null,null,null,null,null,"After MeP",{"$f":"IF(Q171=\"\",\"\",IF(OR(S171=\"Solvent\",S171=\"After MeP\"),0,IF(S171=\"\",INDEX(RRFs!E:E,MATCH(\"Triglyme\",RRFs!B:B,FALSE)),INDEX(RRFs!E:E,MATCH(S171,RRFs!B:B,FALSE)))))","v":""},"","","",null,null,null,null,{"$f":"IF(Z171>=$E$41,\"After MeP\",\"\")","v":"After MeP"},{"$f":"IF(Z171=\"\",\"\",IF(OR(AB171=\"Solvent\",AB171=\"After MeP\"),0,IF(AB171=\"\",INDEX(RRFs!E:E,MATCH(\"Triglyme\",RRFs!B:B,FALSE)),INDEX(RRFs!E:E,MATCH(AB171,RRFs!B:B,FALSE)))))","v":""},"","",""]
[null,null,null,null,null,null,null,null,null,null,null,null,null,null,null,null,null,null,"After MeP",{"$f":"IF(Q172=\"\",\"\",IF(OR(S172=\"Solvent\",S172=\"After MeP\"),0,IF(S172=\"\",INDEX(RRFs!E:E,MATCH(\"Triglyme\",RRFs!B:B,FALSE)),INDEX(RRFs!E:E,MATCH(S172,RRFs!B:B,FALSE)))))","v":""},"","","",null,null,null,null,"After MeP",{"$f":"IF(Z172=\"\",\"\",IF(OR(AB172=\"Solvent\",AB172=\"After MeP\"),0,IF(AB172=\"\",INDEX(RRFs!E:E,MATCH(\"Triglyme\",RRFs!B:B,FALSE)),INDEX(RRFs!E:E,MATCH(AB172,RRFs!B:B,FALSE)))))","v":""},"","",""]
[null,null,null,null,null,null,null,null,null,null,null,null,null,null,null,null,null,null,"After MeP",{"$f":"IF(Q173=\"\",\"\",IF(OR(S173=\"Solvent\",S173=\"After MeP\"),0,IF(S173=\"\",INDEX(RRFs!E:E,MATCH(\"Triglyme\",RRFs!B:B,FALSE)),INDEX(RRFs!E:E,MATCH(S173,RRFs!B:B,FALSE)))))","v":""},"","","",null,null,null,null,"After MeP",{"$f":"IF(Z173=\"\",\"\",IF(OR(AB173=\"Solvent\",AB173=\"After MeP\"),0,IF(AB173=\"\",INDEX(RRFs!E:E,MATCH(\"Triglyme\",RRFs!B:B,FALSE)),INDEX(RRFs!E:E,MATCH(AB173,RRFs!B:B,FALSE)))))","v":""},"","",""]
[null,null,null,null,null,null,null,null,null,null,null,null,null,null,null,null,null,null,"After MeP",{"$f":"IF(Q174=\"\",\"\",IF(OR(S174=\"Solvent\",S174=\"After MeP\"),0,IF(S174=\"\",INDEX(RRFs!E:E,MATCH(\"Triglyme\",RRFs!B:B,FALSE)),INDEX(RRFs!E:E,MATCH(S174,RRFs!B:B,FALSE)))))","v":""},"","","",null,null,null,null,"After MeP",{"$f":"IF(Z174=\"\",\"\",IF(OR(AB174=\"Solvent\",AB174=\"After MeP\"),0,IF(AB174=\"\",INDEX(RRFs!E:E,MATCH(\"Triglyme\",RRFs!B:B,FALSE)),INDEX(RRFs!E:E,MATCH(AB174,RRFs!B:B,FALSE)))))","v":""},"","",""]
[null,null,null,null,null,null,null,null,null,null,null,null,null,null,null,null,null,null,"After MeP",{"$f":"IF(Q175=\"\",\"\",IF(OR(S175=\"Solvent\",S175=\"After MeP\"),0,IF(S175=\"\",INDEX(RRFs!E:E,MATCH(\"Triglyme\",RRFs!B:B,FALSE)),INDEX(RRFs!E:E,MATCH(S175,RRFs!B:B,FALSE)))))","v":""},"","","",null,null,null,null,"After MeP",{"$f":"IF(Z175=\"\",\"\",IF(OR(AB175=\"Solvent\",AB175=\"After MeP\"),0,IF(AB175=\"\",INDEX(RRFs!E:E,MATCH(\"Triglyme\",RRFs!B:B,FALSE)),INDEX(RRFs!E:E,MATCH(AB175,RRFs!B:B,FALSE)))))","v":""},"","",""]
[null,null,null,null,null,null,null,null,null,null,null,null,null,null,null,null,null,null,"After MeP",{"$f":"IF(Q176=\"\",\"\",IF(OR(S176=\"Solvent\",S176=\"After MeP\"),0,IF(S176=\"\",INDEX(RRFs!E:E,MATCH(\"Triglyme\",RRFs!B:B,FALSE)),INDEX(RRFs!E:E,MATCH(S176,RRFs!B:B,FALSE)))))","v":""},"","","",null,null,null,null,"After MeP",{"$f":"IF(Z176=\"\",\"\",IF(OR(AB176=\"Solvent\",AB176=\"After MeP\"),0,IF(AB176=\"\",INDEX(RRFs!E:E,MATCH(\"Triglyme\",RRFs!B:B,FALSE)),INDEX(RRFs!E:E,MATCH(AB176,RRFs!B:B,FALSE)))))","v":""},"","",""]
[null,null,null,null,null,null,null,null,null,null,null,null,null,null,null,null,null,null,"After MeP",{"$f":"IF(Q177=\"\",\"\",IF(OR(S177=\"Solvent\",S177=\"After MeP\"),0,IF(S177=\"\",INDEX(RRFs!E:E,MATCH(\"Triglyme\",RRFs!B:B,FALSE)),INDEX(RRFs!E:E,MATCH(S177,RRFs!B:B,FALSE)))))","v":""},"","","",null,null,null,null,"After MeP",{"$f":"IF(Z177=\"\",\"\",IF(OR(AB177=\"Solvent\",AB177=\"After MeP\"),0,IF(AB177=\"\",INDEX(RRFs!E:E,MATCH(\"Triglyme\",RRFs!B:B,FALSE)),INDEX(RRFs!E:E,MATCH(AB177,RRFs!B:B,FALSE)))))","v":""},"","",""]
[null,null,null,null,null,null,null,null,null,null,null,null,null,null,null,null,null,null,"After MeP",{"$f":"IF(Q178=\"\",\"\",IF(OR(S178=\"Solvent\",S178=\"After MeP\"),0,IF(S178=\"\",INDEX(RRFs!E:E,MATCH(\"Triglyme\",RRFs!B:B,FALSE)),INDEX(RRFs!E:E,MATCH(S178,RRFs!B:B,FALSE)))))","v":""},"","","",null,null,null,null,"After MeP",{"$f":"IF(Z178=\"\",\"\",IF(OR(AB178=\"Solvent\",AB178=\"After MeP\"),0,IF(AB178=\"\",INDEX(RRFs!E:E,MATCH(\"Triglyme\",RRFs!B:B,FALSE)),INDEX(RRFs!E:E,MATCH(AB178,RRFs!B:B,FALSE)))))","v":""},"","",""]
[null,null,null,null,null,null,null,null,null,null,null,null,null,null,null,null,null,null,"After MeP",{"$f":"IF(Q179=\"\",\"\",IF(OR(S179=\"Solvent\",S179=\"After MeP\"),0,IF(S179=\"\",INDEX(RRFs!E:E,MATCH(\"Triglyme\",RRFs!B:B,FALSE)),INDEX(RRFs!E:E,MATCH(S179,RRFs!B:B,FALSE)))))","v":""},"","","",null,null,null,null,"After MeP",{"$f":"IF(Z179=\"\",\"\",IF(OR(AB179=\"Solvent\",AB179=\"After MeP\"),0,IF(AB179=\"\",INDEX(RRFs!E:E,MATCH(\"Triglyme\",RRFs!B:B,FALSE)),INDEX(RRFs!E:E,MATCH(AB179,RRFs!B:B,FALSE)))))","v":""},"","",""]
[null,null,null,null,null,null,null,null,null,null,null,null,null,null,null,null,null,null,"After MeP",{"$f":"IF(Q180=\"\",\"\",IF(OR(S180=\"Solvent\",S180=\"After MeP\"),0,IF(S180=\"\",INDEX(RRFs!E:E,MATCH(\"Triglyme\",RRFs!B:B,FALSE)),INDEX(RRFs!E:E,MATCH(S180,RRFs!B:B,FALSE)))))","v":""},"","","",null,null,null,null,"After MeP",{"$f":"IF(Z180=\"\",\"\",IF(OR(AB180=\"Solvent\",AB180=\"After MeP\"),0,IF(AB180=\"\",INDEX(RRFs!E:E,MATCH(\"Triglyme\",RRFs!B:B,FALSE)),INDEX(RRFs!E:E,MATCH(AB180,RRFs!B:B,FALSE)))))","v":""},"","",""]
[null,null,null,null,null,null,null,null,null,null,null,null,null,null,null,null,null,null,"After MeP",{"$f":"IF(Q181=\"\",\"\",IF(OR(S181=\"Solvent\",S181=\"After MeP\"),0,IF(S181=\"\",INDEX(RRFs!E:E,MATCH(\"Triglyme\",RRFs!B:B,FALSE)),INDEX(RRFs!E:E,MATCH(S181,RRFs!B:B,FALSE)))))","v":""},"","","",null,null,null,null,"After MeP",{"$f":"IF(Z181=\"\",\"\",IF(OR(AB181=\"Solvent\",AB181=\"After MeP\"),0,IF(AB181=\"\",INDEX(RRFs!E:E,MATCH(\"Triglyme\",RRFs!B:B,FALSE)),INDEX(RRFs!E:E,MATCH(AB181,RRFs!B:B,FALSE)))))","v":""},"","",""]
[null,null,null,null,null,null,null,null,null,null,null,null,null,null,null,null,null,null,"After MeP",{"$f":"IF(Q182=\"\",\"\",IF(OR(S182=\"Solvent\",S182=\"After MeP\"),0,IF(S182=\"\",INDEX(RRFs!E:E,MATCH(\"Triglyme\",RRFs!B:B,FALSE)),INDEX(RRFs!E:E,MATCH(S182,RRFs!B:B,FALSE)))))","v":""},"","","",null,null,null,null,"After MeP",{"$f":"IF(Z182=\"\",\"\",IF(OR(AB182=\"Solvent\",AB182=\"After MeP\"),0,IF(AB182=\"\",INDEX(RRFs!E:E,MATCH(\"Triglyme\",RRFs!B:B,FALSE)),INDEX(RRFs!E:E,MATCH(AB182,RRFs!B:B,FALSE)))))","v":""},"","",""]
[null,null,null,null,null,null,null,null,null,null,null,null,null,null,null,null,null,null,"After MeP",{"$f":"IF(Q183=\"\",\"\",IF(OR(S183=\"Solvent\",S183=\"After MeP\"),0,IF(S183=\"\",INDEX(RRFs!E:E,MATCH(\"Triglyme\",RRFs!B:B,FALSE)),INDEX(RRFs!E:E,MATCH(S183,RRFs!B:B,FALSE)))))","v":""},"","","",null,null,null,null,"After MeP",{"$f":"IF(Z183=\"\",\"\",IF(OR(AB183=\"Solvent\",AB183=\"After MeP\"),0,IF(AB183=\"\",INDEX(RRFs!E:E,MATCH(\"Triglyme\",RRFs!B:B,FALSE)),INDEX(RRFs!E:E,MATCH(AB183,RRFs!B:B,FALSE)))))","v":""},"","",""]
[null,null,null,null,null,null,null,null,null,null,null,null,null,null,null,null,null,null,"After MeP",{"$f":"IF(Q184=\"\",\"\",IF(OR(S184=\"Solvent\",S184=\"After MeP\"),0,IF(S184=\"\",INDEX(RRFs!E:E,MATCH(\"Triglyme\",RRFs!B:B,FALSE)),INDEX(RRFs!E:E,MATCH(S184,RRFs!B:B,FALSE)))))","v":""},"","","",null,null,null,null,"After MeP",{"$f":"IF(Z184=\"\",\"\",IF(OR(AB184=\"Solvent\",AB184=\"After MeP\"),0,IF(AB184=\"\",INDEX(RRFs!E:E,MATCH(\"Triglyme\",RRFs!B:B,FALSE)),INDEX(RRFs!E:E,MATCH(AB184,RRFs!B:B,FALSE)))))","v":""},"","",""]
[null,null,null,null,null,null,null,null,null,null,null,null,null,null,null,null,null,null,"After MeP",{"$f":"IF(Q185=\"\",\"\",IF(OR(S185=\"Solvent\",S185=\"After MeP\"),0,IF(S185=\"\",INDEX(RRFs!E:E,MATCH(\"Triglyme\",RRFs!B:B,FALSE)),INDEX(RRFs!E:E,MATCH(S185,RRFs!B:B,FALSE)))))","v":""},"","","",null,null,null,null,"After MeP",{"$f":"IF(Z185=\"\",\"\",IF(OR(AB185=\"Solvent\",AB185=\"After MeP\"),0,IF(AB185=\"\",INDEX(RRFs!E:E,MATCH(\"Triglyme\",RRFs!B:B,FALSE)),INDEX(RRFs!E:E,MATCH(AB185,RRFs!B:B,FALSE)))))","v":""},"","",""]
[null,null,null,null,null,null,null,null,null,null,null,null,null,null,null,null,null,null,"After MeP",{"$f":"IF(Q186=\"\",\"\",IF(OR(S186=\"Solvent\",S186=\"After MeP\"),0,IF(S186=\"\",INDEX(RRFs!E:E,MATCH(\"Triglyme\",RRFs!B:B,FALSE)),INDEX(RRFs!E:E,MATCH(S186,RRFs!B:B,FALSE)))))","v":""},"","","",null,null,null,null,"After MeP",{"$f":"IF(Z186=\"\",\"\",IF(OR(AB186=\"Solvent\",AB186=\"After MeP\"),0,IF(AB186=\"\",INDEX(RRFs!E:E,MATCH(\"Triglyme\",RRFs!B:B,FALSE)),INDEX(RRFs!E:E,MATCH(AB186,RRFs!B:B,FALSE)))))","v":""},"","",""]
[null,null,null,null,null,null,null,null,null,null,null,null,null,null,null,null,null,null,"After MeP",{"$f":"IF(Q187=\"\",\"\",IF(OR(S187=\"Solvent\",S187=\"After MeP\"),0,IF(S187=\"\",INDEX(RRFs!E:E,MATCH(\"Triglyme\",RRFs!B:B,FALSE)),INDEX(RRFs!E:E,MATCH(S187,RRFs!B:B,FALSE)))))","v":""},"","","",null,null,null,null,"After MeP",{"$f":"IF(Z187=\"\",\"\",IF(OR(AB187=\"Solvent\",AB187=\"After MeP\"),0,IF(AB187=\"\",INDEX(RRFs!E:E,MATCH(\"Triglyme\",RRFs!B:B,FALSE)),INDEX(RRFs!E:E,MATCH(AB187,RRFs!B:B,FALSE)))))","v":""},"","",""]
[null,null,null,null,null,null,null,null,null,null,null,null,null,null,null,null,null,null,"After MeP",{"$f":"IF(Q188=\"\",\"\",IF(OR(S188=\"Solvent\",S188=\"After MeP\"),0,IF(S188=\"\",INDEX(RRFs!E:E,MATCH(\"Triglyme\",RRFs!B:B,FALSE)),INDEX(RRFs!E:E,MATCH(S188,RRFs!B:B,FALSE)))))","v":""},"","","",null,null,null,null,"After MeP",{"$f":"IF(Z188=\"\",\"\",IF(OR(AB188=\"Solvent\",AB188=\"After MeP\"),0,IF(AB188=\"\",INDEX(RRFs!E:E,MATCH(\"Triglyme\",RRFs!B:B,FALSE)),INDEX(RRFs!E:E,MATCH(AB188,RRFs!B:B,FALSE)))))","v":""},"","",""]
[null,null,null,null,null,null,null,null,null,null,null,null,null,null,null,null,null,null,"After MeP",{"$f":"IF(Q189=\"\",\"\",IF(OR(S189=\"Solvent\",S189=\"After MeP\"),0,IF(S189=\"\",INDEX(RRFs!E:E,MATCH(\"Triglyme\",RRFs!B:B,FALSE)),INDEX(RRFs!E:E,MATCH(S189,RRFs!B:B,FALSE)))))","v":""},"","","",null,null,null,null,"After MeP",{"$f":"IF(Z189=\"\",\"\",IF(OR(AB189=\"Solvent\",AB189=\"After MeP\"),0,IF(AB189=\"\",INDEX(RRFs!E:E,MATCH(\"Triglyme\",RRFs!B:B,FALSE)),INDEX(RRFs!E:E,MATCH(AB189,RRFs!B:B,FALSE)))))","v":""},"","",""]
[null,null,null,null,null,null,null,null,null,null,null,null,null,null,null,null,null,null,"After MeP",{"$f":"IF(Q190=\"\",\"\",IF(OR(S190=\"Solvent\",S190=\"After MeP\"),0,IF(S190=\"\",INDEX(RRFs!E:E,MATCH(\"Triglyme\",RRFs!B:B,FALSE)),INDEX(RRFs!E:E,MATCH(S190,RRFs!B:B,FALSE)))))","v":""},"","","",null,null,null,null,"After MeP",{"$f":"IF(Z190=\"\",\"\",IF(OR(AB190=\"Solvent\",AB190=\"After MeP\"),0,IF(AB190=\"\",INDEX(RRFs!E:E,MATCH(\"Triglyme\",RRFs!B:B,FALSE)),INDEX(RRFs!E:E,MATCH(AB190,RRFs!B:B,FALSE)))))","v":""},"","",""]
[null,null,null,null,null,null,null,null,null,null,null,null,null,null,null,null,null,null,"After MeP",{"$f":"IF(Q191=\"\",\"\",IF(OR(S191=\"Solvent\",S191=\"After MeP\"),0,IF(S191=\"\",INDEX(RRFs!E:E,MATCH(\"Triglyme\",RRFs!B:B,FALSE)),INDEX(RRFs!E:E,MATCH(S191,RRFs!B:B,FALSE)))))","v":""},"","","",null,null,null,null,"After MeP",{"$f":"IF(Z191=\"\",\"\",IF(OR(AB191=\"Solvent\",AB191=\"After MeP\"),0,IF(AB191=\"\",INDEX(RRFs!E:E,MATCH(\"Triglyme\",RRFs!B:B,FALSE)),INDEX(RRFs!E:E,MATCH(AB191,RRFs!B:B,FALSE)))))","v":""},"","",""]
[null,null,null,null,null,null,null,null,null,null,null,null,null,null,null,null,null,null,"After MeP",{"$f":"IF(Q192=\"\",\"\",IF(OR(S192=\"Solvent\",S192=\"After MeP\"),0,IF(S192=\"\",INDEX(RRFs!E:E,MATCH(\"Triglyme\",RRFs!B:B,FALSE)),INDEX(RRFs!E:E,MATCH(S192,RRFs!B:B,FALSE)))))","v":""},"","","",null,null,null,null,"After MeP",{"$f":"IF(Z192=\"\",\"\",IF(OR(AB192=\"Solvent\",AB192=\"After MeP\"),0,IF(AB192=\"\",INDEX(RRFs!E:E,MATCH(\"Triglyme\",RRFs!B:B,FALSE)),INDEX(RRFs!E:E,MATCH(AB192,RRFs!B:B,FALSE)))))","v":""},"","",""]
[null,null,null,null,null,null,null,null,null,null,null,null,null,null,null,null,null,null,"After MeP",{"$f":"IF(Q193=\"\",\"\",IF(OR(S193=\"Solvent\",S193=\"After MeP\"),0,IF(S193=\"\",INDEX(RRFs!E:E,MATCH(\"Triglyme\",RRFs!B:B,FALSE)),INDEX(RRFs!E:E,MATCH(S193,RRFs!B:B,FALSE)))))","v":""},"","","",null,null,null,null,"After MeP",{"$f":"IF(Z193=\"\",\"\",IF(OR(AB193=\"Solvent\",AB193=\"After MeP\"),0,IF(AB193=\"\",INDEX(RRFs!E:E,MATCH(\"Triglyme\",RRFs!B:B,FALSE)),INDEX(RRFs!E:E,MATCH(AB193,RRFs!B:B,FALSE)))))","v":""},"","",""]
[null,null,null,null,null,null,null,null,null,null,null,null,null,null,null,null,null,null,"After MeP",{"$f":"IF(Q194=\"\",\"\",IF(OR(S194=\"Solvent\",S194=\"After MeP\"),0,IF(S194=\"\",INDEX(RRFs!E:E,MATCH(\"Triglyme\",RRFs!B:B,FALSE)),INDEX(RRFs!E:E,MATCH(S194,RRFs!B:B,FALSE)))))","v":""},"","","",null,null,null,null,"After MeP",{"$f":"IF(Z194=\"\",\"\",IF(OR(AB194=\"Solvent\",AB194=\"After MeP\"),0,IF(AB194=\"\",INDEX(RRFs!E:E,MATCH(\"Triglyme\",RRFs!B:B,FALSE)),INDEX(RRFs!E:E,MATCH(AB194,RRFs!B:B,FALSE)))))","v":""},"","",""]
[null,null,null,null,null,null,null,null,null,null,null,null,null,null,null,null,null,null,"After MeP",{"$f":"IF(Q195=\"\",\"\",IF(OR(S195=\"Solvent\",S195=\"After MeP\"),0,IF(S195=\"\",INDEX(RRFs!E:E,MATCH(\"Triglyme\",RRFs!B:B,FALSE)),INDEX(RRFs!E:E,MATCH(S195,RRFs!B:B,FALSE)))))","v":""},"","","",null,null,null,null,"After MeP",{"$f":"IF(Z195=\"\",\"\",IF(OR(AB195=\"Solvent\",AB195=\"After MeP\"),0,IF(AB195=\"\",INDEX(RRFs!E:E,MATCH(\"Triglyme\",RRFs!B:B,FALSE)),INDEX(RRFs!E:E,MATCH(AB195,RRFs!B:B,FALSE)))))","v":""},"","",""]
[null,null,null,null,null,null,null,null,null,null,null,null,null,null,null,null,null,null,"After MeP",{"$f":"IF(Q196=\"\",\"\",IF(OR(S196=\"Solvent\",S196=\"After MeP\"),0,IF(S196=\"\",INDEX(RRFs!E:E,MATCH(\"Triglyme\",RRFs!B:B,FALSE)),INDEX(RRFs!E:E,MATCH(S196,RRFs!B:B,FALSE)))))","v":""},"","","",null,null,null,null,"After MeP",{"$f":"IF(Z196=\"\",\"\",IF(OR(AB196=\"Solvent\",AB196=\"After MeP\"),0,IF(AB196=\"\",INDEX(RRFs!E:E,MATCH(\"Triglyme\",RRFs!B:B,FALSE)),INDEX(RRFs!E:E,MATCH(AB196,RRFs!B:B,FALSE)))))","v":""},"","",""]
[null,null,null,null,null,null,null,null,null,null,null,null,null,null,null,null,null,null,"After MeP",{"$f":"IF(Q197=\"\",\"\",IF(OR(S197=\"Solvent\",S197=\"After MeP\"),0,IF(S197=\"\",INDEX(RRFs!E:E,MATCH(\"Triglyme\",RRFs!B:B,FALSE)),INDEX(RRFs!E:E,MATCH(S197,RRFs!B:B,FALSE)))))","v":""},{"$f":"IF(Q197=\"\",\"\",IF(T197=0,0,IF(S197=\"EGDE\",R197/T197,R197/INDEX(R:R,MATCH(\"EGDE\",S:S,FALSE)) *INDEX($F$29:$F$38,MATCH(\"EGDE\",$C$29:$C$38,FALSE))/T197)))","v":""},"","",null,null,null,null,"After MeP",{"$f":"IF(Z197=\"\",\"\",IF(OR(AB197=\"Solvent\",AB197=\"After MeP\"),0,IF(AB197=\"\",INDEX(RRFs!E:E,MATCH(\"Triglyme\",RRFs!B:B,FALSE)),INDEX(RRFs!E:E,MATCH(AB197,RRFs!B:B,FALSE)))))","v":""},{"$f":"IF(Z197=\"\",\"\",IF(AC197=0,0,IF(AB197=\"EGDE\",AA197/AC197,AA197/INDEX(AA:AA,MATCH(\"EGDE\",AB:AB,FALSE)) *INDEX($F$29:$F$38,MATCH(\"EGDE\",$C$29:$C$38,FALSE))/AC197)))","v":""},"",""]
[null,null,null,null,null,null,null,null,null,null,null,null,null,null,null,null,null,null,{"$f":"IF(Q198>=$E$41,\"After MeP\",\"\")","v":"After MeP"},{"$f":"IF(Q198=\"\",\"\",IF(OR(S198=\"Solvent\",S198=\"After MeP\"),0,IF(S198=\"\",INDEX(RRFs!E:E,MATCH(\"Triglyme\",RRFs!B:B,FALSE)),INDEX(RRFs!E:E,MATCH(S198,RRFs!B:B,FALSE)))))","v":""},"",{"$f":"IF(Q198=\"\",\"\",IF(OR(S198=\"Heptane\",S198=\"IPA\",S198=\"Triglyme\",S198=\"DIIBA\",S198=\"EGDE\"),\"\",U198*($D$26/(LARGE($F$16:$F$21,1)*($E$32-$E$31)))*$D$4))","v":""},{"$f":"IF(V198=\"\",\"\",IF(AND(V198>1,S198=\"\"),\"Yes\",\"\"))","v":""},null,null,null,null,"After MeP",{"$f":"IF(Z198=\"\",\"\",IF(OR(AB198=\"Solvent\",AB198=\"After MeP\"),0,IF(AB198=\"\",INDEX(RRFs!E:E,MATCH(\"Triglyme\",RRFs!B:B,FALSE)),INDEX(RRFs!E:E,MATCH(AB198,RRFs!B:B,FALSE)))))","v":""},"",{"$f":"IF(Z198=\"\",\"\",IF(OR(AB198=\"Heptane\",AB198=\"IPA\",AB198=\"Triglyme\",AB198=\"DIIBA\",AB198=\"EGDE\"),\"\",AD198*($D$26/((LARGE($F$16:$F$21,1)*($E$32-$E$31)))*$D$4)))","v":""},{"$f":"IF(AE198=\"\",\"\",IF(AND(AE198>1,AB198=\"\"),\"Yes\",\"\"))","v":""}]
[null,null,null,null,null,null,null,null,null,null,null,null,null,null,null,null,null,null,"After MeP",{"$f":"IF(Q199=\"\",\"\",IF(OR(S199=\"Solvent\",S199=\"After MeP\"),0,IF(S199=\"\",INDEX(RRFs!E:E,MATCH(\"Triglyme\",RRFs!B:B,FALSE)),INDEX(RRFs!E:E,MATCH(S199,RRFs!B:B,FALSE)))))","v":""},"","","",null,null,null,null,"After MeP",{"$f":"IF(Z199=\"\",\"\",IF(OR(AB199=\"Solvent\",AB199=\"After MeP\"),0,IF(AB199=\"\",INDEX(RRFs!E:E,MATCH(\"Triglyme\",RRFs!B:B,FALSE)),INDEX(RRFs!E:E,MATCH(AB199,RRFs!B:B,FALSE)))))","v":""},"","",""]
[null,null,null,null,null,null,null,null,null,null,null,null,null,null,null,null,null,null,"After MeP",{"$f":"IF(Q200=\"\",\"\",IF(OR(S200=\"Solvent\",S200=\"After MeP\"),0,IF(S200=\"\",INDEX(RRFs!E:E,MATCH(\"Triglyme\",RRFs!B:B,FALSE)),INDEX(RRFs!E:E,MATCH(S200,RRFs!B:B,FALSE)))))","v":""},"","","",null,null,null,null,"After MeP",{"$f":"IF(Z200=\"\",\"\",IF(OR(AB200=\"Solvent\",AB200=\"After MeP\"),0,IF(AB200=\"\",INDEX(RRFs!E:E,MATCH(\"Triglyme\",RRFs!B:B,FALSE)),INDEX(RRFs!E:E,MATCH(AB200,RRFs!B:B,FALSE)))))","v":""},"","",""]

{"sheet":"Sample #2","index":19,"n_rows":200,"n_cols":33,"rows_kept":200,"cut":false,"hidden":false,"merged":[[1,25,1,32],[10,1,10,5],[40,1,40,3],[40,4,40,5],[23,1,23,5],[1,1,1,5],[1,8,1,10],[1,12,1,14],[1,16,1,23]]}
[]
[null,"Sample Information",null,null,null,null,null,null,"Pre-Sample #2 Blank",null,null,null,"CSV 2 B",null,null,null,"Sample #2 A",null,null,null,null,null,null,null,null,"Sample #2 B"]
[]
[null,null,"Density (g/mL)",null,null,null,null,null,"RT (min)","Area Counts","~ Measured g/L*",null,"RT (min)","Area Counts","~ Measured g/L*",null,"RT (min)","Area Counts","Assignment","RF/RRF","Measured g/L","Sample g/L","ID Required?","Qual ID (CAS #)",null,"RT (min)","Area Counts","Assignment","RF/RRF","Measured g/L","Sample g/L","ID Required?","Qual ID (CAS #)"]
[null,null,"wt% Water",null,null,null,null,5,null,null,{"$f":"IF(J5=\"\",\"\",(J5/LARGE($J$5:$J$100,2)*(5/(INDEX(RRFs!E:E,MATCH(\"Triglyme\",RRFs!B:B,FALSE))))))","v":""},null,{"$f":"IF(INDEX(INDIRECT(\"'\"&SUBSTITUTE($M$2,RIGHT($M$2,1),\"\")&\"Data\"&\"'!2:100\"),H5,MATCH($M$2,INDIRECT(\"'\"&SUBSTITUTE($M$2,RIGHT($M$2,1),\"\")&\"Data\"&\"'!2:2\"),FALSE)-1)=0,\"\",INDEX(INDIRECT(\"'\"&SUBSTITUTE($M$2,RIGHT($M$2,1),\"\")&\"Data\"&\"'!2:100\"),H5,MATCH($M$2,INDIRECT(\"'\"&SUBSTITUTE($M$2,RIGHT($M$2,1),\"\")&\"Data\"&\"'!2:2\"),FALSE)-1))","v":""},{"$f":"IF(INDEX(INDIRECT(\"'\"&SUBSTITUTE($M$2,RIGHT($M$2,1),\"\")&\"Data\"&\"'!2:100\"),H5,MATCH($M$2,INDIRECT(\"'\"&SUBSTITUTE($M$2,RIGHT($M$2,1),\"\")&\"Data\"&\"'!2:2\"),FALSE))=0,\"\",INDEX(INDIRECT(\"'\"&SUBSTITUTE($M$2,RIGHT($M$2,1),\"\")&\"Data\"&\"'!2:100\"),H5,MATCH($M$2,INDIRECT(\"'\"&SUBSTITUTE($M$2,RIGHT($M$2,1),\"\")&\"Data\"&\"'!2:2\"),FALSE)))","v":""},{"$f":"IF(N5=\"\",\"\",(N5/(INDEX(INDIRECT(\"'\"&LEFT($M$2,5)&\" Data'!F:F\"),MATCH(\"EGDE\",INDIRECT(\"'\"&LEFT($M$2,5)&\" Data\"&\"'!G:G\"),FALSE))))*(INDEX('CSV Prep'!E:E,MATCH(\"EGDE \"&LEFT($M$2,5),'CSV Prep'!B:B,FALSE))/(INDEX(RRFs!E:E,MATCH(\"Triglyme\",RRFs!B:B,FALSE)))))","v":""},null,null,null,"After MeP",{"$f":"IF(Q5=\"\",\"\",IF(OR(S5=\"Solvent\",S5=\"After MeP\"),0,IF(S5=\"\",INDEX(RRFs!E:E,MATCH(\"Triglyme\",RRFs!B:B,FALSE)),INDEX(RRFs!E:E,MATCH(S5,RRFs!B:B,FALSE)))))","v":""},{"$f":"IF(Q5=\"\",\"\",IF(T5=0,0,IF(S5=\"EGDE\",R5/T5,R5/INDEX(R:R,MATCH(\"EGDE\",S:S,FALSE)) *INDEX($F$29:$F$38,MATCH(\"EGDE\",$C$29:$C$38,FALSE))/T5)))","v":""},{"$f":"IF(Q5=\"\",\"\",IF(OR(S5=\"Heptane\",S5=\"IPA\",S5=\"Triglyme\",S5=\"DIIBA\",S5=\"EGDE\"),\"\",U5*($D$26/(LARGE($F$16:$F$21,1)*($E$32-$E$31)))*$D$4))","v":""},{"$f":"IF(V5=\"\",\"\",IF(AND(V5>1,S5=\"\"),\"Yes\",\"\"))","v":""},null,null,null,null,"After MeP",{"$f":"IF(Z5=\"\",\"\",IF(OR(AB5=\"Solvent\",AB5=\"After MeP\"),0,IF(AB5=\"\",INDEX(RRFs!E:E,MATCH(\"Triglyme\",RRFs!B:B,FALSE)),INDEX(RRFs!E:E,MATCH(AB5,RRFs!B:B,FALSE)))))","v":""},{"$f":"IF(Z5=\"\",\"\",IF(AC5=0,0,IF(AB5=\"EGDE\",AA5/AC5,AA5/INDEX(AA:AA,MATCH(\"EGDE\",AB:AB,FALSE)) *INDEX($F$29:$F$38,MATCH(\"EGDE\",$C$29:$C$38,FALSE))/AC5)))","v":""},{"$f":"IF(Z5=\"\",\"\",IF(OR(AB5=\"Heptane\",AB5=\"IPA\",AB5=\"Triglyme\",AB5=\"DIIBA\",AB5=\"EGDE\"),\"\",AD5*($D$26/((LARGE($F$16:$F$21,1)*($E$32-$E$31)))*$D$4)))","v":""},{"$f":"IF(AE5=\"\",\"\",IF(AND(AE5>1,AB5=\"\"),\"Yes\",\"\"))","v":""}]
[null,null,"wt % Non-Volatiles",null,null,null,null,{"$f":"H5+1","v":6},null,null,{"$f":"IF(J6=\"\",\"\",(J6/LARGE($J$5:$J$100,2)*(5/(INDEX(RRFs!E:E,MATCH(\"Triglyme\",RRFs!B:B,FALSE))))))","v":""},null,{"$f":"IF(INDEX(INDIRECT(\"'\"&SUBSTITUTE($M$2,RIGHT($M$2,1),\"\")&\"Data\"&\"'!2:100\"),H6,MATCH($M$2,INDIRECT(\"'\"&SUBSTITUTE($M$2,RIGHT($M$2,1),\"\")&\"Data\"&\"'!2:2\"),FALSE)-1)=0,\"\",INDEX(INDIRECT(\"'\"&SUBSTITUTE($M$2,RIGHT($M$2,1),\"\")&\"Data\"&\"'!2:100\"),H6,MATCH($M$2,INDIRECT(\"'\"&SUBSTITUTE($M$2,RIGHT($M$2,1),\"\")&\"Data\"&\"'!2:2\"),FALSE)-1))","v":""},{"$f":"IF(INDEX(INDIRECT(\"'\"&SUBSTITUTE($M$2,RIGHT($M$2,1),\"\")&\"Data\"&\"'!2:100\"),H6,MATCH($M$2,INDIRECT(\"'\"&SUBSTITUTE($M$2,RIGHT($M$2,1),\"\")&\"Data\"&\"'!2:2\"),FALSE))=0,\"\",INDEX(INDIRECT(\"'\"&SUBSTITUTE($M$2,RIGHT($M$2,1),\"\")&\"Data\"&\"'!2:100\"),H6,MATCH($M$2,INDIRECT(\"'\"&SUBSTITUTE($M$2,RIGHT($M$2,1),\"\")&\"Data\"&\"'!2:2\"),FALSE)))","v":""},{"$f":"IF(N6=\"\",\"\",(N6/(INDEX(INDIRECT(\"'\"&LEFT($M$2,5)&\" Data'!F:F\"),MATCH(\"EGDE\",INDIRECT(\"'\"&LEFT($M$2,5)&\" Data\"&\"'!G:G\"),FALSE))))*(INDEX('CSV Prep'!E:E,MATCH(\"EGDE \"&LEFT($M$2,5),'CSV Prep'!B:B,FALSE))/(INDEX(RRFs!E:E,MATCH(\"Triglyme\",RRFs!B:B,FALSE)))))","v":""},null,null,null,"After MeP",{"$f":"IF(Q6=\"\",\"\",IF(OR(S6=\"Solvent\",S6=\"After MeP\"),0,IF(S6=\"\",INDEX(RRFs!E:E,MATCH(\"Triglyme\",RRFs!B:B,FALSE)),INDEX(RRFs!E:E,MATCH(S6,RRFs!B:B,FALSE)))))","v":""},"",{"$f":"IF(Q6=\"\",\"\",IF(OR(S6=\"Heptane\",S6=\"IPA\",S6=\"Triglyme\",S6=\"DIIBA\",S6=\"EGDE\"),\"\",U6*($D$26/(LARGE($F$16:$F$21,1)*($E$32-$E$31)))*$D$4))","v":""},{"$f":"IF(V6=\"\",\"\",IF(AND(V6>1,S6=\"\"),\"Yes\",\"\"))","v":""},null,null,null,null,"After MeP",{"$f":"IF(Z6=\"\",\"\",IF(OR(AB6=\"Solvent\",AB6=\"After MeP\"),0,IF(AB6=\"\",INDEX(RRFs!E:E,MATCH(\"Triglyme\",RRFs!B:B,FALSE)),INDEX(RRFs!E:E,MATCH(AB6,RRFs!B:B,FALSE)))))","v":""},"",{"$f":"IF(Z6=\"\",\"\",IF(OR(AB6=\"Heptane\",AB6=\"IPA\",AB6=\"Triglyme\",AB6=\"DIIBA\",AB6=\"EGDE\"),\"\",AD6*($D$26/((LARGE($F$16:$F$21,1)*($E$32-$E$31)))*$D$4)))","v":""},{"$f":"IF(AE6=\"\",\"\",IF(AND(AE6>1,AB6=\"\"),\"Yes\",\"\"))","v":""}]
[null,null,"Wt % pCBTF",null,null,null,null,{"$f":"H6+1","v":7},null,null,{"$f":"IF(J7=\"\",\"\",(J7/LARGE($J$5:$J$100,2)*(5/(INDEX(RRFs!E:E,MATCH(\"Triglyme\",RRFs!B:B,FALSE))))))","v":""},null,"","",{"$f":"IF(N7=\"\",\"\",(N7/(INDEX(INDIRECT(\"'\"&LEFT($M$2,5)&\" Data'!F:F\"),MATCH(\"EGDE\",INDIRECT(\"'\"&LEFT($M$2,5)&\" Data\"&\"'!G:G\"),FALSE))))*(INDEX('CSV Prep'!E:E,MATCH(\"EGDE \"&LEFT($M$2,5),'CSV Prep'!B:B,FALSE))/(INDEX(RRFs!E:E,MATCH(\"Triglyme\",RRFs!B:B,FALSE)))))","v":""},null,null,null,"After MeP",{"$f":"IF(Q7=\"\",\"\",IF(OR(S7=\"Solvent\",S7=\"After MeP\"),0,IF(S7=\"\",INDEX(RRFs!E:E,MATCH(\"Triglyme\",RRFs!B:B,FALSE)),INDEX(RRFs!E:E,MATCH(S7,RRFs!B:B,FALSE)))))","v":""},"","","",null,null,null,null,"After MeP",{"$f":"IF(Z7=\"\",\"\",IF(OR(AB7=\"Solvent\",AB7=\"After MeP\"),0,IF(AB7=\"\",INDEX(RRFs!E:E,MATCH(\"Triglyme\",RRFs!B:B,FALSE)),INDEX(RRFs!E:E,MATCH(AB7,RRFs!B:B,FALSE)))))","v":""},"","",""]
[null,null,"Wt % D4",null,null,null,null,8,null,null,{"$f":"IF(J8=\"\",\"\",(J8/LARGE($J$5:$J$100,2)*(5/(INDEX(RRFs!E:E,MATCH(\"Triglyme\",RRFs!B:B,FALSE))))))","v":""},null,"","",{"$f":"IF(N8=\"\",\"\",(N8/(INDEX(INDIRECT(\"'\"&LEFT($M$2,5)&\" Data'!F:F\"),MATCH(\"EGDE\",INDIRECT(\"'\"&LEFT($M$2,5)&\" Data\"&\"'!G:G\"),FALSE))))*(INDEX('CSV Prep'!E:E,MATCH(\"EGDE \"&LEFT($M$2,5),'CSV Prep'!B:B,FALSE))/(INDEX(RRFs!E:E,MATCH(\"Triglyme\",RRFs!B:B,FALSE)))))","v":""},null,null,null,"After MeP",{"$f":"IF(Q8=\"\",\"\",IF(OR(S8=\"Solvent\",S8=\"After MeP\"),0,IF(S8=\"\",INDEX(RRFs!E:E,MATCH(\"Triglyme\",RRFs!B:B,FALSE)),INDEX(RRFs!E:E,MATCH(S8,RRFs!B:B,FALSE)))))","v":""},"","","",null,null,null,null,"After MeP",{"$f":"IF(Z8=\"\",\"\",IF(OR(AB8=\"Solvent\",AB8=\"After MeP\"),0,IF(AB8=\"\",INDEX(RRFs!E:E,MATCH(\"Triglyme\",RRFs!B:B,FALSE)),INDEX(RRFs!E:E,MATCH(AB8,RRFs!B:B,FALSE)))))","v":""},"","",""]
[null,null,"Wt % D5",null,null,null,null,9,null,null,{"$f":"IF(J9=\"\",\"\",(J9/LARGE($J$5:$J$100,2)*(5/(INDEX(RRFs!E:E,MATCH(\"Triglyme\",RRFs!B:B,FALSE))))))","v":""},null,"","",{"$f":"IF(N9=\"\",\"\",(N9/(INDEX(INDIRECT(\"'\"&LEFT($M$2,5)&\" Data'!F:F\"),MATCH(\"EGDE\",INDIRECT(\"'\"&LEFT($M$2,5)&\" Data\"&\"'!G:G\"),FALSE))))*(INDEX('CSV Prep'!E:E,MATCH(\"EGDE \"&LEFT($M$2,5),'CSV Prep'!B:B,FALSE))/(INDEX(RRFs!E:E,MATCH(\"Triglyme\",RRFs!B:B,FALSE)))))","v":""},null,null,null,"After MeP",{"$f":"IF(Q9=\"\",\"\",IF(OR(S9=\"Solvent\",S9=\"After MeP\"),0,IF(S9=\"\",INDEX(RRFs!E:E,MATCH(\"Triglyme\",RRFs!B:B,FALSE)),INDEX(RRFs!E:E,MATCH(S9,RRFs!B:B,FALSE)))))","v":""},"","","",null,null,null,null,"After MeP",{"$f":"IF(Z9=\"\",\"\",IF(OR(AB9=\"Solvent\",AB9=\"After MeP\"),0,IF(AB9=\"\",INDEX(RRFs!E:E,MATCH(\"Triglyme\",RRFs!B:B,FALSE)),INDEX(RRFs!E:E,MATCH(AB9,RRFs!B:B,FALSE)))))","v":""},"","",""]
[null,null,null,null,null,null,null,10,null,null,{"$f":"IF(J10=\"\",\"\",(J10/LARGE($J$5:$J$100,2)*(5/(INDEX(RRFs!E:E,MATCH(\"Triglyme\",RRFs!B:B,FALSE))))))","v":""},null,"","",{"$f":"IF(N10=\"\",\"\",(N10/(INDEX(INDIRECT(\"'\"&LEFT($M$2,5)&\" Data'!F:F\"),MATCH(\"EGDE\",INDIRECT(\"'\"&LEFT($M$2,5)&\" Data\"&\"'!G:G\"),FALSE))))*(INDEX('CSV Prep'!E:E,MATCH(\"EGDE \"&LEFT($M$2,5),'CSV Prep'!B:B,FALSE))/(INDEX(RRFs!E:E,MATCH(\"Triglyme\",RRFs!B:B,FALSE)))))","v":""},null,null,null,"After MeP",{"$f":"IF(Q10=\"\",\"\",IF(OR(S10=\"Solvent\",S10=\"After MeP\"),0,IF(S10=\"\",INDEX(RRFs!E:E,MATCH(\"Triglyme\",RRFs!B:B,FALSE)),INDEX(RRFs!E:E,MATCH(S10,RRFs!B:B,FALSE)))))","v":""},"","","",null,null,null,null,"After MeP",{"$f":"IF(Z10=\"\",\"\",IF(OR(AB10=\"Solvent\",AB10=\"After MeP\"),0,IF(AB10=\"\",INDEX(RRFs!E:E,MATCH(\"Triglyme\",RRFs!B:B,FALSE)),INDEX(RRFs!E:E,MATCH(AB10,RRFs!B:B,FALSE)))))","v":""},"","",""]
[null,"Sample Spiking",null,null,null,null,null,11,null,null,{"$f":"IF(J11=\"\",\"\",(J11/LARGE($J$5:$J$100,2)*(5/(INDEX(RRFs!E:E,MATCH(\"Triglyme\",RRFs!B:B,FALSE))))))","v":""},null,"","",{"$f":"IF(N11=\"\",\"\",(N11/(INDEX(INDIRECT(\"'\"&LEFT($M$2,5)&\" Data'!F:F\"),MATCH(\"EGDE\",INDIRECT(\"'\"&LEFT($M$2,5)&\" Data\"&\"'!G:G\"),FALSE))))*(INDEX('CSV Prep'!E:E,MATCH(\"EGDE \"&LEFT($M$2,5),'CSV Prep'!B:B,FALSE))/(INDEX(RRFs!E:E,MATCH(\"Triglyme\",RRFs!B:B,FALSE)))))","v":""},null,null,null,"After MeP",{"$f":"IF(Q11=\"\",\"\",IF(OR(S11=\"Solvent\",S11=\"After MeP\"),0,IF(S11=\"\",INDEX(RRFs!E:E,MATCH(\"Triglyme\",RRFs!B:B,FALSE)),INDEX(RRFs!E:E,MATCH(S11,RRFs!B:B,FALSE)))))","v":""},"","","",null,null,null,null,"After MeP",{"$f":"IF(Z11=\"\",\"\",IF(OR(AB11=\"Solvent\",AB11=\"After MeP\"),0,IF(AB11=\"\",INDEX(RRFs!E:E,MATCH(\"Triglyme\",RRFs!B:B,FALSE)),INDEX(RRFs!E:E,MATCH(AB11,RRFs!B:B,FALSE)))))","v":""},"","",""]
[null,null,null,null,null,null,null,12,null,null,{"$f":"IF(J12=\"\",\"\",(J12/LARGE($J$5:$J$100,2)*(5/(INDEX(RRFs!E:E,MATCH(\"Triglyme\",RRFs!B:B,FALSE))))))","v":""},null,"","",{"$f":"IF(N12=\"\",\"\",(N12/(INDEX(INDIRECT(\"'\"&LEFT($M$2,5)&\" Data'!F:F\"),MATCH(\"EGDE\",INDIRECT(\"'\"&LEFT($M$2,5)&\" Data\"&\"'!G:G\"),FALSE))))*(INDEX('CSV Prep'!E:E,MATCH(\"EGDE \"&LEFT($M$2,5),'CSV Prep'!B:B,FALSE))/(INDEX(RRFs!E:E,MATCH(\"Triglyme\",RRFs!B:B,FALSE)))))","v":""},null,null,null,"After MeP",{"$f":"IF(Q12=\"\",\"\",IF(OR(S12=\"Solvent\",S12=\"After MeP\"),0,IF(S12=\"\",INDEX(RRFs!E:E,MATCH(\"Triglyme\",RRFs!B:B,FALSE)),INDEX(RRFs!E:E,MATCH(S12,RRFs!B:B,FALSE)))))","v":""},"","","",null,null,null,null,"After MeP",{"$f":"IF(Z12=\"\",\"\",IF(OR(AB12=\"Solvent\",AB12=\"After MeP\"),0,IF(AB12=\"\",INDEX(RRFs!E:E,MATCH(\"Triglyme\",RRFs!B:B,FALSE)),INDEX(RRFs!E:E,MATCH(AB12,RRFs!B:B,FALSE)))))","v":""},"","",""]
[null,null,"Target Mass (g)",30,null,null,null,13,null,null,{"$f":"IF(J13=\"\",\"\",(J13/LARGE($J$5:$J$100,2)*(5/(INDEX(RRFs!E:E,MATCH(\"Triglyme\",RRFs!B:B,FALSE))))))","v":""},null,"","",{"$f":"IF(N13=\"\",\"\",(N13/(INDEX(INDIRECT(\"'\"&LEFT($M$2,5)&\" Data'!F:F\"),MATCH(\"EGDE\",INDIRECT(\"'\"&LEFT($M$2,5)&\" Data\"&\"'!G:G\"),FALSE))))*(INDEX('CSV Prep'!E:E,MATCH(\"EGDE \"&LEFT($M$2,5),'CSV Prep'!B:B,FALSE))/(INDEX(RRFs!E:E,MATCH(\"Triglyme\",RRFs!B:B,FALSE)))))","v":""},null,null,null,"After MeP",{"$f":"IF(Q13=\"\",\"\",IF(OR(S13=\"Solvent\",S13=\"After MeP\"),0,IF(S13=\"\",INDEX(RRFs!E:E,MATCH(\"Triglyme\",RRFs!B:B,FALSE)),INDEX(RRFs!E:E,MATCH(S13,RRFs!B:B,FALSE)))))","v":""},"","","",null,null,null,null,"After MeP",{"$f":"IF(Z13=\"\",\"\",IF(OR(AB13=\"Solvent\",AB13=\"After MeP\"),0,IF(AB13=\"\",INDEX(RRFs!E:E,MATCH(\"Triglyme\",RRFs!B:B,FALSE)),INDEX(RRFs!E:E,MATCH(AB13,RRFs!B:B,FALSE)))))","v":""},"","",""]
[null,null,null,null,null,null,null,14,null,null,{"$f":"IF(J14=\"\",\"\",(J14/LARGE($J$5:$J$100,2)*(5/(INDEX(RRFs!E:E,MATCH(\"Triglyme\",RRFs!B:B,FALSE))))))","v":""},null,"","",{"$f":"IF(N14=\"\",\"\",(N14/(INDEX(INDIRECT(\"'\"&LEFT($M$2,5)&\" Data'!F:F\"),MATCH(\"EGDE\",INDIRECT(\"'\"&LEFT($M$2,5)&\" Data\"&\"'!G:G\"),FALSE))))*(INDEX('CSV Prep'!E:E,MATCH(\"EGDE \"&LEFT($M$2,5),'CSV Prep'!B:B,FALSE))/(INDEX(RRFs!E:E,MATCH(\"Triglyme\",RRFs!B:B,FALSE)))))","v":""},null,null,null,"After MeP",{"$f":"IF(Q14=\"\",\"\",IF(OR(S14=\"Solvent\",S14=\"After MeP\"),0,IF(S14=\"\",INDEX(RRFs!E:E,MATCH(\"Triglyme\",RRFs!B:B,FALSE)),INDEX(RRFs!E:E,MATCH(S14,RRFs!B:B,FALSE)))))","v":""},"","","",null,null,null,null,"After MeP",{"$f":"IF(Z14=\"\",\"\",IF(OR(AB14=\"Solvent\",AB14=\"After MeP\"),0,IF(AB14=\"\",INDEX(RRFs!E:E,MATCH(\"Triglyme\",RRFs!B:B,FALSE)),INDEX(RRFs!E:E,MATCH(AB14,RRFs!B:B,FALSE)))))","v":""},"","",""]
[null,null,null,"To Add","Mass","Wt fx",null,15,null,null,{"$f":"IF(J15=\"\",\"\",(J15/LARGE($J$5:$J$100,2)*(5/(INDEX(RRFs!E:E,MATCH(\"Triglyme\",RRFs!B:B,FALSE))))))","v":""},null,"","",{"$f":"IF(N15=\"\",\"\",(N15/(INDEX(INDIRECT(\"'\"&LEFT($M$2,5)&\" Data'!F:F\"),MATCH(\"EGDE\",INDIRECT(\"'\"&LEFT($M$2,5)&\" Data\"&\"'!G:G\"),FALSE))))*(INDEX('CSV Prep'!E:E,MATCH(\"EGDE \"&LEFT($M$2,5),'CSV Prep'!B:B,FALSE))/(INDEX(RRFs!E:E,MATCH(\"Triglyme\",RRFs!B:B,FALSE)))))","v":""},null,null,null,"After MeP",{"$f":"IF(Q15=\"\",\"\",IF(OR(S15=\"Solvent\",S15=\"After MeP\"),0,IF(S15=\"\",INDEX(RRFs!E:E,MATCH(\"Triglyme\",RRFs!B:B,FALSE)),INDEX(RRFs!E:E,MATCH(S15,RRFs!B:B,FALSE)))))","v":""},"","","",null,null,null,null,"After MeP",{"$f":"IF(Z15=\"\",\"\",IF(OR(AB15=\"Solvent\",AB15=\"After MeP\"),0,IF(AB15=\"\",INDEX(RRFs!E:E,MATCH(\"Triglyme\",RRFs!B:B,FALSE)),INDEX(RRFs!E:E,MATCH(AB15,RRFs!B:B,FALSE)))))","v":""},"","",""]
[null,null,"Vial",{"$f":"\"-\"","v":"-"},null,{"$f":"\"-\"","v":"-"},null,16,null,null,{"$f":"IF(J16=\"\",\"\",(J16/LARGE($J$5:$J$100,2)*(5/(INDEX(RRFs!E:E,MATCH(\"Triglyme\",RRFs!B:B,FALSE))))))","v":""},null,"","",{"$f":"IF(N16=\"\",\"\",(N16/(INDEX(INDIRECT(\"'\"&LEFT($M$2,5)&\" Data'!F:F\"),MATCH(\"EGDE\",INDIRECT(\"'\"&LEFT($M$2,5)&\" Data\"&\"'!G:G\"),FALSE))))*(INDEX('CSV Prep'!E:E,MATCH(\"EGDE \"&LEFT($M$2,5),'CSV Prep'!B:B,FALSE))/(INDEX(RRFs!E:E,MATCH(\"Triglyme\",RRFs!B:B,FALSE)))))","v":""},null,null,null,"After MeP",{"$f":"IF(Q16=\"\",\"\",IF(OR(S16=\"Solvent\",S16=\"After MeP\"),0,IF(S16=\"\",INDEX(RRFs!E:E,MATCH(\"Triglyme\",RRFs!B:B,FALSE)),INDEX(RRFs!E:E,MATCH(S16,RRFs!B:B,FALSE)))))","v":""},"","","",null,null,null,null,"After MeP",{"$f":"IF(Z16=\"\",\"\",IF(OR(AB16=\"Solvent\",AB16=\"After MeP\"),0,IF(AB16=\"\",INDEX(RRFs!E:E,MATCH(\"Triglyme\",RRFs!B:B,FALSE)),INDEX(RRFs!E:E,MATCH(AB16,RRFs!B:B,FALSE)))))","v":""},"","",""]
[null,null,"Sample #2",{"$f":"D13&\" g\"","v":"30 g"},null,{"$f":"(E17-MAX($E$16:E16))*100/(MAX($E$16:$E$21)-MIN($E$16:$E$21))/100","v":{"$error":"#DIV/0!"}},null,17,null,null,{"$f":"IF(J17=\"\",\"\",(J17/LARGE($J$5:$J$100,2)*(5/(INDEX(RRFs!E:E,MATCH(\"Triglyme\",RRFs!B:B,FALSE))))))","v":""},null,"","",{"$f":"IF(N17=\"\",\"\",(N17/(INDEX(INDIRECT(\"'\"&LEFT($M$2,5)&\" Data'!F:F\"),MATCH(\"EGDE\",INDIRECT(\"'\"&LEFT($M$2,5)&\" Data\"&\"'!G:G\"),FALSE))))*(INDEX('CSV Prep'!E:E,MATCH(\"EGDE \"&LEFT($M$2,5),'CSV Prep'!B:B,FALSE))/(INDEX(RRFs!E:E,MATCH(\"Triglyme\",RRFs!B:B,FALSE)))))","v":""},null,null,null,"After MeP",{"$f":"IF(Q17=\"\",\"\",IF(OR(S17=\"Solvent\",S17=\"After MeP\"),0,IF(S17=\"\",INDEX(RRFs!E:E,MATCH(\"Triglyme\",RRFs!B:B,FALSE)),INDEX(RRFs!E:E,MATCH(S17,RRFs!B:B,FALSE)))))","v":""},"","","",null,null,null,null,"After MeP",{"$f":"IF(Z17=\"\",\"\",IF(OR(AB17=\"Solvent\",AB17=\"After MeP\"),0,IF(AB17=\"\",INDEX(RRFs!E:E,MATCH(\"Triglyme\",RRFs!B:B,FALSE)),INDEX(RRFs!E:E,MATCH(AB17,RRFs!B:B,FALSE)))))","v":""},"","",""]
[null,null,"Triglyme",{"$f":"250/30*$D$13&\" uL\"","v":"250 uL"},null,{"$f":"(E18-MAX($E$16:E17))*100*INDEX(Compounds!G:G,MATCH('Sample #2'!C18,Compounds!A:A,FALSE))/(MAX($E$16:$E$21)-MIN($E$16:$E$21))/100","v":{"$error":"#DIV/0!"}},null,18,null,null,{"$f":"IF(J18=\"\",\"\",(J18/LARGE($J$5:$J$100,2)*(5/(INDEX(RRFs!E:E,MATCH(\"Triglyme\",RRFs!B:B,FALSE))))))","v":""},null,"","",{"$f":"IF(N18=\"\",\"\",(N18/(INDEX(INDIRECT(\"'\"&LEFT($M$2,5)&\" Data'!F:F\"),MATCH(\"EGDE\",INDIRECT(\"'\"&LEFT($M$2,5)&\" Data\"&\"'!G:G\"),FALSE))))*(INDEX('CSV Prep'!E:E,MATCH(\"EGDE \"&LEFT($M$2,5),'CSV Prep'!B:B,FALSE))/(INDEX(RRFs!E:E,MATCH(\"Triglyme\",RRFs!B:B,FALSE)))))","v":""},null,null,null,"After MeP",{"$f":"IF(Q18=\"\",\"\",IF(OR(S18=\"Solvent\",S18=\"After MeP\"),0,IF(S18=\"\",INDEX(RRFs!E:E,MATCH(\"Triglyme\",RRFs!B:B,FALSE)),INDEX(RRFs!E:E,MATCH(S18,RRFs!B:B,FALSE)))))","v":""},"","","",null,null,null,null,"After MeP",{"$f":"IF(Z18=\"\",\"\",IF(OR(AB18=\"Solvent\",AB18=\"After MeP\"),0,IF(AB18=\"\",INDEX(RRFs!E:E,MATCH(\"Triglyme\",RRFs!B:B,FALSE)),INDEX(RRFs!E:E,MATCH(AB18,RRFs!B:B,FALSE)))))","v":""},"","",""]
[null,null,"IPA",{"$f":"310/30*$D$13&\" uL\"","v":"310 uL"},null,{"$f":"(E19-MAX($E$16:E18))*100*INDEX(Compounds!G:G,MATCH('Sample #2'!C19,Compounds!A:A,FALSE))/(MAX($E$16:$E$21)-MIN($E$16:$E$21))/100","v":{"$error":"#DIV/0!"}},null,19,null,null,{"$f":"IF(J19=\"\",\"\",(J19/LARGE($J$5:$J$100,2)*(5/(INDEX(RRFs!E:E,MATCH(\"Triglyme\",RRFs!B:B,FALSE))))))","v":""},null,"","",{"$f":"IF(N19=\"\",\"\",(N19/(INDEX(INDIRECT(\"'\"&LEFT($M$2,5)&\" Data'!F:F\"),MATCH(\"EGDE\",INDIRECT(\"'\"&LEFT($M$2,5)&\" Data\"&\"'!G:G\"),FALSE))))*(INDEX('CSV Prep'!E:E,MATCH(\"EGDE \"&LEFT($M$2,5),'CSV Prep'!B:B,FALSE))/(INDEX(RRFs!E:E,MATCH(\"Triglyme\",RRFs!B:B,FALSE)))))","v":""},null,null,null,"After MeP",{"$f":"IF(Q19=\"\",\"\",IF(OR(S19=\"Solvent\",S19=\"After MeP\"),0,IF(S19=\"\",INDEX(RRFs!E:E,MATCH(\"Triglyme\",RRFs!B:B,FALSE)),INDEX(RRFs!E:E,MATCH(S19,RRFs!B:B,FALSE)))))","v":""},"","","",null,null,null,null,"After MeP",{"$f":"IF(Z19=\"\",\"\",IF(OR(AB19=\"Solvent\",AB19=\"After MeP\"),0,IF(AB19=\"\",INDEX(RRFs!E:E,MATCH(\"Triglyme\",RRFs!B:B,FALSE)),INDEX(RRFs!E:E,MATCH(AB19,RRFs!B:B,FALSE)))))","v":""},"","",""]
[null,null,"DIIBA",{"$f":"250/30*$D$13&\" uL\"","v":"250 uL"},null,{"$f":"(E20-MAX($E$16:E19))*100*INDEX(Compounds!G:G,MATCH('Sample #2'!C20,Compounds!A:A,FALSE))/(MAX($E$16:$E$21)-MIN($E$16:$E$21))/100","v":{"$error":"#DIV/0!"}},null,20,null,null,{"$f":"IF(J20=\"\",\"\",(J20/LARGE($J$5:$J$100,2)*(5/(INDEX(RRFs!E:E,MATCH(\"Triglyme\",RRFs!B:B,FALSE))))))","v":""},null,"","",{"$f":"IF(N20=\"\",\"\",(N20/(INDEX(INDIRECT(\"'\"&LEFT($M$2,5)&\" Data'!F:F\"),MATCH(\"EGDE\",INDIRECT(\"'\"&LEFT($M$2,5)&\" Data\"&\"'!G:G\"),FALSE))))*(INDEX('CSV Prep'!E:E,MATCH(\"EGDE \"&LEFT($M$2,5),'CSV Prep'!B:B,FALSE))/(INDEX(RRFs!E:E,MATCH(\"Triglyme\",RRFs!B:B,FALSE)))))","v":""},null,null,null,"After MeP",{"$f":"IF(Q20=\"\",\"\",IF(OR(S20=\"Solvent\",S20=\"After MeP\"),0,IF(S20=\"\",INDEX(RRFs!E:E,MATCH(\"Triglyme\",RRFs!B:B,FALSE)),INDEX(RRFs!E:E,MATCH(S20,RRFs!B:B,FALSE)))))","v":""},"","","",null,null,null,null,"After MeP",{"$f":"IF(Z20=\"\",\"\",IF(OR(AB20=\"Solvent\",AB20=\"After MeP\"),0,IF(AB20=\"\",INDEX(RRFs!E:E,MATCH(\"Triglyme\",RRFs!B:B,FALSE)),INDEX(RRFs!E:E,MATCH(AB20,RRFs!B:B,FALSE)))))","v":""},"","",""]
[null,null,"Heptane",{"$f":"350/30*$D$13&\" uL\"","v":"350 uL"},null,{"$f":"(E21-MAX($E$16:E20))*100*INDEX(Compounds!G:G,MATCH('Sample #2'!C21,Compounds!A:A,FALSE))/(MAX($E$16:$E$21)-MIN($E$16:$E$21))/100","v":{"$error":"#DIV/0!"}},null,21,null,null,{"$f":"IF(J21=\"\",\"\",(J21/LARGE($J$5:$J$100,2)*(5/(INDEX(RRFs!E:E,MATCH(\"Triglyme\",RRFs!B:B,FALSE))))))","v":""},null,"","",{"$f":"IF(N21=\"\",\"\",(N21/(INDEX(INDIRECT(\"'\"&LEFT($M$2,5)&\" Data'!F:F\"),MATCH(\"EGDE\",INDIRECT(\"'\"&LEFT($M$2,5)&\" Data\"&\"'!G:G\"),FALSE))))*(INDEX('CSV Prep'!E:E,MATCH(\"EGDE \"&LEFT($M$2,5),'CSV Prep'!B:B,FALSE))/(INDEX(RRFs!E:E,MATCH(\"Triglyme\",RRFs!B:B,FALSE)))))","v":""},null,null,null,"After MeP",{"$f":"IF(Q21=\"\",\"\",IF(OR(S21=\"Solvent\",S21=\"After MeP\"),0,IF(S21=\"\",INDEX(RRFs!E:E,MATCH(\"Triglyme\",RRFs!B:B,FALSE)),INDEX(RRFs!E:E,MATCH(S21,RRFs!B:B,FALSE)))))","v":""},"","","",null,null,null,null,"After MeP",{"$f":"IF(Z21=\"\",\"\",IF(OR(AB21=\"Solvent\",AB21=\"After MeP\"),0,IF(AB21=\"\",INDEX(RRFs!E:E,MATCH(\"Triglyme\",RRFs!B:B,FALSE)),INDEX(RRFs!E:E,MATCH(AB21,RRFs!B:B,FALSE)))))","v":""},"","",""]
[null,null,null,null,null,null,null,22,null,null,{"$f":"IF(J22=\"\",\"\",(J22/LARGE($J$5:$J$100,2)*(5/(INDEX(RRFs!E:E,MATCH(\"Triglyme\",RRFs!B:B,FALSE))))))","v":""},null,"","",{"$f":"IF(N22=\"\",\"\",(N22/(INDEX(INDIRECT(\"'\"&LEFT($M$2,5)&\" Data'!F:F\"),MATCH(\"EGDE\",INDIRECT(\"'\"&LEFT($M$2,5)&\" Data\"&\"'!G:G\"),FALSE))))*(INDEX('CSV Prep'!E:E,MATCH(\"EGDE \"&LEFT($M$2,5),'CSV Prep'!B:B,FALSE))/(INDEX(RRFs!E:E,MATCH(\"Triglyme\",RRFs!B:B,FALSE)))))","v":""},null,null,null,"After MeP",{"$f":"IF(Q22=\"\",\"\",IF(OR(S22=\"Solvent\",S22=\"After MeP\"),0,IF(S22=\"\",INDEX(RRFs!E:E,MATCH(\"Triglyme\",RRFs!B:B,FALSE)),INDEX(RRFs!E:E,MATCH(S22,RRFs!B:B,FALSE)))))","v":""},"","","",null,null,null,null,"After MeP",{"$f":"IF(Z22=\"\",\"\",IF(OR(AB22=\"Solvent\",AB22=\"After MeP\"),0,IF(AB22=\"\",INDEX(RRFs!E:E,MATCH(\"Triglyme\",RRFs!B:B,FALSE)),INDEX(RRFs!E:E,MATCH(AB22,RRFs!B:B,FALSE)))))","v":""},"","",""]
[null,null,null,null,null,null,null,23,null,null,{"$f":"IF(J23=\"\",\"\",(J23/LARGE($J$5:$J$100,2)*(5/(INDEX(RRFs!E:E,MATCH(\"Triglyme\",RRFs!B:B,FALSE))))))","v":""},null,"","",{"$f":"IF(N23=\"\",\"\",(N23/(INDEX(INDIRECT(\"'\"&LEFT($M$2,5)&\" Data'!F:F\"),MATCH(\"EGDE\",INDIRECT(\"'\"&LEFT($M$2,5)&\" Data\"&\"'!G:G\"),FALSE))))*(INDEX('CSV Prep'!E:E,MATCH(\"EGDE \"&LEFT($M$2,5),'CSV Prep'!B:B,FALSE))/(INDEX(RRFs!E:E,MATCH(\"Triglyme\",RRFs!B:B,FALSE)))))","v":""},null,null,null,"After MeP",{"$f":"IF(Q23=\"\",\"\",IF(OR(S23=\"Solvent\",S23=\"After MeP\"),0,IF(S23=\"\",INDEX(RRFs!E:E,MATCH(\"Triglyme\",RRFs!B:B,FALSE)),INDEX(RRFs!E:E,MATCH(S23,RRFs!B:B,FALSE)))))","v":""},"","","",null,null,null,null,"After MeP",{"$f":"IF(Z23=\"\",\"\",IF(OR(AB23=\"Solvent\",AB23=\"After MeP\"),0,IF(AB23=\"\",INDEX(RRFs!E:E,MATCH(\"Triglyme\",RRFs!B:B,FALSE)),INDEX(RRFs!E:E,MATCH(AB23,RRFs!B:B,FALSE)))))","v":""},"","",""]
[null,"Sample Dilution",null,null,null,null,null,24,null,null,{"$f":"IF(J24=\"\",\"\",(J24/LARGE($J$5:$J$100,2)*(5/(INDEX(RRFs!E:E,MATCH(\"Triglyme\",RRFs!B:B,FALSE))))))","v":""},null,"","",{"$f":"IF(N24=\"\",\"\",(N24/(INDEX(INDIRECT(\"'\"&LEFT($M$2,5)&\" Data'!F:F\"),MATCH(\"EGDE\",INDIRECT(\"'\"&LEFT($M$2,5)&\" Data\"&\"'!G:G\"),FALSE))))*(INDEX('CSV Prep'!E:E,MATCH(\"EGDE \"&LEFT($M$2,5),'CSV Prep'!B:B,FALSE))/(INDEX(RRFs!E:E,MATCH(\"Triglyme\",RRFs!B:B,FALSE)))))","v":""},null,null,null,"After MeP",{"$f":"IF(Q24=\"\",\"\",IF(OR(S24=\"Solvent\",S24=\"After MeP\"),0,IF(S24=\"\",INDEX(RRFs!E:E,MATCH(\"Triglyme\",RRFs!B:B,FALSE)),INDEX(RRFs!E:E,MATCH(S24,RRFs!B:B,FALSE)))))","v":""},"","","",null,null,null,null,"After MeP",{"$f":"IF(Z24=\"\",\"\",IF(OR(AB24=\"Solvent\",AB24=\"After MeP\"),0,IF(AB24=\"\",INDEX(RRFs!E:E,MATCH(\"Triglyme\",RRFs!B:B,FALSE)),INDEX(RRFs!E:E,MATCH(AB24,RRFs!B:B,FALSE)))))","v":""},"","",""]
[null,null,null,null,null,null,null,25,null,null,{"$f":"IF(J25=\"\",\"\",(J25/LARGE($J$5:$J$100,2)*(5/(INDEX(RRFs!E:E,MATCH(\"Triglyme\",RRFs!B:B,FALSE))))))","v":""},null,"","",{"$f":"IF(N25=\"\",\"\",(N25/(INDEX(INDIRECT(\"'\"&LEFT($M$2,5)&\" Data'!F:F\"),MATCH(\"EGDE\",INDIRECT(\"'\"&LEFT($M$2,5)&\" Data\"&\"'!G:G\"),FALSE))))*(INDEX('CSV Prep'!E:E,MATCH(\"EGDE \"&LEFT($M$2,5),'CSV Prep'!B:B,FALSE))/(INDEX(RRFs!E:E,MATCH(\"Triglyme\",RRFs!B:B,FALSE)))))","v":""},null,null,null,"After MeP",{"$f":"IF(Q25=\"\",\"\",IF(OR(S25=\"Solvent\",S25=\"After MeP\"),0,IF(S25=\"\",INDEX(RRFs!E:E,MATCH(\"Triglyme\",RRFs!B:B,FALSE)),INDEX(RRFs!E:E,MATCH(S25,RRFs!B:B,FALSE)))))","v":""},"","","",null,null,null,null,"After MeP",{"$f":"IF(Z25=\"\",\"\",IF(OR(AB25=\"Solvent\",AB25=\"After MeP\"),0,IF(AB25=\"\",INDEX(RRFs!E:E,MATCH(\"Triglyme\",RRFs!B:B,FALSE)),INDEX(RRFs!E:E,MATCH(AB25,RRFs!B:B,FALSE)))))","v":""},"","",""]
[null,null,"Flask Volume (mL)",null,"Solvent",null,null,26,null,null,{"$f":"IF(J26=\"\",\"\",(J26/LARGE($J$5:$J$100,2)*(5/(INDEX(RRFs!E:E,MATCH(\"Triglyme\",RRFs!B:B,FALSE))))))","v":""},null,"","",{"$f":"IF(N26=\"\",\"\",(N26/(INDEX(INDIRECT(\"'\"&LEFT($M$2,5)&\" Data'!F:F\"),MATCH(\"EGDE\",INDIRECT(\"'\"&LEFT($M$2,5)&\" Data\"&\"'!G:G\"),FALSE))))*(INDEX('CSV Prep'!E:E,MATCH(\"EGDE \"&LEFT($M$2,5),'CSV Prep'!B:B,FALSE))/(INDEX(RRFs!E:E,MATCH(\"Triglyme\",RRFs!B:B,FALSE)))))","v":""},null,null,null,"After MeP",{"$f":"IF(Q26=\"\",\"\",IF(OR(S26=\"Solvent\",S26=\"After MeP\"),0,IF(S26=\"\",INDEX(RRFs!E:E,MATCH(\"Triglyme\",RRFs!B:B,FALSE)),INDEX(RRFs!E:E,MATCH(S26,RRFs!B:B,FALSE)))))","v":""},"","","",null,null,null,null,"After MeP",{"$f":"IF(Z26=\"\",\"\",IF(OR(AB26=\"Solvent\",AB26=\"After MeP\"),0,IF(AB26=\"\",INDEX(RRFs!E:E,MATCH(\"Triglyme\",RRFs!B:B,FALSE)),INDEX(RRFs!E:E,MATCH(AB26,RRFs!B:B,FALSE)))))","v":""},"","",""]
[null,null,null,null,null,null,null,27,null,null,{"$f":"IF(J27=\"\",\"\",(J27/LARGE($J$5:$J$100,2)*(5/(INDEX(RRFs!E:E,MATCH(\"Triglyme\",RRFs!B:B,FALSE))))))","v":""},null,"","",{"$f":"IF(N27=\"\",\"\",(N27/(INDEX(INDIRECT(\"'\"&LEFT($M$2,5)&\" Data'!F:F\"),MATCH(\"EGDE\",INDIRECT(\"'\"&LEFT($M$2,5)&\" Data\"&\"'!G:G\"),FALSE))))*(INDEX('CSV Prep'!E:E,MATCH(\"EGDE \"&LEFT($M$2,5),'CSV Prep'!B:B,FALSE))/(INDEX(RRFs!E:E,MATCH(\"Triglyme\",RRFs!B:B,FALSE)))))","v":""},null,null,null,"After MeP",{"$f":"IF(Q27=\"\",\"\",IF(OR(S27=\"Solvent\",S27=\"After MeP\"),0,IF(S27=\"\",INDEX(RRFs!E:E,MATCH(\"Triglyme\",RRFs!B:B,FALSE)),INDEX(RRFs!E:E,MATCH(S27,RRFs!B:B,FALSE)))))","v":""},"","","",null,null,null,null,"After MeP",{"$f":"IF(Z27=\"\",\"\",IF(OR(AB27=\"Solvent\",AB27=\"After MeP\"),0,IF(AB27=\"\",INDEX(RRFs!E:E,MATCH(\"Triglyme\",RRFs!B:B,FALSE)),INDEX(RRFs!E:E,MATCH(AB27,RRFs!B:B,FALSE)))))","v":""},"","",""]
[null,null,null,"To Add","Mass","g/L",null,28,null,null,{"$f":"IF(J28=\"\",\"\",(J28/LARGE($J$5:$J$100,2)*(5/(INDEX(RRFs!E:E,MATCH(\"Triglyme\",RRFs!B:B,FALSE))))))","v":""},null,"","",{"$f":"IF(N28=\"\",\"\",(N28/(INDEX(INDIRECT(\"'\"&LEFT($M$2,5)&\" Data'!F:F\"),MATCH(\"EGDE\",INDIRECT(\"'\"&LEFT($M$2,5)&\" Data\"&\"'!G:G\"),FALSE))))*(INDEX('CSV Prep'!E:E,MATCH(\"EGDE \"&LEFT($M$2,5),'CSV Prep'!B:B,FALSE))/(INDEX(RRFs!E:E,MATCH(\"Triglyme\",RRFs!B:B,FALSE)))))","v":""},null,null,null,"After MeP",{"$f":"IF(Q28=\"\",\"\",IF(OR(S28=\"Solvent\",S28=\"After MeP\"),0,IF(S28=\"\",INDEX(RRFs!E:E,MATCH(\"Triglyme\",RRFs!B:B,FALSE)),INDEX(RRFs!E:E,MATCH(S28,RRFs!B:B,FALSE)))))","v":""},"","","",null,null,null,null,"After MeP",{"$f":"IF(Z28=\"\",\"\",IF(OR(AB28=\"Solvent\",AB28=\"After MeP\"),0,IF(AB28=\"\",INDEX(RRFs!E:E,MATCH(\"Triglyme\",RRFs!B:B,FALSE)),INDEX(RRFs!E:E,MATCH(AB28,RRFs!B:B,FALSE)))))","v":""},"","",""]
[null,null,{"$f":"D26&\" mL Flask\"","v":" mL Flask"},{"$f":"\"-\"","v":"-"},null,{"$f":"IF(E29=\"\",\"\",\"-\")","v":""},null,29,null,null,{"$f":"IF(J29=\"\",\"\",(J29/LARGE($J$5:$J$100,2)*(5/(INDEX(RRFs!E:E,MATCH(\"Triglyme\",RRFs!B:B,FALSE))))))","v":""},null,"","",{"$f":"IF(N29=\"\",\"\",(N29/(INDEX(INDIRECT(\"'\"&LEFT($M$2,5)&\" Data'!F:F\"),MATCH(\"EGDE\",INDIRECT(\"'\"&LEFT($M$2,5)&\" Data\"&\"'!G:G\"),FALSE))))*(INDEX('CSV Prep'!E:E,MATCH(\"EGDE \"&LEFT($M$2,5),'CSV Prep'!B:B,FALSE))/(INDEX(RRFs!E:E,MATCH(\"Triglyme\",RRFs!B:B,FALSE)))))","v":""},null,null,null,"After MeP",{"$f":"IF(Q29=\"\",\"\",IF(OR(S29=\"Solvent\",S29=\"After MeP\"),0,IF(S29=\"\",INDEX(RRFs!E:E,MATCH(\"Triglyme\",RRFs!B:B,FALSE)),INDEX(RRFs!E:E,MATCH(S29,RRFs!B:B,FALSE)))))","v":""},"","","",null,null,null,null,"After MeP",{"$f":"IF(Z29=\"\",\"\",IF(OR(AB29=\"Solvent\",AB29=\"After MeP\"),0,IF(AB29=\"\",INDEX(RRFs!E:E,MATCH(\"Triglyme\",RRFs!B:B,FALSE)),INDEX(RRFs!E:E,MATCH(AB29,RRFs!B:B,FALSE)))))","v":""},"","",""]
[null,null,{"$f":"F26","v":0},{"$f":"\"~ \"&10/25*D26&\" mL\"","v":"~ 0 mL"},null,{"$f":"IF(E30=\"\",\"\",(E30-MAX($E$29:E29))*INDEX(Compounds!G:G,MATCH(C30,Compounds!A:A,FALSE))*1000/$D$26)","v":""},null,30,null,null,{"$f":"IF(J30=\"\",\"\",(J30/LARGE($J$5:$J$100,2)*(5/(INDEX(RRFs!E:E,MATCH(\"Triglyme\",RRFs!B:B,FALSE))))))","v":""},null,"","",{"$f":"IF(N30=\"\",\"\",(N30/(INDEX(INDIRECT(\"'\"&LEFT($M$2,5)&\" Data'!F:F\"),MATCH(\"EGDE\",INDIRECT(\"'\"&LEFT($M$2,5)&\" Data\"&\"'!G:G\"),FALSE))))*(INDEX('CSV Prep'!E:E,MATCH(\"EGDE \"&LEFT($M$2,5),'CSV Prep'!B:B,FALSE))/(INDEX(RRFs!E:E,MATCH(\"Triglyme\",RRFs!B:B,FALSE)))))","v":""},null,null,null,"After MeP",{"$f":"IF(Q30=\"\",\"\",IF(OR(S30=\"Solvent\",S30=\"After MeP\"),0,IF(S30=\"\",INDEX(RRFs!E:E,MATCH(\"Triglyme\",RRFs!B:B,FALSE)),INDEX(RRFs!E:E,MATCH(S30,RRFs!B:B,FALSE)))))","v":""},"","","",null,null,null,null,"After MeP",{"$f":"IF(Z30=\"\",\"\",IF(OR(AB30=\"Solvent\",AB30=\"After MeP\"),0,IF(AB30=\"\",INDEX(RRFs!E:E,MATCH(\"Triglyme\",RRFs!B:B,FALSE)),INDEX(RRFs!E:E,MATCH(AB30,RRFs!B:B,FALSE)))))","v":""},"","",""]
[null,null,"EGDE",{"$f":"150/25*D26&\" uL\"","v":"0 uL"},null,{"$f":"IF(E31=\"\",\"\",(E31-MAX($E$29:E30))*INDEX(Compounds!G:G,MATCH(C31,Compounds!A:A,FALSE))*1000/$D$26)","v":""},null,31,null,null,{"$f":"IF(J31=\"\",\"\",(J31/LARGE($J$5:$J$100,2)*(5/(INDEX(RRFs!E:E,MATCH(\"Triglyme\",RRFs!B:B,FALSE))))))","v":""},null,"","",{"$f":"IF(N31=\"\",\"\",(N31/(INDEX(INDIRECT(\"'\"&LEFT($M$2,5)&\" Data'!F:F\"),MATCH(\"EGDE\",INDIRECT(\"'\"&LEFT($M$2,5)&\" Data\"&\"'!G:G\"),FALSE))))*(INDEX('CSV Prep'!E:E,MATCH(\"EGDE \"&LEFT($M$2,5),'CSV Prep'!B:B,FALSE))/(INDEX(RRFs!E:E,MATCH(\"Triglyme\",RRFs!B:B,FALSE)))))","v":""},null,null,null,"After MeP",{"$f":"IF(Q31=\"\",\"\",IF(OR(S31=\"Solvent\",S31=\"After MeP\"),0,IF(S31=\"\",INDEX(RRFs!E:E,MATCH(\"Triglyme\",RRFs!B:B,FALSE)),INDEX(RRFs!E:E,MATCH(S31,RRFs!B:B,FALSE)))))","v":""},"","","",null,null,null,null,"After MeP",{"$f":"IF(Z31=\"\",\"\",IF(OR(AB31=\"Solvent\",AB31=\"After MeP\"),0,IF(AB31=\"\",INDEX(RRFs!E:E,MATCH(\"Triglyme\",RRFs!B:B,FALSE)),INDEX(RRFs!E:E,MATCH(AB31,RRFs!B:B,FALSE)))))","v":""},"","",""]
[null,null,"Spiked Sample #2",{"$f":"\"~ \"&2.5/25*D26&\" g\"","v":"~ 0 g"},null,{"$f":"IF(E32=\"\",\"\",(E32-MAX($E$29:E31))*INDEX($F$16:$F$21,MATCH(RIGHT(C32,9),$C$16:$C$21,FALSE))*1000/$D$26)","v":""},null,32,null,null,{"$f":"IF(J32=\"\",\"\",(J32/LARGE($J$5:$J$100,2)*(5/(INDEX(RRFs!E:E,MATCH(\"Triglyme\",RRFs!B:B,FALSE))))))","v":""},null,"","",{"$f":"IF(N32=\"\",\"\",(N32/(INDEX(INDIRECT(\"'\"&LEFT($M$2,5)&\" Data'!F:F\"),MATCH(\"EGDE\",INDIRECT(\"'\"&LEFT($M$2,5)&\" Data\"&\"'!G:G\"),FALSE))))*(INDEX('CSV Prep'!E:E,MATCH(\"EGDE \"&LEFT($M$2,5),'CSV Prep'!B:B,FALSE))/(INDEX(RRFs!E:E,MATCH(\"Triglyme\",RRFs!B:B,FALSE)))))","v":""},null,null,null,"After MeP",{"$f":"IF(Q32=\"\",\"\",IF(OR(S32=\"Solvent\",S32=\"After MeP\"),0,IF(S32=\"\",INDEX(RRFs!E:E,MATCH(\"Triglyme\",RRFs!B:B,FALSE)),INDEX(RRFs!E:E,MATCH(S32,RRFs!B:B,FALSE)))))","v":""},"","","",null,null,null,null,"After MeP",{"$f":"IF(Z32=\"\",\"\",IF(OR(AB32=\"Solvent\",AB32=\"After MeP\"),0,IF(AB32=\"\",INDEX(RRFs!E:E,MATCH(\"Triglyme\",RRFs!B:B,FALSE)),INDEX(RRFs!E:E,MATCH(AB32,RRFs!B:B,FALSE)))))","v":""},"","",""]
[null,null,{"$f":"\"QS to \"&D26&\" mL\"","v":"QS to  mL"},{"$f":"\"To \"&D26&\" mL\"","v":"To  mL"},null,{"$f":"IF(E33=\"\",\"\",\"-\")","v":""},null,33,null,null,{"$f":"IF(J33=\"\",\"\",(J33/LARGE($J$5:$J$100,2)*(5/(INDEX(RRFs!E:E,MATCH(\"Triglyme\",RRFs!B:B,FALSE))))))","v":""},null,"","",{"$f":"IF(N33=\"\",\"\",(N33/(INDEX(INDIRECT(\"'\"&LEFT($M$2,5)&\" Data'!F:F\"),MATCH(\"EGDE\",INDIRECT(\"'\"&LEFT($M$2,5)&\" Data\"&\"'!G:G\"),FALSE))))*(INDEX('CSV Prep'!E:E,MATCH(\"EGDE \"&LEFT($M$2,5),'CSV Prep'!B:B,FALSE))/(INDEX(RRFs!E:E,MATCH(\"Triglyme\",RRFs!B:B,FALSE)))))","v":""},null,null,null,"After MeP",{"$f":"IF(Q33=\"\",\"\",IF(OR(S33=\"Solvent\",S33=\"After MeP\"),0,IF(S33=\"\",INDEX(RRFs!E:E,MATCH(\"Triglyme\",RRFs!B:B,FALSE)),INDEX(RRFs!E:E,MATCH(S33,RRFs!B:B,FALSE)))))","v":""},"","","",null,null,null,null,"After MeP",{"$f":"IF(Z33=\"\",\"\",IF(OR(AB33=\"Solvent\",AB33=\"After MeP\"),0,IF(AB33=\"\",INDEX(RRFs!E:E,MATCH(\"Triglyme\",RRFs!B:B,FALSE)),INDEX(RRFs!E:E,MATCH(AB33,RRFs!B:B,FALSE)))))","v":""},"","",""]
[null,null,null,null,null,null,null,34,null,null,{"$f":"IF(J34=\"\",\"\",(J34/LARGE($J$5:$J$100,2)*(5/(INDEX(RRFs!E:E,MATCH(\"Triglyme\",RRFs!B:B,FALSE))))))","v":""},null,"","",{"$f":"IF(N34=\"\",\"\",(N34/(INDEX(INDIRECT(\"'\"&LEFT($M$2,5)&\" Data'!F:F\"),MATCH(\"EGDE\",INDIRECT(\"'\"&LEFT($M$2,5)&\" Data\"&\"'!G:G\"),FALSE))))*(INDEX('CSV Prep'!E:E,MATCH(\"EGDE \"&LEFT($M$2,5),'CSV Prep'!B:B,FALSE))/(INDEX(RRFs!E:E,MATCH(\"Triglyme\",RRFs!B:B,FALSE)))))","v":""},null,null,null,"After MeP",{"$f":"IF(Q34=\"\",\"\",IF(OR(S34=\"Solvent\",S34=\"After MeP\"),0,IF(S34=\"\",INDEX(RRFs!E:E,MATCH(\"Triglyme\",RRFs!B:B,FALSE)),INDEX(RRFs!E:E,MATCH(S34,RRFs!B:B,FALSE)))))","v":""},"","","",null,null,null,null,"After MeP",{"$f":"IF(Z34=\"\",\"\",IF(OR(AB34=\"Solvent\",AB34=\"After MeP\"),0,IF(AB34=\"\",INDEX(RRFs!E:E,MATCH(\"Triglyme\",RRFs!B:B,FALSE)),INDEX(RRFs!E:E,MATCH(AB34,RRFs!B:B,FALSE)))))","v":""},"","",""]
[null,null,"Triglyme",null,null,{"$f":"INDEX($F$16:$F$21,MATCH(C35,$C$16:$C$21,FALSE))*($E$32-$E$31)*1000/$D$26","v":{"$error":"#DIV/0!"}},null,35,null,null,{"$f":"IF(J35=\"\",\"\",(J35/LARGE($J$5:$J$100,2)*(5/(INDEX(RRFs!E:E,MATCH(\"Triglyme\",RRFs!B:B,FALSE))))))","v":""},null,"","",{"$f":"IF(N35=\"\",\"\",(N35/(INDEX(INDIRECT(\"'\"&LEFT($M$2,5)&\" Data'!F:F\"),MATCH(\"EGDE\",INDIRECT(\"'\"&LEFT($M$2,5)&\" Data\"&\"'!G:G\"),FALSE))))*(INDEX('CSV Prep'!E:E,MATCH(\"EGDE \"&LEFT($M$2,5),'CSV Prep'!B:B,FALSE))/(INDEX(RRFs!E:E,MATCH(\"Triglyme\",RRFs!B:B,FALSE)))))","v":""},null,null,null,"After MeP",{"$f":"IF(Q35=\"\",\"\",IF(OR(S35=\"Solvent\",S35=\"After MeP\"),0,IF(S35=\"\",INDEX(RRFs!E:E,MATCH(\"Triglyme\",RRFs!B:B,FALSE)),INDEX(RRFs!E:E,MATCH(S35,RRFs!B:B,FALSE)))))","v":""},"","","",null,null,null,null,"After MeP",{"$f":"IF(Z35=\"\",\"\",IF(OR(AB35=\"Solvent\",AB35=\"After MeP\"),0,IF(AB35=\"\",INDEX(RRFs!E:E,MATCH(\"Triglyme\",RRFs!B:B,FALSE)),INDEX(RRFs!E:E,MATCH(AB35,RRFs!B:B,FALSE)))))","v":""},"","",""]
[null,null,"IPA",null,null,{"$f":"INDEX($F$16:$F$21,MATCH(C36,$C$16:$C$21,FALSE))*($E$32-$E$31)*1000/$D$26","v":{"$error":"#DIV/0!"}},null,36,null,null,{"$f":"IF(J36=\"\",\"\",(J36/LARGE($J$5:$J$100,2)*(5/(INDEX(RRFs!E:E,MATCH(\"Triglyme\",RRFs!B:B,FALSE))))))","v":""},null,"","",{"$f":"IF(N36=\"\",\"\",(N36/(INDEX(INDIRECT(\"'\"&LEFT($M$2,5)&\" Data'!F:F\"),MATCH(\"EGDE\",INDIRECT(\"'\"&LEFT($M$2,5)&\" Data\"&\"'!G:G\"),FALSE))))*(INDEX('CSV Prep'!E:E,MATCH(\"EGDE \"&LEFT($M$2,5),'CSV Prep'!B:B,FALSE))/(INDEX(RRFs!E:E,MATCH(\"Triglyme\",RRFs!B:B,FALSE)))))","v":""},null,null,null,"After MeP",{"$f":"IF(Q36=\"\",\"\",IF(OR(S36=\"Solvent\",S36=\"After MeP\"),0,IF(S36=\"\",INDEX(RRFs!E:E,MATCH(\"Triglyme\",RRFs!B:B,FALSE)),INDEX(RRFs!E:E,MATCH(S36,RRFs!B:B,FALSE)))))","v":""},"","","",null,null,null,null,"After MeP",{"$f":"IF(Z36=\"\",\"\",IF(OR(AB36=\"Solvent\",AB36=\"After MeP\"),0,IF(AB36=\"\",INDEX(RRFs!E:E,MATCH(\"Triglyme\",RRFs!B:B,FALSE)),INDEX(RRFs!E:E,MATCH(AB36,RRFs!B:B,FALSE)))))","v":""},"","",""]
[null,null,"DIIBA",null,null,{"$f":"INDEX($F$16:$F$21,MATCH(C37,$C$16:$C$21,FALSE))*($E$32-$E$31)*1000/$D$26","v":{"$error":"#DIV/0!"}},null,37,null,null,{"$f":"IF(J37=\"\",\"\",(J37/LARGE($J$5:$J$100,2)*(5/(INDEX(RRFs!E:E,MATCH(\"Triglyme\",RRFs!B:B,FALSE))))))","v":""},null,"","",{"$f":"IF(N37=\"\",\"\",(N37/(INDEX(INDIRECT(\"'\"&LEFT($M$2,5)&\" Data'!F:F\"),MATCH(\"EGDE\",INDIRECT(\"'\"&LEFT($M$2,5)&\" Data\"&\"'!G:G\"),FALSE))))*(INDEX('CSV Prep'!E:E,MATCH(\"EGDE \"&LEFT($M$2,5),'CSV Prep'!B:B,FALSE))/(INDEX(RRFs!E:E,MATCH(\"Triglyme\",RRFs!B:B,FALSE)))))","v":""},null,null,null,"After MeP",{"$f":"IF(Q37=\"\",\"\",IF(OR(S37=\"Solvent\",S37=\"After MeP\"),0,IF(S37=\"\",INDEX(RRFs!E:E,MATCH(\"Triglyme\",RRFs!B:B,FALSE)),INDEX(RRFs!E:E,MATCH(S37,RRFs!B:B,FALSE)))))","v":""},{"$f":"IF(Q37=\"\",\"\",IF(T37=0,0,IF(S37=\"EGDE\",R37/T37,R37/INDEX(R:R,MATCH(\"EGDE\",S:S,FALSE)) *INDEX($F$29:$F$38,MATCH(\"EGDE\",$C$29:$C$38,FALSE))/T37)))","v":""},"","",null,null,null,null,"After MeP",{"$f":"IF(Z37=\"\",\"\",IF(OR(AB37=\"Solvent\",AB37=\"After MeP\"),0,IF(AB37=\"\",INDEX(RRFs!E:E,MATCH(\"Triglyme\",RRFs!B:B,FALSE)),INDEX(RRFs!E:E,MATCH(AB37,RRFs!B:B,FALSE)))))","v":""},{"$f":"IF(Z37=\"\",\"\",IF(AC37=0,0,IF(AB37=\"EGDE\",AA37/AC37,AA37/INDEX(AA:AA,MATCH(\"EGDE\",AB:AB,FALSE)) *INDEX($F$29:$F$38,MATCH(\"EGDE\",$C$29:$C$38,FALSE))/AC37)))","v":""},"",""]
[null,null,"Heptane",null,null,{"$f":"INDEX($F$16:$F$21,MATCH(C38,$C$16:$C$21,FALSE))*($E$32-$E$31)*1000/$D$26","v":{"$error":"#DIV/0!"}},null,38,null,null,{"$f":"IF(J38=\"\",\"\",(J38/LARGE($J$5:$J$100,2)*(5/(INDEX(RRFs!E:E,MATCH(\"Triglyme\",RRFs!B:B,FALSE))))))","v":""},null,"","",{"$f":"IF(N38=\"\",\"\",(N38/(INDEX(INDIRECT(\"'\"&LEFT($M$2,5)&\" Data'!F:F\"),MATCH(\"EGDE\",INDIRECT(\"'\"&LEFT($M$2,5)&\" Data\"&\"'!G:G\"),FALSE))))*(INDEX('CSV Prep'!E:E,MATCH(\"EGDE \"&LEFT($M$2,5),'CSV Prep'!B:B,FALSE))/(INDEX(RRFs!E:E,MATCH(\"Triglyme\",RRFs!B:B,FALSE)))))","v":""},null,null,null,"After MeP",{"$f":"IF(Q38=\"\",\"\",IF(OR(S38=\"Solvent\",S38=\"After MeP\"),0,IF(S38=\"\",INDEX(RRFs!E:E,MATCH(\"Triglyme\",RRFs!B:B,FALSE)),INDEX(RRFs!E:E,MATCH(S38,RRFs!B:B,FALSE)))))","v":""},"","","",null,null,null,null,"After MeP",{"$f":"IF(Z38=\"\",\"\",IF(OR(AB38=\"Solvent\",AB38=\"After MeP\"),0,IF(AB38=\"\",INDEX(RRFs!E:E,MATCH(\"Triglyme\",RRFs!B:B,FALSE)),INDEX(RRFs!E:E,MATCH(AB38,RRFs!B:B,FALSE)))))","v":""},"","",""]
[null,null,null,null,null,null,null,39,null,null,{"$f":"IF(J39=\"\",\"\",(J39/LARGE($J$5:$J$100,2)*(5/(INDEX(RRFs!E:E,MATCH(\"Triglyme\",RRFs!B:B,FALSE))))))","v":""},null,"","",{"$f":"IF(N39=\"\",\"\",(N39/(INDEX(INDIRECT(\"'\"&LEFT($M$2,5)&\" Data'!F:F\"),MATCH(\"EGDE\",INDIRECT(\"'\"&LEFT($M$2,5)&\" Data\"&\"'!G:G\"),FALSE))))*(INDEX('CSV Prep'!E:E,MATCH(\"EGDE \"&LEFT($M$2,5),'CSV Prep'!B:B,FALSE))/(INDEX(RRFs!E:E,MATCH(\"Triglyme\",RRFs!B:B,FALSE)))))","v":""},null,null,null,{"$f":"IF(Q39>=$E$41,\"After MeP\",\"\")","v":"After MeP"},{"$f":"IF(Q39=\"\",\"\",IF(OR(S39=\"Solvent\",S39=\"After MeP\"),0,IF(S39=\"\",INDEX(RRFs!E:E,MATCH(\"Triglyme\",RRFs!B:B,FALSE)),INDEX(RRFs!E:E,MATCH(S39,RRFs!B:B,FALSE)))))","v":""},"","","",null,null,null,null,"After MeP",{"$f":"IF(Z39=\"\",\"\",IF(OR(AB39=\"Solvent\",AB39=\"After MeP\"),0,IF(AB39=\"\",INDEX(RRFs!E:E,MATCH(\"Triglyme\",RRFs!B:B,FALSE)),INDEX(RRFs!E:E,MATCH(AB39,RRFs!B:B,FALSE)))))","v":""},"","",""]
[null,null,null,null,null,null,null,40,null,null,{"$f":"IF(J40=\"\",\"\",(J40/LARGE($J$5:$J$100,2)*(5/(INDEX(RRFs!E:E,MATCH(\"Triglyme\",RRFs!B:B,FALSE))))))","v":""},null,"","",{"$f":"IF(N40=\"\",\"\",(N40/(INDEX(INDIRECT(\"'\"&LEFT($M$2,5)&\" Data'!F:F\"),MATCH(\"EGDE\",INDIRECT(\"'\"&LEFT($M$2,5)&\" Data\"&\"'!G:G\"),FALSE))))*(INDEX('CSV Prep'!E:E,MATCH(\"EGDE \"&LEFT($M$2,5),'CSV Prep'!B:B,FALSE))/(INDEX(RRFs!E:E,MATCH(\"Triglyme\",RRFs!B:B,FALSE)))))","v":""},null,null,null,{"$f":"IF(Q40>=$E$41,\"After MeP\",\"\")","v":"After MeP"},{"$f":"IF(Q40=\"\",\"\",IF(OR(S40=\"Solvent\",S40=\"After MeP\"),0,IF(S40=\"\",INDEX(RRFs!E:E,MATCH(\"Triglyme\",RRFs!B:B,FALSE)),INDEX(RRFs!E:E,MATCH(S40,RRFs!B:B,FALSE)))))","v":""},"","","",null,null,null,null,"After MeP",{"$f":"IF(Z40=\"\",\"\",IF(OR(AB40=\"Solvent\",AB40=\"After MeP\"),0,IF(AB40=\"\",INDEX(RRFs!E:E,MATCH(\"Triglyme\",RRFs!B:B,FALSE)),INDEX(RRFs!E:E,MATCH(AB40,RRFs!B:B,FALSE)))))","v":""},"","",""]
[null,"Methyl Palmitate RT (Min)",null,null,{"$f":"'Sample #1'!E41:F41","v":0},null,null,41,null,null,{"$f":"IF(J41=\"\",\"\",(J41/LARGE($J$5:$J$100,2)*(5/(INDEX(RRFs!E:E,MATCH(\"Triglyme\",RRFs!B:B,FALSE))))))","v":""},null,"","",{"$f":"IF(N41=\"\",\"\",(N41/(INDEX(INDIRECT(\"'\"&LEFT($M$2,5)&\" Data'!F:F\"),MATCH(\"EGDE\",INDIRECT(\"'\"&LEFT($M$2,5)&\" Data\"&\"'!G:G\"),FALSE))))*(INDEX('CSV Prep'!E:E,MATCH(\"EGDE \"&LEFT($M$2,5),'CSV Prep'!B:B,FALSE))/(INDEX(RRFs!E:E,MATCH(\"Triglyme\",RRFs!B:B,FALSE)))))","v":""},null,null,null,{"$f":"IF(Q41>=$E$41,\"After MeP\",\"\")","v":"After MeP"},{"$f":"IF(Q41=\"\",\"\",IF(OR(S41=\"Solvent\",S41=\"After MeP\"),0,IF(S41=\"\",INDEX(RRFs!E:E,MATCH(\"Triglyme\",RRFs!B:B,FALSE)),INDEX(RRFs!E:E,MATCH(S41,RRFs!B:B,FALSE)))))","v":""},"","","",null,null,null,null,"After MeP",{"$f":"IF(Z41=\"\",\"\",IF(OR(AB41=\"Solvent\",AB41=\"After MeP\"),0,IF(AB41=\"\",INDEX(RRFs!E:E,MATCH(\"Triglyme\",RRFs!B:B,FALSE)),INDEX(RRFs!E:E,MATCH(AB41,RRFs!B:B,FALSE)))))","v":""},"","",""]
[null,null,null,null,null,null,null,42,null,null,{"$f":"IF(J42=\"\",\"\",(J42/LARGE($J$5:$J$100,2)*(5/(INDEX(RRFs!E:E,MATCH(\"Triglyme\",RRFs!B:B,FALSE))))))","v":""},null,"","",{"$f":"IF(N42=\"\",\"\",(N42/(INDEX(INDIRECT(\"'\"&LEFT($M$2,5)&\" Data'!F:F\"),MATCH(\"EGDE\",INDIRECT(\"'\"&LEFT($M$2,5)&\" Data\"&\"'!G:G\"),FALSE))))*(INDEX('CSV Prep'!E:E,MATCH(\"EGDE \"&LEFT($M$2,5),'CSV Prep'!B:B,FALSE))/(INDEX(RRFs!E:E,MATCH(\"Triglyme\",RRFs!B:B,FALSE)))))","v":""},null,null,null,"After MeP",{"$f":"IF(Q42=\"\",\"\",IF(OR(S42=\"Solvent\",S42=\"After MeP\"),0,IF(S42=\"\",INDEX(RRFs!E:E,MATCH(\"Triglyme\",RRFs!B:B,FALSE)),INDEX(RRFs!E:E,MATCH(S42,RRFs!B:B,FALSE)))))","v":""},"","","",null,null,null,null,"After MeP",{"$f":"IF(Z42=\"\",\"\",IF(OR(AB42=\"Solvent\",AB42=\"After MeP\"),0,IF(AB42=\"\",INDEX(RRFs!E:E,MATCH(\"Triglyme\",RRFs!B:B,FALSE)),INDEX(RRFs!E:E,MATCH(AB42,RRFs!B:B,FALSE)))))","v":""},"","",""]
[null,null,null,null,null,null,null,43,null,null,{"$f":"IF(J43=\"\",\"\",(J43/LARGE($J$5:$J$100,2)*(5/(INDEX(RRFs!E:E,MATCH(\"Triglyme\",RRFs!B:B,FALSE))))))","v":""},null,"","",{"$f":"IF(N43=\"\",\"\",(N43/(INDEX(INDIRECT(\"'\"&LEFT($M$2,5)&\" Data'!F:F\"),MATCH(\"EGDE\",INDIRECT(\"'\"&LEFT($M$2,5)&\" Data\"&\"'!G:G\"),FALSE))))*(INDEX('CSV Prep'!E:E,MATCH(\"EGDE \"&LEFT($M$2,5),'CSV Prep'!B:B,FALSE))/(INDEX(RRFs!E:E,MATCH(\"Triglyme\",RRFs!B:B,FALSE)))))","v":""},null,null,null,"After MeP",{"$f":"IF(Q43=\"\",\"\",IF(OR(S43=\"Solvent\",S43=\"After MeP\"),0,IF(S43=\"\",INDEX(RRFs!E:E,MATCH(\"Triglyme\",RRFs!B:B,FALSE)),INDEX(RRFs!E:E,MATCH(S43,RRFs!B:B,FALSE)))))","v":""},"","","",null,null,null,null,"After MeP",{"$f":"IF(Z43=\"\",\"\",IF(OR(AB43=\"Solvent\",AB43=\"After MeP\"),0,IF(AB43=\"\",INDEX(RRFs!E:E,MATCH(\"Triglyme\",RRFs!B:B,FALSE)),INDEX(RRFs!E:E,MATCH(AB43,RRFs!B:B,FALSE)))))","v":""},"","",""]
[null,null,null,null,null,"*g/L as Triglyme",null,44,null,null,{"$f":"IF(J44=\"\",\"\",(J44/LARGE($J$5:$J$100,2)*(5/(INDEX(RRFs!E:E,MATCH(\"Triglyme\",RRFs!B:B,FALSE))))))","v":""},null,"","",{"$f":"IF(N44=\"\",\"\",(N44/(INDEX(INDIRECT(\"'\"&LEFT($M$2,5)&\" Data'!F:F\"),MATCH(\"EGDE\",INDIRECT(\"'\"&LEFT($M$2,5)&\" Data\"&\"'!G:G\"),FALSE))))*(INDEX('CSV Prep'!E:E,MATCH(\"EGDE \"&LEFT($M$2,5),'CSV Prep'!B:B,FALSE))/(INDEX(RRFs!E:E,MATCH(\"Triglyme\",RRFs!B:B,FALSE)))))","v":""},null,null,null,"After MeP",{"$f":"IF(Q44=\"\",\"\",IF(OR(S44=\"Solvent\",S44=\"After MeP\"),0,IF(S44=\"\",INDEX(RRFs!E:E,MATCH(\"Triglyme\",RRFs!B:B,FALSE)),INDEX(RRFs!E:E,MATCH(S44,RRFs!B:B,FALSE)))))","v":""},"","","",null,null,null,null,{"$f":"IF(Z44>=$E$41,\"After MeP\",\"\")","v":"After MeP"},{"$f":"IF(Z44=\"\",\"\",IF(OR(AB44=\"Solvent\",AB44=\"After MeP\"),0,IF(AB44=\"\",INDEX(RRFs!E:E,MATCH(\"Triglyme\",RRFs!B:B,FALSE)),INDEX(RRFs!E:E,MATCH(AB44,RRFs!B:B,FALSE)))))","v":""},"","",""]
[null,null,null,null,null,null,null,45,null,null,{"$f":"IF(J45=\"\",\"\",(J45/LARGE($J$5:$J$100,2)*(5/(INDEX(RRFs!E:E,MATCH(\"Triglyme\",RRFs!B:B,FALSE))))))","v":""},null,"","",{"$f":"IF(N45=\"\",\"\",(N45/(INDEX(INDIRECT(\"'\"&LEFT($M$2,5)&\" Data'!F:F\"),MATCH(\"EGDE\",INDIRECT(\"'\"&LEFT($M$2,5)&\" Data\"&\"'!G:G\"),FALSE))))*(INDEX('CSV Prep'!E:E,MATCH(\"EGDE \"&LEFT($M$2,5),'CSV Prep'!B:B,FALSE))/(INDEX(RRFs!E:E,MATCH(\"Triglyme\",RRFs!B:B,FALSE)))))","v":""},null,null,null,"After MeP",{"$f":"IF(Q45=\"\",\"\",IF(OR(S45=\"Solvent\",S45=\"After MeP\"),0,IF(S45=\"\",INDEX(RRFs!E:E,MATCH(\"Triglyme\",RRFs!B:B,FALSE)),INDEX(RRFs!E:E,MATCH(S45,RRFs!B:B,FALSE)))))","v":""},"","","",null,null,null,null,"After MeP",{"$f":"IF(Z45=\"\",\"\",IF(OR(AB45=\"Solvent\",AB45=\"After MeP\"),0,IF(AB45=\"\",INDEX(RRFs!E:E,MATCH(\"Triglyme\",RRFs!B:B,FALSE)),INDEX(RRFs!E:E,MATCH(AB45,RRFs!B:B,FALSE)))))","v":""},"","",""]
[null,null,null,null,null,null,null,46,null,null,{"$f":"IF(J46=\"\",\"\",(J46/LARGE($J$5:$J$100,2)*(5/(INDEX(RRFs!E:E,MATCH(\"Triglyme\",RRFs!B:B,FALSE))))))","v":""},null,"","",{"$f":"IF(N46=\"\",\"\",(N46/(INDEX(INDIRECT(\"'\"&LEFT($M$2,5)&\" Data'!F:F\"),MATCH(\"EGDE\",INDIRECT(\"'\"&LEFT($M$2,5)&\" Data\"&\"'!G:G\"),FALSE))))*(INDEX('CSV Prep'!E:E,MATCH(\"EGDE \"&LEFT($M$2,5),'CSV Prep'!B:B,FALSE))/(INDEX(RRFs!E:E,MATCH(\"Triglyme\",RRFs!B:B,FALSE)))))","v":""},null,null,null,"After MeP",{"$f":"IF(Q46=\"\",\"\",IF(OR(S46=\"Solvent\",S46=\"After MeP\"),0,IF(S46=\"\",INDEX(RRFs!E:E,MATCH(\"Triglyme\",RRFs!B:B,FALSE)),INDEX(RRFs!E:E,MATCH(S46,RRFs!B:B,FALSE)))))","v":""},"","","",null,null,null,null,"After MeP",{"$f":"IF(Z46=\"\",\"\",IF(OR(AB46=\"Solvent\",AB46=\"After MeP\"),0,IF(AB46=\"\",INDEX(RRFs!E:E,MATCH(\"Triglyme\",RRFs!B:B,FALSE)),INDEX(RRFs!E:E,MATCH(AB46,RRFs!B:B,FALSE)))))","v":""},"","",""]
[null,null,null,null,null,null,null,47,null,null,{"$f":"IF(J47=\"\",\"\",(J47/LARGE($J$5:$J$100,2)*(5/(INDEX(RRFs!E:E,MATCH(\"Triglyme\",RRFs!B:B,FALSE))))))","v":""},null,"","",{"$f":"IF(N47=\"\",\"\",(N47/(INDEX(INDIRECT(\"'\"&LEFT($M$2,5)&\" Data'!F:F\"),MATCH(\"EGDE\",INDIRECT(\"'\"&LEFT($M$2,5)&\" Data\"&\"'!G:G\"),FALSE))))*(INDEX('CSV Prep'!E:E,MATCH(\"EGDE \"&LEFT($M$2,5),'CSV Prep'!B:B,FALSE))/(INDEX(RRFs!E:E,MATCH(\"Triglyme\",RRFs!B:B,FALSE)))))","v":""},null,null,null,"After MeP",{"$f":"IF(Q47=\"\",\"\",IF(OR(S47=\"Solvent\",S47=\"After MeP\"),0,IF(S47=\"\",INDEX(RRFs!E:E,MATCH(\"Triglyme\",RRFs!B:B,FALSE)),INDEX(RRFs!E:E,MATCH(S47,RRFs!B:B,FALSE)))))","v":""},"","","",null,null,null,null,"After MeP",{"$f":"IF(Z47=\"\",\"\",IF(OR(AB47=\"Solvent\",AB47=\"After MeP\"),0,IF(AB47=\"\",INDEX(RRFs!E:E,MATCH(\"Triglyme\",RRFs!B:B,FALSE)),INDEX(RRFs!E:E,MATCH(AB47,RRFs!B:B,FALSE)))))","v":""},"","",""]
[null,null,null,null,null,null,null,48,null,null,{"$f":"IF(J48=\"\",\"\",(J48/LARGE($J$5:$J$100,2)*(5/(INDEX(RRFs!E:E,MATCH(\"Triglyme\",RRFs!B:B,FALSE))))))","v":""},null,"","",{"$f":"IF(N48=\"\",\"\",(N48/(INDEX(INDIRECT(\"'\"&LEFT($M$2,5)&\" Data'!F:F\"),MATCH(\"EGDE\",INDIRECT(\"'\"&LEFT($M$2,5)&\" Data\"&\"'!G:G\"),FALSE))))*(INDEX('CSV Prep'!E:E,MATCH(\"EGDE \"&LEFT($M$2,5),'CSV Prep'!B:B,FALSE))/(INDEX(RRFs!E:E,MATCH(\"Triglyme\",RRFs!B:B,FALSE)))))","v":""},null,null,null,"After MeP",{"$f":"IF(Q48=\"\",\"\",IF(OR(S48=\"Solvent\",S48=\"After MeP\"),0,IF(S48=\"\",INDEX(RRFs!E:E,MATCH(\"Triglyme\",RRFs!B:B,FALSE)),INDEX(RRFs!E:E,MATCH(S48,RRFs!B:B,FALSE)))))","v":""},"","","",null,null,null,null,"After MeP",{"$f":"IF(Z48=\"\",\"\",IF(OR(AB48=\"Solvent\",AB48=\"After MeP\"),0,IF(AB48=\"\",INDEX(RRFs!E:E,MATCH(\"Triglyme\",RRFs!B:B,FALSE)),INDEX(RRFs!E:E,MATCH(AB48,RRFs!B:B,FALSE)))))","v":""},"","",""]
[null,null,null,null,null,null,null,49,null,null,{"$f":"IF(J49=\"\",\"\",(J49/LARGE($J$5:$J$100,2)*(5/(INDEX(RRFs!E:E,MATCH(\"Triglyme\",RRFs!B:B,FALSE))))))","v":""},null,"","",{"$f":"IF(N49=\"\",\"\",(N49/(INDEX(INDIRECT(\"'\"&LEFT($M$2,5)&\" Data'!F:F\"),MATCH(\"EGDE\",INDIRECT(\"'\"&LEFT($M$2,5)&\" Data\"&\"'!G:G\"),FALSE))))*(INDEX('CSV Prep'!E:E,MATCH(\"EGDE \"&LEFT($M$2,5),'CSV Prep'!B:B,FALSE))/(INDEX(RRFs!E:E,MATCH(\"Triglyme\",RRFs!B:B,FALSE)))))","v":""},null,null,null,"After MeP",{"$f":"IF(Q49=\"\",\"\",IF(OR(S49=\"Solvent\",S49=\"After MeP\"),0,IF(S49=\"\",INDEX(RRFs!E:E,MATCH(\"Triglyme\",RRFs!B:B,FALSE)),INDEX(RRFs!E:E,MATCH(S49,RRFs!B:B,FALSE)))))","v":""},"","","",null,null,null,null,"After MeP",{"$f":"IF(Z49=\"\",\"\",IF(OR(AB49=\"Solvent\",AB49=\"After MeP\"),0,IF(AB49=\"\",INDEX(RRFs!E:E,MATCH(\"Triglyme\",RRFs!B:B,FALSE)),INDEX(RRFs!E:E,MATCH(AB49,RRFs!B:B,FALSE)))))","v":""},"","",""]
[null,null,null,null,null,null,null,50,null,null,{"$f":"IF(J50=\"\",\"\",(J50/LARGE($J$5:$J$100,2)*(5/(INDEX(RRFs!E:E,MATCH(\"Triglyme\",RRFs!B:B,FALSE))))))","v":""},null,"","",{"$f":"IF(N50=\"\",\"\",(N50/(INDEX(INDIRECT(\"'\"&LEFT($M$2,5)&\" Data'!F:F\"),MATCH(\"EGDE\",INDIRECT(\"'\"&LEFT($M$2,5)&\" Data\"&\"'!G:G\"),FALSE))))*(INDEX('CSV Prep'!E:E,MATCH(\"EGDE \"&LEFT($M$2,5),'CSV Prep'!B:B,FALSE))/(INDEX(RRFs!E:E,MATCH(\"Triglyme\",RRFs!B:B,FALSE)))))","v":""},null,null,null,"After MeP",{"$f":"IF(Q50=\"\",\"\",IF(OR(S50=\"Solvent\",S50=\"After MeP\"),0,IF(S50=\"\",INDEX(RRFs!E:E,MATCH(\"Triglyme\",RRFs!B:B,FALSE)),INDEX(RRFs!E:E,MATCH(S50,RRFs!B:B,FALSE)))))","v":""},"","","",null,null,null,null,"After MeP",{"$f":"IF(Z50=\"\",\"\",IF(OR(AB50=\"Solvent\",AB50=\"After MeP\"),0,IF(AB50=\"\",INDEX(RRFs!E:E,MATCH(\"Triglyme\",RRFs!B:B,FALSE)),INDEX(RRFs!E:E,MATCH(AB50,RRFs!B:B,FALSE)))))","v":""},"","",""]
[null,null,null,null,null,null,null,51,null,null,{"$f":"IF(J51=\"\",\"\",(J51/LARGE($J$5:$J$100,2)*(5/(INDEX(RRFs!E:E,MATCH(\"Triglyme\",RRFs!B:B,FALSE))))))","v":""},null,"","",{"$f":"IF(N51=\"\",\"\",(N51/(INDEX(INDIRECT(\"'\"&LEFT($M$2,5)&\" Data'!F:F\"),MATCH(\"EGDE\",INDIRECT(\"'\"&LEFT($M$2,5)&\" Data\"&\"'!G:G\"),FALSE))))*(INDEX('CSV Prep'!E:E,MATCH(\"EGDE \"&LEFT($M$2,5),'CSV Prep'!B:B,FALSE))/(INDEX(RRFs!E:E,MATCH(\"Triglyme\",RRFs!B:B,FALSE)))))","v":""},null,null,null,"After MeP",{"$f":"IF(Q51=\"\",\"\",IF(OR(S51=\"Solvent\",S51=\"After MeP\"),0,IF(S51=\"\",INDEX(RRFs!E:E,MATCH(\"Triglyme\",RRFs!B:B,FALSE)),INDEX(RRFs!E:E,MATCH(S51,RRFs!B:B,FALSE)))))","v":""},"","","",null,null,null,null,"After MeP",{"$f":"IF(Z51=\"\",\"\",IF(OR(AB51=\"Solvent\",AB51=\"After MeP\"),0,IF(AB51=\"\",INDEX(RRFs!E:E,MATCH(\"Triglyme\",RRFs!B:B,FALSE)),INDEX(RRFs!E:E,MATCH(AB51,RRFs!B:B,FALSE)))))","v":""},"","",""]
[null,null,null,null,null,null,null,52,null,null,{"$f":"IF(J52=\"\",\"\",(J52/LARGE($J$5:$J$100,2)*(5/(INDEX(RRFs!E:E,MATCH(\"Triglyme\",RRFs!B:B,FALSE))))))","v":""},null,"","",{"$f":"IF(N52=\"\",\"\",(N52/(INDEX(INDIRECT(\"'\"&LEFT($M$2,5)&\" Data'!F:F\"),MATCH(\"EGDE\",INDIRECT(\"'\"&LEFT($M$2,5)&\" Data\"&\"'!G:G\"),FALSE))))*(INDEX('CSV Prep'!E:E,MATCH(\"EGDE \"&LEFT($M$2,5),'CSV Prep'!B:B,FALSE))/(INDEX(RRFs!E:E,MATCH(\"Triglyme\",RRFs!B:B,FALSE)))))","v":""},null,null,null,"After MeP",{"$f":"IF(Q52=\"\",\"\",IF(OR(S52=\"Solvent\",S52=\"After MeP\"),0,IF(S52=\"\",INDEX(RRFs!E:E,MATCH(\"Triglyme\",RRFs!B:B,FALSE)),INDEX(RRFs!E:E,MATCH(S52,RRFs!B:B,FALSE)))))","v":""},"","","",null,null,null,null,"After MeP",{"$f":"IF(Z52=\"\",\"\",IF(OR(AB52=\"Solvent\",AB52=\"After MeP\"),0,IF(AB52=\"\",INDEX(RRFs!E:E,MATCH(\"Triglyme\",RRFs!B:B,FALSE)),INDEX(RRFs!E:E,MATCH(AB52,RRFs!B:B,FALSE)))))","v":""},"","",""]
[null,null,null,null,null,null,null,53,null,null,{"$f":"IF(J53=\"\",\"\",(J53/LARGE($J$5:$J$100,2)*(5/(INDEX(RRFs!E:E,MATCH(\"Triglyme\",RRFs!B:B,FALSE))))))","v":""},null,"","",{"$f":"IF(N53=\"\",\"\",(N53/(INDEX(INDIRECT(\"'\"&LEFT($M$2,5)&\" Data'!F:F\"),MATCH(\"EGDE\",INDIRECT(\"'\"&LEFT($M$2,5)&\" Data\"&\"'!G:G\"),FALSE))))*(INDEX('CSV Prep'!E:E,MATCH(\"EGDE \"&LEFT($M$2,5),'CSV Prep'!B:B,FALSE))/(INDEX(RRFs!E:E,MATCH(\"Triglyme\",RRFs!B:B,FALSE)))))","v":""},null,null,null,"After MeP",{"$f":"IF(Q53=\"\",\"\",IF(OR(S53=\"Solvent\",S53=\"After MeP\"),0,IF(S53=\"\",INDEX(RRFs!E:E,MATCH(\"Triglyme\",RRFs!B:B,FALSE)),INDEX(RRFs!E:E,MATCH(S53,RRFs!B:B,FALSE)))))","v":""},"","","",null,null,null,null,"After MeP",{"$f":"IF(Z53=\"\",\"\",IF(OR(AB53=\"Solvent\",AB53=\"After MeP\"),0,IF(AB53=\"\",INDEX(RRFs!E:E,MATCH(\"Triglyme\",RRFs!B:B,FALSE)),INDEX(RRFs!E:E,MATCH(AB53,RRFs!B:B,FALSE)))))","v":""},"","",""]
[null,null,null,null,null,null,null,54,null,null,{"$f":"IF(J54=\"\",\"\",(J54/LARGE($J$5:$J$100,2)*(5/(INDEX(RRFs!E:E,MATCH(\"Triglyme\",RRFs!B:B,FALSE))))))","v":""},null,"","",{"$f":"IF(N54=\"\",\"\",(N54/(INDEX(INDIRECT(\"'\"&LEFT($M$2,5)&\" Data'!F:F\"),MATCH(\"EGDE\",INDIRECT(\"'\"&LEFT($M$2,5)&\" Data\"&\"'!G:G\"),FALSE))))*(INDEX('CSV Prep'!E:E,MATCH(\"EGDE \"&LEFT($M$2,5),'CSV Prep'!B:B,FALSE))/(INDEX(RRFs!E:E,MATCH(\"Triglyme\",RRFs!B:B,FALSE)))))","v":""},null,null,null,"After MeP",{"$f":"IF(Q54=\"\",\"\",IF(OR(S54=\"Solvent\",S54=\"After MeP\"),0,IF(S54=\"\",INDEX(RRFs!E:E,MATCH(\"Triglyme\",RRFs!B:B,FALSE)),INDEX(RRFs!E:E,MATCH(S54,RRFs!B:B,FALSE)))))","v":""},"","","",null,null,null,null,"After MeP",{"$f":"IF(Z54=\"\",\"\",IF(OR(AB54=\"Solvent\",AB54=\"After MeP\"),0,IF(AB54=\"\",INDEX(RRFs!E:E,MATCH(\"Triglyme\",RRFs!B:B,FALSE)),INDEX(RRFs!E:E,MATCH(AB54,RRFs!B:B,FALSE)))))","v":""},"","",""]
[null,null,null,null,null,null,null,55,null,null,{"$f":"IF(J55=\"\",\"\",(J55/LARGE($J$5:$J$100,2)*(5/(INDEX(RRFs!E:E,MATCH(\"Triglyme\",RRFs!B:B,FALSE))))))","v":""},null,"","",{"$f":"IF(N55=\"\",\"\",(N55/(INDEX(INDIRECT(\"'\"&LEFT($M$2,5)&\" Data'!F:F\"),MATCH(\"EGDE\",INDIRECT(\"'\"&LEFT($M$2,5)&\" Data\"&\"'!G:G\"),FALSE))))*(INDEX('CSV Prep'!E:E,MATCH(\"EGDE \"&LEFT($M$2,5),'CSV Prep'!B:B,FALSE))/(INDEX(RRFs!E:E,MATCH(\"Triglyme\",RRFs!B:B,FALSE)))))","v":""},null,null,null,"After MeP",{"$f":"IF(Q55=\"\",\"\",IF(OR(S55=\"Solvent\",S55=\"After MeP\"),0,IF(S55=\"\",INDEX(RRFs!E:E,MATCH(\"Triglyme\",RRFs!B:B,FALSE)),INDEX(RRFs!E:E,MATCH(S55,RRFs!B:B,FALSE)))))","v":""},"","","",null,null,null,null,"After MeP",{"$f":"IF(Z55=\"\",\"\",IF(OR(AB55=\"Solvent\",AB55=\"After MeP\"),0,IF(AB55=\"\",INDEX(RRFs!E:E,MATCH(\"Triglyme\",RRFs!B:B,FALSE)),INDEX(RRFs!E:E,MATCH(AB55,RRFs!B:B,FALSE)))))","v":""},"","",""]
[null,null,null,null,null,null,null,56,null,null,{"$f":"IF(J56=\"\",\"\",(J56/LARGE($J$5:$J$100,2)*(5/(INDEX(RRFs!E:E,MATCH(\"Triglyme\",RRFs!B:B,FALSE))))))","v":""},null,"","",{"$f":"IF(N56=\"\",\"\",(N56/(INDEX(INDIRECT(\"'\"&LEFT($M$2,5)&\" Data'!F:F\"),MATCH(\"EGDE\",INDIRECT(\"'\"&LEFT($M$2,5)&\" Data\"&\"'!G:G\"),FALSE))))*(INDEX('CSV Prep'!E:E,MATCH(\"EGDE \"&LEFT($M$2,5),'CSV Prep'!B:B,FALSE))/(INDEX(RRFs!E:E,MATCH(\"Triglyme\",RRFs!B:B,FALSE)))))","v":""},null,null,null,"After MeP",{"$f":"IF(Q56=\"\",\"\",IF(OR(S56=\"Solvent\",S56=\"After MeP\"),0,IF(S56=\"\",INDEX(RRFs!E:E,MATCH(\"Triglyme\",RRFs!B:B,FALSE)),INDEX(RRFs!E:E,MATCH(S56,RRFs!B:B,FALSE)))))","v":""},"","","",null,null,null,null,"After MeP",{"$f":"IF(Z56=\"\",\"\",IF(OR(AB56=\"Solvent\",AB56=\"After MeP\"),0,IF(AB56=\"\",INDEX(RRFs!E:E,MATCH(\"Triglyme\",RRFs!B:B,FALSE)),INDEX(RRFs!E:E,MATCH(AB56,RRFs!B:B,FALSE)))))","v":""},"","",""]
[null,null,null,null,null,null,null,57,null,null,{"$f":"IF(J57=\"\",\"\",(J57/LARGE($J$5:$J$100,2)*(5/(INDEX(RRFs!E:E,MATCH(\"Triglyme\",RRFs!B:B,FALSE))))))","v":""},null,"","",{"$f":"IF(N57=\"\",\"\",(N57/(INDEX(INDIRECT(\"'\"&LEFT($M$2,5)&\" Data'!F:F\"),MATCH(\"EGDE\",INDIRECT(\"'\"&LEFT($M$2,5)&\" Data\"&\"'!G:G\"),FALSE))))*(INDEX('CSV Prep'!E:E,MATCH(\"EGDE \"&LEFT($M$2,5),'CSV Prep'!B:B,FALSE))/(INDEX(RRFs!E:E,MATCH(\"Triglyme\",RRFs!B:B,FALSE)))))","v":""},null,null,null,"After MeP",{"$f":"IF(Q57=\"\",\"\",IF(OR(S57=\"Solvent\",S57=\"After MeP\"),0,IF(S57=\"\",INDEX(RRFs!E:E,MATCH(\"Triglyme\",RRFs!B:B,FALSE)),INDEX(RRFs!E:E,MATCH(S57,RRFs!B:B,FALSE)))))","v":""},"","","",null,null,null,null,"After MeP",{"$f":"IF(Z57=\"\",\"\",IF(OR(AB57=\"Solvent\",AB57=\"After MeP\"),0,IF(AB57=\"\",INDEX(RRFs!E:E,MATCH(\"Triglyme\",RRFs!B:B,FALSE)),INDEX(RRFs!E:E,MATCH(AB57,RRFs!B:B,FALSE)))))","v":""},"","",""]
[null,null,null,null,null,null,null,58,null,null,{"$f":"IF(J58=\"\",\"\",(J58/LARGE($J$5:$J$100,2)*(5/(INDEX(RRFs!E:E,MATCH(\"Triglyme\",RRFs!B:B,FALSE))))))","v":""},null,"","",{"$f":"IF(N58=\"\",\"\",(N58/(INDEX(INDIRECT(\"'\"&LEFT($M$2,5)&\" Data'!F:F\"),MATCH(\"EGDE\",INDIRECT(\"'\"&LEFT($M$2,5)&\" Data\"&\"'!G:G\"),FALSE))))*(INDEX('CSV Prep'!E:E,MATCH(\"EGDE \"&LEFT($M$2,5),'CSV Prep'!B:B,FALSE))/(INDEX(RRFs!E:E,MATCH(\"Triglyme\",RRFs!B:B,FALSE)))))","v":""},null,null,null,"After MeP",{"$f":"IF(Q58=\"\",\"\",IF(OR(S58=\"Solvent\",S58=\"After MeP\"),0,IF(S58=\"\",INDEX(RRFs!E:E,MATCH(\"Triglyme\",RRFs!B:B,FALSE)),INDEX(RRFs!E:E,MATCH(S58,RRFs!B:B,FALSE)))))","v":""},"","","",null,null,null,null,"After MeP",{"$f":"IF(Z58=\"\",\"\",IF(OR(AB58=\"Solvent\",AB58=\"After MeP\"),0,IF(AB58=\"\",INDEX(RRFs!E:E,MATCH(\"Triglyme\",RRFs!B:B,FALSE)),INDEX(RRFs!E:E,MATCH(AB58,RRFs!B:B,FALSE)))))","v":""},"","",""]
[null,null,null,null,null,null,null,59,null,null,{"$f":"IF(J59=\"\",\"\",(J59/LARGE($J$5:$J$100,2)*(5/(INDEX(RRFs!E:E,MATCH(\"Triglyme\",RRFs!B:B,FALSE))))))","v":""},null,"","",{"$f":"IF(N59=\"\",\"\",(N59/(INDEX(INDIRECT(\"'\"&LEFT($M$2,5)&\" Data'!F:F\"),MATCH(\"EGDE\",INDIRECT(\"'\"&LEFT($M$2,5)&\" Data\"&\"'!G:G\"),FALSE))))*(INDEX('CSV Prep'!E:E,MATCH(\"EGDE \"&LEFT($M$2,5),'CSV Prep'!B:B,FALSE))/(INDEX(RRFs!E:E,MATCH(\"Triglyme\",RRFs!B:B,FALSE)))))","v":""},null,null,null,"After MeP",{"$f":"IF(Q59=\"\",\"\",IF(OR(S59=\"Solvent\",S59=\"After MeP\"),0,IF(S59=\"\",INDEX(RRFs!E:E,MATCH(\"Triglyme\",RRFs!B:B,FALSE)),INDEX(RRFs!E:E,MATCH(S59,RRFs!B:B,FALSE)))))","v":""},"","","",null,null,null,null,"After MeP",{"$f":"IF(Z59=\"\",\"\",IF(OR(AB59=\"Solvent\",AB59=\"After MeP\"),0,IF(AB59=\"\",INDEX(RRFs!E:E,MATCH(\"Triglyme\",RRFs!B:B,FALSE)),INDEX(RRFs!E:E,MATCH(AB59,RRFs!B:B,FALSE)))))","v":""},"","",""]
[null,null,null,null,null,null,null,60,null,null,{"$f":"IF(J60=\"\",\"\",(J60/LARGE($J$5:$J$100,2)*(5/(INDEX(RRFs!E:E,MATCH(\"Triglyme\",RRFs!B:B,FALSE))))))","v":""},null,"","",{"$f":"IF(N60=\"\",\"\",(N60/(INDEX(INDIRECT(\"'\"&LEFT($M$2,5)&\" Data'!F:F\"),MATCH(\"EGDE\",INDIRECT(\"'\"&LEFT($M$2,5)&\" Data\"&\"'!G:G\"),FALSE))))*(INDEX('CSV Prep'!E:E,MATCH(\"EGDE \"&LEFT($M$2,5),'CSV Prep'!B:B,FALSE))/(INDEX(RRFs!E:E,MATCH(\"Triglyme\",RRFs!B:B,FALSE)))))","v":""},null,null,null,"After MeP",{"$f":"IF(Q60=\"\",\"\",IF(OR(S60=\"Solvent\",S60=\"After MeP\"),0,IF(S60=\"\",INDEX(RRFs!E:E,MATCH(\"Triglyme\",RRFs!B:B,FALSE)),INDEX(RRFs!E:E,MATCH(S60,RRFs!B:B,FALSE)))))","v":""},"","","",null,null,null,null,"After MeP",{"$f":"IF(Z60=\"\",\"\",IF(OR(AB60=\"Solvent\",AB60=\"After MeP\"),0,IF(AB60=\"\",INDEX(RRFs!E:E,MATCH(\"Triglyme\",RRFs!B:B,FALSE)),INDEX(RRFs!E:E,MATCH(AB60,RRFs!B:B,FALSE)))))","v":""},"","",""]
[null,null,null,null,null,null,null,61,null,null,{"$f":"IF(J61=\"\",\"\",(J61/LARGE($J$5:$J$100,2)*(5/(INDEX(RRFs!E:E,MATCH(\"Triglyme\",RRFs!B:B,FALSE))))))","v":""},null,"","",{"$f":"IF(N61=\"\",\"\",(N61/(INDEX(INDIRECT(\"'\"&LEFT($M$2,5)&\" Data'!F:F\"),MATCH(\"EGDE\",INDIRECT(\"'\"&LEFT($M$2,5)&\" Data\"&\"'!G:G\"),FALSE))))*(INDEX('CSV Prep'!E:E,MATCH(\"EGDE \"&LEFT($M$2,5),'CSV Prep'!B:B,FALSE))/(INDEX(RRFs!E:E,MATCH(\"Triglyme\",RRFs!B:B,FALSE)))))","v":""},null,null,null,"After MeP",{"$f":"IF(Q61=\"\",\"\",IF(OR(S61=\"Solvent\",S61=\"After MeP\"),0,IF(S61=\"\",INDEX(RRFs!E:E,MATCH(\"Triglyme\",RRFs!B:B,FALSE)),INDEX(RRFs!E:E,MATCH(S61,RRFs!B:B,FALSE)))))","v":""},"","","",null,null,null,null,"After MeP",{"$f":"IF(Z61=\"\",\"\",IF(OR(AB61=\"Solvent\",AB61=\"After MeP\"),0,IF(AB61=\"\",INDEX(RRFs!E:E,MATCH(\"Triglyme\",RRFs!B:B,FALSE)),INDEX(RRFs!E:E,MATCH(AB61,RRFs!B:B,FALSE)))))","v":""},"","",""]
[null,null,null,null,null,null,null,62,null,null,{"$f":"IF(J62=\"\",\"\",(J62/LARGE($J$5:$J$100,2)*(5/(INDEX(RRFs!E:E,MATCH(\"Triglyme\",RRFs!B:B,FALSE))))))","v":""},null,"","",{"$f":"IF(N62=\"\",\"\",(N62/(INDEX(INDIRECT(\"'\"&LEFT($M$2,5)&\" Data'!F:F\"),MATCH(\"EGDE\",INDIRECT(\"'\"&LEFT($M$2,5)&\" Data\"&\"'!G:G\"),FALSE))))*(INDEX('CSV Prep'!E:E,MATCH(\"EGDE \"&LEFT($M$2,5),'CSV Prep'!B:B,FALSE))/(INDEX(RRFs!E:E,MATCH(\"Triglyme\",RRFs!B:B,FALSE)))))","v":""},null,null,null,"After MeP",{"$f":"IF(Q62=\"\",\"\",IF(OR(S62=\"Solvent\",S62=\"After MeP\"),0,IF(S62=\"\",INDEX(RRFs!E:E,MATCH(\"Triglyme\",RRFs!B:B,FALSE)),INDEX(RRFs!E:E,MATCH(S62,RRFs!B:B,FALSE)))))","v":""},"","","",null,null,null,null,"After MeP",{"$f":"IF(Z62=\"\",\"\",IF(OR(AB62=\"Solvent\",AB62=\"After MeP\"),0,IF(AB62=\"\",INDEX(RRFs!E:E,MATCH(\"Triglyme\",RRFs!B:B,FALSE)),INDEX(RRFs!E:E,MATCH(AB62,RRFs!B:B,FALSE)))))","v":""},"","",""]
[null,null,null,null,null,null,null,63,null,null,{"$f":"IF(J63=\"\",\"\",(J63/LARGE($J$5:$J$100,2)*(5/(INDEX(RRFs!E:E,MATCH(\"Triglyme\",RRFs!B:B,FALSE))))))","v":""},null,"","",{"$f":"IF(N63=\"\",\"\",(N63/(INDEX(INDIRECT(\"'\"&LEFT($M$2,5)&\" Data'!F:F\"),MATCH(\"EGDE\",INDIRECT(\"'\"&LEFT($M$2,5)&\" Data\"&\"'!G:G\"),FALSE))))*(INDEX('CSV Prep'!E:E,MATCH(\"EGDE \"&LEFT($M$2,5),'CSV Prep'!B:B,FALSE))/(INDEX(RRFs!E:E,MATCH(\"Triglyme\",RRFs!B:B,FALSE)))))","v":""},null,null,null,"After MeP",{"$f":"IF(Q63=\"\",\"\",IF(OR(S63=\"Solvent\",S63=\"After MeP\"),0,IF(S63=\"\",INDEX(RRFs!E:E,MATCH(\"Triglyme\",RRFs!B:B,FALSE)),INDEX(RRFs!E:E,MATCH(S63,RRFs!B:B,FALSE)))))","v":""},"","","",null,null,null,null,"After MeP",{"$f":"IF(Z63=\"\",\"\",IF(OR(AB63=\"Solvent\",AB63=\"After MeP\"),0,IF(AB63=\"\",INDEX(RRFs!E:E,MATCH(\"Triglyme\",RRFs!B:B,FALSE)),INDEX(RRFs!E:E,MATCH(AB63,RRFs!B:B,FALSE)))))","v":""},"","",""]
[null,null,null,null,null,null,null,64,null,null,{"$f":"IF(J64=\"\",\"\",(J64/LARGE($J$5:$J$100,2)*(5/(INDEX(RRFs!E:E,MATCH(\"Triglyme\",RRFs!B:B,FALSE))))))","v":""},null,"","",{"$f":"IF(N64=\"\",\"\",(N64/(INDEX(INDIRECT(\"'\"&LEFT($M$2,5)&\" Data'!F:F\"),MATCH(\"EGDE\",INDIRECT(\"'\"&LEFT($M$2,5)&\" Data\"&\"'!G:G\"),FALSE))))*(INDEX('CSV Prep'!E:E,MATCH(\"EGDE \"&LEFT($M$2,5),'CSV Prep'!B:B,FALSE))/(INDEX(RRFs!E:E,MATCH(\"Triglyme\",RRFs!B:B,FALSE)))))","v":""},null,null,null,"After MeP",{"$f":"IF(Q64=\"\",\"\",IF(OR(S64=\"Solvent\",S64=\"After MeP\"),0,IF(S64=\"\",INDEX(RRFs!E:E,MATCH(\"Triglyme\",RRFs!B:B,FALSE)),INDEX(RRFs!E:E,MATCH(S64,RRFs!B:B,FALSE)))))","v":""},"","","",null,null,null,null,"After MeP",{"$f":"IF(Z64=\"\",\"\",IF(OR(AB64=\"Solvent\",AB64=\"After MeP\"),0,IF(AB64=\"\",INDEX(RRFs!E:E,MATCH(\"Triglyme\",RRFs!B:B,FALSE)),INDEX(RRFs!E:E,MATCH(AB64,RRFs!B:B,FALSE)))))","v":""},"","",""]
[null,null,null,null,null,null,null,65,null,null,{"$f":"IF(J65=\"\",\"\",(J65/LARGE($J$5:$J$100,2)*(5/(INDEX(RRFs!E:E,MATCH(\"Triglyme\",RRFs!B:B,FALSE))))))","v":""},null,"","",{"$f":"IF(N65=\"\",\"\",(N65/(INDEX(INDIRECT(\"'\"&LEFT($M$2,5)&\" Data'!F:F\"),MATCH(\"EGDE\",INDIRECT(\"'\"&LEFT($M$2,5)&\" Data\"&\"'!G:G\"),FALSE))))*(INDEX('CSV Prep'!E:E,MATCH(\"EGDE \"&LEFT($M$2,5),'CSV Prep'!B:B,FALSE))/(INDEX(RRFs!E:E,MATCH(\"Triglyme\",RRFs!B:B,FALSE)))))","v":""},null,null,null,"After MeP",{"$f":"IF(Q65=\"\",\"\",IF(OR(S65=\"Solvent\",S65=\"After MeP\"),0,IF(S65=\"\",INDEX(RRFs!E:E,MATCH(\"Triglyme\",RRFs!B:B,FALSE)),INDEX(RRFs!E:E,MATCH(S65,RRFs!B:B,FALSE)))))","v":""},"","","",null,null,null,null,"After MeP",{"$f":"IF(Z65=\"\",\"\",IF(OR(AB65=\"Solvent\",AB65=\"After MeP\"),0,IF(AB65=\"\",INDEX(RRFs!E:E,MATCH(\"Triglyme\",RRFs!B:B,FALSE)),INDEX(RRFs!E:E,MATCH(AB65,RRFs!B:B,FALSE)))))","v":""},"","",""]
[null,null,null,null,null,null,null,66,null,null,{"$f":"IF(J66=\"\",\"\",(J66/LARGE($J$5:$J$100,2)*(5/(INDEX(RRFs!E:E,MATCH(\"Triglyme\",RRFs!B:B,FALSE))))))","v":""},null,"","",{"$f":"IF(N66=\"\",\"\",(N66/(INDEX(INDIRECT(\"'\"&LEFT($M$2,5)&\" Data'!F:F\"),MATCH(\"EGDE\",INDIRECT(\"'\"&LEFT($M$2,5)&\" Data\"&\"'!G:G\"),FALSE))))*(INDEX('CSV Prep'!E:E,MATCH(\"EGDE \"&LEFT($M$2,5),'CSV Prep'!B:B,FALSE))/(INDEX(RRFs!E:E,MATCH(\"Triglyme\",RRFs!B:B,FALSE)))))","v":""},null,null,null,"After MeP",{"$f":"IF(Q66=\"\",\"\",IF(OR(S66=\"Solvent\",S66=\"After MeP\"),0,IF(S66=\"\",INDEX(RRFs!E:E,MATCH(\"Triglyme\",RRFs!B:B,FALSE)),INDEX(RRFs!E:E,MATCH(S66,RRFs!B:B,FALSE)))))","v":""},"","","",null,null,null,null,"After MeP",{"$f":"IF(Z66=\"\",\"\",IF(OR(AB66=\"Solvent\",AB66=\"After MeP\"),0,IF(AB66=\"\",INDEX(RRFs!E:E,MATCH(\"Triglyme\",RRFs!B:B,FALSE)),INDEX(RRFs!E:E,MATCH(AB66,RRFs!B:B,FALSE)))))","v":""},"","",""]
[null,null,null,null,null,null,null,67,null,null,{"$f":"IF(J67=\"\",\"\",(J67/LARGE($J$5:$J$100,2)*(5/(INDEX(RRFs!E:E,MATCH(\"Triglyme\",RRFs!B:B,FALSE))))))","v":""},null,"","",{"$f":"IF(N67=\"\",\"\",(N67/(INDEX(INDIRECT(\"'\"&LEFT($M$2,5)&\" Data'!F:F\"),MATCH(\"EGDE\",INDIRECT(\"'\"&LEFT($M$2,5)&\" Data\"&\"'!G:G\"),FALSE))))*(INDEX('CSV Prep'!E:E,MATCH(\"EGDE \"&LEFT($M$2,5),'CSV Prep'!B:B,FALSE))/(INDEX(RRFs!E:E,MATCH(\"Triglyme\",RRFs!B:B,FALSE)))))","v":""},null,null,null,"After MeP",{"$f":"IF(Q67=\"\",\"\",IF(OR(S67=\"Solvent\",S67=\"After MeP\"),0,IF(S67=\"\",INDEX(RRFs!E:E,MATCH(\"Triglyme\",RRFs!B:B,FALSE)),INDEX(RRFs!E:E,MATCH(S67,RRFs!B:B,FALSE)))))","v":""},"","","",null,null,null,null,"After MeP",{"$f":"IF(Z67=\"\",\"\",IF(OR(AB67=\"Solvent\",AB67=\"After MeP\"),0,IF(AB67=\"\",INDEX(RRFs!E:E,MATCH(\"Triglyme\",RRFs!B:B,FALSE)),INDEX(RRFs!E:E,MATCH(AB67,RRFs!B:B,FALSE)))))","v":""},"","",""]
[null,null,null,null,null,null,null,68,null,null,{"$f":"IF(J68=\"\",\"\",(J68/LARGE($J$5:$J$100,2)*(5/(INDEX(RRFs!E:E,MATCH(\"Triglyme\",RRFs!B:B,FALSE))))))","v":""},null,"","",{"$f":"IF(N68=\"\",\"\",(N68/(INDEX(INDIRECT(\"'\"&LEFT($M$2,5)&\" Data'!F:F\"),MATCH(\"EGDE\",INDIRECT(\"'\"&LEFT($M$2,5)&\" Data\"&\"'!G:G\"),FALSE))))*(INDEX('CSV Prep'!E:E,MATCH(\"EGDE \"&LEFT($M$2,5),'CSV Prep'!B:B,FALSE))/(INDEX(RRFs!E:E,MATCH(\"Triglyme\",RRFs!B:B,FALSE)))))","v":""},null,null,null,"After MeP",{"$f":"IF(Q68=\"\",\"\",IF(OR(S68=\"Solvent\",S68=\"After MeP\"),0,IF(S68=\"\",INDEX(RRFs!E:E,MATCH(\"Triglyme\",RRFs!B:B,FALSE)),INDEX(RRFs!E:E,MATCH(S68,RRFs!B:B,FALSE)))))","v":""},"","","",null,null,null,null,"After MeP",{"$f":"IF(Z68=\"\",\"\",IF(OR(AB68=\"Solvent\",AB68=\"After MeP\"),0,IF(AB68=\"\",INDEX(RRFs!E:E,MATCH(\"Triglyme\",RRFs!B:B,FALSE)),INDEX(RRFs!E:E,MATCH(AB68,RRFs!B:B,FALSE)))))","v":""},"","",""]
[null,null,null,null,null,null,null,69,null,null,{"$f":"IF(J69=\"\",\"\",(J69/LARGE($J$5:$J$100,2)*(5/(INDEX(RRFs!E:E,MATCH(\"Triglyme\",RRFs!B:B,FALSE))))))","v":""},null,"","",{"$f":"IF(N69=\"\",\"\",(N69/(INDEX(INDIRECT(\"'\"&LEFT($M$2,5)&\" Data'!F:F\"),MATCH(\"EGDE\",INDIRECT(\"'\"&LEFT($M$2,5)&\" Data\"&\"'!G:G\"),FALSE))))*(INDEX('CSV Prep'!E:E,MATCH(\"EGDE \"&LEFT($M$2,5),'CSV Prep'!B:B,FALSE))/(INDEX(RRFs!E:E,MATCH(\"Triglyme\",RRFs!B:B,FALSE)))))","v":""},null,null,null,"After MeP",{"$f":"IF(Q69=\"\",\"\",IF(OR(S69=\"Solvent\",S69=\"After MeP\"),0,IF(S69=\"\",INDEX(RRFs!E:E,MATCH(\"Triglyme\",RRFs!B:B,FALSE)),INDEX(RRFs!E:E,MATCH(S69,RRFs!B:B,FALSE)))))","v":""},{"$f":"IF(Q69=\"\",\"\",IF(T69=0,0,IF(S69=\"EGDE\",R69/T69,R69/INDEX(R:R,MATCH(\"EGDE\",S:S,FALSE)) *INDEX($F$29:$F$38,MATCH(\"EGDE\",$C$29:$C$38,FALSE))/T69)))","v":""},"","",null,null,null,null,{"$f":"IF(Z69>=$E$41,\"After MeP\",\"\")","v":"After MeP"},{"$f":"IF(Z69=\"\",\"\",IF(OR(AB69=\"Solvent\",AB69=\"After MeP\"),0,IF(AB69=\"\",INDEX(RRFs!E:E,MATCH(\"Triglyme\",RRFs!B:B,FALSE)),INDEX(RRFs!E:E,MATCH(AB69,RRFs!B:B,FALSE)))))","v":""},{"$f":"IF(Z69=\"\",\"\",IF(AC69=0,0,IF(AB69=\"EGDE\",AA69/AC69,AA69/INDEX(AA:AA,MATCH(\"EGDE\",AB:AB,FALSE)) *INDEX($F$29:$F$38,MATCH(\"EGDE\",$C$29:$C$38,FALSE))/AC69)))","v":""},"",""]
[null,null,null,null,null,null,null,70,null,null,{"$f":"IF(J70=\"\",\"\",(J70/LARGE($J$5:$J$100,2)*(5/(INDEX(RRFs!E:E,MATCH(\"Triglyme\",RRFs!B:B,FALSE))))))","v":""},null,{"$f":"IF(INDEX(INDIRECT(\"'\"&SUBSTITUTE($M$2,RIGHT($M$2,1),\"\")&\"Data\"&\"'!2:100\"),H70,MATCH($M$2,INDIRECT(\"'\"&SUBSTITUTE($M$2,RIGHT($M$2,1),\"\")&\"Data\"&\"'!2:2\"),FALSE)-1)=0,\"\",INDEX(INDIRECT(\"'\"&SUBSTITUTE($M$2,RIGHT($M$2,1),\"\")&\"Data\"&\"'!2:100\"),H70,MATCH($M$2,INDIRECT(\"'\"&SUBSTITUTE($M$2,RIGHT($M$2,1),\"\")&\"Data\"&\"'!2:2\"),FALSE)-1))","v":""},{"$f":"IF(INDEX(INDIRECT(\"'\"&SUBSTITUTE($M$2,RIGHT($M$2,1),\"\")&\"Data\"&\"'!2:100\"),H70,MATCH($M$2,INDIRECT(\"'\"&SUBSTITUTE($M$2,RIGHT($M$2,1),\"\")&\"Data\"&\"'!2:2\"),FALSE))=0,\"\",INDEX(INDIRECT(\"'\"&SUBSTITUTE($M$2,RIGHT($M$2,1),\"\")&\"Data\"&\"'!2:100\"),H70,MATCH($M$2,INDIRECT(\"'\"&SUBSTITUTE($M$2,RIGHT($M$2,1),\"\")&\"Data\"&\"'!2:2\"),FALSE)))","v":""},{"$f":"IF(N70=\"\",\"\",(N70/(INDEX(INDIRECT(\"'\"&LEFT($M$2,5)&\" Data'!F:F\"),MATCH(\"EGDE\",INDIRECT(\"'\"&LEFT($M$2,5)&\" Data\"&\"'!G:G\"),FALSE))))*(INDEX('CSV Prep'!E:E,MATCH(\"EGDE \"&LEFT($M$2,5),'CSV Prep'!B:B,FALSE))/(INDEX(RRFs!E:E,MATCH(\"Triglyme\",RRFs!B:B,FALSE)))))","v":""},null,null,null,"After MeP",{"$f":"IF(Q70=\"\",\"\",IF(OR(S70=\"Solvent\",S70=\"After MeP\"),0,IF(S70=\"\",INDEX(RRFs!E:E,MATCH(\"Triglyme\",RRFs!B:B,FALSE)),INDEX(RRFs!E:E,MATCH(S70,RRFs!B:B,FALSE)))))","v":""},"",{"$f":"IF(Q70=\"\",\"\",IF(OR(S70=\"Heptane\",S70=\"IPA\",S70=\"Triglyme\",S70=\"DIIBA\",S70=\"EGDE\"),\"\",U70*($D$26/(LARGE($F$16:$F$21,1)*($E$32-$E$31)))*$D$4))","v":""},{"$f":"IF(V70=\"\",\"\",IF(AND(V70>1,S70=\"\"),\"Yes\",\"\"))","v":""},null,null,null,null,"After MeP",{"$f":"IF(Z70=\"\",\"\",IF(OR(AB70=\"Solvent\",AB70=\"After MeP\"),0,IF(AB70=\"\",INDEX(RRFs!E:E,MATCH(\"Triglyme\",RRFs!B:B,FALSE)),INDEX(RRFs!E:E,MATCH(AB70,RRFs!B:B,FALSE)))))","v":""},"",{"$f":"IF(Z70=\"\",\"\",IF(OR(AB70=\"Heptane\",AB70=\"IPA\",AB70=\"Triglyme\",AB70=\"DIIBA\",AB70=\"EGDE\"),\"\",AD70*($D$26/((LARGE($F$16:$F$21,1)*($E$32-$E$31)))*$D$4)))","v":""},{"$f":"IF(AE70=\"\",\"\",IF(AND(AE70>1,AB70=\"\"),\"Yes\",\"\"))","v":""}]
[null,null,null,null,null,null,null,{"$f":"H70+1","v":71},null,null,{"$f":"IF(J71=\"\",\"\",(J71/LARGE($J$5:$J$100,2)*(5/(INDEX(RRFs!E:E,MATCH(\"Triglyme\",RRFs!B:B,FALSE))))))","v":""},null,"","",{"$f":"IF(N71=\"\",\"\",(N71/(INDEX(INDIRECT(\"'\"&LEFT($M$2,5)&\" Data'!F:F\"),MATCH(\"EGDE\",INDIRECT(\"'\"&LEFT($M$2,5)&\" Data\"&\"'!G:G\"),FALSE))))*(INDEX('CSV Prep'!E:E,MATCH(\"EGDE \"&LEFT($M$2,5),'CSV Prep'!B:B,FALSE))/(INDEX(RRFs!E:E,MATCH(\"Triglyme\",RRFs!B:B,FALSE)))))","v":""},null,null,null,"After MeP",{"$f":"IF(Q71=\"\",\"\",IF(OR(S71=\"Solvent\",S71=\"After MeP\"),0,IF(S71=\"\",INDEX(RRFs!E:E,MATCH(\"Triglyme\",RRFs!B:B,FALSE)),INDEX(RRFs!E:E,MATCH(S71,RRFs!B:B,FALSE)))))","v":""},"","","",null,null,null,null,"After MeP",{"$f":"IF(Z71=\"\",\"\",IF(OR(AB71=\"Solvent\",AB71=\"After MeP\"),0,IF(AB71=\"\",INDEX(RRFs!E:E,MATCH(\"Triglyme\",RRFs!B:B,FALSE)),INDEX(RRFs!E:E,MATCH(AB71,RRFs!B:B,FALSE)))))","v":""},"","",""]
[null,null,null,null,null,null,null,72,null,null,{"$f":"IF(J72=\"\",\"\",(J72/LARGE($J$5:$J$100,2)*(5/(INDEX(RRFs!E:E,MATCH(\"Triglyme\",RRFs!B:B,FALSE))))))","v":""},null,"","",{"$f":"IF(N72=\"\",\"\",(N72/(INDEX(INDIRECT(\"'\"&LEFT($M$2,5)&\" Data'!F:F\"),MATCH(\"EGDE\",INDIRECT(\"'\"&LEFT($M$2,5)&\" Data\"&\"'!G:G\"),FALSE))))*(INDEX('CSV Prep'!E:E,MATCH(\"EGDE \"&LEFT($M$2,5),'CSV Prep'!B:B,FALSE))/(INDEX(RRFs!E:E,MATCH(\"Triglyme\",RRFs!B:B,FALSE)))))","v":""},null,null,null,"After MeP",{"$f":"IF(Q72=\"\",\"\",IF(OR(S72=\"Solvent\",S72=\"After MeP\"),0,IF(S72=\"\",INDEX(RRFs!E:E,MATCH(\"Triglyme\",RRFs!B:B,FALSE)),INDEX(RRFs!E:E,MATCH(S72,RRFs!B:B,FALSE)))))","v":""},"","","",null,null,null,null,"After MeP",{"$f":"IF(Z72=\"\",\"\",IF(OR(AB72=\"Solvent\",AB72=\"After MeP\"),0,IF(AB72=\"\",INDEX(RRFs!E:E,MATCH(\"Triglyme\",RRFs!B:B,FALSE)),INDEX(RRFs!E:E,MATCH(AB72,RRFs!B:B,FALSE)))))","v":""},"","",""]
[null,null,null,null,null,null,null,73,null,null,{"$f":"IF(J73=\"\",\"\",(J73/LARGE($J$5:$J$100,2)*(5/(INDEX(RRFs!E:E,MATCH(\"Triglyme\",RRFs!B:B,FALSE))))))","v":""},null,"","",{"$f":"IF(N73=\"\",\"\",(N73/(INDEX(INDIRECT(\"'\"&LEFT($M$2,5)&\" Data'!F:F\"),MATCH(\"EGDE\",INDIRECT(\"'\"&LEFT($M$2,5)&\" Data\"&\"'!G:G\"),FALSE))))*(INDEX('CSV Prep'!E:E,MATCH(\"EGDE \"&LEFT($M$2,5),'CSV Prep'!B:B,FALSE))/(INDEX(RRFs!E:E,MATCH(\"Triglyme\",RRFs!B:B,FALSE)))))","v":""},null,null,null,"After MeP",{"$f":"IF(Q73=\"\",\"\",IF(OR(S73=\"Solvent\",S73=\"After MeP\"),0,IF(S73=\"\",INDEX(RRFs!E:E,MATCH(\"Triglyme\",RRFs!B:B,FALSE)),INDEX(RRFs!E:E,MATCH(S73,RRFs!B:B,FALSE)))))","v":""},"","","",null,null,null,null,"After MeP",{"$f":"IF(Z73=\"\",\"\",IF(OR(AB73=\"Solvent\",AB73=\"After MeP\"),0,IF(AB73=\"\",INDEX(RRFs!E:E,MATCH(\"Triglyme\",RRFs!B:B,FALSE)),INDEX(RRFs!E:E,MATCH(AB73,RRFs!B:B,FALSE)))))","v":""},"","",""]
[null,null,null,null,null,null,null,74,null,null,{"$f":"IF(J74=\"\",\"\",(J74/LARGE($J$5:$J$100,2)*(5/(INDEX(RRFs!E:E,MATCH(\"Triglyme\",RRFs!B:B,FALSE))))))","v":""},null,"","",{"$f":"IF(N74=\"\",\"\",(N74/(INDEX(INDIRECT(\"'\"&LEFT($M$2,5)&\" Data'!F:F\"),MATCH(\"EGDE\",INDIRECT(\"'\"&LEFT($M$2,5)&\" Data\"&\"'!G:G\"),FALSE))))*(INDEX('CSV Prep'!E:E,MATCH(\"EGDE \"&LEFT($M$2,5),'CSV Prep'!B:B,FALSE))/(INDEX(RRFs!E:E,MATCH(\"Triglyme\",RRFs!B:B,FALSE)))))","v":""},null,null,null,"After MeP",{"$f":"IF(Q74=\"\",\"\",IF(OR(S74=\"Solvent\",S74=\"After MeP\"),0,IF(S74=\"\",INDEX(RRFs!E:E,MATCH(\"Triglyme\",RRFs!B:B,FALSE)),INDEX(RRFs!E:E,MATCH(S74,RRFs!B:B,FALSE)))))","v":""},"","","",null,null,null,null,"After MeP",{"$f":"IF(Z74=\"\",\"\",IF(OR(AB74=\"Solvent\",AB74=\"After MeP\"),0,IF(AB74=\"\",INDEX(RRFs!E:E,MATCH(\"Triglyme\",RRFs!B:B,FALSE)),INDEX(RRFs!E:E,MATCH(AB74,RRFs!B:B,FALSE)))))","v":""},"","",""]
[null,null,null,null,null,null,null,75,null,null,{"$f":"IF(J75=\"\",\"\",(J75/LARGE($J$5:$J$100,2)*(5/(INDEX(RRFs!E:E,MATCH(\"Triglyme\",RRFs!B:B,FALSE))))))","v":""},null,"","",{"$f":"IF(N75=\"\",\"\",(N75/(INDEX(INDIRECT(\"'\"&LEFT($M$2,5)&\" Data'!F:F\"),MATCH(\"EGDE\",INDIRECT(\"'\"&LEFT($M$2,5)&\" Data\"&\"'!G:G\"),FALSE))))*(INDEX('CSV Prep'!E:E,MATCH(\"EGDE \"&LEFT($M$2,5),'CSV Prep'!B:B,FALSE))/(INDEX(RRFs!E:E,MATCH(\"Triglyme\",RRFs!B:B,FALSE)))))","v":""},null,null,null,"After MeP",{"$f":"IF(Q75=\"\",\"\",IF(OR(S75=\"Solvent\",S75=\"After MeP\"),0,IF(S75=\"\",INDEX(RRFs!E:E,MATCH(\"Triglyme\",RRFs!B:B,FALSE)),INDEX(RRFs!E:E,MATCH(S75,RRFs!B:B,FALSE)))))","v":""},"","","",null,null,null,null,"After MeP",{"$f":"IF(Z75=\"\",\"\",IF(OR(AB75=\"Solvent\",AB75=\"After MeP\"),0,IF(AB75=\"\",INDEX(RRFs!E:E,MATCH(\"Triglyme\",RRFs!B:B,FALSE)),INDEX(RRFs!E:E,MATCH(AB75,RRFs!B:B,FALSE)))))","v":""},"","",""]
[null,null,null,null,null,null,null,76,null,null,{"$f":"IF(J76=\"\",\"\",(J76/LARGE($J$5:$J$100,2)*(5/(INDEX(RRFs!E:E,MATCH(\"Triglyme\",RRFs!B:B,FALSE))))))","v":""},null,"","",{"$f":"IF(N76=\"\",\"\",(N76/(INDEX(INDIRECT(\"'\"&LEFT($M$2,5)&\" Data'!F:F\"),MATCH(\"EGDE\",INDIRECT(\"'\"&LEFT($M$2,5)&\" Data\"&\"'!G:G\"),FALSE))))*(INDEX('CSV Prep'!E:E,MATCH(\"EGDE \"&LEFT($M$2,5),'CSV Prep'!B:B,FALSE))/(INDEX(RRFs!E:E,MATCH(\"Triglyme\",RRFs!B:B,FALSE)))))","v":""},null,null,null,"After MeP",{"$f":"IF(Q76=\"\",\"\",IF(OR(S76=\"Solvent\",S76=\"After MeP\"),0,IF(S76=\"\",INDEX(RRFs!E:E,MATCH(\"Triglyme\",RRFs!B:B,FALSE)),INDEX(RRFs!E:E,MATCH(S76,RRFs!B:B,FALSE)))))","v":""},"","","",null,null,null,null,"After MeP",{"$f":"IF(Z76=\"\",\"\",IF(OR(AB76=\"Solvent\",AB76=\"After MeP\"),0,IF(AB76=\"\",INDEX(RRFs!E:E,MATCH(\"Triglyme\",RRFs!B:B,FALSE)),INDEX(RRFs!E:E,MATCH(AB76,RRFs!B:B,FALSE)))))","v":""},"","",""]
[null,null,null,null,null,null,null,77,null,null,{"$f":"IF(J77=\"\",\"\",(J77/LARGE($J$5:$J$100,2)*(5/(INDEX(RRFs!E:E,MATCH(\"Triglyme\",RRFs!B:B,FALSE))))))","v":""},null,"","",{"$f":"IF(N77=\"\",\"\",(N77/(INDEX(INDIRECT(\"'\"&LEFT($M$2,5)&\" Data'!F:F\"),MATCH(\"EGDE\",INDIRECT(\"'\"&LEFT($M$2,5)&\" Data\"&\"'!G:G\"),FALSE))))*(INDEX('CSV Prep'!E:E,MATCH(\"EGDE \"&LEFT($M$2,5),'CSV Prep'!B:B,FALSE))/(INDEX(RRFs!E:E,MATCH(\"Triglyme\",RRFs!B:B,FALSE)))))","v":""},null,null,null,"After MeP",{"$f":"IF(Q77=\"\",\"\",IF(OR(S77=\"Solvent\",S77=\"After MeP\"),0,IF(S77=\"\",INDEX(RRFs!E:E,MATCH(\"Triglyme\",RRFs!B:B,FALSE)),INDEX(RRFs!E:E,MATCH(S77,RRFs!B:B,FALSE)))))","v":""},"","","",null,null,null,null,"After MeP",{"$f":"IF(Z77=\"\",\"\",IF(OR(AB77=\"Solvent\",AB77=\"After MeP\"),0,IF(AB77=\"\",INDEX(RRFs!E:E,MATCH(\"Triglyme\",RRFs!B:B,FALSE)),INDEX(RRFs!E:E,MATCH(AB77,RRFs!B:B,FALSE)))))","v":""},"","",""]
[null,null,null,null,null,null,null,78,null,null,{"$f":"IF(J78=\"\",\"\",(J78/LARGE($J$5:$J$100,2)*(5/(INDEX(RRFs!E:E,MATCH(\"Triglyme\",RRFs!B:B,FALSE))))))","v":""},null,"","",{"$f":"IF(N78=\"\",\"\",(N78/(INDEX(INDIRECT(\"'\"&LEFT($M$2,5)&\" Data'!F:F\"),MATCH(\"EGDE\",INDIRECT(\"'\"&LEFT($M$2,5)&\" Data\"&\"'!G:G\"),FALSE))))*(INDEX('CSV Prep'!E:E,MATCH(\"EGDE \"&LEFT($M$2,5),'CSV Prep'!B:B,FALSE))/(INDEX(RRFs!E:E,MATCH(\"Triglyme\",RRFs!B:B,FALSE)))))","v":""},null,null,null,"After MeP",{"$f":"IF(Q78=\"\",\"\",IF(OR(S78=\"Solvent\",S78=\"After MeP\"),0,IF(S78=\"\",INDEX(RRFs!E:E,MATCH(\"Triglyme\",RRFs!B:B,FALSE)),INDEX(RRFs!E:E,MATCH(S78,RRFs!B:B,FALSE)))))","v":""},"","","",null,null,null,null,"After MeP",{"$f":"IF(Z78=\"\",\"\",IF(OR(AB78=\"Solvent\",AB78=\"After MeP\"),0,IF(AB78=\"\",INDEX(RRFs!E:E,MATCH(\"Triglyme\",RRFs!B:B,FALSE)),INDEX(RRFs!E:E,MATCH(AB78,RRFs!B:B,FALSE)))))","v":""},"","",""]
[null,null,null,null,null,null,null,79,null,null,{"$f":"IF(J79=\"\",\"\",(J79/LARGE($J$5:$J$100,2)*(5/(INDEX(RRFs!E:E,MATCH(\"Triglyme\",RRFs!B:B,FALSE))))))","v":""},null,"","",{"$f":"IF(N79=\"\",\"\",(N79/(INDEX(INDIRECT(\"'\"&LEFT($M$2,5)&\" Data'!F:F\"),MATCH(\"EGDE\",INDIRECT(\"'\"&LEFT($M$2,5)&\" Data\"&\"'!G:G\"),FALSE))))*(INDEX('CSV Prep'!E:E,MATCH(\"EGDE \"&LEFT($M$2,5),'CSV Prep'!B:B,FALSE))/(INDEX(RRFs!E:E,MATCH(\"Triglyme\",RRFs!B:B,FALSE)))))","v":""},null,null,null,"After MeP",{"$f":"IF(Q79=\"\",\"\",IF(OR(S79=\"Solvent\",S79=\"After MeP\"),0,IF(S79=\"\",INDEX(RRFs!E:E,MATCH(\"Triglyme\",RRFs!B:B,FALSE)),INDEX(RRFs!E:E,MATCH(S79,RRFs!B:B,FALSE)))))","v":""},"","","",null,null,null,null,"After MeP",{"$f":"IF(Z79=\"\",\"\",IF(OR(AB79=\"Solvent\",AB79=\"After MeP\"),0,IF(AB79=\"\",INDEX(RRFs!E:E,MATCH(\"Triglyme\",RRFs!B:B,FALSE)),INDEX(RRFs!E:E,MATCH(AB79,RRFs!B:B,FALSE)))))","v":""},"","",""]
[null,null,null,null,null,null,null,80,null,null,{"$f":"IF(J80=\"\",\"\",(J80/LARGE($J$5:$J$100,2)*(5/(INDEX(RRFs!E:E,MATCH(\"Triglyme\",RRFs!B:B,FALSE))))))","v":""},null,"","",{"$f":"IF(N80=\"\",\"\",(N80/(INDEX(INDIRECT(\"'\"&LEFT($M$2,5)&\" Data'!F:F\"),MATCH(\"EGDE\",INDIRECT(\"'\"&LEFT($M$2,5)&\" Data\"&\"'!G:G\"),FALSE))))*(INDEX('CSV Prep'!E:E,MATCH(\"EGDE \"&LEFT($M$2,5),'CSV Prep'!B:B,FALSE))/(INDEX(RRFs!E:E,MATCH(\"Triglyme\",RRFs!B:B,FALSE)))))","v":""},null,null,null,"After MeP",{"$f":"IF(Q80=\"\",\"\",IF(OR(S80=\"Solvent\",S80=\"After MeP\"),0,IF(S80=\"\",INDEX(RRFs!E:E,MATCH(\"Triglyme\",RRFs!B:B,FALSE)),INDEX(RRFs!E:E,MATCH(S80,RRFs!B:B,FALSE)))))","v":""},"","","",null,null,null,null,"After MeP",{"$f":"IF(Z80=\"\",\"\",IF(OR(AB80=\"Solvent\",AB80=\"After MeP\"),0,IF(AB80=\"\",INDEX(RRFs!E:E,MATCH(\"Triglyme\",RRFs!B:B,FALSE)),INDEX(RRFs!E:E,MATCH(AB80,RRFs!B:B,FALSE)))))","v":""},"","",""]
[null,null,null,null,null,null,null,81,null,null,{"$f":"IF(J81=\"\",\"\",(J81/LARGE($J$5:$J$100,2)*(5/(INDEX(RRFs!E:E,MATCH(\"Triglyme\",RRFs!B:B,FALSE))))))","v":""},null,"","",{"$f":"IF(N81=\"\",\"\",(N81/(INDEX(INDIRECT(\"'\"&LEFT($M$2,5)&\" Data'!F:F\"),MATCH(\"EGDE\",INDIRECT(\"'\"&LEFT($M$2,5)&\" Data\"&\"'!G:G\"),FALSE))))*(INDEX('CSV Prep'!E:E,MATCH(\"EGDE \"&LEFT($M$2,5),'CSV Prep'!B:B,FALSE))/(INDEX(RRFs!E:E,MATCH(\"Triglyme\",RRFs!B:B,FALSE)))))","v":""},null,null,null,"After MeP",{"$f":"IF(Q81=\"\",\"\",IF(OR(S81=\"Solvent\",S81=\"After MeP\"),0,IF(S81=\"\",INDEX(RRFs!E:E,MATCH(\"Triglyme\",RRFs!B:B,FALSE)),INDEX(RRFs!E:E,MATCH(S81,RRFs!B:B,FALSE)))))","v":""},"","","",null,null,null,null,"After MeP",{"$f":"IF(Z81=\"\",\"\",IF(OR(AB81=\"Solvent\",AB81=\"After MeP\"),0,IF(AB81=\"\",INDEX(RRFs!E:E,MATCH(\"Triglyme\",RRFs!B:B,FALSE)),INDEX(RRFs!E:E,MATCH(AB81,RRFs!B:B,FALSE)))))","v":""},"","",""]
[null,null,null,null,null,null,null,82,null,null,{"$f":"IF(J82=\"\",\"\",(J82/LARGE($J$5:$J$100,2)*(5/(INDEX(RRFs!E:E,MATCH(\"Triglyme\",RRFs!B:B,FALSE))))))","v":""},null,"","",{"$f":"IF(N82=\"\",\"\",(N82/(INDEX(INDIRECT(\"'\"&LEFT($M$2,5)&\" Data'!F:F\"),MATCH(\"EGDE\",INDIRECT(\"'\"&LEFT($M$2,5)&\" Data\"&\"'!G:G\"),FALSE))))*(INDEX('CSV Prep'!E:E,MATCH(\"EGDE \"&LEFT($M$2,5),'CSV Prep'!B:B,FALSE))/(INDEX(RRFs!E:E,MATCH(\"Triglyme\",RRFs!B:B,FALSE)))))","v":""},null,null,null,"After MeP",{"$f":"IF(Q82=\"\",\"\",IF(OR(S82=\"Solvent\",S82=\"After MeP\"),0,IF(S82=\"\",INDEX(RRFs!E:E,MATCH(\"Triglyme\",RRFs!B:B,FALSE)),INDEX(RRFs!E:E,MATCH(S82,RRFs!B:B,FALSE)))))","v":""},"","","",null,null,null,null,"After MeP",{"$f":"IF(Z82=\"\",\"\",IF(OR(AB82=\"Solvent\",AB82=\"After MeP\"),0,IF(AB82=\"\",INDEX(RRFs!E:E,MATCH(\"Triglyme\",RRFs!B:B,FALSE)),INDEX(RRFs!E:E,MATCH(AB82,RRFs!B:B,FALSE)))))","v":""},"","",""]
[null,null,null,null,null,null,null,83,null,null,{"$f":"IF(J83=\"\",\"\",(J83/LARGE($J$5:$J$100,2)*(5/(INDEX(RRFs!E:E,MATCH(\"Triglyme\",RRFs!B:B,FALSE))))))","v":""},null,"","",{"$f":"IF(N83=\"\",\"\",(N83/(INDEX(INDIRECT(\"'\"&LEFT($M$2,5)&\" Data'!F:F\"),MATCH(\"EGDE\",INDIRECT(\"'\"&LEFT($M$2,5)&\" Data\"&\"'!G:G\"),FALSE))))*(INDEX('CSV Prep'!E:E,MATCH(\"EGDE \"&LEFT($M$2,5),'CSV Prep'!B:B,FALSE))/(INDEX(RRFs!E:E,MATCH(\"Triglyme\",RRFs!B:B,FALSE)))))","v":""},null,null,null,"After MeP",{"$f":"IF(Q83=\"\",\"\",IF(OR(S83=\"Solvent\",S83=\"After MeP\"),0,IF(S83=\"\",INDEX(RRFs!E:E,MATCH(\"Triglyme\",RRFs!B:B,FALSE)),INDEX(RRFs!E:E,MATCH(S83,RRFs!B:B,FALSE)))))","v":""},"","","",null,null,null,null,"After MeP",{"$f":"IF(Z83=\"\",\"\",IF(OR(AB83=\"Solvent\",AB83=\"After MeP\"),0,IF(AB83=\"\",INDEX(RRFs!E:E,MATCH(\"Triglyme\",RRFs!B:B,FALSE)),INDEX(RRFs!E:E,MATCH(AB83,RRFs!B:B,FALSE)))))","v":""},"","",""]
[null,null,null,null,null,null,null,84,null,null,{"$f":"IF(J84=\"\",\"\",(J84/LARGE($J$5:$J$100,2)*(5/(INDEX(RRFs!E:E,MATCH(\"Triglyme\",RRFs!B:B,FALSE))))))","v":""},null,"","",{"$f":"IF(N84=\"\",\"\",(N84/(INDEX(INDIRECT(\"'\"&LEFT($M$2,5)&\" Data'!F:F\"),MATCH(\"EGDE\",INDIRECT(\"'\"&LEFT($M$2,5)&\" Data\"&\"'!G:G\"),FALSE))))*(INDEX('CSV Prep'!E:E,MATCH(\"EGDE \"&LEFT($M$2,5),'CSV Prep'!B:B,FALSE))/(INDEX(RRFs!E:E,MATCH(\"Triglyme\",RRFs!B:B,FALSE)))))","v":""},null,null,null,"After MeP",{"$f":"IF(Q84=\"\",\"\",IF(OR(S84=\"Solvent\",S84=\"After MeP\"),0,IF(S84=\"\",INDEX(RRFs!E:E,MATCH(\"Triglyme\",RRFs!B:B,FALSE)),INDEX(RRFs!E:E,MATCH(S84,RRFs!B:B,FALSE)))))","v":""},"","","",null,null,null,null,"After MeP",{"$f":"IF(Z84=\"\",\"\",IF(OR(AB84=\"Solvent\",AB84=\"After MeP\"),0,IF(AB84=\"\",INDEX(RRFs!E:E,MATCH(\"Triglyme\",RRFs!B:B,FALSE)),INDEX(RRFs!E:E,MATCH(AB84,RRFs!B:B,FALSE)))))","v":""},"","",""]
[null,null,null,null,null,null,null,85,null,null,{"$f":"IF(J85=\"\",\"\",(J85/LARGE($J$5:$J$100,2)*(5/(INDEX(RRFs!E:E,MATCH(\"Triglyme\",RRFs!B:B,FALSE))))))","v":""},null,"","",{"$f":"IF(N85=\"\",\"\",(N85/(INDEX(INDIRECT(\"'\"&LEFT($M$2,5)&\" Data'!F:F\"),MATCH(\"EGDE\",INDIRECT(\"'\"&LEFT($M$2,5)&\" Data\"&\"'!G:G\"),FALSE))))*(INDEX('CSV Prep'!E:E,MATCH(\"EGDE \"&LEFT($M$2,5),'CSV Prep'!B:B,FALSE))/(INDEX(RRFs!E:E,MATCH(\"Triglyme\",RRFs!B:B,FALSE)))))","v":""},null,null,null,"After MeP",{"$f":"IF(Q85=\"\",\"\",IF(OR(S85=\"Solvent\",S85=\"After MeP\"),0,IF(S85=\"\",INDEX(RRFs!E:E,MATCH(\"Triglyme\",RRFs!B:B,FALSE)),INDEX(RRFs!E:E,MATCH(S85,RRFs!B:B,FALSE)))))","v":""},"","","",null,null,null,null,"After MeP",{"$f":"IF(Z85=\"\",\"\",IF(OR(AB85=\"Solvent\",AB85=\"After MeP\"),0,IF(AB85=\"\",INDEX(RRFs!E:E,MATCH(\"Triglyme\",RRFs!B:B,FALSE)),INDEX(RRFs!E:E,MATCH(AB85,RRFs!B:B,FALSE)))))","v":""},"","",""]
[null,null,null,null,null,null,null,86,null,null,{"$f":"IF(J86=\"\",\"\",(J86/LARGE($J$5:$J$100,2)*(5/(INDEX(RRFs!E:E,MATCH(\"Triglyme\",RRFs!B:B,FALSE))))))","v":""},null,"","",{"$f":"IF(N86=\"\",\"\",(N86/(INDEX(INDIRECT(\"'\"&LEFT($M$2,5)&\" Data'!F:F\"),MATCH(\"EGDE\",INDIRECT(\"'\"&LEFT($M$2,5)&\" Data\"&\"'!G:G\"),FALSE))))*(INDEX('CSV Prep'!E:E,MATCH(\"EGDE \"&LEFT($M$2,5),'CSV Prep'!B:B,FALSE))/(INDEX(RRFs!E:E,MATCH(\"Triglyme\",RRFs!B:B,FALSE)))))","v":""},null,null,null,"After MeP",{"$f":"IF(Q86=\"\",\"\",IF(OR(S86=\"Solvent\",S86=\"After MeP\"),0,IF(S86=\"\",INDEX(RRFs!E:E,MATCH(\"Triglyme\",RRFs!B:B,FALSE)),INDEX(RRFs!E:E,MATCH(S86,RRFs!B:B,FALSE)))))","v":""},"","","",null,null,null,null,"After MeP",{"$f":"IF(Z86=\"\",\"\",IF(OR(AB86=\"Solvent\",AB86=\"After MeP\"),0,IF(AB86=\"\",INDEX(RRFs!E:E,MATCH(\"Triglyme\",RRFs!B:B,FALSE)),INDEX(RRFs!E:E,MATCH(AB86,RRFs!B:B,FALSE)))))","v":""},"","",""]
[null,null,null,null,null,null,null,87,null,null,{"$f":"IF(J87=\"\",\"\",(J87/LARGE($J$5:$J$100,2)*(5/(INDEX(RRFs!E:E,MATCH(\"Triglyme\",RRFs!B:B,FALSE))))))","v":""},null,"","",{"$f":"IF(N87=\"\",\"\",(N87/(INDEX(INDIRECT(\"'\"&LEFT($M$2,5)&\" Data'!F:F\"),MATCH(\"EGDE\",INDIRECT(\"'\"&LEFT($M$2,5)&\" Data\"&\"'!G:G\"),FALSE))))*(INDEX('CSV Prep'!E:E,MATCH(\"EGDE \"&LEFT($M$2,5),'CSV Prep'!B:B,FALSE))/(INDEX(RRFs!E:E,MATCH(\"Triglyme\",RRFs!B:B,FALSE)))))","v":""},null,null,null,"After MeP",{"$f":"IF(Q87=\"\",\"\",IF(OR(S87=\"Solvent\",S87=\"After MeP\"),0,IF(S87=\"\",INDEX(RRFs!E:E,MATCH(\"Triglyme\",RRFs!B:B,FALSE)),INDEX(RRFs!E:E,MATCH(S87,RRFs!B:B,FALSE)))))","v":""},"","","",null,null,null,null,"After MeP",{"$f":"IF(Z87=\"\",\"\",IF(OR(AB87=\"Solvent\",AB87=\"After MeP\"),0,IF(AB87=\"\",INDEX(RRFs!E:E,MATCH(\"Triglyme\",RRFs!B:B,FALSE)),INDEX(RRFs!E:E,MATCH(AB87,RRFs!B:B,FALSE)))))","v":""},"","",""]
[null,null,null,null,null,null,null,88,null,null,{"$f":"IF(J88=\"\",\"\",(J88/LARGE($J$5:$J$100,2)*(5/(INDEX(RRFs!E:E,MATCH(\"Triglyme\",RRFs!B:B,FALSE))))))","v":""},null,"","",{"$f":"IF(N88=\"\",\"\",(N88/(INDEX(INDIRECT(\"'\"&LEFT($M$2,5)&\" Data'!F:F\"),MATCH(\"EGDE\",INDIRECT(\"'\"&LEFT($M$2,5)&\" Data\"&\"'!G:G\"),FALSE))))*(INDEX('CSV Prep'!E:E,MATCH(\"EGDE \"&LEFT($M$2,5),'CSV Prep'!B:B,FALSE))/(INDEX(RRFs!E:E,MATCH(\"Triglyme\",RRFs!B:B,FALSE)))))","v":""},null,null,null,"After MeP",{"$f":"IF(Q88=\"\",\"\",IF(OR(S88=\"Solvent\",S88=\"After MeP\"),0,IF(S88=\"\",INDEX(RRFs!E:E,MATCH(\"Triglyme\",RRFs!B:B,FALSE)),INDEX(RRFs!E:E,MATCH(S88,RRFs!B:B,FALSE)))))","v":""},"","","",null,null,null,null,"After MeP",{"$f":"IF(Z88=\"\",\"\",IF(OR(AB88=\"Solvent\",AB88=\"After MeP\"),0,IF(AB88=\"\",INDEX(RRFs!E:E,MATCH(\"Triglyme\",RRFs!B:B,FALSE)),INDEX(RRFs!E:E,MATCH(AB88,RRFs!B:B,FALSE)))))","v":""},"","",""]
[null,null,null,null,null,null,null,89,null,null,{"$f":"IF(J89=\"\",\"\",(J89/LARGE($J$5:$J$100,2)*(5/(INDEX(RRFs!E:E,MATCH(\"Triglyme\",RRFs!B:B,FALSE))))))","v":""},null,"","",{"$f":"IF(N89=\"\",\"\",(N89/(INDEX(INDIRECT(\"'\"&LEFT($M$2,5)&\" Data'!F:F\"),MATCH(\"EGDE\",INDIRECT(\"'\"&LEFT($M$2,5)&\" Data\"&\"'!G:G\"),FALSE))))*(INDEX('CSV Prep'!E:E,MATCH(\"EGDE \"&LEFT($M$2,5),'CSV Prep'!B:B,FALSE))/(INDEX(RRFs!E:E,MATCH(\"Triglyme\",RRFs!B:B,FALSE)))))","v":""},null,null,null,"After MeP",{"$f":"IF(Q89=\"\",\"\",IF(OR(S89=\"Solvent\",S89=\"After MeP\"),0,IF(S89=\"\",INDEX(RRFs!E:E,MATCH(\"Triglyme\",RRFs!B:B,FALSE)),INDEX(RRFs!E:E,MATCH(S89,RRFs!B:B,FALSE)))))","v":""},"","","",null,null,null,null,"After MeP",{"$f":"IF(Z89=\"\",\"\",IF(OR(AB89=\"Solvent\",AB89=\"After MeP\"),0,IF(AB89=\"\",INDEX(RRFs!E:E,MATCH(\"Triglyme\",RRFs!B:B,FALSE)),INDEX(RRFs!E:E,MATCH(AB89,RRFs!B:B,FALSE)))))","v":""},"","",""]
[null,null,null,null,null,null,null,90,null,null,{"$f":"IF(J90=\"\",\"\",(J90/LARGE($J$5:$J$100,2)*(5/(INDEX(RRFs!E:E,MATCH(\"Triglyme\",RRFs!B:B,FALSE))))))","v":""},null,"","",{"$f":"IF(N90=\"\",\"\",(N90/(INDEX(INDIRECT(\"'\"&LEFT($M$2,5)&\" Data'!F:F\"),MATCH(\"EGDE\",INDIRECT(\"'\"&LEFT($M$2,5)&\" Data\"&\"'!G:G\"),FALSE))))*(INDEX('CSV Prep'!E:E,MATCH(\"EGDE \"&LEFT($M$2,5),'CSV Prep'!B:B,FALSE))/(INDEX(RRFs!E:E,MATCH(\"Triglyme\",RRFs!B:B,FALSE)))))","v":""},null,null,null,"After MeP",{"$f":"IF(Q90=\"\",\"\",IF(OR(S90=\"Solvent\",S90=\"After MeP\"),0,IF(S90=\"\",INDEX(RRFs!E:E,MATCH(\"Triglyme\",RRFs!B:B,FALSE)),INDEX(RRFs!E:E,MATCH(S90,RRFs!B:B,FALSE)))))","v":""},"","","",null,null,null,null,"After MeP",{"$f":"IF(Z90=\"\",\"\",IF(OR(AB90=\"Solvent\",AB90=\"After MeP\"),0,IF(AB90=\"\",INDEX(RRFs!E:E,MATCH(\"Triglyme\",RRFs!B:B,FALSE)),INDEX(RRFs!E:E,MATCH(AB90,RRFs!B:B,FALSE)))))","v":""},"","",""]
[null,null,null,null,null,null,null,91,null,null,{"$f":"IF(J91=\"\",\"\",(J91/LARGE($J$5:$J$100,2)*(5/(INDEX(RRFs!E:E,MATCH(\"Triglyme\",RRFs!B:B,FALSE))))))","v":""},null,"","",{"$f":"IF(N91=\"\",\"\",(N91/(INDEX(INDIRECT(\"'\"&LEFT($M$2,5)&\" Data'!F:F\"),MATCH(\"EGDE\",INDIRECT(\"'\"&LEFT($M$2,5)&\" Data\"&\"'!G:G\"),FALSE))))*(INDEX('CSV Prep'!E:E,MATCH(\"EGDE \"&LEFT($M$2,5),'CSV Prep'!B:B,FALSE))/(INDEX(RRFs!E:E,MATCH(\"Triglyme\",RRFs!B:B,FALSE)))))","v":""},null,null,null,"After MeP",{"$f":"IF(Q91=\"\",\"\",IF(OR(S91=\"Solvent\",S91=\"After MeP\"),0,IF(S91=\"\",INDEX(RRFs!E:E,MATCH(\"Triglyme\",RRFs!B:B,FALSE)),INDEX(RRFs!E:E,MATCH(S91,RRFs!B:B,FALSE)))))","v":""},"","","",null,null,null,null,"After MeP",{"$f":"IF(Z91=\"\",\"\",IF(OR(AB91=\"Solvent\",AB91=\"After MeP\"),0,IF(AB91=\"\",INDEX(RRFs!E:E,MATCH(\"Triglyme\",RRFs!B:B,FALSE)),INDEX(RRFs!E:E,MATCH(AB91,RRFs!B:B,FALSE)))))","v":""},"","",""]
[null,null,null,null,null,null,null,92,null,null,{"$f":"IF(J92=\"\",\"\",(J92/LARGE($J$5:$J$100,2)*(5/(INDEX(RRFs!E:E,MATCH(\"Triglyme\",RRFs!B:B,FALSE))))))","v":""},null,"","",{"$f":"IF(N92=\"\",\"\",(N92/(INDEX(INDIRECT(\"'\"&LEFT($M$2,5)&\" Data'!F:F\"),MATCH(\"EGDE\",INDIRECT(\"'\"&LEFT($M$2,5)&\" Data\"&\"'!G:G\"),FALSE))))*(INDEX('CSV Prep'!E:E,MATCH(\"EGDE \"&LEFT($M$2,5),'CSV Prep'!B:B,FALSE))/(INDEX(RRFs!E:E,MATCH(\"Triglyme\",RRFs!B:B,FALSE)))))","v":""},null,null,null,"After MeP",{"$f":"IF(Q92=\"\",\"\",IF(OR(S92=\"Solvent\",S92=\"After MeP\"),0,IF(S92=\"\",INDEX(RRFs!E:E,MATCH(\"Triglyme\",RRFs!B:B,FALSE)),INDEX(RRFs!E:E,MATCH(S92,RRFs!B:B,FALSE)))))","v":""},"","","",null,null,null,null,"After MeP",{"$f":"IF(Z92=\"\",\"\",IF(OR(AB92=\"Solvent\",AB92=\"After MeP\"),0,IF(AB92=\"\",INDEX(RRFs!E:E,MATCH(\"Triglyme\",RRFs!B:B,FALSE)),INDEX(RRFs!E:E,MATCH(AB92,RRFs!B:B,FALSE)))))","v":""},"","",""]
[null,null,null,null,null,null,null,93,null,null,{"$f":"IF(J93=\"\",\"\",(J93/LARGE($J$5:$J$100,2)*(5/(INDEX(RRFs!E:E,MATCH(\"Triglyme\",RRFs!B:B,FALSE))))))","v":""},null,"","",{"$f":"IF(N93=\"\",\"\",(N93/(INDEX(INDIRECT(\"'\"&LEFT($M$2,5)&\" Data'!F:F\"),MATCH(\"EGDE\",INDIRECT(\"'\"&LEFT($M$2,5)&\" Data\"&\"'!G:G\"),FALSE))))*(INDEX('CSV Prep'!E:E,MATCH(\"EGDE \"&LEFT($M$2,5),'CSV Prep'!B:B,FALSE))/(INDEX(RRFs!E:E,MATCH(\"Triglyme\",RRFs!B:B,FALSE)))))","v":""},null,null,null,"After MeP",{"$f":"IF(Q93=\"\",\"\",IF(OR(S93=\"Solvent\",S93=\"After MeP\"),0,IF(S93=\"\",INDEX(RRFs!E:E,MATCH(\"Triglyme\",RRFs!B:B,FALSE)),INDEX(RRFs!E:E,MATCH(S93,RRFs!B:B,FALSE)))))","v":""},"","","",null,null,null,null,"After MeP",{"$f":"IF(Z93=\"\",\"\",IF(OR(AB93=\"Solvent\",AB93=\"After MeP\"),0,IF(AB93=\"\",INDEX(RRFs!E:E,MATCH(\"Triglyme\",RRFs!B:B,FALSE)),INDEX(RRFs!E:E,MATCH(AB93,RRFs!B:B,FALSE)))))","v":""},"","",""]
[null,null,null,null,null,null,null,94,null,null,{"$f":"IF(J94=\"\",\"\",(J94/LARGE($J$5:$J$100,2)*(5/(INDEX(RRFs!E:E,MATCH(\"Triglyme\",RRFs!B:B,FALSE))))))","v":""},null,"","",{"$f":"IF(N94=\"\",\"\",(N94/(INDEX(INDIRECT(\"'\"&LEFT($M$2,5)&\" Data'!F:F\"),MATCH(\"EGDE\",INDIRECT(\"'\"&LEFT($M$2,5)&\" Data\"&\"'!G:G\"),FALSE))))*(INDEX('CSV Prep'!E:E,MATCH(\"EGDE \"&LEFT($M$2,5),'CSV Prep'!B:B,FALSE))/(INDEX(RRFs!E:E,MATCH(\"Triglyme\",RRFs!B:B,FALSE)))))","v":""},null,null,null,"After MeP",{"$f":"IF(Q94=\"\",\"\",IF(OR(S94=\"Solvent\",S94=\"After MeP\"),0,IF(S94=\"\",INDEX(RRFs!E:E,MATCH(\"Triglyme\",RRFs!B:B,FALSE)),INDEX(RRFs!E:E,MATCH(S94,RRFs!B:B,FALSE)))))","v":""},"","","",null,null,null,null,"After MeP",{"$f":"IF(Z94=\"\",\"\",IF(OR(AB94=\"Solvent\",AB94=\"After MeP\"),0,IF(AB94=\"\",INDEX(RRFs!E:E,MATCH(\"Triglyme\",RRFs!B:B,FALSE)),INDEX(RRFs!E:E,MATCH(AB94,RRFs!B:B,FALSE)))))","v":""},"","",""]
[null,null,null,null,null,null,null,95,null,null,{"$f":"IF(J95=\"\",\"\",(J95/LARGE($J$5:$J$100,2)*(5/(INDEX(RRFs!E:E,MATCH(\"Triglyme\",RRFs!B:B,FALSE))))))","v":""},null,"","",{"$f":"IF(N95=\"\",\"\",(N95/(INDEX(INDIRECT(\"'\"&LEFT($M$2,5)&\" Data'!F:F\"),MATCH(\"EGDE\",INDIRECT(\"'\"&LEFT($M$2,5)&\" Data\"&\"'!G:G\"),FALSE))))*(INDEX('CSV Prep'!E:E,MATCH(\"EGDE \"&LEFT($M$2,5),'CSV Prep'!B:B,FALSE))/(INDEX(RRFs!E:E,MATCH(\"Triglyme\",RRFs!B:B,FALSE)))))","v":""},null,null,null,"After MeP",{"$f":"IF(Q95=\"\",\"\",IF(OR(S95=\"Solvent\",S95=\"After MeP\"),0,IF(S95=\"\",INDEX(RRFs!E:E,MATCH(\"Triglyme\",RRFs!B:B,FALSE)),INDEX(RRFs!E:E,MATCH(S95,RRFs!B:B,FALSE)))))","v":""},"","","",null,null,null,null,"After MeP",{"$f":"IF(Z95=\"\",\"\",IF(OR(AB95=\"Solvent\",AB95=\"After MeP\"),0,IF(AB95=\"\",INDEX(RRFs!E:E,MATCH(\"Triglyme\",RRFs!B:B,FALSE)),INDEX(RRFs!E:E,MATCH(AB95,RRFs!B:B,FALSE)))))","v":""},"","",""]
[null,null,null,null,null,null,null,96,null,null,{"$f":"IF(J96=\"\",\"\",(J96/LARGE($J$5:$J$100,2)*(5/(INDEX(RRFs!E:E,MATCH(\"Triglyme\",RRFs!B:B,FALSE))))))","v":""},null,"","",{"$f":"IF(N96=\"\",\"\",(N96/(INDEX(INDIRECT(\"'\"&LEFT($M$2,5)&\" Data'!F:F\"),MATCH(\"EGDE\",INDIRECT(\"'\"&LEFT($M$2,5)&\" Data\"&\"'!G:G\"),FALSE))))*(INDEX('CSV Prep'!E:E,MATCH(\"EGDE \"&LEFT($M$2,5),'CSV Prep'!B:B,FALSE))/(INDEX(RRFs!E:E,MATCH(\"Triglyme\",RRFs!B:B,FALSE)))))","v":""},null,null,null,"After MeP",{"$f":"IF(Q96=\"\",\"\",IF(OR(S96=\"Solvent\",S96=\"After MeP\"),0,IF(S96=\"\",INDEX(RRFs!E:E,MATCH(\"Triglyme\",RRFs!B:B,FALSE)),INDEX(RRFs!E:E,MATCH(S96,RRFs!B:B,FALSE)))))","v":""},"","","",null,null,null,null,"After MeP",{"$f":"IF(Z96=\"\",\"\",IF(OR(AB96=\"Solvent\",AB96=\"After MeP\"),0,IF(AB96=\"\",INDEX(RRFs!E:E,MATCH(\"Triglyme\",RRFs!B:B,FALSE)),INDEX(RRFs!E:E,MATCH(AB96,RRFs!B:B,FALSE)))))","v":""},"","",""]
[null,null,null,null,null,null,null,97,null,null,{"$f":"IF(J97=\"\",\"\",(J97/LARGE($J$5:$J$100,2)*(5/(INDEX(RRFs!E:E,MATCH(\"Triglyme\",RRFs!B:B,FALSE))))))","v":""},null,"","",{"$f":"IF(N97=\"\",\"\",(N97/(INDEX(INDIRECT(\"'\"&LEFT($M$2,5)&\" Data'!F:F\"),MATCH(\"EGDE\",INDIRECT(\"'\"&LEFT($M$2,5)&\" Data\"&\"'!G:G\"),FALSE))))*(INDEX('CSV Prep'!E:E,MATCH(\"EGDE \"&LEFT($M$2,5),'CSV Prep'!B:B,FALSE))/(INDEX(RRFs!E:E,MATCH(\"Triglyme\",RRFs!B:B,FALSE)))))","v":""},null,null,null,"After MeP",{"$f":"IF(Q97=\"\",\"\",IF(OR(S97=\"Solvent\",S97=\"After MeP\"),0,IF(S97=\"\",INDEX(RRFs!E:E,MATCH(\"Triglyme\",RRFs!B:B,FALSE)),INDEX(RRFs!E:E,MATCH(S97,RRFs!B:B,FALSE)))))","v":""},"","","",null,null,null,null,"After MeP",{"$f":"IF(Z97=\"\",\"\",IF(OR(AB97=\"Solvent\",AB97=\"After MeP\"),0,IF(AB97=\"\",INDEX(RRFs!E:E,MATCH(\"Triglyme\",RRFs!B:B,FALSE)),INDEX(RRFs!E:E,MATCH(AB97,RRFs!B:B,FALSE)))))","v":""},"","",""]
[null,null,null,null,null,null,null,98,null,null,{"$f":"IF(J98=\"\",\"\",(J98/LARGE($J$5:$J$100,2)*(5/(INDEX(RRFs!E:E,MATCH(\"Triglyme\",RRFs!B:B,FALSE))))))","v":""},null,"","",{"$f":"IF(N98=\"\",\"\",(N98/(INDEX(INDIRECT(\"'\"&LEFT($M$2,5)&\" Data'!F:F\"),MATCH(\"EGDE\",INDIRECT(\"'\"&LEFT($M$2,5)&\" Data\"&\"'!G:G\"),FALSE))))*(INDEX('CSV Prep'!E:E,MATCH(\"EGDE \"&LEFT($M$2,5),'CSV Prep'!B:B,FALSE))/(INDEX(RRFs!E:E,MATCH(\"Triglyme\",RRFs!B:B,FALSE)))))","v":""},null,null,null,"After MeP",{"$f":"IF(Q98=\"\",\"\",IF(OR(S98=\"Solvent\",S98=\"After MeP\"),0,IF(S98=\"\",INDEX(RRFs!E:E,MATCH(\"Triglyme\",RRFs!B:B,FALSE)),INDEX(RRFs!E:E,MATCH(S98,RRFs!B:B,FALSE)))))","v":""},"","","",null,null,null,null,"After MeP",{"$f":"IF(Z98=\"\",\"\",IF(OR(AB98=\"Solvent\",AB98=\"After MeP\"),0,IF(AB98=\"\",INDEX(RRFs!E:E,MATCH(\"Triglyme\",RRFs!B:B,FALSE)),INDEX(RRFs!E:E,MATCH(AB98,RRFs!B:B,FALSE)))))","v":""},"","",""]
[null,null,null,null,null,null,null,99,null,null,{"$f":"IF(J99=\"\",\"\",(J99/LARGE($J$5:$J$100,2)*(5/(INDEX(RRFs!E:E,MATCH(\"Triglyme\",RRFs!B:B,FALSE))))))","v":""},null,"","",{"$f":"IF(N99=\"\",\"\",(N99/(INDEX(INDIRECT(\"'\"&LEFT($M$2,5)&\" Data'!F:F\"),MATCH(\"EGDE\",INDIRECT(\"'\"&LEFT($M$2,5)&\" Data\"&\"'!G:G\"),FALSE))))*(INDEX('CSV Prep'!E:E,MATCH(\"EGDE \"&LEFT($M$2,5),'CSV Prep'!B:B,FALSE))/(INDEX(RRFs!E:E,MATCH(\"Triglyme\",RRFs!B:B,FALSE)))))","v":""},null,null,null,"After MeP",{"$f":"IF(Q99=\"\",\"\",IF(OR(S99=\"Solvent\",S99=\"After MeP\"),0,IF(S99=\"\",INDEX(RRFs!E:E,MATCH(\"Triglyme\",RRFs!B:B,FALSE)),INDEX(RRFs!E:E,MATCH(S99,RRFs!B:B,FALSE)))))","v":""},"","","",null,null,null,null,"After MeP",{"$f":"IF(Z99=\"\",\"\",IF(OR(AB99=\"Solvent\",AB99=\"After MeP\"),0,IF(AB99=\"\",INDEX(RRFs!E:E,MATCH(\"Triglyme\",RRFs!B:B,FALSE)),INDEX(RRFs!E:E,MATCH(AB99,RRFs!B:B,FALSE)))))","v":""},"","",""]
[null,null,null,null,null,null,null,100,null,null,{"$f":"IF(J100=\"\",\"\",(J100/LARGE($J$5:$J$100,2)*(5/(INDEX(RRFs!E:E,MATCH(\"Triglyme\",RRFs!B:B,FALSE))))))","v":""},null,null,null,null,null,null,null,"After MeP",{"$f":"IF(Q100=\"\",\"\",IF(OR(S100=\"Solvent\",S100=\"After MeP\"),0,IF(S100=\"\",INDEX(RRFs!E:E,MATCH(\"Triglyme\",RRFs!B:B,FALSE)),INDEX(RRFs!E:E,MATCH(S100,RRFs!B:B,FALSE)))))","v":""},"","","",null,null,null,null,"After MeP",{"$f":"IF(Z100=\"\",\"\",IF(OR(AB100=\"Solvent\",AB100=\"After MeP\"),0,IF(AB100=\"\",INDEX(RRFs!E:E,MATCH(\"Triglyme\",RRFs!B:B,FALSE)),INDEX(RRFs!E:E,MATCH(AB100,RRFs!B:B,FALSE)))))","v":""},"","",""]
[null,null,null,null,null,null,null,null,null,null,null,null,null,null,null,null,null,null,"After MeP",{"$f":"IF(Q101=\"\",\"\",IF(OR(S101=\"Solvent\",S101=\"After MeP\"),0,IF(S101=\"\",INDEX(RRFs!E:E,MATCH(\"Triglyme\",RRFs!B:B,FALSE)),INDEX(RRFs!E:E,MATCH(S101,RRFs!B:B,FALSE)))))","v":""},{"$f":"IF(Q101=\"\",\"\",IF(T101=0,0,IF(S101=\"EGDE\",R101/T101,R101/INDEX(R:R,MATCH(\"EGDE\",S:S,FALSE)) *INDEX($F$29:$F$38,MATCH(\"EGDE\",$C$29:$C$38,FALSE))/T101)))","v":""},"","",null,null,null,null,"After MeP",{"$f":"IF(Z101=\"\",\"\",IF(OR(AB101=\"Solvent\",AB101=\"After MeP\"),0,IF(AB101=\"\",INDEX(RRFs!E:E,MATCH(\"Triglyme\",RRFs!B:B,FALSE)),INDEX(RRFs!E:E,MATCH(AB101,RRFs!B:B,FALSE)))))","v":""},{"$f":"IF(Z101=\"\",\"\",IF(AC101=0,0,IF(AB101=\"EGDE\",AA101/AC101,AA101/INDEX(AA:AA,MATCH(\"EGDE\",AB:AB,FALSE)) *INDEX($F$29:$F$38,MATCH(\"EGDE\",$C$29:$C$38,FALSE))/AC101)))","v":""},"",""]
[null,null,null,null,null,null,null,null,null,null,null,null,null,null,null,null,null,null,"After MeP",{"$f":"IF(Q102=\"\",\"\",IF(OR(S102=\"Solvent\",S102=\"After MeP\"),0,IF(S102=\"\",INDEX(RRFs!E:E,MATCH(\"Triglyme\",RRFs!B:B,FALSE)),INDEX(RRFs!E:E,MATCH(S102,RRFs!B:B,FALSE)))))","v":""},"","","",null,null,null,null,"After MeP",{"$f":"IF(Z102=\"\",\"\",IF(OR(AB102=\"Solvent\",AB102=\"After MeP\"),0,IF(AB102=\"\",INDEX(RRFs!E:E,MATCH(\"Triglyme\",RRFs!B:B,FALSE)),INDEX(RRFs!E:E,MATCH(AB102,RRFs!B:B,FALSE)))))","v":""},"","",""]
[null,null,null,null,null,null,null,null,null,null,null,null,null,null,null,null,null,null,"After MeP",{"$f":"IF(Q103=\"\",\"\",IF(OR(S103=\"Solvent\",S103=\"After MeP\"),0,IF(S103=\"\",INDEX(RRFs!E:E,MATCH(\"Triglyme\",RRFs!B:B,FALSE)),INDEX(RRFs!E:E,MATCH(S103,RRFs!B:B,FALSE)))))","v":""},"","","",null,null,null,null,"After MeP",{"$f":"IF(Z103=\"\",\"\",IF(OR(AB103=\"Solvent\",AB103=\"After MeP\"),0,IF(AB103=\"\",INDEX(RRFs!E:E,MATCH(\"Triglyme\",RRFs!B:B,FALSE)),INDEX(RRFs!E:E,MATCH(AB103,RRFs!B:B,FALSE)))))","v":""},"","",""]
[null,null,null,null,null,null,null,null,null,null,null,null,null,null,null,null,null,null,"After MeP",{"$f":"IF(Q104=\"\",\"\",IF(OR(S104=\"Solvent\",S104=\"After MeP\"),0,IF(S104=\"\",INDEX(RRFs!E:E,MATCH(\"Triglyme\",RRFs!B:B,FALSE)),INDEX(RRFs!E:E,MATCH(S104,RRFs!B:B,FALSE)))))","v":""},"","","",null,null,null,null,"After MeP",{"$f":"IF(Z104=\"\",\"\",IF(OR(AB104=\"Solvent\",AB104=\"After MeP\"),0,IF(AB104=\"\",INDEX(RRFs!E:E,MATCH(\"Triglyme\",RRFs!B:B,FALSE)),INDEX(RRFs!E:E,MATCH(AB104,RRFs!B:B,FALSE)))))","v":""},"","",""]
[null,null,null,null,null,null,null,null,null,null,null,null,null,null,null,null,null,null,{"$f":"IF(Q105>=$E$41,\"After MeP\",\"\")","v":"After MeP"},{"$f":"IF(Q105=\"\",\"\",IF(OR(S105=\"Solvent\",S105=\"After MeP\"),0,IF(S105=\"\",INDEX(RRFs!E:E,MATCH(\"Triglyme\",RRFs!B:B,FALSE)),INDEX(RRFs!E:E,MATCH(S105,RRFs!B:B,FALSE)))))","v":""},"","","",null,null,null,null,"After MeP",{"$f":"IF(Z105=\"\",\"\",IF(OR(AB105=\"Solvent\",AB105=\"After MeP\"),0,IF(AB105=\"\",INDEX(RRFs!E:E,MATCH(\"Triglyme\",RRFs!B:B,FALSE)),INDEX(RRFs!E:E,MATCH(AB105,RRFs!B:B,FALSE)))))","v":""},"","",""]
[null,null,null,null,null,null,null,null,null,null,null,null,null,null,null,null,null,null,"After MeP",{"$f":"IF(Q106=\"\",\"\",IF(OR(S106=\"Solvent\",S106=\"After MeP\"),0,IF(S106=\"\",INDEX(RRFs!E:E,MATCH(\"Triglyme\",RRFs!B:B,FALSE)),INDEX(RRFs!E:E,MATCH(S106,RRFs!B:B,FALSE)))))","v":""},"","","",null,null,null,null,"After MeP",{"$f":"IF(Z106=\"\",\"\",IF(OR(AB106=\"Solvent\",AB106=\"After MeP\"),0,IF(AB106=\"\",INDEX(RRFs!E:E,MATCH(\"Triglyme\",RRFs!B:B,FALSE)),INDEX(RRFs!E:E,MATCH(AB106,RRFs!B:B,FALSE)))))","v":""},"","",""]
[null,null,null,null,null,null,null,null,null,null,null,null,null,null,null,null,null,null,"After MeP",{"$f":"IF(Q107=\"\",\"\",IF(OR(S107=\"Solvent\",S107=\"After MeP\"),0,IF(S107=\"\",INDEX(RRFs!E:E,MATCH(\"Triglyme\",RRFs!B:B,FALSE)),INDEX(RRFs!E:E,MATCH(S107,RRFs!B:B,FALSE)))))","v":""},"","","",null,null,null,null,"After MeP",{"$f":"IF(Z107=\"\",\"\",IF(OR(AB107=\"Solvent\",AB107=\"After MeP\"),0,IF(AB107=\"\",INDEX(RRFs!E:E,MATCH(\"Triglyme\",RRFs!B:B,FALSE)),INDEX(RRFs!E:E,MATCH(AB107,RRFs!B:B,FALSE)))))","v":""},"","",""]
[null,null,null,null,null,null,null,null,null,null,null,null,null,null,null,null,null,null,"After MeP",{"$f":"IF(Q108=\"\",\"\",IF(OR(S108=\"Solvent\",S108=\"After MeP\"),0,IF(S108=\"\",INDEX(RRFs!E:E,MATCH(\"Triglyme\",RRFs!B:B,FALSE)),INDEX(RRFs!E:E,MATCH(S108,RRFs!B:B,FALSE)))))","v":""},"","","",null,null,null,null,"After MeP",{"$f":"IF(Z108=\"\",\"\",IF(OR(AB108=\"Solvent\",AB108=\"After MeP\"),0,IF(AB108=\"\",INDEX(RRFs!E:E,MATCH(\"Triglyme\",RRFs!B:B,FALSE)),INDEX(RRFs!E:E,MATCH(AB108,RRFs!B:B,FALSE)))))","v":""},"","",""]
[null,null,null,null,null,null,null,null,null,null,null,null,null,null,null,null,null,null,"After MeP",{"$f":"IF(Q109=\"\",\"\",IF(OR(S109=\"Solvent\",S109=\"After MeP\"),0,IF(S109=\"\",INDEX(RRFs!E:E,MATCH(\"Triglyme\",RRFs!B:B,FALSE)),INDEX(RRFs!E:E,MATCH(S109,RRFs!B:B,FALSE)))))","v":""},"","","",null,null,null,null,"After MeP",{"$f":"IF(Z109=\"\",\"\",IF(OR(AB109=\"Solvent\",AB109=\"After MeP\"),0,IF(AB109=\"\",INDEX(RRFs!E:E,MATCH(\"Triglyme\",RRFs!B:B,FALSE)),INDEX(RRFs!E:E,MATCH(AB109,RRFs!B:B,FALSE)))))","v":""},"","",""]
[null,null,null,null,null,null,null,null,null,null,null,null,null,null,null,null,null,null,"After MeP",{"$f":"IF(Q110=\"\",\"\",IF(OR(S110=\"Solvent\",S110=\"After MeP\"),0,IF(S110=\"\",INDEX(RRFs!E:E,MATCH(\"Triglyme\",RRFs!B:B,FALSE)),INDEX(RRFs!E:E,MATCH(S110,RRFs!B:B,FALSE)))))","v":""},"","","",null,null,null,null,"After MeP",{"$f":"IF(Z110=\"\",\"\",IF(OR(AB110=\"Solvent\",AB110=\"After MeP\"),0,IF(AB110=\"\",INDEX(RRFs!E:E,MATCH(\"Triglyme\",RRFs!B:B,FALSE)),INDEX(RRFs!E:E,MATCH(AB110,RRFs!B:B,FALSE)))))","v":""},"","",""]
[null,null,null,null,null,null,null,null,null,null,null,null,null,null,null,null,null,null,"After MeP",{"$f":"IF(Q111=\"\",\"\",IF(OR(S111=\"Solvent\",S111=\"After MeP\"),0,IF(S111=\"\",INDEX(RRFs!E:E,MATCH(\"Triglyme\",RRFs!B:B,FALSE)),INDEX(RRFs!E:E,MATCH(S111,RRFs!B:B,FALSE)))))","v":""},"","","",null,null,null,null,"After MeP",{"$f":"IF(Z111=\"\",\"\",IF(OR(AB111=\"Solvent\",AB111=\"After MeP\"),0,IF(AB111=\"\",INDEX(RRFs!E:E,MATCH(\"Triglyme\",RRFs!B:B,FALSE)),INDEX(RRFs!E:E,MATCH(AB111,RRFs!B:B,FALSE)))))","v":""},"","",""]
[null,null,null,null,null,null,null,null,null,null,null,null,null,null,null,null,null,null,"After MeP",{"$f":"IF(Q112=\"\",\"\",IF(OR(S112=\"Solvent\",S112=\"After MeP\"),0,IF(S112=\"\",INDEX(RRFs!E:E,MATCH(\"Triglyme\",RRFs!B:B,FALSE)),INDEX(RRFs!E:E,MATCH(S112,RRFs!B:B,FALSE)))))","v":""},"","","",null,null,null,null,"After MeP",{"$f":"IF(Z112=\"\",\"\",IF(OR(AB112=\"Solvent\",AB112=\"After MeP\"),0,IF(AB112=\"\",INDEX(RRFs!E:E,MATCH(\"Triglyme\",RRFs!B:B,FALSE)),INDEX(RRFs!E:E,MATCH(AB112,RRFs!B:B,FALSE)))))","v":""},"","",""]
[null,null,null,null,null,null,null,null,null,null,null,null,null,null,null,null,null,null,"After MeP",{"$f":"IF(Q113=\"\",\"\",IF(OR(S113=\"Solvent\",S113=\"After MeP\"),0,IF(S113=\"\",INDEX(RRFs!E:E,MATCH(\"Triglyme\",RRFs!B:B,FALSE)),INDEX(RRFs!E:E,MATCH(S113,RRFs!B:B,FALSE)))))","v":""},"","","",null,null,null,null,"After MeP",{"$f":"IF(Z113=\"\",\"\",IF(OR(AB113=\"Solvent\",AB113=\"After MeP\"),0,IF(AB113=\"\",INDEX(RRFs!E:E,MATCH(\"Triglyme\",RRFs!B:B,FALSE)),INDEX(RRFs!E:E,MATCH(AB113,RRFs!B:B,FALSE)))))","v":""},"","",""]
[null,null,null,null,null,null,null,null,null,null,null,null,null,null,null,null,null,null,"After MeP",{"$f":"IF(Q114=\"\",\"\",IF(OR(S114=\"Solvent\",S114=\"After MeP\"),0,IF(S114=\"\",INDEX(RRFs!E:E,MATCH(\"Triglyme\",RRFs!B:B,FALSE)),INDEX(RRFs!E:E,MATCH(S114,RRFs!B:B,FALSE)))))","v":""},"","","",null,null,null,null,"After MeP",{"$f":"IF(Z114=\"\",\"\",IF(OR(AB114=\"Solvent\",AB114=\"After MeP\"),0,IF(AB114=\"\",INDEX(RRFs!E:E,MATCH(\"Triglyme\",RRFs!B:B,FALSE)),INDEX(RRFs!E:E,MATCH(AB114,RRFs!B:B,FALSE)))))","v":""},"","",""]
[null,null,null,null,null,null,null,null,null,null,null,null,null,null,null,null,null,null,"After MeP",{"$f":"IF(Q115=\"\",\"\",IF(OR(S115=\"Solvent\",S115=\"After MeP\"),0,IF(S115=\"\",INDEX(RRFs!E:E,MATCH(\"Triglyme\",RRFs!B:B,FALSE)),INDEX(RRFs!E:E,MATCH(S115,RRFs!B:B,FALSE)))))","v":""},"","","",null,null,null,null,"After MeP",{"$f":"IF(Z115=\"\",\"\",IF(OR(AB115=\"Solvent\",AB115=\"After MeP\"),0,IF(AB115=\"\",INDEX(RRFs!E:E,MATCH(\"Triglyme\",RRFs!B:B,FALSE)),INDEX(RRFs!E:E,MATCH(AB115,RRFs!B:B,FALSE)))))","v":""},"","",""]
[null,null,null,null,null,null,null,null,null,null,null,null,null,null,null,null,null,null,"After MeP",{"$f":"IF(Q116=\"\",\"\",IF(OR(S116=\"Solvent\",S116=\"After MeP\"),0,IF(S116=\"\",INDEX(RRFs!E:E,MATCH(\"Triglyme\",RRFs!B:B,FALSE)),INDEX(RRFs!E:E,MATCH(S116,RRFs!B:B,FALSE)))))","v":""},"","","",null,null,null,null,"After MeP",{"$f":"IF(Z116=\"\",\"\",IF(OR(AB116=\"Solvent\",AB116=\"After MeP\"),0,IF(AB116=\"\",INDEX(RRFs!E:E,MATCH(\"Triglyme\",RRFs!B:B,FALSE)),INDEX(RRFs!E:E,MATCH(AB116,RRFs!B:B,FALSE)))))","v":""},"","",""]
[null,null,null,null,null,null,null,null,null,null,null,null,null,null,null,null,null,null,"After MeP",{"$f":"IF(Q117=\"\",\"\",IF(OR(S117=\"Solvent\",S117=\"After MeP\"),0,IF(S117=\"\",INDEX(RRFs!E:E,MATCH(\"Triglyme\",RRFs!B:B,FALSE)),INDEX(RRFs!E:E,MATCH(S117,RRFs!B:B,FALSE)))))","v":""},"","","",null,null,null,null,"After MeP",{"$f":"IF(Z117=\"\",\"\",IF(OR(AB117=\"Solvent\",AB117=\"After MeP\"),0,IF(AB117=\"\",INDEX(RRFs!E:E,MATCH(\"Triglyme\",RRFs!B:B,FALSE)),INDEX(RRFs!E:E,MATCH(AB117,RRFs!B:B,FALSE)))))","v":""},"","",""]
[null,null,null,null,null,null,null,null,null,null,null,null,null,null,null,null,null,null,"After MeP",{"$f":"IF(Q118=\"\",\"\",IF(OR(S118=\"Solvent\",S118=\"After MeP\"),0,IF(S118=\"\",INDEX(RRFs!E:E,MATCH(\"Triglyme\",RRFs!B:B,FALSE)),INDEX(RRFs!E:E,MATCH(S118,RRFs!B:B,FALSE)))))","v":""},"","","",null,null,null,null,"After MeP",{"$f":"IF(Z118=\"\",\"\",IF(OR(AB118=\"Solvent\",AB118=\"After MeP\"),0,IF(AB118=\"\",INDEX(RRFs!E:E,MATCH(\"Triglyme\",RRFs!B:B,FALSE)),INDEX(RRFs!E:E,MATCH(AB118,RRFs!B:B,FALSE)))))","v":""},"","",""]
[null,null,null,null,null,null,null,null,null,null,null,null,null,null,null,null,null,null,"After MeP",{"$f":"IF(Q119=\"\",\"\",IF(OR(S119=\"Solvent\",S119=\"After MeP\"),0,IF(S119=\"\",INDEX(RRFs!E:E,MATCH(\"Triglyme\",RRFs!B:B,FALSE)),INDEX(RRFs!E:E,MATCH(S119,RRFs!B:B,FALSE)))))","v":""},"","","",null,null,null,null,"After MeP",{"$f":"IF(Z119=\"\",\"\",IF(OR(AB119=\"Solvent\",AB119=\"After MeP\"),0,IF(AB119=\"\",INDEX(RRFs!E:E,MATCH(\"Triglyme\",RRFs!B:B,FALSE)),INDEX(RRFs!E:E,MATCH(AB119,RRFs!B:B,FALSE)))))","v":""},"","",""]
[null,null,null,null,null,null,null,null,null,null,null,null,null,null,null,null,null,null,"After MeP",{"$f":"IF(Q120=\"\",\"\",IF(OR(S120=\"Solvent\",S120=\"After MeP\"),0,IF(S120=\"\",INDEX(RRFs!E:E,MATCH(\"Triglyme\",RRFs!B:B,FALSE)),INDEX(RRFs!E:E,MATCH(S120,RRFs!B:B,FALSE)))))","v":""},"","","",null,null,null,null,"After MeP",{"$f":"IF(Z120=\"\",\"\",IF(OR(AB120=\"Solvent\",AB120=\"After MeP\"),0,IF(AB120=\"\",INDEX(RRFs!E:E,MATCH(\"Triglyme\",RRFs!B:B,FALSE)),INDEX(RRFs!E:E,MATCH(AB120,RRFs!B:B,FALSE)))))","v":""},"","",""]
[null,null,null,null,null,null,null,null,null,null,null,null,null,null,null,null,null,null,"After MeP",{"$f":"IF(Q121=\"\",\"\",IF(OR(S121=\"Solvent\",S121=\"After MeP\"),0,IF(S121=\"\",INDEX(RRFs!E:E,MATCH(\"Triglyme\",RRFs!B:B,FALSE)),INDEX(RRFs!E:E,MATCH(S121,RRFs!B:B,FALSE)))))","v":""},"","","",null,null,null,null,"After MeP",{"$f":"IF(Z121=\"\",\"\",IF(OR(AB121=\"Solvent\",AB121=\"After MeP\"),0,IF(AB121=\"\",INDEX(RRFs!E:E,MATCH(\"Triglyme\",RRFs!B:B,FALSE)),INDEX(RRFs!E:E,MATCH(AB121,RRFs!B:B,FALSE)))))","v":""},"","",""]
[null,null,null,null,null,null,null,null,null,null,null,null,null,null,null,null,null,null,"After MeP",{"$f":"IF(Q122=\"\",\"\",IF(OR(S122=\"Solvent\",S122=\"After MeP\"),0,IF(S122=\"\",INDEX(RRFs!E:E,MATCH(\"Triglyme\",RRFs!B:B,FALSE)),INDEX(RRFs!E:E,MATCH(S122,RRFs!B:B,FALSE)))))","v":""},"","","",null,null,null,null,"After MeP",{"$f":"IF(Z122=\"\",\"\",IF(OR(AB122=\"Solvent\",AB122=\"After MeP\"),0,IF(AB122=\"\",INDEX(RRFs!E:E,MATCH(\"Triglyme\",RRFs!B:B,FALSE)),INDEX(RRFs!E:E,MATCH(AB122,RRFs!B:B,FALSE)))))","v":""},"","",""]
[null,null,null,null,null,null,null,null,null,null,null,null,null,null,null,null,null,null,"After MeP",{"$f":"IF(Q123=\"\",\"\",IF(OR(S123=\"Solvent\",S123=\"After MeP\"),0,IF(S123=\"\",INDEX(RRFs!E:E,MATCH(\"Triglyme\",RRFs!B:B,FALSE)),INDEX(RRFs!E:E,MATCH(S123,RRFs!B:B,FALSE)))))","v":""},"","","",null,null,null,null,"After MeP",{"$f":"IF(Z123=\"\",\"\",IF(OR(AB123=\"Solvent\",AB123=\"After MeP\"),0,IF(AB123=\"\",INDEX(RRFs!E:E,MATCH(\"Triglyme\",RRFs!B:B,FALSE)),INDEX(RRFs!E:E,MATCH(AB123,RRFs!B:B,FALSE)))))","v":""},"","",""]
[null,null,null,null,null,null,null,null,null,null,null,null,null,null,null,null,null,null,"After MeP",{"$f":"IF(Q124=\"\",\"\",IF(OR(S124=\"Solvent\",S124=\"After MeP\"),0,IF(S124=\"\",INDEX(RRFs!E:E,MATCH(\"Triglyme\",RRFs!B:B,FALSE)),INDEX(RRFs!E:E,MATCH(S124,RRFs!B:B,FALSE)))))","v":""},"","","",null,null,null,null,"After MeP",{"$f":"IF(Z124=\"\",\"\",IF(OR(AB124=\"Solvent\",AB124=\"After MeP\"),0,IF(AB124=\"\",INDEX(RRFs!E:E,MATCH(\"Triglyme\",RRFs!B:B,FALSE)),INDEX(RRFs!E:E,MATCH(AB124,RRFs!B:B,FALSE)))))","v":""},"","",""]
[null,null,null,null,null,null,null,null,null,null,null,null,null,null,null,null,null,null,"After MeP",{"$f":"IF(Q125=\"\",\"\",IF(OR(S125=\"Solvent\",S125=\"After MeP\"),0,IF(S125=\"\",INDEX(RRFs!E:E,MATCH(\"Triglyme\",RRFs!B:B,FALSE)),INDEX(RRFs!E:E,MATCH(S125,RRFs!B:B,FALSE)))))","v":""},"","","",null,null,null,null,"After MeP",{"$f":"IF(Z125=\"\",\"\",IF(OR(AB125=\"Solvent\",AB125=\"After MeP\"),0,IF(AB125=\"\",INDEX(RRFs!E:E,MATCH(\"Triglyme\",RRFs!B:B,FALSE)),INDEX(RRFs!E:E,MATCH(AB125,RRFs!B:B,FALSE)))))","v":""},"","",""]
[null,null,null,null,null,null,null,null,null,null,null,null,null,null,null,null,null,null,"After MeP",{"$f":"IF(Q126=\"\",\"\",IF(OR(S126=\"Solvent\",S126=\"After MeP\"),0,IF(S126=\"\",INDEX(RRFs!E:E,MATCH(\"Triglyme\",RRFs!B:B,FALSE)),INDEX(RRFs!E:E,MATCH(S126,RRFs!B:B,FALSE)))))","v":""},"","","",null,null,null,null,"After MeP",{"$f":"IF(Z126=\"\",\"\",IF(OR(AB126=\"Solvent\",AB126=\"After MeP\"),0,IF(AB126=\"\",INDEX(RRFs!E:E,MATCH(\"Triglyme\",RRFs!B:B,FALSE)),INDEX(RRFs!E:E,MATCH(AB126,RRFs!B:B,FALSE)))))","v":""},"","",""]
[null,null,null,null,null,null,null,null,null,null,null,null,null,null,null,null,null,null,"After MeP",{"$f":"IF(Q127=\"\",\"\",IF(OR(S127=\"Solvent\",S127=\"After MeP\"),0,IF(S127=\"\",INDEX(RRFs!E:E,MATCH(\"Triglyme\",RRFs!B:B,FALSE)),INDEX(RRFs!E:E,MATCH(S127,RRFs!B:B,FALSE)))))","v":""},"","","",null,null,null,null,"After MeP",{"$f":"IF(Z127=\"\",\"\",IF(OR(AB127=\"Solvent\",AB127=\"After MeP\"),0,IF(AB127=\"\",INDEX(RRFs!E:E,MATCH(\"Triglyme\",RRFs!B:B,FALSE)),INDEX(RRFs!E:E,MATCH(AB127,RRFs!B:B,FALSE)))))","v":""},"","",""]
[null,null,null,null,null,null,null,null,null,null,null,null,null,null,null,null,null,null,"After MeP",{"$f":"IF(Q128=\"\",\"\",IF(OR(S128=\"Solvent\",S128=\"After MeP\"),0,IF(S128=\"\",INDEX(RRFs!E:E,MATCH(\"Triglyme\",RRFs!B:B,FALSE)),INDEX(RRFs!E:E,MATCH(S128,RRFs!B:B,FALSE)))))","v":""},"","","",null,null,null,null,"After MeP",{"$f":"IF(Z128=\"\",\"\",IF(OR(AB128=\"Solvent\",AB128=\"After MeP\"),0,IF(AB128=\"\",INDEX(RRFs!E:E,MATCH(\"Triglyme\",RRFs!B:B,FALSE)),INDEX(RRFs!E:E,MATCH(AB128,RRFs!B:B,FALSE)))))","v":""},"","",""]
[null,null,null,null,null,null,null,null,null,null,null,null,null,null,null,null,null,null,"After MeP",{"$f":"IF(Q129=\"\",\"\",IF(OR(S129=\"Solvent\",S129=\"After MeP\"),0,IF(S129=\"\",INDEX(RRFs!E:E,MATCH(\"Triglyme\",RRFs!B:B,FALSE)),INDEX(RRFs!E:E,MATCH(S129,RRFs!B:B,FALSE)))))","v":""},"","","",null,null,null,null,"After MeP",{"$f":"IF(Z129=\"\",\"\",IF(OR(AB129=\"Solvent\",AB129=\"After MeP\"),0,IF(AB129=\"\",INDEX(RRFs!E:E,MATCH(\"Triglyme\",RRFs!B:B,FALSE)),INDEX(RRFs!E:E,MATCH(AB129,RRFs!B:B,FALSE)))))","v":""},"","",""]
[null,null,null,null,null,null,null,null,null,null,null,null,null,null,null,null,null,null,"After MeP",{"$f":"IF(Q130=\"\",\"\",IF(OR(S130=\"Solvent\",S130=\"After MeP\"),0,IF(S130=\"\",INDEX(RRFs!E:E,MATCH(\"Triglyme\",RRFs!B:B,FALSE)),INDEX(RRFs!E:E,MATCH(S130,RRFs!B:B,FALSE)))))","v":""},"","","",null,null,null,null,"After MeP",{"$f":"IF(Z130=\"\",\"\",IF(OR(AB130=\"Solvent\",AB130=\"After MeP\"),0,IF(AB130=\"\",INDEX(RRFs!E:E,MATCH(\"Triglyme\",RRFs!B:B,FALSE)),INDEX(RRFs!E:E,MATCH(AB130,RRFs!B:B,FALSE)))))","v":""},"","",""]
[null,null,null,null,null,null,null,null,null,null,null,null,null,null,null,null,null,null,"After MeP",{"$f":"IF(Q131=\"\",\"\",IF(OR(S131=\"Solvent\",S131=\"After MeP\"),0,IF(S131=\"\",INDEX(RRFs!E:E,MATCH(\"Triglyme\",RRFs!B:B,FALSE)),INDEX(RRFs!E:E,MATCH(S131,RRFs!B:B,FALSE)))))","v":""},"","","",null,null,null,null,"After MeP",{"$f":"IF(Z131=\"\",\"\",IF(OR(AB131=\"Solvent\",AB131=\"After MeP\"),0,IF(AB131=\"\",INDEX(RRFs!E:E,MATCH(\"Triglyme\",RRFs!B:B,FALSE)),INDEX(RRFs!E:E,MATCH(AB131,RRFs!B:B,FALSE)))))","v":""},"","",""]
[null,null,null,null,null,null,null,null,null,null,null,null,null,null,null,null,null,null,"After MeP",{"$f":"IF(Q132=\"\",\"\",IF(OR(S132=\"Solvent\",S132=\"After MeP\"),0,IF(S132=\"\",INDEX(RRFs!E:E,MATCH(\"Triglyme\",RRFs!B:B,FALSE)),INDEX(RRFs!E:E,MATCH(S132,RRFs!B:B,FALSE)))))","v":""},"","","",null,null,null,null,"After MeP",{"$f":"IF(Z132=\"\",\"\",IF(OR(AB132=\"Solvent\",AB132=\"After MeP\"),0,IF(AB132=\"\",INDEX(RRFs!E:E,MATCH(\"Triglyme\",RRFs!B:B,FALSE)),INDEX(RRFs!E:E,MATCH(AB132,RRFs!B:B,FALSE)))))","v":""},"","",""]
[null,null,null,null,null,null,null,null,null,null,null,null,null,null,null,null,null,null,"After MeP",{"$f":"IF(Q133=\"\",\"\",IF(OR(S133=\"Solvent\",S133=\"After MeP\"),0,IF(S133=\"\",INDEX(RRFs!E:E,MATCH(\"Triglyme\",RRFs!B:B,FALSE)),INDEX(RRFs!E:E,MATCH(S133,RRFs!B:B,FALSE)))))","v":""},{"$f":"IF(Q133=\"\",\"\",IF(T133=0,0,IF(S133=\"EGDE\",R133/T133,R133/INDEX(R:R,MATCH(\"EGDE\",S:S,FALSE)) *INDEX($F$29:$F$38,MATCH(\"EGDE\",$C$29:$C$38,FALSE))/T133)))","v":""},"","",null,null,null,null,{"$f":"IF(Z133>=$E$41,\"After MeP\",\"\")","v":"After MeP"},{"$f":"IF(Z133=\"\",\"\",IF(OR(AB133=\"Solvent\",AB133=\"After MeP\"),0,IF(AB133=\"\",INDEX(RRFs!E:E,MATCH(\"Triglyme\",RRFs!B:B,FALSE)),INDEX(RRFs!E:E,MATCH(AB133,RRFs!B:B,FALSE)))))","v":""},{"$f":"IF(Z133=\"\",\"\",IF(AC133=0,0,IF(AB133=\"EGDE\",AA133/AC133,AA133/INDEX(AA:AA,MATCH(\"EGDE\",AB:AB,FALSE)) *INDEX($F$29:$F$38,MATCH(\"EGDE\",$C$29:$C$38,FALSE))/AC133)))","v":""},"",""]
[null,null,null,null,null,null,null,null,null,null,null,null,null,null,null,null,null,null,"After MeP",{"$f":"IF(Q134=\"\",\"\",IF(OR(S134=\"Solvent\",S134=\"After MeP\"),0,IF(S134=\"\",INDEX(RRFs!E:E,MATCH(\"Triglyme\",RRFs!B:B,FALSE)),INDEX(RRFs!E:E,MATCH(S134,RRFs!B:B,FALSE)))))","v":""},"",{"$f":"IF(Q134=\"\",\"\",IF(OR(S134=\"Heptane\",S134=\"IPA\",S134=\"Triglyme\",S134=\"DIIBA\",S134=\"EGDE\"),\"\",U134*($D$26/(LARGE($F$16:$F$21,1)*($E$32-$E$31)))*$D$4))","v":""},{"$f":"IF(V134=\"\",\"\",IF(AND(V134>1,S134=\"\"),\"Yes\",\"\"))","v":""},null,null,null,null,"After MeP",{"$f":"IF(Z134=\"\",\"\",IF(OR(AB134=\"Solvent\",AB134=\"After MeP\"),0,IF(AB134=\"\",INDEX(RRFs!E:E,MATCH(\"Triglyme\",RRFs!B:B,FALSE)),INDEX(RRFs!E:E,MATCH(AB134,RRFs!B:B,FALSE)))))","v":""},"",{"$f":"IF(Z134=\"\",\"\",IF(OR(AB134=\"Heptane\",AB134=\"IPA\",AB134=\"Triglyme\",AB134=\"DIIBA\",AB134=\"EGDE\"),\"\",AD134*($D$26/((LARGE($F$16:$F$21,1)*($E$32-$E$31)))*$D$4)))","v":""},{"$f":"IF(AE134=\"\",\"\",IF(AND(AE134>1,AB134=\"\"),\"Yes\",\"\"))","v":""}]
[null,null,null,null,null,null,null,null,null,null,null,null,null,null,null,null,null,null,"After MeP",{"$f":"IF(Q135=\"\",\"\",IF(OR(S135=\"Solvent\",S135=\"After MeP\"),0,IF(S135=\"\",INDEX(RRFs!E:E,MATCH(\"Triglyme\",RRFs!B:B,FALSE)),INDEX(RRFs!E:E,MATCH(S135,RRFs!B:B,FALSE)))))","v":""},"","","",null,null,null,null,"After MeP",{"$f":"IF(Z135=\"\",\"\",IF(OR(AB135=\"Solvent\",AB135=\"After MeP\"),0,IF(AB135=\"\",INDEX(RRFs!E:E,MATCH(\"Triglyme\",RRFs!B:B,FALSE)),INDEX(RRFs!E:E,MATCH(AB135,RRFs!B:B,FALSE)))))","v":""},"","",""]
[null,null,null,null,null,null,null,null,null,null,null,null,null,null,null,null,null,null,"After MeP",{"$f":"IF(Q136=\"\",\"\",IF(OR(S136=\"Solvent\",S136=\"After MeP\"),0,IF(S136=\"\",INDEX(RRFs!E:E,MATCH(\"Triglyme\",RRFs!B:B,FALSE)),INDEX(RRFs!E:E,MATCH(S136,RRFs!B:B,FALSE)))))","v":""},"","","",null,null,null,null,"After MeP",{"$f":"IF(Z136=\"\",\"\",IF(OR(AB136=\"Solvent\",AB136=\"After MeP\"),0,IF(AB136=\"\",INDEX(RRFs!E:E,MATCH(\"Triglyme\",RRFs!B:B,FALSE)),INDEX(RRFs!E:E,MATCH(AB136,RRFs!B:B,FALSE)))))","v":""},"","",""]
[null,null,null,null,null,null,null,null,null,null,null,null,null,null,null,null,null,null,"After MeP",{"$f":"IF(Q137=\"\",\"\",IF(OR(S137=\"Solvent\",S137=\"After MeP\"),0,IF(S137=\"\",INDEX(RRFs!E:E,MATCH(\"Triglyme\",RRFs!B:B,FALSE)),INDEX(RRFs!E:E,MATCH(S137,RRFs!B:B,FALSE)))))","v":""},"","","",null,null,null,null,"After MeP",{"$f":"IF(Z137=\"\",\"\",IF(OR(AB137=\"Solvent\",AB137=\"After MeP\"),0,IF(AB137=\"\",INDEX(RRFs!E:E,MATCH(\"Triglyme\",RRFs!B:B,FALSE)),INDEX(RRFs!E:E,MATCH(AB137,RRFs!B:B,FALSE)))))","v":""},"","",""]
[null,null,null,null,null,null,null,null,null,null,null,null,null,null,null,null,null,null,"After MeP",{"$f":"IF(Q138=\"\",\"\",IF(OR(S138=\"Solvent\",S138=\"After MeP\"),0,IF(S138=\"\",INDEX(RRFs!E:E,MATCH(\"Triglyme\",RRFs!B:B,FALSE)),INDEX(RRFs!E:E,MATCH(S138,RRFs!B:B,FALSE)))))","v":""},"","","",null,null,null,null,"After MeP",{"$f":"IF(Z138=\"\",\"\",IF(OR(AB138=\"Solvent\",AB138=\"After MeP\"),0,IF(AB138=\"\",INDEX(RRFs!E:E,MATCH(\"Triglyme\",RRFs!B:B,FALSE)),INDEX(RRFs!E:E,MATCH(AB138,RRFs!B:B,FALSE)))))","v":""},"","",""]
[null,null,null,null,null,null,null,null,null,null,null,null,null,null,null,null,null,null,"After MeP",{"$f":"IF(Q139=\"\",\"\",IF(OR(S139=\"Solvent\",S139=\"After MeP\"),0,IF(S139=\"\",INDEX(RRFs!E:E,MATCH(\"Triglyme\",RRFs!B:B,FALSE)),INDEX(RRFs!E:E,MATCH(S139,RRFs!B:B,FALSE)))))","v":""},"","","",null,null,null,null,"After MeP",{"$f":"IF(Z139=\"\",\"\",IF(OR(AB139=\"Solvent\",AB139=\"After MeP\"),0,IF(AB139=\"\",INDEX(RRFs!E:E,MATCH(\"Triglyme\",RRFs!B:B,FALSE)),INDEX(RRFs!E:E,MATCH(AB139,RRFs!B:B,FALSE)))))","v":""},"","",""]
[null,null,null,null,null,null,null,null,null,null,null,null,null,null,null,null,null,null,"After MeP",{"$f":"IF(Q140=\"\",\"\",IF(OR(S140=\"Solvent\",S140=\"After MeP\"),0,IF(S140=\"\",INDEX(RRFs!E:E,MATCH(\"Triglyme\",RRFs!B:B,FALSE)),INDEX(RRFs!E:E,MATCH(S140,RRFs!B:B,FALSE)))))","v":""},"","","",null,null,null,null,"After MeP",{"$f":"IF(Z140=\"\",\"\",IF(OR(AB140=\"Solvent\",AB140=\"After MeP\"),0,IF(AB140=\"\",INDEX(RRFs!E:E,MATCH(\"Triglyme\",RRFs!B:B,FALSE)),INDEX(RRFs!E:E,MATCH(AB140,RRFs!B:B,FALSE)))))","v":""},"","",""]
[null,null,null,null,null,null,null,null,null,null,null,null,null,null,null,null,null,null,"After MeP",{"$f":"IF(Q141=\"\",\"\",IF(OR(S141=\"Solvent\",S141=\"After MeP\"),0,IF(S141=\"\",INDEX(RRFs!E:E,MATCH(\"Triglyme\",RRFs!B:B,FALSE)),INDEX(RRFs!E:E,MATCH(S141,RRFs!B:B,FALSE)))))","v":""},"","","",null,null,null,null,"After MeP",{"$f":"IF(Z141=\"\",\"\",IF(OR(AB141=\"Solvent\",AB141=\"After MeP\"),0,IF(AB141=\"\",INDEX(RRFs!E:E,MATCH(\"Triglyme\",RRFs!B:B,FALSE)),INDEX(RRFs!E:E,MATCH(AB141,RRFs!B:B,FALSE)))))","v":""},"","",""]
[null,null,null,null,null,null,null,null,null,null,null,null,null,null,null,null,null,null,"After MeP",{"$f":"IF(Q142=\"\",\"\",IF(OR(S142=\"Solvent\",S142=\"After MeP\"),0,IF(S142=\"\",INDEX(RRFs!E:E,MATCH(\"Triglyme\",RRFs!B:B,FALSE)),INDEX(RRFs!E:E,MATCH(S142,RRFs!B:B,FALSE)))))","v":""},"","","",null,null,null,null,"After MeP",{"$f":"IF(Z142=\"\",\"\",IF(OR(AB142=\"Solvent\",AB142=\"After MeP\"),0,IF(AB142=\"\",INDEX(RRFs!E:E,MATCH(\"Triglyme\",RRFs!B:B,FALSE)),INDEX(RRFs!E:E,MATCH(AB142,RRFs!B:B,FALSE)))))","v":""},"","",""]
[null,null,null,null,null,null,null,null,null,null,null,null,null,null,null,null,null,null,"After MeP",{"$f":"IF(Q143=\"\",\"\",IF(OR(S143=\"Solvent\",S143=\"After MeP\"),0,IF(S143=\"\",INDEX(RRFs!E:E,MATCH(\"Triglyme\",RRFs!B:B,FALSE)),INDEX(RRFs!E:E,MATCH(S143,RRFs!B:B,FALSE)))))","v":""},"","","",null,null,null,null,"After MeP",{"$f":"IF(Z143=\"\",\"\",IF(OR(AB143=\"Solvent\",AB143=\"After MeP\"),0,IF(AB143=\"\",INDEX(RRFs!E:E,MATCH(\"Triglyme\",RRFs!B:B,FALSE)),INDEX(RRFs!E:E,MATCH(AB143,RRFs!B:B,FALSE)))))","v":""},"","",""]
[null,null,null,null,null,null,null,null,null,null,null,null,null,null,null,null,null,null,"After MeP",{"$f":"IF(Q144=\"\",\"\",IF(OR(S144=\"Solvent\",S144=\"After MeP\"),0,IF(S144=\"\",INDEX(RRFs!E:E,MATCH(\"Triglyme\",RRFs!B:B,FALSE)),INDEX(RRFs!E:E,MATCH(S144,RRFs!B:B,FALSE)))))","v":""},"","","",null,null,null,null,"After MeP",{"$f":"IF(Z144=\"\",\"\",IF(OR(AB144=\"Solvent\",AB144=\"After MeP\"),0,IF(AB144=\"\",INDEX(RRFs!E:E,MATCH(\"Triglyme\",RRFs!B:B,FALSE)),INDEX(RRFs!E:E,MATCH(AB144,RRFs!B:B,FALSE)))))","v":""},"","",""]
[null,null,null,null,null,null,null,null,null,null,null,null,null,null,null,null,null,null,"After MeP",{"$f":"IF(Q145=\"\",\"\",IF(OR(S145=\"Solvent\",S145=\"After MeP\"),0,IF(S145=\"\",INDEX(RRFs!E:E,MATCH(\"Triglyme\",RRFs!B:B,FALSE)),INDEX(RRFs!E:E,MATCH(S145,RRFs!B:B,FALSE)))))","v":""},"","","",null,null,null,null,"After MeP",{"$f":"IF(Z145=\"\",\"\",IF(OR(AB145=\"Solvent\",AB145=\"After MeP\"),0,IF(AB145=\"\",INDEX(RRFs!E:E,MATCH(\"Triglyme\",RRFs!B:B,FALSE)),INDEX(RRFs!E:E,MATCH(AB145,RRFs!B:B,FALSE)))))","v":""},"","",""]
[null,null,null,null,null,null,null,null,null,null,null,null,null,null,null,null,null,null,"After MeP",{"$f":"IF(Q146=\"\",\"\",IF(OR(S146=\"Solvent\",S146=\"After MeP\"),0,IF(S146=\"\",INDEX(RRFs!E:E,MATCH(\"Triglyme\",RRFs!B:B,FALSE)),INDEX(RRFs!E:E,MATCH(S146,RRFs!B:B,FALSE)))))","v":""},"","","",null,null,null,null,"After MeP",{"$f":"IF(Z146=\"\",\"\",IF(OR(AB146=\"Solvent\",AB146=\"After MeP\"),0,IF(AB146=\"\",INDEX(RRFs!E:E,MATCH(\"Triglyme\",RRFs!B:B,FALSE)),INDEX(RRFs!E:E,MATCH(AB146,RRFs!B:B,FALSE)))))","v":""},"","",""]
[null,null,null,null,null,null,null,null,null,null,null,null,null,null,null,null,null,null,"After MeP",{"$f":"IF(Q147=\"\",\"\",IF(OR(S147=\"Solvent\",S147=\"After MeP\"),0,IF(S147=\"\",INDEX(RRFs!E:E,MATCH(\"Triglyme\",RRFs!B:B,FALSE)),INDEX(RRFs!E:E,MATCH(S147,RRFs!B:B,FALSE)))))","v":""},"","","",null,null,null,null,"After MeP",{"$f":"IF(Z147=\"\",\"\",IF(OR(AB147=\"Solvent\",AB147=\"After MeP\"),0,IF(AB147=\"\",INDEX(RRFs!E:E,MATCH(\"Triglyme\",RRFs!B:B,FALSE)),INDEX(RRFs!E:E,MATCH(AB147,RRFs!B:B,FALSE)))))","v":""},"","",""]
[null,null,null,null,null,null,null,null,null,null,null,null,null,null,null,null,null,null,"After MeP",{"$f":"IF(Q148=\"\",\"\",IF(OR(S148=\"Solvent\",S148=\"After MeP\"),0,IF(S148=\"\",INDEX(RRFs!E:E,MATCH(\"Triglyme\",RRFs!B:B,FALSE)),INDEX(RRFs!E:E,MATCH(S148,RRFs!B:B,FALSE)))))","v":""},"","","",null,null,null,null,"After MeP",{"$f":"IF(Z148=\"\",\"\",IF(OR(AB148=\"Solvent\",AB148=\"After MeP\"),0,IF(AB148=\"\",INDEX(RRFs!E:E,MATCH(\"Triglyme\",RRFs!B:B,FALSE)),INDEX(RRFs!E:E,MATCH(AB148,RRFs!B:B,FALSE)))))","v":""},"","",""]
[null,null,null,null,null,null,null,null,null,null,null,null,null,null,null,null,null,null,"After MeP",{"$f":"IF(Q149=\"\",\"\",IF(OR(S149=\"Solvent\",S149=\"After MeP\"),0,IF(S149=\"\",INDEX(RRFs!E:E,MATCH(\"Triglyme\",RRFs!B:B,FALSE)),INDEX(RRFs!E:E,MATCH(S149,RRFs!B:B,FALSE)))))","v":""},"","","",null,null,null,null,"After MeP",{"$f":"IF(Z149=\"\",\"\",IF(OR(AB149=\"Solvent\",AB149=\"After MeP\"),0,IF(AB149=\"\",INDEX(RRFs!E:E,MATCH(\"Triglyme\",RRFs!B:B,FALSE)),INDEX(RRFs!E:E,MATCH(AB149,RRFs!B:B,FALSE)))))","v":""},"","",""]
[null,null,null,null,null,null,null,null,null,null,null,null,null,null,null,null,null,null,"After MeP",{"$f":"IF(Q150=\"\",\"\",IF(OR(S150=\"Solvent\",S150=\"After MeP\"),0,IF(S150=\"\",INDEX(RRFs!E:E,MATCH(\"Triglyme\",RRFs!B:B,FALSE)),INDEX(RRFs!E:E,MATCH(S150,RRFs!B:B,FALSE)))))","v":""},"","","",null,null,null,null,"After MeP",{"$f":"IF(Z150=\"\",\"\",IF(OR(AB150=\"Solvent\",AB150=\"After MeP\"),0,IF(AB150=\"\",INDEX(RRFs!E:E,MATCH(\"Triglyme\",RRFs!B:B,FALSE)),INDEX(RRFs!E:E,MATCH(AB150,RRFs!B:B,FALSE)))))","v":""},"","",""]
[null,null,null,null,null,null,null,null,null,null,null,null,null,null,null,null,null,null,"After MeP",{"$f":"IF(Q151=\"\",\"\",IF(OR(S151=\"Solvent\",S151=\"After MeP\"),0,IF(S151=\"\",INDEX(RRFs!E:E,MATCH(\"Triglyme\",RRFs!B:B,FALSE)),INDEX(RRFs!E:E,MATCH(S151,RRFs!B:B,FALSE)))))","v":""},"","","",null,null,null,null,"After MeP",{"$f":"IF(Z151=\"\",\"\",IF(OR(AB151=\"Solvent\",AB151=\"After MeP\"),0,IF(AB151=\"\",INDEX(RRFs!E:E,MATCH(\"Triglyme\",RRFs!B:B,FALSE)),INDEX(RRFs!E:E,MATCH(AB151,RRFs!B:B,FALSE)))))","v":""},"","",""]
[null,null,null,null,null,null,null,null,null,null,null,null,null,null,null,null,null,null,"After MeP",{"$f":"IF(Q152=\"\",\"\",IF(OR(S152=\"Solvent\",S152=\"After MeP\"),0,IF(S152=\"\",INDEX(RRFs!E:E,MATCH(\"Triglyme\",RRFs!B:B,FALSE)),INDEX(RRFs!E:E,MATCH(S152,RRFs!B:B,FALSE)))))","v":""},"","","",null,null,null,null,"After MeP",{"$f":"IF(Z152=\"\",\"\",IF(OR(AB152=\"Solvent\",AB152=\"After MeP\"),0,IF(AB152=\"\",INDEX(RRFs!E:E,MATCH(\"Triglyme\",RRFs!B:B,FALSE)),INDEX(RRFs!E:E,MATCH(AB152,RRFs!B:B,FALSE)))))","v":""},"","",""]
[null,null,null,null,null,null,null,null,null,null,null,null,null,null,null,null,null,null,"After MeP",{"$f":"IF(Q153=\"\",\"\",IF(OR(S153=\"Solvent\",S153=\"After MeP\"),0,IF(S153=\"\",INDEX(RRFs!E:E,MATCH(\"Triglyme\",RRFs!B:B,FALSE)),INDEX(RRFs!E:E,MATCH(S153,RRFs!B:B,FALSE)))))","v":""},"","","",null,null,null,null,"After MeP",{"$f":"IF(Z153=\"\",\"\",IF(OR(AB153=\"Solvent\",AB153=\"After MeP\"),0,IF(AB153=\"\",INDEX(RRFs!E:E,MATCH(\"Triglyme\",RRFs!B:B,FALSE)),INDEX(RRFs!E:E,MATCH(AB153,RRFs!B:B,FALSE)))))","v":""},"","",""]
[null,null,null,null,null,null,null,null,null,null,null,null,null,null,null,null,null,null,"After MeP",{"$f":"IF(Q154=\"\",\"\",IF(OR(S154=\"Solvent\",S154=\"After MeP\"),0,IF(S154=\"\",INDEX(RRFs!E:E,MATCH(\"Triglyme\",RRFs!B:B,FALSE)),INDEX(RRFs!E:E,MATCH(S154,RRFs!B:B,FALSE)))))","v":""},"","","",null,null,null,null,"After MeP",{"$f":"IF(Z154=\"\",\"\",IF(OR(AB154=\"Solvent\",AB154=\"After MeP\"),0,IF(AB154=\"\",INDEX(RRFs!E:E,MATCH(\"Triglyme\",RRFs!B:B,FALSE)),INDEX(RRFs!E:E,MATCH(AB154,RRFs!B:B,FALSE)))))","v":""},"","",""]
[null,null,null,null,null,null,null,null,null,null,null,null,null,null,null,null,null,null,"After MeP",{"$f":"IF(Q155=\"\",\"\",IF(OR(S155=\"Solvent\",S155=\"After MeP\"),0,IF(S155=\"\",INDEX(RRFs!E:E,MATCH(\"Triglyme\",RRFs!B:B,FALSE)),INDEX(RRFs!E:E,MATCH(S155,RRFs!B:B,FALSE)))))","v":""},"","","",null,null,null,null,"After MeP",{"$f":"IF(Z155=\"\",\"\",IF(OR(AB155=\"Solvent\",AB155=\"After MeP\"),0,IF(AB155=\"\",INDEX(RRFs!E:E,MATCH(\"Triglyme\",RRFs!B:B,FALSE)),INDEX(RRFs!E:E,MATCH(AB155,RRFs!B:B,FALSE)))))","v":""},"","",""]
[null,null,null,null,null,null,null,null,null,null,null,null,null,null,null,null,null,null,"After MeP",{"$f":"IF(Q156=\"\",\"\",IF(OR(S156=\"Solvent\",S156=\"After MeP\"),0,IF(S156=\"\",INDEX(RRFs!E:E,MATCH(\"Triglyme\",RRFs!B:B,FALSE)),INDEX(RRFs!E:E,MATCH(S156,RRFs!B:B,FALSE)))))","v":""},"","","",null,null,null,null,"After MeP",{"$f":"IF(Z156=\"\",\"\",IF(OR(AB156=\"Solvent\",AB156=\"After MeP\"),0,IF(AB156=\"\",INDEX(RRFs!E:E,MATCH(\"Triglyme\",RRFs!B:B,FALSE)),INDEX(RRFs!E:E,MATCH(AB156,RRFs!B:B,FALSE)))))","v":""},"","",""]
[null,null,null,null,null,null,null,null,null,null,null,null,null,null,null,null,null,null,"After MeP",{"$f":"IF(Q157=\"\",\"\",IF(OR(S157=\"Solvent\",S157=\"After MeP\"),0,IF(S157=\"\",INDEX(RRFs!E:E,MATCH(\"Triglyme\",RRFs!B:B,FALSE)),INDEX(RRFs!E:E,MATCH(S157,RRFs!B:B,FALSE)))))","v":""},"","","",null,null,null,null,"After MeP",{"$f":"IF(Z157=\"\",\"\",IF(OR(AB157=\"Solvent\",AB157=\"After MeP\"),0,IF(AB157=\"\",INDEX(RRFs!E:E,MATCH(\"Triglyme\",RRFs!B:B,FALSE)),INDEX(RRFs!E:E,MATCH(AB157,RRFs!B:B,FALSE)))))","v":""},"","",""]
[null,null,null,null,null,null,null,null,null,null,null,null,null,null,null,null,null,null,"After MeP",{"$f":"IF(Q158=\"\",\"\",IF(OR(S158=\"Solvent\",S158=\"After MeP\"),0,IF(S158=\"\",INDEX(RRFs!E:E,MATCH(\"Triglyme\",RRFs!B:B,FALSE)),INDEX(RRFs!E:E,MATCH(S158,RRFs!B:B,FALSE)))))","v":""},"","","",null,null,null,null,"After MeP",{"$f":"IF(Z158=\"\",\"\",IF(OR(AB158=\"Solvent\",AB158=\"After MeP\"),0,IF(AB158=\"\",INDEX(RRFs!E:E,MATCH(\"Triglyme\",RRFs!B:B,FALSE)),INDEX(RRFs!E:E,MATCH(AB158,RRFs!B:B,FALSE)))))","v":""},"","",""]
[null,null,null,null,null,null,null,null,null,null,null,null,null,null,null,null,null,null,"After MeP",{"$f":"IF(Q159=\"\",\"\",IF(OR(S159=\"Solvent\",S159=\"After MeP\"),0,IF(S159=\"\",INDEX(RRFs!E:E,MATCH(\"Triglyme\",RRFs!B:B,FALSE)),INDEX(RRFs!E:E,MATCH(S159,RRFs!B:B,FALSE)))))","v":""},"","","",null,null,null,null,"After MeP",{"$f":"IF(Z159=\"\",\"\",IF(OR(AB159=\"Solvent\",AB159=\"After MeP\"),0,IF(AB159=\"\",INDEX(RRFs!E:E,MATCH(\"Triglyme\",RRFs!B:B,FALSE)),INDEX(RRFs!E:E,MATCH(AB159,RRFs!B:B,FALSE)))))","v":""},"","",""]
[null,null,null,null,null,null,null,null,null,null,null,null,null,null,null,null,null,null,"After MeP",{"$f":"IF(Q160=\"\",\"\",IF(OR(S160=\"Solvent\",S160=\"After MeP\"),0,IF(S160=\"\",INDEX(RRFs!E:E,MATCH(\"Triglyme\",RRFs!B:B,FALSE)),INDEX(RRFs!E:E,MATCH(S160,RRFs!B:B,FALSE)))))","v":""},"","","",null,null,null,null,"After MeP",{"$f":"IF(Z160=\"\",\"\",IF(OR(AB160=\"Solvent\",AB160=\"After MeP\"),0,IF(AB160=\"\",INDEX(RRFs!E:E,MATCH(\"Triglyme\",RRFs!B:B,FALSE)),INDEX(RRFs!E:E,MATCH(AB160,RRFs!B:B,FALSE)))))","v":""},"","",""]
[null,null,null,null,null,null,null,null,null,null,null,null,null,null,null,null,null,null,"After MeP",{"$f":"IF(Q161=\"\",\"\",IF(OR(S161=\"Solvent\",S161=\"After MeP\"),0,IF(S161=\"\",INDEX(RRFs!E:E,MATCH(\"Triglyme\",RRFs!B:B,FALSE)),INDEX(RRFs!E:E,MATCH(S161,RRFs!B:B,FALSE)))))","v":""},"","","",null,null,null,null,"After MeP",{"$f":"IF(Z161=\"\",\"\",IF(OR(AB161=\"Solvent\",AB161=\"After MeP\"),0,IF(AB161=\"\",INDEX(RRFs!E:E,MATCH(\"Triglyme\",RRFs!B:B,FALSE)),INDEX(RRFs!E:E,MATCH(AB161,RRFs!B:B,FALSE)))))","v":""},"","",""]
[null,null,null,null,null,null,null,null,null,null,null,null,null,null,null,null,null,null,"After MeP",{"$f":"IF(Q162=\"\",\"\",IF(OR(S162=\"Solvent\",S162=\"After MeP\"),0,IF(S162=\"\",INDEX(RRFs!E:E,MATCH(\"Triglyme\",RRFs!B:B,FALSE)),INDEX(RRFs!E:E,MATCH(S162,RRFs!B:B,FALSE)))))","v":""},"","","",null,null,null,null,"After MeP",{"$f":"IF(Z162=\"\",\"\",IF(OR(AB162=\"Solvent\",AB162=\"After MeP\"),0,IF(AB162=\"\",INDEX(RRFs!E:E,MATCH(\"Triglyme\",RRFs!B:B,FALSE)),INDEX(RRFs!E:E,MATCH(AB162,RRFs!B:B,FALSE)))))","v":""},"","",""]
[null,null,null,null,null,null,null,null,null,null,null,null,null,null,null,null,null,null,"After MeP",{"$f":"IF(Q163=\"\",\"\",IF(OR(S163=\"Solvent\",S163=\"After MeP\"),0,IF(S163=\"\",INDEX(RRFs!E:E,MATCH(\"Triglyme\",RRFs!B:B,FALSE)),INDEX(RRFs!E:E,MATCH(S163,RRFs!B:B,FALSE)))))","v":""},"","","",null,null,null,null,"After MeP",{"$f":"IF(Z163=\"\",\"\",IF(OR(AB163=\"Solvent\",AB163=\"After MeP\"),0,IF(AB163=\"\",INDEX(RRFs!E:E,MATCH(\"Triglyme\",RRFs!B:B,FALSE)),INDEX(RRFs!E:E,MATCH(AB163,RRFs!B:B,FALSE)))))","v":""},"","",""]
[null,null,null,null,null,null,null,null,null,null,null,null,null,null,null,null,null,null,"After MeP",{"$f":"IF(Q164=\"\",\"\",IF(OR(S164=\"Solvent\",S164=\"After MeP\"),0,IF(S164=\"\",INDEX(RRFs!E:E,MATCH(\"Triglyme\",RRFs!B:B,FALSE)),INDEX(RRFs!E:E,MATCH(S164,RRFs!B:B,FALSE)))))","v":""},"","","",null,null,null,null,"After MeP",{"$f":"IF(Z164=\"\",\"\",IF(OR(AB164=\"Solvent\",AB164=\"After MeP\"),0,IF(AB164=\"\",INDEX(RRFs!E:E,MATCH(\"Triglyme\",RRFs!B:B,FALSE)),INDEX(RRFs!E:E,MATCH(AB164,RRFs!B:B,FALSE)))))","v":""},"","",""]
[null,null,null,null,null,null,null,null,null,null,null,null,null,null,null,null,null,null,"After MeP",{"$f":"IF(Q165=\"\",\"\",IF(OR(S165=\"Solvent\",S165=\"After MeP\"),0,IF(S165=\"\",INDEX(RRFs!E:E,MATCH(\"Triglyme\",RRFs!B:B,FALSE)),INDEX(RRFs!E:E,MATCH(S165,RRFs!B:B,FALSE)))))","v":""},{"$f":"IF(Q165=\"\",\"\",IF(T165=0,0,IF(S165=\"EGDE\",R165/T165,R165/INDEX(R:R,MATCH(\"EGDE\",S:S,FALSE)) *INDEX($F$29:$F$38,MATCH(\"EGDE\",$C$29:$C$38,FALSE))/T165)))","v":""},"","",null,null,null,null,"After MeP",{"$f":"IF(Z165=\"\",\"\",IF(OR(AB165=\"Solvent\",AB165=\"After MeP\"),0,IF(AB165=\"\",INDEX(RRFs!E:E,MATCH(\"Triglyme\",RRFs!B:B,FALSE)),INDEX(RRFs!E:E,MATCH(AB165,RRFs!B:B,FALSE)))))","v":""},{"$f":"IF(Z165=\"\",\"\",IF(AC165=0,0,IF(AB165=\"EGDE\",AA165/AC165,AA165/INDEX(AA:AA,MATCH(\"EGDE\",AB:AB,FALSE)) *INDEX($F$29:$F$38,MATCH(\"EGDE\",$C$29:$C$38,FALSE))/AC165)))","v":""},"",""]
[null,null,null,null,null,null,null,null,null,null,null,null,null,null,null,null,null,null,"After MeP",{"$f":"IF(Q166=\"\",\"\",IF(OR(S166=\"Solvent\",S166=\"After MeP\"),0,IF(S166=\"\",INDEX(RRFs!E:E,MATCH(\"Triglyme\",RRFs!B:B,FALSE)),INDEX(RRFs!E:E,MATCH(S166,RRFs!B:B,FALSE)))))","v":""},"","","",null,null,null,null,"After MeP",{"$f":"IF(Z166=\"\",\"\",IF(OR(AB166=\"Solvent\",AB166=\"After MeP\"),0,IF(AB166=\"\",INDEX(RRFs!E:E,MATCH(\"Triglyme\",RRFs!B:B,FALSE)),INDEX(RRFs!E:E,MATCH(AB166,RRFs!B:B,FALSE)))))","v":""},"","",""]
[null,null,null,null,null,null,null,null,null,null,null,null,null,null,null,null,null,null,"After MeP",{"$f":"IF(Q167=\"\",\"\",IF(OR(S167=\"Solvent\",S167=\"After MeP\"),0,IF(S167=\"\",INDEX(RRFs!E:E,MATCH(\"Triglyme\",RRFs!B:B,FALSE)),INDEX(RRFs!E:E,MATCH(S167,RRFs!B:B,FALSE)))))","v":""},"","","",null,null,null,null,"After MeP",{"$f":"IF(Z167=\"\",\"\",IF(OR(AB167=\"Solvent\",AB167=\"After MeP\"),0,IF(AB167=\"\",INDEX(RRFs!E:E,MATCH(\"Triglyme\",RRFs!B:B,FALSE)),INDEX(RRFs!E:E,MATCH(AB167,RRFs!B:B,FALSE)))))","v":""},"","",""]
[null,null,null,null,null,null,null,null,null,null,null,null,null,null,null,null,null,null,"After MeP",{"$f":"IF(Q168=\"\",\"\",IF(OR(S168=\"Solvent\",S168=\"After MeP\"),0,IF(S168=\"\",INDEX(RRFs!E:E,MATCH(\"Triglyme\",RRFs!B:B,FALSE)),INDEX(RRFs!E:E,MATCH(S168,RRFs!B:B,FALSE)))))","v":""},"","","",null,null,null,null,"After MeP",{"$f":"IF(Z168=\"\",\"\",IF(OR(AB168=\"Solvent\",AB168=\"After MeP\"),0,IF(AB168=\"\",INDEX(RRFs!E:E,MATCH(\"Triglyme\",RRFs!B:B,FALSE)),INDEX(RRFs!E:E,MATCH(AB168,RRFs!B:B,FALSE)))))","v":""},"","",""]
[null,null,null,null,null,null,null,null,null,null,null,null,null,null,null,null,null,null,{"$f":"IF(Q169>=$E$41,\"After MeP\",\"\")","v":"After MeP"},{"$f":"IF(Q169=\"\",\"\",IF(OR(S169=\"Solvent\",S169=\"After MeP\"),0,IF(S169=\"\",INDEX(RRFs!E:E,MATCH(\"Triglyme\",RRFs!B:B,FALSE)),INDEX(RRFs!E:E,MATCH(S169,RRFs!B:B,FALSE)))))","v":""},"","","",null,null,null,null,"After MeP",{"$f":"IF(Z169=\"\",\"\",IF(OR(AB169=\"Solvent\",AB169=\"After MeP\"),0,IF(AB169=\"\",INDEX(RRFs!E:E,MATCH(\"Triglyme\",RRFs!B:B,FALSE)),INDEX(RRFs!E:E,MATCH(AB169,RRFs!B:B,FALSE)))))","v":""},"","",""]
[null,null,null,null,null,null,null,null,null,null,null,null,null,null,null,null,null,null,"After MeP",{"$f":"IF(Q170=\"\",\"\",IF(OR(S170=\"Solvent\",S170=\"After MeP\"),0,IF(S170=\"\",INDEX(RRFs!E:E,MATCH(\"Triglyme\",RRFs!B:B,FALSE)),INDEX(RRFs!E:E,MATCH(S170,RRFs!B:B,FALSE)))))","v":""},"","","",null,null,null,null,"After MeP",{"$f":"IF(Z170=\"\",\"\",IF(OR(AB170=\"Solvent\",AB170=\"After MeP\"),0,IF(AB170=\"\",INDEX(RRFs!E:E,MATCH(\"Triglyme\",RRFs!B:B,FALSE)),INDEX(RRFs!E:E,MATCH(AB170,RRFs!B:B,FALSE)))))","v":""},"","",""]
[null,null,null,null,null,null,null,null,null,null,null,null,null,null,null,null,null,null,"After MeP",{"$f":"IF(Q171=\"\",\"\",IF(OR(S171=\"Solvent\",S171=\"After MeP\"),0,IF(S171=\"\",INDEX(RRFs!E:E,MATCH(\"Triglyme\",RRFs!B:B,FALSE)),INDEX(RRFs!E:E,MATCH(S171,RRFs!B:B,FALSE)))))","v":""},"","","",null,null,null,null,"After MeP",{"$f":"IF(Z171=\"\",\"\",IF(OR(AB171=\"Solvent\",AB171=\"After MeP\"),0,IF(AB171=\"\",INDEX(RRFs!E:E,MATCH(\"Triglyme\",RRFs!B:B,FALSE)),INDEX(RRFs!E:E,MATCH(AB171,RRFs!B:B,FALSE)))))","v":""},"","",""]
[null,null,null,null,null,null,null,null,null,null,null,null,null,null,null,null,null,null,"After MeP",{"$f":"IF(Q172=\"\",\"\",IF(OR(S172=\"Solvent\",S172=\"After MeP\"),0,IF(S172=\"\",INDEX(RRFs!E:E,MATCH(\"Triglyme\",RRFs!B:B,FALSE)),INDEX(RRFs!E:E,MATCH(S172,RRFs!B:B,FALSE)))))","v":""},"","","",null,null,null,null,"After MeP",{"$f":"IF(Z172=\"\",\"\",IF(OR(AB172=\"Solvent\",AB172=\"After MeP\"),0,IF(AB172=\"\",INDEX(RRFs!E:E,MATCH(\"Triglyme\",RRFs!B:B,FALSE)),INDEX(RRFs!E:E,MATCH(AB172,RRFs!B:B,FALSE)))))","v":""},"","",""]
[null,null,null,null,null,null,null,null,null,null,null,null,null,null,null,null,null,null,"After MeP",{"$f":"IF(Q173=\"\",\"\",IF(OR(S173=\"Solvent\",S173=\"After MeP\"),0,IF(S173=\"\",INDEX(RRFs!E:E,MATCH(\"Triglyme\",RRFs!B:B,FALSE)),INDEX(RRFs!E:E,MATCH(S173,RRFs!B:B,FALSE)))))","v":""},"","","",null,null,null,null,"After MeP",{"$f":"IF(Z173=\"\",\"\",IF(OR(AB173=\"Solvent\",AB173=\"After MeP\"),0,IF(AB173=\"\",INDEX(RRFs!E:E,MATCH(\"Triglyme\",RRFs!B:B,FALSE)),INDEX(RRFs!E:E,MATCH(AB173,RRFs!B:B,FALSE)))))","v":""},"","",""]
[null,null,null,null,null,null,null,null,null,null,null,null,null,null,null,null,null,null,"After MeP",{"$f":"IF(Q174=\"\",\"\",IF(OR(S174=\"Solvent\",S174=\"After MeP\"),0,IF(S174=\"\",INDEX(RRFs!E:E,MATCH(\"Triglyme\",RRFs!B:B,FALSE)),INDEX(RRFs!E:E,MATCH(S174,RRFs!B:B,FALSE)))))","v":""},"","","",null,null,null,null,"After MeP",{"$f":"IF(Z174=\"\",\"\",IF(OR(AB174=\"Solvent\",AB174=\"After MeP\"),0,IF(AB174=\"\",INDEX(RRFs!E:E,MATCH(\"Triglyme\",RRFs!B:B,FALSE)),INDEX(RRFs!E:E,MATCH(AB174,RRFs!B:B,FALSE)))))","v":""},"","",""]
[null,null,null,null,null,null,null,null,null,null,null,null,null,null,null,null,null,null,"After MeP",{"$f":"IF(Q175=\"\",\"\",IF(OR(S175=\"Solvent\",S175=\"After MeP\"),0,IF(S175=\"\",INDEX(RRFs!E:E,MATCH(\"Triglyme\",RRFs!B:B,FALSE)),INDEX(RRFs!E:E,MATCH(S175,RRFs!B:B,FALSE)))))","v":""},"","","",null,null,null,null,"After MeP",{"$f":"IF(Z175=\"\",\"\",IF(OR(AB175=\"Solvent\",AB175=\"After MeP\"),0,IF(AB175=\"\",INDEX(RRFs!E:E,MATCH(\"Triglyme\",RRFs!B:B,FALSE)),INDEX(RRFs!E:E,MATCH(AB175,RRFs!B:B,FALSE)))))","v":""},"","",""]
[null,null,null,null,null,null,null,null,null,null,null,null,null,null,null,null,null,null,"After MeP",{"$f":"IF(Q176=\"\",\"\",IF(OR(S176=\"Solvent\",S176=\"After MeP\"),0,IF(S176=\"\",INDEX(RRFs!E:E,MATCH(\"Triglyme\",RRFs!B:B,FALSE)),INDEX(RRFs!E:E,MATCH(S176,RRFs!B:B,FALSE)))))","v":""},"","","",null,null,null,null,"After MeP",{"$f":"IF(Z176=\"\",\"\",IF(OR(AB176=\"Solvent\",AB176=\"After MeP\"),0,IF(AB176=\"\",INDEX(RRFs!E:E,MATCH(\"Triglyme\",RRFs!B:B,FALSE)),INDEX(RRFs!E:E,MATCH(AB176,RRFs!B:B,FALSE)))))","v":""},"","",""]
[null,null,null,null,null,null,null,null,null,null,null,null,null,null,null,null,null,null,"After MeP",{"$f":"IF(Q177=\"\",\"\",IF(OR(S177=\"Solvent\",S177=\"After MeP\"),0,IF(S177=\"\",INDEX(RRFs!E:E,MATCH(\"Triglyme\",RRFs!B:B,FALSE)),INDEX(RRFs!E:E,MATCH(S177,RRFs!B:B,FALSE)))))","v":""},"","","",null,null,null,null,"After MeP",{"$f":"IF(Z177=\"\",\"\",IF(OR(AB177=\"Solvent\",AB177=\"After MeP\"),0,IF(AB177=\"\",INDEX(RRFs!E:E,MATCH(\"Triglyme\",RRFs!B:B,FALSE)),INDEX(RRFs!E:E,MATCH(AB177,RRFs!B:B,FALSE)))))","v":""},"","",""]
[null,null,null,null,null,null,null,null,null,null,null,null,null,null,null,null,null,null,"After MeP",{"$f":"IF(Q178=\"\",\"\",IF(OR(S178=\"Solvent\",S178=\"After MeP\"),0,IF(S178=\"\",INDEX(RRFs!E:E,MATCH(\"Triglyme\",RRFs!B:B,FALSE)),INDEX(RRFs!E:E,MATCH(S178,RRFs!B:B,FALSE)))))","v":""},"","","",null,null,null,null,"After MeP",{"$f":"IF(Z178=\"\",\"\",IF(OR(AB178=\"Solvent\",AB178=\"After MeP\"),0,IF(AB178=\"\",INDEX(RRFs!E:E,MATCH(\"Triglyme\",RRFs!B:B,FALSE)),INDEX(RRFs!E:E,MATCH(AB178,RRFs!B:B,FALSE)))))","v":""},"","",""]
[null,null,null,null,null,null,null,null,null,null,null,null,null,null,null,null,null,null,"After MeP",{"$f":"IF(Q179=\"\",\"\",IF(OR(S179=\"Solvent\",S179=\"After MeP\"),0,IF(S179=\"\",INDEX(RRFs!E:E,MATCH(\"Triglyme\",RRFs!B:B,FALSE)),INDEX(RRFs!E:E,MATCH(S179,RRFs!B:B,FALSE)))))","v":""},"","","",null,null,null,null,"After MeP",{"$f":"IF(Z179=\"\",\"\",IF(OR(AB179=\"Solvent\",AB179=\"After MeP\"),0,IF(AB179=\"\",INDEX(RRFs!E:E,MATCH(\"Triglyme\",RRFs!B:B,FALSE)),INDEX(RRFs!E:E,MATCH(AB179,RRFs!B:B,FALSE)))))","v":""},"","",""]
[null,null,null,null,null,null,null,null,null,null,null,null,null,null,null,null,null,null,"After MeP",{"$f":"IF(Q180=\"\",\"\",IF(OR(S180=\"Solvent\",S180=\"After MeP\"),0,IF(S180=\"\",INDEX(RRFs!E:E,MATCH(\"Triglyme\",RRFs!B:B,FALSE)),INDEX(RRFs!E:E,MATCH(S180,RRFs!B:B,FALSE)))))","v":""},"","","",null,null,null,null,"After MeP",{"$f":"IF(Z180=\"\",\"\",IF(OR(AB180=\"Solvent\",AB180=\"After MeP\"),0,IF(AB180=\"\",INDEX(RRFs!E:E,MATCH(\"Triglyme\",RRFs!B:B,FALSE)),INDEX(RRFs!E:E,MATCH(AB180,RRFs!B:B,FALSE)))))","v":""},"","",""]
[null,null,null,null,null,null,null,null,null,null,null,null,null,null,null,null,null,null,"After MeP",{"$f":"IF(Q181=\"\",\"\",IF(OR(S181=\"Solvent\",S181=\"After MeP\"),0,IF(S181=\"\",INDEX(RRFs!E:E,MATCH(\"Triglyme\",RRFs!B:B,FALSE)),INDEX(RRFs!E:E,MATCH(S181,RRFs!B:B,FALSE)))))","v":""},"","","",null,null,null,null,"After MeP",{"$f":"IF(Z181=\"\",\"\",IF(OR(AB181=\"Solvent\",AB181=\"After MeP\"),0,IF(AB181=\"\",INDEX(RRFs!E:E,MATCH(\"Triglyme\",RRFs!B:B,FALSE)),INDEX(RRFs!E:E,MATCH(AB181,RRFs!B:B,FALSE)))))","v":""},"","",""]
[null,null,null,null,null,null,null,null,null,null,null,null,null,null,null,null,null,null,"After MeP",{"$f":"IF(Q182=\"\",\"\",IF(OR(S182=\"Solvent\",S182=\"After MeP\"),0,IF(S182=\"\",INDEX(RRFs!E:E,MATCH(\"Triglyme\",RRFs!B:B,FALSE)),INDEX(RRFs!E:E,MATCH(S182,RRFs!B:B,FALSE)))))","v":""},"","","",null,null,null,null,"After MeP",{"$f":"IF(Z182=\"\",\"\",IF(OR(AB182=\"Solvent\",AB182=\"After MeP\"),0,IF(AB182=\"\",INDEX(RRFs!E:E,MATCH(\"Triglyme\",RRFs!B:B,FALSE)),INDEX(RRFs!E:E,MATCH(AB182,RRFs!B:B,FALSE)))))","v":""},"","",""]
[null,null,null,null,null,null,null,null,null,null,null,null,null,null,null,null,null,null,"After MeP",{"$f":"IF(Q183=\"\",\"\",IF(OR(S183=\"Solvent\",S183=\"After MeP\"),0,IF(S183=\"\",INDEX(RRFs!E:E,MATCH(\"Triglyme\",RRFs!B:B,FALSE)),INDEX(RRFs!E:E,MATCH(S183,RRFs!B:B,FALSE)))))","v":""},"","","",null,null,null,null,"After MeP",{"$f":"IF(Z183=\"\",\"\",IF(OR(AB183=\"Solvent\",AB183=\"After MeP\"),0,IF(AB183=\"\",INDEX(RRFs!E:E,MATCH(\"Triglyme\",RRFs!B:B,FALSE)),INDEX(RRFs!E:E,MATCH(AB183,RRFs!B:B,FALSE)))))","v":""},"","",""]
[null,null,null,null,null,null,null,null,null,null,null,null,null,null,null,null,null,null,"After MeP",{"$f":"IF(Q184=\"\",\"\",IF(OR(S184=\"Solvent\",S184=\"After MeP\"),0,IF(S184=\"\",INDEX(RRFs!E:E,MATCH(\"Triglyme\",RRFs!B:B,FALSE)),INDEX(RRFs!E:E,MATCH(S184,RRFs!B:B,FALSE)))))","v":""},"","","",null,null,null,null,"After MeP",{"$f":"IF(Z184=\"\",\"\",IF(OR(AB184=\"Solvent\",AB184=\"After MeP\"),0,IF(AB184=\"\",INDEX(RRFs!E:E,MATCH(\"Triglyme\",RRFs!B:B,FALSE)),INDEX(RRFs!E:E,MATCH(AB184,RRFs!B:B,FALSE)))))","v":""},"","",""]
[null,null,null,null,null,null,null,null,null,null,null,null,null,null,null,null,null,null,"After MeP",{"$f":"IF(Q185=\"\",\"\",IF(OR(S185=\"Solvent\",S185=\"After MeP\"),0,IF(S185=\"\",INDEX(RRFs!E:E,MATCH(\"Triglyme\",RRFs!B:B,FALSE)),INDEX(RRFs!E:E,MATCH(S185,RRFs!B:B,FALSE)))))","v":""},"","","",null,null,null,null,"After MeP",{"$f":"IF(Z185=\"\",\"\",IF(OR(AB185=\"Solvent\",AB185=\"After MeP\"),0,IF(AB185=\"\",INDEX(RRFs!E:E,MATCH(\"Triglyme\",RRFs!B:B,FALSE)),INDEX(RRFs!E:E,MATCH(AB185,RRFs!B:B,FALSE)))))","v":""},"","",""]
[null,null,null,null,null,null,null,null,null,null,null,null,null,null,null,null,null,null,"After MeP",{"$f":"IF(Q186=\"\",\"\",IF(OR(S186=\"Solvent\",S186=\"After MeP\"),0,IF(S186=\"\",INDEX(RRFs!E:E,MATCH(\"Triglyme\",RRFs!B:B,FALSE)),INDEX(RRFs!E:E,MATCH(S186,RRFs!B:B,FALSE)))))","v":""},"","","",null,null,null,null,"After MeP",{"$f":"IF(Z186=\"\",\"\",IF(OR(AB186=\"Solvent\",AB186=\"After MeP\"),0,IF(AB186=\"\",INDEX(RRFs!E:E,MATCH(\"Triglyme\",RRFs!B:B,FALSE)),INDEX(RRFs!E:E,MATCH(AB186,RRFs!B:B,FALSE)))))","v":""},"","",""]
[null,null,null,null,null,null,null,null,null,null,null,null,null,null,null,null,null,null,"After MeP",{"$f":"IF(Q187=\"\",\"\",IF(OR(S187=\"Solvent\",S187=\"After MeP\"),0,IF(S187=\"\",INDEX(RRFs!E:E,MATCH(\"Triglyme\",RRFs!B:B,FALSE)),INDEX(RRFs!E:E,MATCH(S187,RRFs!B:B,FALSE)))))","v":""},"","","",null,null,null,null,"After MeP",{"$f":"IF(Z187=\"\",\"\",IF(OR(AB187=\"Solvent\",AB187=\"After MeP\"),0,IF(AB187=\"\",INDEX(RRFs!E:E,MATCH(\"Triglyme\",RRFs!B:B,FALSE)),INDEX(RRFs!E:E,MATCH(AB187,RRFs!B:B,FALSE)))))","v":""},"","",""]
[null,null,null,null,null,null,null,null,null,null,null,null,null,null,null,null,null,null,"After MeP",{"$f":"IF(Q188=\"\",\"\",IF(OR(S188=\"Solvent\",S188=\"After MeP\"),0,IF(S188=\"\",INDEX(RRFs!E:E,MATCH(\"Triglyme\",RRFs!B:B,FALSE)),INDEX(RRFs!E:E,MATCH(S188,RRFs!B:B,FALSE)))))","v":""},"","","",null,null,null,null,"After MeP",{"$f":"IF(Z188=\"\",\"\",IF(OR(AB188=\"Solvent\",AB188=\"After MeP\"),0,IF(AB188=\"\",INDEX(RRFs!E:E,MATCH(\"Triglyme\",RRFs!B:B,FALSE)),INDEX(RRFs!E:E,MATCH(AB188,RRFs!B:B,FALSE)))))","v":""},"","",""]
[null,null,null,null,null,null,null,null,null,null,null,null,null,null,null,null,null,null,"After MeP",{"$f":"IF(Q189=\"\",\"\",IF(OR(S189=\"Solvent\",S189=\"After MeP\"),0,IF(S189=\"\",INDEX(RRFs!E:E,MATCH(\"Triglyme\",RRFs!B:B,FALSE)),INDEX(RRFs!E:E,MATCH(S189,RRFs!B:B,FALSE)))))","v":""},"","","",null,null,null,null,"After MeP",{"$f":"IF(Z189=\"\",\"\",IF(OR(AB189=\"Solvent\",AB189=\"After MeP\"),0,IF(AB189=\"\",INDEX(RRFs!E:E,MATCH(\"Triglyme\",RRFs!B:B,FALSE)),INDEX(RRFs!E:E,MATCH(AB189,RRFs!B:B,FALSE)))))","v":""},"","",""]
[null,null,null,null,null,null,null,null,null,null,null,null,null,null,null,null,null,null,"After MeP",{"$f":"IF(Q190=\"\",\"\",IF(OR(S190=\"Solvent\",S190=\"After MeP\"),0,IF(S190=\"\",INDEX(RRFs!E:E,MATCH(\"Triglyme\",RRFs!B:B,FALSE)),INDEX(RRFs!E:E,MATCH(S190,RRFs!B:B,FALSE)))))","v":""},"","","",null,null,null,null,"After MeP",{"$f":"IF(Z190=\"\",\"\",IF(OR(AB190=\"Solvent\",AB190=\"After MeP\"),0,IF(AB190=\"\",INDEX(RRFs!E:E,MATCH(\"Triglyme\",RRFs!B:B,FALSE)),INDEX(RRFs!E:E,MATCH(AB190,RRFs!B:B,FALSE)))))","v":""},"","",""]
[null,null,null,null,null,null,null,null,null,null,null,null,null,null,null,null,null,null,"After MeP",{"$f":"IF(Q191=\"\",\"\",IF(OR(S191=\"Solvent\",S191=\"After MeP\"),0,IF(S191=\"\",INDEX(RRFs!E:E,MATCH(\"Triglyme\",RRFs!B:B,FALSE)),INDEX(RRFs!E:E,MATCH(S191,RRFs!B:B,FALSE)))))","v":""},"","","",null,null,null,null,"After MeP",{"$f":"IF(Z191=\"\",\"\",IF(OR(AB191=\"Solvent\",AB191=\"After MeP\"),0,IF(AB191=\"\",INDEX(RRFs!E:E,MATCH(\"Triglyme\",RRFs!B:B,FALSE)),INDEX(RRFs!E:E,MATCH(AB191,RRFs!B:B,FALSE)))))","v":""},"","",""]
[null,null,null,null,null,null,null,null,null,null,null,null,null,null,null,null,null,null,"After MeP",{"$f":"IF(Q192=\"\",\"\",IF(OR(S192=\"Solvent\",S192=\"After MeP\"),0,IF(S192=\"\",INDEX(RRFs!E:E,MATCH(\"Triglyme\",RRFs!B:B,FALSE)),INDEX(RRFs!E:E,MATCH(S192,RRFs!B:B,FALSE)))))","v":""},"","","",null,null,null,null,"After MeP",{"$f":"IF(Z192=\"\",\"\",IF(OR(AB192=\"Solvent\",AB192=\"After MeP\"),0,IF(AB192=\"\",INDEX(RRFs!E:E,MATCH(\"Triglyme\",RRFs!B:B,FALSE)),INDEX(RRFs!E:E,MATCH(AB192,RRFs!B:B,FALSE)))))","v":""},"","",""]
[null,null,null,null,null,null,null,null,null,null,null,null,null,null,null,null,null,null,"After MeP",{"$f":"IF(Q193=\"\",\"\",IF(OR(S193=\"Solvent\",S193=\"After MeP\"),0,IF(S193=\"\",INDEX(RRFs!E:E,MATCH(\"Triglyme\",RRFs!B:B,FALSE)),INDEX(RRFs!E:E,MATCH(S193,RRFs!B:B,FALSE)))))","v":""},"","","",null,null,null,null,"After MeP",{"$f":"IF(Z193=\"\",\"\",IF(OR(AB193=\"Solvent\",AB193=\"After MeP\"),0,IF(AB193=\"\",INDEX(RRFs!E:E,MATCH(\"Triglyme\",RRFs!B:B,FALSE)),INDEX(RRFs!E:E,MATCH(AB193,RRFs!B:B,FALSE)))))","v":""},"","",""]
[null,null,null,null,null,null,null,null,null,null,null,null,null,null,null,null,null,null,"After MeP",{"$f":"IF(Q194=\"\",\"\",IF(OR(S194=\"Solvent\",S194=\"After MeP\"),0,IF(S194=\"\",INDEX(RRFs!E:E,MATCH(\"Triglyme\",RRFs!B:B,FALSE)),INDEX(RRFs!E:E,MATCH(S194,RRFs!B:B,FALSE)))))","v":""},"","","",null,null,null,null,"After MeP",{"$f":"IF(Z194=\"\",\"\",IF(OR(AB194=\"Solvent\",AB194=\"After MeP\"),0,IF(AB194=\"\",INDEX(RRFs!E:E,MATCH(\"Triglyme\",RRFs!B:B,FALSE)),INDEX(RRFs!E:E,MATCH(AB194,RRFs!B:B,FALSE)))))","v":""},"","",""]
[null,null,null,null,null,null,null,null,null,null,null,null,null,null,null,null,null,null,"After MeP",{"$f":"IF(Q195=\"\",\"\",IF(OR(S195=\"Solvent\",S195=\"After MeP\"),0,IF(S195=\"\",INDEX(RRFs!E:E,MATCH(\"Triglyme\",RRFs!B:B,FALSE)),INDEX(RRFs!E:E,MATCH(S195,RRFs!B:B,FALSE)))))","v":""},"","","",null,null,null,null,"After MeP",{"$f":"IF(Z195=\"\",\"\",IF(OR(AB195=\"Solvent\",AB195=\"After MeP\"),0,IF(AB195=\"\",INDEX(RRFs!E:E,MATCH(\"Triglyme\",RRFs!B:B,FALSE)),INDEX(RRFs!E:E,MATCH(AB195,RRFs!B:B,FALSE)))))","v":""},"","",""]
[null,null,null,null,null,null,null,null,null,null,null,null,null,null,null,null,null,null,"After MeP",{"$f":"IF(Q196=\"\",\"\",IF(OR(S196=\"Solvent\",S196=\"After MeP\"),0,IF(S196=\"\",INDEX(RRFs!E:E,MATCH(\"Triglyme\",RRFs!B:B,FALSE)),INDEX(RRFs!E:E,MATCH(S196,RRFs!B:B,FALSE)))))","v":""},"","","",null,null,null,null,"After MeP",{"$f":"IF(Z196=\"\",\"\",IF(OR(AB196=\"Solvent\",AB196=\"After MeP\"),0,IF(AB196=\"\",INDEX(RRFs!E:E,MATCH(\"Triglyme\",RRFs!B:B,FALSE)),INDEX(RRFs!E:E,MATCH(AB196,RRFs!B:B,FALSE)))))","v":""},"","",""]
[null,null,null,null,null,null,null,null,null,null,null,null,null,null,null,null,null,null,"After MeP",{"$f":"IF(Q197=\"\",\"\",IF(OR(S197=\"Solvent\",S197=\"After MeP\"),0,IF(S197=\"\",INDEX(RRFs!E:E,MATCH(\"Triglyme\",RRFs!B:B,FALSE)),INDEX(RRFs!E:E,MATCH(S197,RRFs!B:B,FALSE)))))","v":""},{"$f":"IF(Q197=\"\",\"\",IF(T197=0,0,IF(S197=\"EGDE\",R197/T197,R197/INDEX(R:R,MATCH(\"EGDE\",S:S,FALSE)) *INDEX($F$29:$F$38,MATCH(\"EGDE\",$C$29:$C$38,FALSE))/T197)))","v":""},"","",null,null,null,null,{"$f":"IF(Z197>=$E$41,\"After MeP\",\"\")","v":"After MeP"},{"$f":"IF(Z197=\"\",\"\",IF(OR(AB197=\"Solvent\",AB197=\"After MeP\"),0,IF(AB197=\"\",INDEX(RRFs!E:E,MATCH(\"Triglyme\",RRFs!B:B,FALSE)),INDEX(RRFs!E:E,MATCH(AB197,RRFs!B:B,FALSE)))))","v":""},{"$f":"IF(Z197=\"\",\"\",IF(AC197=0,0,IF(AB197=\"EGDE\",AA197/AC197,AA197/INDEX(AA:AA,MATCH(\"EGDE\",AB:AB,FALSE)) *INDEX($F$29:$F$38,MATCH(\"EGDE\",$C$29:$C$38,FALSE))/AC197)))","v":""},"",""]
[null,null,null,null,null,null,null,null,null,null,null,null,null,null,null,null,null,null,"After MeP",{"$f":"IF(Q198=\"\",\"\",IF(OR(S198=\"Solvent\",S198=\"After MeP\"),0,IF(S198=\"\",INDEX(RRFs!E:E,MATCH(\"Triglyme\",RRFs!B:B,FALSE)),INDEX(RRFs!E:E,MATCH(S198,RRFs!B:B,FALSE)))))","v":""},"",{"$f":"IF(Q198=\"\",\"\",IF(OR(S198=\"Heptane\",S198=\"IPA\",S198=\"Triglyme\",S198=\"DIIBA\",S198=\"EGDE\"),\"\",U198*($D$26/(LARGE($F$16:$F$21,1)*($E$32-$E$31)))*$D$4))","v":""},{"$f":"IF(V198=\"\",\"\",IF(AND(V198>1,S198=\"\"),\"Yes\",\"\"))","v":""},null,null,null,null,"After MeP",{"$f":"IF(Z198=\"\",\"\",IF(OR(AB198=\"Solvent\",AB198=\"After MeP\"),0,IF(AB198=\"\",INDEX(RRFs!E:E,MATCH(\"Triglyme\",RRFs!B:B,FALSE)),INDEX(RRFs!E:E,MATCH(AB198,RRFs!B:B,FALSE)))))","v":""},"",{"$f":"IF(Z198=\"\",\"\",IF(OR(AB198=\"Heptane\",AB198=\"IPA\",AB198=\"Triglyme\",AB198=\"DIIBA\",AB198=\"EGDE\"),\"\",AD198*($D$26/((LARGE($F$16:$F$21,1)*($E$32-$E$31)))*$D$4)))","v":""},{"$f":"IF(AE198=\"\",\"\",IF(AND(AE198>1,AB198=\"\"),\"Yes\",\"\"))","v":""}]
[null,null,null,null,null,null,null,null,null,null,null,null,null,null,null,null,null,null,"After MeP",{"$f":"IF(Q199=\"\",\"\",IF(OR(S199=\"Solvent\",S199=\"After MeP\"),0,IF(S199=\"\",INDEX(RRFs!E:E,MATCH(\"Triglyme\",RRFs!B:B,FALSE)),INDEX(RRFs!E:E,MATCH(S199,RRFs!B:B,FALSE)))))","v":""},"","","",null,null,null,null,"After MeP",{"$f":"IF(Z199=\"\",\"\",IF(OR(AB199=\"Solvent\",AB199=\"After MeP\"),0,IF(AB199=\"\",INDEX(RRFs!E:E,MATCH(\"Triglyme\",RRFs!B:B,FALSE)),INDEX(RRFs!E:E,MATCH(AB199,RRFs!B:B,FALSE)))))","v":""},"","",""]
[null,null,null,null,null,null,null,null,null,null,null,null,null,null,null,null,null,null,"After MeP",{"$f":"IF(Q200=\"\",\"\",IF(OR(S200=\"Solvent\",S200=\"After MeP\"),0,IF(S200=\"\",INDEX(RRFs!E:E,MATCH(\"Triglyme\",RRFs!B:B,FALSE)),INDEX(RRFs!E:E,MATCH(S200,RRFs!B:B,FALSE)))))","v":""},"","","",null,null,null,null,"After MeP",{"$f":"IF(Z200=\"\",\"\",IF(OR(AB200=\"Solvent\",AB200=\"After MeP\"),0,IF(AB200=\"\",INDEX(RRFs!E:E,MATCH(\"Triglyme\",RRFs!B:B,FALSE)),INDEX(RRFs!E:E,MATCH(AB200,RRFs!B:B,FALSE)))))","v":""},"","",""]

{"sheet":"Sample #3","index":20,"n_rows":200,"n_cols":33,"rows_kept":200,"cut":false,"hidden":false,"merged":[[1,25,1,32],[10,1,10,5],[40,1,40,3],[40,4,40,5],[23,1,23,5],[1,1,1,5],[1,8,1,10],[1,12,1,14],[1,16,1,23]]}
[]
[null,"Sample Information",null,null,null,null,null,null,"Pre-Sample #3 Blank",null,null,null,"CSV 3 B",null,null,null,"Sample #3 A",null,null,null,null,null,null,null,null,"Sample #3 B"]
[]
[null,null,"Density (g/mL)",null,null,null,null,null,"RT (min)","Area Counts","~ Measured g/L*",null,"RT (min)","Area Counts","~ Measured g/L*",null,"RT (min)","Area Counts","Assignment","RF/RRF","Measured g/L","Sample g/L","ID Required?","Qual ID (CAS #)",null,"RT (min)","Area Counts","Assignment","RF/RRF","Measured g/L","Sample g/L","ID Required?","Qual ID (CAS #)"]
[null,null,"wt% Water",null,null,null,null,5,null,null,{"$f":"IF(J5=\"\",\"\",(J5/LARGE($J$5:$J$100,2)*(5/(INDEX(RRFs!E:E,MATCH(\"Triglyme\",RRFs!B:B,FALSE))))))","v":""},null,{"$f":"IF(INDEX(INDIRECT(\"'\"&SUBSTITUTE($M$2,RIGHT($M$2,1),\"\")&\"Data\"&\"'!2:100\"),H5,MATCH($M$2,INDIRECT(\"'\"&SUBSTITUTE($M$2,RIGHT($M$2,1),\"\")&\"Data\"&\"'!2:2\"),FALSE)-1)=0,\"\",INDEX(INDIRECT(\"'\"&SUBSTITUTE($M$2,RIGHT($M$2,1),\"\")&\"Data\"&\"'!2:100\"),H5,MATCH($M$2,INDIRECT(\"'\"&SUBSTITUTE($M$2,RIGHT($M$2,1),\"\")&\"Data\"&\"'!2:2\"),FALSE)-1))","v":""},{"$f":"IF(INDEX(INDIRECT(\"'\"&SUBSTITUTE($M$2,RIGHT($M$2,1),\"\")&\"Data\"&\"'!2:100\"),H5,MATCH($M$2,INDIRECT(\"'\"&SUBSTITUTE($M$2,RIGHT($M$2,1),\"\")&\"Data\"&\"'!2:2\"),FALSE))=0,\"\",INDEX(INDIRECT(\"'\"&SUBSTITUTE($M$2,RIGHT($M$2,1),\"\")&\"Data\"&\"'!2:100\"),H5,MATCH($M$2,INDIRECT(\"'\"&SUBSTITUTE($M$2,RIGHT($M$2,1),\"\")&\"Data\"&\"'!2:2\"),FALSE)))","v":""},{"$f":"IF(N5=\"\",\"\",(N5/(INDEX(INDIRECT(\"'\"&LEFT($M$2,5)&\" Data'!F:F\"),MATCH(\"EGDE\",INDIRECT(\"'\"&LEFT($M$2,5)&\" Data\"&\"'!G:G\"),FALSE))))*(INDEX('CSV Prep'!E:E,MATCH(\"EGDE \"&LEFT($M$2,5),'CSV Prep'!B:B,FALSE))/(INDEX(RRFs!E:E,MATCH(\"Triglyme\",RRFs!B:B,FALSE)))))","v":""},null,null,null,"After MeP",{"$f":"IF(Q5=\"\",\"\",IF(OR(S5=\"Solvent\",S5=\"After MeP\"),0,IF(S5=\"\",INDEX(RRFs!E:E,MATCH(\"Triglyme\",RRFs!B:B,FALSE)),INDEX(RRFs!E:E,MATCH(S5,RRFs!B:B,FALSE)))))","v":""},{"$f":"IF(Q5=\"\",\"\",IF(T5=0,0,IF(S5=\"EGDE\",R5/T5,R5/INDEX(R:R,MATCH(\"EGDE\",S:S,FALSE)) *INDEX($F$29:$F$38,MATCH(\"EGDE\",$C$29:$C$38,FALSE))/T5)))","v":""},{"$f":"IF(Q5=\"\",\"\",IF(OR(S5=\"Heptane\",S5=\"IPA\",S5=\"Triglyme\",S5=\"DIIBA\",S5=\"EGDE\"),\"\",U5*($D$26/(LARGE($F$16:$F$21,1)*($E$32-$E$31)))*$D$4))","v":""},{"$f":"IF(V5=\"\",\"\",IF(AND(V5>1,S5=\"\"),\"Yes\",\"\"))","v":""},null,null,null,null,"After MeP",{"$f":"IF(Z5=\"\",\"\",IF(OR(AB5=\"Solvent\",AB5=\"After MeP\"),0,IF(AB5=\"\",INDEX(RRFs!E:E,MATCH(\"Triglyme\",RRFs!B:B,FALSE)),INDEX(RRFs!E:E,MATCH(AB5,RRFs!B:B,FALSE)))))","v":""},{"$f":"IF(Z5=\"\",\"\",IF(AC5=0,0,IF(AB5=\"EGDE\",AA5/AC5,AA5/INDEX(AA:AA,MATCH(\"EGDE\",AB:AB,FALSE)) *INDEX($F$29:$F$38,MATCH(\"EGDE\",$C$29:$C$38,FALSE))/AC5)))","v":""},{"$f":"IF(Z5=\"\",\"\",IF(OR(AB5=\"Heptane\",AB5=\"IPA\",AB5=\"Triglyme\",AB5=\"DIIBA\",AB5=\"EGDE\"),\"\",AD5*($D$26/((LARGE($F$16:$F$21,1)*($E$32-$E$31)))*$D$4)))","v":""},{"$f":"IF(AE5=\"\",\"\",IF(AND(AE5>1,AB5=\"\"),\"Yes\",\"\"))","v":""}]
[null,null,"wt % Non-Volatiles",null,null,null,null,{"$f":"H5+1","v":6},null,null,{"$f":"IF(J6=\"\",\"\",(J6/LARGE($J$5:$J$100,2)*(5/(INDEX(RRFs!E:E,MATCH(\"Triglyme\",RRFs!B:B,FALSE))))))","v":""},null,{"$f":"IF(INDEX(INDIRECT(\"'\"&SUBSTITUTE($M$2,RIGHT($M$2,1),\"\")&\"Data\"&\"'!2:100\"),H6,MATCH($M$2,INDIRECT(\"'\"&SUBSTITUTE($M$2,RIGHT($M$2,1),\"\")&\"Data\"&\"'!2:2\"),FALSE)-1)=0,\"\",INDEX(INDIRECT(\"'\"&SUBSTITUTE($M$2,RIGHT($M$2,1),\"\")&\"Data\"&\"'!2:100\"),H6,MATCH($M$2,INDIRECT(\"'\"&SUBSTITUTE($M$2,RIGHT($M$2,1),\"\")&\"Data\"&\"'!2:2\"),FALSE)-1))","v":""},{"$f":"IF(INDEX(INDIRECT(\"'\"&SUBSTITUTE($M$2,RIGHT($M$2,1),\"\")&\"Data\"&\"'!2:100\"),H6,MATCH($M$2,INDIRECT(\"'\"&SUBSTITUTE($M$2,RIGHT($M$2,1),\"\")&\"Data\"&\"'!2:2\"),FALSE))=0,\"\",INDEX(INDIRECT(\"'\"&SUBSTITUTE($M$2,RIGHT($M$2,1),\"\")&\"Data\"&\"'!2:100\"),H6,MATCH($M$2,INDIRECT(\"'\"&SUBSTITUTE($M$2,RIGHT($M$2,1),\"\")&\"Data\"&\"'!2:2\"),FALSE)))","v":""},{"$f":"IF(N6=\"\",\"\",(N6/(INDEX(INDIRECT(\"'\"&LEFT($M$2,5)&\" Data'!F:F\"),MATCH(\"EGDE\",INDIRECT(\"'\"&LEFT($M$2,5)&\" Data\"&\"'!G:G\"),FALSE))))*(INDEX('CSV Prep'!E:E,MATCH(\"EGDE \"&LEFT($M$2,5),'CSV Prep'!B:B,FALSE))/(INDEX(RRFs!E:E,MATCH(\"Triglyme\",RRFs!B:B,FALSE)))))","v":""},null,null,null,"After MeP",{"$f":"IF(Q6=\"\",\"\",IF(OR(S6=\"Solvent\",S6=\"After MeP\"),0,IF(S6=\"\",INDEX(RRFs!E:E,MATCH(\"Triglyme\",RRFs!B:B,FALSE)),INDEX(RRFs!E:E,MATCH(S6,RRFs!B:B,FALSE)))))","v":""},"",{"$f":"IF(Q6=\"\",\"\",IF(OR(S6=\"Heptane\",S6=\"IPA\",S6=\"Triglyme\",S6=\"DIIBA\",S6=\"EGDE\"),\"\",U6*($D$26/(LARGE($F$16:$F$21,1)*($E$32-$E$31)))*$D$4))","v":""},{"$f":"IF(V6=\"\",\"\",IF(AND(V6>1,S6=\"\"),\"Yes\",\"\"))","v":""},null,null,null,null,"After MeP",{"$f":"IF(Z6=\"\",\"\",IF(OR(AB6=\"Solvent\",AB6=\"After MeP\"),0,IF(AB6=\"\",INDEX(RRFs!E:E,MATCH(\"Triglyme\",RRFs!B:B,FALSE)),INDEX(RRFs!E:E,MATCH(AB6,RRFs!B:B,FALSE)))))","v":""},"",{"$f":"IF(Z6=\"\",\"\",IF(OR(AB6=\"Heptane\",AB6=\"IPA\",AB6=\"Triglyme\",AB6=\"DIIBA\",AB6=\"EGDE\"),\"\",AD6*($D$26/((LARGE($F$16:$F$21,1)*($E$32-$E$31)))*$D$4)))","v":""},{"$f":"IF(AE6=\"\",\"\",IF(AND(AE6>1,AB6=\"\"),\"Yes\",\"\"))","v":""}]
[null,null,"Wt % pCBTF",null,null,null,null,{"$f":"H6+1","v":7},null,null,{"$f":"IF(J7=\"\",\"\",(J7/LARGE($J$5:$J$100,2)*(5/(INDEX(RRFs!E:E,MATCH(\"Triglyme\",RRFs!B:B,FALSE))))))","v":""},null,"","",{"$f":"IF(N7=\"\",\"\",(N7/(INDEX(INDIRECT(\"'\"&LEFT($M$2,5)&\" Data'!F:F\"),MATCH(\"EGDE\",INDIRECT(\"'\"&LEFT($M$2,5)&\" Data\"&\"'!G:G\"),FALSE))))*(INDEX('CSV Prep'!E:E,MATCH(\"EGDE \"&LEFT($M$2,5),'CSV Prep'!B:B,FALSE))/(INDEX(RRFs!E:E,MATCH(\"Triglyme\",RRFs!B:B,FALSE)))))","v":""},null,null,null,"After MeP",{"$f":"IF(Q7=\"\",\"\",IF(OR(S7=\"Solvent\",S7=\"After MeP\"),0,IF(S7=\"\",INDEX(RRFs!E:E,MATCH(\"Triglyme\",RRFs!B:B,FALSE)),INDEX(RRFs!E:E,MATCH(S7,RRFs!B:B,FALSE)))))","v":""},"","","",null,null,null,null,"After MeP",{"$f":"IF(Z7=\"\",\"\",IF(OR(AB7=\"Solvent\",AB7=\"After MeP\"),0,IF(AB7=\"\",INDEX(RRFs!E:E,MATCH(\"Triglyme\",RRFs!B:B,FALSE)),INDEX(RRFs!E:E,MATCH(AB7,RRFs!B:B,FALSE)))))","v":""},"","",""]
[null,null,"Wt % D4",null,null,null,null,8,null,null,{"$f":"IF(J8=\"\",\"\",(J8/LARGE($J$5:$J$100,2)*(5/(INDEX(RRFs!E:E,MATCH(\"Triglyme\",RRFs!B:B,FALSE))))))","v":""},null,"","",{"$f":"IF(N8=\"\",\"\",(N8/(INDEX(INDIRECT(\"'\"&LEFT($M$2,5)&\" Data'!F:F\"),MATCH(\"EGDE\",INDIRECT(\"'\"&LEFT($M$2,5)&\" Data\"&\"'!G:G\"),FALSE))))*(INDEX('CSV Prep'!E:E,MATCH(\"EGDE \"&LEFT($M$2,5),'CSV Prep'!B:B,FALSE))/(INDEX(RRFs!E:E,MATCH(\"Triglyme\",RRFs!B:B,FALSE)))))","v":""},null,null,null,"After MeP",{"$f":"IF(Q8=\"\",\"\",IF(OR(S8=\"Solvent\",S8=\"After MeP\"),0,IF(S8=\"\",INDEX(RRFs!E:E,MATCH(\"Triglyme\",RRFs!B:B,FALSE)),INDEX(RRFs!E:E,MATCH(S8,RRFs!B:B,FALSE)))))","v":""},"","","",null,null,null,null,"After MeP",{"$f":"IF(Z8=\"\",\"\",IF(OR(AB8=\"Solvent\",AB8=\"After MeP\"),0,IF(AB8=\"\",INDEX(RRFs!E:E,MATCH(\"Triglyme\",RRFs!B:B,FALSE)),INDEX(RRFs!E:E,MATCH(AB8,RRFs!B:B,FALSE)))))","v":""},"","",""]
[null,null,"Wt % D5",null,null,null,null,9,null,null,{"$f":"IF(J9=\"\",\"\",(J9/LARGE($J$5:$J$100,2)*(5/(INDEX(RRFs!E:E,MATCH(\"Triglyme\",RRFs!B:B,FALSE))))))","v":""},null,"","",{"$f":"IF(N9=\"\",\"\",(N9/(INDEX(INDIRECT(\"'\"&LEFT($M$2,5)&\" Data'!F:F\"),MATCH(\"EGDE\",INDIRECT(\"'\"&LEFT($M$2,5)&\" Data\"&\"'!G:G\"),FALSE))))*(INDEX('CSV Prep'!E:E,MATCH(\"EGDE \"&LEFT($M$2,5),'CSV Prep'!B:B,FALSE))/(INDEX(RRFs!E:E,MATCH(\"Triglyme\",RRFs!B:B,FALSE)))))","v":""},null,null,null,"After MeP",{"$f":"IF(Q9=\"\",\"\",IF(OR(S9=\"Solvent\",S9=\"After MeP\"),0,IF(S9=\"\",INDEX(RRFs!E:E,MATCH(\"Triglyme\",RRFs!B:B,FALSE)),INDEX(RRFs!E:E,MATCH(S9,RRFs!B:B,FALSE)))))","v":""},"","","",null,null,null,null,"After MeP",{"$f":"IF(Z9=\"\",\"\",IF(OR(AB9=\"Solvent\",AB9=\"After MeP\"),0,IF(AB9=\"\",INDEX(RRFs!E:E,MATCH(\"Triglyme\",RRFs!B:B,FALSE)),INDEX(RRFs!E:E,MATCH(AB9,RRFs!B:B,FALSE)))))","v":""},"","",""]
[null,null,null,null,null,null,null,10,null,null,{"$f":"IF(J10=\"\",\"\",(J10/LARGE($J$5:$J$100,2)*(5/(INDEX(RRFs!E:E,MATCH(\"Triglyme\",RRFs!B:B,FALSE))))))","v":""},null,"","",{"$f":"IF(N10=\"\",\"\",(N10/(INDEX(INDIRECT(\"'\"&LEFT($M$2,5)&\" Data'!F:F\"),MATCH(\"EGDE\",INDIRECT(\"'\"&LEFT($M$2,5)&\" Data\"&\"'!G:G\"),FALSE))))*(INDEX('CSV Prep'!E:E,MATCH(\"EGDE \"&LEFT($M$2,5),'CSV Prep'!B:B,FALSE))/(INDEX(RRFs!E:E,MATCH(\"Triglyme\",RRFs!B:B,FALSE)))))","v":""},null,null,null,"After MeP",{"$f":"IF(Q10=\"\",\"\",IF(OR(S10=\"Solvent\",S10=\"After MeP\"),0,IF(S10=\"\",INDEX(RRFs!E:E,MATCH(\"Triglyme\",RRFs!B:B,FALSE)),INDEX(RRFs!E:E,MATCH(S10,RRFs!B:B,FALSE)))))","v":""},"","","",null,null,null,null,"After MeP",{"$f":"IF(Z10=\"\",\"\",IF(OR(AB10=\"Solvent\",AB10=\"After MeP\"),0,IF(AB10=\"\",INDEX(RRFs!E:E,MATCH(\"Triglyme\",RRFs!B:B,FALSE)),INDEX(RRFs!E:E,MATCH(AB10,RRFs!B:B,FALSE)))))","v":""},"","",""]
[null,"Sample Spiking",null,null,null,null,null,11,null,null,{"$f":"IF(J11=\"\",\"\",(J11/LARGE($J$5:$J$100,2)*(5/(INDEX(RRFs!E:E,MATCH(\"Triglyme\",RRFs!B:B,FALSE))))))","v":""},null,"","",{"$f":"IF(N11=\"\",\"\",(N11/(INDEX(INDIRECT(\"'\"&LEFT($M$2,5)&\" Data'!F:F\"),MATCH(\"EGDE\",INDIRECT(\"'\"&LEFT($M$2,5)&\" Data\"&\"'!G:G\"),FALSE))))*(INDEX('CSV Prep'!E:E,MATCH(\"EGDE \"&LEFT($M$2,5),'CSV Prep'!B:B,FALSE))/(INDEX(RRFs!E:E,MATCH(\"Triglyme\",RRFs!B:B,FALSE)))))","v":""},null,null,null,"After MeP",{"$f":"IF(Q11=\"\",\"\",IF(OR(S11=\"Solvent\",S11=\"After MeP\"),0,IF(S11=\"\",INDEX(RRFs!E:E,MATCH(\"Triglyme\",RRFs!B:B,FALSE)),INDEX(RRFs!E:E,MATCH(S11,RRFs!B:B,FALSE)))))","v":""},"","","",null,null,null,null,"After MeP",{"$f":"IF(Z11=\"\",\"\",IF(OR(AB11=\"Solvent\",AB11=\"After MeP\"),0,IF(AB11=\"\",INDEX(RRFs!E:E,MATCH(\"Triglyme\",RRFs!B:B,FALSE)),INDEX(RRFs!E:E,MATCH(AB11,RRFs!B:B,FALSE)))))","v":""},"","",""]
[null,null,null,null,null,null,null,12,null,null,{"$f":"IF(J12=\"\",\"\",(J12/LARGE($J$5:$J$100,2)*(5/(INDEX(RRFs!E:E,MATCH(\"Triglyme\",RRFs!B:B,FALSE))))))","v":""},null,"","",{"$f":"IF(N12=\"\",\"\",(N12/(INDEX(INDIRECT(\"'\"&LEFT($M$2,5)&\" Data'!F:F\"),MATCH(\"EGDE\",INDIRECT(\"'\"&LEFT($M$2,5)&\" Data\"&\"'!G:G\"),FALSE))))*(INDEX('CSV Prep'!E:E,MATCH(\"EGDE \"&LEFT($M$2,5),'CSV Prep'!B:B,FALSE))/(INDEX(RRFs!E:E,MATCH(\"Triglyme\",RRFs!B:B,FALSE)))))","v":""},null,null,null,"After MeP",{"$f":"IF(Q12=\"\",\"\",IF(OR(S12=\"Solvent\",S12=\"After MeP\"),0,IF(S12=\"\",INDEX(RRFs!E:E,MATCH(\"Triglyme\",RRFs!B:B,FALSE)),INDEX(RRFs!E:E,MATCH(S12,RRFs!B:B,FALSE)))))","v":""},"","","",null,null,null,null,"After MeP",{"$f":"IF(Z12=\"\",\"\",IF(OR(AB12=\"Solvent\",AB12=\"After MeP\"),0,IF(AB12=\"\",INDEX(RRFs!E:E,MATCH(\"Triglyme\",RRFs!B:B,FALSE)),INDEX(RRFs!E:E,MATCH(AB12,RRFs!B:B,FALSE)))))","v":""},"","",""]
[null,null,"Target Mass (g)",30,null,null,null,13,null,null,{"$f":"IF(J13=\"\",\"\",(J13/LARGE($J$5:$J$100,2)*(5/(INDEX(RRFs!E:E,MATCH(\"Triglyme\",RRFs!B:B,FALSE))))))","v":""},null,"","",{"$f":"IF(N13=\"\",\"\",(N13/(INDEX(INDIRECT(\"'\"&LEFT($M$2,5)&\" Data'!F:F\"),MATCH(\"EGDE\",INDIRECT(\"'\"&LEFT($M$2,5)&\" Data\"&\"'!G:G\"),FALSE))))*(INDEX('CSV Prep'!E:E,MATCH(\"EGDE \"&LEFT($M$2,5),'CSV Prep'!B:B,FALSE))/(INDEX(RRFs!E:E,MATCH(\"Triglyme\",RRFs!B:B,FALSE)))))","v":""},null,null,null,"After MeP",{"$f":"IF(Q13=\"\",\"\",IF(OR(S13=\"Solvent\",S13=\"After MeP\"),0,IF(S13=\"\",INDEX(RRFs!E:E,MATCH(\"Triglyme\",RRFs!B:B,FALSE)),INDEX(RRFs!E:E,MATCH(S13,RRFs!B:B,FALSE)))))","v":""},"","","",null,null,null,null,"After MeP",{"$f":"IF(Z13=\"\",\"\",IF(OR(AB13=\"Solvent\",AB13=\"After MeP\"),0,IF(AB13=\"\",INDEX(RRFs!E:E,MATCH(\"Triglyme\",RRFs!B:B,FALSE)),INDEX(RRFs!E:E,MATCH(AB13,RRFs!B:B,FALSE)))))","v":""},"","",""]
[null,null,null,null,null,null,null,14,null,null,{"$f":"IF(J14=\"\",\"\",(J14/LARGE($J$5:$J$100,2)*(5/(INDEX(RRFs!E:E,MATCH(\"Triglyme\",RRFs!B:B,FALSE))))))","v":""},null,"","",{"$f":"IF(N14=\"\",\"\",(N14/(INDEX(INDIRECT(\"'\"&LEFT($M$2,5)&\" Data'!F:F\"),MATCH(\"EGDE\",INDIRECT(\"'\"&LEFT($M$2,5)&\" Data\"&\"'!G:G\"),FALSE))))*(INDEX('CSV Prep'!E:E,MATCH(\"EGDE \"&LEFT($M$2,5),'CSV Prep'!B:B,FALSE))/(INDEX(RRFs!E:E,MATCH(\"Triglyme\",RRFs!B:B,FALSE)))))","v":""},null,null,null,"After MeP",{"$f":"IF(Q14=\"\",\"\",IF(OR(S14=\"Solvent\",S14=\"After MeP\"),0,IF(S14=\"\",INDEX(RRFs!E:E,MATCH(\"Triglyme\",RRFs!B:B,FALSE)),INDEX(RRFs!E:E,MATCH(S14,RRFs!B:B,FALSE)))))","v":""},"","","",null,null,null,null,"After MeP",{"$f":"IF(Z14=\"\",\"\",IF(OR(AB14=\"Solvent\",AB14=\"After MeP\"),0,IF(AB14=\"\",INDEX(RRFs!E:E,MATCH(\"Triglyme\",RRFs!B:B,FALSE)),INDEX(RRFs!E:E,MATCH(AB14,RRFs!B:B,FALSE)))))","v":""},"","",""]
[null,null,null,"To Add","Mass","Wt fx",null,15,null,null,{"$f":"IF(J15=\"\",\"\",(J15/LARGE($J$5:$J$100,2)*(5/(INDEX(RRFs!E:E,MATCH(\"Triglyme\",RRFs!B:B,FALSE))))))","v":""},null,"","",{"$f":"IF(N15=\"\",\"\",(N15/(INDEX(INDIRECT(\"'\"&LEFT($M$2,5)&\" Data'!F:F\"),MATCH(\"EGDE\",INDIRECT(\"'\"&LEFT($M$2,5)&\" Data\"&\"'!G:G\"),FALSE))))*(INDEX('CSV Prep'!E:E,MATCH(\"EGDE \"&LEFT($M$2,5),'CSV Prep'!B:B,FALSE))/(INDEX(RRFs!E:E,MATCH(\"Triglyme\",RRFs!B:B,FALSE)))))","v":""},null,null,null,"After MeP",{"$f":"IF(Q15=\"\",\"\",IF(OR(S15=\"Solvent\",S15=\"After MeP\"),0,IF(S15=\"\",INDEX(RRFs!E:E,MATCH(\"Triglyme\",RRFs!B:B,FALSE)),INDEX(RRFs!E:E,MATCH(S15,RRFs!B:B,FALSE)))))","v":""},"","","",null,null,null,null,"After MeP",{"$f":"IF(Z15=\"\",\"\",IF(OR(AB15=\"Solvent\",AB15=\"After MeP\"),0,IF(AB15=\"\",INDEX(RRFs!E:E,MATCH(\"Triglyme\",RRFs!B:B,FALSE)),INDEX(RRFs!E:E,MATCH(AB15,RRFs!B:B,FALSE)))))","v":""},"","",""]
[null,null,"Vial",{"$f":"\"-\"","v":"-"},null,{"$f":"\"-\"","v":"-"},null,16,null,null,{"$f":"IF(J16=\"\",\"\",(J16/LARGE($J$5:$J$100,2)*(5/(INDEX(RRFs!E:E,MATCH(\"Triglyme\",RRFs!B:B,FALSE))))))","v":""},null,"","",{"$f":"IF(N16=\"\",\"\",(N16/(INDEX(INDIRECT(\"'\"&LEFT($M$2,5)&\" Data'!F:F\"),MATCH(\"EGDE\",INDIRECT(\"'\"&LEFT($M$2,5)&\" Data\"&\"'!G:G\"),FALSE))))*(INDEX('CSV Prep'!E:E,MATCH(\"EGDE \"&LEFT($M$2,5),'CSV Prep'!B:B,FALSE))/(INDEX(RRFs!E:E,MATCH(\"Triglyme\",RRFs!B:B,FALSE)))))","v":""},null,null,null,"After MeP",{"$f":"IF(Q16=\"\",\"\",IF(OR(S16=\"Solvent\",S16=\"After MeP\"),0,IF(S16=\"\",INDEX(RRFs!E:E,MATCH(\"Triglyme\",RRFs!B:B,FALSE)),INDEX(RRFs!E:E,MATCH(S16,RRFs!B:B,FALSE)))))","v":""},"","","",null,null,null,null,"After MeP",{"$f":"IF(Z16=\"\",\"\",IF(OR(AB16=\"Solvent\",AB16=\"After MeP\"),0,IF(AB16=\"\",INDEX(RRFs!E:E,MATCH(\"Triglyme\",RRFs!B:B,FALSE)),INDEX(RRFs!E:E,MATCH(AB16,RRFs!B:B,FALSE)))))","v":""},"","",""]
[null,null,"Sample #3",{"$f":"D13&\" g\"","v":"30 g"},null,{"$f":"(E17-MAX($E$16:E16))*100/(MAX($E$16:$E$21)-MIN($E$16:$E$21))/100","v":{"$error":"#DIV/0!"}},null,17,null,null,{"$f":"IF(J17=\"\",\"\",(J17/LARGE($J$5:$J$100,2)*(5/(INDEX(RRFs!E:E,MATCH(\"Triglyme\",RRFs!B:B,FALSE))))))","v":""},null,"","",{"$f":"IF(N17=\"\",\"\",(N17/(INDEX(INDIRECT(\"'\"&LEFT($M$2,5)&\" Data'!F:F\"),MATCH(\"EGDE\",INDIRECT(\"'\"&LEFT($M$2,5)&\" Data\"&\"'!G:G\"),FALSE))))*(INDEX('CSV Prep'!E:E,MATCH(\"EGDE \"&LEFT($M$2,5),'CSV Prep'!B:B,FALSE))/(INDEX(RRFs!E:E,MATCH(\"Triglyme\",RRFs!B:B,FALSE)))))","v":""},null,null,null,"After MeP",{"$f":"IF(Q17=\"\",\"\",IF(OR(S17=\"Solvent\",S17=\"After MeP\"),0,IF(S17=\"\",INDEX(RRFs!E:E,MATCH(\"Triglyme\",RRFs!B:B,FALSE)),INDEX(RRFs!E:E,MATCH(S17,RRFs!B:B,FALSE)))))","v":""},"","","",null,null,null,null,"After MeP",{"$f":"IF(Z17=\"\",\"\",IF(OR(AB17=\"Solvent\",AB17=\"After MeP\"),0,IF(AB17=\"\",INDEX(RRFs!E:E,MATCH(\"Triglyme\",RRFs!B:B,FALSE)),INDEX(RRFs!E:E,MATCH(AB17,RRFs!B:B,FALSE)))))","v":""},"","",""]
[null,null,"Triglyme",{"$f":"250/30*$D$13&\" uL\"","v":"250 uL"},null,{"$f":"(E18-MAX($E$16:E17))*100*INDEX(Compounds!G:G,MATCH('Sample #3'!C18,Compounds!A:A,FALSE))/(MAX($E$16:$E$21)-MIN($E$16:$E$21))/100","v":{"$error":"#DIV/0!"}},null,18,null,null,{"$f":"IF(J18=\"\",\"\",(J18/LARGE($J$5:$J$100,2)*(5/(INDEX(RRFs!E:E,MATCH(\"Triglyme\",RRFs!B:B,FALSE))))))","v":""},null,"","",{"$f":"IF(N18=\"\",\"\",(N18/(INDEX(INDIRECT(\"'\"&LEFT($M$2,5)&\" Data'!F:F\"),MATCH(\"EGDE\",INDIRECT(\"'\"&LEFT($M$2,5)&\" Data\"&\"'!G:G\"),FALSE))))*(INDEX('CSV Prep'!E:E,MATCH(\"EGDE \"&LEFT($M$2,5),'CSV Prep'!B:B,FALSE))/(INDEX(RRFs!E:E,MATCH(\"Triglyme\",RRFs!B:B,FALSE)))))","v":""},null,null,null,"After MeP",{"$f":"IF(Q18=\"\",\"\",IF(OR(S18=\"Solvent\",S18=\"After MeP\"),0,IF(S18=\"\",INDEX(RRFs!E:E,MATCH(\"Triglyme\",RRFs!B:B,FALSE)),INDEX(RRFs!E:E,MATCH(S18,RRFs!B:B,FALSE)))))","v":""},"","","",null,null,null,null,"After MeP",{"$f":"IF(Z18=\"\",\"\",IF(OR(AB18=\"Solvent\",AB18=\"After MeP\"),0,IF(AB18=\"\",INDEX(RRFs!E:E,MATCH(\"Triglyme\",RRFs!B:B,FALSE)),INDEX(RRFs!E:E,MATCH(AB18,RRFs!B:B,FALSE)))))","v":""},"","",""]
[null,null,"IPA",{"$f":"310/30*$D$13&\" uL\"","v":"310 uL"},null,{"$f":"(E19-MAX($E$16:E18))*100*INDEX(Compounds!G:G,MATCH('Sample #3'!C19,Compounds!A:A,FALSE))/(MAX($E$16:$E$21)-MIN($E$16:$E$21))/100","v":{"$error":"#DIV/0!"}},null,19,null,null,{"$f":"IF(J19=\"\",\"\",(J19/LARGE($J$5:$J$100,2)*(5/(INDEX(RRFs!E:E,MATCH(\"Triglyme\",RRFs!B:B,FALSE))))))","v":""},null,"","",{"$f":"IF(N19=\"\",\"\",(N19/(INDEX(INDIRECT(\"'\"&LEFT($M$2,5)&\" Data'!F:F\"),MATCH(\"EGDE\",INDIRECT(\"'\"&LEFT($M$2,5)&\" Data\"&\"'!G:G\"),FALSE))))*(INDEX('CSV Prep'!E:E,MATCH(\"EGDE \"&LEFT($M$2,5),'CSV Prep'!B:B,FALSE))/(INDEX(RRFs!E:E,MATCH(\"Triglyme\",RRFs!B:B,FALSE)))))","v":""},null,null,null,"After MeP",{"$f":"IF(Q19=\"\",\"\",IF(OR(S19=\"Solvent\",S19=\"After MeP\"),0,IF(S19=\"\",INDEX(RRFs!E:E,MATCH(\"Triglyme\",RRFs!B:B,FALSE)),INDEX(RRFs!E:E,MATCH(S19,RRFs!B:B,FALSE)))))","v":""},"","","",null,null,null,null,"After MeP",{"$f":"IF(Z19=\"\",\"\",IF(OR(AB19=\"Solvent\",AB19=\"After MeP\"),0,IF(AB19=\"\",INDEX(RRFs!E:E,MATCH(\"Triglyme\",RRFs!B:B,FALSE)),INDEX(RRFs!E:E,MATCH(AB19,RRFs!B:B,FALSE)))))","v":""},"","",""]
[null,null,"DIIBA",{"$f":"250/30*$D$13&\" uL\"","v":"250 uL"},null,{"$f":"(E20-MAX($E$16:E19))*100*INDEX(Compounds!G:G,MATCH('Sample #3'!C20,Compounds!A:A,FALSE))/(MAX($E$16:$E$21)-MIN($E$16:$E$21))/100","v":{"$error":"#DIV/0!"}},null,20,null,null,{"$f":"IF(J20=\"\",\"\",(J20/LARGE($J$5:$J$100,2)*(5/(INDEX(RRFs!E:E,MATCH(\"Triglyme\",RRFs!B:B,FALSE))))))","v":""},null,"","",{"$f":"IF(N20=\"\",\"\",(N20/(INDEX(INDIRECT(\"'\"&LEFT($M$2,5)&\" Data'!F:F\"),MATCH(\"EGDE\",INDIRECT(\"'\"&LEFT($M$2,5)&\" Data\"&\"'!G:G\"),FALSE))))*(INDEX('CSV Prep'!E:E,MATCH(\"EGDE \"&LEFT($M$2,5),'CSV Prep'!B:B,FALSE))/(INDEX(RRFs!E:E,MATCH(\"Triglyme\",RRFs!B:B,FALSE)))))","v":""},null,null,null,"After MeP",{"$f":"IF(Q20=\"\",\"\",IF(OR(S20=\"Solvent\",S20=\"After MeP\"),0,IF(S20=\"\",INDEX(RRFs!E:E,MATCH(\"Triglyme\",RRFs!B:B,FALSE)),INDEX(RRFs!E:E,MATCH(S20,RRFs!B:B,FALSE)))))","v":""},"","","",null,null,null,null,"After MeP",{"$f":"IF(Z20=\"\",\"\",IF(OR(AB20=\"Solvent\",AB20=\"After MeP\"),0,IF(AB20=\"\",INDEX(RRFs!E:E,MATCH(\"Triglyme\",RRFs!B:B,FALSE)),INDEX(RRFs!E:E,MATCH(AB20,RRFs!B:B,FALSE)))))","v":""},"","",""]
[null,null,"Heptane",{"$f":"350/30*$D$13&\" uL\"","v":"350 uL"},null,{"$f":"(E21-MAX($E$16:E20))*100*INDEX(Compounds!G:G,MATCH('Sample #3'!C21,Compounds!A:A,FALSE))/(MAX($E$16:$E$21)-MIN($E$16:$E$21))/100","v":{"$error":"#DIV/0!"}},null,21,null,null,{"$f":"IF(J21=\"\",\"\",(J21/LARGE($J$5:$J$100,2)*(5/(INDEX(RRFs!E:E,MATCH(\"Triglyme\",RRFs!B:B,FALSE))))))","v":""},null,"","",{"$f":"IF(N21=\"\",\"\",(N21/(INDEX(INDIRECT(\"'\"&LEFT($M$2,5)&\" Data'!F:F\"),MATCH(\"EGDE\",INDIRECT(\"'\"&LEFT($M$2,5)&\" Data\"&\"'!G:G\"),FALSE))))*(INDEX('CSV Prep'!E:E,MATCH(\"EGDE \"&LEFT($M$2,5),'CSV Prep'!B:B,FALSE))/(INDEX(RRFs!E:E,MATCH(\"Triglyme\",RRFs!B:B,FALSE)))))","v":""},null,null,null,"After MeP",{"$f":"IF(Q21=\"\",\"\",IF(OR(S21=\"Solvent\",S21=\"After MeP\"),0,IF(S21=\"\",INDEX(RRFs!E:E,MATCH(\"Triglyme\",RRFs!B:B,FALSE)),INDEX(RRFs!E:E,MATCH(S21,RRFs!B:B,FALSE)))))","v":""},"","","",null,null,null,null,"After MeP",{"$f":"IF(Z21=\"\",\"\",IF(OR(AB21=\"Solvent\",AB21=\"After MeP\"),0,IF(AB21=\"\",INDEX(RRFs!E:E,MATCH(\"Triglyme\",RRFs!B:B,FALSE)),INDEX(RRFs!E:E,MATCH(AB21,RRFs!B:B,FALSE)))))","v":""},"","",""]
[null,null,null,null,null,null,null,22,null,null,{"$f":"IF(J22=\"\",\"\",(J22/LARGE($J$5:$J$100,2)*(5/(INDEX(RRFs!E:E,MATCH(\"Triglyme\",RRFs!B:B,FALSE))))))","v":""},null,"","",{"$f":"IF(N22=\"\",\"\",(N22/(INDEX(INDIRECT(\"'\"&LEFT($M$2,5)&\" Data'!F:F\"),MATCH(\"EGDE\",INDIRECT(\"'\"&LEFT($M$2,5)&\" Data\"&\"'!G:G\"),FALSE))))*(INDEX('CSV Prep'!E:E,MATCH(\"EGDE \"&LEFT($M$2,5),'CSV Prep'!B:B,FALSE))/(INDEX(RRFs!E:E,MATCH(\"Triglyme\",RRFs!B:B,FALSE)))))","v":""},null,null,null,"After MeP",{"$f":"IF(Q22=\"\",\"\",IF(OR(S22=\"Solvent\",S22=\"After MeP\"),0,IF(S22=\"\",INDEX(RRFs!E:E,MATCH(\"Triglyme\",RRFs!B:B,FALSE)),INDEX(RRFs!E:E,MATCH(S22,RRFs!B:B,FALSE)))))","v":""},"","","",null,null,null,null,"After MeP",{"$f":"IF(Z22=\"\",\"\",IF(OR(AB22=\"Solvent\",AB22=\"After MeP\"),0,IF(AB22=\"\",INDEX(RRFs!E:E,MATCH(\"Triglyme\",RRFs!B:B,FALSE)),INDEX(RRFs!E:E,MATCH(AB22,RRFs!B:B,FALSE)))))","v":""},"","",""]
[null,null,null,null,null,null,null,23,null,null,{"$f":"IF(J23=\"\",\"\",(J23/LARGE($J$5:$J$100,2)*(5/(INDEX(RRFs!E:E,MATCH(\"Triglyme\",RRFs!B:B,FALSE))))))","v":""},null,"","",{"$f":"IF(N23=\"\",\"\",(N23/(INDEX(INDIRECT(\"'\"&LEFT($M$2,5)&\" Data'!F:F\"),MATCH(\"EGDE\",INDIRECT(\"'\"&LEFT($M$2,5)&\" Data\"&\"'!G:G\"),FALSE))))*(INDEX('CSV Prep'!E:E,MATCH(\"EGDE \"&LEFT($M$2,5),'CSV Prep'!B:B,FALSE))/(INDEX(RRFs!E:E,MATCH(\"Triglyme\",RRFs!B:B,FALSE)))))","v":""},null,null,null,"After MeP",{"$f":"IF(Q23=\"\",\"\",IF(OR(S23=\"Solvent\",S23=\"After MeP\"),0,IF(S23=\"\",INDEX(RRFs!E:E,MATCH(\"Triglyme\",RRFs!B:B,FALSE)),INDEX(RRFs!E:E,MATCH(S23,RRFs!B:B,FALSE)))))","v":""},"","","",null,null,null,null,"After MeP",{"$f":"IF(Z23=\"\",\"\",IF(OR(AB23=\"Solvent\",AB23=\"After MeP\"),0,IF(AB23=\"\",INDEX(RRFs!E:E,MATCH(\"Triglyme\",RRFs!B:B,FALSE)),INDEX(RRFs!E:E,MATCH(AB23,RRFs!B:B,FALSE)))))","v":""},"","",""]
[null,"Sample Dilution",null,null,null,null,null,24,null,null,{"$f":"IF(J24=\"\",\"\",(J24/LARGE($J$5:$J$100,2)*(5/(INDEX(RRFs!E:E,MATCH(\"Triglyme\",RRFs!B:B,FALSE))))))","v":""},null,"","",{"$f":"IF(N24=\"\",\"\",(N24/(INDEX(INDIRECT(\"'\"&LEFT($M$2,5)&\" Data'!F:F\"),MATCH(\"EGDE\",INDIRECT(\"'\"&LEFT($M$2,5)&\" Data\"&\"'!G:G\"),FALSE))))*(INDEX('CSV Prep'!E:E,MATCH(\"EGDE \"&LEFT($M$2,5),'CSV Prep'!B:B,FALSE))/(INDEX(RRFs!E:E,MATCH(\"Triglyme\",RRFs!B:B,FALSE)))))","v":""},null,null,null,"After MeP",{"$f":"IF(Q24=\"\",\"\",IF(OR(S24=\"Solvent\",S24=\"After MeP\"),0,IF(S24=\"\",INDEX(RRFs!E:E,MATCH(\"Triglyme\",RRFs!B:B,FALSE)),INDEX(RRFs!E:E,MATCH(S24,RRFs!B:B,FALSE)))))","v":""},"","","",null,null,null,null,"After MeP",{"$f":"IF(Z24=\"\",\"\",IF(OR(AB24=\"Solvent\",AB24=\"After MeP\"),0,IF(AB24=\"\",INDEX(RRFs!E:E,MATCH(\"Triglyme\",RRFs!B:B,FALSE)),INDEX(RRFs!E:E,MATCH(AB24,RRFs!B:B,FALSE)))))","v":""},"","",""]
[null,null,null,null,null,null,null,25,null,null,{"$f":"IF(J25=\"\",\"\",(J25/LARGE($J$5:$J$100,2)*(5/(INDEX(RRFs!E:E,MATCH(\"Triglyme\",RRFs!B:B,FALSE))))))","v":""},null,"","",{"$f":"IF(N25=\"\",\"\",(N25/(INDEX(INDIRECT(\"'\"&LEFT($M$2,5)&\" Data'!F:F\"),MATCH(\"EGDE\",INDIRECT(\"'\"&LEFT($M$2,5)&\" Data\"&\"'!G:G\"),FALSE))))*(INDEX('CSV Prep'!E:E,MATCH(\"EGDE \"&LEFT($M$2,5),'CSV Prep'!B:B,FALSE))/(INDEX(RRFs!E:E,MATCH(\"Triglyme\",RRFs!B:B,FALSE)))))","v":""},null,null,null,"After MeP",{"$f":"IF(Q25=\"\",\"\",IF(OR(S25=\"Solvent\",S25=\"After MeP\"),0,IF(S25=\"\",INDEX(RRFs!E:E,MATCH(\"Triglyme\",RRFs!B:B,FALSE)),INDEX(RRFs!E:E,MATCH(S25,RRFs!B:B,FALSE)))))","v":""},"","","",null,null,null,null,"After MeP",{"$f":"IF(Z25=\"\",\"\",IF(OR(AB25=\"Solvent\",AB25=\"After MeP\"),0,IF(AB25=\"\",INDEX(RRFs!E:E,MATCH(\"Triglyme\",RRFs!B:B,FALSE)),INDEX(RRFs!E:E,MATCH(AB25,RRFs!B:B,FALSE)))))","v":""},"","",""]
[null,null,"Flask Volume (mL)",null,"Solvent",null,null,26,null,null,{"$f":"IF(J26=\"\",\"\",(J26/LARGE($J$5:$J$100,2)*(5/(INDEX(RRFs!E:E,MATCH(\"Triglyme\",RRFs!B:B,FALSE))))))","v":""},null,"","",{"$f":"IF(N26=\"\",\"\",(N26/(INDEX(INDIRECT(\"'\"&LEFT($M$2,5)&\" Data'!F:F\"),MATCH(\"EGDE\",INDIRECT(\"'\"&LEFT($M$2,5)&\" Data\"&\"'!G:G\"),FALSE))))*(INDEX('CSV Prep'!E:E,MATCH(\"EGDE \"&LEFT($M$2,5),'CSV Prep'!B:B,FALSE))/(INDEX(RRFs!E:E,MATCH(\"Triglyme\",RRFs!B:B,FALSE)))))","v":""},null,null,null,"After MeP",{"$f":"IF(Q26=\"\",\"\",IF(OR(S26=\"Solvent\",S26=\"After MeP\"),0,IF(S26=\"\",INDEX(RRFs!E:E,MATCH(\"Triglyme\",RRFs!B:B,FALSE)),INDEX(RRFs!E:E,MATCH(S26,RRFs!B:B,FALSE)))))","v":""},"","","",null,null,null,null,"After MeP",{"$f":"IF(Z26=\"\",\"\",IF(OR(AB26=\"Solvent\",AB26=\"After MeP\"),0,IF(AB26=\"\",INDEX(RRFs!E:E,MATCH(\"Triglyme\",RRFs!B:B,FALSE)),INDEX(RRFs!E:E,MATCH(AB26,RRFs!B:B,FALSE)))))","v":""},"","",""]
[null,null,null,null,null,null,null,27,null,null,{"$f":"IF(J27=\"\",\"\",(J27/LARGE($J$5:$J$100,2)*(5/(INDEX(RRFs!E:E,MATCH(\"Triglyme\",RRFs!B:B,FALSE))))))","v":""},null,"","",{"$f":"IF(N27=\"\",\"\",(N27/(INDEX(INDIRECT(\"'\"&LEFT($M$2,5)&\" Data'!F:F\"),MATCH(\"EGDE\",INDIRECT(\"'\"&LEFT($M$2,5)&\" Data\"&\"'!G:G\"),FALSE))))*(INDEX('CSV Prep'!E:E,MATCH(\"EGDE \"&LEFT($M$2,5),'CSV Prep'!B:B,FALSE))/(INDEX(RRFs!E:E,MATCH(\"Triglyme\",RRFs!B:B,FALSE)))))","v":""},null,null,null,"After MeP",{"$f":"IF(Q27=\"\",\"\",IF(OR(S27=\"Solvent\",S27=\"After MeP\"),0,IF(S27=\"\",INDEX(RRFs!E:E,MATCH(\"Triglyme\",RRFs!B:B,FALSE)),INDEX(RRFs!E:E,MATCH(S27,RRFs!B:B,FALSE)))))","v":""},"","","",null,null,null,null,"After MeP",{"$f":"IF(Z27=\"\",\"\",IF(OR(AB27=\"Solvent\",AB27=\"After MeP\"),0,IF(AB27=\"\",INDEX(RRFs!E:E,MATCH(\"Triglyme\",RRFs!B:B,FALSE)),INDEX(RRFs!E:E,MATCH(AB27,RRFs!B:B,FALSE)))))","v":""},"","",""]
[null,null,null,"To Add","Mass","g/L",null,28,null,null,{"$f":"IF(J28=\"\",\"\",(J28/LARGE($J$5:$J$100,2)*(5/(INDEX(RRFs!E:E,MATCH(\"Triglyme\",RRFs!B:B,FALSE))))))","v":""},null,"","",{"$f":"IF(N28=\"\",\"\",(N28/(INDEX(INDIRECT(\"'\"&LEFT($M$2,5)&\" Data'!F:F\"),MATCH(\"EGDE\",INDIRECT(\"'\"&LEFT($M$2,5)&\" Data\"&\"'!G:G\"),FALSE))))*(INDEX('CSV Prep'!E:E,MATCH(\"EGDE \"&LEFT($M$2,5),'CSV Prep'!B:B,FALSE))/(INDEX(RRFs!E:E,MATCH(\"Triglyme\",RRFs!B:B,FALSE)))))","v":""},null,null,null,"After MeP",{"$f":"IF(Q28=\"\",\"\",IF(OR(S28=\"Solvent\",S28=\"After MeP\"),0,IF(S28=\"\",INDEX(RRFs!E:E,MATCH(\"Triglyme\",RRFs!B:B,FALSE)),INDEX(RRFs!E:E,MATCH(S28,RRFs!B:B,FALSE)))))","v":""},"","","",null,null,null,null,"After MeP",{"$f":"IF(Z28=\"\",\"\",IF(OR(AB28=\"Solvent\",AB28=\"After MeP\"),0,IF(AB28=\"\",INDEX(RRFs!E:E,MATCH(\"Triglyme\",RRFs!B:B,FALSE)),INDEX(RRFs!E:E,MATCH(AB28,RRFs!B:B,FALSE)))))","v":""},"","",""]
[null,null,{"$f":"D26&\" mL Flask\"","v":" mL Flask"},{"$f":"\"-\"","v":"-"},null,{"$f":"IF(E29=\"\",\"\",\"-\")","v":""},null,29,null,null,{"$f":"IF(J29=\"\",\"\",(J29/LARGE($J$5:$J$100,2)*(5/(INDEX(RRFs!E:E,MATCH(\"Triglyme\",RRFs!B:B,FALSE))))))","v":""},null,"","",{"$f":"IF(N29=\"\",\"\",(N29/(INDEX(INDIRECT(\"'\"&LEFT($M$2,5)&\" Data'!F:F\"),MATCH(\"EGDE\",INDIRECT(\"'\"&LEFT($M$2,5)&\" Data\"&\"'!G:G\"),FALSE))))*(INDEX('CSV Prep'!E:E,MATCH(\"EGDE \"&LEFT($M$2,5),'CSV Prep'!B:B,FALSE))/(INDEX(RRFs!E:E,MATCH(\"Triglyme\",RRFs!B:B,FALSE)))))","v":""},null,null,null,"After MeP",{"$f":"IF(Q29=\"\",\"\",IF(OR(S29=\"Solvent\",S29=\"After MeP\"),0,IF(S29=\"\",INDEX(RRFs!E:E,MATCH(\"Triglyme\",RRFs!B:B,FALSE)),INDEX(RRFs!E:E,MATCH(S29,RRFs!B:B,FALSE)))))","v":""},"","","",null,null,null,null,"After MeP",{"$f":"IF(Z29=\"\",\"\",IF(OR(AB29=\"Solvent\",AB29=\"After MeP\"),0,IF(AB29=\"\",INDEX(RRFs!E:E,MATCH(\"Triglyme\",RRFs!B:B,FALSE)),INDEX(RRFs!E:E,MATCH(AB29,RRFs!B:B,FALSE)))))","v":""},"","",""]
[null,null,{"$f":"F26","v":0},{"$f":"\"~ \"&10/25*D26&\" mL\"","v":"~ 0 mL"},null,{"$f":"IF(E30=\"\",\"\",(E30-MAX($E$29:E29))*INDEX(Compounds!G:G,MATCH(C30,Compounds!A:A,FALSE))*1000/$D$26)","v":""},null,30,null,null,{"$f":"IF(J30=\"\",\"\",(J30/LARGE($J$5:$J$100,2)*(5/(INDEX(RRFs!E:E,MATCH(\"Triglyme\",RRFs!B:B,FALSE))))))","v":""},null,"","",{"$f":"IF(N30=\"\",\"\",(N30/(INDEX(INDIRECT(\"'\"&LEFT($M$2,5)&\" Data'!F:F\"),MATCH(\"EGDE\",INDIRECT(\"'\"&LEFT($M$2,5)&\" Data\"&\"'!G:G\"),FALSE))))*(INDEX('CSV Prep'!E:E,MATCH(\"EGDE \"&LEFT($M$2,5),'CSV Prep'!B:B,FALSE))/(INDEX(RRFs!E:E,MATCH(\"Triglyme\",RRFs!B:B,FALSE)))))","v":""},null,null,null,"After MeP",{"$f":"IF(Q30=\"\",\"\",IF(OR(S30=\"Solvent\",S30=\"After MeP\"),0,IF(S30=\"\",INDEX(RRFs!E:E,MATCH(\"Triglyme\",RRFs!B:B,FALSE)),INDEX(RRFs!E:E,MATCH(S30,RRFs!B:B,FALSE)))))","v":""},"","","",null,null,null,null,"After MeP",{"$f":"IF(Z30=\"\",\"\",IF(OR(AB30=\"Solvent\",AB30=\"After MeP\"),0,IF(AB30=\"\",INDEX(RRFs!E:E,MATCH(\"Triglyme\",RRFs!B:B,FALSE)),INDEX(RRFs!E:E,MATCH(AB30,RRFs!B:B,FALSE)))))","v":""},"","",""]
[null,null,"EGDE",{"$f":"150/25*D26&\" uL\"","v":"0 uL"},null,{"$f":"IF(E31=\"\",\"\",(E31-MAX($E$29:E30))*INDEX(Compounds!G:G,MATCH(C31,Compounds!A:A,FALSE))*1000/$D$26)","v":""},null,31,null,null,{"$f":"IF(J31=\"\",\"\",(J31/LARGE($J$5:$J$100,2)*(5/(INDEX(RRFs!E:E,MATCH(\"Triglyme\",RRFs!B:B,FALSE))))))","v":""},null,"","",{"$f":"IF(N31=\"\",\"\",(N31/(INDEX(INDIRECT(\"'\"&LEFT($M$2,5)&\" Data'!F:F\"),MATCH(\"EGDE\",INDIRECT(\"'\"&LEFT($M$2,5)&\" Data\"&\"'!G:G\"),FALSE))))*(INDEX('CSV Prep'!E:E,MATCH(\"EGDE \"&LEFT($M$2,5),'CSV Prep'!B:B,FALSE))/(INDEX(RRFs!E:E,MATCH(\"Triglyme\",RRFs!B:B,FALSE)))))","v":""},null,null,null,"After MeP",{"$f":"IF(Q31=\"\",\"\",IF(OR(S31=\"Solvent\",S31=\"After MeP\"),0,IF(S31=\"\",INDEX(RRFs!E:E,MATCH(\"Triglyme\",RRFs!B:B,FALSE)),INDEX(RRFs!E:E,MATCH(S31,RRFs!B:B,FALSE)))))","v":""},"","","",null,null,null,null,"After MeP",{"$f":"IF(Z31=\"\",\"\",IF(OR(AB31=\"Solvent\",AB31=\"After MeP\"),0,IF(AB31=\"\",INDEX(RRFs!E:E,MATCH(\"Triglyme\",RRFs!B:B,FALSE)),INDEX(RRFs!E:E,MATCH(AB31,RRFs!B:B,FALSE)))))","v":""},"","",""]
[null,null,"Spiked Sample #3",{"$f":"\"~ \"&2.5/25*D26&\" g\"","v":"~ 0 g"},null,{"$f":"IF(E32=\"\",\"\",(E32-MAX($E$29:E31))*INDEX($F$16:$F$21,MATCH(RIGHT(C32,9),$C$16:$C$21,FALSE))*1000/$D$26)","v":""},null,32,null,null,{"$f":"IF(J32=\"\",\"\",(J32/LARGE($J$5:$J$100,2)*(5/(INDEX(RRFs!E:E,MATCH(\"Triglyme\",RRFs!B:B,FALSE))))))","v":""},null,"","",{"$f":"IF(N32=\"\",\"\",(N32/(INDEX(INDIRECT(\"'\"&LEFT($M$2,5)&\" Data'!F:F\"),MATCH(\"EGDE\",INDIRECT(\"'\"&LEFT($M$2,5)&\" Data\"&\"'!G:G\"),FALSE))))*(INDEX('CSV Prep'!E:E,MATCH(\"EGDE \"&LEFT($M$2,5),'CSV Prep'!B:B,FALSE))/(INDEX(RRFs!E:E,MATCH(\"Triglyme\",RRFs!B:B,FALSE)))))","v":""},null,null,null,"After MeP",{"$f":"IF(Q32=\"\",\"\",IF(OR(S32=\"Solvent\",S32=\"After MeP\"),0,IF(S32=\"\",INDEX(RRFs!E:E,MATCH(\"Triglyme\",RRFs!B:B,FALSE)),INDEX(RRFs!E:E,MATCH(S32,RRFs!B:B,FALSE)))))","v":""},"","","",null,null,null,null,"After MeP",{"$f":"IF(Z32=\"\",\"\",IF(OR(AB32=\"Solvent\",AB32=\"After MeP\"),0,IF(AB32=\"\",INDEX(RRFs!E:E,MATCH(\"Triglyme\",RRFs!B:B,FALSE)),INDEX(RRFs!E:E,MATCH(AB32,RRFs!B:B,FALSE)))))","v":""},"","",""]
[null,null,{"$f":"\"QS to \"&D26&\" mL\"","v":"QS to  mL"},{"$f":"\"To \"&D26&\" mL\"","v":"To  mL"},null,{"$f":"IF(E33=\"\",\"\",\"-\")","v":""},null,33,null,null,{"$f":"IF(J33=\"\",\"\",(J33/LARGE($J$5:$J$100,2)*(5/(INDEX(RRFs!E:E,MATCH(\"Triglyme\",RRFs!B:B,FALSE))))))","v":""},null,"","",{"$f":"IF(N33=\"\",\"\",(N33/(INDEX(INDIRECT(\"'\"&LEFT($M$2,5)&\" Data'!F:F\"),MATCH(\"EGDE\",INDIRECT(\"'\"&LEFT($M$2,5)&\" Data\"&\"'!G:G\"),FALSE))))*(INDEX('CSV Prep'!E:E,MATCH(\"EGDE \"&LEFT($M$2,5),'CSV Prep'!B:B,FALSE))/(INDEX(RRFs!E:E,MATCH(\"Triglyme\",RRFs!B:B,FALSE)))))","v":""},null,null,null,"After MeP",{"$f":"IF(Q33=\"\",\"\",IF(OR(S33=\"Solvent\",S33=\"After MeP\"),0,IF(S33=\"\",INDEX(RRFs!E:E,MATCH(\"Triglyme\",RRFs!B:B,FALSE)),INDEX(RRFs!E:E,MATCH(S33,RRFs!B:B,FALSE)))))","v":""},"","","",null,null,null,null,"After MeP",{"$f":"IF(Z33=\"\",\"\",IF(OR(AB33=\"Solvent\",AB33=\"After MeP\"),0,IF(AB33=\"\",INDEX(RRFs!E:E,MATCH(\"Triglyme\",RRFs!B:B,FALSE)),INDEX(RRFs!E:E,MATCH(AB33,RRFs!B:B,FALSE)))))","v":""},"","",""]
[null,null,null,null,null,null,null,34,null,null,{"$f":"IF(J34=\"\",\"\",(J34/LARGE($J$5:$J$100,2)*(5/(INDEX(RRFs!E:E,MATCH(\"Triglyme\",RRFs!B:B,FALSE))))))","v":""},null,"","",{"$f":"IF(N34=\"\",\"\",(N34/(INDEX(INDIRECT(\"'\"&LEFT($M$2,5)&\" Data'!F:F\"),MATCH(\"EGDE\",INDIRECT(\"'\"&LEFT($M$2,5)&\" Data\"&\"'!G:G\"),FALSE))))*(INDEX('CSV Prep'!E:E,MATCH(\"EGDE \"&LEFT($M$2,5),'CSV Prep'!B:B,FALSE))/(INDEX(RRFs!E:E,MATCH(\"Triglyme\",RRFs!B:B,FALSE)))))","v":""},null,null,null,"After MeP",{"$f":"IF(Q34=\"\",\"\",IF(OR(S34=\"Solvent\",S34=\"After MeP\"),0,IF(S34=\"\",INDEX(RRFs!E:E,MATCH(\"Triglyme\",RRFs!B:B,FALSE)),INDEX(RRFs!E:E,MATCH(S34,RRFs!B:B,FALSE)))))","v":""},"","","",null,null,null,null,"After MeP",{"$f":"IF(Z34=\"\",\"\",IF(OR(AB34=\"Solvent\",AB34=\"After MeP\"),0,IF(AB34=\"\",INDEX(RRFs!E:E,MATCH(\"Triglyme\",RRFs!B:B,FALSE)),INDEX(RRFs!E:E,MATCH(AB34,RRFs!B:B,FALSE)))))","v":""},"","",""]
[null,null,"Triglyme",null,null,{"$f":"INDEX($F$16:$F$21,MATCH(C35,$C$16:$C$21,FALSE))*($E$32-$E$31)*1000/$D$26","v":{"$error":"#DIV/0!"}},null,35,null,null,{"$f":"IF(J35=\"\",\"\",(J35/LARGE($J$5:$J$100,2)*(5/(INDEX(RRFs!E:E,MATCH(\"Triglyme\",RRFs!B:B,FALSE))))))","v":""},null,"","",{"$f":"IF(N35=\"\",\"\",(N35/(INDEX(INDIRECT(\"'\"&LEFT($M$2,5)&\" Data'!F:F\"),MATCH(\"EGDE\",INDIRECT(\"'\"&LEFT($M$2,5)&\" Data\"&\"'!G:G\"),FALSE))))*(INDEX('CSV Prep'!E:E,MATCH(\"EGDE \"&LEFT($M$2,5),'CSV Prep'!B:B,FALSE))/(INDEX(RRFs!E:E,MATCH(\"Triglyme\",RRFs!B:B,FALSE)))))","v":""},null,null,null,"After MeP",{"$f":"IF(Q35=\"\",\"\",IF(OR(S35=\"Solvent\",S35=\"After MeP\"),0,IF(S35=\"\",INDEX(RRFs!E:E,MATCH(\"Triglyme\",RRFs!B:B,FALSE)),INDEX(RRFs!E:E,MATCH(S35,RRFs!B:B,FALSE)))))","v":""},"","","",null,null,null,null,"After MeP",{"$f":"IF(Z35=\"\",\"\",IF(OR(AB35=\"Solvent\",AB35=\"After MeP\"),0,IF(AB35=\"\",INDEX(RRFs!E:E,MATCH(\"Triglyme\",RRFs!B:B,FALSE)),INDEX(RRFs!E:E,MATCH(AB35,RRFs!B:B,FALSE)))))","v":""},"","",""]
[null,null,"IPA",null,null,{"$f":"INDEX($F$16:$F$21,MATCH(C36,$C$16:$C$21,FALSE))*($E$32-$E$31)*1000/$D$26","v":{"$error":"#DIV/0!"}},null,36,null,null,{"$f":"IF(J36=\"\",\"\",(J36/LARGE($J$5:$J$100,2)*(5/(INDEX(RRFs!E:E,MATCH(\"Triglyme\",RRFs!B:B,FALSE))))))","v":""},null,"","",{"$f":"IF(N36=\"\",\"\",(N36/(INDEX(INDIRECT(\"'\"&LEFT($M$2,5)&\" Data'!F:F\"),MATCH(\"EGDE\",INDIRECT(\"'\"&LEFT($M$2,5)&\" Data\"&\"'!G:G\"),FALSE))))*(INDEX('CSV Prep'!E:E,MATCH(\"EGDE \"&LEFT($M$2,5),'CSV Prep'!B:B,FALSE))/(INDEX(RRFs!E:E,MATCH(\"Triglyme\",RRFs!B:B,FALSE)))))","v":""},null,null,null,"After MeP",{"$f":"IF(Q36=\"\",\"\",IF(OR(S36=\"Solvent\",S36=\"After MeP\"),0,IF(S36=\"\",INDEX(RRFs!E:E,MATCH(\"Triglyme\",RRFs!B:B,FALSE)),INDEX(RRFs!E:E,MATCH(S36,RRFs!B:B,FALSE)))))","v":""},"","","",null,null,null,null,"After MeP",{"$f":"IF(Z36=\"\",\"\",IF(OR(AB36=\"Solvent\",AB36=\"After MeP\"),0,IF(AB36=\"\",INDEX(RRFs!E:E,MATCH(\"Triglyme\",RRFs!B:B,FALSE)),INDEX(RRFs!E:E,MATCH(AB36,RRFs!B:B,FALSE)))))","v":""},"","",""]
[null,null,"DIIBA",null,null,{"$f":"INDEX($F$16:$F$21,MATCH(C37,$C$16:$C$21,FALSE))*($E$32-$E$31)*1000/$D$26","v":{"$error":"#DIV/0!"}},null,37,null,null,{"$f":"IF(J37=\"\",\"\",(J37/LARGE($J$5:$J$100,2)*(5/(INDEX(RRFs!E:E,MATCH(\"Triglyme\",RRFs!B:B,FALSE))))))","v":""},null,"","",{"$f":"IF(N37=\"\",\"\",(N37/(INDEX(INDIRECT(\"'\"&LEFT($M$2,5)&\" Data'!F:F\"),MATCH(\"EGDE\",INDIRECT(\"'\"&LEFT($M$2,5)&\" Data\"&\"'!G:G\"),FALSE))))*(INDEX('CSV Prep'!E:E,MATCH(\"EGDE \"&LEFT($M$2,5),'CSV Prep'!B:B,FALSE))/(INDEX(RRFs!E:E,MATCH(\"Triglyme\",RRFs!B:B,FALSE)))))","v":""},null,null,null,"After MeP",{"$f":"IF(Q37=\"\",\"\",IF(OR(S37=\"Solvent\",S37=\"After MeP\"),0,IF(S37=\"\",INDEX(RRFs!E:E,MATCH(\"Triglyme\",RRFs!B:B,FALSE)),INDEX(RRFs!E:E,MATCH(S37,RRFs!B:B,FALSE)))))","v":""},{"$f":"IF(Q37=\"\",\"\",IF(T37=0,0,IF(S37=\"EGDE\",R37/T37,R37/INDEX(R:R,MATCH(\"EGDE\",S:S,FALSE)) *INDEX($F$29:$F$38,MATCH(\"EGDE\",$C$29:$C$38,FALSE))/T37)))","v":""},"","",null,null,null,null,"After MeP",{"$f":"IF(Z37=\"\",\"\",IF(OR(AB37=\"Solvent\",AB37=\"After MeP\"),0,IF(AB37=\"\",INDEX(RRFs!E:E,MATCH(\"Triglyme\",RRFs!B:B,FALSE)),INDEX(RRFs!E:E,MATCH(AB37,RRFs!B:B,FALSE)))))","v":""},{"$f":"IF(Z37=\"\",\"\",IF(AC37=0,0,IF(AB37=\"EGDE\",AA37/AC37,AA37/INDEX(AA:AA,MATCH(\"EGDE\",AB:AB,FALSE)) *INDEX($F$29:$F$38,MATCH(\"EGDE\",$C$29:$C$38,FALSE))/AC37)))","v":""},"",""]
[null,null,"Heptane",null,null,{"$f":"INDEX($F$16:$F$21,MATCH(C38,$C$16:$C$21,FALSE))*($E$32-$E$31)*1000/$D$26","v":{"$error":"#DIV/0!"}},null,38,null,null,{"$f":"IF(J38=\"\",\"\",(J38/LARGE($J$5:$J$100,2)*(5/(INDEX(RRFs!E:E,MATCH(\"Triglyme\",RRFs!B:B,FALSE))))))","v":""},null,"","",{"$f":"IF(N38=\"\",\"\",(N38/(INDEX(INDIRECT(\"'\"&LEFT($M$2,5)&\" Data'!F:F\"),MATCH(\"EGDE\",INDIRECT(\"'\"&LEFT($M$2,5)&\" Data\"&\"'!G:G\"),FALSE))))*(INDEX('CSV Prep'!E:E,MATCH(\"EGDE \"&LEFT($M$2,5),'CSV Prep'!B:B,FALSE))/(INDEX(RRFs!E:E,MATCH(\"Triglyme\",RRFs!B:B,FALSE)))))","v":""},null,null,null,"After MeP",{"$f":"IF(Q38=\"\",\"\",IF(OR(S38=\"Solvent\",S38=\"After MeP\"),0,IF(S38=\"\",INDEX(RRFs!E:E,MATCH(\"Triglyme\",RRFs!B:B,FALSE)),INDEX(RRFs!E:E,MATCH(S38,RRFs!B:B,FALSE)))))","v":""},"","","",null,null,null,null,"After MeP",{"$f":"IF(Z38=\"\",\"\",IF(OR(AB38=\"Solvent\",AB38=\"After MeP\"),0,IF(AB38=\"\",INDEX(RRFs!E:E,MATCH(\"Triglyme\",RRFs!B:B,FALSE)),INDEX(RRFs!E:E,MATCH(AB38,RRFs!B:B,FALSE)))))","v":""},"","",""]
[null,null,null,null,null,null,null,39,null,null,{"$f":"IF(J39=\"\",\"\",(J39/LARGE($J$5:$J$100,2)*(5/(INDEX(RRFs!E:E,MATCH(\"Triglyme\",RRFs!B:B,FALSE))))))","v":""},null,"","",{"$f":"IF(N39=\"\",\"\",(N39/(INDEX(INDIRECT(\"'\"&LEFT($M$2,5)&\" Data'!F:F\"),MATCH(\"EGDE\",INDIRECT(\"'\"&LEFT($M$2,5)&\" Data\"&\"'!G:G\"),FALSE))))*(INDEX('CSV Prep'!E:E,MATCH(\"EGDE \"&LEFT($M$2,5),'CSV Prep'!B:B,FALSE))/(INDEX(RRFs!E:E,MATCH(\"Triglyme\",RRFs!B:B,FALSE)))))","v":""},null,null,null,{"$f":"IF(Q39>=$E$41,\"After MeP\",\"\")","v":"After MeP"},{"$f":"IF(Q39=\"\",\"\",IF(OR(S39=\"Solvent\",S39=\"After MeP\"),0,IF(S39=\"\",INDEX(RRFs!E:E,MATCH(\"Triglyme\",RRFs!B:B,FALSE)),INDEX(RRFs!E:E,MATCH(S39,RRFs!B:B,FALSE)))))","v":""},"","","",null,null,null,null,"After MeP",{"$f":"IF(Z39=\"\",\"\",IF(OR(AB39=\"Solvent\",AB39=\"After MeP\"),0,IF(AB39=\"\",INDEX(RRFs!E:E,MATCH(\"Triglyme\",RRFs!B:B,FALSE)),INDEX(RRFs!E:E,MATCH(AB39,RRFs!B:B,FALSE)))))","v":""},"","",""]
[null,null,null,null,null,null,null,40,null,null,{"$f":"IF(J40=\"\",\"\",(J40/LARGE($J$5:$J$100,2)*(5/(INDEX(RRFs!E:E,MATCH(\"Triglyme\",RRFs!B:B,FALSE))))))","v":""},null,"","",{"$f":"IF(N40=\"\",\"\",(N40/(INDEX(INDIRECT(\"'\"&LEFT($M$2,5)&\" Data'!F:F\"),MATCH(\"EGDE\",INDIRECT(\"'\"&LEFT($M$2,5)&\" Data\"&\"'!G:G\"),FALSE))))*(INDEX('CSV Prep'!E:E,MATCH(\"EGDE \"&LEFT($M$2,5),'CSV Prep'!B:B,FALSE))/(INDEX(RRFs!E:E,MATCH(\"Triglyme\",RRFs!B:B,FALSE)))))","v":""},null,null,null,{"$f":"IF(Q40>=$E$41,\"After MeP\",\"\")","v":"After MeP"},{"$f":"IF(Q40=\"\",\"\",IF(OR(S40=\"Solvent\",S40=\"After MeP\"),0,IF(S40=\"\",INDEX(RRFs!E:E,MATCH(\"Triglyme\",RRFs!B:B,FALSE)),INDEX(RRFs!E:E,MATCH(S40,RRFs!B:B,FALSE)))))","v":""},"","","",null,null,null,null,"After MeP",{"$f":"IF(Z40=\"\",\"\",IF(OR(AB40=\"Solvent\",AB40=\"After MeP\"),0,IF(AB40=\"\",INDEX(RRFs!E:E,MATCH(\"Triglyme\",RRFs!B:B,FALSE)),INDEX(RRFs!E:E,MATCH(AB40,RRFs!B:B,FALSE)))))","v":""},"","",""]
[null,"Methyl Palmitate RT (Min)",null,null,{"$f":"'Sample #1'!E41:F41","v":0},null,null,41,null,null,{"$f":"IF(J41=\"\",\"\",(J41/LARGE($J$5:$J$100,2)*(5/(INDEX(RRFs!E:E,MATCH(\"Triglyme\",RRFs!B:B,FALSE))))))","v":""},null,"","",{"$f":"IF(N41=\"\",\"\",(N41/(INDEX(INDIRECT(\"'\"&LEFT($M$2,5)&\" Data'!F:F\"),MATCH(\"EGDE\",INDIRECT(\"'\"&LEFT($M$2,5)&\" Data\"&\"'!G:G\"),FALSE))))*(INDEX('CSV Prep'!E:E,MATCH(\"EGDE \"&LEFT($M$2,5),'CSV Prep'!B:B,FALSE))/(INDEX(RRFs!E:E,MATCH(\"Triglyme\",RRFs!B:B,FALSE)))))","v":""},null,null,null,"After MeP",{"$f":"IF(Q41=\"\",\"\",IF(OR(S41=\"Solvent\",S41=\"After MeP\"),0,IF(S41=\"\",INDEX(RRFs!E:E,MATCH(\"Triglyme\",RRFs!B:B,FALSE)),INDEX(RRFs!E:E,MATCH(S41,RRFs!B:B,FALSE)))))","v":""},"","","",null,null,null,null,"After MeP",{"$f":"IF(Z41=\"\",\"\",IF(OR(AB41=\"Solvent\",AB41=\"After MeP\"),0,IF(AB41=\"\",INDEX(RRFs!E:E,MATCH(\"Triglyme\",RRFs!B:B,FALSE)),INDEX(RRFs!E:E,MATCH(AB41,RRFs!B:B,FALSE)))))","v":""},"","",""]
[null,null,null,null,null,null,null,42,null,null,{"$f":"IF(J42=\"\",\"\",(J42/LARGE($J$5:$J$100,2)*(5/(INDEX(RRFs!E:E,MATCH(\"Triglyme\",RRFs!B:B,FALSE))))))","v":""},null,"","",{"$f":"IF(N42=\"\",\"\",(N42/(INDEX(INDIRECT(\"'\"&LEFT($M$2,5)&\" Data'!F:F\"),MATCH(\"EGDE\",INDIRECT(\"'\"&LEFT($M$2,5)&\" Data\"&\"'!G:G\"),FALSE))))*(INDEX('CSV Prep'!E:E,MATCH(\"EGDE \"&LEFT($M$2,5),'CSV Prep'!B:B,FALSE))/(INDEX(RRFs!E:E,MATCH(\"Triglyme\",RRFs!B:B,FALSE)))))","v":""},null,null,null,"After MeP",{"$f":"IF(Q42=\"\",\"\",IF(OR(S42=\"Solvent\",S42=\"After MeP\"),0,IF(S42=\"\",INDEX(RRFs!E:E,MATCH(\"Triglyme\",RRFs!B:B,FALSE)),INDEX(RRFs!E:E,MATCH(S42,RRFs!B:B,FALSE)))))","v":""},"","","",null,null,null,null,"After MeP",{"$f":"IF(Z42=\"\",\"\",IF(OR(AB42=\"Solvent\",AB42=\"After MeP\"),0,IF(AB42=\"\",INDEX(RRFs!E:E,MATCH(\"Triglyme\",RRFs!B:B,FALSE)),INDEX(RRFs!E:E,MATCH(AB42,RRFs!B:B,FALSE)))))","v":""},"","",""]
[null,null,null,null,null,null,null,43,null,null,{"$f":"IF(J43=\"\",\"\",(J43/LARGE($J$5:$J$100,2)*(5/(INDEX(RRFs!E:E,MATCH(\"Triglyme\",RRFs!B:B,FALSE))))))","v":""},null,"","",{"$f":"IF(N43=\"\",\"\",(N43/(INDEX(INDIRECT(\"'\"&LEFT($M$2,5)&\" Data'!F:F\"),MATCH(\"EGDE\",INDIRECT(\"'\"&LEFT($M$2,5)&\" Data\"&\"'!G:G\"),FALSE))))*(INDEX('CSV Prep'!E:E,MATCH(\"EGDE \"&LEFT($M$2,5),'CSV Prep'!B:B,FALSE))/(INDEX(RRFs!E:E,MATCH(\"Triglyme\",RRFs!B:B,FALSE)))))","v":""},null,null,null,"After MeP",{"$f":"IF(Q43=\"\",\"\",IF(OR(S43=\"Solvent\",S43=\"After MeP\"),0,IF(S43=\"\",INDEX(RRFs!E:E,MATCH(\"Triglyme\",RRFs!B:B,FALSE)),INDEX(RRFs!E:E,MATCH(S43,RRFs!B:B,FALSE)))))","v":""},"","","",null,null,null,null,"After MeP",{"$f":"IF(Z43=\"\",\"\",IF(OR(AB43=\"Solvent\",AB43=\"After MeP\"),0,IF(AB43=\"\",INDEX(RRFs!E:E,MATCH(\"Triglyme\",RRFs!B:B,FALSE)),INDEX(RRFs!E:E,MATCH(AB43,RRFs!B:B,FALSE)))))","v":""},"","",""]
[null,null,null,null,null,"*g/L as Triglyme",null,44,null,null,{"$f":"IF(J44=\"\",\"\",(J44/LARGE($J$5:$J$100,2)*(5/(INDEX(RRFs!E:E,MATCH(\"Triglyme\",RRFs!B:B,FALSE))))))","v":""},null,"","",{"$f":"IF(N44=\"\",\"\",(N44/(INDEX(INDIRECT(\"'\"&LEFT($M$2,5)&\" Data'!F:F\"),MATCH(\"EGDE\",INDIRECT(\"'\"&LEFT($M$2,5)&\" Data\"&\"'!G:G\"),FALSE))))*(INDEX('CSV Prep'!E:E,MATCH(\"EGDE \"&LEFT($M$2,5),'CSV Prep'!B:B,FALSE))/(INDEX(RRFs!E:E,MATCH(\"Triglyme\",RRFs!B:B,FALSE)))))","v":""},null,null,null,"After MeP",{"$f":"IF(Q44=\"\",\"\",IF(OR(S44=\"Solvent\",S44=\"After MeP\"),0,IF(S44=\"\",INDEX(RRFs!E:E,MATCH(\"Triglyme\",RRFs!B:B,FALSE)),INDEX(RRFs!E:E,MATCH(S44,RRFs!B:B,FALSE)))))","v":""},"","","",null,null,null,null,{"$f":"IF(Z44>=$E$41,\"After MeP\",\"\")","v":"After MeP"},{"$f":"IF(Z44=\"\",\"\",IF(OR(AB44=\"Solvent\",AB44=\"After MeP\"),0,IF(AB44=\"\",INDEX(RRFs!E:E,MATCH(\"Triglyme\",RRFs!B:B,FALSE)),INDEX(RRFs!E:E,MATCH(AB44,RRFs!B:B,FALSE)))))","v":""},"","",""]
[null,null,null,null,null,null,null,45,null,null,{"$f":"IF(J45=\"\",\"\",(J45/LARGE($J$5:$J$100,2)*(5/(INDEX(RRFs!E:E,MATCH(\"Triglyme\",RRFs!B:B,FALSE))))))","v":""},null,"","",{"$f":"IF(N45=\"\",\"\",(N45/(INDEX(INDIRECT(\"'\"&LEFT($M$2,5)&\" Data'!F:F\"),MATCH(\"EGDE\",INDIRECT(\"'\"&LEFT($M$2,5)&\" Data\"&\"'!G:G\"),FALSE))))*(INDEX('CSV Prep'!E:E,MATCH(\"EGDE \"&LEFT($M$2,5),'CSV Prep'!B:B,FALSE))/(INDEX(RRFs!E:E,MATCH(\"Triglyme\",RRFs!B:B,FALSE)))))","v":""},null,null,null,"After MeP",{"$f":"IF(Q45=\"\",\"\",IF(OR(S45=\"Solvent\",S45=\"After MeP\"),0,IF(S45=\"\",INDEX(RRFs!E:E,MATCH(\"Triglyme\",RRFs!B:B,FALSE)),INDEX(RRFs!E:E,MATCH(S45,RRFs!B:B,FALSE)))))","v":""},"","","",null,null,null,null,"After MeP",{"$f":"IF(Z45=\"\",\"\",IF(OR(AB45=\"Solvent\",AB45=\"After MeP\"),0,IF(AB45=\"\",INDEX(RRFs!E:E,MATCH(\"Triglyme\",RRFs!B:B,FALSE)),INDEX(RRFs!E:E,MATCH(AB45,RRFs!B:B,FALSE)))))","v":""},"","",""]
[null,null,null,null,null,null,null,46,null,null,{"$f":"IF(J46=\"\",\"\",(J46/LARGE($J$5:$J$100,2)*(5/(INDEX(RRFs!E:E,MATCH(\"Triglyme\",RRFs!B:B,FALSE))))))","v":""},null,"","",{"$f":"IF(N46=\"\",\"\",(N46/(INDEX(INDIRECT(\"'\"&LEFT($M$2,5)&\" Data'!F:F\"),MATCH(\"EGDE\",INDIRECT(\"'\"&LEFT($M$2,5)&\" Data\"&\"'!G:G\"),FALSE))))*(INDEX('CSV Prep'!E:E,MATCH(\"EGDE \"&LEFT($M$2,5),'CSV Prep'!B:B,FALSE))/(INDEX(RRFs!E:E,MATCH(\"Triglyme\",RRFs!B:B,FALSE)))))","v":""},null,null,null,"After MeP",{"$f":"IF(Q46=\"\",\"\",IF(OR(S46=\"Solvent\",S46=\"After MeP\"),0,IF(S46=\"\",INDEX(RRFs!E:E,MATCH(\"Triglyme\",RRFs!B:B,FALSE)),INDEX(RRFs!E:E,MATCH(S46,RRFs!B:B,FALSE)))))","v":""},"","","",null,null,null,null,"After MeP",{"$f":"IF(Z46=\"\",\"\",IF(OR(AB46=\"Solvent\",AB46=\"After MeP\"),0,IF(AB46=\"\",INDEX(RRFs!E:E,MATCH(\"Triglyme\",RRFs!B:B,FALSE)),INDEX(RRFs!E:E,MATCH(AB46,RRFs!B:B,FALSE)))))","v":""},"","",""]
[null,null,null,null,null,null,null,47,null,null,{"$f":"IF(J47=\"\",\"\",(J47/LARGE($J$5:$J$100,2)*(5/(INDEX(RRFs!E:E,MATCH(\"Triglyme\",RRFs!B:B,FALSE))))))","v":""},null,"","",{"$f":"IF(N47=\"\",\"\",(N47/(INDEX(INDIRECT(\"'\"&LEFT($M$2,5)&\" Data'!F:F\"),MATCH(\"EGDE\",INDIRECT(\"'\"&LEFT($M$2,5)&\" Data\"&\"'!G:G\"),FALSE))))*(INDEX('CSV Prep'!E:E,MATCH(\"EGDE \"&LEFT($M$2,5),'CSV Prep'!B:B,FALSE))/(INDEX(RRFs!E:E,MATCH(\"Triglyme\",RRFs!B:B,FALSE)))))","v":""},null,null,null,"After MeP",{"$f":"IF(Q47=\"\",\"\",IF(OR(S47=\"Solvent\",S47=\"After MeP\"),0,IF(S47=\"\",INDEX(RRFs!E:E,MATCH(\"Triglyme\",RRFs!B:B,FALSE)),INDEX(RRFs!E:E,MATCH(S47,RRFs!B:B,FALSE)))))","v":""},"","","",null,null,null,null,"After MeP",{"$f":"IF(Z47=\"\",\"\",IF(OR(AB47=\"Solvent\",AB47=\"After MeP\"),0,IF(AB47=\"\",INDEX(RRFs!E:E,MATCH(\"Triglyme\",RRFs!B:B,FALSE)),INDEX(RRFs!E:E,MATCH(AB47,RRFs!B:B,FALSE)))))","v":""},"","",""]
[null,null,null,null,null,null,null,48,null,null,{"$f":"IF(J48=\"\",\"\",(J48/LARGE($J$5:$J$100,2)*(5/(INDEX(RRFs!E:E,MATCH(\"Triglyme\",RRFs!B:B,FALSE))))))","v":""},null,"","",{"$f":"IF(N48=\"\",\"\",(N48/(INDEX(INDIRECT(\"'\"&LEFT($M$2,5)&\" Data'!F:F\"),MATCH(\"EGDE\",INDIRECT(\"'\"&LEFT($M$2,5)&\" Data\"&\"'!G:G\"),FALSE))))*(INDEX('CSV Prep'!E:E,MATCH(\"EGDE \"&LEFT($M$2,5),'CSV Prep'!B:B,FALSE))/(INDEX(RRFs!E:E,MATCH(\"Triglyme\",RRFs!B:B,FALSE)))))","v":""},null,null,null,"After MeP",{"$f":"IF(Q48=\"\",\"\",IF(OR(S48=\"Solvent\",S48=\"After MeP\"),0,IF(S48=\"\",INDEX(RRFs!E:E,MATCH(\"Triglyme\",RRFs!B:B,FALSE)),INDEX(RRFs!E:E,MATCH(S48,RRFs!B:B,FALSE)))))","v":""},"","","",null,null,null,null,"After MeP",{"$f":"IF(Z48=\"\",\"\",IF(OR(AB48=\"Solvent\",AB48=\"After MeP\"),0,IF(AB48=\"\",INDEX(RRFs!E:E,MATCH(\"Triglyme\",RRFs!B:B,FALSE)),INDEX(RRFs!E:E,MATCH(AB48,RRFs!B:B,FALSE)))))","v":""},"","",""]
[null,null,null,null,null,null,null,49,null,null,{"$f":"IF(J49=\"\",\"\",(J49/LARGE($J$5:$J$100,2)*(5/(INDEX(RRFs!E:E,MATCH(\"Triglyme\",RRFs!B:B,FALSE))))))","v":""},null,"","",{"$f":"IF(N49=\"\",\"\",(N49/(INDEX(INDIRECT(\"'\"&LEFT($M$2,5)&\" Data'!F:F\"),MATCH(\"EGDE\",INDIRECT(\"'\"&LEFT($M$2,5)&\" Data\"&\"'!G:G\"),FALSE))))*(INDEX('CSV Prep'!E:E,MATCH(\"EGDE \"&LEFT($M$2,5),'CSV Prep'!B:B,FALSE))/(INDEX(RRFs!E:E,MATCH(\"Triglyme\",RRFs!B:B,FALSE)))))","v":""},null,null,null,"After MeP",{"$f":"IF(Q49=\"\",\"\",IF(OR(S49=\"Solvent\",S49=\"After MeP\"),0,IF(S49=\"\",INDEX(RRFs!E:E,MATCH(\"Triglyme\",RRFs!B:B,FALSE)),INDEX(RRFs!E:E,MATCH(S49,RRFs!B:B,FALSE)))))","v":""},"","","",null,null,null,null,"After MeP",{"$f":"IF(Z49=\"\",\"\",IF(OR(AB49=\"Solvent\",AB49=\"After MeP\"),0,IF(AB49=\"\",INDEX(RRFs!E:E,MATCH(\"Triglyme\",RRFs!B:B,FALSE)),INDEX(RRFs!E:E,MATCH(AB49,RRFs!B:B,FALSE)))))","v":""},"","",""]
[null,null,null,null,null,null,null,50,null,null,{"$f":"IF(J50=\"\",\"\",(J50/LARGE($J$5:$J$100,2)*(5/(INDEX(RRFs!E:E,MATCH(\"Triglyme\",RRFs!B:B,FALSE))))))","v":""},null,"","",{"$f":"IF(N50=\"\",\"\",(N50/(INDEX(INDIRECT(\"'\"&LEFT($M$2,5)&\" Data'!F:F\"),MATCH(\"EGDE\",INDIRECT(\"'\"&LEFT($M$2,5)&\" Data\"&\"'!G:G\"),FALSE))))*(INDEX('CSV Prep'!E:E,MATCH(\"EGDE \"&LEFT($M$2,5),'CSV Prep'!B:B,FALSE))/(INDEX(RRFs!E:E,MATCH(\"Triglyme\",RRFs!B:B,FALSE)))))","v":""},null,null,null,"After MeP",{"$f":"IF(Q50=\"\",\"\",IF(OR(S50=\"Solvent\",S50=\"After MeP\"),0,IF(S50=\"\",INDEX(RRFs!E:E,MATCH(\"Triglyme\",RRFs!B:B,FALSE)),INDEX(RRFs!E:E,MATCH(S50,RRFs!B:B,FALSE)))))","v":""},"","","",null,null,null,null,"After MeP",{"$f":"IF(Z50=\"\",\"\",IF(OR(AB50=\"Solvent\",AB50=\"After MeP\"),0,IF(AB50=\"\",INDEX(RRFs!E:E,MATCH(\"Triglyme\",RRFs!B:B,FALSE)),INDEX(RRFs!E:E,MATCH(AB50,RRFs!B:B,FALSE)))))","v":""},"","",""]
[null,null,null,null,null,null,null,51,null,null,{"$f":"IF(J51=\"\",\"\",(J51/LARGE($J$5:$J$100,2)*(5/(INDEX(RRFs!E:E,MATCH(\"Triglyme\",RRFs!B:B,FALSE))))))","v":""},null,"","",{"$f":"IF(N51=\"\",\"\",(N51/(INDEX(INDIRECT(\"'\"&LEFT($M$2,5)&\" Data'!F:F\"),MATCH(\"EGDE\",INDIRECT(\"'\"&LEFT($M$2,5)&\" Data\"&\"'!G:G\"),FALSE))))*(INDEX('CSV Prep'!E:E,MATCH(\"EGDE \"&LEFT($M$2,5),'CSV Prep'!B:B,FALSE))/(INDEX(RRFs!E:E,MATCH(\"Triglyme\",RRFs!B:B,FALSE)))))","v":""},null,null,null,"After MeP",{"$f":"IF(Q51=\"\",\"\",IF(OR(S51=\"Solvent\",S51=\"After MeP\"),0,IF(S51=\"\",INDEX(RRFs!E:E,MATCH(\"Triglyme\",RRFs!B:B,FALSE)),INDEX(RRFs!E:E,MATCH(S51,RRFs!B:B,FALSE)))))","v":""},"","","",null,null,null,null,"After MeP",{"$f":"IF(Z51=\"\",\"\",IF(OR(AB51=\"Solvent\",AB51=\"After MeP\"),0,IF(AB51=\"\",INDEX(RRFs!E:E,MATCH(\"Triglyme\",RRFs!B:B,FALSE)),INDEX(RRFs!E:E,MATCH(AB51,RRFs!B:B,FALSE)))))","v":""},"","",""]
[null,null,null,null,null,null,null,52,null,null,{"$f":"IF(J52=\"\",\"\",(J52/LARGE($J$5:$J$100,2)*(5/(INDEX(RRFs!E:E,MATCH(\"Triglyme\",RRFs!B:B,FALSE))))))","v":""},null,"","",{"$f":"IF(N52=\"\",\"\",(N52/(INDEX(INDIRECT(\"'\"&LEFT($M$2,5)&\" Data'!F:F\"),MATCH(\"EGDE\",INDIRECT(\"'\"&LEFT($M$2,5)&\" Data\"&\"'!G:G\"),FALSE))))*(INDEX('CSV Prep'!E:E,MATCH(\"EGDE \"&LEFT($M$2,5),'CSV Prep'!B:B,FALSE))/(INDEX(RRFs!E:E,MATCH(\"Triglyme\",RRFs!B:B,FALSE)))))","v":""},null,null,null,"After MeP",{"$f":"IF(Q52=\"\",\"\",IF(OR(S52=\"Solvent\",S52=\"After MeP\"),0,IF(S52=\"\",INDEX(RRFs!E:E,MATCH(\"Triglyme\",RRFs!B:B,FALSE)),INDEX(RRFs!E:E,MATCH(S52,RRFs!B:B,FALSE)))))","v":""},"","","",null,null,null,null,"After MeP",{"$f":"IF(Z52=\"\",\"\",IF(OR(AB52=\"Solvent\",AB52=\"After MeP\"),0,IF(AB52=\"\",INDEX(RRFs!E:E,MATCH(\"Triglyme\",RRFs!B:B,FALSE)),INDEX(RRFs!E:E,MATCH(AB52,RRFs!B:B,FALSE)))))","v":""},"","",""]
[null,null,null,null,null,null,null,53,null,null,{"$f":"IF(J53=\"\",\"\",(J53/LARGE($J$5:$J$100,2)*(5/(INDEX(RRFs!E:E,MATCH(\"Triglyme\",RRFs!B:B,FALSE))))))","v":""},null,"","",{"$f":"IF(N53=\"\",\"\",(N53/(INDEX(INDIRECT(\"'\"&LEFT($M$2,5)&\" Data'!F:F\"),MATCH(\"EGDE\",INDIRECT(\"'\"&LEFT($M$2,5)&\" Data\"&\"'!G:G\"),FALSE))))*(INDEX('CSV Prep'!E:E,MATCH(\"EGDE \"&LEFT($M$2,5),'CSV Prep'!B:B,FALSE))/(INDEX(RRFs!E:E,MATCH(\"Triglyme\",RRFs!B:B,FALSE)))))","v":""},null,null,null,"After MeP",{"$f":"IF(Q53=\"\",\"\",IF(OR(S53=\"Solvent\",S53=\"After MeP\"),0,IF(S53=\"\",INDEX(RRFs!E:E,MATCH(\"Triglyme\",RRFs!B:B,FALSE)),INDEX(RRFs!E:E,MATCH(S53,RRFs!B:B,FALSE)))))","v":""},"","","",null,null,null,null,"After MeP",{"$f":"IF(Z53=\"\",\"\",IF(OR(AB53=\"Solvent\",AB53=\"After MeP\"),0,IF(AB53=\"\",INDEX(RRFs!E:E,MATCH(\"Triglyme\",RRFs!B:B,FALSE)),INDEX(RRFs!E:E,MATCH(AB53,RRFs!B:B,FALSE)))))","v":""},"","",""]
[null,null,null,null,null,null,null,54,null,null,{"$f":"IF(J54=\"\",\"\",(J54/LARGE($J$5:$J$100,2)*(5/(INDEX(RRFs!E:E,MATCH(\"Triglyme\",RRFs!B:B,FALSE))))))","v":""},null,"","",{"$f":"IF(N54=\"\",\"\",(N54/(INDEX(INDIRECT(\"'\"&LEFT($M$2,5)&\" Data'!F:F\"),MATCH(\"EGDE\",INDIRECT(\"'\"&LEFT($M$2,5)&\" Data\"&\"'!G:G\"),FALSE))))*(INDEX('CSV Prep'!E:E,MATCH(\"EGDE \"&LEFT($M$2,5),'CSV Prep'!B:B,FALSE))/(INDEX(RRFs!E:E,MATCH(\"Triglyme\",RRFs!B:B,FALSE)))))","v":""},null,null,null,"After MeP",{"$f":"IF(Q54=\"\",\"\",IF(OR(S54=\"Solvent\",S54=\"After MeP\"),0,IF(S54=\"\",INDEX(RRFs!E:E,MATCH(\"Triglyme\",RRFs!B:B,FALSE)),INDEX(RRFs!E:E,MATCH(S54,RRFs!B:B,FALSE)))))","v":""},"","","",null,null,null,null,"After MeP",{"$f":"IF(Z54=\"\",\"\",IF(OR(AB54=\"Solvent\",AB54=\"After MeP\"),0,IF(AB54=\"\",INDEX(RRFs!E:E,MATCH(\"Triglyme\",RRFs!B:B,FALSE)),INDEX(RRFs!E:E,MATCH(AB54,RRFs!B:B,FALSE)))))","v":""},"","",""]
[null,null,null,null,null,null,null,55,null,null,{"$f":"IF(J55=\"\",\"\",(J55/LARGE($J$5:$J$100,2)*(5/(INDEX(RRFs!E:E,MATCH(\"Triglyme\",RRFs!B:B,FALSE))))))","v":""},null,"","",{"$f":"IF(N55=\"\",\"\",(N55/(INDEX(INDIRECT(\"'\"&LEFT($M$2,5)&\" Data'!F:F\"),MATCH(\"EGDE\",INDIRECT(\"'\"&LEFT($M$2,5)&\" Data\"&\"'!G:G\"),FALSE))))*(INDEX('CSV Prep'!E:E,MATCH(\"EGDE \"&LEFT($M$2,5),'CSV Prep'!B:B,FALSE))/(INDEX(RRFs!E:E,MATCH(\"Triglyme\",RRFs!B:B,FALSE)))))","v":""},null,null,null,"After MeP",{"$f":"IF(Q55=\"\",\"\",IF(OR(S55=\"Solvent\",S55=\"After MeP\"),0,IF(S55=\"\",INDEX(RRFs!E:E,MATCH(\"Triglyme\",RRFs!B:B,FALSE)),INDEX(RRFs!E:E,MATCH(S55,RRFs!B:B,FALSE)))))","v":""},"","","",null,null,null,null,"After MeP",{"$f":"IF(Z55=\"\",\"\",IF(OR(AB55=\"Solvent\",AB55=\"After MeP\"),0,IF(AB55=\"\",INDEX(RRFs!E:E,MATCH(\"Triglyme\",RRFs!B:B,FALSE)),INDEX(RRFs!E:E,MATCH(AB55,RRFs!B:B,FALSE)))))","v":""},"","",""]
[null,null,null,null,null,null,null,56,null,null,{"$f":"IF(J56=\"\",\"\",(J56/LARGE($J$5:$J$100,2)*(5/(INDEX(RRFs!E:E,MATCH(\"Triglyme\",RRFs!B:B,FALSE))))))","v":""},null,"","",{"$f":"IF(N56=\"\",\"\",(N56/(INDEX(INDIRECT(\"'\"&LEFT($M$2,5)&\" Data'!F:F\"),MATCH(\"EGDE\",INDIRECT(\"'\"&LEFT($M$2,5)&\" Data\"&\"'!G:G\"),FALSE))))*(INDEX('CSV Prep'!E:E,MATCH(\"EGDE \"&LEFT($M$2,5),'CSV Prep'!B:B,FALSE))/(INDEX(RRFs!E:E,MATCH(\"Triglyme\",RRFs!B:B,FALSE)))))","v":""},null,null,null,"After MeP",{"$f":"IF(Q56=\"\",\"\",IF(OR(S56=\"Solvent\",S56=\"After MeP\"),0,IF(S56=\"\",INDEX(RRFs!E:E,MATCH(\"Triglyme\",RRFs!B:B,FALSE)),INDEX(RRFs!E:E,MATCH(S56,RRFs!B:B,FALSE)))))","v":""},"","","",null,null,null,null,"After MeP",{"$f":"IF(Z56=\"\",\"\",IF(OR(AB56=\"Solvent\",AB56=\"After MeP\"),0,IF(AB56=\"\",INDEX(RRFs!E:E,MATCH(\"Triglyme\",RRFs!B:B,FALSE)),INDEX(RRFs!E:E,MATCH(AB56,RRFs!B:B,FALSE)))))","v":""},"","",""]
[null,null,null,null,null,null,null,57,null,null,{"$f":"IF(J57=\"\",\"\",(J57/LARGE($J$5:$J$100,2)*(5/(INDEX(RRFs!E:E,MATCH(\"Triglyme\",RRFs!B:B,FALSE))))))","v":""},null,"","",{"$f":"IF(N57=\"\",\"\",(N57/(INDEX(INDIRECT(\"'\"&LEFT($M$2,5)&\" Data'!F:F\"),MATCH(\"EGDE\",INDIRECT(\"'\"&LEFT($M$2,5)&\" Data\"&\"'!G:G\"),FALSE))))*(INDEX('CSV Prep'!E:E,MATCH(\"EGDE \"&LEFT($M$2,5),'CSV Prep'!B:B,FALSE))/(INDEX(RRFs!E:E,MATCH(\"Triglyme\",RRFs!B:B,FALSE)))))","v":""},null,null,null,"After MeP",{"$f":"IF(Q57=\"\",\"\",IF(OR(S57=\"Solvent\",S57=\"After MeP\"),0,IF(S57=\"\",INDEX(RRFs!E:E,MATCH(\"Triglyme\",RRFs!B:B,FALSE)),INDEX(RRFs!E:E,MATCH(S57,RRFs!B:B,FALSE)))))","v":""},"","","",null,null,null,null,"After MeP",{"$f":"IF(Z57=\"\",\"\",IF(OR(AB57=\"Solvent\",AB57=\"After MeP\"),0,IF(AB57=\"\",INDEX(RRFs!E:E,MATCH(\"Triglyme\",RRFs!B:B,FALSE)),INDEX(RRFs!E:E,MATCH(AB57,RRFs!B:B,FALSE)))))","v":""},"","",""]
[null,null,null,null,null,null,null,58,null,null,{"$f":"IF(J58=\"\",\"\",(J58/LARGE($J$5:$J$100,2)*(5/(INDEX(RRFs!E:E,MATCH(\"Triglyme\",RRFs!B:B,FALSE))))))","v":""},null,"","",{"$f":"IF(N58=\"\",\"\",(N58/(INDEX(INDIRECT(\"'\"&LEFT($M$2,5)&\" Data'!F:F\"),MATCH(\"EGDE\",INDIRECT(\"'\"&LEFT($M$2,5)&\" Data\"&\"'!G:G\"),FALSE))))*(INDEX('CSV Prep'!E:E,MATCH(\"EGDE \"&LEFT($M$2,5),'CSV Prep'!B:B,FALSE))/(INDEX(RRFs!E:E,MATCH(\"Triglyme\",RRFs!B:B,FALSE)))))","v":""},null,null,null,"After MeP",{"$f":"IF(Q58=\"\",\"\",IF(OR(S58=\"Solvent\",S58=\"After MeP\"),0,IF(S58=\"\",INDEX(RRFs!E:E,MATCH(\"Triglyme\",RRFs!B:B,FALSE)),INDEX(RRFs!E:E,MATCH(S58,RRFs!B:B,FALSE)))))","v":""},"","","",null,null,null,null,"After MeP",{"$f":"IF(Z58=\"\",\"\",IF(OR(AB58=\"Solvent\",AB58=\"After MeP\"),0,IF(AB58=\"\",INDEX(RRFs!E:E,MATCH(\"Triglyme\",RRFs!B:B,FALSE)),INDEX(RRFs!E:E,MATCH(AB58,RRFs!B:B,FALSE)))))","v":""},"","",""]
[null,null,null,null,null,null,null,59,null,null,{"$f":"IF(J59=\"\",\"\",(J59/LARGE($J$5:$J$100,2)*(5/(INDEX(RRFs!E:E,MATCH(\"Triglyme\",RRFs!B:B,FALSE))))))","v":""},null,"","",{"$f":"IF(N59=\"\",\"\",(N59/(INDEX(INDIRECT(\"'\"&LEFT($M$2,5)&\" Data'!F:F\"),MATCH(\"EGDE\",INDIRECT(\"'\"&LEFT($M$2,5)&\" Data\"&\"'!G:G\"),FALSE))))*(INDEX('CSV Prep'!E:E,MATCH(\"EGDE \"&LEFT($M$2,5),'CSV Prep'!B:B,FALSE))/(INDEX(RRFs!E:E,MATCH(\"Triglyme\",RRFs!B:B,FALSE)))))","v":""},null,null,null,"After MeP",{"$f":"IF(Q59=\"\",\"\",IF(OR(S59=\"Solvent\",S59=\"After MeP\"),0,IF(S59=\"\",INDEX(RRFs!E:E,MATCH(\"Triglyme\",RRFs!B:B,FALSE)),INDEX(RRFs!E:E,MATCH(S59,RRFs!B:B,FALSE)))))","v":""},"","","",null,null,null,null,"After MeP",{"$f":"IF(Z59=\"\",\"\",IF(OR(AB59=\"Solvent\",AB59=\"After MeP\"),0,IF(AB59=\"\",INDEX(RRFs!E:E,MATCH(\"Triglyme\",RRFs!B:B,FALSE)),INDEX(RRFs!E:E,MATCH(AB59,RRFs!B:B,FALSE)))))","v":""},"","",""]
[null,null,null,null,null,null,null,60,null,null,{"$f":"IF(J60=\"\",\"\",(J60/LARGE($J$5:$J$100,2)*(5/(INDEX(RRFs!E:E,MATCH(\"Triglyme\",RRFs!B:B,FALSE))))))","v":""},null,"","",{"$f":"IF(N60=\"\",\"\",(N60/(INDEX(INDIRECT(\"'\"&LEFT($M$2,5)&\" Data'!F:F\"),MATCH(\"EGDE\",INDIRECT(\"'\"&LEFT($M$2,5)&\" Data\"&\"'!G:G\"),FALSE))))*(INDEX('CSV Prep'!E:E,MATCH(\"EGDE \"&LEFT($M$2,5),'CSV Prep'!B:B,FALSE))/(INDEX(RRFs!E:E,MATCH(\"Triglyme\",RRFs!B:B,FALSE)))))","v":""},null,null,null,"After MeP",{"$f":"IF(Q60=\"\",\"\",IF(OR(S60=\"Solvent\",S60=\"After MeP\"),0,IF(S60=\"\",INDEX(RRFs!E:E,MATCH(\"Triglyme\",RRFs!B:B,FALSE)),INDEX(RRFs!E:E,MATCH(S60,RRFs!B:B,FALSE)))))","v":""},"","","",null,null,null,null,"After MeP",{"$f":"IF(Z60=\"\",\"\",IF(OR(AB60=\"Solvent\",AB60=\"After MeP\"),0,IF(AB60=\"\",INDEX(RRFs!E:E,MATCH(\"Triglyme\",RRFs!B:B,FALSE)),INDEX(RRFs!E:E,MATCH(AB60,RRFs!B:B,FALSE)))))","v":""},"","",""]
[null,null,null,null,null,null,null,61,null,null,{"$f":"IF(J61=\"\",\"\",(J61/LARGE($J$5:$J$100,2)*(5/(INDEX(RRFs!E:E,MATCH(\"Triglyme\",RRFs!B:B,FALSE))))))","v":""},null,"","",{"$f":"IF(N61=\"\",\"\",(N61/(INDEX(INDIRECT(\"'\"&LEFT($M$2,5)&\" Data'!F:F\"),MATCH(\"EGDE\",INDIRECT(\"'\"&LEFT($M$2,5)&\" Data\"&\"'!G:G\"),FALSE))))*(INDEX('CSV Prep'!E:E,MATCH(\"EGDE \"&LEFT($M$2,5),'CSV Prep'!B:B,FALSE))/(INDEX(RRFs!E:E,MATCH(\"Triglyme\",RRFs!B:B,FALSE)))))","v":""},null,null,null,"After MeP",{"$f":"IF(Q61=\"\",\"\",IF(OR(S61=\"Solvent\",S61=\"After MeP\"),0,IF(S61=\"\",INDEX(RRFs!E:E,MATCH(\"Triglyme\",RRFs!B:B,FALSE)),INDEX(RRFs!E:E,MATCH(S61,RRFs!B:B,FALSE)))))","v":""},"","","",null,null,null,null,"After MeP",{"$f":"IF(Z61=\"\",\"\",IF(OR(AB61=\"Solvent\",AB61=\"After MeP\"),0,IF(AB61=\"\",INDEX(RRFs!E:E,MATCH(\"Triglyme\",RRFs!B:B,FALSE)),INDEX(RRFs!E:E,MATCH(AB61,RRFs!B:B,FALSE)))))","v":""},"","",""]
[null,null,null,null,null,null,null,62,null,null,{"$f":"IF(J62=\"\",\"\",(J62/LARGE($J$5:$J$100,2)*(5/(INDEX(RRFs!E:E,MATCH(\"Triglyme\",RRFs!B:B,FALSE))))))","v":""},null,"","",{"$f":"IF(N62=\"\",\"\",(N62/(INDEX(INDIRECT(\"'\"&LEFT($M$2,5)&\" Data'!F:F\"),MATCH(\"EGDE\",INDIRECT(\"'\"&LEFT($M$2,5)&\" Data\"&\"'!G:G\"),FALSE))))*(INDEX('CSV Prep'!E:E,MATCH(\"EGDE \"&LEFT($M$2,5),'CSV Prep'!B:B,FALSE))/(INDEX(RRFs!E:E,MATCH(\"Triglyme\",RRFs!B:B,FALSE)))))","v":""},null,null,null,"After MeP",{"$f":"IF(Q62=\"\",\"\",IF(OR(S62=\"Solvent\",S62=\"After MeP\"),0,IF(S62=\"\",INDEX(RRFs!E:E,MATCH(\"Triglyme\",RRFs!B:B,FALSE)),INDEX(RRFs!E:E,MATCH(S62,RRFs!B:B,FALSE)))))","v":""},"","","",null,null,null,null,"After MeP",{"$f":"IF(Z62=\"\",\"\",IF(OR(AB62=\"Solvent\",AB62=\"After MeP\"),0,IF(AB62=\"\",INDEX(RRFs!E:E,MATCH(\"Triglyme\",RRFs!B:B,FALSE)),INDEX(RRFs!E:E,MATCH(AB62,RRFs!B:B,FALSE)))))","v":""},"","",""]
[null,null,null,null,null,null,null,63,null,null,{"$f":"IF(J63=\"\",\"\",(J63/LARGE($J$5:$J$100,2)*(5/(INDEX(RRFs!E:E,MATCH(\"Triglyme\",RRFs!B:B,FALSE))))))","v":""},null,"","",{"$f":"IF(N63=\"\",\"\",(N63/(INDEX(INDIRECT(\"'\"&LEFT($M$2,5)&\" Data'!F:F\"),MATCH(\"EGDE\",INDIRECT(\"'\"&LEFT($M$2,5)&\" Data\"&\"'!G:G\"),FALSE))))*(INDEX('CSV Prep'!E:E,MATCH(\"EGDE \"&LEFT($M$2,5),'CSV Prep'!B:B,FALSE))/(INDEX(RRFs!E:E,MATCH(\"Triglyme\",RRFs!B:B,FALSE)))))","v":""},null,null,null,"After MeP",{"$f":"IF(Q63=\"\",\"\",IF(OR(S63=\"Solvent\",S63=\"After MeP\"),0,IF(S63=\"\",INDEX(RRFs!E:E,MATCH(\"Triglyme\",RRFs!B:B,FALSE)),INDEX(RRFs!E:E,MATCH(S63,RRFs!B:B,FALSE)))))","v":""},"","","",null,null,null,null,"After MeP",{"$f":"IF(Z63=\"\",\"\",IF(OR(AB63=\"Solvent\",AB63=\"After MeP\"),0,IF(AB63=\"\",INDEX(RRFs!E:E,MATCH(\"Triglyme\",RRFs!B:B,FALSE)),INDEX(RRFs!E:E,MATCH(AB63,RRFs!B:B,FALSE)))))","v":""},"","",""]
[null,null,null,null,null,null,null,64,null,null,{"$f":"IF(J64=\"\",\"\",(J64/LARGE($J$5:$J$100,2)*(5/(INDEX(RRFs!E:E,MATCH(\"Triglyme\",RRFs!B:B,FALSE))))))","v":""},null,"","",{"$f":"IF(N64=\"\",\"\",(N64/(INDEX(INDIRECT(\"'\"&LEFT($M$2,5)&\" Data'!F:F\"),MATCH(\"EGDE\",INDIRECT(\"'\"&LEFT($M$2,5)&\" Data\"&\"'!G:G\"),FALSE))))*(INDEX('CSV Prep'!E:E,MATCH(\"EGDE \"&LEFT($M$2,5),'CSV Prep'!B:B,FALSE))/(INDEX(RRFs!E:E,MATCH(\"Triglyme\",RRFs!B:B,FALSE)))))","v":""},null,null,null,"After MeP",{"$f":"IF(Q64=\"\",\"\",IF(OR(S64=\"Solvent\",S64=\"After MeP\"),0,IF(S64=\"\",INDEX(RRFs!E:E,MATCH(\"Triglyme\",RRFs!B:B,FALSE)),INDEX(RRFs!E:E,MATCH(S64,RRFs!B:B,FALSE)))))","v":""},"","","",null,null,null,null,"After MeP",{"$f":"IF(Z64=\"\",\"\",IF(OR(AB64=\"Solvent\",AB64=\"After MeP\"),0,IF(AB64=\"\",INDEX(RRFs!E:E,MATCH(\"Triglyme\",RRFs!B:B,FALSE)),INDEX(RRFs!E:E,MATCH(AB64,RRFs!B:B,FALSE)))))","v":""},"","",""]
[null,null,null,null,null,null,null,65,null,null,{"$f":"IF(J65=\"\",\"\",(J65/LARGE($J$5:$J$100,2)*(5/(INDEX(RRFs!E:E,MATCH(\"Triglyme\",RRFs!B:B,FALSE))))))","v":""},null,"","",{"$f":"IF(N65=\"\",\"\",(N65/(INDEX(INDIRECT(\"'\"&LEFT($M$2,5)&\" Data'!F:F\"),MATCH(\"EGDE\",INDIRECT(\"'\"&LEFT($M$2,5)&\" Data\"&\"'!G:G\"),FALSE))))*(INDEX('CSV Prep'!E:E,MATCH(\"EGDE \"&LEFT($M$2,5),'CSV Prep'!B:B,FALSE))/(INDEX(RRFs!E:E,MATCH(\"Triglyme\",RRFs!B:B,FALSE)))))","v":""},null,null,null,"After MeP",{"$f":"IF(Q65=\"\",\"\",IF(OR(S65=\"Solvent\",S65=\"After MeP\"),0,IF(S65=\"\",INDEX(RRFs!E:E,MATCH(\"Triglyme\",RRFs!B:B,FALSE)),INDEX(RRFs!E:E,MATCH(S65,RRFs!B:B,FALSE)))))","v":""},"","","",null,null,null,null,"After MeP",{"$f":"IF(Z65=\"\",\"\",IF(OR(AB65=\"Solvent\",AB65=\"After MeP\"),0,IF(AB65=\"\",INDEX(RRFs!E:E,MATCH(\"Triglyme\",RRFs!B:B,FALSE)),INDEX(RRFs!E:E,MATCH(AB65,RRFs!B:B,FALSE)))))","v":""},"","",""]
[null,null,null,null,null,null,null,66,null,null,{"$f":"IF(J66=\"\",\"\",(J66/LARGE($J$5:$J$100,2)*(5/(INDEX(RRFs!E:E,MATCH(\"Triglyme\",RRFs!B:B,FALSE))))))","v":""},null,"","",{"$f":"IF(N66=\"\",\"\",(N66/(INDEX(INDIRECT(\"'\"&LEFT($M$2,5)&\" Data'!F:F\"),MATCH(\"EGDE\",INDIRECT(\"'\"&LEFT($M$2,5)&\" Data\"&\"'!G:G\"),FALSE))))*(INDEX('CSV Prep'!E:E,MATCH(\"EGDE \"&LEFT($M$2,5),'CSV Prep'!B:B,FALSE))/(INDEX(RRFs!E:E,MATCH(\"Triglyme\",RRFs!B:B,FALSE)))))","v":""},null,null,null,"After MeP",{"$f":"IF(Q66=\"\",\"\",IF(OR(S66=\"Solvent\",S66=\"After MeP\"),0,IF(S66=\"\",INDEX(RRFs!E:E,MATCH(\"Triglyme\",RRFs!B:B,FALSE)),INDEX(RRFs!E:E,MATCH(S66,RRFs!B:B,FALSE)))))","v":""},"","","",null,null,null,null,"After MeP",{"$f":"IF(Z66=\"\",\"\",IF(OR(AB66=\"Solvent\",AB66=\"After MeP\"),0,IF(AB66=\"\",INDEX(RRFs!E:E,MATCH(\"Triglyme\",RRFs!B:B,FALSE)),INDEX(RRFs!E:E,MATCH(AB66,RRFs!B:B,FALSE)))))","v":""},"","",""]
[null,null,null,null,null,null,null,67,null,null,{"$f":"IF(J67=\"\",\"\",(J67/LARGE($J$5:$J$100,2)*(5/(INDEX(RRFs!E:E,MATCH(\"Triglyme\",RRFs!B:B,FALSE))))))","v":""},null,"","",{"$f":"IF(N67=\"\",\"\",(N67/(INDEX(INDIRECT(\"'\"&LEFT($M$2,5)&\" Data'!F:F\"),MATCH(\"EGDE\",INDIRECT(\"'\"&LEFT($M$2,5)&\" Data\"&\"'!G:G\"),FALSE))))*(INDEX('CSV Prep'!E:E,MATCH(\"EGDE \"&LEFT($M$2,5),'CSV Prep'!B:B,FALSE))/(INDEX(RRFs!E:E,MATCH(\"Triglyme\",RRFs!B:B,FALSE)))))","v":""},null,null,null,"After MeP",{"$f":"IF(Q67=\"\",\"\",IF(OR(S67=\"Solvent\",S67=\"After MeP\"),0,IF(S67=\"\",INDEX(RRFs!E:E,MATCH(\"Triglyme\",RRFs!B:B,FALSE)),INDEX(RRFs!E:E,MATCH(S67,RRFs!B:B,FALSE)))))","v":""},"","","",null,null,null,null,"After MeP",{"$f":"IF(Z67=\"\",\"\",IF(OR(AB67=\"Solvent\",AB67=\"After MeP\"),0,IF(AB67=\"\",INDEX(RRFs!E:E,MATCH(\"Triglyme\",RRFs!B:B,FALSE)),INDEX(RRFs!E:E,MATCH(AB67,RRFs!B:B,FALSE)))))","v":""},"","",""]
[null,null,null,null,null,null,null,68,null,null,{"$f":"IF(J68=\"\",\"\",(J68/LARGE($J$5:$J$100,2)*(5/(INDEX(RRFs!E:E,MATCH(\"Triglyme\",RRFs!B:B,FALSE))))))","v":""},null,"","",{"$f":"IF(N68=\"\",\"\",(N68/(INDEX(INDIRECT(\"'\"&LEFT($M$2,5)&\" Data'!F:F\"),MATCH(\"EGDE\",INDIRECT(\"'\"&LEFT($M$2,5)&\" Data\"&\"'!G:G\"),FALSE))))*(INDEX('CSV Prep'!E:E,MATCH(\"EGDE \"&LEFT($M$2,5),'CSV Prep'!B:B,FALSE))/(INDEX(RRFs!E:E,MATCH(\"Triglyme\",RRFs!B:B,FALSE)))))","v":""},null,null,null,"After MeP",{"$f":"IF(Q68=\"\",\"\",IF(OR(S68=\"Solvent\",S68=\"After MeP\"),0,IF(S68=\"\",INDEX(RRFs!E:E,MATCH(\"Triglyme\",RRFs!B:B,FALSE)),INDEX(RRFs!E:E,MATCH(S68,RRFs!B:B,FALSE)))))","v":""},"","","",null,null,null,null,"After MeP",{"$f":"IF(Z68=\"\",\"\",IF(OR(AB68=\"Solvent\",AB68=\"After MeP\"),0,IF(AB68=\"\",INDEX(RRFs!E:E,MATCH(\"Triglyme\",RRFs!B:B,FALSE)),INDEX(RRFs!E:E,MATCH(AB68,RRFs!B:B,FALSE)))))","v":""},"","",""]
[null,null,null,null,null,null,null,69,null,null,{"$f":"IF(J69=\"\",\"\",(J69/LARGE($J$5:$J$100,2)*(5/(INDEX(RRFs!E:E,MATCH(\"Triglyme\",RRFs!B:B,FALSE))))))","v":""},null,"","",{"$f":"IF(N69=\"\",\"\",(N69/(INDEX(INDIRECT(\"'\"&LEFT($M$2,5)&\" Data'!F:F\"),MATCH(\"EGDE\",INDIRECT(\"'\"&LEFT($M$2,5)&\" Data\"&\"'!G:G\"),FALSE))))*(INDEX('CSV Prep'!E:E,MATCH(\"EGDE \"&LEFT($M$2,5),'CSV Prep'!B:B,FALSE))/(INDEX(RRFs!E:E,MATCH(\"Triglyme\",RRFs!B:B,FALSE)))))","v":""},null,null,null,{"$f":"IF(Q69>=$E$41,\"After MeP\",\"\")","v":"After MeP"},{"$f":"IF(Q69=\"\",\"\",IF(OR(S69=\"Solvent\",S69=\"After MeP\"),0,IF(S69=\"\",INDEX(RRFs!E:E,MATCH(\"Triglyme\",RRFs!B:B,FALSE)),INDEX(RRFs!E:E,MATCH(S69,RRFs!B:B,FALSE)))))","v":""},{"$f":"IF(Q69=\"\",\"\",IF(T69=0,0,IF(S69=\"EGDE\",R69/T69,R69/INDEX(R:R,MATCH(\"EGDE\",S:S,FALSE)) *INDEX($F$29:$F$38,MATCH(\"EGDE\",$C$29:$C$38,FALSE))/T69)))","v":""},"","",null,null,null,null,{"$f":"IF(Z69>=$E$41,\"After MeP\",\"\")","v":"After MeP"},{"$f":"IF(Z69=\"\",\"\",IF(OR(AB69=\"Solvent\",AB69=\"After MeP\"),0,IF(AB69=\"\",INDEX(RRFs!E:E,MATCH(\"Triglyme\",RRFs!B:B,FALSE)),INDEX(RRFs!E:E,MATCH(AB69,RRFs!B:B,FALSE)))))","v":""},{"$f":"IF(Z69=\"\",\"\",IF(AC69=0,0,IF(AB69=\"EGDE\",AA69/AC69,AA69/INDEX(AA:AA,MATCH(\"EGDE\",AB:AB,FALSE)) *INDEX($F$29:$F$38,MATCH(\"EGDE\",$C$29:$C$38,FALSE))/AC69)))","v":""},"",""]
[null,null,null,null,null,null,null,70,null,null,{"$f":"IF(J70=\"\",\"\",(J70/LARGE($J$5:$J$100,2)*(5/(INDEX(RRFs!E:E,MATCH(\"Triglyme\",RRFs!B:B,FALSE))))))","v":""},null,{"$f":"IF(INDEX(INDIRECT(\"'\"&SUBSTITUTE($M$2,RIGHT($M$2,1),\"\")&\"Data\"&\"'!2:100\"),H70,MATCH($M$2,INDIRECT(\"'\"&SUBSTITUTE($M$2,RIGHT($M$2,1),\"\")&\"Data\"&\"'!2:2\"),FALSE)-1)=0,\"\",INDEX(INDIRECT(\"'\"&SUBSTITUTE($M$2,RIGHT($M$2,1),\"\")&\"Data\"&\"'!2:100\"),H70,MATCH($M$2,INDIRECT(\"'\"&SUBSTITUTE($M$2,RIGHT($M$2,1),\"\")&\"Data\"&\"'!2:2\"),FALSE)-1))","v":""},{"$f":"IF(INDEX(INDIRECT(\"'\"&SUBSTITUTE($M$2,RIGHT($M$2,1),\"\")&\"Data\"&\"'!2:100\"),H70,MATCH($M$2,INDIRECT(\"'\"&SUBSTITUTE($M$2,RIGHT($M$2,1),\"\")&\"Data\"&\"'!2:2\"),FALSE))=0,\"\",INDEX(INDIRECT(\"'\"&SUBSTITUTE($M$2,RIGHT($M$2,1),\"\")&\"Data\"&\"'!2:100\"),H70,MATCH($M$2,INDIRECT(\"'\"&SUBSTITUTE($M$2,RIGHT($M$2,1),\"\")&\"Data\"&\"'!2:2\"),FALSE)))","v":""},{"$f":"IF(N70=\"\",\"\",(N70/(INDEX(INDIRECT(\"'\"&LEFT($M$2,5)&\" Data'!F:F\"),MATCH(\"EGDE\",INDIRECT(\"'\"&LEFT($M$2,5)&\" Data\"&\"'!G:G\"),FALSE))))*(INDEX('CSV Prep'!E:E,MATCH(\"EGDE \"&LEFT($M$2,5),'CSV Prep'!B:B,FALSE))/(INDEX(RRFs!E:E,MATCH(\"Triglyme\",RRFs!B:B,FALSE)))))","v":""},null,null,null,"After MeP",{"$f":"IF(Q70=\"\",\"\",IF(OR(S70=\"Solvent\",S70=\"After MeP\"),0,IF(S70=\"\",INDEX(RRFs!E:E,MATCH(\"Triglyme\",RRFs!B:B,FALSE)),INDEX(RRFs!E:E,MATCH(S70,RRFs!B:B,FALSE)))))","v":""},"",{"$f":"IF(Q70=\"\",\"\",IF(OR(S70=\"Heptane\",S70=\"IPA\",S70=\"Triglyme\",S70=\"DIIBA\",S70=\"EGDE\"),\"\",U70*($D$26/(LARGE($F$16:$F$21,1)*($E$32-$E$31)))*$D$4))","v":""},{"$f":"IF(V70=\"\",\"\",IF(AND(V70>1,S70=\"\"),\"Yes\",\"\"))","v":""},null,null,null,null,"After MeP",{"$f":"IF(Z70=\"\",\"\",IF(OR(AB70=\"Solvent\",AB70=\"After MeP\"),0,IF(AB70=\"\",INDEX(RRFs!E:E,MATCH(\"Triglyme\",RRFs!B:B,FALSE)),INDEX(RRFs!E:E,MATCH(AB70,RRFs!B:B,FALSE)))))","v":""},"",{"$f":"IF(Z70=\"\",\"\",IF(OR(AB70=\"Heptane\",AB70=\"IPA\",AB70=\"Triglyme\",AB70=\"DIIBA\",AB70=\"EGDE\"),\"\",AD70*($D$26/((LARGE($F$16:$F$21,1)*($E$32-$E$31)))*$D$4)))","v":""},{"$f":"IF(AE70=\"\",\"\",IF(AND(AE70>1,AB70=\"\"),\"Yes\",\"\"))","v":""}]
[null,null,null,null,null,null,null,{"$f":"H70+1","v":71},null,null,{"$f":"IF(J71=\"\",\"\",(J71/LARGE($J$5:$J$100,2)*(5/(INDEX(RRFs!E:E,MATCH(\"Triglyme\",RRFs!B:B,FALSE))))))","v":""},null,"","",{"$f":"IF(N71=\"\",\"\",(N71/(INDEX(INDIRECT(\"'\"&LEFT($M$2,5)&\" Data'!F:F\"),MATCH(\"EGDE\",INDIRECT(\"'\"&LEFT($M$2,5)&\" Data\"&\"'!G:G\"),FALSE))))*(INDEX('CSV Prep'!E:E,MATCH(\"EGDE \"&LEFT($M$2,5),'CSV Prep'!B:B,FALSE))/(INDEX(RRFs!E:E,MATCH(\"Triglyme\",RRFs!B:B,FALSE)))))","v":""},null,null,null,"After MeP",{"$f":"IF(Q71=\"\",\"\",IF(OR(S71=\"Solvent\",S71=\"After MeP\"),0,IF(S71=\"\",INDEX(RRFs!E:E,MATCH(\"Triglyme\",RRFs!B:B,FALSE)),INDEX(RRFs!E:E,MATCH(S71,RRFs!B:B,FALSE)))))","v":""},"","","",null,null,null,null,"After MeP",{"$f":"IF(Z71=\"\",\"\",IF(OR(AB71=\"Solvent\",AB71=\"After MeP\"),0,IF(AB71=\"\",INDEX(RRFs!E:E,MATCH(\"Triglyme\",RRFs!B:B,FALSE)),INDEX(RRFs!E:E,MATCH(AB71,RRFs!B:B,FALSE)))))","v":""},"","",""]
[null,null,null,null,null,null,null,72,null,null,{"$f":"IF(J72=\"\",\"\",(J72/LARGE($J$5:$J$100,2)*(5/(INDEX(RRFs!E:E,MATCH(\"Triglyme\",RRFs!B:B,FALSE))))))","v":""},null,"","",{"$f":"IF(N72=\"\",\"\",(N72/(INDEX(INDIRECT(\"'\"&LEFT($M$2,5)&\" Data'!F:F\"),MATCH(\"EGDE\",INDIRECT(\"'\"&LEFT($M$2,5)&\" Data\"&\"'!G:G\"),FALSE))))*(INDEX('CSV Prep'!E:E,MATCH(\"EGDE \"&LEFT($M$2,5),'CSV Prep'!B:B,FALSE))/(INDEX(RRFs!E:E,MATCH(\"Triglyme\",RRFs!B:B,FALSE)))))","v":""},null,null,null,"After MeP",{"$f":"IF(Q72=\"\",\"\",IF(OR(S72=\"Solvent\",S72=\"After MeP\"),0,IF(S72=\"\",INDEX(RRFs!E:E,MATCH(\"Triglyme\",RRFs!B:B,FALSE)),INDEX(RRFs!E:E,MATCH(S72,RRFs!B:B,FALSE)))))","v":""},"","","",null,null,null,null,"After MeP",{"$f":"IF(Z72=\"\",\"\",IF(OR(AB72=\"Solvent\",AB72=\"After MeP\"),0,IF(AB72=\"\",INDEX(RRFs!E:E,MATCH(\"Triglyme\",RRFs!B:B,FALSE)),INDEX(RRFs!E:E,MATCH(AB72,RRFs!B:B,FALSE)))))","v":""},"","",""]
[null,null,null,null,null,null,null,73,null,null,{"$f":"IF(J73=\"\",\"\",(J73/LARGE($J$5:$J$100,2)*(5/(INDEX(RRFs!E:E,MATCH(\"Triglyme\",RRFs!B:B,FALSE))))))","v":""},null,"","",{"$f":"IF(N73=\"\",\"\",(N73/(INDEX(INDIRECT(\"'\"&LEFT($M$2,5)&\" Data'!F:F\"),MATCH(\"EGDE\",INDIRECT(\"'\"&LEFT($M$2,5)&\" Data\"&\"'!G:G\"),FALSE))))*(INDEX('CSV Prep'!E:E,MATCH(\"EGDE \"&LEFT($M$2,5),'CSV Prep'!B:B,FALSE))/(INDEX(RRFs!E:E,MATCH(\"Triglyme\",RRFs!B:B,FALSE)))))","v":""},null,null,null,"After MeP",{"$f":"IF(Q73=\"\",\"\",IF(OR(S73=\"Solvent\",S73=\"After MeP\"),0,IF(S73=\"\",INDEX(RRFs!E:E,MATCH(\"Triglyme\",RRFs!B:B,FALSE)),INDEX(RRFs!E:E,MATCH(S73,RRFs!B:B,FALSE)))))","v":""},"","","",null,null,null,null,"After MeP",{"$f":"IF(Z73=\"\",\"\",IF(OR(AB73=\"Solvent\",AB73=\"After MeP\"),0,IF(AB73=\"\",INDEX(RRFs!E:E,MATCH(\"Triglyme\",RRFs!B:B,FALSE)),INDEX(RRFs!E:E,MATCH(AB73,RRFs!B:B,FALSE)))))","v":""},"","",""]
[null,null,null,null,null,null,null,74,null,null,{"$f":"IF(J74=\"\",\"\",(J74/LARGE($J$5:$J$100,2)*(5/(INDEX(RRFs!E:E,MATCH(\"Triglyme\",RRFs!B:B,FALSE))))))","v":""},null,"","",{"$f":"IF(N74=\"\",\"\",(N74/(INDEX(INDIRECT(\"'\"&LEFT($M$2,5)&\" Data'!F:F\"),MATCH(\"EGDE\",INDIRECT(\"'\"&LEFT($M$2,5)&\" Data\"&\"'!G:G\"),FALSE))))*(INDEX('CSV Prep'!E:E,MATCH(\"EGDE \"&LEFT($M$2,5),'CSV Prep'!B:B,FALSE))/(INDEX(RRFs!E:E,MATCH(\"Triglyme\",RRFs!B:B,FALSE)))))","v":""},null,null,null,"After MeP",{"$f":"IF(Q74=\"\",\"\",IF(OR(S74=\"Solvent\",S74=\"After MeP\"),0,IF(S74=\"\",INDEX(RRFs!E:E,MATCH(\"Triglyme\",RRFs!B:B,FALSE)),INDEX(RRFs!E:E,MATCH(S74,RRFs!B:B,FALSE)))))","v":""},"","","",null,null,null,null,"After MeP",{"$f":"IF(Z74=\"\",\"\",IF(OR(AB74=\"Solvent\",AB74=\"After MeP\"),0,IF(AB74=\"\",INDEX(RRFs!E:E,MATCH(\"Triglyme\",RRFs!B:B,FALSE)),INDEX(RRFs!E:E,MATCH(AB74,RRFs!B:B,FALSE)))))","v":""},"","",""]
[null,null,null,null,null,null,null,75,null,null,{"$f":"IF(J75=\"\",\"\",(J75/LARGE($J$5:$J$100,2)*(5/(INDEX(RRFs!E:E,MATCH(\"Triglyme\",RRFs!B:B,FALSE))))))","v":""},null,"","",{"$f":"IF(N75=\"\",\"\",(N75/(INDEX(INDIRECT(\"'\"&LEFT($M$2,5)&\" Data'!F:F\"),MATCH(\"EGDE\",INDIRECT(\"'\"&LEFT($M$2,5)&\" Data\"&\"'!G:G\"),FALSE))))*(INDEX('CSV Prep'!E:E,MATCH(\"EGDE \"&LEFT($M$2,5),'CSV Prep'!B:B,FALSE))/(INDEX(RRFs!E:E,MATCH(\"Triglyme\",RRFs!B:B,FALSE)))))","v":""},null,null,null,"After MeP",{"$f":"IF(Q75=\"\",\"\",IF(OR(S75=\"Solvent\",S75=\"After MeP\"),0,IF(S75=\"\",INDEX(RRFs!E:E,MATCH(\"Triglyme\",RRFs!B:B,FALSE)),INDEX(RRFs!E:E,MATCH(S75,RRFs!B:B,FALSE)))))","v":""},"","","",null,null,null,null,"After MeP",{"$f":"IF(Z75=\"\",\"\",IF(OR(AB75=\"Solvent\",AB75=\"After MeP\"),0,IF(AB75=\"\",INDEX(RRFs!E:E,MATCH(\"Triglyme\",RRFs!B:B,FALSE)),INDEX(RRFs!E:E,MATCH(AB75,RRFs!B:B,FALSE)))))","v":""},"","",""]
[null,null,null,null,null,null,null,76,null,null,{"$f":"IF(J76=\"\",\"\",(J76/LARGE($J$5:$J$100,2)*(5/(INDEX(RRFs!E:E,MATCH(\"Triglyme\",RRFs!B:B,FALSE))))))","v":""},null,"","",{"$f":"IF(N76=\"\",\"\",(N76/(INDEX(INDIRECT(\"'\"&LEFT($M$2,5)&\" Data'!F:F\"),MATCH(\"EGDE\",INDIRECT(\"'\"&LEFT($M$2,5)&\" Data\"&\"'!G:G\"),FALSE))))*(INDEX('CSV Prep'!E:E,MATCH(\"EGDE \"&LEFT($M$2,5),'CSV Prep'!B:B,FALSE))/(INDEX(RRFs!E:E,MATCH(\"Triglyme\",RRFs!B:B,FALSE)))))","v":""},null,null,null,"After MeP",{"$f":"IF(Q76=\"\",\"\",IF(OR(S76=\"Solvent\",S76=\"After MeP\"),0,IF(S76=\"\",INDEX(RRFs!E:E,MATCH(\"Triglyme\",RRFs!B:B,FALSE)),INDEX(RRFs!E:E,MATCH(S76,RRFs!B:B,FALSE)))))","v":""},"","","",null,null,null,null,"After MeP",{"$f":"IF(Z76=\"\",\"\",IF(OR(AB76=\"Solvent\",AB76=\"After MeP\"),0,IF(AB76=\"\",INDEX(RRFs!E:E,MATCH(\"Triglyme\",RRFs!B:B,FALSE)),INDEX(RRFs!E:E,MATCH(AB76,RRFs!B:B,FALSE)))))","v":""},"","",""]
[null,null,null,null,null,null,null,77,null,null,{"$f":"IF(J77=\"\",\"\",(J77/LARGE($J$5:$J$100,2)*(5/(INDEX(RRFs!E:E,MATCH(\"Triglyme\",RRFs!B:B,FALSE))))))","v":""},null,"","",{"$f":"IF(N77=\"\",\"\",(N77/(INDEX(INDIRECT(\"'\"&LEFT($M$2,5)&\" Data'!F:F\"),MATCH(\"EGDE\",INDIRECT(\"'\"&LEFT($M$2,5)&\" Data\"&\"'!G:G\"),FALSE))))*(INDEX('CSV Prep'!E:E,MATCH(\"EGDE \"&LEFT($M$2,5),'CSV Prep'!B:B,FALSE))/(INDEX(RRFs!E:E,MATCH(\"Triglyme\",RRFs!B:B,FALSE)))))","v":""},null,null,null,"After MeP",{"$f":"IF(Q77=\"\",\"\",IF(OR(S77=\"Solvent\",S77=\"After MeP\"),0,IF(S77=\"\",INDEX(RRFs!E:E,MATCH(\"Triglyme\",RRFs!B:B,FALSE)),INDEX(RRFs!E:E,MATCH(S77,RRFs!B:B,FALSE)))))","v":""},"","","",null,null,null,null,"After MeP",{"$f":"IF(Z77=\"\",\"\",IF(OR(AB77=\"Solvent\",AB77=\"After MeP\"),0,IF(AB77=\"\",INDEX(RRFs!E:E,MATCH(\"Triglyme\",RRFs!B:B,FALSE)),INDEX(RRFs!E:E,MATCH(AB77,RRFs!B:B,FALSE)))))","v":""},"","",""]
[null,null,null,null,null,null,null,78,null,null,{"$f":"IF(J78=\"\",\"\",(J78/LARGE($J$5:$J$100,2)*(5/(INDEX(RRFs!E:E,MATCH(\"Triglyme\",RRFs!B:B,FALSE))))))","v":""},null,"","",{"$f":"IF(N78=\"\",\"\",(N78/(INDEX(INDIRECT(\"'\"&LEFT($M$2,5)&\" Data'!F:F\"),MATCH(\"EGDE\",INDIRECT(\"'\"&LEFT($M$2,5)&\" Data\"&\"'!G:G\"),FALSE))))*(INDEX('CSV Prep'!E:E,MATCH(\"EGDE \"&LEFT($M$2,5),'CSV Prep'!B:B,FALSE))/(INDEX(RRFs!E:E,MATCH(\"Triglyme\",RRFs!B:B,FALSE)))))","v":""},null,null,null,"After MeP",{"$f":"IF(Q78=\"\",\"\",IF(OR(S78=\"Solvent\",S78=\"After MeP\"),0,IF(S78=\"\",INDEX(RRFs!E:E,MATCH(\"Triglyme\",RRFs!B:B,FALSE)),INDEX(RRFs!E:E,MATCH(S78,RRFs!B:B,FALSE)))))","v":""},"","","",null,null,null,null,"After MeP",{"$f":"IF(Z78=\"\",\"\",IF(OR(AB78=\"Solvent\",AB78=\"After MeP\"),0,IF(AB78=\"\",INDEX(RRFs!E:E,MATCH(\"Triglyme\",RRFs!B:B,FALSE)),INDEX(RRFs!E:E,MATCH(AB78,RRFs!B:B,FALSE)))))","v":""},"","",""]
[null,null,null,null,null,null,null,79,null,null,{"$f":"IF(J79=\"\",\"\",(J79/LARGE($J$5:$J$100,2)*(5/(INDEX(RRFs!E:E,MATCH(\"Triglyme\",RRFs!B:B,FALSE))))))","v":""},null,"","",{"$f":"IF(N79=\"\",\"\",(N79/(INDEX(INDIRECT(\"'\"&LEFT($M$2,5)&\" Data'!F:F\"),MATCH(\"EGDE\",INDIRECT(\"'\"&LEFT($M$2,5)&\" Data\"&\"'!G:G\"),FALSE))))*(INDEX('CSV Prep'!E:E,MATCH(\"EGDE \"&LEFT($M$2,5),'CSV Prep'!B:B,FALSE))/(INDEX(RRFs!E:E,MATCH(\"Triglyme\",RRFs!B:B,FALSE)))))","v":""},null,null,null,"After MeP",{"$f":"IF(Q79=\"\",\"\",IF(OR(S79=\"Solvent\",S79=\"After MeP\"),0,IF(S79=\"\",INDEX(RRFs!E:E,MATCH(\"Triglyme\",RRFs!B:B,FALSE)),INDEX(RRFs!E:E,MATCH(S79,RRFs!B:B,FALSE)))))","v":""},"","","",null,null,null,null,"After MeP",{"$f":"IF(Z79=\"\",\"\",IF(OR(AB79=\"Solvent\",AB79=\"After MeP\"),0,IF(AB79=\"\",INDEX(RRFs!E:E,MATCH(\"Triglyme\",RRFs!B:B,FALSE)),INDEX(RRFs!E:E,MATCH(AB79,RRFs!B:B,FALSE)))))","v":""},"","",""]
[null,null,null,null,null,null,null,80,null,null,{"$f":"IF(J80=\"\",\"\",(J80/LARGE($J$5:$J$100,2)*(5/(INDEX(RRFs!E:E,MATCH(\"Triglyme\",RRFs!B:B,FALSE))))))","v":""},null,"","",{"$f":"IF(N80=\"\",\"\",(N80/(INDEX(INDIRECT(\"'\"&LEFT($M$2,5)&\" Data'!F:F\"),MATCH(\"EGDE\",INDIRECT(\"'\"&LEFT($M$2,5)&\" Data\"&\"'!G:G\"),FALSE))))*(INDEX('CSV Prep'!E:E,MATCH(\"EGDE \"&LEFT($M$2,5),'CSV Prep'!B:B,FALSE))/(INDEX(RRFs!E:E,MATCH(\"Triglyme\",RRFs!B:B,FALSE)))))","v":""},null,null,null,"After MeP",{"$f":"IF(Q80=\"\",\"\",IF(OR(S80=\"Solvent\",S80=\"After MeP\"),0,IF(S80=\"\",INDEX(RRFs!E:E,MATCH(\"Triglyme\",RRFs!B:B,FALSE)),INDEX(RRFs!E:E,MATCH(S80,RRFs!B:B,FALSE)))))","v":""},"","","",null,null,null,null,"After MeP",{"$f":"IF(Z80=\"\",\"\",IF(OR(AB80=\"Solvent\",AB80=\"After MeP\"),0,IF(AB80=\"\",INDEX(RRFs!E:E,MATCH(\"Triglyme\",RRFs!B:B,FALSE)),INDEX(RRFs!E:E,MATCH(AB80,RRFs!B:B,FALSE)))))","v":""},"","",""]
[null,null,null,null,null,null,null,81,null,null,{"$f":"IF(J81=\"\",\"\",(J81/LARGE($J$5:$J$100,2)*(5/(INDEX(RRFs!E:E,MATCH(\"Triglyme\",RRFs!B:B,FALSE))))))","v":""},null,"","",{"$f":"IF(N81=\"\",\"\",(N81/(INDEX(INDIRECT(\"'\"&LEFT($M$2,5)&\" Data'!F:F\"),MATCH(\"EGDE\",INDIRECT(\"'\"&LEFT($M$2,5)&\" Data\"&\"'!G:G\"),FALSE))))*(INDEX('CSV Prep'!E:E,MATCH(\"EGDE \"&LEFT($M$2,5),'CSV Prep'!B:B,FALSE))/(INDEX(RRFs!E:E,MATCH(\"Triglyme\",RRFs!B:B,FALSE)))))","v":""},null,null,null,"After MeP",{"$f":"IF(Q81=\"\",\"\",IF(OR(S81=\"Solvent\",S81=\"After MeP\"),0,IF(S81=\"\",INDEX(RRFs!E:E,MATCH(\"Triglyme\",RRFs!B:B,FALSE)),INDEX(RRFs!E:E,MATCH(S81,RRFs!B:B,FALSE)))))","v":""},"","","",null,null,null,null,"After MeP",{"$f":"IF(Z81=\"\",\"\",IF(OR(AB81=\"Solvent\",AB81=\"After MeP\"),0,IF(AB81=\"\",INDEX(RRFs!E:E,MATCH(\"Triglyme\",RRFs!B:B,FALSE)),INDEX(RRFs!E:E,MATCH(AB81,RRFs!B:B,FALSE)))))","v":""},"","",""]
[null,null,null,null,null,null,null,82,null,null,{"$f":"IF(J82=\"\",\"\",(J82/LARGE($J$5:$J$100,2)*(5/(INDEX(RRFs!E:E,MATCH(\"Triglyme\",RRFs!B:B,FALSE))))))","v":""},null,"","",{"$f":"IF(N82=\"\",\"\",(N82/(INDEX(INDIRECT(\"'\"&LEFT($M$2,5)&\" Data'!F:F\"),MATCH(\"EGDE\",INDIRECT(\"'\"&LEFT($M$2,5)&\" Data\"&\"'!G:G\"),FALSE))))*(INDEX('CSV Prep'!E:E,MATCH(\"EGDE \"&LEFT($M$2,5),'CSV Prep'!B:B,FALSE))/(INDEX(RRFs!E:E,MATCH(\"Triglyme\",RRFs!B:B,FALSE)))))","v":""},null,null,null,"After MeP",{"$f":"IF(Q82=\"\",\"\",IF(OR(S82=\"Solvent\",S82=\"After MeP\"),0,IF(S82=\"\",INDEX(RRFs!E:E,MATCH(\"Triglyme\",RRFs!B:B,FALSE)),INDEX(RRFs!E:E,MATCH(S82,RRFs!B:B,FALSE)))))","v":""},"","","",null,null,null,null,"After MeP",{"$f":"IF(Z82=\"\",\"\",IF(OR(AB82=\"Solvent\",AB82=\"After MeP\"),0,IF(AB82=\"\",INDEX(RRFs!E:E,MATCH(\"Triglyme\",RRFs!B:B,FALSE)),INDEX(RRFs!E:E,MATCH(AB82,RRFs!B:B,FALSE)))))","v":""},"","",""]
[null,null,null,null,null,null,null,83,null,null,{"$f":"IF(J83=\"\",\"\",(J83/LARGE($J$5:$J$100,2)*(5/(INDEX(RRFs!E:E,MATCH(\"Triglyme\",RRFs!B:B,FALSE))))))","v":""},null,"","",{"$f":"IF(N83=\"\",\"\",(N83/(INDEX(INDIRECT(\"'\"&LEFT($M$2,5)&\" Data'!F:F\"),MATCH(\"EGDE\",INDIRECT(\"'\"&LEFT($M$2,5)&\" Data\"&\"'!G:G\"),FALSE))))*(INDEX('CSV Prep'!E:E,MATCH(\"EGDE \"&LEFT($M$2,5),'CSV Prep'!B:B,FALSE))/(INDEX(RRFs!E:E,MATCH(\"Triglyme\",RRFs!B:B,FALSE)))))","v":""},null,null,null,"After MeP",{"$f":"IF(Q83=\"\",\"\",IF(OR(S83=\"Solvent\",S83=\"After MeP\"),0,IF(S83=\"\",INDEX(RRFs!E:E,MATCH(\"Triglyme\",RRFs!B:B,FALSE)),INDEX(RRFs!E:E,MATCH(S83,RRFs!B:B,FALSE)))))","v":""},"","","",null,null,null,null,"After MeP",{"$f":"IF(Z83=\"\",\"\",IF(OR(AB83=\"Solvent\",AB83=\"After MeP\"),0,IF(AB83=\"\",INDEX(RRFs!E:E,MATCH(\"Triglyme\",RRFs!B:B,FALSE)),INDEX(RRFs!E:E,MATCH(AB83,RRFs!B:B,FALSE)))))","v":""},"","",""]
[null,null,null,null,null,null,null,84,null,null,{"$f":"IF(J84=\"\",\"\",(J84/LARGE($J$5:$J$100,2)*(5/(INDEX(RRFs!E:E,MATCH(\"Triglyme\",RRFs!B:B,FALSE))))))","v":""},null,"","",{"$f":"IF(N84=\"\",\"\",(N84/(INDEX(INDIRECT(\"'\"&LEFT($M$2,5)&\" Data'!F:F\"),MATCH(\"EGDE\",INDIRECT(\"'\"&LEFT($M$2,5)&\" Data\"&\"'!G:G\"),FALSE))))*(INDEX('CSV Prep'!E:E,MATCH(\"EGDE \"&LEFT($M$2,5),'CSV Prep'!B:B,FALSE))/(INDEX(RRFs!E:E,MATCH(\"Triglyme\",RRFs!B:B,FALSE)))))","v":""},null,null,null,"After MeP",{"$f":"IF(Q84=\"\",\"\",IF(OR(S84=\"Solvent\",S84=\"After MeP\"),0,IF(S84=\"\",INDEX(RRFs!E:E,MATCH(\"Triglyme\",RRFs!B:B,FALSE)),INDEX(RRFs!E:E,MATCH(S84,RRFs!B:B,FALSE)))))","v":""},"","","",null,null,null,null,"After MeP",{"$f":"IF(Z84=\"\",\"\",IF(OR(AB84=\"Solvent\",AB84=\"After MeP\"),0,IF(AB84=\"\",INDEX(RRFs!E:E,MATCH(\"Triglyme\",RRFs!B:B,FALSE)),INDEX(RRFs!E:E,MATCH(AB84,RRFs!B:B,FALSE)))))","v":""},"","",""]
[null,null,null,null,null,null,null,85,null,null,{"$f":"IF(J85=\"\",\"\",(J85/LARGE($J$5:$J$100,2)*(5/(INDEX(RRFs!E:E,MATCH(\"Triglyme\",RRFs!B:B,FALSE))))))","v":""},null,"","",{"$f":"IF(N85=\"\",\"\",(N85/(INDEX(INDIRECT(\"'\"&LEFT($M$2,5)&\" Data'!F:F\"),MATCH(\"EGDE\",INDIRECT(\"'\"&LEFT($M$2,5)&\" Data\"&\"'!G:G\"),FALSE))))*(INDEX('CSV Prep'!E:E,MATCH(\"EGDE \"&LEFT($M$2,5),'CSV Prep'!B:B,FALSE))/(INDEX(RRFs!E:E,MATCH(\"Triglyme\",RRFs!B:B,FALSE)))))","v":""},null,null,null,"After MeP",{"$f":"IF(Q85=\"\",\"\",IF(OR(S85=\"Solvent\",S85=\"After MeP\"),0,IF(S85=\"\",INDEX(RRFs!E:E,MATCH(\"Triglyme\",RRFs!B:B,FALSE)),INDEX(RRFs!E:E,MATCH(S85,RRFs!B:B,FALSE)))))","v":""},"","","",null,null,null,null,"After MeP",{"$f":"IF(Z85=\"\",\"\",IF(OR(AB85=\"Solvent\",AB85=\"After MeP\"),0,IF(AB85=\"\",INDEX(RRFs!E:E,MATCH(\"Triglyme\",RRFs!B:B,FALSE)),INDEX(RRFs!E:E,MATCH(AB85,RRFs!B:B,FALSE)))))","v":""},"","",""]
[null,null,null,null,null,null,null,86,null,null,{"$f":"IF(J86=\"\",\"\",(J86/LARGE($J$5:$J$100,2)*(5/(INDEX(RRFs!E:E,MATCH(\"Triglyme\",RRFs!B:B,FALSE))))))","v":""},null,"","",{"$f":"IF(N86=\"\",\"\",(N86/(INDEX(INDIRECT(\"'\"&LEFT($M$2,5)&\" Data'!F:F\"),MATCH(\"EGDE\",INDIRECT(\"'\"&LEFT($M$2,5)&\" Data\"&\"'!G:G\"),FALSE))))*(INDEX('CSV Prep'!E:E,MATCH(\"EGDE \"&LEFT($M$2,5),'CSV Prep'!B:B,FALSE))/(INDEX(RRFs!E:E,MATCH(\"Triglyme\",RRFs!B:B,FALSE)))))","v":""},null,null,null,"After MeP",{"$f":"IF(Q86=\"\",\"\",IF(OR(S86=\"Solvent\",S86=\"After MeP\"),0,IF(S86=\"\",INDEX(RRFs!E:E,MATCH(\"Triglyme\",RRFs!B:B,FALSE)),INDEX(RRFs!E:E,MATCH(S86,RRFs!B:B,FALSE)))))","v":""},"","","",null,null,null,null,"After MeP",{"$f":"IF(Z86=\"\",\"\",IF(OR(AB86=\"Solvent\",AB86=\"After MeP\"),0,IF(AB86=\"\",INDEX(RRFs!E:E,MATCH(\"Triglyme\",RRFs!B:B,FALSE)),INDEX(RRFs!E:E,MATCH(AB86,RRFs!B:B,FALSE)))))","v":""},"","",""]
[null,null,null,null,null,null,null,87,null,null,{"$f":"IF(J87=\"\",\"\",(J87/LARGE($J$5:$J$100,2)*(5/(INDEX(RRFs!E:E,MATCH(\"Triglyme\",RRFs!B:B,FALSE))))))","v":""},null,"","",{"$f":"IF(N87=\"\",\"\",(N87/(INDEX(INDIRECT(\"'\"&LEFT($M$2,5)&\" Data'!F:F\"),MATCH(\"EGDE\",INDIRECT(\"'\"&LEFT($M$2,5)&\" Data\"&\"'!G:G\"),FALSE))))*(INDEX('CSV Prep'!E:E,MATCH(\"EGDE \"&LEFT($M$2,5),'CSV Prep'!B:B,FALSE))/(INDEX(RRFs!E:E,MATCH(\"Triglyme\",RRFs!B:B,FALSE)))))","v":""},null,null,null,"After MeP",{"$f":"IF(Q87=\"\",\"\",IF(OR(S87=\"Solvent\",S87=\"After MeP\"),0,IF(S87=\"\",INDEX(RRFs!E:E,MATCH(\"Triglyme\",RRFs!B:B,FALSE)),INDEX(RRFs!E:E,MATCH(S87,RRFs!B:B,FALSE)))))","v":""},"","","",null,null,null,null,"After MeP",{"$f":"IF(Z87=\"\",\"\",IF(OR(AB87=\"Solvent\",AB87=\"After MeP\"),0,IF(AB87=\"\",INDEX(RRFs!E:E,MATCH(\"Triglyme\",RRFs!B:B,FALSE)),INDEX(RRFs!E:E,MATCH(AB87,RRFs!B:B,FALSE)))))","v":""},"","",""]
[null,null,null,null,null,null,null,88,null,null,{"$f":"IF(J88=\"\",\"\",(J88/LARGE($J$5:$J$100,2)*(5/(INDEX(RRFs!E:E,MATCH(\"Triglyme\",RRFs!B:B,FALSE))))))","v":""},null,"","",{"$f":"IF(N88=\"\",\"\",(N88/(INDEX(INDIRECT(\"'\"&LEFT($M$2,5)&\" Data'!F:F\"),MATCH(\"EGDE\",INDIRECT(\"'\"&LEFT($M$2,5)&\" Data\"&\"'!G:G\"),FALSE))))*(INDEX('CSV Prep'!E:E,MATCH(\"EGDE \"&LEFT($M$2,5),'CSV Prep'!B:B,FALSE))/(INDEX(RRFs!E:E,MATCH(\"Triglyme\",RRFs!B:B,FALSE)))))","v":""},null,null,null,"After MeP",{"$f":"IF(Q88=\"\",\"\",IF(OR(S88=\"Solvent\",S88=\"After MeP\"),0,IF(S88=\"\",INDEX(RRFs!E:E,MATCH(\"Triglyme\",RRFs!B:B,FALSE)),INDEX(RRFs!E:E,MATCH(S88,RRFs!B:B,FALSE)))))","v":""},"","","",null,null,null,null,"After MeP",{"$f":"IF(Z88=\"\",\"\",IF(OR(AB88=\"Solvent\",AB88=\"After MeP\"),0,IF(AB88=\"\",INDEX(RRFs!E:E,MATCH(\"Triglyme\",RRFs!B:B,FALSE)),INDEX(RRFs!E:E,MATCH(AB88,RRFs!B:B,FALSE)))))","v":""},"","",""]
[null,null,null,null,null,null,null,89,null,null,{"$f":"IF(J89=\"\",\"\",(J89/LARGE($J$5:$J$100,2)*(5/(INDEX(RRFs!E:E,MATCH(\"Triglyme\",RRFs!B:B,FALSE))))))","v":""},null,"","",{"$f":"IF(N89=\"\",\"\",(N89/(INDEX(INDIRECT(\"'\"&LEFT($M$2,5)&\" Data'!F:F\"),MATCH(\"EGDE\",INDIRECT(\"'\"&LEFT($M$2,5)&\" Data\"&\"'!G:G\"),FALSE))))*(INDEX('CSV Prep'!E:E,MATCH(\"EGDE \"&LEFT($M$2,5),'CSV Prep'!B:B,FALSE))/(INDEX(RRFs!E:E,MATCH(\"Triglyme\",RRFs!B:B,FALSE)))))","v":""},null,null,null,"After MeP",{"$f":"IF(Q89=\"\",\"\",IF(OR(S89=\"Solvent\",S89=\"After MeP\"),0,IF(S89=\"\",INDEX(RRFs!E:E,MATCH(\"Triglyme\",RRFs!B:B,FALSE)),INDEX(RRFs!E:E,MATCH(S89,RRFs!B:B,FALSE)))))","v":""},"","","",null,null,null,null,"After MeP",{"$f":"IF(Z89=\"\",\"\",IF(OR(AB89=\"Solvent\",AB89=\"After MeP\"),0,IF(AB89=\"\",INDEX(RRFs!E:E,MATCH(\"Triglyme\",RRFs!B:B,FALSE)),INDEX(RRFs!E:E,MATCH(AB89,RRFs!B:B,FALSE)))))","v":""},"","",""]
[null,null,null,null,null,null,null,90,null,null,{"$f":"IF(J90=\"\",\"\",(J90/LARGE($J$5:$J$100,2)*(5/(INDEX(RRFs!E:E,MATCH(\"Triglyme\",RRFs!B:B,FALSE))))))","v":""},null,"","",{"$f":"IF(N90=\"\",\"\",(N90/(INDEX(INDIRECT(\"'\"&LEFT($M$2,5)&\" Data'!F:F\"),MATCH(\"EGDE\",INDIRECT(\"'\"&LEFT($M$2,5)&\" Data\"&\"'!G:G\"),FALSE))))*(INDEX('CSV Prep'!E:E,MATCH(\"EGDE \"&LEFT($M$2,5),'CSV Prep'!B:B,FALSE))/(INDEX(RRFs!E:E,MATCH(\"Triglyme\",RRFs!B:B,FALSE)))))","v":""},null,null,null,"After MeP",{"$f":"IF(Q90=\"\",\"\",IF(OR(S90=\"Solvent\",S90=\"After MeP\"),0,IF(S90=\"\",INDEX(RRFs!E:E,MATCH(\"Triglyme\",RRFs!B:B,FALSE)),INDEX(RRFs!E:E,MATCH(S90,RRFs!B:B,FALSE)))))","v":""},"","","",null,null,null,null,"After MeP",{"$f":"IF(Z90=\"\",\"\",IF(OR(AB90=\"Solvent\",AB90=\"After MeP\"),0,IF(AB90=\"\",INDEX(RRFs!E:E,MATCH(\"Triglyme\",RRFs!B:B,FALSE)),INDEX(RRFs!E:E,MATCH(AB90,RRFs!B:B,FALSE)))))","v":""},"","",""]
[null,null,null,null,null,null,null,91,null,null,{"$f":"IF(J91=\"\",\"\",(J91/LARGE($J$5:$J$100,2)*(5/(INDEX(RRFs!E:E,MATCH(\"Triglyme\",RRFs!B:B,FALSE))))))","v":""},null,"","",{"$f":"IF(N91=\"\",\"\",(N91/(INDEX(INDIRECT(\"'\"&LEFT($M$2,5)&\" Data'!F:F\"),MATCH(\"EGDE\",INDIRECT(\"'\"&LEFT($M$2,5)&\" Data\"&\"'!G:G\"),FALSE))))*(INDEX('CSV Prep'!E:E,MATCH(\"EGDE \"&LEFT($M$2,5),'CSV Prep'!B:B,FALSE))/(INDEX(RRFs!E:E,MATCH(\"Triglyme\",RRFs!B:B,FALSE)))))","v":""},null,null,null,"After MeP",{"$f":"IF(Q91=\"\",\"\",IF(OR(S91=\"Solvent\",S91=\"After MeP\"),0,IF(S91=\"\",INDEX(RRFs!E:E,MATCH(\"Triglyme\",RRFs!B:B,FALSE)),INDEX(RRFs!E:E,MATCH(S91,RRFs!B:B,FALSE)))))","v":""},"","","",null,null,null,null,"After MeP",{"$f":"IF(Z91=\"\",\"\",IF(OR(AB91=\"Solvent\",AB91=\"After MeP\"),0,IF(AB91=\"\",INDEX(RRFs!E:E,MATCH(\"Triglyme\",RRFs!B:B,FALSE)),INDEX(RRFs!E:E,MATCH(AB91,RRFs!B:B,FALSE)))))","v":""},"","",""]
[null,null,null,null,null,null,null,92,null,null,{"$f":"IF(J92=\"\",\"\",(J92/LARGE($J$5:$J$100,2)*(5/(INDEX(RRFs!E:E,MATCH(\"Triglyme\",RRFs!B:B,FALSE))))))","v":""},null,"","",{"$f":"IF(N92=\"\",\"\",(N92/(INDEX(INDIRECT(\"'\"&LEFT($M$2,5)&\" Data'!F:F\"),MATCH(\"EGDE\",INDIRECT(\"'\"&LEFT($M$2,5)&\" Data\"&\"'!G:G\"),FALSE))))*(INDEX('CSV Prep'!E:E,MATCH(\"EGDE \"&LEFT($M$2,5),'CSV Prep'!B:B,FALSE))/(INDEX(RRFs!E:E,MATCH(\"Triglyme\",RRFs!B:B,FALSE)))))","v":""},null,null,null,"After MeP",{"$f":"IF(Q92=\"\",\"\",IF(OR(S92=\"Solvent\",S92=\"After MeP\"),0,IF(S92=\"\",INDEX(RRFs!E:E,MATCH(\"Triglyme\",RRFs!B:B,FALSE)),INDEX(RRFs!E:E,MATCH(S92,RRFs!B:B,FALSE)))))","v":""},"","","",null,null,null,null,"After MeP",{"$f":"IF(Z92=\"\",\"\",IF(OR(AB92=\"Solvent\",AB92=\"After MeP\"),0,IF(AB92=\"\",INDEX(RRFs!E:E,MATCH(\"Triglyme\",RRFs!B:B,FALSE)),INDEX(RRFs!E:E,MATCH(AB92,RRFs!B:B,FALSE)))))","v":""},"","",""]
[null,null,null,null,null,null,null,93,null,null,{"$f":"IF(J93=\"\",\"\",(J93/LARGE($J$5:$J$100,2)*(5/(INDEX(RRFs!E:E,MATCH(\"Triglyme\",RRFs!B:B,FALSE))))))","v":""},null,"","",{"$f":"IF(N93=\"\",\"\",(N93/(INDEX(INDIRECT(\"'\"&LEFT($M$2,5)&\" Data'!F:F\"),MATCH(\"EGDE\",INDIRECT(\"'\"&LEFT($M$2,5)&\" Data\"&\"'!G:G\"),FALSE))))*(INDEX('CSV Prep'!E:E,MATCH(\"EGDE \"&LEFT($M$2,5),'CSV Prep'!B:B,FALSE))/(INDEX(RRFs!E:E,MATCH(\"Triglyme\",RRFs!B:B,FALSE)))))","v":""},null,null,null,"After MeP",{"$f":"IF(Q93=\"\",\"\",IF(OR(S93=\"Solvent\",S93=\"After MeP\"),0,IF(S93=\"\",INDEX(RRFs!E:E,MATCH(\"Triglyme\",RRFs!B:B,FALSE)),INDEX(RRFs!E:E,MATCH(S93,RRFs!B:B,FALSE)))))","v":""},"","","",null,null,null,null,"After MeP",{"$f":"IF(Z93=\"\",\"\",IF(OR(AB93=\"Solvent\",AB93=\"After MeP\"),0,IF(AB93=\"\",INDEX(RRFs!E:E,MATCH(\"Triglyme\",RRFs!B:B,FALSE)),INDEX(RRFs!E:E,MATCH(AB93,RRFs!B:B,FALSE)))))","v":""},"","",""]
[null,null,null,null,null,null,null,94,null,null,{"$f":"IF(J94=\"\",\"\",(J94/LARGE($J$5:$J$100,2)*(5/(INDEX(RRFs!E:E,MATCH(\"Triglyme\",RRFs!B:B,FALSE))))))","v":""},null,"","",{"$f":"IF(N94=\"\",\"\",(N94/(INDEX(INDIRECT(\"'\"&LEFT($M$2,5)&\" Data'!F:F\"),MATCH(\"EGDE\",INDIRECT(\"'\"&LEFT($M$2,5)&\" Data\"&\"'!G:G\"),FALSE))))*(INDEX('CSV Prep'!E:E,MATCH(\"EGDE \"&LEFT($M$2,5),'CSV Prep'!B:B,FALSE))/(INDEX(RRFs!E:E,MATCH(\"Triglyme\",RRFs!B:B,FALSE)))))","v":""},null,null,null,"After MeP",{"$f":"IF(Q94=\"\",\"\",IF(OR(S94=\"Solvent\",S94=\"After MeP\"),0,IF(S94=\"\",INDEX(RRFs!E:E,MATCH(\"Triglyme\",RRFs!B:B,FALSE)),INDEX(RRFs!E:E,MATCH(S94,RRFs!B:B,FALSE)))))","v":""},"","","",null,null,null,null,"After MeP",{"$f":"IF(Z94=\"\",\"\",IF(OR(AB94=\"Solvent\",AB94=\"After MeP\"),0,IF(AB94=\"\",INDEX(RRFs!E:E,MATCH(\"Triglyme\",RRFs!B:B,FALSE)),INDEX(RRFs!E:E,MATCH(AB94,RRFs!B:B,FALSE)))))","v":""},"","",""]
[null,null,null,null,null,null,null,95,null,null,{"$f":"IF(J95=\"\",\"\",(J95/LARGE($J$5:$J$100,2)*(5/(INDEX(RRFs!E:E,MATCH(\"Triglyme\",RRFs!B:B,FALSE))))))","v":""},null,"","",{"$f":"IF(N95=\"\",\"\",(N95/(INDEX(INDIRECT(\"'\"&LEFT($M$2,5)&\" Data'!F:F\"),MATCH(\"EGDE\",INDIRECT(\"'\"&LEFT($M$2,5)&\" Data\"&\"'!G:G\"),FALSE))))*(INDEX('CSV Prep'!E:E,MATCH(\"EGDE \"&LEFT($M$2,5),'CSV Prep'!B:B,FALSE))/(INDEX(RRFs!E:E,MATCH(\"Triglyme\",RRFs!B:B,FALSE)))))","v":""},null,null,null,"After MeP",{"$f":"IF(Q95=\"\",\"\",IF(OR(S95=\"Solvent\",S95=\"After MeP\"),0,IF(S95=\"\",INDEX(RRFs!E:E,MATCH(\"Triglyme\",RRFs!B:B,FALSE)),INDEX(RRFs!E:E,MATCH(S95,RRFs!B:B,FALSE)))))","v":""},"","","",null,null,null,null,"After MeP",{"$f":"IF(Z95=\"\",\"\",IF(OR(AB95=\"Solvent\",AB95=\"After MeP\"),0,IF(AB95=\"\",INDEX(RRFs!E:E,MATCH(\"Triglyme\",RRFs!B:B,FALSE)),INDEX(RRFs!E:E,MATCH(AB95,RRFs!B:B,FALSE)))))","v":""},"","",""]
[null,null,null,null,null,null,null,96,null,null,{"$f":"IF(J96=\"\",\"\",(J96/LARGE($J$5:$J$100,2)*(5/(INDEX(RRFs!E:E,MATCH(\"Triglyme\",RRFs!B:B,FALSE))))))","v":""},null,"","",{"$f":"IF(N96=\"\",\"\",(N96/(INDEX(INDIRECT(\"'\"&LEFT($M$2,5)&\" Data'!F:F\"),MATCH(\"EGDE\",INDIRECT(\"'\"&LEFT($M$2,5)&\" Data\"&\"'!G:G\"),FALSE))))*(INDEX('CSV Prep'!E:E,MATCH(\"EGDE \"&LEFT($M$2,5),'CSV Prep'!B:B,FALSE))/(INDEX(RRFs!E:E,MATCH(\"Triglyme\",RRFs!B:B,FALSE)))))","v":""},null,null,null,"After MeP",{"$f":"IF(Q96=\"\",\"\",IF(OR(S96=\"Solvent\",S96=\"After MeP\"),0,IF(S96=\"\",INDEX(RRFs!E:E,MATCH(\"Triglyme\",RRFs!B:B,FALSE)),INDEX(RRFs!E:E,MATCH(S96,RRFs!B:B,FALSE)))))","v":""},"","","",null,null,null,null,"After MeP",{"$f":"IF(Z96=\"\",\"\",IF(OR(AB96=\"Solvent\",AB96=\"After MeP\"),0,IF(AB96=\"\",INDEX(RRFs!E:E,MATCH(\"Triglyme\",RRFs!B:B,FALSE)),INDEX(RRFs!E:E,MATCH(AB96,RRFs!B:B,FALSE)))))","v":""},"","",""]
[null,null,null,null,null,null,null,97,null,null,{"$f":"IF(J97=\"\",\"\",(J97/LARGE($J$5:$J$100,2)*(5/(INDEX(RRFs!E:E,MATCH(\"Triglyme\",RRFs!B:B,FALSE))))))","v":""},null,"","",{"$f":"IF(N97=\"\",\"\",(N97/(INDEX(INDIRECT(\"'\"&LEFT($M$2,5)&\" Data'!F:F\"),MATCH(\"EGDE\",INDIRECT(\"'\"&LEFT($M$2,5)&\" Data\"&\"'!G:G\"),FALSE))))*(INDEX('CSV Prep'!E:E,MATCH(\"EGDE \"&LEFT($M$2,5),'CSV Prep'!B:B,FALSE))/(INDEX(RRFs!E:E,MATCH(\"Triglyme\",RRFs!B:B,FALSE)))))","v":""},null,null,null,"After MeP",{"$f":"IF(Q97=\"\",\"\",IF(OR(S97=\"Solvent\",S97=\"After MeP\"),0,IF(S97=\"\",INDEX(RRFs!E:E,MATCH(\"Triglyme\",RRFs!B:B,FALSE)),INDEX(RRFs!E:E,MATCH(S97,RRFs!B:B,FALSE)))))","v":""},"","","",null,null,null,null,"After MeP",{"$f":"IF(Z97=\"\",\"\",IF(OR(AB97=\"Solvent\",AB97=\"After MeP\"),0,IF(AB97=\"\",INDEX(RRFs!E:E,MATCH(\"Triglyme\",RRFs!B:B,FALSE)),INDEX(RRFs!E:E,MATCH(AB97,RRFs!B:B,FALSE)))))","v":""},"","",""]
[null,null,null,null,null,null,null,98,null,null,{"$f":"IF(J98=\"\",\"\",(J98/LARGE($J$5:$J$100,2)*(5/(INDEX(RRFs!E:E,MATCH(\"Triglyme\",RRFs!B:B,FALSE))))))","v":""},null,"","",{"$f":"IF(N98=\"\",\"\",(N98/(INDEX(INDIRECT(\"'\"&LEFT($M$2,5)&\" Data'!F:F\"),MATCH(\"EGDE\",INDIRECT(\"'\"&LEFT($M$2,5)&\" Data\"&\"'!G:G\"),FALSE))))*(INDEX('CSV Prep'!E:E,MATCH(\"EGDE \"&LEFT($M$2,5),'CSV Prep'!B:B,FALSE))/(INDEX(RRFs!E:E,MATCH(\"Triglyme\",RRFs!B:B,FALSE)))))","v":""},null,null,null,"After MeP",{"$f":"IF(Q98=\"\",\"\",IF(OR(S98=\"Solvent\",S98=\"After MeP\"),0,IF(S98=\"\",INDEX(RRFs!E:E,MATCH(\"Triglyme\",RRFs!B:B,FALSE)),INDEX(RRFs!E:E,MATCH(S98,RRFs!B:B,FALSE)))))","v":""},"","","",null,null,null,null,"After MeP",{"$f":"IF(Z98=\"\",\"\",IF(OR(AB98=\"Solvent\",AB98=\"After MeP\"),0,IF(AB98=\"\",INDEX(RRFs!E:E,MATCH(\"Triglyme\",RRFs!B:B,FALSE)),INDEX(RRFs!E:E,MATCH(AB98,RRFs!B:B,FALSE)))))","v":""},"","",""]
[null,null,null,null,null,null,null,99,null,null,{"$f":"IF(J99=\"\",\"\",(J99/LARGE($J$5:$J$100,2)*(5/(INDEX(RRFs!E:E,MATCH(\"Triglyme\",RRFs!B:B,FALSE))))))","v":""},null,"","",{"$f":"IF(N99=\"\",\"\",(N99/(INDEX(INDIRECT(\"'\"&LEFT($M$2,5)&\" Data'!F:F\"),MATCH(\"EGDE\",INDIRECT(\"'\"&LEFT($M$2,5)&\" Data\"&\"'!G:G\"),FALSE))))*(INDEX('CSV Prep'!E:E,MATCH(\"EGDE \"&LEFT($M$2,5),'CSV Prep'!B:B,FALSE))/(INDEX(RRFs!E:E,MATCH(\"Triglyme\",RRFs!B:B,FALSE)))))","v":""},null,null,null,"After MeP",{"$f":"IF(Q99=\"\",\"\",IF(OR(S99=\"Solvent\",S99=\"After MeP\"),0,IF(S99=\"\",INDEX(RRFs!E:E,MATCH(\"Triglyme\",RRFs!B:B,FALSE)),INDEX(RRFs!E:E,MATCH(S99,RRFs!B:B,FALSE)))))","v":""},"","","",null,null,null,null,"After MeP",{"$f":"IF(Z99=\"\",\"\",IF(OR(AB99=\"Solvent\",AB99=\"After MeP\"),0,IF(AB99=\"\",INDEX(RRFs!E:E,MATCH(\"Triglyme\",RRFs!B:B,FALSE)),INDEX(RRFs!E:E,MATCH(AB99,RRFs!B:B,FALSE)))))","v":""},"","",""]
[null,null,null,null,null,null,null,100,null,null,{"$f":"IF(J100=\"\",\"\",(J100/LARGE($J$5:$J$100,2)*(5/(INDEX(RRFs!E:E,MATCH(\"Triglyme\",RRFs!B:B,FALSE))))))","v":""},null,null,null,null,null,null,null,"After MeP",{"$f":"IF(Q100=\"\",\"\",IF(OR(S100=\"Solvent\",S100=\"After MeP\"),0,IF(S100=\"\",INDEX(RRFs!E:E,MATCH(\"Triglyme\",RRFs!B:B,FALSE)),INDEX(RRFs!E:E,MATCH(S100,RRFs!B:B,FALSE)))))","v":""},"","","",null,null,null,null,"After MeP",{"$f":"IF(Z100=\"\",\"\",IF(OR(AB100=\"Solvent\",AB100=\"After MeP\"),0,IF(AB100=\"\",INDEX(RRFs!E:E,MATCH(\"Triglyme\",RRFs!B:B,FALSE)),INDEX(RRFs!E:E,MATCH(AB100,RRFs!B:B,FALSE)))))","v":""},"","",""]
[null,null,null,null,null,null,null,null,null,null,null,null,null,null,null,null,null,null,"After MeP",{"$f":"IF(Q101=\"\",\"\",IF(OR(S101=\"Solvent\",S101=\"After MeP\"),0,IF(S101=\"\",INDEX(RRFs!E:E,MATCH(\"Triglyme\",RRFs!B:B,FALSE)),INDEX(RRFs!E:E,MATCH(S101,RRFs!B:B,FALSE)))))","v":""},{"$f":"IF(Q101=\"\",\"\",IF(T101=0,0,IF(S101=\"EGDE\",R101/T101,R101/INDEX(R:R,MATCH(\"EGDE\",S:S,FALSE)) *INDEX($F$29:$F$38,MATCH(\"EGDE\",$C$29:$C$38,FALSE))/T101)))","v":""},"","",null,null,null,null,"After MeP",{"$f":"IF(Z101=\"\",\"\",IF(OR(AB101=\"Solvent\",AB101=\"After MeP\"),0,IF(AB101=\"\",INDEX(RRFs!E:E,MATCH(\"Triglyme\",RRFs!B:B,FALSE)),INDEX(RRFs!E:E,MATCH(AB101,RRFs!B:B,FALSE)))))","v":""},{"$f":"IF(Z101=\"\",\"\",IF(AC101=0,0,IF(AB101=\"EGDE\",AA101/AC101,AA101/INDEX(AA:AA,MATCH(\"EGDE\",AB:AB,FALSE)) *INDEX($F$29:$F$38,MATCH(\"EGDE\",$C$29:$C$38,FALSE))/AC101)))","v":""},"",""]
[null,null,null,null,null,null,null,null,null,null,null,null,null,null,null,null,null,null,"After MeP",{"$f":"IF(Q102=\"\",\"\",IF(OR(S102=\"Solvent\",S102=\"After MeP\"),0,IF(S102=\"\",INDEX(RRFs!E:E,MATCH(\"Triglyme\",RRFs!B:B,FALSE)),INDEX(RRFs!E:E,MATCH(S102,RRFs!B:B,FALSE)))))","v":""},"","","",null,null,null,null,"After MeP",{"$f":"IF(Z102=\"\",\"\",IF(OR(AB102=\"Solvent\",AB102=\"After MeP\"),0,IF(AB102=\"\",INDEX(RRFs!E:E,MATCH(\"Triglyme\",RRFs!B:B,FALSE)),INDEX(RRFs!E:E,MATCH(AB102,RRFs!B:B,FALSE)))))","v":""},"","",""]
[null,null,null,null,null,null,null,null,null,null,null,null,null,null,null,null,null,null,"After MeP",{"$f":"IF(Q103=\"\",\"\",IF(OR(S103=\"Solvent\",S103=\"After MeP\"),0,IF(S103=\"\",INDEX(RRFs!E:E,MATCH(\"Triglyme\",RRFs!B:B,FALSE)),INDEX(RRFs!E:E,MATCH(S103,RRFs!B:B,FALSE)))))","v":""},"","","",null,null,null,null,"After MeP",{"$f":"IF(Z103=\"\",\"\",IF(OR(AB103=\"Solvent\",AB103=\"After MeP\"),0,IF(AB103=\"\",INDEX(RRFs!E:E,MATCH(\"Triglyme\",RRFs!B:B,FALSE)),INDEX(RRFs!E:E,MATCH(AB103,RRFs!B:B,FALSE)))))","v":""},"","",""]
[null,null,null,null,null,null,null,null,null,null,null,null,null,null,null,null,null,null,"After MeP",{"$f":"IF(Q104=\"\",\"\",IF(OR(S104=\"Solvent\",S104=\"After MeP\"),0,IF(S104=\"\",INDEX(RRFs!E:E,MATCH(\"Triglyme\",RRFs!B:B,FALSE)),INDEX(RRFs!E:E,MATCH(S104,RRFs!B:B,FALSE)))))","v":""},"","","",null,null,null,null,"After MeP",{"$f":"IF(Z104=\"\",\"\",IF(OR(AB104=\"Solvent\",AB104=\"After MeP\"),0,IF(AB104=\"\",INDEX(RRFs!E:E,MATCH(\"Triglyme\",RRFs!B:B,FALSE)),INDEX(RRFs!E:E,MATCH(AB104,RRFs!B:B,FALSE)))))","v":""},"","",""]
[null,null,null,null,null,null,null,null,null,null,null,null,null,null,null,null,null,null,"After MeP",{"$f":"IF(Q105=\"\",\"\",IF(OR(S105=\"Solvent\",S105=\"After MeP\"),0,IF(S105=\"\",INDEX(RRFs!E:E,MATCH(\"Triglyme\",RRFs!B:B,FALSE)),INDEX(RRFs!E:E,MATCH(S105,RRFs!B:B,FALSE)))))","v":""},"","","",null,null,null,null,"After MeP",{"$f":"IF(Z105=\"\",\"\",IF(OR(AB105=\"Solvent\",AB105=\"After MeP\"),0,IF(AB105=\"\",INDEX(RRFs!E:E,MATCH(\"Triglyme\",RRFs!B:B,FALSE)),INDEX(RRFs!E:E,MATCH(AB105,RRFs!B:B,FALSE)))))","v":""},"","",""]
[null,null,null,null,null,null,null,null,null,null,null,null,null,null,null,null,null,null,"After MeP",{"$f":"IF(Q106=\"\",\"\",IF(OR(S106=\"Solvent\",S106=\"After MeP\"),0,IF(S106=\"\",INDEX(RRFs!E:E,MATCH(\"Triglyme\",RRFs!B:B,FALSE)),INDEX(RRFs!E:E,MATCH(S106,RRFs!B:B,FALSE)))))","v":""},"","","",null,null,null,null,"After MeP",{"$f":"IF(Z106=\"\",\"\",IF(OR(AB106=\"Solvent\",AB106=\"After MeP\"),0,IF(AB106=\"\",INDEX(RRFs!E:E,MATCH(\"Triglyme\",RRFs!B:B,FALSE)),INDEX(RRFs!E:E,MATCH(AB106,RRFs!B:B,FALSE)))))","v":""},"","",""]
[null,null,null,null,null,null,null,null,null,null,null,null,null,null,null,null,null,null,"After MeP",{"$f":"IF(Q107=\"\",\"\",IF(OR(S107=\"Solvent\",S107=\"After MeP\"),0,IF(S107=\"\",INDEX(RRFs!E:E,MATCH(\"Triglyme\",RRFs!B:B,FALSE)),INDEX(RRFs!E:E,MATCH(S107,RRFs!B:B,FALSE)))))","v":""},"","","",null,null,null,null,"After MeP",{"$f":"IF(Z107=\"\",\"\",IF(OR(AB107=\"Solvent\",AB107=\"After MeP\"),0,IF(AB107=\"\",INDEX(RRFs!E:E,MATCH(\"Triglyme\",RRFs!B:B,FALSE)),INDEX(RRFs!E:E,MATCH(AB107,RRFs!B:B,FALSE)))))","v":""},"","",""]
[null,null,null,null,null,null,null,null,null,null,null,null,null,null,null,null,null,null,"After MeP",{"$f":"IF(Q108=\"\",\"\",IF(OR(S108=\"Solvent\",S108=\"After MeP\"),0,IF(S108=\"\",INDEX(RRFs!E:E,MATCH(\"Triglyme\",RRFs!B:B,FALSE)),INDEX(RRFs!E:E,MATCH(S108,RRFs!B:B,FALSE)))))","v":""},"","","",null,null,null,null,"After MeP",{"$f":"IF(Z108=\"\",\"\",IF(OR(AB108=\"Solvent\",AB108=\"After MeP\"),0,IF(AB108=\"\",INDEX(RRFs!E:E,MATCH(\"Triglyme\",RRFs!B:B,FALSE)),INDEX(RRFs!E:E,MATCH(AB108,RRFs!B:B,FALSE)))))","v":""},"","",""]
[null,null,null,null,null,null,null,null,null,null,null,null,null,null,null,null,null,null,"After MeP",{"$f":"IF(Q109=\"\",\"\",IF(OR(S109=\"Solvent\",S109=\"After MeP\"),0,IF(S109=\"\",INDEX(RRFs!E:E,MATCH(\"Triglyme\",RRFs!B:B,FALSE)),INDEX(RRFs!E:E,MATCH(S109,RRFs!B:B,FALSE)))))","v":""},"","","",null,null,null,null,"After MeP",{"$f":"IF(Z109=\"\",\"\",IF(OR(AB109=\"Solvent\",AB109=\"After MeP\"),0,IF(AB109=\"\",INDEX(RRFs!E:E,MATCH(\"Triglyme\",RRFs!B:B,FALSE)),INDEX(RRFs!E:E,MATCH(AB109,RRFs!B:B,FALSE)))))","v":""},"","",""]
[null,null,null,null,null,null,null,null,null,null,null,null,null,null,null,null,null,null,"After MeP",{"$f":"IF(Q110=\"\",\"\",IF(OR(S110=\"Solvent\",S110=\"After MeP\"),0,IF(S110=\"\",INDEX(RRFs!E:E,MATCH(\"Triglyme\",RRFs!B:B,FALSE)),INDEX(RRFs!E:E,MATCH(S110,RRFs!B:B,FALSE)))))","v":""},"","","",null,null,null,null,"After MeP",{"$f":"IF(Z110=\"\",\"\",IF(OR(AB110=\"Solvent\",AB110=\"After MeP\"),0,IF(AB110=\"\",INDEX(RRFs!E:E,MATCH(\"Triglyme\",RRFs!B:B,FALSE)),INDEX(RRFs!E:E,MATCH(AB110,RRFs!B:B,FALSE)))))","v":""},"","",""]
[null,null,null,null,null,null,null,null,null,null,null,null,null,null,null,null,null,null,"After MeP",{"$f":"IF(Q111=\"\",\"\",IF(OR(S111=\"Solvent\",S111=\"After MeP\"),0,IF(S111=\"\",INDEX(RRFs!E:E,MATCH(\"Triglyme\",RRFs!B:B,FALSE)),INDEX(RRFs!E:E,MATCH(S111,RRFs!B:B,FALSE)))))","v":""},"","","",null,null,null,null,"After MeP",{"$f":"IF(Z111=\"\",\"\",IF(OR(AB111=\"Solvent\",AB111=\"After MeP\"),0,IF(AB111=\"\",INDEX(RRFs!E:E,MATCH(\"Triglyme\",RRFs!B:B,FALSE)),INDEX(RRFs!E:E,MATCH(AB111,RRFs!B:B,FALSE)))))","v":""},"","",""]
[null,null,null,null,null,null,null,null,null,null,null,null,null,null,null,null,null,null,"After MeP",{"$f":"IF(Q112=\"\",\"\",IF(OR(S112=\"Solvent\",S112=\"After MeP\"),0,IF(S112=\"\",INDEX(RRFs!E:E,MATCH(\"Triglyme\",RRFs!B:B,FALSE)),INDEX(RRFs!E:E,MATCH(S112,RRFs!B:B,FALSE)))))","v":""},"","","",null,null,null,null,"After MeP",{"$f":"IF(Z112=\"\",\"\",IF(OR(AB112=\"Solvent\",AB112=\"After MeP\"),0,IF(AB112=\"\",INDEX(RRFs!E:E,MATCH(\"Triglyme\",RRFs!B:B,FALSE)),INDEX(RRFs!E:E,MATCH(AB112,RRFs!B:B,FALSE)))))","v":""},"","",""]
[null,null,null,null,null,null,null,null,null,null,null,null,null,null,null,null,null,null,"After MeP",{"$f":"IF(Q113=\"\",\"\",IF(OR(S113=\"Solvent\",S113=\"After MeP\"),0,IF(S113=\"\",INDEX(RRFs!E:E,MATCH(\"Triglyme\",RRFs!B:B,FALSE)),INDEX(RRFs!E:E,MATCH(S113,RRFs!B:B,FALSE)))))","v":""},"","","",null,null,null,null,"After MeP",{"$f":"IF(Z113=\"\",\"\",IF(OR(AB113=\"Solvent\",AB113=\"After MeP\"),0,IF(AB113=\"\",INDEX(RRFs!E:E,MATCH(\"Triglyme\",RRFs!B:B,FALSE)),INDEX(RRFs!E:E,MATCH(AB113,RRFs!B:B,FALSE)))))","v":""},"","",""]
[null,null,null,null,null,null,null,null,null,null,null,null,null,null,null,null,null,null,"After MeP",{"$f":"IF(Q114=\"\",\"\",IF(OR(S114=\"Solvent\",S114=\"After MeP\"),0,IF(S114=\"\",INDEX(RRFs!E:E,MATCH(\"Triglyme\",RRFs!B:B,FALSE)),INDEX(RRFs!E:E,MATCH(S114,RRFs!B:B,FALSE)))))","v":""},"","","",null,null,null,null,"After MeP",{"$f":"IF(Z114=\"\",\"\",IF(OR(AB114=\"Solvent\",AB114=\"After MeP\"),0,IF(AB114=\"\",INDEX(RRFs!E:E,MATCH(\"Triglyme\",RRFs!B:B,FALSE)),INDEX(RRFs!E:E,MATCH(AB114,RRFs!B:B,FALSE)))))","v":""},"","",""]
[null,null,null,null,null,null,null,null,null,null,null,null,null,null,null,null,null,null,"After MeP",{"$f":"IF(Q115=\"\",\"\",IF(OR(S115=\"Solvent\",S115=\"After MeP\"),0,IF(S115=\"\",INDEX(RRFs!E:E,MATCH(\"Triglyme\",RRFs!B:B,FALSE)),INDEX(RRFs!E:E,MATCH(S115,RRFs!B:B,FALSE)))))","v":""},"","","",null,null,null,null,"After MeP",{"$f":"IF(Z115=\"\",\"\",IF(OR(AB115=\"Solvent\",AB115=\"After MeP\"),0,IF(AB115=\"\",INDEX(RRFs!E:E,MATCH(\"Triglyme\",RRFs!B:B,FALSE)),INDEX(RRFs!E:E,MATCH(AB115,RRFs!B:B,FALSE)))))","v":""},"","",""]
[null,null,null,null,null,null,null,null,null,null,null,null,null,null,null,null,null,null,"After MeP",{"$f":"IF(Q116=\"\",\"\",IF(OR(S116=\"Solvent\",S116=\"After MeP\"),0,IF(S116=\"\",INDEX(RRFs!E:E,MATCH(\"Triglyme\",RRFs!B:B,FALSE)),INDEX(RRFs!E:E,MATCH(S116,RRFs!B:B,FALSE)))))","v":""},"","","",null,null,null,null,"After MeP",{"$f":"IF(Z116=\"\",\"\",IF(OR(AB116=\"Solvent\",AB116=\"After MeP\"),0,IF(AB116=\"\",INDEX(RRFs!E:E,MATCH(\"Triglyme\",RRFs!B:B,FALSE)),INDEX(RRFs!E:E,MATCH(AB116,RRFs!B:B,FALSE)))))","v":""},"","",""]
[null,null,null,null,null,null,null,null,null,null,null,null,null,null,null,null,null,null,"After MeP",{"$f":"IF(Q117=\"\",\"\",IF(OR(S117=\"Solvent\",S117=\"After MeP\"),0,IF(S117=\"\",INDEX(RRFs!E:E,MATCH(\"Triglyme\",RRFs!B:B,FALSE)),INDEX(RRFs!E:E,MATCH(S117,RRFs!B:B,FALSE)))))","v":""},"","","",null,null,null,null,"After MeP",{"$f":"IF(Z117=\"\",\"\",IF(OR(AB117=\"Solvent\",AB117=\"After MeP\"),0,IF(AB117=\"\",INDEX(RRFs!E:E,MATCH(\"Triglyme\",RRFs!B:B,FALSE)),INDEX(RRFs!E:E,MATCH(AB117,RRFs!B:B,FALSE)))))","v":""},"","",""]
[null,null,null,null,null,null,null,null,null,null,null,null,null,null,null,null,null,null,"After MeP",{"$f":"IF(Q118=\"\",\"\",IF(OR(S118=\"Solvent\",S118=\"After MeP\"),0,IF(S118=\"\",INDEX(RRFs!E:E,MATCH(\"Triglyme\",RRFs!B:B,FALSE)),INDEX(RRFs!E:E,MATCH(S118,RRFs!B:B,FALSE)))))","v":""},"","","",null,null,null,null,"After MeP",{"$f":"IF(Z118=\"\",\"\",IF(OR(AB118=\"Solvent\",AB118=\"After MeP\"),0,IF(AB118=\"\",INDEX(RRFs!E:E,MATCH(\"Triglyme\",RRFs!B:B,FALSE)),INDEX(RRFs!E:E,MATCH(AB118,RRFs!B:B,FALSE)))))","v":""},"","",""]
[null,null,null,null,null,null,null,null,null,null,null,null,null,null,null,null,null,null,"After MeP",{"$f":"IF(Q119=\"\",\"\",IF(OR(S119=\"Solvent\",S119=\"After MeP\"),0,IF(S119=\"\",INDEX(RRFs!E:E,MATCH(\"Triglyme\",RRFs!B:B,FALSE)),INDEX(RRFs!E:E,MATCH(S119,RRFs!B:B,FALSE)))))","v":""},"","","",null,null,null,null,"After MeP",{"$f":"IF(Z119=\"\",\"\",IF(OR(AB119=\"Solvent\",AB119=\"After MeP\"),0,IF(AB119=\"\",INDEX(RRFs!E:E,MATCH(\"Triglyme\",RRFs!B:B,FALSE)),INDEX(RRFs!E:E,MATCH(AB119,RRFs!B:B,FALSE)))))","v":""},"","",""]
[null,null,null,null,null,null,null,null,null,null,null,null,null,null,null,null,null,null,"After MeP",{"$f":"IF(Q120=\"\",\"\",IF(OR(S120=\"Solvent\",S120=\"After MeP\"),0,IF(S120=\"\",INDEX(RRFs!E:E,MATCH(\"Triglyme\",RRFs!B:B,FALSE)),INDEX(RRFs!E:E,MATCH(S120,RRFs!B:B,FALSE)))))","v":""},"","","",null,null,null,null,"After MeP",{"$f":"IF(Z120=\"\",\"\",IF(OR(AB120=\"Solvent\",AB120=\"After MeP\"),0,IF(AB120=\"\",INDEX(RRFs!E:E,MATCH(\"Triglyme\",RRFs!B:B,FALSE)),INDEX(RRFs!E:E,MATCH(AB120,RRFs!B:B,FALSE)))))","v":""},"","",""]
[null,null,null,null,null,null,null,null,null,null,null,null,null,null,null,null,null,null,"After MeP",{"$f":"IF(Q121=\"\",\"\",IF(OR(S121=\"Solvent\",S121=\"After MeP\"),0,IF(S121=\"\",INDEX(RRFs!E:E,MATCH(\"Triglyme\",RRFs!B:B,FALSE)),INDEX(RRFs!E:E,MATCH(S121,RRFs!B:B,FALSE)))))","v":""},"","","",null,null,null,null,"After MeP",{"$f":"IF(Z121=\"\",\"\",IF(OR(AB121=\"Solvent\",AB121=\"After MeP\"),0,IF(AB121=\"\",INDEX(RRFs!E:E,MATCH(\"Triglyme\",RRFs!B:B,FALSE)),INDEX(RRFs!E:E,MATCH(AB121,RRFs!B:B,FALSE)))))","v":""},"","",""]
[null,null,null,null,null,null,null,null,null,null,null,null,null,null,null,null,null,null,"After MeP",{"$f":"IF(Q122=\"\",\"\",IF(OR(S122=\"Solvent\",S122=\"After MeP\"),0,IF(S122=\"\",INDEX(RRFs!E:E,MATCH(\"Triglyme\",RRFs!B:B,FALSE)),INDEX(RRFs!E:E,MATCH(S122,RRFs!B:B,FALSE)))))","v":""},"","","",null,null,null,null,"After MeP",{"$f":"IF(Z122=\"\",\"\",IF(OR(AB122=\"Solvent\",AB122=\"After MeP\"),0,IF(AB122=\"\",INDEX(RRFs!E:E,MATCH(\"Triglyme\",RRFs!B:B,FALSE)),INDEX(RRFs!E:E,MATCH(AB122,RRFs!B:B,FALSE)))))","v":""},"","",""]
[null,null,null,null,null,null,null,null,null,null,null,null,null,null,null,null,null,null,"After MeP",{"$f":"IF(Q123=\"\",\"\",IF(OR(S123=\"Solvent\",S123=\"After MeP\"),0,IF(S123=\"\",INDEX(RRFs!E:E,MATCH(\"Triglyme\",RRFs!B:B,FALSE)),INDEX(RRFs!E:E,MATCH(S123,RRFs!B:B,FALSE)))))","v":""},"","","",null,null,null,null,"After MeP",{"$f":"IF(Z123=\"\",\"\",IF(OR(AB123=\"Solvent\",AB123=\"After MeP\"),0,IF(AB123=\"\",INDEX(RRFs!E:E,MATCH(\"Triglyme\",RRFs!B:B,FALSE)),INDEX(RRFs!E:E,MATCH(AB123,RRFs!B:B,FALSE)))))","v":""},"","",""]
[null,null,null,null,null,null,null,null,null,null,null,null,null,null,null,null,null,null,"After MeP",{"$f":"IF(Q124=\"\",\"\",IF(OR(S124=\"Solvent\",S124=\"After MeP\"),0,IF(S124=\"\",INDEX(RRFs!E:E,MATCH(\"Triglyme\",RRFs!B:B,FALSE)),INDEX(RRFs!E:E,MATCH(S124,RRFs!B:B,FALSE)))))","v":""},"","","",null,null,null,null,"After MeP",{"$f":"IF(Z124=\"\",\"\",IF(OR(AB124=\"Solvent\",AB124=\"After MeP\"),0,IF(AB124=\"\",INDEX(RRFs!E:E,MATCH(\"Triglyme\",RRFs!B:B,FALSE)),INDEX(RRFs!E:E,MATCH(AB124,RRFs!B:B,FALSE)))))","v":""},"","",""]
[null,null,null,null,null,null,null,null,null,null,null,null,null,null,null,null,null,null,"After MeP",{"$f":"IF(Q125=\"\",\"\",IF(OR(S125=\"Solvent\",S125=\"After MeP\"),0,IF(S125=\"\",INDEX(RRFs!E:E,MATCH(\"Triglyme\",RRFs!B:B,FALSE)),INDEX(RRFs!E:E,MATCH(S125,RRFs!B:B,FALSE)))))","v":""},"","","",null,null,null,null,"After MeP",{"$f":"IF(Z125=\"\",\"\",IF(OR(AB125=\"Solvent\",AB125=\"After MeP\"),0,IF(AB125=\"\",INDEX(RRFs!E:E,MATCH(\"Triglyme\",RRFs!B:B,FALSE)),INDEX(RRFs!E:E,MATCH(AB125,RRFs!B:B,FALSE)))))","v":""},"","",""]
[null,null,null,null,null,null,null,null,null,null,null,null,null,null,null,null,null,null,"After MeP",{"$f":"IF(Q126=\"\",\"\",IF(OR(S126=\"Solvent\",S126=\"After MeP\"),0,IF(S126=\"\",INDEX(RRFs!E:E,MATCH(\"Triglyme\",RRFs!B:B,FALSE)),INDEX(RRFs!E:E,MATCH(S126,RRFs!B:B,FALSE)))))","v":""},"","","",null,null,null,null,"After MeP",{"$f":"IF(Z126=\"\",\"\",IF(OR(AB126=\"Solvent\",AB126=\"After MeP\"),0,IF(AB126=\"\",INDEX(RRFs!E:E,MATCH(\"Triglyme\",RRFs!B:B,FALSE)),INDEX(RRFs!E:E,MATCH(AB126,RRFs!B:B,FALSE)))))","v":""},"","",""]
[null,null,null,null,null,null,null,null,null,null,null,null,null,null,null,null,null,null,"After MeP",{"$f":"IF(Q127=\"\",\"\",IF(OR(S127=\"Solvent\",S127=\"After MeP\"),0,IF(S127=\"\",INDEX(RRFs!E:E,MATCH(\"Triglyme\",RRFs!B:B,FALSE)),INDEX(RRFs!E:E,MATCH(S127,RRFs!B:B,FALSE)))))","v":""},"","","",null,null,null,null,"After MeP",{"$f":"IF(Z127=\"\",\"\",IF(OR(AB127=\"Solvent\",AB127=\"After MeP\"),0,IF(AB127=\"\",INDEX(RRFs!E:E,MATCH(\"Triglyme\",RRFs!B:B,FALSE)),INDEX(RRFs!E:E,MATCH(AB127,RRFs!B:B,FALSE)))))","v":""},"","",""]
[null,null,null,null,null,null,null,null,null,null,null,null,null,null,null,null,null,null,"After MeP",{"$f":"IF(Q128=\"\",\"\",IF(OR(S128=\"Solvent\",S128=\"After MeP\"),0,IF(S128=\"\",INDEX(RRFs!E:E,MATCH(\"Triglyme\",RRFs!B:B,FALSE)),INDEX(RRFs!E:E,MATCH(S128,RRFs!B:B,FALSE)))))","v":""},"","","",null,null,null,null,"After MeP",{"$f":"IF(Z128=\"\",\"\",IF(OR(AB128=\"Solvent\",AB128=\"After MeP\"),0,IF(AB128=\"\",INDEX(RRFs!E:E,MATCH(\"Triglyme\",RRFs!B:B,FALSE)),INDEX(RRFs!E:E,MATCH(AB128,RRFs!B:B,FALSE)))))","v":""},"","",""]
[null,null,null,null,null,null,null,null,null,null,null,null,null,null,null,null,null,null,"After MeP",{"$f":"IF(Q129=\"\",\"\",IF(OR(S129=\"Solvent\",S129=\"After MeP\"),0,IF(S129=\"\",INDEX(RRFs!E:E,MATCH(\"Triglyme\",RRFs!B:B,FALSE)),INDEX(RRFs!E:E,MATCH(S129,RRFs!B:B,FALSE)))))","v":""},"","","",null,null,null,null,"After MeP",{"$f":"IF(Z129=\"\",\"\",IF(OR(AB129=\"Solvent\",AB129=\"After MeP\"),0,IF(AB129=\"\",INDEX(RRFs!E:E,MATCH(\"Triglyme\",RRFs!B:B,FALSE)),INDEX(RRFs!E:E,MATCH(AB129,RRFs!B:B,FALSE)))))","v":""},"","",""]
[null,null,null,null,null,null,null,null,null,null,null,null,null,null,null,null,null,null,"After MeP",{"$f":"IF(Q130=\"\",\"\",IF(OR(S130=\"Solvent\",S130=\"After MeP\"),0,IF(S130=\"\",INDEX(RRFs!E:E,MATCH(\"Triglyme\",RRFs!B:B,FALSE)),INDEX(RRFs!E:E,MATCH(S130,RRFs!B:B,FALSE)))))","v":""},"","","",null,null,null,null,"After MeP",{"$f":"IF(Z130=\"\",\"\",IF(OR(AB130=\"Solvent\",AB130=\"After MeP\"),0,IF(AB130=\"\",INDEX(RRFs!E:E,MATCH(\"Triglyme\",RRFs!B:B,FALSE)),INDEX(RRFs!E:E,MATCH(AB130,RRFs!B:B,FALSE)))))","v":""},"","",""]
[null,null,null,null,null,null,null,null,null,null,null,null,null,null,null,null,null,null,"After MeP",{"$f":"IF(Q131=\"\",\"\",IF(OR(S131=\"Solvent\",S131=\"After MeP\"),0,IF(S131=\"\",INDEX(RRFs!E:E,MATCH(\"Triglyme\",RRFs!B:B,FALSE)),INDEX(RRFs!E:E,MATCH(S131,RRFs!B:B,FALSE)))))","v":""},"","","",null,null,null,null,"After MeP",{"$f":"IF(Z131=\"\",\"\",IF(OR(AB131=\"Solvent\",AB131=\"After MeP\"),0,IF(AB131=\"\",INDEX(RRFs!E:E,MATCH(\"Triglyme\",RRFs!B:B,FALSE)),INDEX(RRFs!E:E,MATCH(AB131,RRFs!B:B,FALSE)))))","v":""},"","",""]
[null,null,null,null,null,null,null,null,null,null,null,null,null,null,null,null,null,null,"After MeP",{"$f":"IF(Q132=\"\",\"\",IF(OR(S132=\"Solvent\",S132=\"After MeP\"),0,IF(S132=\"\",INDEX(RRFs!E:E,MATCH(\"Triglyme\",RRFs!B:B,FALSE)),INDEX(RRFs!E:E,MATCH(S132,RRFs!B:B,FALSE)))))","v":""},"","","",null,null,null,null,"After MeP",{"$f":"IF(Z132=\"\",\"\",IF(OR(AB132=\"Solvent\",AB132=\"After MeP\"),0,IF(AB132=\"\",INDEX(RRFs!E:E,MATCH(\"Triglyme\",RRFs!B:B,FALSE)),INDEX(RRFs!E:E,MATCH(AB132,RRFs!B:B,FALSE)))))","v":""},"","",""]
[null,null,null,null,null,null,null,null,null,null,null,null,null,null,null,null,null,null,{"$f":"IF(Q133>=$E$41,\"After MeP\",\"\")","v":"After MeP"},{"$f":"IF(Q133=\"\",\"\",IF(OR(S133=\"Solvent\",S133=\"After MeP\"),0,IF(S133=\"\",INDEX(RRFs!E:E,MATCH(\"Triglyme\",RRFs!B:B,FALSE)),INDEX(RRFs!E:E,MATCH(S133,RRFs!B:B,FALSE)))))","v":""},{"$f":"IF(Q133=\"\",\"\",IF(T133=0,0,IF(S133=\"EGDE\",R133/T133,R133/INDEX(R:R,MATCH(\"EGDE\",S:S,FALSE)) *INDEX($F$29:$F$38,MATCH(\"EGDE\",$C$29:$C$38,FALSE))/T133)))","v":""},"","",null,null,null,null,{"$f":"IF(Z133>=$E$41,\"After MeP\",\"\")","v":"After MeP"},{"$f":"IF(Z133=\"\",\"\",IF(OR(AB133=\"Solvent\",AB133=\"After MeP\"),0,IF(AB133=\"\",INDEX(RRFs!E:E,MATCH(\"Triglyme\",RRFs!B:B,FALSE)),INDEX(RRFs!E:E,MATCH(AB133,RRFs!B:B,FALSE)))))","v":""},{"$f":"IF(Z133=\"\",\"\",IF(AC133=0,0,IF(AB133=\"EGDE\",AA133/AC133,AA133/INDEX(AA:AA,MATCH(\"EGDE\",AB:AB,FALSE)) *INDEX($F$29:$F$38,MATCH(\"EGDE\",$C$29:$C$38,FALSE))/AC133)))","v":""},"",""]
[null,null,null,null,null,null,null,null,null,null,null,null,null,null,null,null,null,null,"After MeP",{"$f":"IF(Q134=\"\",\"\",IF(OR(S134=\"Solvent\",S134=\"After MeP\"),0,IF(S134=\"\",INDEX(RRFs!E:E,MATCH(\"Triglyme\",RRFs!B:B,FALSE)),INDEX(RRFs!E:E,MATCH(S134,RRFs!B:B,FALSE)))))","v":""},"",{"$f":"IF(Q134=\"\",\"\",IF(OR(S134=\"Heptane\",S134=\"IPA\",S134=\"Triglyme\",S134=\"DIIBA\",S134=\"EGDE\"),\"\",U134*($D$26/(LARGE($F$16:$F$21,1)*($E$32-$E$31)))*$D$4))","v":""},{"$f":"IF(V134=\"\",\"\",IF(AND(V134>1,S134=\"\"),\"Yes\",\"\"))","v":""},null,null,null,null,"After MeP",{"$f":"IF(Z134=\"\",\"\",IF(OR(AB134=\"Solvent\",AB134=\"After MeP\"),0,IF(AB134=\"\",INDEX(RRFs!E:E,MATCH(\"Triglyme\",RRFs!B:B,FALSE)),INDEX(RRFs!E:E,MATCH(AB134,RRFs!B:B,FALSE)))))","v":""},"",{"$f":"IF(Z134=\"\",\"\",IF(OR(AB134=\"Heptane\",AB134=\"IPA\",AB134=\"Triglyme\",AB134=\"DIIBA\",AB134=\"EGDE\"),\"\",AD134*($D$26/((LARGE($F$16:$F$21,1)*($E$32-$E$31)))*$D$4)))","v":""},{"$f":"IF(AE134=\"\",\"\",IF(AND(AE134>1,AB134=\"\"),\"Yes\",\"\"))","v":""}]
[null,null,null,null,null,null,null,null,null,null,null,null,null,null,null,null,null,null,"After MeP",{"$f":"IF(Q135=\"\",\"\",IF(OR(S135=\"Solvent\",S135=\"After MeP\"),0,IF(S135=\"\",INDEX(RRFs!E:E,MATCH(\"Triglyme\",RRFs!B:B,FALSE)),INDEX(RRFs!E:E,MATCH(S135,RRFs!B:B,FALSE)))))","v":""},"","","",null,null,null,null,"After MeP",{"$f":"IF(Z135=\"\",\"\",IF(OR(AB135=\"Solvent\",AB135=\"After MeP\"),0,IF(AB135=\"\",INDEX(RRFs!E:E,MATCH(\"Triglyme\",RRFs!B:B,FALSE)),INDEX(RRFs!E:E,MATCH(AB135,RRFs!B:B,FALSE)))))","v":""},"","",""]
[null,null,null,null,null,null,null,null,null,null,null,null,null,null,null,null,null,null,"After MeP",{"$f":"IF(Q136=\"\",\"\",IF(OR(S136=\"Solvent\",S136=\"After MeP\"),0,IF(S136=\"\",INDEX(RRFs!E:E,MATCH(\"Triglyme\",RRFs!B:B,FALSE)),INDEX(RRFs!E:E,MATCH(S136,RRFs!B:B,FALSE)))))","v":""},"","","",null,null,null,null,"After MeP",{"$f":"IF(Z136=\"\",\"\",IF(OR(AB136=\"Solvent\",AB136=\"After MeP\"),0,IF(AB136=\"\",INDEX(RRFs!E:E,MATCH(\"Triglyme\",RRFs!B:B,FALSE)),INDEX(RRFs!E:E,MATCH(AB136,RRFs!B:B,FALSE)))))","v":""},"","",""]
[null,null,null,null,null,null,null,null,null,null,null,null,null,null,null,null,null,null,"After MeP",{"$f":"IF(Q137=\"\",\"\",IF(OR(S137=\"Solvent\",S137=\"After MeP\"),0,IF(S137=\"\",INDEX(RRFs!E:E,MATCH(\"Triglyme\",RRFs!B:B,FALSE)),INDEX(RRFs!E:E,MATCH(S137,RRFs!B:B,FALSE)))))","v":""},"","","",null,null,null,null,"After MeP",{"$f":"IF(Z137=\"\",\"\",IF(OR(AB137=\"Solvent\",AB137=\"After MeP\"),0,IF(AB137=\"\",INDEX(RRFs!E:E,MATCH(\"Triglyme\",RRFs!B:B,FALSE)),INDEX(RRFs!E:E,MATCH(AB137,RRFs!B:B,FALSE)))))","v":""},"","",""]
[null,null,null,null,null,null,null,null,null,null,null,null,null,null,null,null,null,null,"After MeP",{"$f":"IF(Q138=\"\",\"\",IF(OR(S138=\"Solvent\",S138=\"After MeP\"),0,IF(S138=\"\",INDEX(RRFs!E:E,MATCH(\"Triglyme\",RRFs!B:B,FALSE)),INDEX(RRFs!E:E,MATCH(S138,RRFs!B:B,FALSE)))))","v":""},"","","",null,null,null,null,"After MeP",{"$f":"IF(Z138=\"\",\"\",IF(OR(AB138=\"Solvent\",AB138=\"After MeP\"),0,IF(AB138=\"\",INDEX(RRFs!E:E,MATCH(\"Triglyme\",RRFs!B:B,FALSE)),INDEX(RRFs!E:E,MATCH(AB138,RRFs!B:B,FALSE)))))","v":""},"","",""]
[null,null,null,null,null,null,null,null,null,null,null,null,null,null,null,null,null,null,"After MeP",{"$f":"IF(Q139=\"\",\"\",IF(OR(S139=\"Solvent\",S139=\"After MeP\"),0,IF(S139=\"\",INDEX(RRFs!E:E,MATCH(\"Triglyme\",RRFs!B:B,FALSE)),INDEX(RRFs!E:E,MATCH(S139,RRFs!B:B,FALSE)))))","v":""},"","","",null,null,null,null,"After MeP",{"$f":"IF(Z139=\"\",\"\",IF(OR(AB139=\"Solvent\",AB139=\"After MeP\"),0,IF(AB139=\"\",INDEX(RRFs!E:E,MATCH(\"Triglyme\",RRFs!B:B,FALSE)),INDEX(RRFs!E:E,MATCH(AB139,RRFs!B:B,FALSE)))))","v":""},"","",""]
[null,null,null,null,null,null,null,null,null,null,null,null,null,null,null,null,null,null,"After MeP",{"$f":"IF(Q140=\"\",\"\",IF(OR(S140=\"Solvent\",S140=\"After MeP\"),0,IF(S140=\"\",INDEX(RRFs!E:E,MATCH(\"Triglyme\",RRFs!B:B,FALSE)),INDEX(RRFs!E:E,MATCH(S140,RRFs!B:B,FALSE)))))","v":""},"","","",null,null,null,null,"After MeP",{"$f":"IF(Z140=\"\",\"\",IF(OR(AB140=\"Solvent\",AB140=\"After MeP\"),0,IF(AB140=\"\",INDEX(RRFs!E:E,MATCH(\"Triglyme\",RRFs!B:B,FALSE)),INDEX(RRFs!E:E,MATCH(AB140,RRFs!B:B,FALSE)))))","v":""},"","",""]
[null,null,null,null,null,null,null,null,null,null,null,null,null,null,null,null,null,null,"After MeP",{"$f":"IF(Q141=\"\",\"\",IF(OR(S141=\"Solvent\",S141=\"After MeP\"),0,IF(S141=\"\",INDEX(RRFs!E:E,MATCH(\"Triglyme\",RRFs!B:B,FALSE)),INDEX(RRFs!E:E,MATCH(S141,RRFs!B:B,FALSE)))))","v":""},"","","",null,null,null,null,"After MeP",{"$f":"IF(Z141=\"\",\"\",IF(OR(AB141=\"Solvent\",AB141=\"After MeP\"),0,IF(AB141=\"\",INDEX(RRFs!E:E,MATCH(\"Triglyme\",RRFs!B:B,FALSE)),INDEX(RRFs!E:E,MATCH(AB141,RRFs!B:B,FALSE)))))","v":""},"","",""]
[null,null,null,null,null,null,null,null,null,null,null,null,null,null,null,null,null,null,"After MeP",{"$f":"IF(Q142=\"\",\"\",IF(OR(S142=\"Solvent\",S142=\"After MeP\"),0,IF(S142=\"\",INDEX(RRFs!E:E,MATCH(\"Triglyme\",RRFs!B:B,FALSE)),INDEX(RRFs!E:E,MATCH(S142,RRFs!B:B,FALSE)))))","v":""},"","","",null,null,null,null,"After MeP",{"$f":"IF(Z142=\"\",\"\",IF(OR(AB142=\"Solvent\",AB142=\"After MeP\"),0,IF(AB142=\"\",INDEX(RRFs!E:E,MATCH(\"Triglyme\",RRFs!B:B,FALSE)),INDEX(RRFs!E:E,MATCH(AB142,RRFs!B:B,FALSE)))))","v":""},"","",""]
[null,null,null,null,null,null,null,null,null,null,null,null,null,null,null,null,null,null,"After MeP",{"$f":"IF(Q143=\"\",\"\",IF(OR(S143=\"Solvent\",S143=\"After MeP\"),0,IF(S143=\"\",INDEX(RRFs!E:E,MATCH(\"Triglyme\",RRFs!B:B,FALSE)),INDEX(RRFs!E:E,MATCH(S143,RRFs!B:B,FALSE)))))","v":""},"","","",null,null,null,null,"After MeP",{"$f":"IF(Z143=\"\",\"\",IF(OR(AB143=\"Solvent\",AB143=\"After MeP\"),0,IF(AB143=\"\",INDEX(RRFs!E:E,MATCH(\"Triglyme\",RRFs!B:B,FALSE)),INDEX(RRFs!E:E,MATCH(AB143,RRFs!B:B,FALSE)))))","v":""},"","",""]
[null,null,null,null,null,null,null,null,null,null,null,null,null,null,null,null,null,null,"After MeP",{"$f":"IF(Q144=\"\",\"\",IF(OR(S144=\"Solvent\",S144=\"After MeP\"),0,IF(S144=\"\",INDEX(RRFs!E:E,MATCH(\"Triglyme\",RRFs!B:B,FALSE)),INDEX(RRFs!E:E,MATCH(S144,RRFs!B:B,FALSE)))))","v":""},"","","",null,null,null,null,"After MeP",{"$f":"IF(Z144=\"\",\"\",IF(OR(AB144=\"Solvent\",AB144=\"After MeP\"),0,IF(AB144=\"\",INDEX(RRFs!E:E,MATCH(\"Triglyme\",RRFs!B:B,FALSE)),INDEX(RRFs!E:E,MATCH(AB144,RRFs!B:B,FALSE)))))","v":""},"","",""]
[null,null,null,null,null,null,null,null,null,null,null,null,null,null,null,null,null,null,"After MeP",{"$f":"IF(Q145=\"\",\"\",IF(OR(S145=\"Solvent\",S145=\"After MeP\"),0,IF(S145=\"\",INDEX(RRFs!E:E,MATCH(\"Triglyme\",RRFs!B:B,FALSE)),INDEX(RRFs!E:E,MATCH(S145,RRFs!B:B,FALSE)))))","v":""},"","","",null,null,null,null,"After MeP",{"$f":"IF(Z145=\"\",\"\",IF(OR(AB145=\"Solvent\",AB145=\"After MeP\"),0,IF(AB145=\"\",INDEX(RRFs!E:E,MATCH(\"Triglyme\",RRFs!B:B,FALSE)),INDEX(RRFs!E:E,MATCH(AB145,RRFs!B:B,FALSE)))))","v":""},"","",""]
[null,null,null,null,null,null,null,null,null,null,null,null,null,null,null,null,null,null,"After MeP",{"$f":"IF(Q146=\"\",\"\",IF(OR(S146=\"Solvent\",S146=\"After MeP\"),0,IF(S146=\"\",INDEX(RRFs!E:E,MATCH(\"Triglyme\",RRFs!B:B,FALSE)),INDEX(RRFs!E:E,MATCH(S146,RRFs!B:B,FALSE)))))","v":""},"","","",null,null,null,null,"After MeP",{"$f":"IF(Z146=\"\",\"\",IF(OR(AB146=\"Solvent\",AB146=\"After MeP\"),0,IF(AB146=\"\",INDEX(RRFs!E:E,MATCH(\"Triglyme\",RRFs!B:B,FALSE)),INDEX(RRFs!E:E,MATCH(AB146,RRFs!B:B,FALSE)))))","v":""},"","",""]
[null,null,null,null,null,null,null,null,null,null,null,null,null,null,null,null,null,null,"After MeP",{"$f":"IF(Q147=\"\",\"\",IF(OR(S147=\"Solvent\",S147=\"After MeP\"),0,IF(S147=\"\",INDEX(RRFs!E:E,MATCH(\"Triglyme\",RRFs!B:B,FALSE)),INDEX(RRFs!E:E,MATCH(S147,RRFs!B:B,FALSE)))))","v":""},"","","",null,null,null,null,"After MeP",{"$f":"IF(Z147=\"\",\"\",IF(OR(AB147=\"Solvent\",AB147=\"After MeP\"),0,IF(AB147=\"\",INDEX(RRFs!E:E,MATCH(\"Triglyme\",RRFs!B:B,FALSE)),INDEX(RRFs!E:E,MATCH(AB147,RRFs!B:B,FALSE)))))","v":""},"","",""]
[null,null,null,null,null,null,null,null,null,null,null,null,null,null,null,null,null,null,"After MeP",{"$f":"IF(Q148=\"\",\"\",IF(OR(S148=\"Solvent\",S148=\"After MeP\"),0,IF(S148=\"\",INDEX(RRFs!E:E,MATCH(\"Triglyme\",RRFs!B:B,FALSE)),INDEX(RRFs!E:E,MATCH(S148,RRFs!B:B,FALSE)))))","v":""},"","","",null,null,null,null,"After MeP",{"$f":"IF(Z148=\"\",\"\",IF(OR(AB148=\"Solvent\",AB148=\"After MeP\"),0,IF(AB148=\"\",INDEX(RRFs!E:E,MATCH(\"Triglyme\",RRFs!B:B,FALSE)),INDEX(RRFs!E:E,MATCH(AB148,RRFs!B:B,FALSE)))))","v":""},"","",""]
[null,null,null,null,null,null,null,null,null,null,null,null,null,null,null,null,null,null,"After MeP",{"$f":"IF(Q149=\"\",\"\",IF(OR(S149=\"Solvent\",S149=\"After MeP\"),0,IF(S149=\"\",INDEX(RRFs!E:E,MATCH(\"Triglyme\",RRFs!B:B,FALSE)),INDEX(RRFs!E:E,MATCH(S149,RRFs!B:B,FALSE)))))","v":""},"","","",null,null,null,null,"After MeP",{"$f":"IF(Z149=\"\",\"\",IF(OR(AB149=\"Solvent\",AB149=\"After MeP\"),0,IF(AB149=\"\",INDEX(RRFs!E:E,MATCH(\"Triglyme\",RRFs!B:B,FALSE)),INDEX(RRFs!E:E,MATCH(AB149,RRFs!B:B,FALSE)))))","v":""},"","",""]
[null,null,null,null,null,null,null,null,null,null,null,null,null,null,null,null,null,null,"After MeP",{"$f":"IF(Q150=\"\",\"\",IF(OR(S150=\"Solvent\",S150=\"After MeP\"),0,IF(S150=\"\",INDEX(RRFs!E:E,MATCH(\"Triglyme\",RRFs!B:B,FALSE)),INDEX(RRFs!E:E,MATCH(S150,RRFs!B:B,FALSE)))))","v":""},"","","",null,null,null,null,"After MeP",{"$f":"IF(Z150=\"\",\"\",IF(OR(AB150=\"Solvent\",AB150=\"After MeP\"),0,IF(AB150=\"\",INDEX(RRFs!E:E,MATCH(\"Triglyme\",RRFs!B:B,FALSE)),INDEX(RRFs!E:E,MATCH(AB150,RRFs!B:B,FALSE)))))","v":""},"","",""]
[null,null,null,null,null,null,null,null,null,null,null,null,null,null,null,null,null,null,"After MeP",{"$f":"IF(Q151=\"\",\"\",IF(OR(S151=\"Solvent\",S151=\"After MeP\"),0,IF(S151=\"\",INDEX(RRFs!E:E,MATCH(\"Triglyme\",RRFs!B:B,FALSE)),INDEX(RRFs!E:E,MATCH(S151,RRFs!B:B,FALSE)))))","v":""},"","","",null,null,null,null,"After MeP",{"$f":"IF(Z151=\"\",\"\",IF(OR(AB151=\"Solvent\",AB151=\"After MeP\"),0,IF(AB151=\"\",INDEX(RRFs!E:E,MATCH(\"Triglyme\",RRFs!B:B,FALSE)),INDEX(RRFs!E:E,MATCH(AB151,RRFs!B:B,FALSE)))))","v":""},"","",""]
[null,null,null,null,null,null,null,null,null,null,null,null,null,null,null,null,null,null,"After MeP",{"$f":"IF(Q152=\"\",\"\",IF(OR(S152=\"Solvent\",S152=\"After MeP\"),0,IF(S152=\"\",INDEX(RRFs!E:E,MATCH(\"Triglyme\",RRFs!B:B,FALSE)),INDEX(RRFs!E:E,MATCH(S152,RRFs!B:B,FALSE)))))","v":""},"","","",null,null,null,null,"After MeP",{"$f":"IF(Z152=\"\",\"\",IF(OR(AB152=\"Solvent\",AB152=\"After MeP\"),0,IF(AB152=\"\",INDEX(RRFs!E:E,MATCH(\"Triglyme\",RRFs!B:B,FALSE)),INDEX(RRFs!E:E,MATCH(AB152,RRFs!B:B,FALSE)))))","v":""},"","",""]
[null,null,null,null,null,null,null,null,null,null,null,null,null,null,null,null,null,null,"After MeP",{"$f":"IF(Q153=\"\",\"\",IF(OR(S153=\"Solvent\",S153=\"After MeP\"),0,IF(S153=\"\",INDEX(RRFs!E:E,MATCH(\"Triglyme\",RRFs!B:B,FALSE)),INDEX(RRFs!E:E,MATCH(S153,RRFs!B:B,FALSE)))))","v":""},"","","",null,null,null,null,"After MeP",{"$f":"IF(Z153=\"\",\"\",IF(OR(AB153=\"Solvent\",AB153=\"After MeP\"),0,IF(AB153=\"\",INDEX(RRFs!E:E,MATCH(\"Triglyme\",RRFs!B:B,FALSE)),INDEX(RRFs!E:E,MATCH(AB153,RRFs!B:B,FALSE)))))","v":""},"","",""]
[null,null,null,null,null,null,null,null,null,null,null,null,null,null,null,null,null,null,"After MeP",{"$f":"IF(Q154=\"\",\"\",IF(OR(S154=\"Solvent\",S154=\"After MeP\"),0,IF(S154=\"\",INDEX(RRFs!E:E,MATCH(\"Triglyme\",RRFs!B:B,FALSE)),INDEX(RRFs!E:E,MATCH(S154,RRFs!B:B,FALSE)))))","v":""},"","","",null,null,null,null,"After MeP",{"$f":"IF(Z154=\"\",\"\",IF(OR(AB154=\"Solvent\",AB154=\"After MeP\"),0,IF(AB154=\"\",INDEX(RRFs!E:E,MATCH(\"Triglyme\",RRFs!B:B,FALSE)),INDEX(RRFs!E:E,MATCH(AB154,RRFs!B:B,FALSE)))))","v":""},"","",""]
[null,null,null,null,null,null,null,null,null,null,null,null,null,null,null,null,null,null,"After MeP",{"$f":"IF(Q155=\"\",\"\",IF(OR(S155=\"Solvent\",S155=\"After MeP\"),0,IF(S155=\"\",INDEX(RRFs!E:E,MATCH(\"Triglyme\",RRFs!B:B,FALSE)),INDEX(RRFs!E:E,MATCH(S155,RRFs!B:B,FALSE)))))","v":""},"","","",null,null,null,null,"After MeP",{"$f":"IF(Z155=\"\",\"\",IF(OR(AB155=\"Solvent\",AB155=\"After MeP\"),0,IF(AB155=\"\",INDEX(RRFs!E:E,MATCH(\"Triglyme\",RRFs!B:B,FALSE)),INDEX(RRFs!E:E,MATCH(AB155,RRFs!B:B,FALSE)))))","v":""},"","",""]
[null,null,null,null,null,null,null,null,null,null,null,null,null,null,null,null,null,null,"After MeP",{"$f":"IF(Q156=\"\",\"\",IF(OR(S156=\"Solvent\",S156=\"After MeP\"),0,IF(S156=\"\",INDEX(RRFs!E:E,MATCH(\"Triglyme\",RRFs!B:B,FALSE)),INDEX(RRFs!E:E,MATCH(S156,RRFs!B:B,FALSE)))))","v":""},"","","",null,null,null,null,"After MeP",{"$f":"IF(Z156=\"\",\"\",IF(OR(AB156=\"Solvent\",AB156=\"After MeP\"),0,IF(AB156=\"\",INDEX(RRFs!E:E,MATCH(\"Triglyme\",RRFs!B:B,FALSE)),INDEX(RRFs!E:E,MATCH(AB156,RRFs!B:B,FALSE)))))","v":""},"","",""]
[null,null,null,null,null,null,null,null,null,null,null,null,null,null,null,null,null,null,"After MeP",{"$f":"IF(Q157=\"\",\"\",IF(OR(S157=\"Solvent\",S157=\"After MeP\"),0,IF(S157=\"\",INDEX(RRFs!E:E,MATCH(\"Triglyme\",RRFs!B:B,FALSE)),INDEX(RRFs!E:E,MATCH(S157,RRFs!B:B,FALSE)))))","v":""},"","","",null,null,null,null,"After MeP",{"$f":"IF(Z157=\"\",\"\",IF(OR(AB157=\"Solvent\",AB157=\"After MeP\"),0,IF(AB157=\"\",INDEX(RRFs!E:E,MATCH(\"Triglyme\",RRFs!B:B,FALSE)),INDEX(RRFs!E:E,MATCH(AB157,RRFs!B:B,FALSE)))))","v":""},"","",""]
[null,null,null,null,null,null,null,null,null,null,null,null,null,null,null,null,null,null,"After MeP",{"$f":"IF(Q158=\"\",\"\",IF(OR(S158=\"Solvent\",S158=\"After MeP\"),0,IF(S158=\"\",INDEX(RRFs!E:E,MATCH(\"Triglyme\",RRFs!B:B,FALSE)),INDEX(RRFs!E:E,MATCH(S158,RRFs!B:B,FALSE)))))","v":""},"","","",null,null,null,null,"After MeP",{"$f":"IF(Z158=\"\",\"\",IF(OR(AB158=\"Solvent\",AB158=\"After MeP\"),0,IF(AB158=\"\",INDEX(RRFs!E:E,MATCH(\"Triglyme\",RRFs!B:B,FALSE)),INDEX(RRFs!E:E,MATCH(AB158,RRFs!B:B,FALSE)))))","v":""},"","",""]
[null,null,null,null,null,null,null,null,null,null,null,null,null,null,null,null,null,null,"After MeP",{"$f":"IF(Q159=\"\",\"\",IF(OR(S159=\"Solvent\",S159=\"After MeP\"),0,IF(S159=\"\",INDEX(RRFs!E:E,MATCH(\"Triglyme\",RRFs!B:B,FALSE)),INDEX(RRFs!E:E,MATCH(S159,RRFs!B:B,FALSE)))))","v":""},"","","",null,null,null,null,"After MeP",{"$f":"IF(Z159=\"\",\"\",IF(OR(AB159=\"Solvent\",AB159=\"After MeP\"),0,IF(AB159=\"\",INDEX(RRFs!E:E,MATCH(\"Triglyme\",RRFs!B:B,FALSE)),INDEX(RRFs!E:E,MATCH(AB159,RRFs!B:B,FALSE)))))","v":""},"","",""]
[null,null,null,null,null,null,null,null,null,null,null,null,null,null,null,null,null,null,"After MeP",{"$f":"IF(Q160=\"\",\"\",IF(OR(S160=\"Solvent\",S160=\"After MeP\"),0,IF(S160=\"\",INDEX(RRFs!E:E,MATCH(\"Triglyme\",RRFs!B:B,FALSE)),INDEX(RRFs!E:E,MATCH(S160,RRFs!B:B,FALSE)))))","v":""},"","","",null,null,null,null,"After MeP",{"$f":"IF(Z160=\"\",\"\",IF(OR(AB160=\"Solvent\",AB160=\"After MeP\"),0,IF(AB160=\"\",INDEX(RRFs!E:E,MATCH(\"Triglyme\",RRFs!B:B,FALSE)),INDEX(RRFs!E:E,MATCH(AB160,RRFs!B:B,FALSE)))))","v":""},"","",""]
[null,null,null,null,null,null,null,null,null,null,null,null,null,null,null,null,null,null,"After MeP",{"$f":"IF(Q161=\"\",\"\",IF(OR(S161=\"Solvent\",S161=\"After MeP\"),0,IF(S161=\"\",INDEX(RRFs!E:E,MATCH(\"Triglyme\",RRFs!B:B,FALSE)),INDEX(RRFs!E:E,MATCH(S161,RRFs!B:B,FALSE)))))","v":""},"","","",null,null,null,null,"After MeP",{"$f":"IF(Z161=\"\",\"\",IF(OR(AB161=\"Solvent\",AB161=\"After MeP\"),0,IF(AB161=\"\",INDEX(RRFs!E:E,MATCH(\"Triglyme\",RRFs!B:B,FALSE)),INDEX(RRFs!E:E,MATCH(AB161,RRFs!B:B,FALSE)))))","v":""},"","",""]
[null,null,null,null,null,null,null,null,null,null,null,null,null,null,null,null,null,null,"After MeP",{"$f":"IF(Q162=\"\",\"\",IF(OR(S162=\"Solvent\",S162=\"After MeP\"),0,IF(S162=\"\",INDEX(RRFs!E:E,MATCH(\"Triglyme\",RRFs!B:B,FALSE)),INDEX(RRFs!E:E,MATCH(S162,RRFs!B:B,FALSE)))))","v":""},"","","",null,null,null,null,"After MeP",{"$f":"IF(Z162=\"\",\"\",IF(OR(AB162=\"Solvent\",AB162=\"After MeP\"),0,IF(AB162=\"\",INDEX(RRFs!E:E,MATCH(\"Triglyme\",RRFs!B:B,FALSE)),INDEX(RRFs!E:E,MATCH(AB162,RRFs!B:B,FALSE)))))","v":""},"","",""]
[null,null,null,null,null,null,null,null,null,null,null,null,null,null,null,null,null,null,"After MeP",{"$f":"IF(Q163=\"\",\"\",IF(OR(S163=\"Solvent\",S163=\"After MeP\"),0,IF(S163=\"\",INDEX(RRFs!E:E,MATCH(\"Triglyme\",RRFs!B:B,FALSE)),INDEX(RRFs!E:E,MATCH(S163,RRFs!B:B,FALSE)))))","v":""},"","","",null,null,null,null,"After MeP",{"$f":"IF(Z163=\"\",\"\",IF(OR(AB163=\"Solvent\",AB163=\"After MeP\"),0,IF(AB163=\"\",INDEX(RRFs!E:E,MATCH(\"Triglyme\",RRFs!B:B,FALSE)),INDEX(RRFs!E:E,MATCH(AB163,RRFs!B:B,FALSE)))))","v":""},"","",""]
[null,null,null,null,null,null,null,null,null,null,null,null,null,null,null,null,null,null,"After MeP",{"$f":"IF(Q164=\"\",\"\",IF(OR(S164=\"Solvent\",S164=\"After MeP\"),0,IF(S164=\"\",INDEX(RRFs!E:E,MATCH(\"Triglyme\",RRFs!B:B,FALSE)),INDEX(RRFs!E:E,MATCH(S164,RRFs!B:B,FALSE)))))","v":""},"","","",null,null,null,null,"After MeP",{"$f":"IF(Z164=\"\",\"\",IF(OR(AB164=\"Solvent\",AB164=\"After MeP\"),0,IF(AB164=\"\",INDEX(RRFs!E:E,MATCH(\"Triglyme\",RRFs!B:B,FALSE)),INDEX(RRFs!E:E,MATCH(AB164,RRFs!B:B,FALSE)))))","v":""},"","",""]
[null,null,null,null,null,null,null,null,null,null,null,null,null,null,null,null,null,null,"After MeP",{"$f":"IF(Q165=\"\",\"\",IF(OR(S165=\"Solvent\",S165=\"After MeP\"),0,IF(S165=\"\",INDEX(RRFs!E:E,MATCH(\"Triglyme\",RRFs!B:B,FALSE)),INDEX(RRFs!E:E,MATCH(S165,RRFs!B:B,FALSE)))))","v":""},{"$f":"IF(Q165=\"\",\"\",IF(T165=0,0,IF(S165=\"EGDE\",R165/T165,R165/INDEX(R:R,MATCH(\"EGDE\",S:S,FALSE)) *INDEX($F$29:$F$38,MATCH(\"EGDE\",$C$29:$C$38,FALSE))/T165)))","v":""},"","",null,null,null,null,"After MeP",{"$f":"IF(Z165=\"\",\"\",IF(OR(AB165=\"Solvent\",AB165=\"After MeP\"),0,IF(AB165=\"\",INDEX(RRFs!E:E,MATCH(\"Triglyme\",RRFs!B:B,FALSE)),INDEX(RRFs!E:E,MATCH(AB165,RRFs!B:B,FALSE)))))","v":""},{"$f":"IF(Z165=\"\",\"\",IF(AC165=0,0,IF(AB165=\"EGDE\",AA165/AC165,AA165/INDEX(AA:AA,MATCH(\"EGDE\",AB:AB,FALSE)) *INDEX($F$29:$F$38,MATCH(\"EGDE\",$C$29:$C$38,FALSE))/AC165)))","v":""},"",""]
[null,null,null,null,null,null,null,null,null,null,null,null,null,null,null,null,null,null,"After MeP",{"$f":"IF(Q166=\"\",\"\",IF(OR(S166=\"Solvent\",S166=\"After MeP\"),0,IF(S166=\"\",INDEX(RRFs!E:E,MATCH(\"Triglyme\",RRFs!B:B,FALSE)),INDEX(RRFs!E:E,MATCH(S166,RRFs!B:B,FALSE)))))","v":""},"","","",null,null,null,null,"After MeP",{"$f":"IF(Z166=\"\",\"\",IF(OR(AB166=\"Solvent\",AB166=\"After MeP\"),0,IF(AB166=\"\",INDEX(RRFs!E:E,MATCH(\"Triglyme\",RRFs!B:B,FALSE)),INDEX(RRFs!E:E,MATCH(AB166,RRFs!B:B,FALSE)))))","v":""},"","",""]
[null,null,null,null,null,null,null,null,null,null,null,null,null,null,null,null,null,null,"After MeP",{"$f":"IF(Q167=\"\",\"\",IF(OR(S167=\"Solvent\",S167=\"After MeP\"),0,IF(S167=\"\",INDEX(RRFs!E:E,MATCH(\"Triglyme\",RRFs!B:B,FALSE)),INDEX(RRFs!E:E,MATCH(S167,RRFs!B:B,FALSE)))))","v":""},"","","",null,null,null,null,"After MeP",{"$f":"IF(Z167=\"\",\"\",IF(OR(AB167=\"Solvent\",AB167=\"After MeP\"),0,IF(AB167=\"\",INDEX(RRFs!E:E,MATCH(\"Triglyme\",RRFs!B:B,FALSE)),INDEX(RRFs!E:E,MATCH(AB167,RRFs!B:B,FALSE)))))","v":""},"","",""]
[null,null,null,null,null,null,null,null,null,null,null,null,null,null,null,null,null,null,"After MeP",{"$f":"IF(Q168=\"\",\"\",IF(OR(S168=\"Solvent\",S168=\"After MeP\"),0,IF(S168=\"\",INDEX(RRFs!E:E,MATCH(\"Triglyme\",RRFs!B:B,FALSE)),INDEX(RRFs!E:E,MATCH(S168,RRFs!B:B,FALSE)))))","v":""},"","","",null,null,null,null,"After MeP",{"$f":"IF(Z168=\"\",\"\",IF(OR(AB168=\"Solvent\",AB168=\"After MeP\"),0,IF(AB168=\"\",INDEX(RRFs!E:E,MATCH(\"Triglyme\",RRFs!B:B,FALSE)),INDEX(RRFs!E:E,MATCH(AB168,RRFs!B:B,FALSE)))))","v":""},"","",""]
[null,null,null,null,null,null,null,null,null,null,null,null,null,null,null,null,null,null,"After MeP",{"$f":"IF(Q169=\"\",\"\",IF(OR(S169=\"Solvent\",S169=\"After MeP\"),0,IF(S169=\"\",INDEX(RRFs!E:E,MATCH(\"Triglyme\",RRFs!B:B,FALSE)),INDEX(RRFs!E:E,MATCH(S169,RRFs!B:B,FALSE)))))","v":""},"","","",null,null,null,null,"After MeP",{"$f":"IF(Z169=\"\",\"\",IF(OR(AB169=\"Solvent\",AB169=\"After MeP\"),0,IF(AB169=\"\",INDEX(RRFs!E:E,MATCH(\"Triglyme\",RRFs!B:B,FALSE)),INDEX(RRFs!E:E,MATCH(AB169,RRFs!B:B,FALSE)))))","v":""},"","",""]
[null,null,null,null,null,null,null,null,null,null,null,null,null,null,null,null,null,null,"After MeP",{"$f":"IF(Q170=\"\",\"\",IF(OR(S170=\"Solvent\",S170=\"After MeP\"),0,IF(S170=\"\",INDEX(RRFs!E:E,MATCH(\"Triglyme\",RRFs!B:B,FALSE)),INDEX(RRFs!E:E,MATCH(S170,RRFs!B:B,FALSE)))))","v":""},"","","",null,null,null,null,"After MeP",{"$f":"IF(Z170=\"\",\"\",IF(OR(AB170=\"Solvent\",AB170=\"After MeP\"),0,IF(AB170=\"\",INDEX(RRFs!E:E,MATCH(\"Triglyme\",RRFs!B:B,FALSE)),INDEX(RRFs!E:E,MATCH(AB170,RRFs!B:B,FALSE)))))","v":""},"","",""]
[null,null,null,null,null,null,null,null,null,null,null,null,null,null,null,null,null,null,"After MeP",{"$f":"IF(Q171=\"\",\"\",IF(OR(S171=\"Solvent\",S171=\"After MeP\"),0,IF(S171=\"\",INDEX(RRFs!E:E,MATCH(\"Triglyme\",RRFs!B:B,FALSE)),INDEX(RRFs!E:E,MATCH(S171,RRFs!B:B,FALSE)))))","v":""},"","","",null,null,null,null,"After MeP",{"$f":"IF(Z171=\"\",\"\",IF(OR(AB171=\"Solvent\",AB171=\"After MeP\"),0,IF(AB171=\"\",INDEX(RRFs!E:E,MATCH(\"Triglyme\",RRFs!B:B,FALSE)),INDEX(RRFs!E:E,MATCH(AB171,RRFs!B:B,FALSE)))))","v":""},"","",""]
[null,null,null,null,null,null,null,null,null,null,null,null,null,null,null,null,null,null,"After MeP",{"$f":"IF(Q172=\"\",\"\",IF(OR(S172=\"Solvent\",S172=\"After MeP\"),0,IF(S172=\"\",INDEX(RRFs!E:E,MATCH(\"Triglyme\",RRFs!B:B,FALSE)),INDEX(RRFs!E:E,MATCH(S172,RRFs!B:B,FALSE)))))","v":""},"","","",null,null,null,null,"After MeP",{"$f":"IF(Z172=\"\",\"\",IF(OR(AB172=\"Solvent\",AB172=\"After MeP\"),0,IF(AB172=\"\",INDEX(RRFs!E:E,MATCH(\"Triglyme\",RRFs!B:B,FALSE)),INDEX(RRFs!E:E,MATCH(AB172,RRFs!B:B,FALSE)))))","v":""},"","",""]
[null,null,null,null,null,null,null,null,null,null,null,null,null,null,null,null,null,null,"After MeP",{"$f":"IF(Q173=\"\",\"\",IF(OR(S173=\"Solvent\",S173=\"After MeP\"),0,IF(S173=\"\",INDEX(RRFs!E:E,MATCH(\"Triglyme\",RRFs!B:B,FALSE)),INDEX(RRFs!E:E,MATCH(S173,RRFs!B:B,FALSE)))))","v":""},"","","",null,null,null,null,"After MeP",{"$f":"IF(Z173=\"\",\"\",IF(OR(AB173=\"Solvent\",AB173=\"After MeP\"),0,IF(AB173=\"\",INDEX(RRFs!E:E,MATCH(\"Triglyme\",RRFs!B:B,FALSE)),INDEX(RRFs!E:E,MATCH(AB173,RRFs!B:B,FALSE)))))","v":""},"","",""]
[null,null,null,null,null,null,null,null,null,null,null,null,null,null,null,null,null,null,"After MeP",{"$f":"IF(Q174=\"\",\"\",IF(OR(S174=\"Solvent\",S174=\"After MeP\"),0,IF(S174=\"\",INDEX(RRFs!E:E,MATCH(\"Triglyme\",RRFs!B:B,FALSE)),INDEX(RRFs!E:E,MATCH(S174,RRFs!B:B,FALSE)))))","v":""},"","","",null,null,null,null,"After MeP",{"$f":"IF(Z174=\"\",\"\",IF(OR(AB174=\"Solvent\",AB174=\"After MeP\"),0,IF(AB174=\"\",INDEX(RRFs!E:E,MATCH(\"Triglyme\",RRFs!B:B,FALSE)),INDEX(RRFs!E:E,MATCH(AB174,RRFs!B:B,FALSE)))))","v":""},"","",""]
[null,null,null,null,null,null,null,null,null,null,null,null,null,null,null,null,null,null,"After MeP",{"$f":"IF(Q175=\"\",\"\",IF(OR(S175=\"Solvent\",S175=\"After MeP\"),0,IF(S175=\"\",INDEX(RRFs!E:E,MATCH(\"Triglyme\",RRFs!B:B,FALSE)),INDEX(RRFs!E:E,MATCH(S175,RRFs!B:B,FALSE)))))","v":""},"","","",null,null,null,null,"After MeP",{"$f":"IF(Z175=\"\",\"\",IF(OR(AB175=\"Solvent\",AB175=\"After MeP\"),0,IF(AB175=\"\",INDEX(RRFs!E:E,MATCH(\"Triglyme\",RRFs!B:B,FALSE)),INDEX(RRFs!E:E,MATCH(AB175,RRFs!B:B,FALSE)))))","v":""},"","",""]
[null,null,null,null,null,null,null,null,null,null,null,null,null,null,null,null,null,null,"After MeP",{"$f":"IF(Q176=\"\",\"\",IF(OR(S176=\"Solvent\",S176=\"After MeP\"),0,IF(S176=\"\",INDEX(RRFs!E:E,MATCH(\"Triglyme\",RRFs!B:B,FALSE)),INDEX(RRFs!E:E,MATCH(S176,RRFs!B:B,FALSE)))))","v":""},"","","",null,null,null,null,"After MeP",{"$f":"IF(Z176=\"\",\"\",IF(OR(AB176=\"Solvent\",AB176=\"After MeP\"),0,IF(AB176=\"\",INDEX(RRFs!E:E,MATCH(\"Triglyme\",RRFs!B:B,FALSE)),INDEX(RRFs!E:E,MATCH(AB176,RRFs!B:B,FALSE)))))","v":""},"","",""]
[null,null,null,null,null,null,null,null,null,null,null,null,null,null,null,null,null,null,"After MeP",{"$f":"IF(Q177=\"\",\"\",IF(OR(S177=\"Solvent\",S177=\"After MeP\"),0,IF(S177=\"\",INDEX(RRFs!E:E,MATCH(\"Triglyme\",RRFs!B:B,FALSE)),INDEX(RRFs!E:E,MATCH(S177,RRFs!B:B,FALSE)))))","v":""},"","","",null,null,null,null,"After MeP",{"$f":"IF(Z177=\"\",\"\",IF(OR(AB177=\"Solvent\",AB177=\"After MeP\"),0,IF(AB177=\"\",INDEX(RRFs!E:E,MATCH(\"Triglyme\",RRFs!B:B,FALSE)),INDEX(RRFs!E:E,MATCH(AB177,RRFs!B:B,FALSE)))))","v":""},"","",""]
[null,null,null,null,null,null,null,null,null,null,null,null,null,null,null,null,null,null,"After MeP",{"$f":"IF(Q178=\"\",\"\",IF(OR(S178=\"Solvent\",S178=\"After MeP\"),0,IF(S178=\"\",INDEX(RRFs!E:E,MATCH(\"Triglyme\",RRFs!B:B,FALSE)),INDEX(RRFs!E:E,MATCH(S178,RRFs!B:B,FALSE)))))","v":""},"","","",null,null,null,null,"After MeP",{"$f":"IF(Z178=\"\",\"\",IF(OR(AB178=\"Solvent\",AB178=\"After MeP\"),0,IF(AB178=\"\",INDEX(RRFs!E:E,MATCH(\"Triglyme\",RRFs!B:B,FALSE)),INDEX(RRFs!E:E,MATCH(AB178,RRFs!B:B,FALSE)))))","v":""},"","",""]
[null,null,null,null,null,null,null,null,null,null,null,null,null,null,null,null,null,null,"After MeP",{"$f":"IF(Q179=\"\",\"\",IF(OR(S179=\"Solvent\",S179=\"After MeP\"),0,IF(S179=\"\",INDEX(RRFs!E:E,MATCH(\"Triglyme\",RRFs!B:B,FALSE)),INDEX(RRFs!E:E,MATCH(S179,RRFs!B:B,FALSE)))))","v":""},"","","",null,null,null,null,"After MeP",{"$f":"IF(Z179=\"\",\"\",IF(OR(AB179=\"Solvent\",AB179=\"After MeP\"),0,IF(AB179=\"\",INDEX(RRFs!E:E,MATCH(\"Triglyme\",RRFs!B:B,FALSE)),INDEX(RRFs!E:E,MATCH(AB179,RRFs!B:B,FALSE)))))","v":""},"","",""]
[null,null,null,null,null,null,null,null,null,null,null,null,null,null,null,null,null,null,"After MeP",{"$f":"IF(Q180=\"\",\"\",IF(OR(S180=\"Solvent\",S180=\"After MeP\"),0,IF(S180=\"\",INDEX(RRFs!E:E,MATCH(\"Triglyme\",RRFs!B:B,FALSE)),INDEX(RRFs!E:E,MATCH(S180,RRFs!B:B,FALSE)))))","v":""},"","","",null,null,null,null,"After MeP",{"$f":"IF(Z180=\"\",\"\",IF(OR(AB180=\"Solvent\",AB180=\"After MeP\"),0,IF(AB180=\"\",INDEX(RRFs!E:E,MATCH(\"Triglyme\",RRFs!B:B,FALSE)),INDEX(RRFs!E:E,MATCH(AB180,RRFs!B:B,FALSE)))))","v":""},"","",""]
[null,null,null,null,null,null,null,null,null,null,null,null,null,null,null,null,null,null,"After MeP",{"$f":"IF(Q181=\"\",\"\",IF(OR(S181=\"Solvent\",S181=\"After MeP\"),0,IF(S181=\"\",INDEX(RRFs!E:E,MATCH(\"Triglyme\",RRFs!B:B,FALSE)),INDEX(RRFs!E:E,MATCH(S181,RRFs!B:B,FALSE)))))","v":""},"","","",null,null,null,null,"After MeP",{"$f":"IF(Z181=\"\",\"\",IF(OR(AB181=\"Solvent\",AB181=\"After MeP\"),0,IF(AB181=\"\",INDEX(RRFs!E:E,MATCH(\"Triglyme\",RRFs!B:B,FALSE)),INDEX(RRFs!E:E,MATCH(AB181,RRFs!B:B,FALSE)))))","v":""},"","",""]
[null,null,null,null,null,null,null,null,null,null,null,null,null,null,null,null,null,null,"After MeP",{"$f":"IF(Q182=\"\",\"\",IF(OR(S182=\"Solvent\",S182=\"After MeP\"),0,IF(S182=\"\",INDEX(RRFs!E:E,MATCH(\"Triglyme\",RRFs!B:B,FALSE)),INDEX(RRFs!E:E,MATCH(S182,RRFs!B:B,FALSE)))))","v":""},"","","",null,null,null,null,"After MeP",{"$f":"IF(Z182=\"\",\"\",IF(OR(AB182=\"Solvent\",AB182=\"After MeP\"),0,IF(AB182=\"\",INDEX(RRFs!E:E,MATCH(\"Triglyme\",RRFs!B:B,FALSE)),INDEX(RRFs!E:E,MATCH(AB182,RRFs!B:B,FALSE)))))","v":""},"","",""]
[null,null,null,null,null,null,null,null,null,null,null,null,null,null,null,null,null,null,"After MeP",{"$f":"IF(Q183=\"\",\"\",IF(OR(S183=\"Solvent\",S183=\"After MeP\"),0,IF(S183=\"\",INDEX(RRFs!E:E,MATCH(\"Triglyme\",RRFs!B:B,FALSE)),INDEX(RRFs!E:E,MATCH(S183,RRFs!B:B,FALSE)))))","v":""},"","","",null,null,null,null,"After MeP",{"$f":"IF(Z183=\"\",\"\",IF(OR(AB183=\"Solvent\",AB183=\"After MeP\"),0,IF(AB183=\"\",INDEX(RRFs!E:E,MATCH(\"Triglyme\",RRFs!B:B,FALSE)),INDEX(RRFs!E:E,MATCH(AB183,RRFs!B:B,FALSE)))))","v":""},"","",""]
[null,null,null,null,null,null,null,null,null,null,null,null,null,null,null,null,null,null,"After MeP",{"$f":"IF(Q184=\"\",\"\",IF(OR(S184=\"Solvent\",S184=\"After MeP\"),0,IF(S184=\"\",INDEX(RRFs!E:E,MATCH(\"Triglyme\",RRFs!B:B,FALSE)),INDEX(RRFs!E:E,MATCH(S184,RRFs!B:B,FALSE)))))","v":""},"","","",null,null,null,null,"After MeP",{"$f":"IF(Z184=\"\",\"\",IF(OR(AB184=\"Solvent\",AB184=\"After MeP\"),0,IF(AB184=\"\",INDEX(RRFs!E:E,MATCH(\"Triglyme\",RRFs!B:B,FALSE)),INDEX(RRFs!E:E,MATCH(AB184,RRFs!B:B,FALSE)))))","v":""},"","",""]
[null,null,null,null,null,null,null,null,null,null,null,null,null,null,null,null,null,null,"After MeP",{"$f":"IF(Q185=\"\",\"\",IF(OR(S185=\"Solvent\",S185=\"After MeP\"),0,IF(S185=\"\",INDEX(RRFs!E:E,MATCH(\"Triglyme\",RRFs!B:B,FALSE)),INDEX(RRFs!E:E,MATCH(S185,RRFs!B:B,FALSE)))))","v":""},"","","",null,null,null,null,"After MeP",{"$f":"IF(Z185=\"\",\"\",IF(OR(AB185=\"Solvent\",AB185=\"After MeP\"),0,IF(AB185=\"\",INDEX(RRFs!E:E,MATCH(\"Triglyme\",RRFs!B:B,FALSE)),INDEX(RRFs!E:E,MATCH(AB185,RRFs!B:B,FALSE)))))","v":""},"","",""]
[null,null,null,null,null,null,null,null,null,null,null,null,null,null,null,null,null,null,"After MeP",{"$f":"IF(Q186=\"\",\"\",IF(OR(S186=\"Solvent\",S186=\"After MeP\"),0,IF(S186=\"\",INDEX(RRFs!E:E,MATCH(\"Triglyme\",RRFs!B:B,FALSE)),INDEX(RRFs!E:E,MATCH(S186,RRFs!B:B,FALSE)))))","v":""},"","","",null,null,null,null,"After MeP",{"$f":"IF(Z186=\"\",\"\",IF(OR(AB186=\"Solvent\",AB186=\"After MeP\"),0,IF(AB186=\"\",INDEX(RRFs!E:E,MATCH(\"Triglyme\",RRFs!B:B,FALSE)),INDEX(RRFs!E:E,MATCH(AB186,RRFs!B:B,FALSE)))))","v":""},"","",""]
[null,null,null,null,null,null,null,null,null,null,null,null,null,null,null,null,null,null,"After MeP",{"$f":"IF(Q187=\"\",\"\",IF(OR(S187=\"Solvent\",S187=\"After MeP\"),0,IF(S187=\"\",INDEX(RRFs!E:E,MATCH(\"Triglyme\",RRFs!B:B,FALSE)),INDEX(RRFs!E:E,MATCH(S187,RRFs!B:B,FALSE)))))","v":""},"","","",null,null,null,null,"After MeP",{"$f":"IF(Z187=\"\",\"\",IF(OR(AB187=\"Solvent\",AB187=\"After MeP\"),0,IF(AB187=\"\",INDEX(RRFs!E:E,MATCH(\"Triglyme\",RRFs!B:B,FALSE)),INDEX(RRFs!E:E,MATCH(AB187,RRFs!B:B,FALSE)))))","v":""},"","",""]
[null,null,null,null,null,null,null,null,null,null,null,null,null,null,null,null,null,null,"After MeP",{"$f":"IF(Q188=\"\",\"\",IF(OR(S188=\"Solvent\",S188=\"After MeP\"),0,IF(S188=\"\",INDEX(RRFs!E:E,MATCH(\"Triglyme\",RRFs!B:B,FALSE)),INDEX(RRFs!E:E,MATCH(S188,RRFs!B:B,FALSE)))))","v":""},"","","",null,null,null,null,"After MeP",{"$f":"IF(Z188=\"\",\"\",IF(OR(AB188=\"Solvent\",AB188=\"After MeP\"),0,IF(AB188=\"\",INDEX(RRFs!E:E,MATCH(\"Triglyme\",RRFs!B:B,FALSE)),INDEX(RRFs!E:E,MATCH(AB188,RRFs!B:B,FALSE)))))","v":""},"","",""]
[null,null,null,null,null,null,null,null,null,null,null,null,null,null,null,null,null,null,"After MeP",{"$f":"IF(Q189=\"\",\"\",IF(OR(S189=\"Solvent\",S189=\"After MeP\"),0,IF(S189=\"\",INDEX(RRFs!E:E,MATCH(\"Triglyme\",RRFs!B:B,FALSE)),INDEX(RRFs!E:E,MATCH(S189,RRFs!B:B,FALSE)))))","v":""},"","","",null,null,null,null,"After MeP",{"$f":"IF(Z189=\"\",\"\",IF(OR(AB189=\"Solvent\",AB189=\"After MeP\"),0,IF(AB189=\"\",INDEX(RRFs!E:E,MATCH(\"Triglyme\",RRFs!B:B,FALSE)),INDEX(RRFs!E:E,MATCH(AB189,RRFs!B:B,FALSE)))))","v":""},"","",""]
[null,null,null,null,null,null,null,null,null,null,null,null,null,null,null,null,null,null,"After MeP",{"$f":"IF(Q190=\"\",\"\",IF(OR(S190=\"Solvent\",S190=\"After MeP\"),0,IF(S190=\"\",INDEX(RRFs!E:E,MATCH(\"Triglyme\",RRFs!B:B,FALSE)),INDEX(RRFs!E:E,MATCH(S190,RRFs!B:B,FALSE)))))","v":""},"","","",null,null,null,null,"After MeP",{"$f":"IF(Z190=\"\",\"\",IF(OR(AB190=\"Solvent\",AB190=\"After MeP\"),0,IF(AB190=\"\",INDEX(RRFs!E:E,MATCH(\"Triglyme\",RRFs!B:B,FALSE)),INDEX(RRFs!E:E,MATCH(AB190,RRFs!B:B,FALSE)))))","v":""},"","",""]
[null,null,null,null,null,null,null,null,null,null,null,null,null,null,null,null,null,null,"After MeP",{"$f":"IF(Q191=\"\",\"\",IF(OR(S191=\"Solvent\",S191=\"After MeP\"),0,IF(S191=\"\",INDEX(RRFs!E:E,MATCH(\"Triglyme\",RRFs!B:B,FALSE)),INDEX(RRFs!E:E,MATCH(S191,RRFs!B:B,FALSE)))))","v":""},"","","",null,null,null,null,"After MeP",{"$f":"IF(Z191=\"\",\"\",IF(OR(AB191=\"Solvent\",AB191=\"After MeP\"),0,IF(AB191=\"\",INDEX(RRFs!E:E,MATCH(\"Triglyme\",RRFs!B:B,FALSE)),INDEX(RRFs!E:E,MATCH(AB191,RRFs!B:B,FALSE)))))","v":""},"","",""]
[null,null,null,null,null,null,null,null,null,null,null,null,null,null,null,null,null,null,"After MeP",{"$f":"IF(Q192=\"\",\"\",IF(OR(S192=\"Solvent\",S192=\"After MeP\"),0,IF(S192=\"\",INDEX(RRFs!E:E,MATCH(\"Triglyme\",RRFs!B:B,FALSE)),INDEX(RRFs!E:E,MATCH(S192,RRFs!B:B,FALSE)))))","v":""},"","","",null,null,null,null,"After MeP",{"$f":"IF(Z192=\"\",\"\",IF(OR(AB192=\"Solvent\",AB192=\"After MeP\"),0,IF(AB192=\"\",INDEX(RRFs!E:E,MATCH(\"Triglyme\",RRFs!B:B,FALSE)),INDEX(RRFs!E:E,MATCH(AB192,RRFs!B:B,FALSE)))))","v":""},"","",""]
[null,null,null,null,null,null,null,null,null,null,null,null,null,null,null,null,null,null,"After MeP",{"$f":"IF(Q193=\"\",\"\",IF(OR(S193=\"Solvent\",S193=\"After MeP\"),0,IF(S193=\"\",INDEX(RRFs!E:E,MATCH(\"Triglyme\",RRFs!B:B,FALSE)),INDEX(RRFs!E:E,MATCH(S193,RRFs!B:B,FALSE)))))","v":""},"","","",null,null,null,null,"After MeP",{"$f":"IF(Z193=\"\",\"\",IF(OR(AB193=\"Solvent\",AB193=\"After MeP\"),0,IF(AB193=\"\",INDEX(RRFs!E:E,MATCH(\"Triglyme\",RRFs!B:B,FALSE)),INDEX(RRFs!E:E,MATCH(AB193,RRFs!B:B,FALSE)))))","v":""},"","",""]
[null,null,null,null,null,null,null,null,null,null,null,null,null,null,null,null,null,null,"After MeP",{"$f":"IF(Q194=\"\",\"\",IF(OR(S194=\"Solvent\",S194=\"After MeP\"),0,IF(S194=\"\",INDEX(RRFs!E:E,MATCH(\"Triglyme\",RRFs!B:B,FALSE)),INDEX(RRFs!E:E,MATCH(S194,RRFs!B:B,FALSE)))))","v":""},"","","",null,null,null,null,"After MeP",{"$f":"IF(Z194=\"\",\"\",IF(OR(AB194=\"Solvent\",AB194=\"After MeP\"),0,IF(AB194=\"\",INDEX(RRFs!E:E,MATCH(\"Triglyme\",RRFs!B:B,FALSE)),INDEX(RRFs!E:E,MATCH(AB194,RRFs!B:B,FALSE)))))","v":""},"","",""]
[null,null,null,null,null,null,null,null,null,null,null,null,null,null,null,null,null,null,"After MeP",{"$f":"IF(Q195=\"\",\"\",IF(OR(S195=\"Solvent\",S195=\"After MeP\"),0,IF(S195=\"\",INDEX(RRFs!E:E,MATCH(\"Triglyme\",RRFs!B:B,FALSE)),INDEX(RRFs!E:E,MATCH(S195,RRFs!B:B,FALSE)))))","v":""},"","","",null,null,null,null,"After MeP",{"$f":"IF(Z195=\"\",\"\",IF(OR(AB195=\"Solvent\",AB195=\"After MeP\"),0,IF(AB195=\"\",INDEX(RRFs!E:E,MATCH(\"Triglyme\",RRFs!B:B,FALSE)),INDEX(RRFs!E:E,MATCH(AB195,RRFs!B:B,FALSE)))))","v":""},"","",""]
[null,null,null,null,null,null,null,null,null,null,null,null,null,null,null,null,null,null,"After MeP",{"$f":"IF(Q196=\"\",\"\",IF(OR(S196=\"Solvent\",S196=\"After MeP\"),0,IF(S196=\"\",INDEX(RRFs!E:E,MATCH(\"Triglyme\",RRFs!B:B,FALSE)),INDEX(RRFs!E:E,MATCH(S196,RRFs!B:B,FALSE)))))","v":""},"","","",null,null,null,null,"After MeP",{"$f":"IF(Z196=\"\",\"\",IF(OR(AB196=\"Solvent\",AB196=\"After MeP\"),0,IF(AB196=\"\",INDEX(RRFs!E:E,MATCH(\"Triglyme\",RRFs!B:B,FALSE)),INDEX(RRFs!E:E,MATCH(AB196,RRFs!B:B,FALSE)))))","v":""},"","",""]
[null,null,null,null,null,null,null,null,null,null,null,null,null,null,null,null,null,null,{"$f":"IF(Q197>=$E$41,\"After MeP\",\"\")","v":"After MeP"},{"$f":"IF(Q197=\"\",\"\",IF(OR(S197=\"Solvent\",S197=\"After MeP\"),0,IF(S197=\"\",INDEX(RRFs!E:E,MATCH(\"Triglyme\",RRFs!B:B,FALSE)),INDEX(RRFs!E:E,MATCH(S197,RRFs!B:B,FALSE)))))","v":""},{"$f":"IF(Q197=\"\",\"\",IF(T197=0,0,IF(S197=\"EGDE\",R197/T197,R197/INDEX(R:R,MATCH(\"EGDE\",S:S,FALSE)) *INDEX($F$29:$F$38,MATCH(\"EGDE\",$C$29:$C$38,FALSE))/T197)))","v":""},"","",null,null,null,null,{"$f":"IF(Z197>=$E$41,\"After MeP\",\"\")","v":"After MeP"},{"$f":"IF(Z197=\"\",\"\",IF(OR(AB197=\"Solvent\",AB197=\"After MeP\"),0,IF(AB197=\"\",INDEX(RRFs!E:E,MATCH(\"Triglyme\",RRFs!B:B,FALSE)),INDEX(RRFs!E:E,MATCH(AB197,RRFs!B:B,FALSE)))))","v":""},{"$f":"IF(Z197=\"\",\"\",IF(AC197=0,0,IF(AB197=\"EGDE\",AA197/AC197,AA197/INDEX(AA:AA,MATCH(\"EGDE\",AB:AB,FALSE)) *INDEX($F$29:$F$38,MATCH(\"EGDE\",$C$29:$C$38,FALSE))/AC197)))","v":""},"",""]
[null,null,null,null,null,null,null,null,null,null,null,null,null,null,null,null,null,null,"After MeP",{"$f":"IF(Q198=\"\",\"\",IF(OR(S198=\"Solvent\",S198=\"After MeP\"),0,IF(S198=\"\",INDEX(RRFs!E:E,MATCH(\"Triglyme\",RRFs!B:B,FALSE)),INDEX(RRFs!E:E,MATCH(S198,RRFs!B:B,FALSE)))))","v":""},"",{"$f":"IF(Q198=\"\",\"\",IF(OR(S198=\"Heptane\",S198=\"IPA\",S198=\"Triglyme\",S198=\"DIIBA\",S198=\"EGDE\"),\"\",U198*($D$26/(LARGE($F$16:$F$21,1)*($E$32-$E$31)))*$D$4))","v":""},{"$f":"IF(V198=\"\",\"\",IF(AND(V198>1,S198=\"\"),\"Yes\",\"\"))","v":""},null,null,null,null,"After MeP",{"$f":"IF(Z198=\"\",\"\",IF(OR(AB198=\"Solvent\",AB198=\"After MeP\"),0,IF(AB198=\"\",INDEX(RRFs!E:E,MATCH(\"Triglyme\",RRFs!B:B,FALSE)),INDEX(RRFs!E:E,MATCH(AB198,RRFs!B:B,FALSE)))))","v":""},"",{"$f":"IF(Z198=\"\",\"\",IF(OR(AB198=\"Heptane\",AB198=\"IPA\",AB198=\"Triglyme\",AB198=\"DIIBA\",AB198=\"EGDE\"),\"\",AD198*($D$26/((LARGE($F$16:$F$21,1)*($E$32-$E$31)))*$D$4)))","v":""},{"$f":"IF(AE198=\"\",\"\",IF(AND(AE198>1,AB198=\"\"),\"Yes\",\"\"))","v":""}]
[null,null,null,null,null,null,null,null,null,null,null,null,null,null,null,null,null,null,"After MeP",{"$f":"IF(Q199=\"\",\"\",IF(OR(S199=\"Solvent\",S199=\"After MeP\"),0,IF(S199=\"\",INDEX(RRFs!E:E,MATCH(\"Triglyme\",RRFs!B:B,FALSE)),INDEX(RRFs!E:E,MATCH(S199,RRFs!B:B,FALSE)))))","v":""},"","","",null,null,null,null,"After MeP",{"$f":"IF(Z199=\"\",\"\",IF(OR(AB199=\"Solvent\",AB199=\"After MeP\"),0,IF(AB199=\"\",INDEX(RRFs!E:E,MATCH(\"Triglyme\",RRFs!B:B,FALSE)),INDEX(RRFs!E:E,MATCH(AB199,RRFs!B:B,FALSE)))))","v":""},"","",""]
[null,null,null,null,null,null,null,null,null,null,null,null,null,null,null,null,null,null,"After MeP",{"$f":"IF(Q200=\"\",\"\",IF(OR(S200=\"Solvent\",S200=\"After MeP\"),0,IF(S200=\"\",INDEX(RRFs!E:E,MATCH(\"Triglyme\",RRFs!B:B,FALSE)),INDEX(RRFs!E:E,MATCH(S200,RRFs!B:B,FALSE)))))","v":""},"","","",null,null,null,null,"After MeP",{"$f":"IF(Z200=\"\",\"\",IF(OR(AB200=\"Solvent\",AB200=\"After MeP\"),0,IF(AB200=\"\",INDEX(RRFs!E:E,MATCH(\"Triglyme\",RRFs!B:B,FALSE)),INDEX(RRFs!E:E,MATCH(AB200,RRFs!B:B,FALSE)))))","v":""},"","",""]

{"sheet":"Sample #4","index":21,"n_rows":200,"n_cols":33,"rows_kept":200,"cut":false,"hidden":false,"merged":[[1,25,1,32],[10,1,10,5],[40,1,40,3],[40,4,40,5],[23,1,23,5],[1,1,1,5],[1,8,1,10],[1,12,1,14],[1,16,1,23]]}
[]
[null,"Sample Information",null,null,null,null,null,null,"Pre-Sample #4 Blank",null,null,null,"CSV 4 B",null,null,null,"Sample #4 A",null,null,null,null,null,null,null,null,"Sample #4 B"]
[]
[null,null,"Density (g/mL)",null,null,null,null,null,"RT (min)","Area Counts","~ Measured g/L*",null,"RT (min)","Area Counts","~ Measured g/L*",null,"RT (min)","Area Counts","Assignment","RF/RRF","Measured g/L","Sample g/L","ID Required?","Qual ID (CAS #)",null,"RT (min)","Area Counts","Assignment","RF/RRF","Measured g/L","Sample g/L","ID Required?","Qual ID (CAS #)"]
[null,null,"wt% Water",null,null,null,null,5,null,null,{"$f":"IF(J5=\"\",\"\",(J5/LARGE($J$5:$J$100,2)*(5/(INDEX(RRFs!E:E,MATCH(\"Triglyme\",RRFs!B:B,FALSE))))))","v":""},null,{"$f":"IF(INDEX(INDIRECT(\"'\"&SUBSTITUTE($M$2,RIGHT($M$2,1),\"\")&\"Data\"&\"'!2:100\"),H5,MATCH($M$2,INDIRECT(\"'\"&SUBSTITUTE($M$2,RIGHT($M$2,1),\"\")&\"Data\"&\"'!2:2\"),FALSE)-1)=0,\"\",INDEX(INDIRECT(\"'\"&SUBSTITUTE($M$2,RIGHT($M$2,1),\"\")&\"Data\"&\"'!2:100\"),H5,MATCH($M$2,INDIRECT(\"'\"&SUBSTITUTE($M$2,RIGHT($M$2,1),\"\")&\"Data\"&\"'!2:2\"),FALSE)-1))","v":""},{"$f":"IF(INDEX(INDIRECT(\"'\"&SUBSTITUTE($M$2,RIGHT($M$2,1),\"\")&\"Data\"&\"'!2:100\"),H5,MATCH($M$2,INDIRECT(\"'\"&SUBSTITUTE($M$2,RIGHT($M$2,1),\"\")&\"Data\"&\"'!2:2\"),FALSE))=0,\"\",INDEX(INDIRECT(\"'\"&SUBSTITUTE($M$2,RIGHT($M$2,1),\"\")&\"Data\"&\"'!2:100\"),H5,MATCH($M$2,INDIRECT(\"'\"&SUBSTITUTE($M$2,RIGHT($M$2,1),\"\")&\"Data\"&\"'!2:2\"),FALSE)))","v":""},{"$f":"IF(N5=\"\",\"\",(N5/(INDEX(INDIRECT(\"'\"&LEFT($M$2,5)&\" Data'!F:F\"),MATCH(\"EGDE\",INDIRECT(\"'\"&LEFT($M$2,5)&\" Data\"&\"'!G:G\"),FALSE))))*(INDEX('CSV Prep'!E:E,MATCH(\"EGDE \"&LEFT($M$2,5),'CSV Prep'!B:B,FALSE))/(INDEX(RRFs!E:E,MATCH(\"Triglyme\",RRFs!B:B,FALSE)))))","v":""},null,null,null,"After MeP",{"$f":"IF(Q5=\"\",\"\",IF(OR(S5=\"Solvent\",S5=\"After MeP\"),0,IF(S5=\"\",INDEX(RRFs!E:E,MATCH(\"Triglyme\",RRFs!B:B,FALSE)),INDEX(RRFs!E:E,MATCH(S5,RRFs!B:B,FALSE)))))","v":""},{"$f":"IF(Q5=\"\",\"\",IF(T5=0,0,IF(S5=\"EGDE\",R5/T5,R5/INDEX(R:R,MATCH(\"EGDE\",S:S,FALSE)) *INDEX($F$29:$F$38,MATCH(\"EGDE\",$C$29:$C$38,FALSE))/T5)))","v":""},{"$f":"IF(Q5=\"\",\"\",IF(OR(S5=\"Heptane\",S5=\"IPA\",S5=\"Triglyme\",S5=\"DIIBA\",S5=\"EGDE\"),\"\",U5*($D$26/(LARGE($F$16:$F$21,1)*($E$32-$E$31)))*$D$4))","v":""},{"$f":"IF(V5=\"\",\"\",IF(AND(V5>1,S5=\"\"),\"Yes\",\"\"))","v":""},null,null,null,null,"After MeP",{"$f":"IF(Z5=\"\",\"\",IF(OR(AB5=\"Solvent\",AB5=\"After MeP\"),0,IF(AB5=\"\",INDEX(RRFs!E:E,MATCH(\"Triglyme\",RRFs!B:B,FALSE)),INDEX(RRFs!E:E,MATCH(AB5,RRFs!B:B,FALSE)))))","v":""},{"$f":"IF(Z5=\"\",\"\",IF(AC5=0,0,IF(AB5=\"EGDE\",AA5/AC5,AA5/INDEX(AA:AA,MATCH(\"EGDE\",AB:AB,FALSE)) *INDEX($F$29:$F$38,MATCH(\"EGDE\",$C$29:$C$38,FALSE))/AC5)))","v":""},{"$f":"IF(Z5=\"\",\"\",IF(OR(AB5=\"Heptane\",AB5=\"IPA\",AB5=\"Triglyme\",AB5=\"DIIBA\",AB5=\"EGDE\"),\"\",AD5*($D$26/((LARGE($F$16:$F$21,1)*($E$32-$E$31)))*$D$4)))","v":""},{"$f":"IF(AE5=\"\",\"\",IF(AND(AE5>1,AB5=\"\"),\"Yes\",\"\"))","v":""}]
[null,null,"wt % Non-Volatiles",null,null,null,null,{"$f":"H5+1","v":6},null,null,{"$f":"IF(J6=\"\",\"\",(J6/LARGE($J$5:$J$100,2)*(5/(INDEX(RRFs!E:E,MATCH(\"Triglyme\",RRFs!B:B,FALSE))))))","v":""},null,{"$f":"IF(INDEX(INDIRECT(\"'\"&SUBSTITUTE($M$2,RIGHT($M$2,1),\"\")&\"Data\"&\"'!2:100\"),H6,MATCH($M$2,INDIRECT(\"'\"&SUBSTITUTE($M$2,RIGHT($M$2,1),\"\")&\"Data\"&\"'!2:2\"),FALSE)-1)=0,\"\",INDEX(INDIRECT(\"'\"&SUBSTITUTE($M$2,RIGHT($M$2,1),\"\")&\"Data\"&\"'!2:100\"),H6,MATCH($M$2,INDIRECT(\"'\"&SUBSTITUTE($M$2,RIGHT($M$2,1),\"\")&\"Data\"&\"'!2:2\"),FALSE)-1))","v":""},{"$f":"IF(INDEX(INDIRECT(\"'\"&SUBSTITUTE($M$2,RIGHT($M$2,1),\"\")&\"Data\"&\"'!2:100\"),H6,MATCH($M$2,INDIRECT(\"'\"&SUBSTITUTE($M$2,RIGHT($M$2,1),\"\")&\"Data\"&\"'!2:2\"),FALSE))=0,\"\",INDEX(INDIRECT(\"'\"&SUBSTITUTE($M$2,RIGHT($M$2,1),\"\")&\"Data\"&\"'!2:100\"),H6,MATCH($M$2,INDIRECT(\"'\"&SUBSTITUTE($M$2,RIGHT($M$2,1),\"\")&\"Data\"&\"'!2:2\"),FALSE)))","v":""},{"$f":"IF(N6=\"\",\"\",(N6/(INDEX(INDIRECT(\"'\"&LEFT($M$2,5)&\" Data'!F:F\"),MATCH(\"EGDE\",INDIRECT(\"'\"&LEFT($M$2,5)&\" Data\"&\"'!G:G\"),FALSE))))*(INDEX('CSV Prep'!E:E,MATCH(\"EGDE \"&LEFT($M$2,5),'CSV Prep'!B:B,FALSE))/(INDEX(RRFs!E:E,MATCH(\"Triglyme\",RRFs!B:B,FALSE)))))","v":""},null,null,null,"After MeP",{"$f":"IF(Q6=\"\",\"\",IF(OR(S6=\"Solvent\",S6=\"After MeP\"),0,IF(S6=\"\",INDEX(RRFs!E:E,MATCH(\"Triglyme\",RRFs!B:B,FALSE)),INDEX(RRFs!E:E,MATCH(S6,RRFs!B:B,FALSE)))))","v":""},"",{"$f":"IF(Q6=\"\",\"\",IF(OR(S6=\"Heptane\",S6=\"IPA\",S6=\"Triglyme\",S6=\"DIIBA\",S6=\"EGDE\"),\"\",U6*($D$26/(LARGE($F$16:$F$21,1)*($E$32-$E$31)))*$D$4))","v":""},{"$f":"IF(V6=\"\",\"\",IF(AND(V6>1,S6=\"\"),\"Yes\",\"\"))","v":""},null,null,null,null,"After MeP",{"$f":"IF(Z6=\"\",\"\",IF(OR(AB6=\"Solvent\",AB6=\"After MeP\"),0,IF(AB6=\"\",INDEX(RRFs!E:E,MATCH(\"Triglyme\",RRFs!B:B,FALSE)),INDEX(RRFs!E:E,MATCH(AB6,RRFs!B:B,FALSE)))))","v":""},"",{"$f":"IF(Z6=\"\",\"\",IF(OR(AB6=\"Heptane\",AB6=\"IPA\",AB6=\"Triglyme\",AB6=\"DIIBA\",AB6=\"EGDE\"),\"\",AD6*($D$26/((LARGE($F$16:$F$21,1)*($E$32-$E$31)))*$D$4)))","v":""},{"$f":"IF(AE6=\"\",\"\",IF(AND(AE6>1,AB6=\"\"),\"Yes\",\"\"))","v":""}]
[null,null,"Wt % pCBTF",null,null,null,null,{"$f":"H6+1","v":7},null,null,{"$f":"IF(J7=\"\",\"\",(J7/LARGE($J$5:$J$100,2)*(5/(INDEX(RRFs!E:E,MATCH(\"Triglyme\",RRFs!B:B,FALSE))))))","v":""},null,"","",{"$f":"IF(N7=\"\",\"\",(N7/(INDEX(INDIRECT(\"'\"&LEFT($M$2,5)&\" Data'!F:F\"),MATCH(\"EGDE\",INDIRECT(\"'\"&LEFT($M$2,5)&\" Data\"&\"'!G:G\"),FALSE))))*(INDEX('CSV Prep'!E:E,MATCH(\"EGDE \"&LEFT($M$2,5),'CSV Prep'!B:B,FALSE))/(INDEX(RRFs!E:E,MATCH(\"Triglyme\",RRFs!B:B,FALSE)))))","v":""},null,null,null,"After MeP",{"$f":"IF(Q7=\"\",\"\",IF(OR(S7=\"Solvent\",S7=\"After MeP\"),0,IF(S7=\"\",INDEX(RRFs!E:E,MATCH(\"Triglyme\",RRFs!B:B,FALSE)),INDEX(RRFs!E:E,MATCH(S7,RRFs!B:B,FALSE)))))","v":""},"","","",null,null,null,null,"After MeP",{"$f":"IF(Z7=\"\",\"\",IF(OR(AB7=\"Solvent\",AB7=\"After MeP\"),0,IF(AB7=\"\",INDEX(RRFs!E:E,MATCH(\"Triglyme\",RRFs!B:B,FALSE)),INDEX(RRFs!E:E,MATCH(AB7,RRFs!B:B,FALSE)))))","v":""},"","",""]
[null,null,"Wt % D4",null,null,null,null,8,null,null,{"$f":"IF(J8=\"\",\"\",(J8/LARGE($J$5:$J$100,2)*(5/(INDEX(RRFs!E:E,MATCH(\"Triglyme\",RRFs!B:B,FALSE))))))","v":""},null,"","",{"$f":"IF(N8=\"\",\"\",(N8/(INDEX(INDIRECT(\"'\"&LEFT($M$2,5)&\" Data'!F:F\"),MATCH(\"EGDE\",INDIRECT(\"'\"&LEFT($M$2,5)&\" Data\"&\"'!G:G\"),FALSE))))*(INDEX('CSV Prep'!E:E,MATCH(\"EGDE \"&LEFT($M$2,5),'CSV Prep'!B:B,FALSE))/(INDEX(RRFs!E:E,MATCH(\"Triglyme\",RRFs!B:B,FALSE)))))","v":""},null,null,null,"After MeP",{"$f":"IF(Q8=\"\",\"\",IF(OR(S8=\"Solvent\",S8=\"After MeP\"),0,IF(S8=\"\",INDEX(RRFs!E:E,MATCH(\"Triglyme\",RRFs!B:B,FALSE)),INDEX(RRFs!E:E,MATCH(S8,RRFs!B:B,FALSE)))))","v":""},"","","",null,null,null,null,"After MeP",{"$f":"IF(Z8=\"\",\"\",IF(OR(AB8=\"Solvent\",AB8=\"After MeP\"),0,IF(AB8=\"\",INDEX(RRFs!E:E,MATCH(\"Triglyme\",RRFs!B:B,FALSE)),INDEX(RRFs!E:E,MATCH(AB8,RRFs!B:B,FALSE)))))","v":""},"","",""]
[null,null,"Wt % D5",null,null,null,null,9,null,null,{"$f":"IF(J9=\"\",\"\",(J9/LARGE($J$5:$J$100,2)*(5/(INDEX(RRFs!E:E,MATCH(\"Triglyme\",RRFs!B:B,FALSE))))))","v":""},null,"","",{"$f":"IF(N9=\"\",\"\",(N9/(INDEX(INDIRECT(\"'\"&LEFT($M$2,5)&\" Data'!F:F\"),MATCH(\"EGDE\",INDIRECT(\"'\"&LEFT($M$2,5)&\" Data\"&\"'!G:G\"),FALSE))))*(INDEX('CSV Prep'!E:E,MATCH(\"EGDE \"&LEFT($M$2,5),'CSV Prep'!B:B,FALSE))/(INDEX(RRFs!E:E,MATCH(\"Triglyme\",RRFs!B:B,FALSE)))))","v":""},null,null,null,"After MeP",{"$f":"IF(Q9=\"\",\"\",IF(OR(S9=\"Solvent\",S9=\"After MeP\"),0,IF(S9=\"\",INDEX(RRFs!E:E,MATCH(\"Triglyme\",RRFs!B:B,FALSE)),INDEX(RRFs!E:E,MATCH(S9,RRFs!B:B,FALSE)))))","v":""},"","","",null,null,null,null,"After MeP",{"$f":"IF(Z9=\"\",\"\",IF(OR(AB9=\"Solvent\",AB9=\"After MeP\"),0,IF(AB9=\"\",INDEX(RRFs!E:E,MATCH(\"Triglyme\",RRFs!B:B,FALSE)),INDEX(RRFs!E:E,MATCH(AB9,RRFs!B:B,FALSE)))))","v":""},"","",""]
[null,null,null,null,null,null,null,10,null,null,{"$f":"IF(J10=\"\",\"\",(J10/LARGE($J$5:$J$100,2)*(5/(INDEX(RRFs!E:E,MATCH(\"Triglyme\",RRFs!B:B,FALSE))))))","v":""},null,"","",{"$f":"IF(N10=\"\",\"\",(N10/(INDEX(INDIRECT(\"'\"&LEFT($M$2,5)&\" Data'!F:F\"),MATCH(\"EGDE\",INDIRECT(\"'\"&LEFT($M$2,5)&\" Data\"&\"'!G:G\"),FALSE))))*(INDEX('CSV Prep'!E:E,MATCH(\"EGDE \"&LEFT($M$2,5),'CSV Prep'!B:B,FALSE))/(INDEX(RRFs!E:E,MATCH(\"Triglyme\",RRFs!B:B,FALSE)))))","v":""},null,null,null,"After MeP",{"$f":"IF(Q10=\"\",\"\",IF(OR(S10=\"Solvent\",S10=\"After MeP\"),0,IF(S10=\"\",INDEX(RRFs!E:E,MATCH(\"Triglyme\",RRFs!B:B,FALSE)),INDEX(RRFs!E:E,MATCH(S10,RRFs!B:B,FALSE)))))","v":""},"","","",null,null,null,null,"After MeP",{"$f":"IF(Z10=\"\",\"\",IF(OR(AB10=\"Solvent\",AB10=\"After MeP\"),0,IF(AB10=\"\",INDEX(RRFs!E:E,MATCH(\"Triglyme\",RRFs!B:B,FALSE)),INDEX(RRFs!E:E,MATCH(AB10,RRFs!B:B,FALSE)))))","v":""},"","",""]
[null,"Sample Spiking",null,null,null,null,null,11,null,null,{"$f":"IF(J11=\"\",\"\",(J11/LARGE($J$5:$J$100,2)*(5/(INDEX(RRFs!E:E,MATCH(\"Triglyme\",RRFs!B:B,FALSE))))))","v":""},null,"","",{"$f":"IF(N11=\"\",\"\",(N11/(INDEX(INDIRECT(\"'\"&LEFT($M$2,5)&\" Data'!F:F\"),MATCH(\"EGDE\",INDIRECT(\"'\"&LEFT($M$2,5)&\" Data\"&\"'!G:G\"),FALSE))))*(INDEX('CSV Prep'!E:E,MATCH(\"EGDE \"&LEFT($M$2,5),'CSV Prep'!B:B,FALSE))/(INDEX(RRFs!E:E,MATCH(\"Triglyme\",RRFs!B:B,FALSE)))))","v":""},null,null,null,"After MeP",{"$f":"IF(Q11=\"\",\"\",IF(OR(S11=\"Solvent\",S11=\"After MeP\"),0,IF(S11=\"\",INDEX(RRFs!E:E,MATCH(\"Triglyme\",RRFs!B:B,FALSE)),INDEX(RRFs!E:E,MATCH(S11,RRFs!B:B,FALSE)))))","v":""},"","","",null,null,null,null,"After MeP",{"$f":"IF(Z11=\"\",\"\",IF(OR(AB11=\"Solvent\",AB11=\"After MeP\"),0,IF(AB11=\"\",INDEX(RRFs!E:E,MATCH(\"Triglyme\",RRFs!B:B,FALSE)),INDEX(RRFs!E:E,MATCH(AB11,RRFs!B:B,FALSE)))))","v":""},"","",""]
[null,null,null,null,null,null,null,12,null,null,{"$f":"IF(J12=\"\",\"\",(J12/LARGE($J$5:$J$100,2)*(5/(INDEX(RRFs!E:E,MATCH(\"Triglyme\",RRFs!B:B,FALSE))))))","v":""},null,"","",{"$f":"IF(N12=\"\",\"\",(N12/(INDEX(INDIRECT(\"'\"&LEFT($M$2,5)&\" Data'!F:F\"),MATCH(\"EGDE\",INDIRECT(\"'\"&LEFT($M$2,5)&\" Data\"&\"'!G:G\"),FALSE))))*(INDEX('CSV Prep'!E:E,MATCH(\"EGDE \"&LEFT($M$2,5),'CSV Prep'!B:B,FALSE))/(INDEX(RRFs!E:E,MATCH(\"Triglyme\",RRFs!B:B,FALSE)))))","v":""},null,null,null,"After MeP",{"$f":"IF(Q12=\"\",\"\",IF(OR(S12=\"Solvent\",S12=\"After MeP\"),0,IF(S12=\"\",INDEX(RRFs!E:E,MATCH(\"Triglyme\",RRFs!B:B,FALSE)),INDEX(RRFs!E:E,MATCH(S12,RRFs!B:B,FALSE)))))","v":""},"","","",null,null,null,null,"After MeP",{"$f":"IF(Z12=\"\",\"\",IF(OR(AB12=\"Solvent\",AB12=\"After MeP\"),0,IF(AB12=\"\",INDEX(RRFs!E:E,MATCH(\"Triglyme\",RRFs!B:B,FALSE)),INDEX(RRFs!E:E,MATCH(AB12,RRFs!B:B,FALSE)))))","v":""},"","",""]
[null,null,"Target Mass (g)",30,null,null,null,13,null,null,{"$f":"IF(J13=\"\",\"\",(J13/LARGE($J$5:$J$100,2)*(5/(INDEX(RRFs!E:E,MATCH(\"Triglyme\",RRFs!B:B,FALSE))))))","v":""},null,"","",{"$f":"IF(N13=\"\",\"\",(N13/(INDEX(INDIRECT(\"'\"&LEFT($M$2,5)&\" Data'!F:F\"),MATCH(\"EGDE\",INDIRECT(\"'\"&LEFT($M$2,5)&\" Data\"&\"'!G:G\"),FALSE))))*(INDEX('CSV Prep'!E:E,MATCH(\"EGDE \"&LEFT($M$2,5),'CSV Prep'!B:B,FALSE))/(INDEX(RRFs!E:E,MATCH(\"Triglyme\",RRFs!B:B,FALSE)))))","v":""},null,null,null,"After MeP",{"$f":"IF(Q13=\"\",\"\",IF(OR(S13=\"Solvent\",S13=\"After MeP\"),0,IF(S13=\"\",INDEX(RRFs!E:E,MATCH(\"Triglyme\",RRFs!B:B,FALSE)),INDEX(RRFs!E:E,MATCH(S13,RRFs!B:B,FALSE)))))","v":""},"","","",null,null,null,null,"After MeP",{"$f":"IF(Z13=\"\",\"\",IF(OR(AB13=\"Solvent\",AB13=\"After MeP\"),0,IF(AB13=\"\",INDEX(RRFs!E:E,MATCH(\"Triglyme\",RRFs!B:B,FALSE)),INDEX(RRFs!E:E,MATCH(AB13,RRFs!B:B,FALSE)))))","v":""},"","",""]
[null,null,null,null,null,null,null,14,null,null,{"$f":"IF(J14=\"\",\"\",(J14/LARGE($J$5:$J$100,2)*(5/(INDEX(RRFs!E:E,MATCH(\"Triglyme\",RRFs!B:B,FALSE))))))","v":""},null,"","",{"$f":"IF(N14=\"\",\"\",(N14/(INDEX(INDIRECT(\"'\"&LEFT($M$2,5)&\" Data'!F:F\"),MATCH(\"EGDE\",INDIRECT(\"'\"&LEFT($M$2,5)&\" Data\"&\"'!G:G\"),FALSE))))*(INDEX('CSV Prep'!E:E,MATCH(\"EGDE \"&LEFT($M$2,5),'CSV Prep'!B:B,FALSE))/(INDEX(RRFs!E:E,MATCH(\"Triglyme\",RRFs!B:B,FALSE)))))","v":""},null,null,null,"After MeP",{"$f":"IF(Q14=\"\",\"\",IF(OR(S14=\"Solvent\",S14=\"After MeP\"),0,IF(S14=\"\",INDEX(RRFs!E:E,MATCH(\"Triglyme\",RRFs!B:B,FALSE)),INDEX(RRFs!E:E,MATCH(S14,RRFs!B:B,FALSE)))))","v":""},"","","",null,null,null,null,"After MeP",{"$f":"IF(Z14=\"\",\"\",IF(OR(AB14=\"Solvent\",AB14=\"After MeP\"),0,IF(AB14=\"\",INDEX(RRFs!E:E,MATCH(\"Triglyme\",RRFs!B:B,FALSE)),INDEX(RRFs!E:E,MATCH(AB14,RRFs!B:B,FALSE)))))","v":""},"","",""]
[null,null,null,"To Add","Mass","Wt fx",null,15,null,null,{"$f":"IF(J15=\"\",\"\",(J15/LARGE($J$5:$J$100,2)*(5/(INDEX(RRFs!E:E,MATCH(\"Triglyme\",RRFs!B:B,FALSE))))))","v":""},null,"","",{"$f":"IF(N15=\"\",\"\",(N15/(INDEX(INDIRECT(\"'\"&LEFT($M$2,5)&\" Data'!F:F\"),MATCH(\"EGDE\",INDIRECT(\"'\"&LEFT($M$2,5)&\" Data\"&\"'!G:G\"),FALSE))))*(INDEX('CSV Prep'!E:E,MATCH(\"EGDE \"&LEFT($M$2,5),'CSV Prep'!B:B,FALSE))/(INDEX(RRFs!E:E,MATCH(\"Triglyme\",RRFs!B:B,FALSE)))))","v":""},null,null,null,"After MeP",{"$f":"IF(Q15=\"\",\"\",IF(OR(S15=\"Solvent\",S15=\"After MeP\"),0,IF(S15=\"\",INDEX(RRFs!E:E,MATCH(\"Triglyme\",RRFs!B:B,FALSE)),INDEX(RRFs!E:E,MATCH(S15,RRFs!B:B,FALSE)))))","v":""},"","","",null,null,null,null,"After MeP",{"$f":"IF(Z15=\"\",\"\",IF(OR(AB15=\"Solvent\",AB15=\"After MeP\"),0,IF(AB15=\"\",INDEX(RRFs!E:E,MATCH(\"Triglyme\",RRFs!B:B,FALSE)),INDEX(RRFs!E:E,MATCH(AB15,RRFs!B:B,FALSE)))))","v":""},"","",""]
[null,null,"Vial",{"$f":"\"-\"","v":"-"},null,{"$f":"\"-\"","v":"-"},null,16,null,null,{"$f":"IF(J16=\"\",\"\",(J16/LARGE($J$5:$J$100,2)*(5/(INDEX(RRFs!E:E,MATCH(\"Triglyme\",RRFs!B:B,FALSE))))))","v":""},null,"","",{"$f":"IF(N16=\"\",\"\",(N16/(INDEX(INDIRECT(\"'\"&LEFT($M$2,5)&\" Data'!F:F\"),MATCH(\"EGDE\",INDIRECT(\"'\"&LEFT($M$2,5)&\" Data\"&\"'!G:G\"),FALSE))))*(INDEX('CSV Prep'!E:E,MATCH(\"EGDE \"&LEFT($M$2,5),'CSV Prep'!B:B,FALSE))/(INDEX(RRFs!E:E,MATCH(\"Triglyme\",RRFs!B:B,FALSE)))))","v":""},null,null,null,"After MeP",{"$f":"IF(Q16=\"\",\"\",IF(OR(S16=\"Solvent\",S16=\"After MeP\"),0,IF(S16=\"\",INDEX(RRFs!E:E,MATCH(\"Triglyme\",RRFs!B:B,FALSE)),INDEX(RRFs!E:E,MATCH(S16,RRFs!B:B,FALSE)))))","v":""},"","","",null,null,null,null,"After MeP",{"$f":"IF(Z16=\"\",\"\",IF(OR(AB16=\"Solvent\",AB16=\"After MeP\"),0,IF(AB16=\"\",INDEX(RRFs!E:E,MATCH(\"Triglyme\",RRFs!B:B,FALSE)),INDEX(RRFs!E:E,MATCH(AB16,RRFs!B:B,FALSE)))))","v":""},"","",""]
[null,null,"Sample #4",{"$f":"D13&\" g\"","v":"30 g"},null,{"$f":"(E17-MAX($E$16:E16))*100/(MAX($E$16:$E$21)-MIN($E$16:$E$21))/100","v":{"$error":"#DIV/0!"}},null,17,null,null,{"$f":"IF(J17=\"\",\"\",(J17/LARGE($J$5:$J$100,2)*(5/(INDEX(RRFs!E:E,MATCH(\"Triglyme\",RRFs!B:B,FALSE))))))","v":""},null,"","",{"$f":"IF(N17=\"\",\"\",(N17/(INDEX(INDIRECT(\"'\"&LEFT($M$2,5)&\" Data'!F:F\"),MATCH(\"EGDE\",INDIRECT(\"'\"&LEFT($M$2,5)&\" Data\"&\"'!G:G\"),FALSE))))*(INDEX('CSV Prep'!E:E,MATCH(\"EGDE \"&LEFT($M$2,5),'CSV Prep'!B:B,FALSE))/(INDEX(RRFs!E:E,MATCH(\"Triglyme\",RRFs!B:B,FALSE)))))","v":""},null,null,null,"After MeP",{"$f":"IF(Q17=\"\",\"\",IF(OR(S17=\"Solvent\",S17=\"After MeP\"),0,IF(S17=\"\",INDEX(RRFs!E:E,MATCH(\"Triglyme\",RRFs!B:B,FALSE)),INDEX(RRFs!E:E,MATCH(S17,RRFs!B:B,FALSE)))))","v":""},"","","",null,null,null,null,"After MeP",{"$f":"IF(Z17=\"\",\"\",IF(OR(AB17=\"Solvent\",AB17=\"After MeP\"),0,IF(AB17=\"\",INDEX(RRFs!E:E,MATCH(\"Triglyme\",RRFs!B:B,FALSE)),INDEX(RRFs!E:E,MATCH(AB17,RRFs!B:B,FALSE)))))","v":""},"","",""]
[null,null,"Triglyme",{"$f":"250/30*$D$13&\" uL\"","v":"250 uL"},null,{"$f":"(E18-MAX($E$16:E17))*100*INDEX(Compounds!G:G,MATCH('Sample #4'!C18,Compounds!A:A,FALSE))/(MAX($E$16:$E$21)-MIN($E$16:$E$21))/100","v":{"$error":"#DIV/0!"}},null,18,null,null,{"$f":"IF(J18=\"\",\"\",(J18/LARGE($J$5:$J$100,2)*(5/(INDEX(RRFs!E:E,MATCH(\"Triglyme\",RRFs!B:B,FALSE))))))","v":""},null,"","",{"$f":"IF(N18=\"\",\"\",(N18/(INDEX(INDIRECT(\"'\"&LEFT($M$2,5)&\" Data'!F:F\"),MATCH(\"EGDE\",INDIRECT(\"'\"&LEFT($M$2,5)&\" Data\"&\"'!G:G\"),FALSE))))*(INDEX('CSV Prep'!E:E,MATCH(\"EGDE \"&LEFT($M$2,5),'CSV Prep'!B:B,FALSE))/(INDEX(RRFs!E:E,MATCH(\"Triglyme\",RRFs!B:B,FALSE)))))","v":""},null,null,null,"After MeP",{"$f":"IF(Q18=\"\",\"\",IF(OR(S18=\"Solvent\",S18=\"After MeP\"),0,IF(S18=\"\",INDEX(RRFs!E:E,MATCH(\"Triglyme\",RRFs!B:B,FALSE)),INDEX(RRFs!E:E,MATCH(S18,RRFs!B:B,FALSE)))))","v":""},"","","",null,null,null,null,"After MeP",{"$f":"IF(Z18=\"\",\"\",IF(OR(AB18=\"Solvent\",AB18=\"After MeP\"),0,IF(AB18=\"\",INDEX(RRFs!E:E,MATCH(\"Triglyme\",RRFs!B:B,FALSE)),INDEX(RRFs!E:E,MATCH(AB18,RRFs!B:B,FALSE)))))","v":""},"","",""]
[null,null,"IPA",{"$f":"310/30*$D$13&\" uL\"","v":"310 uL"},null,{"$f":"(E19-MAX($E$16:E18))*100*INDEX(Compounds!G:G,MATCH('Sample #4'!C19,Compounds!A:A,FALSE))/(MAX($E$16:$E$21)-MIN($E$16:$E$21))/100","v":{"$error":"#DIV/0!"}},null,19,null,null,{"$f":"IF(J19=\"\",\"\",(J19/LARGE($J$5:$J$100,2)*(5/(INDEX(RRFs!E:E,MATCH(\"Triglyme\",RRFs!B:B,FALSE))))))","v":""},null,"","",{"$f":"IF(N19=\"\",\"\",(N19/(INDEX(INDIRECT(\"'\"&LEFT($M$2,5)&\" Data'!F:F\"),MATCH(\"EGDE\",INDIRECT(\"'\"&LEFT($M$2,5)&\" Data\"&\"'!G:G\"),FALSE))))*(INDEX('CSV Prep'!E:E,MATCH(\"EGDE \"&LEFT($M$2,5),'CSV Prep'!B:B,FALSE))/(INDEX(RRFs!E:E,MATCH(\"Triglyme\",RRFs!B:B,FALSE)))))","v":""},null,null,null,"After MeP",{"$f":"IF(Q19=\"\",\"\",IF(OR(S19=\"Solvent\",S19=\"After MeP\"),0,IF(S19=\"\",INDEX(RRFs!E:E,MATCH(\"Triglyme\",RRFs!B:B,FALSE)),INDEX(RRFs!E:E,MATCH(S19,RRFs!B:B,FALSE)))))","v":""},"","","",null,null,null,null,"After MeP",{"$f":"IF(Z19=\"\",\"\",IF(OR(AB19=\"Solvent\",AB19=\"After MeP\"),0,IF(AB19=\"\",INDEX(RRFs!E:E,MATCH(\"Triglyme\",RRFs!B:B,FALSE)),INDEX(RRFs!E:E,MATCH(AB19,RRFs!B:B,FALSE)))))","v":""},"","",""]
[null,null,"DIIBA",{"$f":"250/30*$D$13&\" uL\"","v":"250 uL"},null,{"$f":"(E20-MAX($E$16:E19))*100*INDEX(Compounds!G:G,MATCH('Sample #4'!C20,Compounds!A:A,FALSE))/(MAX($E$16:$E$21)-MIN($E$16:$E$21))/100","v":{"$error":"#DIV/0!"}},null,20,null,null,{"$f":"IF(J20=\"\",\"\",(J20/LARGE($J$5:$J$100,2)*(5/(INDEX(RRFs!E:E,MATCH(\"Triglyme\",RRFs!B:B,FALSE))))))","v":""},null,"","",{"$f":"IF(N20=\"\",\"\",(N20/(INDEX(INDIRECT(\"'\"&LEFT($M$2,5)&\" Data'!F:F\"),MATCH(\"EGDE\",INDIRECT(\"'\"&LEFT($M$2,5)&\" Data\"&\"'!G:G\"),FALSE))))*(INDEX('CSV Prep'!E:E,MATCH(\"EGDE \"&LEFT($M$2,5),'CSV Prep'!B:B,FALSE))/(INDEX(RRFs!E:E,MATCH(\"Triglyme\",RRFs!B:B,FALSE)))))","v":""},null,null,null,"After MeP",{"$f":"IF(Q20=\"\",\"\",IF(OR(S20=\"Solvent\",S20=\"After MeP\"),0,IF(S20=\"\",INDEX(RRFs!E:E,MATCH(\"Triglyme\",RRFs!B:B,FALSE)),INDEX(RRFs!E:E,MATCH(S20,RRFs!B:B,FALSE)))))","v":""},"","","",null,null,null,null,"After MeP",{"$f":"IF(Z20=\"\",\"\",IF(OR(AB20=\"Solvent\",AB20=\"After MeP\"),0,IF(AB20=\"\",INDEX(RRFs!E:E,MATCH(\"Triglyme\",RRFs!B:B,FALSE)),INDEX(RRFs!E:E,MATCH(AB20,RRFs!B:B,FALSE)))))","v":""},"","",""]
[null,null,"Heptane",{"$f":"350/30*$D$13&\" uL\"","v":"350 uL"},null,{"$f":"(E21-MAX($E$16:E20))*100*INDEX(Compounds!G:G,MATCH('Sample #4'!C21,Compounds!A:A,FALSE))/(MAX($E$16:$E$21)-MIN($E$16:$E$21))/100","v":{"$error":"#DIV/0!"}},null,21,null,null,{"$f":"IF(J21=\"\",\"\",(J21/LARGE($J$5:$J$100,2)*(5/(INDEX(RRFs!E:E,MATCH(\"Triglyme\",RRFs!B:B,FALSE))))))","v":""},null,"","",{"$f":"IF(N21=\"\",\"\",(N21/(INDEX(INDIRECT(\"'\"&LEFT($M$2,5)&\" Data'!F:F\"),MATCH(\"EGDE\",INDIRECT(\"'\"&LEFT($M$2,5)&\" Data\"&\"'!G:G\"),FALSE))))*(INDEX('CSV Prep'!E:E,MATCH(\"EGDE \"&LEFT($M$2,5),'CSV Prep'!B:B,FALSE))/(INDEX(RRFs!E:E,MATCH(\"Triglyme\",RRFs!B:B,FALSE)))))","v":""},null,null,null,"After MeP",{"$f":"IF(Q21=\"\",\"\",IF(OR(S21=\"Solvent\",S21=\"After MeP\"),0,IF(S21=\"\",INDEX(RRFs!E:E,MATCH(\"Triglyme\",RRFs!B:B,FALSE)),INDEX(RRFs!E:E,MATCH(S21,RRFs!B:B,FALSE)))))","v":""},"","","",null,null,null,null,"After MeP",{"$f":"IF(Z21=\"\",\"\",IF(OR(AB21=\"Solvent\",AB21=\"After MeP\"),0,IF(AB21=\"\",INDEX(RRFs!E:E,MATCH(\"Triglyme\",RRFs!B:B,FALSE)),INDEX(RRFs!E:E,MATCH(AB21,RRFs!B:B,FALSE)))))","v":""},"","",""]
[null,null,null,null,null,null,null,22,null,null,{"$f":"IF(J22=\"\",\"\",(J22/LARGE($J$5:$J$100,2)*(5/(INDEX(RRFs!E:E,MATCH(\"Triglyme\",RRFs!B:B,FALSE))))))","v":""},null,"","",{"$f":"IF(N22=\"\",\"\",(N22/(INDEX(INDIRECT(\"'\"&LEFT($M$2,5)&\" Data'!F:F\"),MATCH(\"EGDE\",INDIRECT(\"'\"&LEFT($M$2,5)&\" Data\"&\"'!G:G\"),FALSE))))*(INDEX('CSV Prep'!E:E,MATCH(\"EGDE \"&LEFT($M$2,5),'CSV Prep'!B:B,FALSE))/(INDEX(RRFs!E:E,MATCH(\"Triglyme\",RRFs!B:B,FALSE)))))","v":""},null,null,null,"After MeP",{"$f":"IF(Q22=\"\",\"\",IF(OR(S22=\"Solvent\",S22=\"After MeP\"),0,IF(S22=\"\",INDEX(RRFs!E:E,MATCH(\"Triglyme\",RRFs!B:B,FALSE)),INDEX(RRFs!E:E,MATCH(S22,RRFs!B:B,FALSE)))))","v":""},"","","",null,null,null,null,"After MeP",{"$f":"IF(Z22=\"\",\"\",IF(OR(AB22=\"Solvent\",AB22=\"After MeP\"),0,IF(AB22=\"\",INDEX(RRFs!E:E,MATCH(\"Triglyme\",RRFs!B:B,FALSE)),INDEX(RRFs!E:E,MATCH(AB22,RRFs!B:B,FALSE)))))","v":""},"","",""]
[null,null,null,null,null,null,null,23,null,null,{"$f":"IF(J23=\"\",\"\",(J23/LARGE($J$5:$J$100,2)*(5/(INDEX(RRFs!E:E,MATCH(\"Triglyme\",RRFs!B:B,FALSE))))))","v":""},null,"","",{"$f":"IF(N23=\"\",\"\",(N23/(INDEX(INDIRECT(\"'\"&LEFT($M$2,5)&\" Data'!F:F\"),MATCH(\"EGDE\",INDIRECT(\"'\"&LEFT($M$2,5)&\" Data\"&\"'!G:G\"),FALSE))))*(INDEX('CSV Prep'!E:E,MATCH(\"EGDE \"&LEFT($M$2,5),'CSV Prep'!B:B,FALSE))/(INDEX(RRFs!E:E,MATCH(\"Triglyme\",RRFs!B:B,FALSE)))))","v":""},null,null,null,"After MeP",{"$f":"IF(Q23=\"\",\"\",IF(OR(S23=\"Solvent\",S23=\"After MeP\"),0,IF(S23=\"\",INDEX(RRFs!E:E,MATCH(\"Triglyme\",RRFs!B:B,FALSE)),INDEX(RRFs!E:E,MATCH(S23,RRFs!B:B,FALSE)))))","v":""},"","","",null,null,null,null,"After MeP",{"$f":"IF(Z23=\"\",\"\",IF(OR(AB23=\"Solvent\",AB23=\"After MeP\"),0,IF(AB23=\"\",INDEX(RRFs!E:E,MATCH(\"Triglyme\",RRFs!B:B,FALSE)),INDEX(RRFs!E:E,MATCH(AB23,RRFs!B:B,FALSE)))))","v":""},"","",""]
[null,"Sample Dilution",null,null,null,null,null,24,null,null,{"$f":"IF(J24=\"\",\"\",(J24/LARGE($J$5:$J$100,2)*(5/(INDEX(RRFs!E:E,MATCH(\"Triglyme\",RRFs!B:B,FALSE))))))","v":""},null,"","",{"$f":"IF(N24=\"\",\"\",(N24/(INDEX(INDIRECT(\"'\"&LEFT($M$2,5)&\" Data'!F:F\"),MATCH(\"EGDE\",INDIRECT(\"'\"&LEFT($M$2,5)&\" Data\"&\"'!G:G\"),FALSE))))*(INDEX('CSV Prep'!E:E,MATCH(\"EGDE \"&LEFT($M$2,5),'CSV Prep'!B:B,FALSE))/(INDEX(RRFs!E:E,MATCH(\"Triglyme\",RRFs!B:B,FALSE)))))","v":""},null,null,null,"After MeP",{"$f":"IF(Q24=\"\",\"\",IF(OR(S24=\"Solvent\",S24=\"After MeP\"),0,IF(S24=\"\",INDEX(RRFs!E:E,MATCH(\"Triglyme\",RRFs!B:B,FALSE)),INDEX(RRFs!E:E,MATCH(S24,RRFs!B:B,FALSE)))))","v":""},"","","",null,null,null,null,"After MeP",{"$f":"IF(Z24=\"\",\"\",IF(OR(AB24=\"Solvent\",AB24=\"After MeP\"),0,IF(AB24=\"\",INDEX(RRFs!E:E,MATCH(\"Triglyme\",RRFs!B:B,FALSE)),INDEX(RRFs!E:E,MATCH(AB24,RRFs!B:B,FALSE)))))","v":""},"","",""]
[null,null,null,null,null,null,null,25,null,null,{"$f":"IF(J25=\"\",\"\",(J25/LARGE($J$5:$J$100,2)*(5/(INDEX(RRFs!E:E,MATCH(\"Triglyme\",RRFs!B:B,FALSE))))))","v":""},null,"","",{"$f":"IF(N25=\"\",\"\",(N25/(INDEX(INDIRECT(\"'\"&LEFT($M$2,5)&\" Data'!F:F\"),MATCH(\"EGDE\",INDIRECT(\"'\"&LEFT($M$2,5)&\" Data\"&\"'!G:G\"),FALSE))))*(INDEX('CSV Prep'!E:E,MATCH(\"EGDE \"&LEFT($M$2,5),'CSV Prep'!B:B,FALSE))/(INDEX(RRFs!E:E,MATCH(\"Triglyme\",RRFs!B:B,FALSE)))))","v":""},null,null,null,"After MeP",{"$f":"IF(Q25=\"\",\"\",IF(OR(S25=\"Solvent\",S25=\"After MeP\"),0,IF(S25=\"\",INDEX(RRFs!E:E,MATCH(\"Triglyme\",RRFs!B:B,FALSE)),INDEX(RRFs!E:E,MATCH(S25,RRFs!B:B,FALSE)))))","v":""},"","","",null,null,null,null,"After MeP",{"$f":"IF(Z25=\"\",\"\",IF(OR(AB25=\"Solvent\",AB25=\"After MeP\"),0,IF(AB25=\"\",INDEX(RRFs!E:E,MATCH(\"Triglyme\",RRFs!B:B,FALSE)),INDEX(RRFs!E:E,MATCH(AB25,RRFs!B:B,FALSE)))))","v":""},"","",""]
[null,null,"Flask Volume (mL)",null,"Solvent",null,null,26,null,null,{"$f":"IF(J26=\"\",\"\",(J26/LARGE($J$5:$J$100,2)*(5/(INDEX(RRFs!E:E,MATCH(\"Triglyme\",RRFs!B:B,FALSE))))))","v":""},null,"","",{"$f":"IF(N26=\"\",\"\",(N26/(INDEX(INDIRECT(\"'\"&LEFT($M$2,5)&\" Data'!F:F\"),MATCH(\"EGDE\",INDIRECT(\"'\"&LEFT($M$2,5)&\" Data\"&\"'!G:G\"),FALSE))))*(INDEX('CSV Prep'!E:E,MATCH(\"EGDE \"&LEFT($M$2,5),'CSV Prep'!B:B,FALSE))/(INDEX(RRFs!E:E,MATCH(\"Triglyme\",RRFs!B:B,FALSE)))))","v":""},null,null,null,"After MeP",{"$f":"IF(Q26=\"\",\"\",IF(OR(S26=\"Solvent\",S26=\"After MeP\"),0,IF(S26=\"\",INDEX(RRFs!E:E,MATCH(\"Triglyme\",RRFs!B:B,FALSE)),INDEX(RRFs!E:E,MATCH(S26,RRFs!B:B,FALSE)))))","v":""},"","","",null,null,null,null,"After MeP",{"$f":"IF(Z26=\"\",\"\",IF(OR(AB26=\"Solvent\",AB26=\"After MeP\"),0,IF(AB26=\"\",INDEX(RRFs!E:E,MATCH(\"Triglyme\",RRFs!B:B,FALSE)),INDEX(RRFs!E:E,MATCH(AB26,RRFs!B:B,FALSE)))))","v":""},"","",""]
[null,null,null,null,null,null,null,27,null,null,{"$f":"IF(J27=\"\",\"\",(J27/LARGE($J$5:$J$100,2)*(5/(INDEX(RRFs!E:E,MATCH(\"Triglyme\",RRFs!B:B,FALSE))))))","v":""},null,"","",{"$f":"IF(N27=\"\",\"\",(N27/(INDEX(INDIRECT(\"'\"&LEFT($M$2,5)&\" Data'!F:F\"),MATCH(\"EGDE\",INDIRECT(\"'\"&LEFT($M$2,5)&\" Data\"&\"'!G:G\"),FALSE))))*(INDEX('CSV Prep'!E:E,MATCH(\"EGDE \"&LEFT($M$2,5),'CSV Prep'!B:B,FALSE))/(INDEX(RRFs!E:E,MATCH(\"Triglyme\",RRFs!B:B,FALSE)))))","v":""},null,null,null,"After MeP",{"$f":"IF(Q27=\"\",\"\",IF(OR(S27=\"Solvent\",S27=\"After MeP\"),0,IF(S27=\"\",INDEX(RRFs!E:E,MATCH(\"Triglyme\",RRFs!B:B,FALSE)),INDEX(RRFs!E:E,MATCH(S27,RRFs!B:B,FALSE)))))","v":""},"","","",null,null,null,null,"After MeP",{"$f":"IF(Z27=\"\",\"\",IF(OR(AB27=\"Solvent\",AB27=\"After MeP\"),0,IF(AB27=\"\",INDEX(RRFs!E:E,MATCH(\"Triglyme\",RRFs!B:B,FALSE)),INDEX(RRFs!E:E,MATCH(AB27,RRFs!B:B,FALSE)))))","v":""},"","",""]
[null,null,null,"To Add","Mass","g/L",null,28,null,null,{"$f":"IF(J28=\"\",\"\",(J28/LARGE($J$5:$J$100,2)*(5/(INDEX(RRFs!E:E,MATCH(\"Triglyme\",RRFs!B:B,FALSE))))))","v":""},null,"","",{"$f":"IF(N28=\"\",\"\",(N28/(INDEX(INDIRECT(\"'\"&LEFT($M$2,5)&\" Data'!F:F\"),MATCH(\"EGDE\",INDIRECT(\"'\"&LEFT($M$2,5)&\" Data\"&\"'!G:G\"),FALSE))))*(INDEX('CSV Prep'!E:E,MATCH(\"EGDE \"&LEFT($M$2,5),'CSV Prep'!B:B,FALSE))/(INDEX(RRFs!E:E,MATCH(\"Triglyme\",RRFs!B:B,FALSE)))))","v":""},null,null,null,"After MeP",{"$f":"IF(Q28=\"\",\"\",IF(OR(S28=\"Solvent\",S28=\"After MeP\"),0,IF(S28=\"\",INDEX(RRFs!E:E,MATCH(\"Triglyme\",RRFs!B:B,FALSE)),INDEX(RRFs!E:E,MATCH(S28,RRFs!B:B,FALSE)))))","v":""},"","","",null,null,null,null,"After MeP",{"$f":"IF(Z28=\"\",\"\",IF(OR(AB28=\"Solvent\",AB28=\"After MeP\"),0,IF(AB28=\"\",INDEX(RRFs!E:E,MATCH(\"Triglyme\",RRFs!B:B,FALSE)),INDEX(RRFs!E:E,MATCH(AB28,RRFs!B:B,FALSE)))))","v":""},"","",""]
[null,null,{"$f":"D26&\" mL Flask\"","v":" mL Flask"},{"$f":"\"-\"","v":"-"},null,{"$f":"IF(E29=\"\",\"\",\"-\")","v":""},null,29,null,null,{"$f":"IF(J29=\"\",\"\",(J29/LARGE($J$5:$J$100,2)*(5/(INDEX(RRFs!E:E,MATCH(\"Triglyme\",RRFs!B:B,FALSE))))))","v":""},null,"","",{"$f":"IF(N29=\"\",\"\",(N29/(INDEX(INDIRECT(\"'\"&LEFT($M$2,5)&\" Data'!F:F\"),MATCH(\"EGDE\",INDIRECT(\"'\"&LEFT($M$2,5)&\" Data\"&\"'!G:G\"),FALSE))))*(INDEX('CSV Prep'!E:E,MATCH(\"EGDE \"&LEFT($M$2,5),'CSV Prep'!B:B,FALSE))/(INDEX(RRFs!E:E,MATCH(\"Triglyme\",RRFs!B:B,FALSE)))))","v":""},null,null,null,"After MeP",{"$f":"IF(Q29=\"\",\"\",IF(OR(S29=\"Solvent\",S29=\"After MeP\"),0,IF(S29=\"\",INDEX(RRFs!E:E,MATCH(\"Triglyme\",RRFs!B:B,FALSE)),INDEX(RRFs!E:E,MATCH(S29,RRFs!B:B,FALSE)))))","v":""},"","","",null,null,null,null,"After MeP",{"$f":"IF(Z29=\"\",\"\",IF(OR(AB29=\"Solvent\",AB29=\"After MeP\"),0,IF(AB29=\"\",INDEX(RRFs!E:E,MATCH(\"Triglyme\",RRFs!B:B,FALSE)),INDEX(RRFs!E:E,MATCH(AB29,RRFs!B:B,FALSE)))))","v":""},"","",""]
[null,null,{"$f":"F26","v":0},{"$f":"\"~ \"&10/25*D26&\" mL\"","v":"~ 0 mL"},null,{"$f":"IF(E30=\"\",\"\",(E30-MAX($E$29:E29))*INDEX(Compounds!G:G,MATCH(C30,Compounds!A:A,FALSE))*1000/$D$26)","v":""},null,30,null,null,{"$f":"IF(J30=\"\",\"\",(J30/LARGE($J$5:$J$100,2)*(5/(INDEX(RRFs!E:E,MATCH(\"Triglyme\",RRFs!B:B,FALSE))))))","v":""},null,"","",{"$f":"IF(N30=\"\",\"\",(N30/(INDEX(INDIRECT(\"'\"&LEFT($M$2,5)&\" Data'!F:F\"),MATCH(\"EGDE\",INDIRECT(\"'\"&LEFT($M$2,5)&\" Data\"&\"'!G:G\"),FALSE))))*(INDEX('CSV Prep'!E:E,MATCH(\"EGDE \"&LEFT($M$2,5),'CSV Prep'!B:B,FALSE))/(INDEX(RRFs!E:E,MATCH(\"Triglyme\",RRFs!B:B,FALSE)))))","v":""},null,null,null,"After MeP",{"$f":"IF(Q30=\"\",\"\",IF(OR(S30=\"Solvent\",S30=\"After MeP\"),0,IF(S30=\"\",INDEX(RRFs!E:E,MATCH(\"Triglyme\",RRFs!B:B,FALSE)),INDEX(RRFs!E:E,MATCH(S30,RRFs!B:B,FALSE)))))","v":""},"","","",null,null,null,null,"After MeP",{"$f":"IF(Z30=\"\",\"\",IF(OR(AB30=\"Solvent\",AB30=\"After MeP\"),0,IF(AB30=\"\",INDEX(RRFs!E:E,MATCH(\"Triglyme\",RRFs!B:B,FALSE)),INDEX(RRFs!E:E,MATCH(AB30,RRFs!B:B,FALSE)))))","v":""},"","",""]
[null,null,"EGDE",{"$f":"150/25*D26&\" uL\"","v":"0 uL"},null,{"$f":"IF(E31=\"\",\"\",(E31-MAX($E$29:E30))*INDEX(Compounds!G:G,MATCH(C31,Compounds!A:A,FALSE))*1000/$D$26)","v":""},null,31,null,null,{"$f":"IF(J31=\"\",\"\",(J31/LARGE($J$5:$J$100,2)*(5/(INDEX(RRFs!E:E,MATCH(\"Triglyme\",RRFs!B:B,FALSE))))))","v":""},null,"","",{"$f":"IF(N31=\"\",\"\",(N31/(INDEX(INDIRECT(\"'\"&LEFT($M$2,5)&\" Data'!F:F\"),MATCH(\"EGDE\",INDIRECT(\"'\"&LEFT($M$2,5)&\" Data\"&\"'!G:G\"),FALSE))))*(INDEX('CSV Prep'!E:E,MATCH(\"EGDE \"&LEFT($M$2,5),'CSV Prep'!B:B,FALSE))/(INDEX(RRFs!E:E,MATCH(\"Triglyme\",RRFs!B:B,FALSE)))))","v":""},null,null,null,"After MeP",{"$f":"IF(Q31=\"\",\"\",IF(OR(S31=\"Solvent\",S31=\"After MeP\"),0,IF(S31=\"\",INDEX(RRFs!E:E,MATCH(\"Triglyme\",RRFs!B:B,FALSE)),INDEX(RRFs!E:E,MATCH(S31,RRFs!B:B,FALSE)))))","v":""},"","","",null,null,null,null,"After MeP",{"$f":"IF(Z31=\"\",\"\",IF(OR(AB31=\"Solvent\",AB31=\"After MeP\"),0,IF(AB31=\"\",INDEX(RRFs!E:E,MATCH(\"Triglyme\",RRFs!B:B,FALSE)),INDEX(RRFs!E:E,MATCH(AB31,RRFs!B:B,FALSE)))))","v":""},"","",""]
[null,null,"Spiked Sample #4",{"$f":"\"~ \"&2.5/25*D26&\" g\"","v":"~ 0 g"},null,{"$f":"IF(E32=\"\",\"\",(E32-MAX($E$29:E31))*INDEX($F$16:$F$21,MATCH(RIGHT(C32,9),$C$16:$C$21,FALSE))*1000/$D$26)","v":""},null,32,null,null,{"$f":"IF(J32=\"\",\"\",(J32/LARGE($J$5:$J$100,2)*(5/(INDEX(RRFs!E:E,MATCH(\"Triglyme\",RRFs!B:B,FALSE))))))","v":""},null,"","",{"$f":"IF(N32=\"\",\"\",(N32/(INDEX(INDIRECT(\"'\"&LEFT($M$2,5)&\" Data'!F:F\"),MATCH(\"EGDE\",INDIRECT(\"'\"&LEFT($M$2,5)&\" Data\"&\"'!G:G\"),FALSE))))*(INDEX('CSV Prep'!E:E,MATCH(\"EGDE \"&LEFT($M$2,5),'CSV Prep'!B:B,FALSE))/(INDEX(RRFs!E:E,MATCH(\"Triglyme\",RRFs!B:B,FALSE)))))","v":""},null,null,null,"After MeP",{"$f":"IF(Q32=\"\",\"\",IF(OR(S32=\"Solvent\",S32=\"After MeP\"),0,IF(S32=\"\",INDEX(RRFs!E:E,MATCH(\"Triglyme\",RRFs!B:B,FALSE)),INDEX(RRFs!E:E,MATCH(S32,RRFs!B:B,FALSE)))))","v":""},"","","",null,null,null,null,"After MeP",{"$f":"IF(Z32=\"\",\"\",IF(OR(AB32=\"Solvent\",AB32=\"After MeP\"),0,IF(AB32=\"\",INDEX(RRFs!E:E,MATCH(\"Triglyme\",RRFs!B:B,FALSE)),INDEX(RRFs!E:E,MATCH(AB32,RRFs!B:B,FALSE)))))","v":""},"","",""]
[null,null,{"$f":"\"QS to \"&D26&\" mL\"","v":"QS to  mL"},{"$f":"\"To \"&D26&\" mL\"","v":"To  mL"},null,{"$f":"IF(E33=\"\",\"\",\"-\")","v":""},null,33,null,null,{"$f":"IF(J33=\"\",\"\",(J33/LARGE($J$5:$J$100,2)*(5/(INDEX(RRFs!E:E,MATCH(\"Triglyme\",RRFs!B:B,FALSE))))))","v":""},null,"","",{"$f":"IF(N33=\"\",\"\",(N33/(INDEX(INDIRECT(\"'\"&LEFT($M$2,5)&\" Data'!F:F\"),MATCH(\"EGDE\",INDIRECT(\"'\"&LEFT($M$2,5)&\" Data\"&\"'!G:G\"),FALSE))))*(INDEX('CSV Prep'!E:E,MATCH(\"EGDE \"&LEFT($M$2,5),'CSV Prep'!B:B,FALSE))/(INDEX(RRFs!E:E,MATCH(\"Triglyme\",RRFs!B:B,FALSE)))))","v":""},null,null,null,"After MeP",{"$f":"IF(Q33=\"\",\"\",IF(OR(S33=\"Solvent\",S33=\"After MeP\"),0,IF(S33=\"\",INDEX(RRFs!E:E,MATCH(\"Triglyme\",RRFs!B:B,FALSE)),INDEX(RRFs!E:E,MATCH(S33,RRFs!B:B,FALSE)))))","v":""},"","","",null,null,null,null,"After MeP",{"$f":"IF(Z33=\"\",\"\",IF(OR(AB33=\"Solvent\",AB33=\"After MeP\"),0,IF(AB33=\"\",INDEX(RRFs!E:E,MATCH(\"Triglyme\",RRFs!B:B,FALSE)),INDEX(RRFs!E:E,MATCH(AB33,RRFs!B:B,FALSE)))))","v":""},"","",""]
[null,null,null,null,null,null,null,34,null,null,{"$f":"IF(J34=\"\",\"\",(J34/LARGE($J$5:$J$100,2)*(5/(INDEX(RRFs!E:E,MATCH(\"Triglyme\",RRFs!B:B,FALSE))))))","v":""},null,"","",{"$f":"IF(N34=\"\",\"\",(N34/(INDEX(INDIRECT(\"'\"&LEFT($M$2,5)&\" Data'!F:F\"),MATCH(\"EGDE\",INDIRECT(\"'\"&LEFT($M$2,5)&\" Data\"&\"'!G:G\"),FALSE))))*(INDEX('CSV Prep'!E:E,MATCH(\"EGDE \"&LEFT($M$2,5),'CSV Prep'!B:B,FALSE))/(INDEX(RRFs!E:E,MATCH(\"Triglyme\",RRFs!B:B,FALSE)))))","v":""},null,null,null,"After MeP",{"$f":"IF(Q34=\"\",\"\",IF(OR(S34=\"Solvent\",S34=\"After MeP\"),0,IF(S34=\"\",INDEX(RRFs!E:E,MATCH(\"Triglyme\",RRFs!B:B,FALSE)),INDEX(RRFs!E:E,MATCH(S34,RRFs!B:B,FALSE)))))","v":""},"","","",null,null,null,null,"After MeP",{"$f":"IF(Z34=\"\",\"\",IF(OR(AB34=\"Solvent\",AB34=\"After MeP\"),0,IF(AB34=\"\",INDEX(RRFs!E:E,MATCH(\"Triglyme\",RRFs!B:B,FALSE)),INDEX(RRFs!E:E,MATCH(AB34,RRFs!B:B,FALSE)))))","v":""},"","",""]
[null,null,"Triglyme",null,null,{"$f":"INDEX($F$16:$F$21,MATCH(C35,$C$16:$C$21,FALSE))*($E$32-$E$31)*1000/$D$26","v":{"$error":"#DIV/0!"}},null,35,null,null,{"$f":"IF(J35=\"\",\"\",(J35/LARGE($J$5:$J$100,2)*(5/(INDEX(RRFs!E:E,MATCH(\"Triglyme\",RRFs!B:B,FALSE))))))","v":""},null,"","",{"$f":"IF(N35=\"\",\"\",(N35/(INDEX(INDIRECT(\"'\"&LEFT($M$2,5)&\" Data'!F:F\"),MATCH(\"EGDE\",INDIRECT(\"'\"&LEFT($M$2,5)&\" Data\"&\"'!G:G\"),FALSE))))*(INDEX('CSV Prep'!E:E,MATCH(\"EGDE \"&LEFT($M$2,5),'CSV Prep'!B:B,FALSE))/(INDEX(RRFs!E:E,MATCH(\"Triglyme\",RRFs!B:B,FALSE)))))","v":""},null,null,null,"After MeP",{"$f":"IF(Q35=\"\",\"\",IF(OR(S35=\"Solvent\",S35=\"After MeP\"),0,IF(S35=\"\",INDEX(RRFs!E:E,MATCH(\"Triglyme\",RRFs!B:B,FALSE)),INDEX(RRFs!E:E,MATCH(S35,RRFs!B:B,FALSE)))))","v":""},"","","",null,null,null,null,"After MeP",{"$f":"IF(Z35=\"\",\"\",IF(OR(AB35=\"Solvent\",AB35=\"After MeP\"),0,IF(AB35=\"\",INDEX(RRFs!E:E,MATCH(\"Triglyme\",RRFs!B:B,FALSE)),INDEX(RRFs!E:E,MATCH(AB35,RRFs!B:B,FALSE)))))","v":""},"","",""]
[null,null,"IPA",null,null,{"$f":"INDEX($F$16:$F$21,MATCH(C36,$C$16:$C$21,FALSE))*($E$32-$E$31)*1000/$D$26","v":{"$error":"#DIV/0!"}},null,36,null,null,{"$f":"IF(J36=\"\",\"\",(J36/LARGE($J$5:$J$100,2)*(5/(INDEX(RRFs!E:E,MATCH(\"Triglyme\",RRFs!B:B,FALSE))))))","v":""},null,"","",{"$f":"IF(N36=\"\",\"\",(N36/(INDEX(INDIRECT(\"'\"&LEFT($M$2,5)&\" Data'!F:F\"),MATCH(\"EGDE\",INDIRECT(\"'\"&LEFT($M$2,5)&\" Data\"&\"'!G:G\"),FALSE))))*(INDEX('CSV Prep'!E:E,MATCH(\"EGDE \"&LEFT($M$2,5),'CSV Prep'!B:B,FALSE))/(INDEX(RRFs!E:E,MATCH(\"Triglyme\",RRFs!B:B,FALSE)))))","v":""},null,null,null,"After MeP",{"$f":"IF(Q36=\"\",\"\",IF(OR(S36=\"Solvent\",S36=\"After MeP\"),0,IF(S36=\"\",INDEX(RRFs!E:E,MATCH(\"Triglyme\",RRFs!B:B,FALSE)),INDEX(RRFs!E:E,MATCH(S36,RRFs!B:B,FALSE)))))","v":""},"","","",null,null,null,null,"After MeP",{"$f":"IF(Z36=\"\",\"\",IF(OR(AB36=\"Solvent\",AB36=\"After MeP\"),0,IF(AB36=\"\",INDEX(RRFs!E:E,MATCH(\"Triglyme\",RRFs!B:B,FALSE)),INDEX(RRFs!E:E,MATCH(AB36,RRFs!B:B,FALSE)))))","v":""},"","",""]
[null,null,"DIIBA",null,null,{"$f":"INDEX($F$16:$F$21,MATCH(C37,$C$16:$C$21,FALSE))*($E$32-$E$31)*1000/$D$26","v":{"$error":"#DIV/0!"}},null,37,null,null,{"$f":"IF(J37=\"\",\"\",(J37/LARGE($J$5:$J$100,2)*(5/(INDEX(RRFs!E:E,MATCH(\"Triglyme\",RRFs!B:B,FALSE))))))","v":""},null,"","",{"$f":"IF(N37=\"\",\"\",(N37/(INDEX(INDIRECT(\"'\"&LEFT($M$2,5)&\" Data'!F:F\"),MATCH(\"EGDE\",INDIRECT(\"'\"&LEFT($M$2,5)&\" Data\"&\"'!G:G\"),FALSE))))*(INDEX('CSV Prep'!E:E,MATCH(\"EGDE \"&LEFT($M$2,5),'CSV Prep'!B:B,FALSE))/(INDEX(RRFs!E:E,MATCH(\"Triglyme\",RRFs!B:B,FALSE)))))","v":""},null,null,null,"After MeP",{"$f":"IF(Q37=\"\",\"\",IF(OR(S37=\"Solvent\",S37=\"After MeP\"),0,IF(S37=\"\",INDEX(RRFs!E:E,MATCH(\"Triglyme\",RRFs!B:B,FALSE)),INDEX(RRFs!E:E,MATCH(S37,RRFs!B:B,FALSE)))))","v":""},{"$f":"IF(Q37=\"\",\"\",IF(T37=0,0,IF(S37=\"EGDE\",R37/T37,R37/INDEX(R:R,MATCH(\"EGDE\",S:S,FALSE)) *INDEX($F$29:$F$38,MATCH(\"EGDE\",$C$29:$C$38,FALSE))/T37)))","v":""},"","",null,null,null,null,"After MeP",{"$f":"IF(Z37=\"\",\"\",IF(OR(AB37=\"Solvent\",AB37=\"After MeP\"),0,IF(AB37=\"\",INDEX(RRFs!E:E,MATCH(\"Triglyme\",RRFs!B:B,FALSE)),INDEX(RRFs!E:E,MATCH(AB37,RRFs!B:B,FALSE)))))","v":""},{"$f":"IF(Z37=\"\",\"\",IF(AC37=0,0,IF(AB37=\"EGDE\",AA37/AC37,AA37/INDEX(AA:AA,MATCH(\"EGDE\",AB:AB,FALSE)) *INDEX($F$29:$F$38,MATCH(\"EGDE\",$C$29:$C$38,FALSE))/AC37)))","v":""},"",""]
[null,null,"Heptane",null,null,{"$f":"INDEX($F$16:$F$21,MATCH(C38,$C$16:$C$21,FALSE))*($E$32-$E$31)*1000/$D$26","v":{"$error":"#DIV/0!"}},null,38,null,null,{"$f":"IF(J38=\"\",\"\",(J38/LARGE($J$5:$J$100,2)*(5/(INDEX(RRFs!E:E,MATCH(\"Triglyme\",RRFs!B:B,FALSE))))))","v":""},null,"","",{"$f":"IF(N38=\"\",\"\",(N38/(INDEX(INDIRECT(\"'\"&LEFT($M$2,5)&\" Data'!F:F\"),MATCH(\"EGDE\",INDIRECT(\"'\"&LEFT($M$2,5)&\" Data\"&\"'!G:G\"),FALSE))))*(INDEX('CSV Prep'!E:E,MATCH(\"EGDE \"&LEFT($M$2,5),'CSV Prep'!B:B,FALSE))/(INDEX(RRFs!E:E,MATCH(\"Triglyme\",RRFs!B:B,FALSE)))))","v":""},null,null,null,"After MeP",{"$f":"IF(Q38=\"\",\"\",IF(OR(S38=\"Solvent\",S38=\"After MeP\"),0,IF(S38=\"\",INDEX(RRFs!E:E,MATCH(\"Triglyme\",RRFs!B:B,FALSE)),INDEX(RRFs!E:E,MATCH(S38,RRFs!B:B,FALSE)))))","v":""},"","","",null,null,null,null,"After MeP",{"$f":"IF(Z38=\"\",\"\",IF(OR(AB38=\"Solvent\",AB38=\"After MeP\"),0,IF(AB38=\"\",INDEX(RRFs!E:E,MATCH(\"Triglyme\",RRFs!B:B,FALSE)),INDEX(RRFs!E:E,MATCH(AB38,RRFs!B:B,FALSE)))))","v":""},"","",""]
[null,null,null,null,null,null,null,39,null,null,{"$f":"IF(J39=\"\",\"\",(J39/LARGE($J$5:$J$100,2)*(5/(INDEX(RRFs!E:E,MATCH(\"Triglyme\",RRFs!B:B,FALSE))))))","v":""},null,"","",{"$f":"IF(N39=\"\",\"\",(N39/(INDEX(INDIRECT(\"'\"&LEFT($M$2,5)&\" Data'!F:F\"),MATCH(\"EGDE\",INDIRECT(\"'\"&LEFT($M$2,5)&\" Data\"&\"'!G:G\"),FALSE))))*(INDEX('CSV Prep'!E:E,MATCH(\"EGDE \"&LEFT($M$2,5),'CSV Prep'!B:B,FALSE))/(INDEX(RRFs!E:E,MATCH(\"Triglyme\",RRFs!B:B,FALSE)))))","v":""},null,null,null,{"$f":"IF(Q39>=$E$41,\"After MeP\",\"\")","v":"After MeP"},{"$f":"IF(Q39=\"\",\"\",IF(OR(S39=\"Solvent\",S39=\"After MeP\"),0,IF(S39=\"\",INDEX(RRFs!E:E,MATCH(\"Triglyme\",RRFs!B:B,FALSE)),INDEX(RRFs!E:E,MATCH(S39,RRFs!B:B,FALSE)))))","v":""},"","","",null,null,null,null,"After MeP",{"$f":"IF(Z39=\"\",\"\",IF(OR(AB39=\"Solvent\",AB39=\"After MeP\"),0,IF(AB39=\"\",INDEX(RRFs!E:E,MATCH(\"Triglyme\",RRFs!B:B,FALSE)),INDEX(RRFs!E:E,MATCH(AB39,RRFs!B:B,FALSE)))))","v":""},"","",""]
[null,null,null,null,null,null,null,40,null,null,{"$f":"IF(J40=\"\",\"\",(J40/LARGE($J$5:$J$100,2)*(5/(INDEX(RRFs!E:E,MATCH(\"Triglyme\",RRFs!B:B,FALSE))))))","v":""},null,"","",{"$f":"IF(N40=\"\",\"\",(N40/(INDEX(INDIRECT(\"'\"&LEFT($M$2,5)&\" Data'!F:F\"),MATCH(\"EGDE\",INDIRECT(\"'\"&LEFT($M$2,5)&\" Data\"&\"'!G:G\"),FALSE))))*(INDEX('CSV Prep'!E:E,MATCH(\"EGDE \"&LEFT($M$2,5),'CSV Prep'!B:B,FALSE))/(INDEX(RRFs!E:E,MATCH(\"Triglyme\",RRFs!B:B,FALSE)))))","v":""},null,null,null,"After MeP",{"$f":"IF(Q40=\"\",\"\",IF(OR(S40=\"Solvent\",S40=\"After MeP\"),0,IF(S40=\"\",INDEX(RRFs!E:E,MATCH(\"Triglyme\",RRFs!B:B,FALSE)),INDEX(RRFs!E:E,MATCH(S40,RRFs!B:B,FALSE)))))","v":""},"","","",null,null,null,null,"After MeP",{"$f":"IF(Z40=\"\",\"\",IF(OR(AB40=\"Solvent\",AB40=\"After MeP\"),0,IF(AB40=\"\",INDEX(RRFs!E:E,MATCH(\"Triglyme\",RRFs!B:B,FALSE)),INDEX(RRFs!E:E,MATCH(AB40,RRFs!B:B,FALSE)))))","v":""},"","",""]
[null,"Methyl Palmitate RT (Min)",null,null,{"$f":"'Sample #1'!E41:F41","v":0},null,null,41,null,null,{"$f":"IF(J41=\"\",\"\",(J41/LARGE($J$5:$J$100,2)*(5/(INDEX(RRFs!E:E,MATCH(\"Triglyme\",RRFs!B:B,FALSE))))))","v":""},null,"","",{"$f":"IF(N41=\"\",\"\",(N41/(INDEX(INDIRECT(\"'\"&LEFT($M$2,5)&\" Data'!F:F\"),MATCH(\"EGDE\",INDIRECT(\"'\"&LEFT($M$2,5)&\" Data\"&\"'!G:G\"),FALSE))))*(INDEX('CSV Prep'!E:E,MATCH(\"EGDE \"&LEFT($M$2,5),'CSV Prep'!B:B,FALSE))/(INDEX(RRFs!E:E,MATCH(\"Triglyme\",RRFs!B:B,FALSE)))))","v":""},null,null,null,"After MeP",{"$f":"IF(Q41=\"\",\"\",IF(OR(S41=\"Solvent\",S41=\"After MeP\"),0,IF(S41=\"\",INDEX(RRFs!E:E,MATCH(\"Triglyme\",RRFs!B:B,FALSE)),INDEX(RRFs!E:E,MATCH(S41,RRFs!B:B,FALSE)))))","v":""},"","","",null,null,null,null,"After MeP",{"$f":"IF(Z41=\"\",\"\",IF(OR(AB41=\"Solvent\",AB41=\"After MeP\"),0,IF(AB41=\"\",INDEX(RRFs!E:E,MATCH(\"Triglyme\",RRFs!B:B,FALSE)),INDEX(RRFs!E:E,MATCH(AB41,RRFs!B:B,FALSE)))))","v":""},"","",""]
[null,null,null,null,null,null,null,42,null,null,{"$f":"IF(J42=\"\",\"\",(J42/LARGE($J$5:$J$100,2)*(5/(INDEX(RRFs!E:E,MATCH(\"Triglyme\",RRFs!B:B,FALSE))))))","v":""},null,"","",{"$f":"IF(N42=\"\",\"\",(N42/(INDEX(INDIRECT(\"'\"&LEFT($M$2,5)&\" Data'!F:F\"),MATCH(\"EGDE\",INDIRECT(\"'\"&LEFT($M$2,5)&\" Data\"&\"'!G:G\"),FALSE))))*(INDEX('CSV Prep'!E:E,MATCH(\"EGDE \"&LEFT($M$2,5),'CSV Prep'!B:B,FALSE))/(INDEX(RRFs!E:E,MATCH(\"Triglyme\",RRFs!B:B,FALSE)))))","v":""},null,null,null,"After MeP",{"$f":"IF(Q42=\"\",\"\",IF(OR(S42=\"Solvent\",S42=\"After MeP\"),0,IF(S42=\"\",INDEX(RRFs!E:E,MATCH(\"Triglyme\",RRFs!B:B,FALSE)),INDEX(RRFs!E:E,MATCH(S42,RRFs!B:B,FALSE)))))","v":""},"","","",null,null,null,null,"After MeP",{"$f":"IF(Z42=\"\",\"\",IF(OR(AB42=\"Solvent\",AB42=\"After MeP\"),0,IF(AB42=\"\",INDEX(RRFs!E:E,MATCH(\"Triglyme\",RRFs!B:B,FALSE)),INDEX(RRFs!E:E,MATCH(AB42,RRFs!B:B,FALSE)))))","v":""},"","",""]
[null,null,null,null,null,null,null,43,null,null,{"$f":"IF(J43=\"\",\"\",(J43/LARGE($J$5:$J$100,2)*(5/(INDEX(RRFs!E:E,MATCH(\"Triglyme\",RRFs!B:B,FALSE))))))","v":""},null,"","",{"$f":"IF(N43=\"\",\"\",(N43/(INDEX(INDIRECT(\"'\"&LEFT($M$2,5)&\" Data'!F:F\"),MATCH(\"EGDE\",INDIRECT(\"'\"&LEFT($M$2,5)&\" Data\"&\"'!G:G\"),FALSE))))*(INDEX('CSV Prep'!E:E,MATCH(\"EGDE \"&LEFT($M$2,5),'CSV Prep'!B:B,FALSE))/(INDEX(RRFs!E:E,MATCH(\"Triglyme\",RRFs!B:B,FALSE)))))","v":""},null,null,null,"After MeP",{"$f":"IF(Q43=\"\",\"\",IF(OR(S43=\"Solvent\",S43=\"After MeP\"),0,IF(S43=\"\",INDEX(RRFs!E:E,MATCH(\"Triglyme\",RRFs!B:B,FALSE)),INDEX(RRFs!E:E,MATCH(S43,RRFs!B:B,FALSE)))))","v":""},"","","",null,null,null,null,"After MeP",{"$f":"IF(Z43=\"\",\"\",IF(OR(AB43=\"Solvent\",AB43=\"After MeP\"),0,IF(AB43=\"\",INDEX(RRFs!E:E,MATCH(\"Triglyme\",RRFs!B:B,FALSE)),INDEX(RRFs!E:E,MATCH(AB43,RRFs!B:B,FALSE)))))","v":""},"","",""]
[null,null,null,null,null,"*g/L as Triglyme",null,44,null,null,{"$f":"IF(J44=\"\",\"\",(J44/LARGE($J$5:$J$100,2)*(5/(INDEX(RRFs!E:E,MATCH(\"Triglyme\",RRFs!B:B,FALSE))))))","v":""},null,"","",{"$f":"IF(N44=\"\",\"\",(N44/(INDEX(INDIRECT(\"'\"&LEFT($M$2,5)&\" Data'!F:F\"),MATCH(\"EGDE\",INDIRECT(\"'\"&LEFT($M$2,5)&\" Data\"&\"'!G:G\"),FALSE))))*(INDEX('CSV Prep'!E:E,MATCH(\"EGDE \"&LEFT($M$2,5),'CSV Prep'!B:B,FALSE))/(INDEX(RRFs!E:E,MATCH(\"Triglyme\",RRFs!B:B,FALSE)))))","v":""},null,null,null,"After MeP",{"$f":"IF(Q44=\"\",\"\",IF(OR(S44=\"Solvent\",S44=\"After MeP\"),0,IF(S44=\"\",INDEX(RRFs!E:E,MATCH(\"Triglyme\",RRFs!B:B,FALSE)),INDEX(RRFs!E:E,MATCH(S44,RRFs!B:B,FALSE)))))","v":""},"","","",null,null,null,null,{"$f":"IF(Z44>=$E$41,\"After MeP\",\"\")","v":"After MeP"},{"$f":"IF(Z44=\"\",\"\",IF(OR(AB44=\"Solvent\",AB44=\"After MeP\"),0,IF(AB44=\"\",INDEX(RRFs!E:E,MATCH(\"Triglyme\",RRFs!B:B,FALSE)),INDEX(RRFs!E:E,MATCH(AB44,RRFs!B:B,FALSE)))))","v":""},"","",""]
[null,null,null,null,null,null,null,45,null,null,{"$f":"IF(J45=\"\",\"\",(J45/LARGE($J$5:$J$100,2)*(5/(INDEX(RRFs!E:E,MATCH(\"Triglyme\",RRFs!B:B,FALSE))))))","v":""},null,"","",{"$f":"IF(N45=\"\",\"\",(N45/(INDEX(INDIRECT(\"'\"&LEFT($M$2,5)&\" Data'!F:F\"),MATCH(\"EGDE\",INDIRECT(\"'\"&LEFT($M$2,5)&\" Data\"&\"'!G:G\"),FALSE))))*(INDEX('CSV Prep'!E:E,MATCH(\"EGDE \"&LEFT($M$2,5),'CSV Prep'!B:B,FALSE))/(INDEX(RRFs!E:E,MATCH(\"Triglyme\",RRFs!B:B,FALSE)))))","v":""},null,null,null,"After MeP",{"$f":"IF(Q45=\"\",\"\",IF(OR(S45=\"Solvent\",S45=\"After MeP\"),0,IF(S45=\"\",INDEX(RRFs!E:E,MATCH(\"Triglyme\",RRFs!B:B,FALSE)),INDEX(RRFs!E:E,MATCH(S45,RRFs!B:B,FALSE)))))","v":""},"","","",null,null,null,null,"After MeP",{"$f":"IF(Z45=\"\",\"\",IF(OR(AB45=\"Solvent\",AB45=\"After MeP\"),0,IF(AB45=\"\",INDEX(RRFs!E:E,MATCH(\"Triglyme\",RRFs!B:B,FALSE)),INDEX(RRFs!E:E,MATCH(AB45,RRFs!B:B,FALSE)))))","v":""},"","",""]
[null,null,null,null,null,null,null,46,null,null,{"$f":"IF(J46=\"\",\"\",(J46/LARGE($J$5:$J$100,2)*(5/(INDEX(RRFs!E:E,MATCH(\"Triglyme\",RRFs!B:B,FALSE))))))","v":""},null,"","",{"$f":"IF(N46=\"\",\"\",(N46/(INDEX(INDIRECT(\"'\"&LEFT($M$2,5)&\" Data'!F:F\"),MATCH(\"EGDE\",INDIRECT(\"'\"&LEFT($M$2,5)&\" Data\"&\"'!G:G\"),FALSE))))*(INDEX('CSV Prep'!E:E,MATCH(\"EGDE \"&LEFT($M$2,5),'CSV Prep'!B:B,FALSE))/(INDEX(RRFs!E:E,MATCH(\"Triglyme\",RRFs!B:B,FALSE)))))","v":""},null,null,null,"After MeP",{"$f":"IF(Q46=\"\",\"\",IF(OR(S46=\"Solvent\",S46=\"After MeP\"),0,IF(S46=\"\",INDEX(RRFs!E:E,MATCH(\"Triglyme\",RRFs!B:B,FALSE)),INDEX(RRFs!E:E,MATCH(S46,RRFs!B:B,FALSE)))))","v":""},"","","",null,null,null,null,"After MeP",{"$f":"IF(Z46=\"\",\"\",IF(OR(AB46=\"Solvent\",AB46=\"After MeP\"),0,IF(AB46=\"\",INDEX(RRFs!E:E,MATCH(\"Triglyme\",RRFs!B:B,FALSE)),INDEX(RRFs!E:E,MATCH(AB46,RRFs!B:B,FALSE)))))","v":""},"","",""]
[null,null,null,null,null,null,null,47,null,null,{"$f":"IF(J47=\"\",\"\",(J47/LARGE($J$5:$J$100,2)*(5/(INDEX(RRFs!E:E,MATCH(\"Triglyme\",RRFs!B:B,FALSE))))))","v":""},null,"","",{"$f":"IF(N47=\"\",\"\",(N47/(INDEX(INDIRECT(\"'\"&LEFT($M$2,5)&\" Data'!F:F\"),MATCH(\"EGDE\",INDIRECT(\"'\"&LEFT($M$2,5)&\" Data\"&\"'!G:G\"),FALSE))))*(INDEX('CSV Prep'!E:E,MATCH(\"EGDE \"&LEFT($M$2,5),'CSV Prep'!B:B,FALSE))/(INDEX(RRFs!E:E,MATCH(\"Triglyme\",RRFs!B:B,FALSE)))))","v":""},null,null,null,"After MeP",{"$f":"IF(Q47=\"\",\"\",IF(OR(S47=\"Solvent\",S47=\"After MeP\"),0,IF(S47=\"\",INDEX(RRFs!E:E,MATCH(\"Triglyme\",RRFs!B:B,FALSE)),INDEX(RRFs!E:E,MATCH(S47,RRFs!B:B,FALSE)))))","v":""},"","","",null,null,null,null,"After MeP",{"$f":"IF(Z47=\"\",\"\",IF(OR(AB47=\"Solvent\",AB47=\"After MeP\"),0,IF(AB47=\"\",INDEX(RRFs!E:E,MATCH(\"Triglyme\",RRFs!B:B,FALSE)),INDEX(RRFs!E:E,MATCH(AB47,RRFs!B:B,FALSE)))))","v":""},"","",""]
[null,null,null,null,null,null,null,48,null,null,{"$f":"IF(J48=\"\",\"\",(J48/LARGE($J$5:$J$100,2)*(5/(INDEX(RRFs!E:E,MATCH(\"Triglyme\",RRFs!B:B,FALSE))))))","v":""},null,"","",{"$f":"IF(N48=\"\",\"\",(N48/(INDEX(INDIRECT(\"'\"&LEFT($M$2,5)&\" Data'!F:F\"),MATCH(\"EGDE\",INDIRECT(\"'\"&LEFT($M$2,5)&\" Data\"&\"'!G:G\"),FALSE))))*(INDEX('CSV Prep'!E:E,MATCH(\"EGDE \"&LEFT($M$2,5),'CSV Prep'!B:B,FALSE))/(INDEX(RRFs!E:E,MATCH(\"Triglyme\",RRFs!B:B,FALSE)))))","v":""},null,null,null,"After MeP",{"$f":"IF(Q48=\"\",\"\",IF(OR(S48=\"Solvent\",S48=\"After MeP\"),0,IF(S48=\"\",INDEX(RRFs!E:E,MATCH(\"Triglyme\",RRFs!B:B,FALSE)),INDEX(RRFs!E:E,MATCH(S48,RRFs!B:B,FALSE)))))","v":""},"","","",null,null,null,null,"After MeP",{"$f":"IF(Z48=\"\",\"\",IF(OR(AB48=\"Solvent\",AB48=\"After MeP\"),0,IF(AB48=\"\",INDEX(RRFs!E:E,MATCH(\"Triglyme\",RRFs!B:B,FALSE)),INDEX(RRFs!E:E,MATCH(AB48,RRFs!B:B,FALSE)))))","v":""},"","",""]
[null,null,null,null,null,null,null,49,null,null,{"$f":"IF(J49=\"\",\"\",(J49/LARGE($J$5:$J$100,2)*(5/(INDEX(RRFs!E:E,MATCH(\"Triglyme\",RRFs!B:B,FALSE))))))","v":""},null,"","",{"$f":"IF(N49=\"\",\"\",(N49/(INDEX(INDIRECT(\"'\"&LEFT($M$2,5)&\" Data'!F:F\"),MATCH(\"EGDE\",INDIRECT(\"'\"&LEFT($M$2,5)&\" Data\"&\"'!G:G\"),FALSE))))*(INDEX('CSV Prep'!E:E,MATCH(\"EGDE \"&LEFT($M$2,5),'CSV Prep'!B:B,FALSE))/(INDEX(RRFs!E:E,MATCH(\"Triglyme\",RRFs!B:B,FALSE)))))","v":""},null,null,null,"After MeP",{"$f":"IF(Q49=\"\",\"\",IF(OR(S49=\"Solvent\",S49=\"After MeP\"),0,IF(S49=\"\",INDEX(RRFs!E:E,MATCH(\"Triglyme\",RRFs!B:B,FALSE)),INDEX(RRFs!E:E,MATCH(S49,RRFs!B:B,FALSE)))))","v":""},"","","",null,null,null,null,"After MeP",{"$f":"IF(Z49=\"\",\"\",IF(OR(AB49=\"Solvent\",AB49=\"After MeP\"),0,IF(AB49=\"\",INDEX(RRFs!E:E,MATCH(\"Triglyme\",RRFs!B:B,FALSE)),INDEX(RRFs!E:E,MATCH(AB49,RRFs!B:B,FALSE)))))","v":""},"","",""]
[null,null,null,null,null,null,null,50,null,null,{"$f":"IF(J50=\"\",\"\",(J50/LARGE($J$5:$J$100,2)*(5/(INDEX(RRFs!E:E,MATCH(\"Triglyme\",RRFs!B:B,FALSE))))))","v":""},null,"","",{"$f":"IF(N50=\"\",\"\",(N50/(INDEX(INDIRECT(\"'\"&LEFT($M$2,5)&\" Data'!F:F\"),MATCH(\"EGDE\",INDIRECT(\"'\"&LEFT($M$2,5)&\" Data\"&\"'!G:G\"),FALSE))))*(INDEX('CSV Prep'!E:E,MATCH(\"EGDE \"&LEFT($M$2,5),'CSV Prep'!B:B,FALSE))/(INDEX(RRFs!E:E,MATCH(\"Triglyme\",RRFs!B:B,FALSE)))))","v":""},null,null,null,"After MeP",{"$f":"IF(Q50=\"\",\"\",IF(OR(S50=\"Solvent\",S50=\"After MeP\"),0,IF(S50=\"\",INDEX(RRFs!E:E,MATCH(\"Triglyme\",RRFs!B:B,FALSE)),INDEX(RRFs!E:E,MATCH(S50,RRFs!B:B,FALSE)))))","v":""},"","","",null,null,null,null,"After MeP",{"$f":"IF(Z50=\"\",\"\",IF(OR(AB50=\"Solvent\",AB50=\"After MeP\"),0,IF(AB50=\"\",INDEX(RRFs!E:E,MATCH(\"Triglyme\",RRFs!B:B,FALSE)),INDEX(RRFs!E:E,MATCH(AB50,RRFs!B:B,FALSE)))))","v":""},"","",""]
[null,null,null,null,null,null,null,51,null,null,{"$f":"IF(J51=\"\",\"\",(J51/LARGE($J$5:$J$100,2)*(5/(INDEX(RRFs!E:E,MATCH(\"Triglyme\",RRFs!B:B,FALSE))))))","v":""},null,"","",{"$f":"IF(N51=\"\",\"\",(N51/(INDEX(INDIRECT(\"'\"&LEFT($M$2,5)&\" Data'!F:F\"),MATCH(\"EGDE\",INDIRECT(\"'\"&LEFT($M$2,5)&\" Data\"&\"'!G:G\"),FALSE))))*(INDEX('CSV Prep'!E:E,MATCH(\"EGDE \"&LEFT($M$2,5),'CSV Prep'!B:B,FALSE))/(INDEX(RRFs!E:E,MATCH(\"Triglyme\",RRFs!B:B,FALSE)))))","v":""},null,null,null,"After MeP",{"$f":"IF(Q51=\"\",\"\",IF(OR(S51=\"Solvent\",S51=\"After MeP\"),0,IF(S51=\"\",INDEX(RRFs!E:E,MATCH(\"Triglyme\",RRFs!B:B,FALSE)),INDEX(RRFs!E:E,MATCH(S51,RRFs!B:B,FALSE)))))","v":""},"","","",null,null,null,null,"After MeP",{"$f":"IF(Z51=\"\",\"\",IF(OR(AB51=\"Solvent\",AB51=\"After MeP\"),0,IF(AB51=\"\",INDEX(RRFs!E:E,MATCH(\"Triglyme\",RRFs!B:B,FALSE)),INDEX(RRFs!E:E,MATCH(AB51,RRFs!B:B,FALSE)))))","v":""},"","",""]
[null,null,null,null,null,null,null,52,null,null,{"$f":"IF(J52=\"\",\"\",(J52/LARGE($J$5:$J$100,2)*(5/(INDEX(RRFs!E:E,MATCH(\"Triglyme\",RRFs!B:B,FALSE))))))","v":""},null,"","",{"$f":"IF(N52=\"\",\"\",(N52/(INDEX(INDIRECT(\"'\"&LEFT($M$2,5)&\" Data'!F:F\"),MATCH(\"EGDE\",INDIRECT(\"'\"&LEFT($M$2,5)&\" Data\"&\"'!G:G\"),FALSE))))*(INDEX('CSV Prep'!E:E,MATCH(\"EGDE \"&LEFT($M$2,5),'CSV Prep'!B:B,FALSE))/(INDEX(RRFs!E:E,MATCH(\"Triglyme\",RRFs!B:B,FALSE)))))","v":""},null,null,null,"After MeP",{"$f":"IF(Q52=\"\",\"\",IF(OR(S52=\"Solvent\",S52=\"After MeP\"),0,IF(S52=\"\",INDEX(RRFs!E:E,MATCH(\"Triglyme\",RRFs!B:B,FALSE)),INDEX(RRFs!E:E,MATCH(S52,RRFs!B:B,FALSE)))))","v":""},"","","",null,null,null,null,"After MeP",{"$f":"IF(Z52=\"\",\"\",IF(OR(AB52=\"Solvent\",AB52=\"After MeP\"),0,IF(AB52=\"\",INDEX(RRFs!E:E,MATCH(\"Triglyme\",RRFs!B:B,FALSE)),INDEX(RRFs!E:E,MATCH(AB52,RRFs!B:B,FALSE)))))","v":""},"","",""]
[null,null,null,null,null,null,null,53,null,null,{"$f":"IF(J53=\"\",\"\",(J53/LARGE($J$5:$J$100,2)*(5/(INDEX(RRFs!E:E,MATCH(\"Triglyme\",RRFs!B:B,FALSE))))))","v":""},null,"","",{"$f":"IF(N53=\"\",\"\",(N53/(INDEX(INDIRECT(\"'\"&LEFT($M$2,5)&\" Data'!F:F\"),MATCH(\"EGDE\",INDIRECT(\"'\"&LEFT($M$2,5)&\" Data\"&\"'!G:G\"),FALSE))))*(INDEX('CSV Prep'!E:E,MATCH(\"EGDE \"&LEFT($M$2,5),'CSV Prep'!B:B,FALSE))/(INDEX(RRFs!E:E,MATCH(\"Triglyme\",RRFs!B:B,FALSE)))))","v":""},null,null,null,"After MeP",{"$f":"IF(Q53=\"\",\"\",IF(OR(S53=\"Solvent\",S53=\"After MeP\"),0,IF(S53=\"\",INDEX(RRFs!E:E,MATCH(\"Triglyme\",RRFs!B:B,FALSE)),INDEX(RRFs!E:E,MATCH(S53,RRFs!B:B,FALSE)))))","v":""},"","","",null,null,null,null,"After MeP",{"$f":"IF(Z53=\"\",\"\",IF(OR(AB53=\"Solvent\",AB53=\"After MeP\"),0,IF(AB53=\"\",INDEX(RRFs!E:E,MATCH(\"Triglyme\",RRFs!B:B,FALSE)),INDEX(RRFs!E:E,MATCH(AB53,RRFs!B:B,FALSE)))))","v":""},"","",""]
[null,null,null,null,null,null,null,54,null,null,{"$f":"IF(J54=\"\",\"\",(J54/LARGE($J$5:$J$100,2)*(5/(INDEX(RRFs!E:E,MATCH(\"Triglyme\",RRFs!B:B,FALSE))))))","v":""},null,"","",{"$f":"IF(N54=\"\",\"\",(N54/(INDEX(INDIRECT(\"'\"&LEFT($M$2,5)&\" Data'!F:F\"),MATCH(\"EGDE\",INDIRECT(\"'\"&LEFT($M$2,5)&\" Data\"&\"'!G:G\"),FALSE))))*(INDEX('CSV Prep'!E:E,MATCH(\"EGDE \"&LEFT($M$2,5),'CSV Prep'!B:B,FALSE))/(INDEX(RRFs!E:E,MATCH(\"Triglyme\",RRFs!B:B,FALSE)))))","v":""},null,null,null,"After MeP",{"$f":"IF(Q54=\"\",\"\",IF(OR(S54=\"Solvent\",S54=\"After MeP\"),0,IF(S54=\"\",INDEX(RRFs!E:E,MATCH(\"Triglyme\",RRFs!B:B,FALSE)),INDEX(RRFs!E:E,MATCH(S54,RRFs!B:B,FALSE)))))","v":""},"","","",null,null,null,null,"After MeP",{"$f":"IF(Z54=\"\",\"\",IF(OR(AB54=\"Solvent\",AB54=\"After MeP\"),0,IF(AB54=\"\",INDEX(RRFs!E:E,MATCH(\"Triglyme\",RRFs!B:B,FALSE)),INDEX(RRFs!E:E,MATCH(AB54,RRFs!B:B,FALSE)))))","v":""},"","",""]
[null,null,null,null,null,null,null,55,null,null,{"$f":"IF(J55=\"\",\"\",(J55/LARGE($J$5:$J$100,2)*(5/(INDEX(RRFs!E:E,MATCH(\"Triglyme\",RRFs!B:B,FALSE))))))","v":""},null,"","",{"$f":"IF(N55=\"\",\"\",(N55/(INDEX(INDIRECT(\"'\"&LEFT($M$2,5)&\" Data'!F:F\"),MATCH(\"EGDE\",INDIRECT(\"'\"&LEFT($M$2,5)&\" Data\"&\"'!G:G\"),FALSE))))*(INDEX('CSV Prep'!E:E,MATCH(\"EGDE \"&LEFT($M$2,5),'CSV Prep'!B:B,FALSE))/(INDEX(RRFs!E:E,MATCH(\"Triglyme\",RRFs!B:B,FALSE)))))","v":""},null,null,null,"After MeP",{"$f":"IF(Q55=\"\",\"\",IF(OR(S55=\"Solvent\",S55=\"After MeP\"),0,IF(S55=\"\",INDEX(RRFs!E:E,MATCH(\"Triglyme\",RRFs!B:B,FALSE)),INDEX(RRFs!E:E,MATCH(S55,RRFs!B:B,FALSE)))))","v":""},"","","",null,null,null,null,"After MeP",{"$f":"IF(Z55=\"\",\"\",IF(OR(AB55=\"Solvent\",AB55=\"After MeP\"),0,IF(AB55=\"\",INDEX(RRFs!E:E,MATCH(\"Triglyme\",RRFs!B:B,FALSE)),INDEX(RRFs!E:E,MATCH(AB55,RRFs!B:B,FALSE)))))","v":""},"","",""]
[null,null,null,null,null,null,null,56,null,null,{"$f":"IF(J56=\"\",\"\",(J56/LARGE($J$5:$J$100,2)*(5/(INDEX(RRFs!E:E,MATCH(\"Triglyme\",RRFs!B:B,FALSE))))))","v":""},null,"","",{"$f":"IF(N56=\"\",\"\",(N56/(INDEX(INDIRECT(\"'\"&LEFT($M$2,5)&\" Data'!F:F\"),MATCH(\"EGDE\",INDIRECT(\"'\"&LEFT($M$2,5)&\" Data\"&\"'!G:G\"),FALSE))))*(INDEX('CSV Prep'!E:E,MATCH(\"EGDE \"&LEFT($M$2,5),'CSV Prep'!B:B,FALSE))/(INDEX(RRFs!E:E,MATCH(\"Triglyme\",RRFs!B:B,FALSE)))))","v":""},null,null,null,"After MeP",{"$f":"IF(Q56=\"\",\"\",IF(OR(S56=\"Solvent\",S56=\"After MeP\"),0,IF(S56=\"\",INDEX(RRFs!E:E,MATCH(\"Triglyme\",RRFs!B:B,FALSE)),INDEX(RRFs!E:E,MATCH(S56,RRFs!B:B,FALSE)))))","v":""},"","","",null,null,null,null,"After MeP",{"$f":"IF(Z56=\"\",\"\",IF(OR(AB56=\"Solvent\",AB56=\"After MeP\"),0,IF(AB56=\"\",INDEX(RRFs!E:E,MATCH(\"Triglyme\",RRFs!B:B,FALSE)),INDEX(RRFs!E:E,MATCH(AB56,RRFs!B:B,FALSE)))))","v":""},"","",""]
[null,null,null,null,null,null,null,57,null,null,{"$f":"IF(J57=\"\",\"\",(J57/LARGE($J$5:$J$100,2)*(5/(INDEX(RRFs!E:E,MATCH(\"Triglyme\",RRFs!B:B,FALSE))))))","v":""},null,"","",{"$f":"IF(N57=\"\",\"\",(N57/(INDEX(INDIRECT(\"'\"&LEFT($M$2,5)&\" Data'!F:F\"),MATCH(\"EGDE\",INDIRECT(\"'\"&LEFT($M$2,5)&\" Data\"&\"'!G:G\"),FALSE))))*(INDEX('CSV Prep'!E:E,MATCH(\"EGDE \"&LEFT($M$2,5),'CSV Prep'!B:B,FALSE))/(INDEX(RRFs!E:E,MATCH(\"Triglyme\",RRFs!B:B,FALSE)))))","v":""},null,null,null,"After MeP",{"$f":"IF(Q57=\"\",\"\",IF(OR(S57=\"Solvent\",S57=\"After MeP\"),0,IF(S57=\"\",INDEX(RRFs!E:E,MATCH(\"Triglyme\",RRFs!B:B,FALSE)),INDEX(RRFs!E:E,MATCH(S57,RRFs!B:B,FALSE)))))","v":""},"","","",null,null,null,null,"After MeP",{"$f":"IF(Z57=\"\",\"\",IF(OR(AB57=\"Solvent\",AB57=\"After MeP\"),0,IF(AB57=\"\",INDEX(RRFs!E:E,MATCH(\"Triglyme\",RRFs!B:B,FALSE)),INDEX(RRFs!E:E,MATCH(AB57,RRFs!B:B,FALSE)))))","v":""},"","",""]
[null,null,null,null,null,null,null,58,null,null,{"$f":"IF(J58=\"\",\"\",(J58/LARGE($J$5:$J$100,2)*(5/(INDEX(RRFs!E:E,MATCH(\"Triglyme\",RRFs!B:B,FALSE))))))","v":""},null,"","",{"$f":"IF(N58=\"\",\"\",(N58/(INDEX(INDIRECT(\"'\"&LEFT($M$2,5)&\" Data'!F:F\"),MATCH(\"EGDE\",INDIRECT(\"'\"&LEFT($M$2,5)&\" Data\"&\"'!G:G\"),FALSE))))*(INDEX('CSV Prep'!E:E,MATCH(\"EGDE \"&LEFT($M$2,5),'CSV Prep'!B:B,FALSE))/(INDEX(RRFs!E:E,MATCH(\"Triglyme\",RRFs!B:B,FALSE)))))","v":""},null,null,null,"After MeP",{"$f":"IF(Q58=\"\",\"\",IF(OR(S58=\"Solvent\",S58=\"After MeP\"),0,IF(S58=\"\",INDEX(RRFs!E:E,MATCH(\"Triglyme\",RRFs!B:B,FALSE)),INDEX(RRFs!E:E,MATCH(S58,RRFs!B:B,FALSE)))))","v":""},"","","",null,null,null,null,"After MeP",{"$f":"IF(Z58=\"\",\"\",IF(OR(AB58=\"Solvent\",AB58=\"After MeP\"),0,IF(AB58=\"\",INDEX(RRFs!E:E,MATCH(\"Triglyme\",RRFs!B:B,FALSE)),INDEX(RRFs!E:E,MATCH(AB58,RRFs!B:B,FALSE)))))","v":""},"","",""]
[null,null,null,null,null,null,null,59,null,null,{"$f":"IF(J59=\"\",\"\",(J59/LARGE($J$5:$J$100,2)*(5/(INDEX(RRFs!E:E,MATCH(\"Triglyme\",RRFs!B:B,FALSE))))))","v":""},null,"","",{"$f":"IF(N59=\"\",\"\",(N59/(INDEX(INDIRECT(\"'\"&LEFT($M$2,5)&\" Data'!F:F\"),MATCH(\"EGDE\",INDIRECT(\"'\"&LEFT($M$2,5)&\" Data\"&\"'!G:G\"),FALSE))))*(INDEX('CSV Prep'!E:E,MATCH(\"EGDE \"&LEFT($M$2,5),'CSV Prep'!B:B,FALSE))/(INDEX(RRFs!E:E,MATCH(\"Triglyme\",RRFs!B:B,FALSE)))))","v":""},null,null,null,"After MeP",{"$f":"IF(Q59=\"\",\"\",IF(OR(S59=\"Solvent\",S59=\"After MeP\"),0,IF(S59=\"\",INDEX(RRFs!E:E,MATCH(\"Triglyme\",RRFs!B:B,FALSE)),INDEX(RRFs!E:E,MATCH(S59,RRFs!B:B,FALSE)))))","v":""},"","","",null,null,null,null,"After MeP",{"$f":"IF(Z59=\"\",\"\",IF(OR(AB59=\"Solvent\",AB59=\"After MeP\"),0,IF(AB59=\"\",INDEX(RRFs!E:E,MATCH(\"Triglyme\",RRFs!B:B,FALSE)),INDEX(RRFs!E:E,MATCH(AB59,RRFs!B:B,FALSE)))))","v":""},"","",""]
[null,null,null,null,null,null,null,60,null,null,{"$f":"IF(J60=\"\",\"\",(J60/LARGE($J$5:$J$100,2)*(5/(INDEX(RRFs!E:E,MATCH(\"Triglyme\",RRFs!B:B,FALSE))))))","v":""},null,"","",{"$f":"IF(N60=\"\",\"\",(N60/(INDEX(INDIRECT(\"'\"&LEFT($M$2,5)&\" Data'!F:F\"),MATCH(\"EGDE\",INDIRECT(\"'\"&LEFT($M$2,5)&\" Data\"&\"'!G:G\"),FALSE))))*(INDEX('CSV Prep'!E:E,MATCH(\"EGDE \"&LEFT($M$2,5),'CSV Prep'!B:B,FALSE))/(INDEX(RRFs!E:E,MATCH(\"Triglyme\",RRFs!B:B,FALSE)))))","v":""},null,null,null,"After MeP",{"$f":"IF(Q60=\"\",\"\",IF(OR(S60=\"Solvent\",S60=\"After MeP\"),0,IF(S60=\"\",INDEX(RRFs!E:E,MATCH(\"Triglyme\",RRFs!B:B,FALSE)),INDEX(RRFs!E:E,MATCH(S60,RRFs!B:B,FALSE)))))","v":""},"","","",null,null,null,null,"After MeP",{"$f":"IF(Z60=\"\",\"\",IF(OR(AB60=\"Solvent\",AB60=\"After MeP\"),0,IF(AB60=\"\",INDEX(RRFs!E:E,MATCH(\"Triglyme\",RRFs!B:B,FALSE)),INDEX(RRFs!E:E,MATCH(AB60,RRFs!B:B,FALSE)))))","v":""},"","",""]
[null,null,null,null,null,null,null,61,null,null,{"$f":"IF(J61=\"\",\"\",(J61/LARGE($J$5:$J$100,2)*(5/(INDEX(RRFs!E:E,MATCH(\"Triglyme\",RRFs!B:B,FALSE))))))","v":""},null,"","",{"$f":"IF(N61=\"\",\"\",(N61/(INDEX(INDIRECT(\"'\"&LEFT($M$2,5)&\" Data'!F:F\"),MATCH(\"EGDE\",INDIRECT(\"'\"&LEFT($M$2,5)&\" Data\"&\"'!G:G\"),FALSE))))*(INDEX('CSV Prep'!E:E,MATCH(\"EGDE \"&LEFT($M$2,5),'CSV Prep'!B:B,FALSE))/(INDEX(RRFs!E:E,MATCH(\"Triglyme\",RRFs!B:B,FALSE)))))","v":""},null,null,null,"After MeP",{"$f":"IF(Q61=\"\",\"\",IF(OR(S61=\"Solvent\",S61=\"After MeP\"),0,IF(S61=\"\",INDEX(RRFs!E:E,MATCH(\"Triglyme\",RRFs!B:B,FALSE)),INDEX(RRFs!E:E,MATCH(S61,RRFs!B:B,FALSE)))))","v":""},"","","",null,null,null,null,"After MeP",{"$f":"IF(Z61=\"\",\"\",IF(OR(AB61=\"Solvent\",AB61=\"After MeP\"),0,IF(AB61=\"\",INDEX(RRFs!E:E,MATCH(\"Triglyme\",RRFs!B:B,FALSE)),INDEX(RRFs!E:E,MATCH(AB61,RRFs!B:B,FALSE)))))","v":""},"","",""]
[null,null,null,null,null,null,null,62,null,null,{"$f":"IF(J62=\"\",\"\",(J62/LARGE($J$5:$J$100,2)*(5/(INDEX(RRFs!E:E,MATCH(\"Triglyme\",RRFs!B:B,FALSE))))))","v":""},null,"","",{"$f":"IF(N62=\"\",\"\",(N62/(INDEX(INDIRECT(\"'\"&LEFT($M$2,5)&\" Data'!F:F\"),MATCH(\"EGDE\",INDIRECT(\"'\"&LEFT($M$2,5)&\" Data\"&\"'!G:G\"),FALSE))))*(INDEX('CSV Prep'!E:E,MATCH(\"EGDE \"&LEFT($M$2,5),'CSV Prep'!B:B,FALSE))/(INDEX(RRFs!E:E,MATCH(\"Triglyme\",RRFs!B:B,FALSE)))))","v":""},null,null,null,"After MeP",{"$f":"IF(Q62=\"\",\"\",IF(OR(S62=\"Solvent\",S62=\"After MeP\"),0,IF(S62=\"\",INDEX(RRFs!E:E,MATCH(\"Triglyme\",RRFs!B:B,FALSE)),INDEX(RRFs!E:E,MATCH(S62,RRFs!B:B,FALSE)))))","v":""},"","","",null,null,null,null,"After MeP",{"$f":"IF(Z62=\"\",\"\",IF(OR(AB62=\"Solvent\",AB62=\"After MeP\"),0,IF(AB62=\"\",INDEX(RRFs!E:E,MATCH(\"Triglyme\",RRFs!B:B,FALSE)),INDEX(RRFs!E:E,MATCH(AB62,RRFs!B:B,FALSE)))))","v":""},"","",""]
[null,null,null,null,null,null,null,63,null,null,{"$f":"IF(J63=\"\",\"\",(J63/LARGE($J$5:$J$100,2)*(5/(INDEX(RRFs!E:E,MATCH(\"Triglyme\",RRFs!B:B,FALSE))))))","v":""},null,"","",{"$f":"IF(N63=\"\",\"\",(N63/(INDEX(INDIRECT(\"'\"&LEFT($M$2,5)&\" Data'!F:F\"),MATCH(\"EGDE\",INDIRECT(\"'\"&LEFT($M$2,5)&\" Data\"&\"'!G:G\"),FALSE))))*(INDEX('CSV Prep'!E:E,MATCH(\"EGDE \"&LEFT($M$2,5),'CSV Prep'!B:B,FALSE))/(INDEX(RRFs!E:E,MATCH(\"Triglyme\",RRFs!B:B,FALSE)))))","v":""},null,null,null,"After MeP",{"$f":"IF(Q63=\"\",\"\",IF(OR(S63=\"Solvent\",S63=\"After MeP\"),0,IF(S63=\"\",INDEX(RRFs!E:E,MATCH(\"Triglyme\",RRFs!B:B,FALSE)),INDEX(RRFs!E:E,MATCH(S63,RRFs!B:B,FALSE)))))","v":""},"","","",null,null,null,null,"After MeP",{"$f":"IF(Z63=\"\",\"\",IF(OR(AB63=\"Solvent\",AB63=\"After MeP\"),0,IF(AB63=\"\",INDEX(RRFs!E:E,MATCH(\"Triglyme\",RRFs!B:B,FALSE)),INDEX(RRFs!E:E,MATCH(AB63,RRFs!B:B,FALSE)))))","v":""},"","",""]
[null,null,null,null,null,null,null,64,null,null,{"$f":"IF(J64=\"\",\"\",(J64/LARGE($J$5:$J$100,2)*(5/(INDEX(RRFs!E:E,MATCH(\"Triglyme\",RRFs!B:B,FALSE))))))","v":""},null,"","",{"$f":"IF(N64=\"\",\"\",(N64/(INDEX(INDIRECT(\"'\"&LEFT($M$2,5)&\" Data'!F:F\"),MATCH(\"EGDE\",INDIRECT(\"'\"&LEFT($M$2,5)&\" Data\"&\"'!G:G\"),FALSE))))*(INDEX('CSV Prep'!E:E,MATCH(\"EGDE \"&LEFT($M$2,5),'CSV Prep'!B:B,FALSE))/(INDEX(RRFs!E:E,MATCH(\"Triglyme\",RRFs!B:B,FALSE)))))","v":""},null,null,null,"After MeP",{"$f":"IF(Q64=\"\",\"\",IF(OR(S64=\"Solvent\",S64=\"After MeP\"),0,IF(S64=\"\",INDEX(RRFs!E:E,MATCH(\"Triglyme\",RRFs!B:B,FALSE)),INDEX(RRFs!E:E,MATCH(S64,RRFs!B:B,FALSE)))))","v":""},"","","",null,null,null,null,"After MeP",{"$f":"IF(Z64=\"\",\"\",IF(OR(AB64=\"Solvent\",AB64=\"After MeP\"),0,IF(AB64=\"\",INDEX(RRFs!E:E,MATCH(\"Triglyme\",RRFs!B:B,FALSE)),INDEX(RRFs!E:E,MATCH(AB64,RRFs!B:B,FALSE)))))","v":""},"","",""]
[null,null,null,null,null,null,null,65,null,null,{"$f":"IF(J65=\"\",\"\",(J65/LARGE($J$5:$J$100,2)*(5/(INDEX(RRFs!E:E,MATCH(\"Triglyme\",RRFs!B:B,FALSE))))))","v":""},null,"","",{"$f":"IF(N65=\"\",\"\",(N65/(INDEX(INDIRECT(\"'\"&LEFT($M$2,5)&\" Data'!F:F\"),MATCH(\"EGDE\",INDIRECT(\"'\"&LEFT($M$2,5)&\" Data\"&\"'!G:G\"),FALSE))))*(INDEX('CSV Prep'!E:E,MATCH(\"EGDE \"&LEFT($M$2,5),'CSV Prep'!B:B,FALSE))/(INDEX(RRFs!E:E,MATCH(\"Triglyme\",RRFs!B:B,FALSE)))))","v":""},null,null,null,"After MeP",{"$f":"IF(Q65=\"\",\"\",IF(OR(S65=\"Solvent\",S65=\"After MeP\"),0,IF(S65=\"\",INDEX(RRFs!E:E,MATCH(\"Triglyme\",RRFs!B:B,FALSE)),INDEX(RRFs!E:E,MATCH(S65,RRFs!B:B,FALSE)))))","v":""},"","","",null,null,null,null,"After MeP",{"$f":"IF(Z65=\"\",\"\",IF(OR(AB65=\"Solvent\",AB65=\"After MeP\"),0,IF(AB65=\"\",INDEX(RRFs!E:E,MATCH(\"Triglyme\",RRFs!B:B,FALSE)),INDEX(RRFs!E:E,MATCH(AB65,RRFs!B:B,FALSE)))))","v":""},"","",""]
[null,null,null,null,null,null,null,66,null,null,{"$f":"IF(J66=\"\",\"\",(J66/LARGE($J$5:$J$100,2)*(5/(INDEX(RRFs!E:E,MATCH(\"Triglyme\",RRFs!B:B,FALSE))))))","v":""},null,"","",{"$f":"IF(N66=\"\",\"\",(N66/(INDEX(INDIRECT(\"'\"&LEFT($M$2,5)&\" Data'!F:F\"),MATCH(\"EGDE\",INDIRECT(\"'\"&LEFT($M$2,5)&\" Data\"&\"'!G:G\"),FALSE))))*(INDEX('CSV Prep'!E:E,MATCH(\"EGDE \"&LEFT($M$2,5),'CSV Prep'!B:B,FALSE))/(INDEX(RRFs!E:E,MATCH(\"Triglyme\",RRFs!B:B,FALSE)))))","v":""},null,null,null,"After MeP",{"$f":"IF(Q66=\"\",\"\",IF(OR(S66=\"Solvent\",S66=\"After MeP\"),0,IF(S66=\"\",INDEX(RRFs!E:E,MATCH(\"Triglyme\",RRFs!B:B,FALSE)),INDEX(RRFs!E:E,MATCH(S66,RRFs!B:B,FALSE)))))","v":""},"","","",null,null,null,null,"After MeP",{"$f":"IF(Z66=\"\",\"\",IF(OR(AB66=\"Solvent\",AB66=\"After MeP\"),0,IF(AB66=\"\",INDEX(RRFs!E:E,MATCH(\"Triglyme\",RRFs!B:B,FALSE)),INDEX(RRFs!E:E,MATCH(AB66,RRFs!B:B,FALSE)))))","v":""},"","",""]
[null,null,null,null,null,null,null,67,null,null,{"$f":"IF(J67=\"\",\"\",(J67/LARGE($J$5:$J$100,2)*(5/(INDEX(RRFs!E:E,MATCH(\"Triglyme\",RRFs!B:B,FALSE))))))","v":""},null,"","",{"$f":"IF(N67=\"\",\"\",(N67/(INDEX(INDIRECT(\"'\"&LEFT($M$2,5)&\" Data'!F:F\"),MATCH(\"EGDE\",INDIRECT(\"'\"&LEFT($M$2,5)&\" Data\"&\"'!G:G\"),FALSE))))*(INDEX('CSV Prep'!E:E,MATCH(\"EGDE \"&LEFT($M$2,5),'CSV Prep'!B:B,FALSE))/(INDEX(RRFs!E:E,MATCH(\"Triglyme\",RRFs!B:B,FALSE)))))","v":""},null,null,null,"After MeP",{"$f":"IF(Q67=\"\",\"\",IF(OR(S67=\"Solvent\",S67=\"After MeP\"),0,IF(S67=\"\",INDEX(RRFs!E:E,MATCH(\"Triglyme\",RRFs!B:B,FALSE)),INDEX(RRFs!E:E,MATCH(S67,RRFs!B:B,FALSE)))))","v":""},"","","",null,null,null,null,"After MeP",{"$f":"IF(Z67=\"\",\"\",IF(OR(AB67=\"Solvent\",AB67=\"After MeP\"),0,IF(AB67=\"\",INDEX(RRFs!E:E,MATCH(\"Triglyme\",RRFs!B:B,FALSE)),INDEX(RRFs!E:E,MATCH(AB67,RRFs!B:B,FALSE)))))","v":""},"","",""]
[null,null,null,null,null,null,null,68,null,null,{"$f":"IF(J68=\"\",\"\",(J68/LARGE($J$5:$J$100,2)*(5/(INDEX(RRFs!E:E,MATCH(\"Triglyme\",RRFs!B:B,FALSE))))))","v":""},null,"","",{"$f":"IF(N68=\"\",\"\",(N68/(INDEX(INDIRECT(\"'\"&LEFT($M$2,5)&\" Data'!F:F\"),MATCH(\"EGDE\",INDIRECT(\"'\"&LEFT($M$2,5)&\" Data\"&\"'!G:G\"),FALSE))))*(INDEX('CSV Prep'!E:E,MATCH(\"EGDE \"&LEFT($M$2,5),'CSV Prep'!B:B,FALSE))/(INDEX(RRFs!E:E,MATCH(\"Triglyme\",RRFs!B:B,FALSE)))))","v":""},null,null,null,"After MeP",{"$f":"IF(Q68=\"\",\"\",IF(OR(S68=\"Solvent\",S68=\"After MeP\"),0,IF(S68=\"\",INDEX(RRFs!E:E,MATCH(\"Triglyme\",RRFs!B:B,FALSE)),INDEX(RRFs!E:E,MATCH(S68,RRFs!B:B,FALSE)))))","v":""},"","","",null,null,null,null,"After MeP",{"$f":"IF(Z68=\"\",\"\",IF(OR(AB68=\"Solvent\",AB68=\"After MeP\"),0,IF(AB68=\"\",INDEX(RRFs!E:E,MATCH(\"Triglyme\",RRFs!B:B,FALSE)),INDEX(RRFs!E:E,MATCH(AB68,RRFs!B:B,FALSE)))))","v":""},"","",""]
[null,null,null,null,null,null,null,69,null,null,{"$f":"IF(J69=\"\",\"\",(J69/LARGE($J$5:$J$100,2)*(5/(INDEX(RRFs!E:E,MATCH(\"Triglyme\",RRFs!B:B,FALSE))))))","v":""},null,"","",{"$f":"IF(N69=\"\",\"\",(N69/(INDEX(INDIRECT(\"'\"&LEFT($M$2,5)&\" Data'!F:F\"),MATCH(\"EGDE\",INDIRECT(\"'\"&LEFT($M$2,5)&\" Data\"&\"'!G:G\"),FALSE))))*(INDEX('CSV Prep'!E:E,MATCH(\"EGDE \"&LEFT($M$2,5),'CSV Prep'!B:B,FALSE))/(INDEX(RRFs!E:E,MATCH(\"Triglyme\",RRFs!B:B,FALSE)))))","v":""},null,null,null,{"$f":"IF(Q69>=$E$41,\"After MeP\",\"\")","v":"After MeP"},{"$f":"IF(Q69=\"\",\"\",IF(OR(S69=\"Solvent\",S69=\"After MeP\"),0,IF(S69=\"\",INDEX(RRFs!E:E,MATCH(\"Triglyme\",RRFs!B:B,FALSE)),INDEX(RRFs!E:E,MATCH(S69,RRFs!B:B,FALSE)))))","v":""},{"$f":"IF(Q69=\"\",\"\",IF(T69=0,0,IF(S69=\"EGDE\",R69/T69,R69/INDEX(R:R,MATCH(\"EGDE\",S:S,FALSE)) *INDEX($F$29:$F$38,MATCH(\"EGDE\",$C$29:$C$38,FALSE))/T69)))","v":""},"","",null,null,null,null,{"$f":"IF(Z69>=$E$41,\"After MeP\",\"\")","v":"After MeP"},{"$f":"IF(Z69=\"\",\"\",IF(OR(AB69=\"Solvent\",AB69=\"After MeP\"),0,IF(AB69=\"\",INDEX(RRFs!E:E,MATCH(\"Triglyme\",RRFs!B:B,FALSE)),INDEX(RRFs!E:E,MATCH(AB69,RRFs!B:B,FALSE)))))","v":""},{"$f":"IF(Z69=\"\",\"\",IF(AC69=0,0,IF(AB69=\"EGDE\",AA69/AC69,AA69/INDEX(AA:AA,MATCH(\"EGDE\",AB:AB,FALSE)) *INDEX($F$29:$F$38,MATCH(\"EGDE\",$C$29:$C$38,FALSE))/AC69)))","v":""},"",""]
[null,null,null,null,null,null,null,70,null,null,{"$f":"IF(J70=\"\",\"\",(J70/LARGE($J$5:$J$100,2)*(5/(INDEX(RRFs!E:E,MATCH(\"Triglyme\",RRFs!B:B,FALSE))))))","v":""},null,{"$f":"IF(INDEX(INDIRECT(\"'\"&SUBSTITUTE($M$2,RIGHT($M$2,1),\"\")&\"Data\"&\"'!2:100\"),H70,MATCH($M$2,INDIRECT(\"'\"&SUBSTITUTE($M$2,RIGHT($M$2,1),\"\")&\"Data\"&\"'!2:2\"),FALSE)-1)=0,\"\",INDEX(INDIRECT(\"'\"&SUBSTITUTE($M$2,RIGHT($M$2,1),\"\")&\"Data\"&\"'!2:100\"),H70,MATCH($M$2,INDIRECT(\"'\"&SUBSTITUTE($M$2,RIGHT($M$2,1),\"\")&\"Data\"&\"'!2:2\"),FALSE)-1))","v":""},{"$f":"IF(INDEX(INDIRECT(\"'\"&SUBSTITUTE($M$2,RIGHT($M$2,1),\"\")&\"Data\"&\"'!2:100\"),H70,MATCH($M$2,INDIRECT(\"'\"&SUBSTITUTE($M$2,RIGHT($M$2,1),\"\")&\"Data\"&\"'!2:2\"),FALSE))=0,\"\",INDEX(INDIRECT(\"'\"&SUBSTITUTE($M$2,RIGHT($M$2,1),\"\")&\"Data\"&\"'!2:100\"),H70,MATCH($M$2,INDIRECT(\"'\"&SUBSTITUTE($M$2,RIGHT($M$2,1),\"\")&\"Data\"&\"'!2:2\"),FALSE)))","v":""},{"$f":"IF(N70=\"\",\"\",(N70/(INDEX(INDIRECT(\"'\"&LEFT($M$2,5)&\" Data'!F:F\"),MATCH(\"EGDE\",INDIRECT(\"'\"&LEFT($M$2,5)&\" Data\"&\"'!G:G\"),FALSE))))*(INDEX('CSV Prep'!E:E,MATCH(\"EGDE \"&LEFT($M$2,5),'CSV Prep'!B:B,FALSE))/(INDEX(RRFs!E:E,MATCH(\"Triglyme\",RRFs!B:B,FALSE)))))","v":""},null,null,null,"After MeP",{"$f":"IF(Q70=\"\",\"\",IF(OR(S70=\"Solvent\",S70=\"After MeP\"),0,IF(S70=\"\",INDEX(RRFs!E:E,MATCH(\"Triglyme\",RRFs!B:B,FALSE)),INDEX(RRFs!E:E,MATCH(S70,RRFs!B:B,FALSE)))))","v":""},"",{"$f":"IF(Q70=\"\",\"\",IF(OR(S70=\"Heptane\",S70=\"IPA\",S70=\"Triglyme\",S70=\"DIIBA\",S70=\"EGDE\"),\"\",U70*($D$26/(LARGE($F$16:$F$21,1)*($E$32-$E$31)))*$D$4))","v":""},{"$f":"IF(V70=\"\",\"\",IF(AND(V70>1,S70=\"\"),\"Yes\",\"\"))","v":""},null,null,null,null,"After MeP",{"$f":"IF(Z70=\"\",\"\",IF(OR(AB70=\"Solvent\",AB70=\"After MeP\"),0,IF(AB70=\"\",INDEX(RRFs!E:E,MATCH(\"Triglyme\",RRFs!B:B,FALSE)),INDEX(RRFs!E:E,MATCH(AB70,RRFs!B:B,FALSE)))))","v":""},"",{"$f":"IF(Z70=\"\",\"\",IF(OR(AB70=\"Heptane\",AB70=\"IPA\",AB70=\"Triglyme\",AB70=\"DIIBA\",AB70=\"EGDE\"),\"\",AD70*($D$26/((LARGE($F$16:$F$21,1)*($E$32-$E$31)))*$D$4)))","v":""},{"$f":"IF(AE70=\"\",\"\",IF(AND(AE70>1,AB70=\"\"),\"Yes\",\"\"))","v":""}]
[null,null,null,null,null,null,null,{"$f":"H70+1","v":71},null,null,{"$f":"IF(J71=\"\",\"\",(J71/LARGE($J$5:$J$100,2)*(5/(INDEX(RRFs!E:E,MATCH(\"Triglyme\",RRFs!B:B,FALSE))))))","v":""},null,"","",{"$f":"IF(N71=\"\",\"\",(N71/(INDEX(INDIRECT(\"'\"&LEFT($M$2,5)&\" Data'!F:F\"),MATCH(\"EGDE\",INDIRECT(\"'\"&LEFT($M$2,5)&\" Data\"&\"'!G:G\"),FALSE))))*(INDEX('CSV Prep'!E:E,MATCH(\"EGDE \"&LEFT($M$2,5),'CSV Prep'!B:B,FALSE))/(INDEX(RRFs!E:E,MATCH(\"Triglyme\",RRFs!B:B,FALSE)))))","v":""},null,null,null,"After MeP",{"$f":"IF(Q71=\"\",\"\",IF(OR(S71=\"Solvent\",S71=\"After MeP\"),0,IF(S71=\"\",INDEX(RRFs!E:E,MATCH(\"Triglyme\",RRFs!B:B,FALSE)),INDEX(RRFs!E:E,MATCH(S71,RRFs!B:B,FALSE)))))","v":""},"","","",null,null,null,null,"After MeP",{"$f":"IF(Z71=\"\",\"\",IF(OR(AB71=\"Solvent\",AB71=\"After MeP\"),0,IF(AB71=\"\",INDEX(RRFs!E:E,MATCH(\"Triglyme\",RRFs!B:B,FALSE)),INDEX(RRFs!E:E,MATCH(AB71,RRFs!B:B,FALSE)))))","v":""},"","",""]
[null,null,null,null,null,null,null,72,null,null,{"$f":"IF(J72=\"\",\"\",(J72/LARGE($J$5:$J$100,2)*(5/(INDEX(RRFs!E:E,MATCH(\"Triglyme\",RRFs!B:B,FALSE))))))","v":""},null,"","",{"$f":"IF(N72=\"\",\"\",(N72/(INDEX(INDIRECT(\"'\"&LEFT($M$2,5)&\" Data'!F:F\"),MATCH(\"EGDE\",INDIRECT(\"'\"&LEFT($M$2,5)&\" Data\"&\"'!G:G\"),FALSE))))*(INDEX('CSV Prep'!E:E,MATCH(\"EGDE \"&LEFT($M$2,5),'CSV Prep'!B:B,FALSE))/(INDEX(RRFs!E:E,MATCH(\"Triglyme\",RRFs!B:B,FALSE)))))","v":""},null,null,null,"After MeP",{"$f":"IF(Q72=\"\",\"\",IF(OR(S72=\"Solvent\",S72=\"After MeP\"),0,IF(S72=\"\",INDEX(RRFs!E:E,MATCH(\"Triglyme\",RRFs!B:B,FALSE)),INDEX(RRFs!E:E,MATCH(S72,RRFs!B:B,FALSE)))))","v":""},"","","",null,null,null,null,"After MeP",{"$f":"IF(Z72=\"\",\"\",IF(OR(AB72=\"Solvent\",AB72=\"After MeP\"),0,IF(AB72=\"\",INDEX(RRFs!E:E,MATCH(\"Triglyme\",RRFs!B:B,FALSE)),INDEX(RRFs!E:E,MATCH(AB72,RRFs!B:B,FALSE)))))","v":""},"","",""]
[null,null,null,null,null,null,null,73,null,null,{"$f":"IF(J73=\"\",\"\",(J73/LARGE($J$5:$J$100,2)*(5/(INDEX(RRFs!E:E,MATCH(\"Triglyme\",RRFs!B:B,FALSE))))))","v":""},null,"","",{"$f":"IF(N73=\"\",\"\",(N73/(INDEX(INDIRECT(\"'\"&LEFT($M$2,5)&\" Data'!F:F\"),MATCH(\"EGDE\",INDIRECT(\"'\"&LEFT($M$2,5)&\" Data\"&\"'!G:G\"),FALSE))))*(INDEX('CSV Prep'!E:E,MATCH(\"EGDE \"&LEFT($M$2,5),'CSV Prep'!B:B,FALSE))/(INDEX(RRFs!E:E,MATCH(\"Triglyme\",RRFs!B:B,FALSE)))))","v":""},null,null,null,"After MeP",{"$f":"IF(Q73=\"\",\"\",IF(OR(S73=\"Solvent\",S73=\"After MeP\"),0,IF(S73=\"\",INDEX(RRFs!E:E,MATCH(\"Triglyme\",RRFs!B:B,FALSE)),INDEX(RRFs!E:E,MATCH(S73,RRFs!B:B,FALSE)))))","v":""},"","","",null,null,null,null,"After MeP",{"$f":"IF(Z73=\"\",\"\",IF(OR(AB73=\"Solvent\",AB73=\"After MeP\"),0,IF(AB73=\"\",INDEX(RRFs!E:E,MATCH(\"Triglyme\",RRFs!B:B,FALSE)),INDEX(RRFs!E:E,MATCH(AB73,RRFs!B:B,FALSE)))))","v":""},"","",""]
[null,null,null,null,null,null,null,74,null,null,{"$f":"IF(J74=\"\",\"\",(J74/LARGE($J$5:$J$100,2)*(5/(INDEX(RRFs!E:E,MATCH(\"Triglyme\",RRFs!B:B,FALSE))))))","v":""},null,"","",{"$f":"IF(N74=\"\",\"\",(N74/(INDEX(INDIRECT(\"'\"&LEFT($M$2,5)&\" Data'!F:F\"),MATCH(\"EGDE\",INDIRECT(\"'\"&LEFT($M$2,5)&\" Data\"&\"'!G:G\"),FALSE))))*(INDEX('CSV Prep'!E:E,MATCH(\"EGDE \"&LEFT($M$2,5),'CSV Prep'!B:B,FALSE))/(INDEX(RRFs!E:E,MATCH(\"Triglyme\",RRFs!B:B,FALSE)))))","v":""},null,null,null,"After MeP",{"$f":"IF(Q74=\"\",\"\",IF(OR(S74=\"Solvent\",S74=\"After MeP\"),0,IF(S74=\"\",INDEX(RRFs!E:E,MATCH(\"Triglyme\",RRFs!B:B,FALSE)),INDEX(RRFs!E:E,MATCH(S74,RRFs!B:B,FALSE)))))","v":""},"","","",null,null,null,null,"After MeP",{"$f":"IF(Z74=\"\",\"\",IF(OR(AB74=\"Solvent\",AB74=\"After MeP\"),0,IF(AB74=\"\",INDEX(RRFs!E:E,MATCH(\"Triglyme\",RRFs!B:B,FALSE)),INDEX(RRFs!E:E,MATCH(AB74,RRFs!B:B,FALSE)))))","v":""},"","",""]
[null,null,null,null,null,null,null,75,null,null,{"$f":"IF(J75=\"\",\"\",(J75/LARGE($J$5:$J$100,2)*(5/(INDEX(RRFs!E:E,MATCH(\"Triglyme\",RRFs!B:B,FALSE))))))","v":""},null,"","",{"$f":"IF(N75=\"\",\"\",(N75/(INDEX(INDIRECT(\"'\"&LEFT($M$2,5)&\" Data'!F:F\"),MATCH(\"EGDE\",INDIRECT(\"'\"&LEFT($M$2,5)&\" Data\"&\"'!G:G\"),FALSE))))*(INDEX('CSV Prep'!E:E,MATCH(\"EGDE \"&LEFT($M$2,5),'CSV Prep'!B:B,FALSE))/(INDEX(RRFs!E:E,MATCH(\"Triglyme\",RRFs!B:B,FALSE)))))","v":""},null,null,null,"After MeP",{"$f":"IF(Q75=\"\",\"\",IF(OR(S75=\"Solvent\",S75=\"After MeP\"),0,IF(S75=\"\",INDEX(RRFs!E:E,MATCH(\"Triglyme\",RRFs!B:B,FALSE)),INDEX(RRFs!E:E,MATCH(S75,RRFs!B:B,FALSE)))))","v":""},"","","",null,null,null,null,"After MeP",{"$f":"IF(Z75=\"\",\"\",IF(OR(AB75=\"Solvent\",AB75=\"After MeP\"),0,IF(AB75=\"\",INDEX(RRFs!E:E,MATCH(\"Triglyme\",RRFs!B:B,FALSE)),INDEX(RRFs!E:E,MATCH(AB75,RRFs!B:B,FALSE)))))","v":""},"","",""]
[null,null,null,null,null,null,null,76,null,null,{"$f":"IF(J76=\"\",\"\",(J76/LARGE($J$5:$J$100,2)*(5/(INDEX(RRFs!E:E,MATCH(\"Triglyme\",RRFs!B:B,FALSE))))))","v":""},null,"","",{"$f":"IF(N76=\"\",\"\",(N76/(INDEX(INDIRECT(\"'\"&LEFT($M$2,5)&\" Data'!F:F\"),MATCH(\"EGDE\",INDIRECT(\"'\"&LEFT($M$2,5)&\" Data\"&\"'!G:G\"),FALSE))))*(INDEX('CSV Prep'!E:E,MATCH(\"EGDE \"&LEFT($M$2,5),'CSV Prep'!B:B,FALSE))/(INDEX(RRFs!E:E,MATCH(\"Triglyme\",RRFs!B:B,FALSE)))))","v":""},null,null,null,"After MeP",{"$f":"IF(Q76=\"\",\"\",IF(OR(S76=\"Solvent\",S76=\"After MeP\"),0,IF(S76=\"\",INDEX(RRFs!E:E,MATCH(\"Triglyme\",RRFs!B:B,FALSE)),INDEX(RRFs!E:E,MATCH(S76,RRFs!B:B,FALSE)))))","v":""},"","","",null,null,null,null,"After MeP",{"$f":"IF(Z76=\"\",\"\",IF(OR(AB76=\"Solvent\",AB76=\"After MeP\"),0,IF(AB76=\"\",INDEX(RRFs!E:E,MATCH(\"Triglyme\",RRFs!B:B,FALSE)),INDEX(RRFs!E:E,MATCH(AB76,RRFs!B:B,FALSE)))))","v":""},"","",""]
[null,null,null,null,null,null,null,77,null,null,{"$f":"IF(J77=\"\",\"\",(J77/LARGE($J$5:$J$100,2)*(5/(INDEX(RRFs!E:E,MATCH(\"Triglyme\",RRFs!B:B,FALSE))))))","v":""},null,"","",{"$f":"IF(N77=\"\",\"\",(N77/(INDEX(INDIRECT(\"'\"&LEFT($M$2,5)&\" Data'!F:F\"),MATCH(\"EGDE\",INDIRECT(\"'\"&LEFT($M$2,5)&\" Data\"&\"'!G:G\"),FALSE))))*(INDEX('CSV Prep'!E:E,MATCH(\"EGDE \"&LEFT($M$2,5),'CSV Prep'!B:B,FALSE))/(INDEX(RRFs!E:E,MATCH(\"Triglyme\",RRFs!B:B,FALSE)))))","v":""},null,null,null,"After MeP",{"$f":"IF(Q77=\"\",\"\",IF(OR(S77=\"Solvent\",S77=\"After MeP\"),0,IF(S77=\"\",INDEX(RRFs!E:E,MATCH(\"Triglyme\",RRFs!B:B,FALSE)),INDEX(RRFs!E:E,MATCH(S77,RRFs!B:B,FALSE)))))","v":""},"","","",null,null,null,null,"After MeP",{"$f":"IF(Z77=\"\",\"\",IF(OR(AB77=\"Solvent\",AB77=\"After MeP\"),0,IF(AB77=\"\",INDEX(RRFs!E:E,MATCH(\"Triglyme\",RRFs!B:B,FALSE)),INDEX(RRFs!E:E,MATCH(AB77,RRFs!B:B,FALSE)))))","v":""},"","",""]
[null,null,null,null,null,null,null,78,null,null,{"$f":"IF(J78=\"\",\"\",(J78/LARGE($J$5:$J$100,2)*(5/(INDEX(RRFs!E:E,MATCH(\"Triglyme\",RRFs!B:B,FALSE))))))","v":""},null,"","",{"$f":"IF(N78=\"\",\"\",(N78/(INDEX(INDIRECT(\"'\"&LEFT($M$2,5)&\" Data'!F:F\"),MATCH(\"EGDE\",INDIRECT(\"'\"&LEFT($M$2,5)&\" Data\"&\"'!G:G\"),FALSE))))*(INDEX('CSV Prep'!E:E,MATCH(\"EGDE \"&LEFT($M$2,5),'CSV Prep'!B:B,FALSE))/(INDEX(RRFs!E:E,MATCH(\"Triglyme\",RRFs!B:B,FALSE)))))","v":""},null,null,null,"After MeP",{"$f":"IF(Q78=\"\",\"\",IF(OR(S78=\"Solvent\",S78=\"After MeP\"),0,IF(S78=\"\",INDEX(RRFs!E:E,MATCH(\"Triglyme\",RRFs!B:B,FALSE)),INDEX(RRFs!E:E,MATCH(S78,RRFs!B:B,FALSE)))))","v":""},"","","",null,null,null,null,"After MeP",{"$f":"IF(Z78=\"\",\"\",IF(OR(AB78=\"Solvent\",AB78=\"After MeP\"),0,IF(AB78=\"\",INDEX(RRFs!E:E,MATCH(\"Triglyme\",RRFs!B:B,FALSE)),INDEX(RRFs!E:E,MATCH(AB78,RRFs!B:B,FALSE)))))","v":""},"","",""]
[null,null,null,null,null,null,null,79,null,null,{"$f":"IF(J79=\"\",\"\",(J79/LARGE($J$5:$J$100,2)*(5/(INDEX(RRFs!E:E,MATCH(\"Triglyme\",RRFs!B:B,FALSE))))))","v":""},null,"","",{"$f":"IF(N79=\"\",\"\",(N79/(INDEX(INDIRECT(\"'\"&LEFT($M$2,5)&\" Data'!F:F\"),MATCH(\"EGDE\",INDIRECT(\"'\"&LEFT($M$2,5)&\" Data\"&\"'!G:G\"),FALSE))))*(INDEX('CSV Prep'!E:E,MATCH(\"EGDE \"&LEFT($M$2,5),'CSV Prep'!B:B,FALSE))/(INDEX(RRFs!E:E,MATCH(\"Triglyme\",RRFs!B:B,FALSE)))))","v":""},null,null,null,"After MeP",{"$f":"IF(Q79=\"\",\"\",IF(OR(S79=\"Solvent\",S79=\"After MeP\"),0,IF(S79=\"\",INDEX(RRFs!E:E,MATCH(\"Triglyme\",RRFs!B:B,FALSE)),INDEX(RRFs!E:E,MATCH(S79,RRFs!B:B,FALSE)))))","v":""},"","","",null,null,null,null,"After MeP",{"$f":"IF(Z79=\"\",\"\",IF(OR(AB79=\"Solvent\",AB79=\"After MeP\"),0,IF(AB79=\"\",INDEX(RRFs!E:E,MATCH(\"Triglyme\",RRFs!B:B,FALSE)),INDEX(RRFs!E:E,MATCH(AB79,RRFs!B:B,FALSE)))))","v":""},"","",""]
[null,null,null,null,null,null,null,80,null,null,{"$f":"IF(J80=\"\",\"\",(J80/LARGE($J$5:$J$100,2)*(5/(INDEX(RRFs!E:E,MATCH(\"Triglyme\",RRFs!B:B,FALSE))))))","v":""},null,"","",{"$f":"IF(N80=\"\",\"\",(N80/(INDEX(INDIRECT(\"'\"&LEFT($M$2,5)&\" Data'!F:F\"),MATCH(\"EGDE\",INDIRECT(\"'\"&LEFT($M$2,5)&\" Data\"&\"'!G:G\"),FALSE))))*(INDEX('CSV Prep'!E:E,MATCH(\"EGDE \"&LEFT($M$2,5),'CSV Prep'!B:B,FALSE))/(INDEX(RRFs!E:E,MATCH(\"Triglyme\",RRFs!B:B,FALSE)))))","v":""},null,null,null,"After MeP",{"$f":"IF(Q80=\"\",\"\",IF(OR(S80=\"Solvent\",S80=\"After MeP\"),0,IF(S80=\"\",INDEX(RRFs!E:E,MATCH(\"Triglyme\",RRFs!B:B,FALSE)),INDEX(RRFs!E:E,MATCH(S80,RRFs!B:B,FALSE)))))","v":""},"","","",null,null,null,null,"After MeP",{"$f":"IF(Z80=\"\",\"\",IF(OR(AB80=\"Solvent\",AB80=\"After MeP\"),0,IF(AB80=\"\",INDEX(RRFs!E:E,MATCH(\"Triglyme\",RRFs!B:B,FALSE)),INDEX(RRFs!E:E,MATCH(AB80,RRFs!B:B,FALSE)))))","v":""},"","",""]
[null,null,null,null,null,null,null,81,null,null,{"$f":"IF(J81=\"\",\"\",(J81/LARGE($J$5:$J$100,2)*(5/(INDEX(RRFs!E:E,MATCH(\"Triglyme\",RRFs!B:B,FALSE))))))","v":""},null,"","",{"$f":"IF(N81=\"\",\"\",(N81/(INDEX(INDIRECT(\"'\"&LEFT($M$2,5)&\" Data'!F:F\"),MATCH(\"EGDE\",INDIRECT(\"'\"&LEFT($M$2,5)&\" Data\"&\"'!G:G\"),FALSE))))*(INDEX('CSV Prep'!E:E,MATCH(\"EGDE \"&LEFT($M$2,5),'CSV Prep'!B:B,FALSE))/(INDEX(RRFs!E:E,MATCH(\"Triglyme\",RRFs!B:B,FALSE)))))","v":""},null,null,null,"After MeP",{"$f":"IF(Q81=\"\",\"\",IF(OR(S81=\"Solvent\",S81=\"After MeP\"),0,IF(S81=\"\",INDEX(RRFs!E:E,MATCH(\"Triglyme\",RRFs!B:B,FALSE)),INDEX(RRFs!E:E,MATCH(S81,RRFs!B:B,FALSE)))))","v":""},"","","",null,null,null,null,"After MeP",{"$f":"IF(Z81=\"\",\"\",IF(OR(AB81=\"Solvent\",AB81=\"After MeP\"),0,IF(AB81=\"\",INDEX(RRFs!E:E,MATCH(\"Triglyme\",RRFs!B:B,FALSE)),INDEX(RRFs!E:E,MATCH(AB81,RRFs!B:B,FALSE)))))","v":""},"","",""]
[null,null,null,null,null,null,null,82,null,null,{"$f":"IF(J82=\"\",\"\",(J82/LARGE($J$5:$J$100,2)*(5/(INDEX(RRFs!E:E,MATCH(\"Triglyme\",RRFs!B:B,FALSE))))))","v":""},null,"","",{"$f":"IF(N82=\"\",\"\",(N82/(INDEX(INDIRECT(\"'\"&LEFT($M$2,5)&\" Data'!F:F\"),MATCH(\"EGDE\",INDIRECT(\"'\"&LEFT($M$2,5)&\" Data\"&\"'!G:G\"),FALSE))))*(INDEX('CSV Prep'!E:E,MATCH(\"EGDE \"&LEFT($M$2,5),'CSV Prep'!B:B,FALSE))/(INDEX(RRFs!E:E,MATCH(\"Triglyme\",RRFs!B:B,FALSE)))))","v":""},null,null,null,"After MeP",{"$f":"IF(Q82=\"\",\"\",IF(OR(S82=\"Solvent\",S82=\"After MeP\"),0,IF(S82=\"\",INDEX(RRFs!E:E,MATCH(\"Triglyme\",RRFs!B:B,FALSE)),INDEX(RRFs!E:E,MATCH(S82,RRFs!B:B,FALSE)))))","v":""},"","","",null,null,null,null,"After MeP",{"$f":"IF(Z82=\"\",\"\",IF(OR(AB82=\"Solvent\",AB82=\"After MeP\"),0,IF(AB82=\"\",INDEX(RRFs!E:E,MATCH(\"Triglyme\",RRFs!B:B,FALSE)),INDEX(RRFs!E:E,MATCH(AB82,RRFs!B:B,FALSE)))))","v":""},"","",""]
[null,null,null,null,null,null,null,83,null,null,{"$f":"IF(J83=\"\",\"\",(J83/LARGE($J$5:$J$100,2)*(5/(INDEX(RRFs!E:E,MATCH(\"Triglyme\",RRFs!B:B,FALSE))))))","v":""},null,"","",{"$f":"IF(N83=\"\",\"\",(N83/(INDEX(INDIRECT(\"'\"&LEFT($M$2,5)&\" Data'!F:F\"),MATCH(\"EGDE\",INDIRECT(\"'\"&LEFT($M$2,5)&\" Data\"&\"'!G:G\"),FALSE))))*(INDEX('CSV Prep'!E:E,MATCH(\"EGDE \"&LEFT($M$2,5),'CSV Prep'!B:B,FALSE))/(INDEX(RRFs!E:E,MATCH(\"Triglyme\",RRFs!B:B,FALSE)))))","v":""},null,null,null,"After MeP",{"$f":"IF(Q83=\"\",\"\",IF(OR(S83=\"Solvent\",S83=\"After MeP\"),0,IF(S83=\"\",INDEX(RRFs!E:E,MATCH(\"Triglyme\",RRFs!B:B,FALSE)),INDEX(RRFs!E:E,MATCH(S83,RRFs!B:B,FALSE)))))","v":""},"","","",null,null,null,null,"After MeP",{"$f":"IF(Z83=\"\",\"\",IF(OR(AB83=\"Solvent\",AB83=\"After MeP\"),0,IF(AB83=\"\",INDEX(RRFs!E:E,MATCH(\"Triglyme\",RRFs!B:B,FALSE)),INDEX(RRFs!E:E,MATCH(AB83,RRFs!B:B,FALSE)))))","v":""},"","",""]
[null,null,null,null,null,null,null,84,null,null,{"$f":"IF(J84=\"\",\"\",(J84/LARGE($J$5:$J$100,2)*(5/(INDEX(RRFs!E:E,MATCH(\"Triglyme\",RRFs!B:B,FALSE))))))","v":""},null,"","",{"$f":"IF(N84=\"\",\"\",(N84/(INDEX(INDIRECT(\"'\"&LEFT($M$2,5)&\" Data'!F:F\"),MATCH(\"EGDE\",INDIRECT(\"'\"&LEFT($M$2,5)&\" Data\"&\"'!G:G\"),FALSE))))*(INDEX('CSV Prep'!E:E,MATCH(\"EGDE \"&LEFT($M$2,5),'CSV Prep'!B:B,FALSE))/(INDEX(RRFs!E:E,MATCH(\"Triglyme\",RRFs!B:B,FALSE)))))","v":""},null,null,null,"After MeP",{"$f":"IF(Q84=\"\",\"\",IF(OR(S84=\"Solvent\",S84=\"After MeP\"),0,IF(S84=\"\",INDEX(RRFs!E:E,MATCH(\"Triglyme\",RRFs!B:B,FALSE)),INDEX(RRFs!E:E,MATCH(S84,RRFs!B:B,FALSE)))))","v":""},"","","",null,null,null,null,"After MeP",{"$f":"IF(Z84=\"\",\"\",IF(OR(AB84=\"Solvent\",AB84=\"After MeP\"),0,IF(AB84=\"\",INDEX(RRFs!E:E,MATCH(\"Triglyme\",RRFs!B:B,FALSE)),INDEX(RRFs!E:E,MATCH(AB84,RRFs!B:B,FALSE)))))","v":""},"","",""]
[null,null,null,null,null,null,null,85,null,null,{"$f":"IF(J85=\"\",\"\",(J85/LARGE($J$5:$J$100,2)*(5/(INDEX(RRFs!E:E,MATCH(\"Triglyme\",RRFs!B:B,FALSE))))))","v":""},null,"","",{"$f":"IF(N85=\"\",\"\",(N85/(INDEX(INDIRECT(\"'\"&LEFT($M$2,5)&\" Data'!F:F\"),MATCH(\"EGDE\",INDIRECT(\"'\"&LEFT($M$2,5)&\" Data\"&\"'!G:G\"),FALSE))))*(INDEX('CSV Prep'!E:E,MATCH(\"EGDE \"&LEFT($M$2,5),'CSV Prep'!B:B,FALSE))/(INDEX(RRFs!E:E,MATCH(\"Triglyme\",RRFs!B:B,FALSE)))))","v":""},null,null,null,"After MeP",{"$f":"IF(Q85=\"\",\"\",IF(OR(S85=\"Solvent\",S85=\"After MeP\"),0,IF(S85=\"\",INDEX(RRFs!E:E,MATCH(\"Triglyme\",RRFs!B:B,FALSE)),INDEX(RRFs!E:E,MATCH(S85,RRFs!B:B,FALSE)))))","v":""},"","","",null,null,null,null,"After MeP",{"$f":"IF(Z85=\"\",\"\",IF(OR(AB85=\"Solvent\",AB85=\"After MeP\"),0,IF(AB85=\"\",INDEX(RRFs!E:E,MATCH(\"Triglyme\",RRFs!B:B,FALSE)),INDEX(RRFs!E:E,MATCH(AB85,RRFs!B:B,FALSE)))))","v":""},"","",""]
[null,null,null,null,null,null,null,86,null,null,{"$f":"IF(J86=\"\",\"\",(J86/LARGE($J$5:$J$100,2)*(5/(INDEX(RRFs!E:E,MATCH(\"Triglyme\",RRFs!B:B,FALSE))))))","v":""},null,"","",{"$f":"IF(N86=\"\",\"\",(N86/(INDEX(INDIRECT(\"'\"&LEFT($M$2,5)&\" Data'!F:F\"),MATCH(\"EGDE\",INDIRECT(\"'\"&LEFT($M$2,5)&\" Data\"&\"'!G:G\"),FALSE))))*(INDEX('CSV Prep'!E:E,MATCH(\"EGDE \"&LEFT($M$2,5),'CSV Prep'!B:B,FALSE))/(INDEX(RRFs!E:E,MATCH(\"Triglyme\",RRFs!B:B,FALSE)))))","v":""},null,null,null,"After MeP",{"$f":"IF(Q86=\"\",\"\",IF(OR(S86=\"Solvent\",S86=\"After MeP\"),0,IF(S86=\"\",INDEX(RRFs!E:E,MATCH(\"Triglyme\",RRFs!B:B,FALSE)),INDEX(RRFs!E:E,MATCH(S86,RRFs!B:B,FALSE)))))","v":""},"","","",null,null,null,null,"After MeP",{"$f":"IF(Z86=\"\",\"\",IF(OR(AB86=\"Solvent\",AB86=\"After MeP\"),0,IF(AB86=\"\",INDEX(RRFs!E:E,MATCH(\"Triglyme\",RRFs!B:B,FALSE)),INDEX(RRFs!E:E,MATCH(AB86,RRFs!B:B,FALSE)))))","v":""},"","",""]
[null,null,null,null,null,null,null,87,null,null,{"$f":"IF(J87=\"\",\"\",(J87/LARGE($J$5:$J$100,2)*(5/(INDEX(RRFs!E:E,MATCH(\"Triglyme\",RRFs!B:B,FALSE))))))","v":""},null,"","",{"$f":"IF(N87=\"\",\"\",(N87/(INDEX(INDIRECT(\"'\"&LEFT($M$2,5)&\" Data'!F:F\"),MATCH(\"EGDE\",INDIRECT(\"'\"&LEFT($M$2,5)&\" Data\"&\"'!G:G\"),FALSE))))*(INDEX('CSV Prep'!E:E,MATCH(\"EGDE \"&LEFT($M$2,5),'CSV Prep'!B:B,FALSE))/(INDEX(RRFs!E:E,MATCH(\"Triglyme\",RRFs!B:B,FALSE)))))","v":""},null,null,null,"After MeP",{"$f":"IF(Q87=\"\",\"\",IF(OR(S87=\"Solvent\",S87=\"After MeP\"),0,IF(S87=\"\",INDEX(RRFs!E:E,MATCH(\"Triglyme\",RRFs!B:B,FALSE)),INDEX(RRFs!E:E,MATCH(S87,RRFs!B:B,FALSE)))))","v":""},"","","",null,null,null,null,"After MeP",{"$f":"IF(Z87=\"\",\"\",IF(OR(AB87=\"Solvent\",AB87=\"After MeP\"),0,IF(AB87=\"\",INDEX(RRFs!E:E,MATCH(\"Triglyme\",RRFs!B:B,FALSE)),INDEX(RRFs!E:E,MATCH(AB87,RRFs!B:B,FALSE)))))","v":""},"","",""]
[null,null,null,null,null,null,null,88,null,null,{"$f":"IF(J88=\"\",\"\",(J88/LARGE($J$5:$J$100,2)*(5/(INDEX(RRFs!E:E,MATCH(\"Triglyme\",RRFs!B:B,FALSE))))))","v":""},null,"","",{"$f":"IF(N88=\"\",\"\",(N88/(INDEX(INDIRECT(\"'\"&LEFT($M$2,5)&\" Data'!F:F\"),MATCH(\"EGDE\",INDIRECT(\"'\"&LEFT($M$2,5)&\" Data\"&\"'!G:G\"),FALSE))))*(INDEX('CSV Prep'!E:E,MATCH(\"EGDE \"&LEFT($M$2,5),'CSV Prep'!B:B,FALSE))/(INDEX(RRFs!E:E,MATCH(\"Triglyme\",RRFs!B:B,FALSE)))))","v":""},null,null,null,"After MeP",{"$f":"IF(Q88=\"\",\"\",IF(OR(S88=\"Solvent\",S88=\"After MeP\"),0,IF(S88=\"\",INDEX(RRFs!E:E,MATCH(\"Triglyme\",RRFs!B:B,FALSE)),INDEX(RRFs!E:E,MATCH(S88,RRFs!B:B,FALSE)))))","v":""},"","","",null,null,null,null,"After MeP",{"$f":"IF(Z88=\"\",\"\",IF(OR(AB88=\"Solvent\",AB88=\"After MeP\"),0,IF(AB88=\"\",INDEX(RRFs!E:E,MATCH(\"Triglyme\",RRFs!B:B,FALSE)),INDEX(RRFs!E:E,MATCH(AB88,RRFs!B:B,FALSE)))))","v":""},"","",""]
[null,null,null,null,null,null,null,89,null,null,{"$f":"IF(J89=\"\",\"\",(J89/LARGE($J$5:$J$100,2)*(5/(INDEX(RRFs!E:E,MATCH(\"Triglyme\",RRFs!B:B,FALSE))))))","v":""},null,"","",{"$f":"IF(N89=\"\",\"\",(N89/(INDEX(INDIRECT(\"'\"&LEFT($M$2,5)&\" Data'!F:F\"),MATCH(\"EGDE\",INDIRECT(\"'\"&LEFT($M$2,5)&\" Data\"&\"'!G:G\"),FALSE))))*(INDEX('CSV Prep'!E:E,MATCH(\"EGDE \"&LEFT($M$2,5),'CSV Prep'!B:B,FALSE))/(INDEX(RRFs!E:E,MATCH(\"Triglyme\",RRFs!B:B,FALSE)))))","v":""},null,null,null,"After MeP",{"$f":"IF(Q89=\"\",\"\",IF(OR(S89=\"Solvent\",S89=\"After MeP\"),0,IF(S89=\"\",INDEX(RRFs!E:E,MATCH(\"Triglyme\",RRFs!B:B,FALSE)),INDEX(RRFs!E:E,MATCH(S89,RRFs!B:B,FALSE)))))","v":""},"","","",null,null,null,null,"After MeP",{"$f":"IF(Z89=\"\",\"\",IF(OR(AB89=\"Solvent\",AB89=\"After MeP\"),0,IF(AB89=\"\",INDEX(RRFs!E:E,MATCH(\"Triglyme\",RRFs!B:B,FALSE)),INDEX(RRFs!E:E,MATCH(AB89,RRFs!B:B,FALSE)))))","v":""},"","",""]
[null,null,null,null,null,null,null,90,null,null,{"$f":"IF(J90=\"\",\"\",(J90/LARGE($J$5:$J$100,2)*(5/(INDEX(RRFs!E:E,MATCH(\"Triglyme\",RRFs!B:B,FALSE))))))","v":""},null,"","",{"$f":"IF(N90=\"\",\"\",(N90/(INDEX(INDIRECT(\"'\"&LEFT($M$2,5)&\" Data'!F:F\"),MATCH(\"EGDE\",INDIRECT(\"'\"&LEFT($M$2,5)&\" Data\"&\"'!G:G\"),FALSE))))*(INDEX('CSV Prep'!E:E,MATCH(\"EGDE \"&LEFT($M$2,5),'CSV Prep'!B:B,FALSE))/(INDEX(RRFs!E:E,MATCH(\"Triglyme\",RRFs!B:B,FALSE)))))","v":""},null,null,null,"After MeP",{"$f":"IF(Q90=\"\",\"\",IF(OR(S90=\"Solvent\",S90=\"After MeP\"),0,IF(S90=\"\",INDEX(RRFs!E:E,MATCH(\"Triglyme\",RRFs!B:B,FALSE)),INDEX(RRFs!E:E,MATCH(S90,RRFs!B:B,FALSE)))))","v":""},"","","",null,null,null,null,"After MeP",{"$f":"IF(Z90=\"\",\"\",IF(OR(AB90=\"Solvent\",AB90=\"After MeP\"),0,IF(AB90=\"\",INDEX(RRFs!E:E,MATCH(\"Triglyme\",RRFs!B:B,FALSE)),INDEX(RRFs!E:E,MATCH(AB90,RRFs!B:B,FALSE)))))","v":""},"","",""]
[null,null,null,null,null,null,null,91,null,null,{"$f":"IF(J91=\"\",\"\",(J91/LARGE($J$5:$J$100,2)*(5/(INDEX(RRFs!E:E,MATCH(\"Triglyme\",RRFs!B:B,FALSE))))))","v":""},null,"","",{"$f":"IF(N91=\"\",\"\",(N91/(INDEX(INDIRECT(\"'\"&LEFT($M$2,5)&\" Data'!F:F\"),MATCH(\"EGDE\",INDIRECT(\"'\"&LEFT($M$2,5)&\" Data\"&\"'!G:G\"),FALSE))))*(INDEX('CSV Prep'!E:E,MATCH(\"EGDE \"&LEFT($M$2,5),'CSV Prep'!B:B,FALSE))/(INDEX(RRFs!E:E,MATCH(\"Triglyme\",RRFs!B:B,FALSE)))))","v":""},null,null,null,"After MeP",{"$f":"IF(Q91=\"\",\"\",IF(OR(S91=\"Solvent\",S91=\"After MeP\"),0,IF(S91=\"\",INDEX(RRFs!E:E,MATCH(\"Triglyme\",RRFs!B:B,FALSE)),INDEX(RRFs!E:E,MATCH(S91,RRFs!B:B,FALSE)))))","v":""},"","","",null,null,null,null,"After MeP",{"$f":"IF(Z91=\"\",\"\",IF(OR(AB91=\"Solvent\",AB91=\"After MeP\"),0,IF(AB91=\"\",INDEX(RRFs!E:E,MATCH(\"Triglyme\",RRFs!B:B,FALSE)),INDEX(RRFs!E:E,MATCH(AB91,RRFs!B:B,FALSE)))))","v":""},"","",""]
[null,null,null,null,null,null,null,92,null,null,{"$f":"IF(J92=\"\",\"\",(J92/LARGE($J$5:$J$100,2)*(5/(INDEX(RRFs!E:E,MATCH(\"Triglyme\",RRFs!B:B,FALSE))))))","v":""},null,"","",{"$f":"IF(N92=\"\",\"\",(N92/(INDEX(INDIRECT(\"'\"&LEFT($M$2,5)&\" Data'!F:F\"),MATCH(\"EGDE\",INDIRECT(\"'\"&LEFT($M$2,5)&\" Data\"&\"'!G:G\"),FALSE))))*(INDEX('CSV Prep'!E:E,MATCH(\"EGDE \"&LEFT($M$2,5),'CSV Prep'!B:B,FALSE))/(INDEX(RRFs!E:E,MATCH(\"Triglyme\",RRFs!B:B,FALSE)))))","v":""},null,null,null,"After MeP",{"$f":"IF(Q92=\"\",\"\",IF(OR(S92=\"Solvent\",S92=\"After MeP\"),0,IF(S92=\"\",INDEX(RRFs!E:E,MATCH(\"Triglyme\",RRFs!B:B,FALSE)),INDEX(RRFs!E:E,MATCH(S92,RRFs!B:B,FALSE)))))","v":""},"","","",null,null,null,null,"After MeP",{"$f":"IF(Z92=\"\",\"\",IF(OR(AB92=\"Solvent\",AB92=\"After MeP\"),0,IF(AB92=\"\",INDEX(RRFs!E:E,MATCH(\"Triglyme\",RRFs!B:B,FALSE)),INDEX(RRFs!E:E,MATCH(AB92,RRFs!B:B,FALSE)))))","v":""},"","",""]
[null,null,null,null,null,null,null,93,null,null,{"$f":"IF(J93=\"\",\"\",(J93/LARGE($J$5:$J$100,2)*(5/(INDEX(RRFs!E:E,MATCH(\"Triglyme\",RRFs!B:B,FALSE))))))","v":""},null,"","",{"$f":"IF(N93=\"\",\"\",(N93/(INDEX(INDIRECT(\"'\"&LEFT($M$2,5)&\" Data'!F:F\"),MATCH(\"EGDE\",INDIRECT(\"'\"&LEFT($M$2,5)&\" Data\"&\"'!G:G\"),FALSE))))*(INDEX('CSV Prep'!E:E,MATCH(\"EGDE \"&LEFT($M$2,5),'CSV Prep'!B:B,FALSE))/(INDEX(RRFs!E:E,MATCH(\"Triglyme\",RRFs!B:B,FALSE)))))","v":""},null,null,null,"After MeP",{"$f":"IF(Q93=\"\",\"\",IF(OR(S93=\"Solvent\",S93=\"After MeP\"),0,IF(S93=\"\",INDEX(RRFs!E:E,MATCH(\"Triglyme\",RRFs!B:B,FALSE)),INDEX(RRFs!E:E,MATCH(S93,RRFs!B:B,FALSE)))))","v":""},"","","",null,null,null,null,"After MeP",{"$f":"IF(Z93=\"\",\"\",IF(OR(AB93=\"Solvent\",AB93=\"After MeP\"),0,IF(AB93=\"\",INDEX(RRFs!E:E,MATCH(\"Triglyme\",RRFs!B:B,FALSE)),INDEX(RRFs!E:E,MATCH(AB93,RRFs!B:B,FALSE)))))","v":""},"","",""]
[null,null,null,null,null,null,null,94,null,null,{"$f":"IF(J94=\"\",\"\",(J94/LARGE($J$5:$J$100,2)*(5/(INDEX(RRFs!E:E,MATCH(\"Triglyme\",RRFs!B:B,FALSE))))))","v":""},null,"","",{"$f":"IF(N94=\"\",\"\",(N94/(INDEX(INDIRECT(\"'\"&LEFT($M$2,5)&\" Data'!F:F\"),MATCH(\"EGDE\",INDIRECT(\"'\"&LEFT($M$2,5)&\" Data\"&\"'!G:G\"),FALSE))))*(INDEX('CSV Prep'!E:E,MATCH(\"EGDE \"&LEFT($M$2,5),'CSV Prep'!B:B,FALSE))/(INDEX(RRFs!E:E,MATCH(\"Triglyme\",RRFs!B:B,FALSE)))))","v":""},null,null,null,"After MeP",{"$f":"IF(Q94=\"\",\"\",IF(OR(S94=\"Solvent\",S94=\"After MeP\"),0,IF(S94=\"\",INDEX(RRFs!E:E,MATCH(\"Triglyme\",RRFs!B:B,FALSE)),INDEX(RRFs!E:E,MATCH(S94,RRFs!B:B,FALSE)))))","v":""},"","","",null,null,null,null,"After MeP",{"$f":"IF(Z94=\"\",\"\",IF(OR(AB94=\"Solvent\",AB94=\"After MeP\"),0,IF(AB94=\"\",INDEX(RRFs!E:E,MATCH(\"Triglyme\",RRFs!B:B,FALSE)),INDEX(RRFs!E:E,MATCH(AB94,RRFs!B:B,FALSE)))))","v":""},"","",""]
[null,null,null,null,null,null,null,95,null,null,{"$f":"IF(J95=\"\",\"\",(J95/LARGE($J$5:$J$100,2)*(5/(INDEX(RRFs!E:E,MATCH(\"Triglyme\",RRFs!B:B,FALSE))))))","v":""},null,"","",{"$f":"IF(N95=\"\",\"\",(N95/(INDEX(INDIRECT(\"'\"&LEFT($M$2,5)&\" Data'!F:F\"),MATCH(\"EGDE\",INDIRECT(\"'\"&LEFT($M$2,5)&\" Data\"&\"'!G:G\"),FALSE))))*(INDEX('CSV Prep'!E:E,MATCH(\"EGDE \"&LEFT($M$2,5),'CSV Prep'!B:B,FALSE))/(INDEX(RRFs!E:E,MATCH(\"Triglyme\",RRFs!B:B,FALSE)))))","v":""},null,null,null,"After MeP",{"$f":"IF(Q95=\"\",\"\",IF(OR(S95=\"Solvent\",S95=\"After MeP\"),0,IF(S95=\"\",INDEX(RRFs!E:E,MATCH(\"Triglyme\",RRFs!B:B,FALSE)),INDEX(RRFs!E:E,MATCH(S95,RRFs!B:B,FALSE)))))","v":""},"","","",null,null,null,null,"After MeP",{"$f":"IF(Z95=\"\",\"\",IF(OR(AB95=\"Solvent\",AB95=\"After MeP\"),0,IF(AB95=\"\",INDEX(RRFs!E:E,MATCH(\"Triglyme\",RRFs!B:B,FALSE)),INDEX(RRFs!E:E,MATCH(AB95,RRFs!B:B,FALSE)))))","v":""},"","",""]
[null,null,null,null,null,null,null,96,null,null,{"$f":"IF(J96=\"\",\"\",(J96/LARGE($J$5:$J$100,2)*(5/(INDEX(RRFs!E:E,MATCH(\"Triglyme\",RRFs!B:B,FALSE))))))","v":""},null,"","",{"$f":"IF(N96=\"\",\"\",(N96/(INDEX(INDIRECT(\"'\"&LEFT($M$2,5)&\" Data'!F:F\"),MATCH(\"EGDE\",INDIRECT(\"'\"&LEFT($M$2,5)&\" Data\"&\"'!G:G\"),FALSE))))*(INDEX('CSV Prep'!E:E,MATCH(\"EGDE \"&LEFT($M$2,5),'CSV Prep'!B:B,FALSE))/(INDEX(RRFs!E:E,MATCH(\"Triglyme\",RRFs!B:B,FALSE)))))","v":""},null,null,null,"After MeP",{"$f":"IF(Q96=\"\",\"\",IF(OR(S96=\"Solvent\",S96=\"After MeP\"),0,IF(S96=\"\",INDEX(RRFs!E:E,MATCH(\"Triglyme\",RRFs!B:B,FALSE)),INDEX(RRFs!E:E,MATCH(S96,RRFs!B:B,FALSE)))))","v":""},"","","",null,null,null,null,"After MeP",{"$f":"IF(Z96=\"\",\"\",IF(OR(AB96=\"Solvent\",AB96=\"After MeP\"),0,IF(AB96=\"\",INDEX(RRFs!E:E,MATCH(\"Triglyme\",RRFs!B:B,FALSE)),INDEX(RRFs!E:E,MATCH(AB96,RRFs!B:B,FALSE)))))","v":""},"","",""]
[null,null,null,null,null,null,null,97,null,null,{"$f":"IF(J97=\"\",\"\",(J97/LARGE($J$5:$J$100,2)*(5/(INDEX(RRFs!E:E,MATCH(\"Triglyme\",RRFs!B:B,FALSE))))))","v":""},null,"","",{"$f":"IF(N97=\"\",\"\",(N97/(INDEX(INDIRECT(\"'\"&LEFT($M$2,5)&\" Data'!F:F\"),MATCH(\"EGDE\",INDIRECT(\"'\"&LEFT($M$2,5)&\" Data\"&\"'!G:G\"),FALSE))))*(INDEX('CSV Prep'!E:E,MATCH(\"EGDE \"&LEFT($M$2,5),'CSV Prep'!B:B,FALSE))/(INDEX(RRFs!E:E,MATCH(\"Triglyme\",RRFs!B:B,FALSE)))))","v":""},null,null,null,"After MeP",{"$f":"IF(Q97=\"\",\"\",IF(OR(S97=\"Solvent\",S97=\"After MeP\"),0,IF(S97=\"\",INDEX(RRFs!E:E,MATCH(\"Triglyme\",RRFs!B:B,FALSE)),INDEX(RRFs!E:E,MATCH(S97,RRFs!B:B,FALSE)))))","v":""},"","","",null,null,null,null,"After MeP",{"$f":"IF(Z97=\"\",\"\",IF(OR(AB97=\"Solvent\",AB97=\"After MeP\"),0,IF(AB97=\"\",INDEX(RRFs!E:E,MATCH(\"Triglyme\",RRFs!B:B,FALSE)),INDEX(RRFs!E:E,MATCH(AB97,RRFs!B:B,FALSE)))))","v":""},"","",""]
[null,null,null,null,null,null,null,98,null,null,{"$f":"IF(J98=\"\",\"\",(J98/LARGE($J$5:$J$100,2)*(5/(INDEX(RRFs!E:E,MATCH(\"Triglyme\",RRFs!B:B,FALSE))))))","v":""},null,"","",{"$f":"IF(N98=\"\",\"\",(N98/(INDEX(INDIRECT(\"'\"&LEFT($M$2,5)&\" Data'!F:F\"),MATCH(\"EGDE\",INDIRECT(\"'\"&LEFT($M$2,5)&\" Data\"&\"'!G:G\"),FALSE))))*(INDEX('CSV Prep'!E:E,MATCH(\"EGDE \"&LEFT($M$2,5),'CSV Prep'!B:B,FALSE))/(INDEX(RRFs!E:E,MATCH(\"Triglyme\",RRFs!B:B,FALSE)))))","v":""},null,null,null,"After MeP",{"$f":"IF(Q98=\"\",\"\",IF(OR(S98=\"Solvent\",S98=\"After MeP\"),0,IF(S98=\"\",INDEX(RRFs!E:E,MATCH(\"Triglyme\",RRFs!B:B,FALSE)),INDEX(RRFs!E:E,MATCH(S98,RRFs!B:B,FALSE)))))","v":""},"","","",null,null,null,null,"After MeP",{"$f":"IF(Z98=\"\",\"\",IF(OR(AB98=\"Solvent\",AB98=\"After MeP\"),0,IF(AB98=\"\",INDEX(RRFs!E:E,MATCH(\"Triglyme\",RRFs!B:B,FALSE)),INDEX(RRFs!E:E,MATCH(AB98,RRFs!B:B,FALSE)))))","v":""},"","",""]
[null,null,null,null,null,null,null,99,null,null,{"$f":"IF(J99=\"\",\"\",(J99/LARGE($J$5:$J$100,2)*(5/(INDEX(RRFs!E:E,MATCH(\"Triglyme\",RRFs!B:B,FALSE))))))","v":""},null,"","",{"$f":"IF(N99=\"\",\"\",(N99/(INDEX(INDIRECT(\"'\"&LEFT($M$2,5)&\" Data'!F:F\"),MATCH(\"EGDE\",INDIRECT(\"'\"&LEFT($M$2,5)&\" Data\"&\"'!G:G\"),FALSE))))*(INDEX('CSV Prep'!E:E,MATCH(\"EGDE \"&LEFT($M$2,5),'CSV Prep'!B:B,FALSE))/(INDEX(RRFs!E:E,MATCH(\"Triglyme\",RRFs!B:B,FALSE)))))","v":""},null,null,null,"After MeP",{"$f":"IF(Q99=\"\",\"\",IF(OR(S99=\"Solvent\",S99=\"After MeP\"),0,IF(S99=\"\",INDEX(RRFs!E:E,MATCH(\"Triglyme\",RRFs!B:B,FALSE)),INDEX(RRFs!E:E,MATCH(S99,RRFs!B:B,FALSE)))))","v":""},"","","",null,null,null,null,"After MeP",{"$f":"IF(Z99=\"\",\"\",IF(OR(AB99=\"Solvent\",AB99=\"After MeP\"),0,IF(AB99=\"\",INDEX(RRFs!E:E,MATCH(\"Triglyme\",RRFs!B:B,FALSE)),INDEX(RRFs!E:E,MATCH(AB99,RRFs!B:B,FALSE)))))","v":""},"","",""]
[null,null,null,null,null,null,null,100,null,null,{"$f":"IF(J100=\"\",\"\",(J100/LARGE($J$5:$J$100,2)*(5/(INDEX(RRFs!E:E,MATCH(\"Triglyme\",RRFs!B:B,FALSE))))))","v":""},null,null,null,null,null,null,null,"After MeP",{"$f":"IF(Q100=\"\",\"\",IF(OR(S100=\"Solvent\",S100=\"After MeP\"),0,IF(S100=\"\",INDEX(RRFs!E:E,MATCH(\"Triglyme\",RRFs!B:B,FALSE)),INDEX(RRFs!E:E,MATCH(S100,RRFs!B:B,FALSE)))))","v":""},"","","",null,null,null,null,"After MeP",{"$f":"IF(Z100=\"\",\"\",IF(OR(AB100=\"Solvent\",AB100=\"After MeP\"),0,IF(AB100=\"\",INDEX(RRFs!E:E,MATCH(\"Triglyme\",RRFs!B:B,FALSE)),INDEX(RRFs!E:E,MATCH(AB100,RRFs!B:B,FALSE)))))","v":""},"","",""]
[null,null,null,null,null,null,null,null,null,null,null,null,null,null,null,null,null,null,"After MeP",{"$f":"IF(Q101=\"\",\"\",IF(OR(S101=\"Solvent\",S101=\"After MeP\"),0,IF(S101=\"\",INDEX(RRFs!E:E,MATCH(\"Triglyme\",RRFs!B:B,FALSE)),INDEX(RRFs!E:E,MATCH(S101,RRFs!B:B,FALSE)))))","v":""},{"$f":"IF(Q101=\"\",\"\",IF(T101=0,0,IF(S101=\"EGDE\",R101/T101,R101/INDEX(R:R,MATCH(\"EGDE\",S:S,FALSE)) *INDEX($F$29:$F$38,MATCH(\"EGDE\",$C$29:$C$38,FALSE))/T101)))","v":""},"","",null,null,null,null,"After MeP",{"$f":"IF(Z101=\"\",\"\",IF(OR(AB101=\"Solvent\",AB101=\"After MeP\"),0,IF(AB101=\"\",INDEX(RRFs!E:E,MATCH(\"Triglyme\",RRFs!B:B,FALSE)),INDEX(RRFs!E:E,MATCH(AB101,RRFs!B:B,FALSE)))))","v":""},{"$f":"IF(Z101=\"\",\"\",IF(AC101=0,0,IF(AB101=\"EGDE\",AA101/AC101,AA101/INDEX(AA:AA,MATCH(\"EGDE\",AB:AB,FALSE)) *INDEX($F$29:$F$38,MATCH(\"EGDE\",$C$29:$C$38,FALSE))/AC101)))","v":""},"",""]
[null,null,null,null,null,null,null,null,null,null,null,null,null,null,null,null,null,null,"After MeP",{"$f":"IF(Q102=\"\",\"\",IF(OR(S102=\"Solvent\",S102=\"After MeP\"),0,IF(S102=\"\",INDEX(RRFs!E:E,MATCH(\"Triglyme\",RRFs!B:B,FALSE)),INDEX(RRFs!E:E,MATCH(S102,RRFs!B:B,FALSE)))))","v":""},"","","",null,null,null,null,"After MeP",{"$f":"IF(Z102=\"\",\"\",IF(OR(AB102=\"Solvent\",AB102=\"After MeP\"),0,IF(AB102=\"\",INDEX(RRFs!E:E,MATCH(\"Triglyme\",RRFs!B:B,FALSE)),INDEX(RRFs!E:E,MATCH(AB102,RRFs!B:B,FALSE)))))","v":""},"","",""]
[null,null,null,null,null,null,null,null,null,null,null,null,null,null,null,null,null,null,"After MeP",{"$f":"IF(Q103=\"\",\"\",IF(OR(S103=\"Solvent\",S103=\"After MeP\"),0,IF(S103=\"\",INDEX(RRFs!E:E,MATCH(\"Triglyme\",RRFs!B:B,FALSE)),INDEX(RRFs!E:E,MATCH(S103,RRFs!B:B,FALSE)))))","v":""},"","","",null,null,null,null,"After MeP",{"$f":"IF(Z103=\"\",\"\",IF(OR(AB103=\"Solvent\",AB103=\"After MeP\"),0,IF(AB103=\"\",INDEX(RRFs!E:E,MATCH(\"Triglyme\",RRFs!B:B,FALSE)),INDEX(RRFs!E:E,MATCH(AB103,RRFs!B:B,FALSE)))))","v":""},"","",""]
[null,null,null,null,null,null,null,null,null,null,null,null,null,null,null,null,null,null,"After MeP",{"$f":"IF(Q104=\"\",\"\",IF(OR(S104=\"Solvent\",S104=\"After MeP\"),0,IF(S104=\"\",INDEX(RRFs!E:E,MATCH(\"Triglyme\",RRFs!B:B,FALSE)),INDEX(RRFs!E:E,MATCH(S104,RRFs!B:B,FALSE)))))","v":""},"","","",null,null,null,null,"After MeP",{"$f":"IF(Z104=\"\",\"\",IF(OR(AB104=\"Solvent\",AB104=\"After MeP\"),0,IF(AB104=\"\",INDEX(RRFs!E:E,MATCH(\"Triglyme\",RRFs!B:B,FALSE)),INDEX(RRFs!E:E,MATCH(AB104,RRFs!B:B,FALSE)))))","v":""},"","",""]
[null,null,null,null,null,null,null,null,null,null,null,null,null,null,null,null,null,null,"After MeP",{"$f":"IF(Q105=\"\",\"\",IF(OR(S105=\"Solvent\",S105=\"After MeP\"),0,IF(S105=\"\",INDEX(RRFs!E:E,MATCH(\"Triglyme\",RRFs!B:B,FALSE)),INDEX(RRFs!E:E,MATCH(S105,RRFs!B:B,FALSE)))))","v":""},"","","",null,null,null,null,"After MeP",{"$f":"IF(Z105=\"\",\"\",IF(OR(AB105=\"Solvent\",AB105=\"After MeP\"),0,IF(AB105=\"\",INDEX(RRFs!E:E,MATCH(\"Triglyme\",RRFs!B:B,FALSE)),INDEX(RRFs!E:E,MATCH(AB105,RRFs!B:B,FALSE)))))","v":""},"","",""]
[null,null,null,null,null,null,null,null,null,null,null,null,null,null,null,null,null,null,"After MeP",{"$f":"IF(Q106=\"\",\"\",IF(OR(S106=\"Solvent\",S106=\"After MeP\"),0,IF(S106=\"\",INDEX(RRFs!E:E,MATCH(\"Triglyme\",RRFs!B:B,FALSE)),INDEX(RRFs!E:E,MATCH(S106,RRFs!B:B,FALSE)))))","v":""},"","","",null,null,null,null,"After MeP",{"$f":"IF(Z106=\"\",\"\",IF(OR(AB106=\"Solvent\",AB106=\"After MeP\"),0,IF(AB106=\"\",INDEX(RRFs!E:E,MATCH(\"Triglyme\",RRFs!B:B,FALSE)),INDEX(RRFs!E:E,MATCH(AB106,RRFs!B:B,FALSE)))))","v":""},"","",""]
[null,null,null,null,null,null,null,null,null,null,null,null,null,null,null,null,null,null,"After MeP",{"$f":"IF(Q107=\"\",\"\",IF(OR(S107=\"Solvent\",S107=\"After MeP\"),0,IF(S107=\"\",INDEX(RRFs!E:E,MATCH(\"Triglyme\",RRFs!B:B,FALSE)),INDEX(RRFs!E:E,MATCH(S107,RRFs!B:B,FALSE)))))","v":""},"","","",null,null,null,null,"After MeP",{"$f":"IF(Z107=\"\",\"\",IF(OR(AB107=\"Solvent\",AB107=\"After MeP\"),0,IF(AB107=\"\",INDEX(RRFs!E:E,MATCH(\"Triglyme\",RRFs!B:B,FALSE)),INDEX(RRFs!E:E,MATCH(AB107,RRFs!B:B,FALSE)))))","v":""},"","",""]
[null,null,null,null,null,null,null,null,null,null,null,null,null,null,null,null,null,null,"After MeP",{"$f":"IF(Q108=\"\",\"\",IF(OR(S108=\"Solvent\",S108=\"After MeP\"),0,IF(S108=\"\",INDEX(RRFs!E:E,MATCH(\"Triglyme\",RRFs!B:B,FALSE)),INDEX(RRFs!E:E,MATCH(S108,RRFs!B:B,FALSE)))))","v":""},"","","",null,null,null,null,"After MeP",{"$f":"IF(Z108=\"\",\"\",IF(OR(AB108=\"Solvent\",AB108=\"After MeP\"),0,IF(AB108=\"\",INDEX(RRFs!E:E,MATCH(\"Triglyme\",RRFs!B:B,FALSE)),INDEX(RRFs!E:E,MATCH(AB108,RRFs!B:B,FALSE)))))","v":""},"","",""]
[null,null,null,null,null,null,null,null,null,null,null,null,null,null,null,null,null,null,"After MeP",{"$f":"IF(Q109=\"\",\"\",IF(OR(S109=\"Solvent\",S109=\"After MeP\"),0,IF(S109=\"\",INDEX(RRFs!E:E,MATCH(\"Triglyme\",RRFs!B:B,FALSE)),INDEX(RRFs!E:E,MATCH(S109,RRFs!B:B,FALSE)))))","v":""},"","","",null,null,null,null,"After MeP",{"$f":"IF(Z109=\"\",\"\",IF(OR(AB109=\"Solvent\",AB109=\"After MeP\"),0,IF(AB109=\"\",INDEX(RRFs!E:E,MATCH(\"Triglyme\",RRFs!B:B,FALSE)),INDEX(RRFs!E:E,MATCH(AB109,RRFs!B:B,FALSE)))))","v":""},"","",""]
[null,null,null,null,null,null,null,null,null,null,null,null,null,null,null,null,null,null,"After MeP",{"$f":"IF(Q110=\"\",\"\",IF(OR(S110=\"Solvent\",S110=\"After MeP\"),0,IF(S110=\"\",INDEX(RRFs!E:E,MATCH(\"Triglyme\",RRFs!B:B,FALSE)),INDEX(RRFs!E:E,MATCH(S110,RRFs!B:B,FALSE)))))","v":""},"","","",null,null,null,null,"After MeP",{"$f":"IF(Z110=\"\",\"\",IF(OR(AB110=\"Solvent\",AB110=\"After MeP\"),0,IF(AB110=\"\",INDEX(RRFs!E:E,MATCH(\"Triglyme\",RRFs!B:B,FALSE)),INDEX(RRFs!E:E,MATCH(AB110,RRFs!B:B,FALSE)))))","v":""},"","",""]
[null,null,null,null,null,null,null,null,null,null,null,null,null,null,null,null,null,null,"After MeP",{"$f":"IF(Q111=\"\",\"\",IF(OR(S111=\"Solvent\",S111=\"After MeP\"),0,IF(S111=\"\",INDEX(RRFs!E:E,MATCH(\"Triglyme\",RRFs!B:B,FALSE)),INDEX(RRFs!E:E,MATCH(S111,RRFs!B:B,FALSE)))))","v":""},"","","",null,null,null,null,"After MeP",{"$f":"IF(Z111=\"\",\"\",IF(OR(AB111=\"Solvent\",AB111=\"After MeP\"),0,IF(AB111=\"\",INDEX(RRFs!E:E,MATCH(\"Triglyme\",RRFs!B:B,FALSE)),INDEX(RRFs!E:E,MATCH(AB111,RRFs!B:B,FALSE)))))","v":""},"","",""]
[null,null,null,null,null,null,null,null,null,null,null,null,null,null,null,null,null,null,"After MeP",{"$f":"IF(Q112=\"\",\"\",IF(OR(S112=\"Solvent\",S112=\"After MeP\"),0,IF(S112=\"\",INDEX(RRFs!E:E,MATCH(\"Triglyme\",RRFs!B:B,FALSE)),INDEX(RRFs!E:E,MATCH(S112,RRFs!B:B,FALSE)))))","v":""},"","","",null,null,null,null,"After MeP",{"$f":"IF(Z112=\"\",\"\",IF(OR(AB112=\"Solvent\",AB112=\"After MeP\"),0,IF(AB112=\"\",INDEX(RRFs!E:E,MATCH(\"Triglyme\",RRFs!B:B,FALSE)),INDEX(RRFs!E:E,MATCH(AB112,RRFs!B:B,FALSE)))))","v":""},"","",""]
[null,null,null,null,null,null,null,null,null,null,null,null,null,null,null,null,null,null,"After MeP",{"$f":"IF(Q113=\"\",\"\",IF(OR(S113=\"Solvent\",S113=\"After MeP\"),0,IF(S113=\"\",INDEX(RRFs!E:E,MATCH(\"Triglyme\",RRFs!B:B,FALSE)),INDEX(RRFs!E:E,MATCH(S113,RRFs!B:B,FALSE)))))","v":""},"","","",null,null,null,null,"After MeP",{"$f":"IF(Z113=\"\",\"\",IF(OR(AB113=\"Solvent\",AB113=\"After MeP\"),0,IF(AB113=\"\",INDEX(RRFs!E:E,MATCH(\"Triglyme\",RRFs!B:B,FALSE)),INDEX(RRFs!E:E,MATCH(AB113,RRFs!B:B,FALSE)))))","v":""},"","",""]
[null,null,null,null,null,null,null,null,null,null,null,null,null,null,null,null,null,null,"After MeP",{"$f":"IF(Q114=\"\",\"\",IF(OR(S114=\"Solvent\",S114=\"After MeP\"),0,IF(S114=\"\",INDEX(RRFs!E:E,MATCH(\"Triglyme\",RRFs!B:B,FALSE)),INDEX(RRFs!E:E,MATCH(S114,RRFs!B:B,FALSE)))))","v":""},"","","",null,null,null,null,"After MeP",{"$f":"IF(Z114=\"\",\"\",IF(OR(AB114=\"Solvent\",AB114=\"After MeP\"),0,IF(AB114=\"\",INDEX(RRFs!E:E,MATCH(\"Triglyme\",RRFs!B:B,FALSE)),INDEX(RRFs!E:E,MATCH(AB114,RRFs!B:B,FALSE)))))","v":""},"","",""]
[null,null,null,null,null,null,null,null,null,null,null,null,null,null,null,null,null,null,"After MeP",{"$f":"IF(Q115=\"\",\"\",IF(OR(S115=\"Solvent\",S115=\"After MeP\"),0,IF(S115=\"\",INDEX(RRFs!E:E,MATCH(\"Triglyme\",RRFs!B:B,FALSE)),INDEX(RRFs!E:E,MATCH(S115,RRFs!B:B,FALSE)))))","v":""},"","","",null,null,null,null,"After MeP",{"$f":"IF(Z115=\"\",\"\",IF(OR(AB115=\"Solvent\",AB115=\"After MeP\"),0,IF(AB115=\"\",INDEX(RRFs!E:E,MATCH(\"Triglyme\",RRFs!B:B,FALSE)),INDEX(RRFs!E:E,MATCH(AB115,RRFs!B:B,FALSE)))))","v":""},"","",""]
[null,null,null,null,null,null,null,null,null,null,null,null,null,null,null,null,null,null,"After MeP",{"$f":"IF(Q116=\"\",\"\",IF(OR(S116=\"Solvent\",S116=\"After MeP\"),0,IF(S116=\"\",INDEX(RRFs!E:E,MATCH(\"Triglyme\",RRFs!B:B,FALSE)),INDEX(RRFs!E:E,MATCH(S116,RRFs!B:B,FALSE)))))","v":""},"","","",null,null,null,null,"After MeP",{"$f":"IF(Z116=\"\",\"\",IF(OR(AB116=\"Solvent\",AB116=\"After MeP\"),0,IF(AB116=\"\",INDEX(RRFs!E:E,MATCH(\"Triglyme\",RRFs!B:B,FALSE)),INDEX(RRFs!E:E,MATCH(AB116,RRFs!B:B,FALSE)))))","v":""},"","",""]
[null,null,null,null,null,null,null,null,null,null,null,null,null,null,null,null,null,null,"After MeP",{"$f":"IF(Q117=\"\",\"\",IF(OR(S117=\"Solvent\",S117=\"After MeP\"),0,IF(S117=\"\",INDEX(RRFs!E:E,MATCH(\"Triglyme\",RRFs!B:B,FALSE)),INDEX(RRFs!E:E,MATCH(S117,RRFs!B:B,FALSE)))))","v":""},"","","",null,null,null,null,"After MeP",{"$f":"IF(Z117=\"\",\"\",IF(OR(AB117=\"Solvent\",AB117=\"After MeP\"),0,IF(AB117=\"\",INDEX(RRFs!E:E,MATCH(\"Triglyme\",RRFs!B:B,FALSE)),INDEX(RRFs!E:E,MATCH(AB117,RRFs!B:B,FALSE)))))","v":""},"","",""]
[null,null,null,null,null,null,null,null,null,null,null,null,null,null,null,null,null,null,"After MeP",{"$f":"IF(Q118=\"\",\"\",IF(OR(S118=\"Solvent\",S118=\"After MeP\"),0,IF(S118=\"\",INDEX(RRFs!E:E,MATCH(\"Triglyme\",RRFs!B:B,FALSE)),INDEX(RRFs!E:E,MATCH(S118,RRFs!B:B,FALSE)))))","v":""},"","","",null,null,null,null,"After MeP",{"$f":"IF(Z118=\"\",\"\",IF(OR(AB118=\"Solvent\",AB118=\"After MeP\"),0,IF(AB118=\"\",INDEX(RRFs!E:E,MATCH(\"Triglyme\",RRFs!B:B,FALSE)),INDEX(RRFs!E:E,MATCH(AB118,RRFs!B:B,FALSE)))))","v":""},"","",""]
[null,null,null,null,null,null,null,null,null,null,null,null,null,null,null,null,null,null,"After MeP",{"$f":"IF(Q119=\"\",\"\",IF(OR(S119=\"Solvent\",S119=\"After MeP\"),0,IF(S119=\"\",INDEX(RRFs!E:E,MATCH(\"Triglyme\",RRFs!B:B,FALSE)),INDEX(RRFs!E:E,MATCH(S119,RRFs!B:B,FALSE)))))","v":""},"","","",null,null,null,null,"After MeP",{"$f":"IF(Z119=\"\",\"\",IF(OR(AB119=\"Solvent\",AB119=\"After MeP\"),0,IF(AB119=\"\",INDEX(RRFs!E:E,MATCH(\"Triglyme\",RRFs!B:B,FALSE)),INDEX(RRFs!E:E,MATCH(AB119,RRFs!B:B,FALSE)))))","v":""},"","",""]
[null,null,null,null,null,null,null,null,null,null,null,null,null,null,null,null,null,null,"After MeP",{"$f":"IF(Q120=\"\",\"\",IF(OR(S120=\"Solvent\",S120=\"After MeP\"),0,IF(S120=\"\",INDEX(RRFs!E:E,MATCH(\"Triglyme\",RRFs!B:B,FALSE)),INDEX(RRFs!E:E,MATCH(S120,RRFs!B:B,FALSE)))))","v":""},"","","",null,null,null,null,"After MeP",{"$f":"IF(Z120=\"\",\"\",IF(OR(AB120=\"Solvent\",AB120=\"After MeP\"),0,IF(AB120=\"\",INDEX(RRFs!E:E,MATCH(\"Triglyme\",RRFs!B:B,FALSE)),INDEX(RRFs!E:E,MATCH(AB120,RRFs!B:B,FALSE)))))","v":""},"","",""]
[null,null,null,null,null,null,null,null,null,null,null,null,null,null,null,null,null,null,"After MeP",{"$f":"IF(Q121=\"\",\"\",IF(OR(S121=\"Solvent\",S121=\"After MeP\"),0,IF(S121=\"\",INDEX(RRFs!E:E,MATCH(\"Triglyme\",RRFs!B:B,FALSE)),INDEX(RRFs!E:E,MATCH(S121,RRFs!B:B,FALSE)))))","v":""},"","","",null,null,null,null,"After MeP",{"$f":"IF(Z121=\"\",\"\",IF(OR(AB121=\"Solvent\",AB121=\"After MeP\"),0,IF(AB121=\"\",INDEX(RRFs!E:E,MATCH(\"Triglyme\",RRFs!B:B,FALSE)),INDEX(RRFs!E:E,MATCH(AB121,RRFs!B:B,FALSE)))))","v":""},"","",""]
[null,null,null,null,null,null,null,null,null,null,null,null,null,null,null,null,null,null,"After MeP",{"$f":"IF(Q122=\"\",\"\",IF(OR(S122=\"Solvent\",S122=\"After MeP\"),0,IF(S122=\"\",INDEX(RRFs!E:E,MATCH(\"Triglyme\",RRFs!B:B,FALSE)),INDEX(RRFs!E:E,MATCH(S122,RRFs!B:B,FALSE)))))","v":""},"","","",null,null,null,null,"After MeP",{"$f":"IF(Z122=\"\",\"\",IF(OR(AB122=\"Solvent\",AB122=\"After MeP\"),0,IF(AB122=\"\",INDEX(RRFs!E:E,MATCH(\"Triglyme\",RRFs!B:B,FALSE)),INDEX(RRFs!E:E,MATCH(AB122,RRFs!B:B,FALSE)))))","v":""},"","",""]
[null,null,null,null,null,null,null,null,null,null,null,null,null,null,null,null,null,null,"After MeP",{"$f":"IF(Q123=\"\",\"\",IF(OR(S123=\"Solvent\",S123=\"After MeP\"),0,IF(S123=\"\",INDEX(RRFs!E:E,MATCH(\"Triglyme\",RRFs!B:B,FALSE)),INDEX(RRFs!E:E,MATCH(S123,RRFs!B:B,FALSE)))))","v":""},"","","",null,null,null,null,"After MeP",{"$f":"IF(Z123=\"\",\"\",IF(OR(AB123=\"Solvent\",AB123=\"After MeP\"),0,IF(AB123=\"\",INDEX(RRFs!E:E,MATCH(\"Triglyme\",RRFs!B:B,FALSE)),INDEX(RRFs!E:E,MATCH(AB123,RRFs!B:B,FALSE)))))","v":""},"","",""]
[null,null,null,null,null,null,null,null,null,null,null,null,null,null,null,null,null,null,"After MeP",{"$f":"IF(Q124=\"\",\"\",IF(OR(S124=\"Solvent\",S124=\"After MeP\"),0,IF(S124=\"\",INDEX(RRFs!E:E,MATCH(\"Triglyme\",RRFs!B:B,FALSE)),INDEX(RRFs!E:E,MATCH(S124,RRFs!B:B,FALSE)))))","v":""},"","","",null,null,null,null,"After MeP",{"$f":"IF(Z124=\"\",\"\",IF(OR(AB124=\"Solvent\",AB124=\"After MeP\"),0,IF(AB124=\"\",INDEX(RRFs!E:E,MATCH(\"Triglyme\",RRFs!B:B,FALSE)),INDEX(RRFs!E:E,MATCH(AB124,RRFs!B:B,FALSE)))))","v":""},"","",""]
[null,null,null,null,null,null,null,null,null,null,null,null,null,null,null,null,null,null,"After MeP",{"$f":"IF(Q125=\"\",\"\",IF(OR(S125=\"Solvent\",S125=\"After MeP\"),0,IF(S125=\"\",INDEX(RRFs!E:E,MATCH(\"Triglyme\",RRFs!B:B,FALSE)),INDEX(RRFs!E:E,MATCH(S125,RRFs!B:B,FALSE)))))","v":""},"","","",null,null,null,null,"After MeP",{"$f":"IF(Z125=\"\",\"\",IF(OR(AB125=\"Solvent\",AB125=\"After MeP\"),0,IF(AB125=\"\",INDEX(RRFs!E:E,MATCH(\"Triglyme\",RRFs!B:B,FALSE)),INDEX(RRFs!E:E,MATCH(AB125,RRFs!B:B,FALSE)))))","v":""},"","",""]
[null,null,null,null,null,null,null,null,null,null,null,null,null,null,null,null,null,null,"After MeP",{"$f":"IF(Q126=\"\",\"\",IF(OR(S126=\"Solvent\",S126=\"After MeP\"),0,IF(S126=\"\",INDEX(RRFs!E:E,MATCH(\"Triglyme\",RRFs!B:B,FALSE)),INDEX(RRFs!E:E,MATCH(S126,RRFs!B:B,FALSE)))))","v":""},"","","",null,null,null,null,"After MeP",{"$f":"IF(Z126=\"\",\"\",IF(OR(AB126=\"Solvent\",AB126=\"After MeP\"),0,IF(AB126=\"\",INDEX(RRFs!E:E,MATCH(\"Triglyme\",RRFs!B:B,FALSE)),INDEX(RRFs!E:E,MATCH(AB126,RRFs!B:B,FALSE)))))","v":""},"","",""]
[null,null,null,null,null,null,null,null,null,null,null,null,null,null,null,null,null,null,"After MeP",{"$f":"IF(Q127=\"\",\"\",IF(OR(S127=\"Solvent\",S127=\"After MeP\"),0,IF(S127=\"\",INDEX(RRFs!E:E,MATCH(\"Triglyme\",RRFs!B:B,FALSE)),INDEX(RRFs!E:E,MATCH(S127,RRFs!B:B,FALSE)))))","v":""},"","","",null,null,null,null,"After MeP",{"$f":"IF(Z127=\"\",\"\",IF(OR(AB127=\"Solvent\",AB127=\"After MeP\"),0,IF(AB127=\"\",INDEX(RRFs!E:E,MATCH(\"Triglyme\",RRFs!B:B,FALSE)),INDEX(RRFs!E:E,MATCH(AB127,RRFs!B:B,FALSE)))))","v":""},"","",""]
[null,null,null,null,null,null,null,null,null,null,null,null,null,null,null,null,null,null,"After MeP",{"$f":"IF(Q128=\"\",\"\",IF(OR(S128=\"Solvent\",S128=\"After MeP\"),0,IF(S128=\"\",INDEX(RRFs!E:E,MATCH(\"Triglyme\",RRFs!B:B,FALSE)),INDEX(RRFs!E:E,MATCH(S128,RRFs!B:B,FALSE)))))","v":""},"","","",null,null,null,null,"After MeP",{"$f":"IF(Z128=\"\",\"\",IF(OR(AB128=\"Solvent\",AB128=\"After MeP\"),0,IF(AB128=\"\",INDEX(RRFs!E:E,MATCH(\"Triglyme\",RRFs!B:B,FALSE)),INDEX(RRFs!E:E,MATCH(AB128,RRFs!B:B,FALSE)))))","v":""},"","",""]
[null,null,null,null,null,null,null,null,null,null,null,null,null,null,null,null,null,null,"After MeP",{"$f":"IF(Q129=\"\",\"\",IF(OR(S129=\"Solvent\",S129=\"After MeP\"),0,IF(S129=\"\",INDEX(RRFs!E:E,MATCH(\"Triglyme\",RRFs!B:B,FALSE)),INDEX(RRFs!E:E,MATCH(S129,RRFs!B:B,FALSE)))))","v":""},"","","",null,null,null,null,"After MeP",{"$f":"IF(Z129=\"\",\"\",IF(OR(AB129=\"Solvent\",AB129=\"After MeP\"),0,IF(AB129=\"\",INDEX(RRFs!E:E,MATCH(\"Triglyme\",RRFs!B:B,FALSE)),INDEX(RRFs!E:E,MATCH(AB129,RRFs!B:B,FALSE)))))","v":""},"","",""]
[null,null,null,null,null,null,null,null,null,null,null,null,null,null,null,null,null,null,"After MeP",{"$f":"IF(Q130=\"\",\"\",IF(OR(S130=\"Solvent\",S130=\"After MeP\"),0,IF(S130=\"\",INDEX(RRFs!E:E,MATCH(\"Triglyme\",RRFs!B:B,FALSE)),INDEX(RRFs!E:E,MATCH(S130,RRFs!B:B,FALSE)))))","v":""},"","","",null,null,null,null,"After MeP",{"$f":"IF(Z130=\"\",\"\",IF(OR(AB130=\"Solvent\",AB130=\"After MeP\"),0,IF(AB130=\"\",INDEX(RRFs!E:E,MATCH(\"Triglyme\",RRFs!B:B,FALSE)),INDEX(RRFs!E:E,MATCH(AB130,RRFs!B:B,FALSE)))))","v":""},"","",""]
[null,null,null,null,null,null,null,null,null,null,null,null,null,null,null,null,null,null,"After MeP",{"$f":"IF(Q131=\"\",\"\",IF(OR(S131=\"Solvent\",S131=\"After MeP\"),0,IF(S131=\"\",INDEX(RRFs!E:E,MATCH(\"Triglyme\",RRFs!B:B,FALSE)),INDEX(RRFs!E:E,MATCH(S131,RRFs!B:B,FALSE)))))","v":""},"","","",null,null,null,null,"After MeP",{"$f":"IF(Z131=\"\",\"\",IF(OR(AB131=\"Solvent\",AB131=\"After MeP\"),0,IF(AB131=\"\",INDEX(RRFs!E:E,MATCH(\"Triglyme\",RRFs!B:B,FALSE)),INDEX(RRFs!E:E,MATCH(AB131,RRFs!B:B,FALSE)))))","v":""},"","",""]
[null,null,null,null,null,null,null,null,null,null,null,null,null,null,null,null,null,null,"After MeP",{"$f":"IF(Q132=\"\",\"\",IF(OR(S132=\"Solvent\",S132=\"After MeP\"),0,IF(S132=\"\",INDEX(RRFs!E:E,MATCH(\"Triglyme\",RRFs!B:B,FALSE)),INDEX(RRFs!E:E,MATCH(S132,RRFs!B:B,FALSE)))))","v":""},"","","",null,null,null,null,"After MeP",{"$f":"IF(Z132=\"\",\"\",IF(OR(AB132=\"Solvent\",AB132=\"After MeP\"),0,IF(AB132=\"\",INDEX(RRFs!E:E,MATCH(\"Triglyme\",RRFs!B:B,FALSE)),INDEX(RRFs!E:E,MATCH(AB132,RRFs!B:B,FALSE)))))","v":""},"","",""]
[null,null,null,null,null,null,null,null,null,null,null,null,null,null,null,null,null,null,{"$f":"IF(Q133>=$E$41,\"After MeP\",\"\")","v":"After MeP"},{"$f":"IF(Q133=\"\",\"\",IF(OR(S133=\"Solvent\",S133=\"After MeP\"),0,IF(S133=\"\",INDEX(RRFs!E:E,MATCH(\"Triglyme\",RRFs!B:B,FALSE)),INDEX(RRFs!E:E,MATCH(S133,RRFs!B:B,FALSE)))))","v":""},{"$f":"IF(Q133=\"\",\"\",IF(T133=0,0,IF(S133=\"EGDE\",R133/T133,R133/INDEX(R:R,MATCH(\"EGDE\",S:S,FALSE)) *INDEX($F$29:$F$38,MATCH(\"EGDE\",$C$29:$C$38,FALSE))/T133)))","v":""},"","",null,null,null,null,{"$f":"IF(Z133>=$E$41,\"After MeP\",\"\")","v":"After MeP"},{"$f":"IF(Z133=\"\",\"\",IF(OR(AB133=\"Solvent\",AB133=\"After MeP\"),0,IF(AB133=\"\",INDEX(RRFs!E:E,MATCH(\"Triglyme\",RRFs!B:B,FALSE)),INDEX(RRFs!E:E,MATCH(AB133,RRFs!B:B,FALSE)))))","v":""},{"$f":"IF(Z133=\"\",\"\",IF(AC133=0,0,IF(AB133=\"EGDE\",AA133/AC133,AA133/INDEX(AA:AA,MATCH(\"EGDE\",AB:AB,FALSE)) *INDEX($F$29:$F$38,MATCH(\"EGDE\",$C$29:$C$38,FALSE))/AC133)))","v":""},"",""]
[null,null,null,null,null,null,null,null,null,null,null,null,null,null,null,null,null,null,"After MeP",{"$f":"IF(Q134=\"\",\"\",IF(OR(S134=\"Solvent\",S134=\"After MeP\"),0,IF(S134=\"\",INDEX(RRFs!E:E,MATCH(\"Triglyme\",RRFs!B:B,FALSE)),INDEX(RRFs!E:E,MATCH(S134,RRFs!B:B,FALSE)))))","v":""},"",{"$f":"IF(Q134=\"\",\"\",IF(OR(S134=\"Heptane\",S134=\"IPA\",S134=\"Triglyme\",S134=\"DIIBA\",S134=\"EGDE\"),\"\",U134*($D$26/(LARGE($F$16:$F$21,1)*($E$32-$E$31)))*$D$4))","v":""},{"$f":"IF(V134=\"\",\"\",IF(AND(V134>1,S134=\"\"),\"Yes\",\"\"))","v":""},null,null,null,null,"After MeP",{"$f":"IF(Z134=\"\",\"\",IF(OR(AB134=\"Solvent\",AB134=\"After MeP\"),0,IF(AB134=\"\",INDEX(RRFs!E:E,MATCH(\"Triglyme\",RRFs!B:B,FALSE)),INDEX(RRFs!E:E,MATCH(AB134,RRFs!B:B,FALSE)))))","v":""},"",{"$f":"IF(Z134=\"\",\"\",IF(OR(AB134=\"Heptane\",AB134=\"IPA\",AB134=\"Triglyme\",AB134=\"DIIBA\",AB134=\"EGDE\"),\"\",AD134*($D$26/((LARGE($F$16:$F$21,1)*($E$32-$E$31)))*$D$4)))","v":""},{"$f":"IF(AE134=\"\",\"\",IF(AND(AE134>1,AB134=\"\"),\"Yes\",\"\"))","v":""}]
[null,null,null,null,null,null,null,null,null,null,null,null,null,null,null,null,null,null,"After MeP",{"$f":"IF(Q135=\"\",\"\",IF(OR(S135=\"Solvent\",S135=\"After MeP\"),0,IF(S135=\"\",INDEX(RRFs!E:E,MATCH(\"Triglyme\",RRFs!B:B,FALSE)),INDEX(RRFs!E:E,MATCH(S135,RRFs!B:B,FALSE)))))","v":""},"","","",null,null,null,null,"After MeP",{"$f":"IF(Z135=\"\",\"\",IF(OR(AB135=\"Solvent\",AB135=\"After MeP\"),0,IF(AB135=\"\",INDEX(RRFs!E:E,MATCH(\"Triglyme\",RRFs!B:B,FALSE)),INDEX(RRFs!E:E,MATCH(AB135,RRFs!B:B,FALSE)))))","v":""},"","",""]
[null,null,null,null,null,null,null,null,null,null,null,null,null,null,null,null,null,null,"After MeP",{"$f":"IF(Q136=\"\",\"\",IF(OR(S136=\"Solvent\",S136=\"After MeP\"),0,IF(S136=\"\",INDEX(RRFs!E:E,MATCH(\"Triglyme\",RRFs!B:B,FALSE)),INDEX(RRFs!E:E,MATCH(S136,RRFs!B:B,FALSE)))))","v":""},"","","",null,null,null,null,"After MeP",{"$f":"IF(Z136=\"\",\"\",IF(OR(AB136=\"Solvent\",AB136=\"After MeP\"),0,IF(AB136=\"\",INDEX(RRFs!E:E,MATCH(\"Triglyme\",RRFs!B:B,FALSE)),INDEX(RRFs!E:E,MATCH(AB136,RRFs!B:B,FALSE)))))","v":""},"","",""]
[null,null,null,null,null,null,null,null,null,null,null,null,null,null,null,null,null,null,"After MeP",{"$f":"IF(Q137=\"\",\"\",IF(OR(S137=\"Solvent\",S137=\"After MeP\"),0,IF(S137=\"\",INDEX(RRFs!E:E,MATCH(\"Triglyme\",RRFs!B:B,FALSE)),INDEX(RRFs!E:E,MATCH(S137,RRFs!B:B,FALSE)))))","v":""},"","","",null,null,null,null,"After MeP",{"$f":"IF(Z137=\"\",\"\",IF(OR(AB137=\"Solvent\",AB137=\"After MeP\"),0,IF(AB137=\"\",INDEX(RRFs!E:E,MATCH(\"Triglyme\",RRFs!B:B,FALSE)),INDEX(RRFs!E:E,MATCH(AB137,RRFs!B:B,FALSE)))))","v":""},"","",""]
[null,null,null,null,null,null,null,null,null,null,null,null,null,null,null,null,null,null,"After MeP",{"$f":"IF(Q138=\"\",\"\",IF(OR(S138=\"Solvent\",S138=\"After MeP\"),0,IF(S138=\"\",INDEX(RRFs!E:E,MATCH(\"Triglyme\",RRFs!B:B,FALSE)),INDEX(RRFs!E:E,MATCH(S138,RRFs!B:B,FALSE)))))","v":""},"","","",null,null,null,null,"After MeP",{"$f":"IF(Z138=\"\",\"\",IF(OR(AB138=\"Solvent\",AB138=\"After MeP\"),0,IF(AB138=\"\",INDEX(RRFs!E:E,MATCH(\"Triglyme\",RRFs!B:B,FALSE)),INDEX(RRFs!E:E,MATCH(AB138,RRFs!B:B,FALSE)))))","v":""},"","",""]
[null,null,null,null,null,null,null,null,null,null,null,null,null,null,null,null,null,null,"After MeP",{"$f":"IF(Q139=\"\",\"\",IF(OR(S139=\"Solvent\",S139=\"After MeP\"),0,IF(S139=\"\",INDEX(RRFs!E:E,MATCH(\"Triglyme\",RRFs!B:B,FALSE)),INDEX(RRFs!E:E,MATCH(S139,RRFs!B:B,FALSE)))))","v":""},"","","",null,null,null,null,"After MeP",{"$f":"IF(Z139=\"\",\"\",IF(OR(AB139=\"Solvent\",AB139=\"After MeP\"),0,IF(AB139=\"\",INDEX(RRFs!E:E,MATCH(\"Triglyme\",RRFs!B:B,FALSE)),INDEX(RRFs!E:E,MATCH(AB139,RRFs!B:B,FALSE)))))","v":""},"","",""]
[null,null,null,null,null,null,null,null,null,null,null,null,null,null,null,null,null,null,"After MeP",{"$f":"IF(Q140=\"\",\"\",IF(OR(S140=\"Solvent\",S140=\"After MeP\"),0,IF(S140=\"\",INDEX(RRFs!E:E,MATCH(\"Triglyme\",RRFs!B:B,FALSE)),INDEX(RRFs!E:E,MATCH(S140,RRFs!B:B,FALSE)))))","v":""},"","","",null,null,null,null,"After MeP",{"$f":"IF(Z140=\"\",\"\",IF(OR(AB140=\"Solvent\",AB140=\"After MeP\"),0,IF(AB140=\"\",INDEX(RRFs!E:E,MATCH(\"Triglyme\",RRFs!B:B,FALSE)),INDEX(RRFs!E:E,MATCH(AB140,RRFs!B:B,FALSE)))))","v":""},"","",""]
[null,null,null,null,null,null,null,null,null,null,null,null,null,null,null,null,null,null,"After MeP",{"$f":"IF(Q141=\"\",\"\",IF(OR(S141=\"Solvent\",S141=\"After MeP\"),0,IF(S141=\"\",INDEX(RRFs!E:E,MATCH(\"Triglyme\",RRFs!B:B,FALSE)),INDEX(RRFs!E:E,MATCH(S141,RRFs!B:B,FALSE)))))","v":""},"","","",null,null,null,null,"After MeP",{"$f":"IF(Z141=\"\",\"\",IF(OR(AB141=\"Solvent\",AB141=\"After MeP\"),0,IF(AB141=\"\",INDEX(RRFs!E:E,MATCH(\"Triglyme\",RRFs!B:B,FALSE)),INDEX(RRFs!E:E,MATCH(AB141,RRFs!B:B,FALSE)))))","v":""},"","",""]
[null,null,null,null,null,null,null,null,null,null,null,null,null,null,null,null,null,null,"After MeP",{"$f":"IF(Q142=\"\",\"\",IF(OR(S142=\"Solvent\",S142=\"After MeP\"),0,IF(S142=\"\",INDEX(RRFs!E:E,MATCH(\"Triglyme\",RRFs!B:B,FALSE)),INDEX(RRFs!E:E,MATCH(S142,RRFs!B:B,FALSE)))))","v":""},"","","",null,null,null,null,"After MeP",{"$f":"IF(Z142=\"\",\"\",IF(OR(AB142=\"Solvent\",AB142=\"After MeP\"),0,IF(AB142=\"\",INDEX(RRFs!E:E,MATCH(\"Triglyme\",RRFs!B:B,FALSE)),INDEX(RRFs!E:E,MATCH(AB142,RRFs!B:B,FALSE)))))","v":""},"","",""]
[null,null,null,null,null,null,null,null,null,null,null,null,null,null,null,null,null,null,"After MeP",{"$f":"IF(Q143=\"\",\"\",IF(OR(S143=\"Solvent\",S143=\"After MeP\"),0,IF(S143=\"\",INDEX(RRFs!E:E,MATCH(\"Triglyme\",RRFs!B:B,FALSE)),INDEX(RRFs!E:E,MATCH(S143,RRFs!B:B,FALSE)))))","v":""},"","","",null,null,null,null,"After MeP",{"$f":"IF(Z143=\"\",\"\",IF(OR(AB143=\"Solvent\",AB143=\"After MeP\"),0,IF(AB143=\"\",INDEX(RRFs!E:E,MATCH(\"Triglyme\",RRFs!B:B,FALSE)),INDEX(RRFs!E:E,MATCH(AB143,RRFs!B:B,FALSE)))))","v":""},"","",""]
[null,null,null,null,null,null,null,null,null,null,null,null,null,null,null,null,null,null,"After MeP",{"$f":"IF(Q144=\"\",\"\",IF(OR(S144=\"Solvent\",S144=\"After MeP\"),0,IF(S144=\"\",INDEX(RRFs!E:E,MATCH(\"Triglyme\",RRFs!B:B,FALSE)),INDEX(RRFs!E:E,MATCH(S144,RRFs!B:B,FALSE)))))","v":""},"","","",null,null,null,null,"After MeP",{"$f":"IF(Z144=\"\",\"\",IF(OR(AB144=\"Solvent\",AB144=\"After MeP\"),0,IF(AB144=\"\",INDEX(RRFs!E:E,MATCH(\"Triglyme\",RRFs!B:B,FALSE)),INDEX(RRFs!E:E,MATCH(AB144,RRFs!B:B,FALSE)))))","v":""},"","",""]
[null,null,null,null,null,null,null,null,null,null,null,null,null,null,null,null,null,null,"After MeP",{"$f":"IF(Q145=\"\",\"\",IF(OR(S145=\"Solvent\",S145=\"After MeP\"),0,IF(S145=\"\",INDEX(RRFs!E:E,MATCH(\"Triglyme\",RRFs!B:B,FALSE)),INDEX(RRFs!E:E,MATCH(S145,RRFs!B:B,FALSE)))))","v":""},"","","",null,null,null,null,"After MeP",{"$f":"IF(Z145=\"\",\"\",IF(OR(AB145=\"Solvent\",AB145=\"After MeP\"),0,IF(AB145=\"\",INDEX(RRFs!E:E,MATCH(\"Triglyme\",RRFs!B:B,FALSE)),INDEX(RRFs!E:E,MATCH(AB145,RRFs!B:B,FALSE)))))","v":""},"","",""]
[null,null,null,null,null,null,null,null,null,null,null,null,null,null,null,null,null,null,"After MeP",{"$f":"IF(Q146=\"\",\"\",IF(OR(S146=\"Solvent\",S146=\"After MeP\"),0,IF(S146=\"\",INDEX(RRFs!E:E,MATCH(\"Triglyme\",RRFs!B:B,FALSE)),INDEX(RRFs!E:E,MATCH(S146,RRFs!B:B,FALSE)))))","v":""},"","","",null,null,null,null,"After MeP",{"$f":"IF(Z146=\"\",\"\",IF(OR(AB146=\"Solvent\",AB146=\"After MeP\"),0,IF(AB146=\"\",INDEX(RRFs!E:E,MATCH(\"Triglyme\",RRFs!B:B,FALSE)),INDEX(RRFs!E:E,MATCH(AB146,RRFs!B:B,FALSE)))))","v":""},"","",""]
[null,null,null,null,null,null,null,null,null,null,null,null,null,null,null,null,null,null,"After MeP",{"$f":"IF(Q147=\"\",\"\",IF(OR(S147=\"Solvent\",S147=\"After MeP\"),0,IF(S147=\"\",INDEX(RRFs!E:E,MATCH(\"Triglyme\",RRFs!B:B,FALSE)),INDEX(RRFs!E:E,MATCH(S147,RRFs!B:B,FALSE)))))","v":""},"","","",null,null,null,null,"After MeP",{"$f":"IF(Z147=\"\",\"\",IF(OR(AB147=\"Solvent\",AB147=\"After MeP\"),0,IF(AB147=\"\",INDEX(RRFs!E:E,MATCH(\"Triglyme\",RRFs!B:B,FALSE)),INDEX(RRFs!E:E,MATCH(AB147,RRFs!B:B,FALSE)))))","v":""},"","",""]
[null,null,null,null,null,null,null,null,null,null,null,null,null,null,null,null,null,null,"After MeP",{"$f":"IF(Q148=\"\",\"\",IF(OR(S148=\"Solvent\",S148=\"After MeP\"),0,IF(S148=\"\",INDEX(RRFs!E:E,MATCH(\"Triglyme\",RRFs!B:B,FALSE)),INDEX(RRFs!E:E,MATCH(S148,RRFs!B:B,FALSE)))))","v":""},"","","",null,null,null,null,"After MeP",{"$f":"IF(Z148=\"\",\"\",IF(OR(AB148=\"Solvent\",AB148=\"After MeP\"),0,IF(AB148=\"\",INDEX(RRFs!E:E,MATCH(\"Triglyme\",RRFs!B:B,FALSE)),INDEX(RRFs!E:E,MATCH(AB148,RRFs!B:B,FALSE)))))","v":""},"","",""]
[null,null,null,null,null,null,null,null,null,null,null,null,null,null,null,null,null,null,"After MeP",{"$f":"IF(Q149=\"\",\"\",IF(OR(S149=\"Solvent\",S149=\"After MeP\"),0,IF(S149=\"\",INDEX(RRFs!E:E,MATCH(\"Triglyme\",RRFs!B:B,FALSE)),INDEX(RRFs!E:E,MATCH(S149,RRFs!B:B,FALSE)))))","v":""},"","","",null,null,null,null,"After MeP",{"$f":"IF(Z149=\"\",\"\",IF(OR(AB149=\"Solvent\",AB149=\"After MeP\"),0,IF(AB149=\"\",INDEX(RRFs!E:E,MATCH(\"Triglyme\",RRFs!B:B,FALSE)),INDEX(RRFs!E:E,MATCH(AB149,RRFs!B:B,FALSE)))))","v":""},"","",""]
[null,null,null,null,null,null,null,null,null,null,null,null,null,null,null,null,null,null,"After MeP",{"$f":"IF(Q150=\"\",\"\",IF(OR(S150=\"Solvent\",S150=\"After MeP\"),0,IF(S150=\"\",INDEX(RRFs!E:E,MATCH(\"Triglyme\",RRFs!B:B,FALSE)),INDEX(RRFs!E:E,MATCH(S150,RRFs!B:B,FALSE)))))","v":""},"","","",null,null,null,null,"After MeP",{"$f":"IF(Z150=\"\",\"\",IF(OR(AB150=\"Solvent\",AB150=\"After MeP\"),0,IF(AB150=\"\",INDEX(RRFs!E:E,MATCH(\"Triglyme\",RRFs!B:B,FALSE)),INDEX(RRFs!E:E,MATCH(AB150,RRFs!B:B,FALSE)))))","v":""},"","",""]
[null,null,null,null,null,null,null,null,null,null,null,null,null,null,null,null,null,null,"After MeP",{"$f":"IF(Q151=\"\",\"\",IF(OR(S151=\"Solvent\",S151=\"After MeP\"),0,IF(S151=\"\",INDEX(RRFs!E:E,MATCH(\"Triglyme\",RRFs!B:B,FALSE)),INDEX(RRFs!E:E,MATCH(S151,RRFs!B:B,FALSE)))))","v":""},"","","",null,null,null,null,"After MeP",{"$f":"IF(Z151=\"\",\"\",IF(OR(AB151=\"Solvent\",AB151=\"After MeP\"),0,IF(AB151=\"\",INDEX(RRFs!E:E,MATCH(\"Triglyme\",RRFs!B:B,FALSE)),INDEX(RRFs!E:E,MATCH(AB151,RRFs!B:B,FALSE)))))","v":""},"","",""]
[null,null,null,null,null,null,null,null,null,null,null,null,null,null,null,null,null,null,"After MeP",{"$f":"IF(Q152=\"\",\"\",IF(OR(S152=\"Solvent\",S152=\"After MeP\"),0,IF(S152=\"\",INDEX(RRFs!E:E,MATCH(\"Triglyme\",RRFs!B:B,FALSE)),INDEX(RRFs!E:E,MATCH(S152,RRFs!B:B,FALSE)))))","v":""},"","","",null,null,null,null,"After MeP",{"$f":"IF(Z152=\"\",\"\",IF(OR(AB152=\"Solvent\",AB152=\"After MeP\"),0,IF(AB152=\"\",INDEX(RRFs!E:E,MATCH(\"Triglyme\",RRFs!B:B,FALSE)),INDEX(RRFs!E:E,MATCH(AB152,RRFs!B:B,FALSE)))))","v":""},"","",""]
[null,null,null,null,null,null,null,null,null,null,null,null,null,null,null,null,null,null,"After MeP",{"$f":"IF(Q153=\"\",\"\",IF(OR(S153=\"Solvent\",S153=\"After MeP\"),0,IF(S153=\"\",INDEX(RRFs!E:E,MATCH(\"Triglyme\",RRFs!B:B,FALSE)),INDEX(RRFs!E:E,MATCH(S153,RRFs!B:B,FALSE)))))","v":""},"","","",null,null,null,null,"After MeP",{"$f":"IF(Z153=\"\",\"\",IF(OR(AB153=\"Solvent\",AB153=\"After MeP\"),0,IF(AB153=\"\",INDEX(RRFs!E:E,MATCH(\"Triglyme\",RRFs!B:B,FALSE)),INDEX(RRFs!E:E,MATCH(AB153,RRFs!B:B,FALSE)))))","v":""},"","",""]
[null,null,null,null,null,null,null,null,null,null,null,null,null,null,null,null,null,null,"After MeP",{"$f":"IF(Q154=\"\",\"\",IF(OR(S154=\"Solvent\",S154=\"After MeP\"),0,IF(S154=\"\",INDEX(RRFs!E:E,MATCH(\"Triglyme\",RRFs!B:B,FALSE)),INDEX(RRFs!E:E,MATCH(S154,RRFs!B:B,FALSE)))))","v":""},"","","",null,null,null,null,"After MeP",{"$f":"IF(Z154=\"\",\"\",IF(OR(AB154=\"Solvent\",AB154=\"After MeP\"),0,IF(AB154=\"\",INDEX(RRFs!E:E,MATCH(\"Triglyme\",RRFs!B:B,FALSE)),INDEX(RRFs!E:E,MATCH(AB154,RRFs!B:B,FALSE)))))","v":""},"","",""]
[null,null,null,null,null,null,null,null,null,null,null,null,null,null,null,null,null,null,"After MeP",{"$f":"IF(Q155=\"\",\"\",IF(OR(S155=\"Solvent\",S155=\"After MeP\"),0,IF(S155=\"\",INDEX(RRFs!E:E,MATCH(\"Triglyme\",RRFs!B:B,FALSE)),INDEX(RRFs!E:E,MATCH(S155,RRFs!B:B,FALSE)))))","v":""},"","","",null,null,null,null,"After MeP",{"$f":"IF(Z155=\"\",\"\",IF(OR(AB155=\"Solvent\",AB155=\"After MeP\"),0,IF(AB155=\"\",INDEX(RRFs!E:E,MATCH(\"Triglyme\",RRFs!B:B,FALSE)),INDEX(RRFs!E:E,MATCH(AB155,RRFs!B:B,FALSE)))))","v":""},"","",""]
[null,null,null,null,null,null,null,null,null,null,null,null,null,null,null,null,null,null,"After MeP",{"$f":"IF(Q156=\"\",\"\",IF(OR(S156=\"Solvent\",S156=\"After MeP\"),0,IF(S156=\"\",INDEX(RRFs!E:E,MATCH(\"Triglyme\",RRFs!B:B,FALSE)),INDEX(RRFs!E:E,MATCH(S156,RRFs!B:B,FALSE)))))","v":""},"","","",null,null,null,null,"After MeP",{"$f":"IF(Z156=\"\",\"\",IF(OR(AB156=\"Solvent\",AB156=\"After MeP\"),0,IF(AB156=\"\",INDEX(RRFs!E:E,MATCH(\"Triglyme\",RRFs!B:B,FALSE)),INDEX(RRFs!E:E,MATCH(AB156,RRFs!B:B,FALSE)))))","v":""},"","",""]
[null,null,null,null,null,null,null,null,null,null,null,null,null,null,null,null,null,null,"After MeP",{"$f":"IF(Q157=\"\",\"\",IF(OR(S157=\"Solvent\",S157=\"After MeP\"),0,IF(S157=\"\",INDEX(RRFs!E:E,MATCH(\"Triglyme\",RRFs!B:B,FALSE)),INDEX(RRFs!E:E,MATCH(S157,RRFs!B:B,FALSE)))))","v":""},"","","",null,null,null,null,"After MeP",{"$f":"IF(Z157=\"\",\"\",IF(OR(AB157=\"Solvent\",AB157=\"After MeP\"),0,IF(AB157=\"\",INDEX(RRFs!E:E,MATCH(\"Triglyme\",RRFs!B:B,FALSE)),INDEX(RRFs!E:E,MATCH(AB157,RRFs!B:B,FALSE)))))","v":""},"","",""]
[null,null,null,null,null,null,null,null,null,null,null,null,null,null,null,null,null,null,"After MeP",{"$f":"IF(Q158=\"\",\"\",IF(OR(S158=\"Solvent\",S158=\"After MeP\"),0,IF(S158=\"\",INDEX(RRFs!E:E,MATCH(\"Triglyme\",RRFs!B:B,FALSE)),INDEX(RRFs!E:E,MATCH(S158,RRFs!B:B,FALSE)))))","v":""},"","","",null,null,null,null,"After MeP",{"$f":"IF(Z158=\"\",\"\",IF(OR(AB158=\"Solvent\",AB158=\"After MeP\"),0,IF(AB158=\"\",INDEX(RRFs!E:E,MATCH(\"Triglyme\",RRFs!B:B,FALSE)),INDEX(RRFs!E:E,MATCH(AB158,RRFs!B:B,FALSE)))))","v":""},"","",""]
[null,null,null,null,null,null,null,null,null,null,null,null,null,null,null,null,null,null,"After MeP",{"$f":"IF(Q159=\"\",\"\",IF(OR(S159=\"Solvent\",S159=\"After MeP\"),0,IF(S159=\"\",INDEX(RRFs!E:E,MATCH(\"Triglyme\",RRFs!B:B,FALSE)),INDEX(RRFs!E:E,MATCH(S159,RRFs!B:B,FALSE)))))","v":""},"","","",null,null,null,null,"After MeP",{"$f":"IF(Z159=\"\",\"\",IF(OR(AB159=\"Solvent\",AB159=\"After MeP\"),0,IF(AB159=\"\",INDEX(RRFs!E:E,MATCH(\"Triglyme\",RRFs!B:B,FALSE)),INDEX(RRFs!E:E,MATCH(AB159,RRFs!B:B,FALSE)))))","v":""},"","",""]
[null,null,null,null,null,null,null,null,null,null,null,null,null,null,null,null,null,null,"After MeP",{"$f":"IF(Q160=\"\",\"\",IF(OR(S160=\"Solvent\",S160=\"After MeP\"),0,IF(S160=\"\",INDEX(RRFs!E:E,MATCH(\"Triglyme\",RRFs!B:B,FALSE)),INDEX(RRFs!E:E,MATCH(S160,RRFs!B:B,FALSE)))))","v":""},"","","",null,null,null,null,"After MeP",{"$f":"IF(Z160=\"\",\"\",IF(OR(AB160=\"Solvent\",AB160=\"After MeP\"),0,IF(AB160=\"\",INDEX(RRFs!E:E,MATCH(\"Triglyme\",RRFs!B:B,FALSE)),INDEX(RRFs!E:E,MATCH(AB160,RRFs!B:B,FALSE)))))","v":""},"","",""]
[null,null,null,null,null,null,null,null,null,null,null,null,null,null,null,null,null,null,"After MeP",{"$f":"IF(Q161=\"\",\"\",IF(OR(S161=\"Solvent\",S161=\"After MeP\"),0,IF(S161=\"\",INDEX(RRFs!E:E,MATCH(\"Triglyme\",RRFs!B:B,FALSE)),INDEX(RRFs!E:E,MATCH(S161,RRFs!B:B,FALSE)))))","v":""},"","","",null,null,null,null,"After MeP",{"$f":"IF(Z161=\"\",\"\",IF(OR(AB161=\"Solvent\",AB161=\"After MeP\"),0,IF(AB161=\"\",INDEX(RRFs!E:E,MATCH(\"Triglyme\",RRFs!B:B,FALSE)),INDEX(RRFs!E:E,MATCH(AB161,RRFs!B:B,FALSE)))))","v":""},"","",""]
[null,null,null,null,null,null,null,null,null,null,null,null,null,null,null,null,null,null,"After MeP",{"$f":"IF(Q162=\"\",\"\",IF(OR(S162=\"Solvent\",S162=\"After MeP\"),0,IF(S162=\"\",INDEX(RRFs!E:E,MATCH(\"Triglyme\",RRFs!B:B,FALSE)),INDEX(RRFs!E:E,MATCH(S162,RRFs!B:B,FALSE)))))","v":""},"","","",null,null,null,null,"After MeP",{"$f":"IF(Z162=\"\",\"\",IF(OR(AB162=\"Solvent\",AB162=\"After MeP\"),0,IF(AB162=\"\",INDEX(RRFs!E:E,MATCH(\"Triglyme\",RRFs!B:B,FALSE)),INDEX(RRFs!E:E,MATCH(AB162,RRFs!B:B,FALSE)))))","v":""},"","",""]
[null,null,null,null,null,null,null,null,null,null,null,null,null,null,null,null,null,null,"After MeP",{"$f":"IF(Q163=\"\",\"\",IF(OR(S163=\"Solvent\",S163=\"After MeP\"),0,IF(S163=\"\",INDEX(RRFs!E:E,MATCH(\"Triglyme\",RRFs!B:B,FALSE)),INDEX(RRFs!E:E,MATCH(S163,RRFs!B:B,FALSE)))))","v":""},"","","",null,null,null,null,"After MeP",{"$f":"IF(Z163=\"\",\"\",IF(OR(AB163=\"Solvent\",AB163=\"After MeP\"),0,IF(AB163=\"\",INDEX(RRFs!E:E,MATCH(\"Triglyme\",RRFs!B:B,FALSE)),INDEX(RRFs!E:E,MATCH(AB163,RRFs!B:B,FALSE)))))","v":""},"","",""]
[null,null,null,null,null,null,null,null,null,null,null,null,null,null,null,null,null,null,"After MeP",{"$f":"IF(Q164=\"\",\"\",IF(OR(S164=\"Solvent\",S164=\"After MeP\"),0,IF(S164=\"\",INDEX(RRFs!E:E,MATCH(\"Triglyme\",RRFs!B:B,FALSE)),INDEX(RRFs!E:E,MATCH(S164,RRFs!B:B,FALSE)))))","v":""},"","","",null,null,null,null,"After MeP",{"$f":"IF(Z164=\"\",\"\",IF(OR(AB164=\"Solvent\",AB164=\"After MeP\"),0,IF(AB164=\"\",INDEX(RRFs!E:E,MATCH(\"Triglyme\",RRFs!B:B,FALSE)),INDEX(RRFs!E:E,MATCH(AB164,RRFs!B:B,FALSE)))))","v":""},"","",""]
[null,null,null,null,null,null,null,null,null,null,null,null,null,null,null,null,null,null,"After MeP",{"$f":"IF(Q165=\"\",\"\",IF(OR(S165=\"Solvent\",S165=\"After MeP\"),0,IF(S165=\"\",INDEX(RRFs!E:E,MATCH(\"Triglyme\",RRFs!B:B,FALSE)),INDEX(RRFs!E:E,MATCH(S165,RRFs!B:B,FALSE)))))","v":""},{"$f":"IF(Q165=\"\",\"\",IF(T165=0,0,IF(S165=\"EGDE\",R165/T165,R165/INDEX(R:R,MATCH(\"EGDE\",S:S,FALSE)) *INDEX($F$29:$F$38,MATCH(\"EGDE\",$C$29:$C$38,FALSE))/T165)))","v":""},"","",null,null,null,null,"After MeP",{"$f":"IF(Z165=\"\",\"\",IF(OR(AB165=\"Solvent\",AB165=\"After MeP\"),0,IF(AB165=\"\",INDEX(RRFs!E:E,MATCH(\"Triglyme\",RRFs!B:B,FALSE)),INDEX(RRFs!E:E,MATCH(AB165,RRFs!B:B,FALSE)))))","v":""},{"$f":"IF(Z165=\"\",\"\",IF(AC165=0,0,IF(AB165=\"EGDE\",AA165/AC165,AA165/INDEX(AA:AA,MATCH(\"EGDE\",AB:AB,FALSE)) *INDEX($F$29:$F$38,MATCH(\"EGDE\",$C$29:$C$38,FALSE))/AC165)))","v":""},"",""]
[null,null,null,null,null,null,null,null,null,null,null,null,null,null,null,null,null,null,"After MeP",{"$f":"IF(Q166=\"\",\"\",IF(OR(S166=\"Solvent\",S166=\"After MeP\"),0,IF(S166=\"\",INDEX(RRFs!E:E,MATCH(\"Triglyme\",RRFs!B:B,FALSE)),INDEX(RRFs!E:E,MATCH(S166,RRFs!B:B,FALSE)))))","v":""},"","","",null,null,null,null,"After MeP",{"$f":"IF(Z166=\"\",\"\",IF(OR(AB166=\"Solvent\",AB166=\"After MeP\"),0,IF(AB166=\"\",INDEX(RRFs!E:E,MATCH(\"Triglyme\",RRFs!B:B,FALSE)),INDEX(RRFs!E:E,MATCH(AB166,RRFs!B:B,FALSE)))))","v":""},"","",""]
[null,null,null,null,null,null,null,null,null,null,null,null,null,null,null,null,null,null,"After MeP",{"$f":"IF(Q167=\"\",\"\",IF(OR(S167=\"Solvent\",S167=\"After MeP\"),0,IF(S167=\"\",INDEX(RRFs!E:E,MATCH(\"Triglyme\",RRFs!B:B,FALSE)),INDEX(RRFs!E:E,MATCH(S167,RRFs!B:B,FALSE)))))","v":""},"","","",null,null,null,null,"After MeP",{"$f":"IF(Z167=\"\",\"\",IF(OR(AB167=\"Solvent\",AB167=\"After MeP\"),0,IF(AB167=\"\",INDEX(RRFs!E:E,MATCH(\"Triglyme\",RRFs!B:B,FALSE)),INDEX(RRFs!E:E,MATCH(AB167,RRFs!B:B,FALSE)))))","v":""},"","",""]
[null,null,null,null,null,null,null,null,null,null,null,null,null,null,null,null,null,null,"After MeP",{"$f":"IF(Q168=\"\",\"\",IF(OR(S168=\"Solvent\",S168=\"After MeP\"),0,IF(S168=\"\",INDEX(RRFs!E:E,MATCH(\"Triglyme\",RRFs!B:B,FALSE)),INDEX(RRFs!E:E,MATCH(S168,RRFs!B:B,FALSE)))))","v":""},"","","",null,null,null,null,"After MeP",{"$f":"IF(Z168=\"\",\"\",IF(OR(AB168=\"Solvent\",AB168=\"After MeP\"),0,IF(AB168=\"\",INDEX(RRFs!E:E,MATCH(\"Triglyme\",RRFs!B:B,FALSE)),INDEX(RRFs!E:E,MATCH(AB168,RRFs!B:B,FALSE)))))","v":""},"","",""]
[null,null,null,null,null,null,null,null,null,null,null,null,null,null,null,null,null,null,"After MeP",{"$f":"IF(Q169=\"\",\"\",IF(OR(S169=\"Solvent\",S169=\"After MeP\"),0,IF(S169=\"\",INDEX(RRFs!E:E,MATCH(\"Triglyme\",RRFs!B:B,FALSE)),INDEX(RRFs!E:E,MATCH(S169,RRFs!B:B,FALSE)))))","v":""},"","","",null,null,null,null,"After MeP",{"$f":"IF(Z169=\"\",\"\",IF(OR(AB169=\"Solvent\",AB169=\"After MeP\"),0,IF(AB169=\"\",INDEX(RRFs!E:E,MATCH(\"Triglyme\",RRFs!B:B,FALSE)),INDEX(RRFs!E:E,MATCH(AB169,RRFs!B:B,FALSE)))))","v":""},"","",""]
[null,null,null,null,null,null,null,null,null,null,null,null,null,null,null,null,null,null,"After MeP",{"$f":"IF(Q170=\"\",\"\",IF(OR(S170=\"Solvent\",S170=\"After MeP\"),0,IF(S170=\"\",INDEX(RRFs!E:E,MATCH(\"Triglyme\",RRFs!B:B,FALSE)),INDEX(RRFs!E:E,MATCH(S170,RRFs!B:B,FALSE)))))","v":""},"","","",null,null,null,null,"After MeP",{"$f":"IF(Z170=\"\",\"\",IF(OR(AB170=\"Solvent\",AB170=\"After MeP\"),0,IF(AB170=\"\",INDEX(RRFs!E:E,MATCH(\"Triglyme\",RRFs!B:B,FALSE)),INDEX(RRFs!E:E,MATCH(AB170,RRFs!B:B,FALSE)))))","v":""},"","",""]
[null,null,null,null,null,null,null,null,null,null,null,null,null,null,null,null,null,null,"After MeP",{"$f":"IF(Q171=\"\",\"\",IF(OR(S171=\"Solvent\",S171=\"After MeP\"),0,IF(S171=\"\",INDEX(RRFs!E:E,MATCH(\"Triglyme\",RRFs!B:B,FALSE)),INDEX(RRFs!E:E,MATCH(S171,RRFs!B:B,FALSE)))))","v":""},"","","",null,null,null,null,"After MeP",{"$f":"IF(Z171=\"\",\"\",IF(OR(AB171=\"Solvent\",AB171=\"After MeP\"),0,IF(AB171=\"\",INDEX(RRFs!E:E,MATCH(\"Triglyme\",RRFs!B:B,FALSE)),INDEX(RRFs!E:E,MATCH(AB171,RRFs!B:B,FALSE)))))","v":""},"","",""]
[null,null,null,null,null,null,null,null,null,null,null,null,null,null,null,null,null,null,"After MeP",{"$f":"IF(Q172=\"\",\"\",IF(OR(S172=\"Solvent\",S172=\"After MeP\"),0,IF(S172=\"\",INDEX(RRFs!E:E,MATCH(\"Triglyme\",RRFs!B:B,FALSE)),INDEX(RRFs!E:E,MATCH(S172,RRFs!B:B,FALSE)))))","v":""},"","","",null,null,null,null,"After MeP",{"$f":"IF(Z172=\"\",\"\",IF(OR(AB172=\"Solvent\",AB172=\"After MeP\"),0,IF(AB172=\"\",INDEX(RRFs!E:E,MATCH(\"Triglyme\",RRFs!B:B,FALSE)),INDEX(RRFs!E:E,MATCH(AB172,RRFs!B:B,FALSE)))))","v":""},"","",""]
[null,null,null,null,null,null,null,null,null,null,null,null,null,null,null,null,null,null,"After MeP",{"$f":"IF(Q173=\"\",\"\",IF(OR(S173=\"Solvent\",S173=\"After MeP\"),0,IF(S173=\"\",INDEX(RRFs!E:E,MATCH(\"Triglyme\",RRFs!B:B,FALSE)),INDEX(RRFs!E:E,MATCH(S173,RRFs!B:B,FALSE)))))","v":""},"","","",null,null,null,null,"After MeP",{"$f":"IF(Z173=\"\",\"\",IF(OR(AB173=\"Solvent\",AB173=\"After MeP\"),0,IF(AB173=\"\",INDEX(RRFs!E:E,MATCH(\"Triglyme\",RRFs!B:B,FALSE)),INDEX(RRFs!E:E,MATCH(AB173,RRFs!B:B,FALSE)))))","v":""},"","",""]
[null,null,null,null,null,null,null,null,null,null,null,null,null,null,null,null,null,null,"After MeP",{"$f":"IF(Q174=\"\",\"\",IF(OR(S174=\"Solvent\",S174=\"After MeP\"),0,IF(S174=\"\",INDEX(RRFs!E:E,MATCH(\"Triglyme\",RRFs!B:B,FALSE)),INDEX(RRFs!E:E,MATCH(S174,RRFs!B:B,FALSE)))))","v":""},"","","",null,null,null,null,"After MeP",{"$f":"IF(Z174=\"\",\"\",IF(OR(AB174=\"Solvent\",AB174=\"After MeP\"),0,IF(AB174=\"\",INDEX(RRFs!E:E,MATCH(\"Triglyme\",RRFs!B:B,FALSE)),INDEX(RRFs!E:E,MATCH(AB174,RRFs!B:B,FALSE)))))","v":""},"","",""]
[null,null,null,null,null,null,null,null,null,null,null,null,null,null,null,null,null,null,"After MeP",{"$f":"IF(Q175=\"\",\"\",IF(OR(S175=\"Solvent\",S175=\"After MeP\"),0,IF(S175=\"\",INDEX(RRFs!E:E,MATCH(\"Triglyme\",RRFs!B:B,FALSE)),INDEX(RRFs!E:E,MATCH(S175,RRFs!B:B,FALSE)))))","v":""},"","","",null,null,null,null,"After MeP",{"$f":"IF(Z175=\"\",\"\",IF(OR(AB175=\"Solvent\",AB175=\"After MeP\"),0,IF(AB175=\"\",INDEX(RRFs!E:E,MATCH(\"Triglyme\",RRFs!B:B,FALSE)),INDEX(RRFs!E:E,MATCH(AB175,RRFs!B:B,FALSE)))))","v":""},"","",""]
[null,null,null,null,null,null,null,null,null,null,null,null,null,null,null,null,null,null,"After MeP",{"$f":"IF(Q176=\"\",\"\",IF(OR(S176=\"Solvent\",S176=\"After MeP\"),0,IF(S176=\"\",INDEX(RRFs!E:E,MATCH(\"Triglyme\",RRFs!B:B,FALSE)),INDEX(RRFs!E:E,MATCH(S176,RRFs!B:B,FALSE)))))","v":""},"","","",null,null,null,null,"After MeP",{"$f":"IF(Z176=\"\",\"\",IF(OR(AB176=\"Solvent\",AB176=\"After MeP\"),0,IF(AB176=\"\",INDEX(RRFs!E:E,MATCH(\"Triglyme\",RRFs!B:B,FALSE)),INDEX(RRFs!E:E,MATCH(AB176,RRFs!B:B,FALSE)))))","v":""},"","",""]
[null,null,null,null,null,null,null,null,null,null,null,null,null,null,null,null,null,null,"After MeP",{"$f":"IF(Q177=\"\",\"\",IF(OR(S177=\"Solvent\",S177=\"After MeP\"),0,IF(S177=\"\",INDEX(RRFs!E:E,MATCH(\"Triglyme\",RRFs!B:B,FALSE)),INDEX(RRFs!E:E,MATCH(S177,RRFs!B:B,FALSE)))))","v":""},"","","",null,null,null,null,"After MeP",{"$f":"IF(Z177=\"\",\"\",IF(OR(AB177=\"Solvent\",AB177=\"After MeP\"),0,IF(AB177=\"\",INDEX(RRFs!E:E,MATCH(\"Triglyme\",RRFs!B:B,FALSE)),INDEX(RRFs!E:E,MATCH(AB177,RRFs!B:B,FALSE)))))","v":""},"","",""]
[null,null,null,null,null,null,null,null,null,null,null,null,null,null,null,null,null,null,"After MeP",{"$f":"IF(Q178=\"\",\"\",IF(OR(S178=\"Solvent\",S178=\"After MeP\"),0,IF(S178=\"\",INDEX(RRFs!E:E,MATCH(\"Triglyme\",RRFs!B:B,FALSE)),INDEX(RRFs!E:E,MATCH(S178,RRFs!B:B,FALSE)))))","v":""},"","","",null,null,null,null,"After MeP",{"$f":"IF(Z178=\"\",\"\",IF(OR(AB178=\"Solvent\",AB178=\"After MeP\"),0,IF(AB178=\"\",INDEX(RRFs!E:E,MATCH(\"Triglyme\",RRFs!B:B,FALSE)),INDEX(RRFs!E:E,MATCH(AB178,RRFs!B:B,FALSE)))))","v":""},"","",""]
[null,null,null,null,null,null,null,null,null,null,null,null,null,null,null,null,null,null,"After MeP",{"$f":"IF(Q179=\"\",\"\",IF(OR(S179=\"Solvent\",S179=\"After MeP\"),0,IF(S179=\"\",INDEX(RRFs!E:E,MATCH(\"Triglyme\",RRFs!B:B,FALSE)),INDEX(RRFs!E:E,MATCH(S179,RRFs!B:B,FALSE)))))","v":""},"","","",null,null,null,null,"After MeP",{"$f":"IF(Z179=\"\",\"\",IF(OR(AB179=\"Solvent\",AB179=\"After MeP\"),0,IF(AB179=\"\",INDEX(RRFs!E:E,MATCH(\"Triglyme\",RRFs!B:B,FALSE)),INDEX(RRFs!E:E,MATCH(AB179,RRFs!B:B,FALSE)))))","v":""},"","",""]
[null,null,null,null,null,null,null,null,null,null,null,null,null,null,null,null,null,null,"After MeP",{"$f":"IF(Q180=\"\",\"\",IF(OR(S180=\"Solvent\",S180=\"After MeP\"),0,IF(S180=\"\",INDEX(RRFs!E:E,MATCH(\"Triglyme\",RRFs!B:B,FALSE)),INDEX(RRFs!E:E,MATCH(S180,RRFs!B:B,FALSE)))))","v":""},"","","",null,null,null,null,"After MeP",{"$f":"IF(Z180=\"\",\"\",IF(OR(AB180=\"Solvent\",AB180=\"After MeP\"),0,IF(AB180=\"\",INDEX(RRFs!E:E,MATCH(\"Triglyme\",RRFs!B:B,FALSE)),INDEX(RRFs!E:E,MATCH(AB180,RRFs!B:B,FALSE)))))","v":""},"","",""]
[null,null,null,null,null,null,null,null,null,null,null,null,null,null,null,null,null,null,"After MeP",{"$f":"IF(Q181=\"\",\"\",IF(OR(S181=\"Solvent\",S181=\"After MeP\"),0,IF(S181=\"\",INDEX(RRFs!E:E,MATCH(\"Triglyme\",RRFs!B:B,FALSE)),INDEX(RRFs!E:E,MATCH(S181,RRFs!B:B,FALSE)))))","v":""},"","","",null,null,null,null,"After MeP",{"$f":"IF(Z181=\"\",\"\",IF(OR(AB181=\"Solvent\",AB181=\"After MeP\"),0,IF(AB181=\"\",INDEX(RRFs!E:E,MATCH(\"Triglyme\",RRFs!B:B,FALSE)),INDEX(RRFs!E:E,MATCH(AB181,RRFs!B:B,FALSE)))))","v":""},"","",""]
[null,null,null,null,null,null,null,null,null,null,null,null,null,null,null,null,null,null,"After MeP",{"$f":"IF(Q182=\"\",\"\",IF(OR(S182=\"Solvent\",S182=\"After MeP\"),0,IF(S182=\"\",INDEX(RRFs!E:E,MATCH(\"Triglyme\",RRFs!B:B,FALSE)),INDEX(RRFs!E:E,MATCH(S182,RRFs!B:B,FALSE)))))","v":""},"","","",null,null,null,null,"After MeP",{"$f":"IF(Z182=\"\",\"\",IF(OR(AB182=\"Solvent\",AB182=\"After MeP\"),0,IF(AB182=\"\",INDEX(RRFs!E:E,MATCH(\"Triglyme\",RRFs!B:B,FALSE)),INDEX(RRFs!E:E,MATCH(AB182,RRFs!B:B,FALSE)))))","v":""},"","",""]
[null,null,null,null,null,null,null,null,null,null,null,null,null,null,null,null,null,null,"After MeP",{"$f":"IF(Q183=\"\",\"\",IF(OR(S183=\"Solvent\",S183=\"After MeP\"),0,IF(S183=\"\",INDEX(RRFs!E:E,MATCH(\"Triglyme\",RRFs!B:B,FALSE)),INDEX(RRFs!E:E,MATCH(S183,RRFs!B:B,FALSE)))))","v":""},"","","",null,null,null,null,"After MeP",{"$f":"IF(Z183=\"\",\"\",IF(OR(AB183=\"Solvent\",AB183=\"After MeP\"),0,IF(AB183=\"\",INDEX(RRFs!E:E,MATCH(\"Triglyme\",RRFs!B:B,FALSE)),INDEX(RRFs!E:E,MATCH(AB183,RRFs!B:B,FALSE)))))","v":""},"","",""]
[null,null,null,null,null,null,null,null,null,null,null,null,null,null,null,null,null,null,"After MeP",{"$f":"IF(Q184=\"\",\"\",IF(OR(S184=\"Solvent\",S184=\"After MeP\"),0,IF(S184=\"\",INDEX(RRFs!E:E,MATCH(\"Triglyme\",RRFs!B:B,FALSE)),INDEX(RRFs!E:E,MATCH(S184,RRFs!B:B,FALSE)))))","v":""},"","","",null,null,null,null,"After MeP",{"$f":"IF(Z184=\"\",\"\",IF(OR(AB184=\"Solvent\",AB184=\"After MeP\"),0,IF(AB184=\"\",INDEX(RRFs!E:E,MATCH(\"Triglyme\",RRFs!B:B,FALSE)),INDEX(RRFs!E:E,MATCH(AB184,RRFs!B:B,FALSE)))))","v":""},"","",""]
[null,null,null,null,null,null,null,null,null,null,null,null,null,null,null,null,null,null,"After MeP",{"$f":"IF(Q185=\"\",\"\",IF(OR(S185=\"Solvent\",S185=\"After MeP\"),0,IF(S185=\"\",INDEX(RRFs!E:E,MATCH(\"Triglyme\",RRFs!B:B,FALSE)),INDEX(RRFs!E:E,MATCH(S185,RRFs!B:B,FALSE)))))","v":""},"","","",null,null,null,null,"After MeP",{"$f":"IF(Z185=\"\",\"\",IF(OR(AB185=\"Solvent\",AB185=\"After MeP\"),0,IF(AB185=\"\",INDEX(RRFs!E:E,MATCH(\"Triglyme\",RRFs!B:B,FALSE)),INDEX(RRFs!E:E,MATCH(AB185,RRFs!B:B,FALSE)))))","v":""},"","",""]
[null,null,null,null,null,null,null,null,null,null,null,null,null,null,null,null,null,null,"After MeP",{"$f":"IF(Q186=\"\",\"\",IF(OR(S186=\"Solvent\",S186=\"After MeP\"),0,IF(S186=\"\",INDEX(RRFs!E:E,MATCH(\"Triglyme\",RRFs!B:B,FALSE)),INDEX(RRFs!E:E,MATCH(S186,RRFs!B:B,FALSE)))))","v":""},"","","",null,null,null,null,"After MeP",{"$f":"IF(Z186=\"\",\"\",IF(OR(AB186=\"Solvent\",AB186=\"After MeP\"),0,IF(AB186=\"\",INDEX(RRFs!E:E,MATCH(\"Triglyme\",RRFs!B:B,FALSE)),INDEX(RRFs!E:E,MATCH(AB186,RRFs!B:B,FALSE)))))","v":""},"","",""]
[null,null,null,null,null,null,null,null,null,null,null,null,null,null,null,null,null,null,"After MeP",{"$f":"IF(Q187=\"\",\"\",IF(OR(S187=\"Solvent\",S187=\"After MeP\"),0,IF(S187=\"\",INDEX(RRFs!E:E,MATCH(\"Triglyme\",RRFs!B:B,FALSE)),INDEX(RRFs!E:E,MATCH(S187,RRFs!B:B,FALSE)))))","v":""},"","","",null,null,null,null,"After MeP",{"$f":"IF(Z187=\"\",\"\",IF(OR(AB187=\"Solvent\",AB187=\"After MeP\"),0,IF(AB187=\"\",INDEX(RRFs!E:E,MATCH(\"Triglyme\",RRFs!B:B,FALSE)),INDEX(RRFs!E:E,MATCH(AB187,RRFs!B:B,FALSE)))))","v":""},"","",""]
[null,null,null,null,null,null,null,null,null,null,null,null,null,null,null,null,null,null,"After MeP",{"$f":"IF(Q188=\"\",\"\",IF(OR(S188=\"Solvent\",S188=\"After MeP\"),0,IF(S188=\"\",INDEX(RRFs!E:E,MATCH(\"Triglyme\",RRFs!B:B,FALSE)),INDEX(RRFs!E:E,MATCH(S188,RRFs!B:B,FALSE)))))","v":""},"","","",null,null,null,null,"After MeP",{"$f":"IF(Z188=\"\",\"\",IF(OR(AB188=\"Solvent\",AB188=\"After MeP\"),0,IF(AB188=\"\",INDEX(RRFs!E:E,MATCH(\"Triglyme\",RRFs!B:B,FALSE)),INDEX(RRFs!E:E,MATCH(AB188,RRFs!B:B,FALSE)))))","v":""},"","",""]
[null,null,null,null,null,null,null,null,null,null,null,null,null,null,null,null,null,null,"After MeP",{"$f":"IF(Q189=\"\",\"\",IF(OR(S189=\"Solvent\",S189=\"After MeP\"),0,IF(S189=\"\",INDEX(RRFs!E:E,MATCH(\"Triglyme\",RRFs!B:B,FALSE)),INDEX(RRFs!E:E,MATCH(S189,RRFs!B:B,FALSE)))))","v":""},"","","",null,null,null,null,"After MeP",{"$f":"IF(Z189=\"\",\"\",IF(OR(AB189=\"Solvent\",AB189=\"After MeP\"),0,IF(AB189=\"\",INDEX(RRFs!E:E,MATCH(\"Triglyme\",RRFs!B:B,FALSE)),INDEX(RRFs!E:E,MATCH(AB189,RRFs!B:B,FALSE)))))","v":""},"","",""]
[null,null,null,null,null,null,null,null,null,null,null,null,null,null,null,null,null,null,"After MeP",{"$f":"IF(Q190=\"\",\"\",IF(OR(S190=\"Solvent\",S190=\"After MeP\"),0,IF(S190=\"\",INDEX(RRFs!E:E,MATCH(\"Triglyme\",RRFs!B:B,FALSE)),INDEX(RRFs!E:E,MATCH(S190,RRFs!B:B,FALSE)))))","v":""},"","","",null,null,null,null,"After MeP",{"$f":"IF(Z190=\"\",\"\",IF(OR(AB190=\"Solvent\",AB190=\"After MeP\"),0,IF(AB190=\"\",INDEX(RRFs!E:E,MATCH(\"Triglyme\",RRFs!B:B,FALSE)),INDEX(RRFs!E:E,MATCH(AB190,RRFs!B:B,FALSE)))))","v":""},"","",""]
[null,null,null,null,null,null,null,null,null,null,null,null,null,null,null,null,null,null,"After MeP",{"$f":"IF(Q191=\"\",\"\",IF(OR(S191=\"Solvent\",S191=\"After MeP\"),0,IF(S191=\"\",INDEX(RRFs!E:E,MATCH(\"Triglyme\",RRFs!B:B,FALSE)),INDEX(RRFs!E:E,MATCH(S191,RRFs!B:B,FALSE)))))","v":""},"","","",null,null,null,null,"After MeP",{"$f":"IF(Z191=\"\",\"\",IF(OR(AB191=\"Solvent\",AB191=\"After MeP\"),0,IF(AB191=\"\",INDEX(RRFs!E:E,MATCH(\"Triglyme\",RRFs!B:B,FALSE)),INDEX(RRFs!E:E,MATCH(AB191,RRFs!B:B,FALSE)))))","v":""},"","",""]
[null,null,null,null,null,null,null,null,null,null,null,null,null,null,null,null,null,null,"After MeP",{"$f":"IF(Q192=\"\",\"\",IF(OR(S192=\"Solvent\",S192=\"After MeP\"),0,IF(S192=\"\",INDEX(RRFs!E:E,MATCH(\"Triglyme\",RRFs!B:B,FALSE)),INDEX(RRFs!E:E,MATCH(S192,RRFs!B:B,FALSE)))))","v":""},"","","",null,null,null,null,"After MeP",{"$f":"IF(Z192=\"\",\"\",IF(OR(AB192=\"Solvent\",AB192=\"After MeP\"),0,IF(AB192=\"\",INDEX(RRFs!E:E,MATCH(\"Triglyme\",RRFs!B:B,FALSE)),INDEX(RRFs!E:E,MATCH(AB192,RRFs!B:B,FALSE)))))","v":""},"","",""]
[null,null,null,null,null,null,null,null,null,null,null,null,null,null,null,null,null,null,"After MeP",{"$f":"IF(Q193=\"\",\"\",IF(OR(S193=\"Solvent\",S193=\"After MeP\"),0,IF(S193=\"\",INDEX(RRFs!E:E,MATCH(\"Triglyme\",RRFs!B:B,FALSE)),INDEX(RRFs!E:E,MATCH(S193,RRFs!B:B,FALSE)))))","v":""},"","","",null,null,null,null,"After MeP",{"$f":"IF(Z193=\"\",\"\",IF(OR(AB193=\"Solvent\",AB193=\"After MeP\"),0,IF(AB193=\"\",INDEX(RRFs!E:E,MATCH(\"Triglyme\",RRFs!B:B,FALSE)),INDEX(RRFs!E:E,MATCH(AB193,RRFs!B:B,FALSE)))))","v":""},"","",""]
[null,null,null,null,null,null,null,null,null,null,null,null,null,null,null,null,null,null,"After MeP",{"$f":"IF(Q194=\"\",\"\",IF(OR(S194=\"Solvent\",S194=\"After MeP\"),0,IF(S194=\"\",INDEX(RRFs!E:E,MATCH(\"Triglyme\",RRFs!B:B,FALSE)),INDEX(RRFs!E:E,MATCH(S194,RRFs!B:B,FALSE)))))","v":""},"","","",null,null,null,null,"After MeP",{"$f":"IF(Z194=\"\",\"\",IF(OR(AB194=\"Solvent\",AB194=\"After MeP\"),0,IF(AB194=\"\",INDEX(RRFs!E:E,MATCH(\"Triglyme\",RRFs!B:B,FALSE)),INDEX(RRFs!E:E,MATCH(AB194,RRFs!B:B,FALSE)))))","v":""},"","",""]
[null,null,null,null,null,null,null,null,null,null,null,null,null,null,null,null,null,null,"After MeP",{"$f":"IF(Q195=\"\",\"\",IF(OR(S195=\"Solvent\",S195=\"After MeP\"),0,IF(S195=\"\",INDEX(RRFs!E:E,MATCH(\"Triglyme\",RRFs!B:B,FALSE)),INDEX(RRFs!E:E,MATCH(S195,RRFs!B:B,FALSE)))))","v":""},"","","",null,null,null,null,"After MeP",{"$f":"IF(Z195=\"\",\"\",IF(OR(AB195=\"Solvent\",AB195=\"After MeP\"),0,IF(AB195=\"\",INDEX(RRFs!E:E,MATCH(\"Triglyme\",RRFs!B:B,FALSE)),INDEX(RRFs!E:E,MATCH(AB195,RRFs!B:B,FALSE)))))","v":""},"","",""]
[null,null,null,null,null,null,null,null,null,null,null,null,null,null,null,null,null,null,"After MeP",{"$f":"IF(Q196=\"\",\"\",IF(OR(S196=\"Solvent\",S196=\"After MeP\"),0,IF(S196=\"\",INDEX(RRFs!E:E,MATCH(\"Triglyme\",RRFs!B:B,FALSE)),INDEX(RRFs!E:E,MATCH(S196,RRFs!B:B,FALSE)))))","v":""},"","","",null,null,null,null,"After MeP",{"$f":"IF(Z196=\"\",\"\",IF(OR(AB196=\"Solvent\",AB196=\"After MeP\"),0,IF(AB196=\"\",INDEX(RRFs!E:E,MATCH(\"Triglyme\",RRFs!B:B,FALSE)),INDEX(RRFs!E:E,MATCH(AB196,RRFs!B:B,FALSE)))))","v":""},"","",""]
[null,null,null,null,null,null,null,null,null,null,null,null,null,null,null,null,null,null,{"$f":"IF(Q197>=$E$41,\"After MeP\",\"\")","v":"After MeP"},{"$f":"IF(Q197=\"\",\"\",IF(OR(S197=\"Solvent\",S197=\"After MeP\"),0,IF(S197=\"\",INDEX(RRFs!E:E,MATCH(\"Triglyme\",RRFs!B:B,FALSE)),INDEX(RRFs!E:E,MATCH(S197,RRFs!B:B,FALSE)))))","v":""},{"$f":"IF(Q197=\"\",\"\",IF(T197=0,0,IF(S197=\"EGDE\",R197/T197,R197/INDEX(R:R,MATCH(\"EGDE\",S:S,FALSE)) *INDEX($F$29:$F$38,MATCH(\"EGDE\",$C$29:$C$38,FALSE))/T197)))","v":""},"","",null,null,null,null,{"$f":"IF(Z197>=$E$41,\"After MeP\",\"\")","v":"After MeP"},{"$f":"IF(Z197=\"\",\"\",IF(OR(AB197=\"Solvent\",AB197=\"After MeP\"),0,IF(AB197=\"\",INDEX(RRFs!E:E,MATCH(\"Triglyme\",RRFs!B:B,FALSE)),INDEX(RRFs!E:E,MATCH(AB197,RRFs!B:B,FALSE)))))","v":""},{"$f":"IF(Z197=\"\",\"\",IF(AC197=0,0,IF(AB197=\"EGDE\",AA197/AC197,AA197/INDEX(AA:AA,MATCH(\"EGDE\",AB:AB,FALSE)) *INDEX($F$29:$F$38,MATCH(\"EGDE\",$C$29:$C$38,FALSE))/AC197)))","v":""},"",""]
[null,null,null,null,null,null,null,null,null,null,null,null,null,null,null,null,null,null,"After MeP",{"$f":"IF(Q198=\"\",\"\",IF(OR(S198=\"Solvent\",S198=\"After MeP\"),0,IF(S198=\"\",INDEX(RRFs!E:E,MATCH(\"Triglyme\",RRFs!B:B,FALSE)),INDEX(RRFs!E:E,MATCH(S198,RRFs!B:B,FALSE)))))","v":""},"",{"$f":"IF(Q198=\"\",\"\",IF(OR(S198=\"Heptane\",S198=\"IPA\",S198=\"Triglyme\",S198=\"DIIBA\",S198=\"EGDE\"),\"\",U198*($D$26/(LARGE($F$16:$F$21,1)*($E$32-$E$31)))*$D$4))","v":""},{"$f":"IF(V198=\"\",\"\",IF(AND(V198>1,S198=\"\"),\"Yes\",\"\"))","v":""},null,null,null,null,"After MeP",{"$f":"IF(Z198=\"\",\"\",IF(OR(AB198=\"Solvent\",AB198=\"After MeP\"),0,IF(AB198=\"\",INDEX(RRFs!E:E,MATCH(\"Triglyme\",RRFs!B:B,FALSE)),INDEX(RRFs!E:E,MATCH(AB198,RRFs!B:B,FALSE)))))","v":""},"",{"$f":"IF(Z198=\"\",\"\",IF(OR(AB198=\"Heptane\",AB198=\"IPA\",AB198=\"Triglyme\",AB198=\"DIIBA\",AB198=\"EGDE\"),\"\",AD198*($D$26/((LARGE($F$16:$F$21,1)*($E$32-$E$31)))*$D$4)))","v":""},{"$f":"IF(AE198=\"\",\"\",IF(AND(AE198>1,AB198=\"\"),\"Yes\",\"\"))","v":""}]
[null,null,null,null,null,null,null,null,null,null,null,null,null,null,null,null,null,null,"After MeP",{"$f":"IF(Q199=\"\",\"\",IF(OR(S199=\"Solvent\",S199=\"After MeP\"),0,IF(S199=\"\",INDEX(RRFs!E:E,MATCH(\"Triglyme\",RRFs!B:B,FALSE)),INDEX(RRFs!E:E,MATCH(S199,RRFs!B:B,FALSE)))))","v":""},"","","",null,null,null,null,"After MeP",{"$f":"IF(Z199=\"\",\"\",IF(OR(AB199=\"Solvent\",AB199=\"After MeP\"),0,IF(AB199=\"\",INDEX(RRFs!E:E,MATCH(\"Triglyme\",RRFs!B:B,FALSE)),INDEX(RRFs!E:E,MATCH(AB199,RRFs!B:B,FALSE)))))","v":""},"","",""]
[null,null,null,null,null,null,null,null,null,null,null,null,null,null,null,null,null,null,"After MeP",{"$f":"IF(Q200=\"\",\"\",IF(OR(S200=\"Solvent\",S200=\"After MeP\"),0,IF(S200=\"\",INDEX(RRFs!E:E,MATCH(\"Triglyme\",RRFs!B:B,FALSE)),INDEX(RRFs!E:E,MATCH(S200,RRFs!B:B,FALSE)))))","v":""},"","","",null,null,null,null,"After MeP",{"$f":"IF(Z200=\"\",\"\",IF(OR(AB200=\"Solvent\",AB200=\"After MeP\"),0,IF(AB200=\"\",INDEX(RRFs!E:E,MATCH(\"Triglyme\",RRFs!B:B,FALSE)),INDEX(RRFs!E:E,MATCH(AB200,RRFs!B:B,FALSE)))))","v":""},"","",""]

{"sheet":"Sample Summary","index":22,"n_rows":65,"n_cols":8,"rows_kept":65,"cut":false,"hidden":false,"merged":[[7,3,7,4],[7,6,7,7],[0,0,0,7],[5,2,5,3],[4,2,4,3],[17,0,17,7],[21,2,21,3],[22,2,22,3],[24,3,24,4],[24,6,24,7],[34,0,34,7],[38,2,38,3],[39,2,39,3],[41,3,41,4],[41,6,41,7],[51,0,51,7],[55,2,55,3],[56,2,56,3],[58,3,58,4],[58,6,58,7]]}
["Sample #1"]
[]
[null,null,"Injection #1","Injection #2",null,"Average g/L"]
["VOC Material",null,{"$f":"SUM(INDIRECT(\"'\"&$A$1&\"'!V:V\"))-SUMIF(INDIRECT(\"'\"&$A$1&\"'!V:V\"),\"<0.1\",INDIRECT(\"'\"&$A$1&\"'!V:V\"))","v":0},{"$f":"SUM(INDIRECT(\"'\"&$A$1&\"'!AE:AE\"))-SUMIF(INDIRECT(\"'\"&$A$1&\"'!AE:AE\"),\"<0.1\",INDIRECT(\"'\"&$A$1&\"'!AE:AE\"))","v":0},null,{"$f":"IF(C4=\"\",\"\",AVERAGE(C4:D4))","v":0}]
["VOC Coating",null,{"$f":"(F4/(INDIRECT(\"'\"&$A$1&\"'!D4\")*10))*1000/((100/(INDIRECT(\"'\"&$A$1&\"'!D4\")))-($C$6/0.997)-(INDIRECT(\"'\"&$A$1&\"'!D7\")/1.341)-(INDIRECT(\"'\"&$A$1&\"'!D8\")/0.955)-(INDIRECT(\"'\"&$A$1&\"'!D9\")/0.958))","v":{"$error":"#DIV/0!"}}]
["Calculated Water Wt %",null,{"$f":"100-INDIRECT(\"'\"&$A$1&\"'!D6\")-INDIRECT(\"'\"&$A$1&\"'!D7\")-INDIRECT(\"'\"&$A$1&\"'!D8\")-(F4/(INDIRECT(\"'\"&$A$1&\"'!D4\")*10))","v":{"$error":"#DIV/0!"}}]
[]
[null,null,null,"Injection #1",null,null,"Injection #2"]
[null,"Prep (gL)",null,"Meas (g/L)","% Recovery",null,"Meas (g/L)","% Recovery"]
["EGDE",{"$f":"INDEX(INDIRECT(\"'\"&$A$1&\"'!F30:F39\"),MATCH(A10,INDIRECT(\"'\"&$A$1&\"'!C30:C39\"),FALSE))","v":""},null,{"$f":"SUMIF(INDIRECT(\"'\"&$A$1&\"'!S:S\"),\"=\"&A10,INDIRECT(\"'\"&$A$1&\"'!U:U\"))","v":0},{"$f":"D10*100/B10","v":{"$error":"#VALUE!"}},null,{"$f":"SUMIF(INDIRECT(\"'\"&$A$1&\"'!AB:AB\"),\"=\"&A10,INDIRECT(\"'\"&$A$1&\"'!AD:AD\"))","v":0},{"$f":"G10*100/B10","v":{"$error":"#VALUE!"}}]
["IPA",{"$f":"INDEX(INDIRECT(\"'\"&$A$1&\"'!F30:F39\"),MATCH(A11,INDIRECT(\"'\"&$A$1&\"'!C30:C39\"),FALSE))","v":{"$error":"#DIV/0!"}},null,{"$f":"SUMIF(INDIRECT(\"'\"&$A$1&\"'!S:S\"),\"=\"&A11,INDIRECT(\"'\"&$A$1&\"'!U:U\"))","v":0},{"$f":"D11*100/B11","v":{"$error":"#DIV/0!"}},null,{"$f":"SUMIF(INDIRECT(\"'\"&$A$1&\"'!AB:AB\"),\"=\"&A11,INDIRECT(\"'\"&$A$1&\"'!AD:AD\"))","v":0},{"$f":"G11*100/B11","v":{"$error":"#DIV/0!"}}]
["Heptane",{"$error":"#DIV/0!"},null,0,{"$f":"D12*100/B12","v":{"$error":"#DIV/0!"}},null,0,{"$error":"#DIV/0!"}]
["Triglyme",{"$error":"#DIV/0!"},null,0,{"$f":"D13*100/B13","v":{"$error":"#DIV/0!"}},null,0,{"$error":"#DIV/0!"}]
["DIIBA",{"$error":"#DIV/0!"},null,0,{"$f":"D14*100/B14","v":{"$error":"#DIV/0!"}},null,0,{"$error":"#DIV/0!"}]
[]
[]
[]
["Sample #2"]
[]
[null,null,"Injection #1","Injection #2",null,"Average g/L"]
["VOC Material",null,{"$f":"SUM(INDIRECT(\"'\"&$A$18&\"'!V:V\"))-SUMIF(INDIRECT(\"'\"&$A$18&\"'!V:V\"),\"<0.1\",INDIRECT(\"'\"&$A$18&\"'!V:V\"))","v":0},{"$f":"SUM(INDIRECT(\"'\"&$A$18&\"'!AE:AE\"))-SUMIF(INDIRECT(\"'\"&$A$18&\"'!AE:AE\"),\"<0.1\",INDIRECT(\"'\"&$A$18&\"'!AE:AE\"))","v":0},null,{"$f":"IF(C21=\"\",\"\",AVERAGE(C21:D21))","v":0}]
["VOC Coating",null,{"$f":"(F21/(INDIRECT(\"'\"&$A$18&\"'!D4\")*10))*1000/((100/(INDIRECT(\"'\"&$A$18&\"'!D4\")))-($C$23/0.997)-(INDIRECT(\"'\"&$A$18&\"'!D7\")/1.341)-(INDIRECT(\"'\"&$A$18&\"'!D8\")/0.955)-(INDIRECT(\"'\"&$A$18&\"'!D9\")/0.958))","v":{"$error":"#DIV/0!"}}]
["Calculated Water Wt %",null,{"$f":"100-INDIRECT(\"'\"&$A$18&\"'!D6\")-INDIRECT(\"'\"&$A$18&\"'!D7\")-INDIRECT(\"'\"&$A$18&\"'!D8\")-(F21/(INDIRECT(\"'\"&$A$18&\"'!D4\")*10))","v":{"$error":"#DIV/0!"}}]
[]
[null,null,null,"Injection #1",null,null,"Injection #2"]
[null,"Prep (gL)",null,"Meas (g/L)","% Recovery",null,"Meas (g/L)","% Recovery"]
["EGDE",{"$f":"INDEX(INDIRECT(\"'\"&$A$18&\"'!F30:F39\"),MATCH(A27,INDIRECT(\"'\"&$A$18&\"'!C30:C39\"),FALSE))","v":""},null,{"$f":"SUMIF(INDIRECT(\"'\"&$A$18&\"'!S:S\"),\"=\"&A27,INDIRECT(\"'\"&$A$18&\"'!U:U\"))","v":0},{"$f":"D27*100/B27","v":{"$error":"#VALUE!"}},null,{"$f":"SUMIF(INDIRECT(\"'\"&$A$18&\"'!AB:AB\"),\"=\"&A27,INDIRECT(\"'\"&$A$18&\"'!AD:AD\"))","v":0},{"$f":"G27*100/B27","v":{"$error":"#VALUE!"}}]
["IPA",{"$f":"INDEX(INDIRECT(\"'\"&$A$18&\"'!F30:F39\"),MATCH(A28,INDIRECT(\"'\"&$A$18&\"'!C30:C39\"),FALSE))","v":{"$error":"#DIV/0!"}},null,{"$f":"SUMIF(INDIRECT(\"'\"&$A$18&\"'!S:S\"),\"=\"&A28,INDIRECT(\"'\"&$A$18&\"'!U:U\"))","v":0},{"$f":"D28*100/B28","v":{"$error":"#DIV/0!"}},null,{"$f":"SUMIF(INDIRECT(\"'\"&$A$18&\"'!AB:AB\"),\"=\"&A28,INDIRECT(\"'\"&$A$18&\"'!AD:AD\"))","v":0},{"$f":"G28*100/B28","v":{"$error":"#DIV/0!"}}]
["Heptane",{"$error":"#DIV/0!"},null,{"$f":"SUMIF(INDIRECT(\"'\"&$A$18&\"'!S:S\"),\"=\"&A29,INDIRECT(\"'\"&$A$18&\"'!U:U\"))","v":0},{"$f":"D29*100/B29","v":{"$error":"#DIV/0!"}},null,0,{"$error":"#DIV/0!"}]
["Triglyme",{"$error":"#DIV/0!"},null,0,{"$f":"D30*100/B30","v":{"$error":"#DIV/0!"}},null,0,{"$error":"#DIV/0!"}]
["DIIBA",{"$f":"INDEX(INDIRECT(\"'\"&$A$18&\"'!F30:F39\"),MATCH(A31,INDIRECT(\"'\"&$A$18&\"'!C30:C39\"),FALSE))","v":{"$error":"#DIV/0!"}},null,0,{"$f":"D31*100/B31","v":{"$error":"#DIV/0!"}},null,0,{"$error":"#DIV/0!"}]
[]
[]
[]
["Sample #3"]
[]
[null,null,"Injection #1","Injection #2",null,"Average g/L"]
["VOC Material",null,{"$f":"SUM(INDIRECT(\"'\"&$A$35&\"'!V:V\"))-SUMIF(INDIRECT(\"'\"&$A$35&\"'!V:V\"),\"<0.1\",INDIRECT(\"'\"&$A$35&\"'!V:V\"))","v":0},{"$f":"SUM(INDIRECT(\"'\"&$A$35&\"'!AE:AE\"))-SUMIF(INDIRECT(\"'\"&$A$35&\"'!AE:AE\"),\"<0.1\",INDIRECT(\"'\"&$A$35&\"'!AE:AE\"))","v":0},null,{"$f":"IF(C38=\"\",\"\",AVERAGE(C38:D38))","v":0}]
["VOC Coating",null,{"$f":"(F38/(INDIRECT(\"'\"&$A$35&\"'!D4\")*10))*1000/((100/(INDIRECT(\"'\"&$A$35&\"'!D4\")))-($C$40/0.997)-(INDIRECT(\"'\"&$A$35&\"'!D7\")/1.341)-(INDIRECT(\"'\"&$A$35&\"'!D8\")/0.955)-(INDIRECT(\"'\"&$A$35&\"'!D9\")/0.958))","v":{"$error":"#DIV/0!"}}]
["Calculated Water Wt %",null,{"$f":"100-INDIRECT(\"'\"&$A$35&\"'!D6\")-INDIRECT(\"'\"&$A$35&\"'!D7\")-INDIRECT(\"'\"&$A$35&\"'!D8\")-(F38/(INDIRECT(\"'\"&$A$35&\"'!D4\")*10))","v":{"$error":"#DIV/0!"}}]
[]
[null,null,null,"Injection #1",null,null,"Injection #2"]
[null,"Prep (gL)",null,"Meas (g/L)","% Recovery",null,"Meas (g/L)","% Recovery"]
["EGDE",{"$f":"INDEX(INDIRECT(\"'\"&$A$35&\"'!F30:F39\"),MATCH(A44,INDIRECT(\"'\"&$A$35&\"'!C30:C39\"),FALSE))","v":""},null,{"$f":"SUMIF(INDIRECT(\"'\"&$A$35&\"'!S:S\"),\"=\"&A44,INDIRECT(\"'\"&$A$35&\"'!U:U\"))","v":0},{"$f":"D44*100/B44","v":{"$error":"#VALUE!"}},null,{"$f":"SUMIF(INDIRECT(\"'\"&$A$35&\"'!AB:AB\"),\"=\"&A44,INDIRECT(\"'\"&$A$35&\"'!AD:AD\"))","v":0},{"$f":"G44*100/B44","v":{"$error":"#VALUE!"}}]
["IPA",{"$f":"INDEX(INDIRECT(\"'\"&$A$35&\"'!F30:F39\"),MATCH(A45,INDIRECT(\"'\"&$A$35&\"'!C30:C39\"),FALSE))","v":{"$error":"#DIV/0!"}},null,{"$f":"SUMIF(INDIRECT(\"'\"&$A$35&\"'!S:S\"),\"=\"&A45,INDIRECT(\"'\"&$A$35&\"'!U:U\"))","v":0},{"$f":"D45*100/B45","v":{"$error":"#DIV/0!"}},null,{"$f":"SUMIF(INDIRECT(\"'\"&$A$35&\"'!AB:AB\"),\"=\"&A45,INDIRECT(\"'\"&$A$35&\"'!AD:AD\"))","v":0},{"$f":"G45*100/B45","v":{"$error":"#DIV/0!"}}]
["Heptane",{"$error":"#DIV/0!"},null,0,{"$f":"D46*100/B46","v":{"$error":"#DIV/0!"}},null,0,{"$error":"#DIV/0!"}]
["Triglyme",{"$error":"#DIV/0!"},null,0,{"$f":"D47*100/B47","v":{"$error":"#DIV/0!"}},null,0,{"$error":"#DIV/0!"}]
["DIIBA",{"$error":"#DIV/0!"},null,0,{"$f":"D48*100/B48","v":{"$error":"#DIV/0!"}},null,0,{"$error":"#DIV/0!"}]
[]
[]
[]
["Sample #4"]
[]
[null,null,"Injection #1","Injection #2",null,"Average g/L"]
["VOC Material",null,{"$f":"SUM(INDIRECT(\"'\"&$A$52&\"'!V:V\"))-SUMIF(INDIRECT(\"'\"&$A$52&\"'!V:V\"),\"<0.1\",INDIRECT(\"'\"&$A$52&\"'!V:V\"))","v":0},{"$f":"SUM(INDIRECT(\"'\"&$A$52&\"'!AE:AE\"))-SUMIF(INDIRECT(\"'\"&$A$52&\"'!AE:AE\"),\"<0.1\",INDIRECT(\"'\"&$A$52&\"'!AE:AE\"))","v":0},null,{"$f":"IF(C55=\"\",\"\",AVERAGE(C55:D55))","v":0}]
["VOC Coating",null,{"$f":"(F55/(INDIRECT(\"'\"&$A$52&\"'!D4\")*10))*1000/((100/(INDIRECT(\"'\"&$A$52&\"'!D4\")))-($C$57/0.997)-(INDIRECT(\"'\"&$A$52&\"'!D7\")/1.341)-(INDIRECT(\"'\"&$A$52&\"'!D8\")/0.955)-(INDIRECT(\"'\"&$A$52&\"'!D9\")/0.958))","v":{"$error":"#DIV/0!"}}]
["Calculated Water Wt %",null,{"$f":"100-INDIRECT(\"'\"&$A$52&\"'!D6\")-INDIRECT(\"'\"&$A$52&\"'!D7\")-INDIRECT(\"'\"&$A$52&\"'!D8\")-(F55/(INDIRECT(\"'\"&$A$52&\"'!D4\")*10))","v":{"$error":"#DIV/0!"}}]
[]
[null,null,null,"Injection #1",null,null,"Injection #2"]
[null,"Prep (gL)",null,"Meas (g/L)","% Recovery",null,"Meas (g/L)","% Recovery"]
["EGDE",{"$f":"INDEX(INDIRECT(\"'\"&$A$52&\"'!F30:F39\"),MATCH(A61,INDIRECT(\"'\"&$A$52&\"'!C30:C39\"),FALSE))","v":""},null,{"$f":"SUMIF(INDIRECT(\"'\"&$A$52&\"'!S:S\"),\"=\"&A61,INDIRECT(\"'\"&$A$52&\"'!U:U\"))","v":0},{"$f":"D61*100/B61","v":{"$error":"#VALUE!"}},null,{"$f":"SUMIF(INDIRECT(\"'\"&$A$52&\"'!AB:AB\"),\"=\"&A61,INDIRECT(\"'\"&$A$52&\"'!AD:AD\"))","v":0},{"$f":"G61*100/B61","v":{"$error":"#VALUE!"}}]
["IPA",{"$f":"INDEX(INDIRECT(\"'\"&$A$52&\"'!F30:F39\"),MATCH(A62,INDIRECT(\"'\"&$A$52&\"'!C30:C39\"),FALSE))","v":{"$error":"#DIV/0!"}},null,{"$f":"SUMIF(INDIRECT(\"'\"&$A$52&\"'!S:S\"),\"=\"&A62,INDIRECT(\"'\"&$A$52&\"'!U:U\"))","v":0},{"$f":"D62*100/B62","v":{"$error":"#DIV/0!"}},null,{"$f":"SUMIF(INDIRECT(\"'\"&$A$52&\"'!AB:AB\"),\"=\"&A62,INDIRECT(\"'\"&$A$52&\"'!AD:AD\"))","v":0},{"$f":"G62*100/B62","v":{"$error":"#DIV/0!"}}]
["Heptane",{"$error":"#DIV/0!"},null,0,{"$f":"D63*100/B63","v":{"$error":"#DIV/0!"}},null,0,{"$error":"#DIV/0!"}]
["Triglyme",{"$error":"#DIV/0!"},null,0,{"$f":"D64*100/B64","v":{"$error":"#DIV/0!"}},null,0,{"$error":"#DIV/0!"}]
["DIIBA",{"$error":"#DIV/0!"},null,0,{"$f":"D65*100/B65","v":{"$error":"#DIV/0!"}},null,0,{"$error":"#DIV/0!"}]

{"sheet":"RRFs","index":23,"n_rows":45,"n_cols":13,"rows_kept":45,"cut":false,"hidden":false,"merged":[]}
[null,"Compound","CAS #","CAS #","RF/RRF","R2/RSD","MFG","Lot #","Purity","Density (g/mL)","Levels","% Recovery","Abs. Diff."]
[{"$f":"IF(B2=\"\",\"\",MAX($A$1:A1)+1)","v":""}]
[{"$f":"IF(B3=\"\",\"\",MAX($A$1:A2)+1)","v":""}]
[{"$f":"IF(B4=\"\",\"\",MAX($A$1:A3)+1)","v":""}]
[{"$f":"IF(B5=\"\",\"\",MAX($A$1:A4)+1)","v":""}]
[{"$f":"IF(B6=\"\",\"\",MAX($A$1:A5)+1)","v":""}]
[{"$f":"IF(B7=\"\",\"\",MAX($A$1:A6)+1)","v":""}]
[{"$f":"IF(B8=\"\",\"\",MAX($A$1:A7)+1)","v":""}]
[{"$f":"IF(B9=\"\",\"\",MAX($A$1:A8)+1)","v":""}]
[{"$f":"IF(B10=\"\",\"\",MAX($A$1:A9)+1)","v":""}]
[{"$f":"IF(B11=\"\",\"\",MAX($A$1:A10)+1)","v":""}]
[{"$f":"IF(B12=\"\",\"\",MAX($A$1:A11)+1)","v":""}]
[{"$f":"IF(B13=\"\",\"\",MAX($A$1:A12)+1)","v":""}]
[{"$f":"IF(B14=\"\",\"\",MAX($A$1:A13)+1)","v":""}]
[{"$f":"IF(B15=\"\",\"\",MAX($A$1:A14)+1)","v":""}]
[{"$f":"IF(B16=\"\",\"\",MAX($A$1:A15)+1)","v":""}]
[{"$f":"IF(B17=\"\",\"\",MAX($A$1:A16)+1)","v":""}]
[{"$f":"IF(B18=\"\",\"\",MAX($A$1:A17)+1)","v":""}]
[{"$f":"IF(B19=\"\",\"\",MAX($A$1:A18)+1)","v":""}]
[{"$f":"IF(B20=\"\",\"\",MAX($A$1:A19)+1)","v":""}]
[{"$f":"IF(B21=\"\",\"\",MAX($A$1:A20)+1)","v":""}]
[{"$f":"IF(B22=\"\",\"\",MAX($A$1:A21)+1)","v":""}]
[{"$f":"IF(B23=\"\",\"\",MAX($A$1:A22)+1)","v":""}]
[{"$f":"IF(B24=\"\",\"\",MAX($A$1:A23)+1)","v":""}]
[{"$f":"IF(B25=\"\",\"\",MAX($A$1:A24)+1)","v":""}]
[{"$f":"IF(B26=\"\",\"\",MAX($A$1:A25)+1)","v":""}]
[{"$f":"IF(B27=\"\",\"\",MAX($A$1:A26)+1)","v":""}]
[{"$f":"IF(B28=\"\",\"\",MAX($A$1:A27)+1)","v":""}]
[{"$f":"IF(B29=\"\",\"\",MAX($A$1:A28)+1)","v":""}]
[{"$f":"IF(B30=\"\",\"\",MAX($A$1:A29)+1)","v":""}]
[{"$f":"IF(B31=\"\",\"\",MAX($A$1:A30)+1)","v":""}]
[{"$f":"IF(B32=\"\",\"\",MAX($A$1:A31)+1)","v":""}]
[{"$f":"IF(B33=\"\",\"\",MAX($A$1:A32)+1)","v":""}]
[{"$f":"IF(B34=\"\",\"\",MAX($A$1:A33)+1)","v":""}]
[{"$f":"IF(B35=\"\",\"\",MAX($A$1:A34)+1)","v":""}]
[{"$f":"IF(B36=\"\",\"\",MAX($A$1:A35)+1)","v":""}]
[{"$f":"IF(B37=\"\",\"\",MAX($A$1:A36)+1)","v":""}]
[{"$f":"IF(B38=\"\",\"\",MAX($A$1:A37)+1)","v":""}]
[{"$f":"IF(B39=\"\",\"\",MAX($A$1:A38)+1)","v":""},"","","","","","","","","","","",""]
[{"$f":"IF(B40=\"\",\"\",MAX($A$1:A39)+1)","v":""},"","",""]
[null,"","",""]
[null,"","",""]
[null,"","",""]
[null,"","",""]
[null,"","",""]

{"sheet":"Backend","index":24,"n_rows":21,"n_cols":32,"rows_kept":21,"cut":false,"hidden":true,"merged":[]}
[null,null,"Liquid",null,null,"Dilution",null,null,null,null,null,null,{"$f":"CalInfo!A4","v":0},{"$f":"CalInfo!A5","v":0},{"$f":"CalInfo!A6","v":0},{"$f":"CalInfo!A7","v":0},{"$f":"CalInfo!A8","v":0},null,{"$f":"SUBSTITUTE(NOW(),\".\",\"\")","v":"426896353043982"},null,"CSV Volume Table","Factor"]
["Yes",{"$f":"TODAY()","v":"2016-11-15"},"Solid","Solvent",null,null,"THF",null,{"$f":"IF(CalInfo!B19=\"\",\"\",CalInfo!B19)","v":""},null,null,"STD Count","-","-","-","-","-",null,null,null,"EGDE",150,"CCV 1 A","CSV 1 A","IPA",null,"CSV 1 B",null,{"$f":"\"EGDE\"","v":"EGDE"},{"$f":"\"EGDE\"","v":"EGDE"},"EGDE","EGDE"]
[null,{"$f":"B2-1","v":"2016-11-14"},null,"Internal Standard",null,null,"Methanol",null,{"$f":"IF(CalInfo!B20=\"\",\"\",CalInfo!B20)","v":""},null,null,"Internal Standard",{"$f":"150*INDEX(CalInfo!$B$4:$B$8,MATCH($M$1,CalInfo!$A$4:$A$8,FALSE))/25&\" uL\"","v":{"$error":"#N/A"}},{"$f":"150*INDEX(CalInfo!$B$4:$B$8,MATCH($M$1,CalInfo!$A$4:$A$8,FALSE))/25&\" uL\"","v":{"$error":"#N/A"}},{"$f":"150*INDEX(CalInfo!$B$4:$B$8,MATCH($M$1,CalInfo!$A$4:$A$8,FALSE))/25&\" uL\"","v":{"$error":"#N/A"}},{"$f":"150*INDEX(CalInfo!$B$4:$B$8,MATCH($M$1,CalInfo!$A$4:$A$8,FALSE))/25&\" uL\"","v":{"$error":"#N/A"}},{"$f":"150*INDEX(CalInfo!$B$4:$B$8,MATCH($M$1,CalInfo!$A$4:$A$8,FALSE))/25&\" uL\"","v":{"$error":"#N/A"}},null,null,null,"THF",10,"CCV 1 B","CSV 1 B","Heptane",null,"CSV 2 B",null,"After MeP","After MeP","After MeP","After MeP"]
[null,"2016-11-13",null,"Solid",null,null,null,null,{"$f":"IF(CalInfo!B21=\"\",\"\",CalInfo!B21)","v":""},null,null,"Solvent",{"$f":"\"~\"&10*INDEX(CalInfo!$B$4:$B$8,MATCH(M$1,CalInfo!$A$4:$A$8,FALSE))/25&\" mL\"","v":{"$error":"#N/A"}},{"$f":"\"~\"&10*INDEX(CalInfo!$B$4:$B$8,MATCH(N$1,CalInfo!$A$4:$A$8,FALSE))/25&\" mL\"","v":{"$error":"#N/A"}},{"$f":"\"~\"&10*INDEX(CalInfo!$B$4:$B$8,MATCH(O$1,CalInfo!$A$4:$A$8,FALSE))/25&\" mL\"","v":{"$error":"#N/A"}},{"$f":"\"~\"&10*INDEX(CalInfo!$B$4:$B$8,MATCH(P$1,CalInfo!$A$4:$A$8,FALSE))/25&\" mL\"","v":{"$error":"#N/A"}},{"$f":"\"~\"&10*INDEX(CalInfo!$B$4:$B$8,MATCH(Q$1,CalInfo!$A$4:$A$8,FALSE))/25&\" mL\"","v":{"$error":"#N/A"}},null,null,null,"Methanol",10,"CCV 1 C","CSV 1 C","EGDE",null,"CSV 3 B",null,"Solvent","Solvent","Solvent","Solvent"]
[null,"2016-11-12",null,null,null,null,null,null,{"$f":"IF(CalInfo!B22=\"\",\"\",CalInfo!B22)","v":""},null,null,"Dilution Prep",{"$f":"IF(INDEX(CalInfo!$C$4:$C$8,MATCH(M$1,CalInfo!$A$4:$A$8,FALSE))=\"\",\"-\",\"Next\")","v":{"$error":"#N/A"}},{"$f":"IF(INDEX(CalInfo!$C$4:$C$8,MATCH(N$1,CalInfo!$A$4:$A$8,FALSE))=\"\",\"-\",\"Next\")","v":{"$error":"#N/A"}},{"$f":"IF(INDEX(CalInfo!$C$4:$C$8,MATCH(O$1,CalInfo!$A$4:$A$8,FALSE))=\"\",\"-\",\"Next\")","v":{"$error":"#N/A"}},{"$f":"IF(INDEX(CalInfo!$C$4:$C$8,MATCH(P$1,CalInfo!$A$4:$A$8,FALSE))=\"\",\"-\",\"Next\")","v":{"$error":"#N/A"}},{"$f":"IF(INDEX(CalInfo!$C$4:$C$8,MATCH(Q$1,CalInfo!$A$4:$A$8,FALSE))=\"\",\"-\",\"Next\")","v":{"$error":"#N/A"}},null,null,null,"Triglyme",26,"CCV 1 D","CSV 1 D","Triglyme",null,"CSV 4 B",null,"IPA","IPA","IPA","IPA"]
[null,"2016-11-11",null,null,null,null,null,null,{"$f":"IF(CalInfo!B23=\"\",\"\",CalInfo!B23)","v":""},null,null,null,null,null,null,{"$f":"$T$7/P1","v":{"$error":"#DIV/0!"}},{"$f":"$T$7/Q1","v":{"$error":"#DIV/0!"}},null,null,null,"IPA",31,"CCV 2 A","CSV 2 A","DIIBA",null,null,null,"Heptane","Heptane","Heptane","Heptane"]
[null,"2016-11-10",null,null,null,null,null,null,{"$f":"IF(CalInfo!B24=\"\",\"\",CalInfo!B24)","v":""},null,null,"Volume",{"$f":"INDEX(CalInfo!$B$4:$B$8,MATCH(M$1,CalInfo!$A$4:$A$8,FALSE))","v":{"$error":"#N/A"}},{"$f":"INDEX(CalInfo!$B$4:$B$8,MATCH(N$1,CalInfo!$A$4:$A$8,FALSE))","v":{"$error":"#N/A"}},{"$f":"INDEX(CalInfo!$B$4:$B$8,MATCH(O$1,CalInfo!$A$4:$A$8,FALSE))","v":{"$error":"#N/A"}},{"$f":"INDEX(CalInfo!$B$4:$B$8,MATCH(P$1,CalInfo!$A$4:$A$8,FALSE))","v":{"$error":"#N/A"}},{"$f":"INDEX(CalInfo!$B$4:$B$8,MATCH(Q$1,CalInfo!$A$4:$A$8,FALSE))","v":{"$error":"#N/A"}},null,null,null,"DIIBA",26,"CCV 2 B","CSV 2 B",null,null,null,null,"Triglyme","Triglyme","Triglyme","Triglyme"]
[null,"2016-11-09",null,null,null,null,null,null,{"$f":"IF(CalInfo!B25=\"\",\"\",CalInfo!B25)","v":""},null,null,null,null,null,null,null,null,null,null,null,"Heptane",36,"CCV 2 C","CSV 2 C",null,null,null,null,"DIIBA","DIIBA","DIIBA","DIIBA"]
[null,"2016-11-08",null,null,null,null,null,null,{"$f":"IF(CalInfo!B26=\"\",\"\",CalInfo!B26)","v":""},null,null,null,null,null,null,null,null,null,null,null,null,null,"CCV 2 D","CSV 2 D",null,null,null,null,{"$f":"'CCV Prep'!Q3","v":"Propylene Glycol"},{"$f":"'CCV Prep'!Q6","v":"Dipropylene Glycol"},{"$f":"'CCV Prep'!T3","v":""},{"$f":"'CCV Prep'!U3","v":""}]
[null,"2016-11-07",null,null,null,null,null,null,{"$f":"IF(CalInfo!B27=\"\",\"\",CalInfo!B27)","v":""},null,null,null,null,null,null,null,null,null,null,null,null,null,"CCV 3 A","CSV 3 A",null,null,null,null,{"$f":"'CCV Prep'!Q4","v":"Texanol"},{"$f":"'CCV Prep'!Q7","v":"Tetraethylene Glycol"},{"$f":"'CCV Prep'!T4","v":""},{"$f":"'CCV Prep'!U4","v":""}]
[null,"2016-11-06",null,null,null,null,null,null,{"$f":"IF(CalInfo!B28=\"\",\"\",CalInfo!B28)","v":""},null,null,null,null,null,null,null,null,null,null,null,null,null,"CCV 3 B","CSV 3 B",null,null,null,null,{"$f":"'CCV Prep'!Q5","v":"Benzophenone"},{"$f":"'CCV Prep'!Q8","v":"Pentaethylene Glycol"},{"$f":"'CCV Prep'!T5","v":""},{"$f":"'CCV Prep'!U5","v":""}]
[null,null,null,null,null,null,null,null,{"$f":"IF(CalInfo!B29=\"\",\"\",CalInfo!B29)","v":""},null,null,null,null,null,null,null,null,null,null,null,null,null,"CCV 3 C","CSV 3 C",null,null,null,null,null,null,{"$f":"'CCV Prep'!T6","v":""},{"$f":"'CCV Prep'!U6","v":""}]
[null,null,null,null,null,null,null,null,{"$f":"IF(CalInfo!B30=\"\",\"\",CalInfo!B30)","v":""},null,null,null,null,null,null,null,null,null,null,null,null,null,"CCV 3 D","CSV 3 D",null,null,null,null,null,null,null,{"$f":"'CCV Prep'!U7","v":""}]
[null,null,null,null,null,null,null,null,{"$f":"IF(CalInfo!B31=\"\",\"\",CalInfo!B31)","v":""},null,null,null,null,null,null,null,null,null,null,null,null,null,"CCV 4 A","CSV 4 A",null,null,null,null,null,null,null,{"$f":"'CCV Prep'!U8","v":""}]
[null,null,null,null,null,null,null,null,{"$f":"IF(CalInfo!B32=\"\",\"\",CalInfo!B32)","v":""},null,null,null,null,null,null,null,null,null,null,null,null,null,"CCV 4 B","CSV 4 B",null,null,null,null,null,null,null,{"$f":"'CCV Prep'!U9","v":""}]
[null,null,null,null,null,null,null,null,{"$f":"IF(CalInfo!B33=\"\",\"\",CalInfo!B33)","v":""},null,null,null,null,null,null,null,null,null,null,null,null,null,"CCV 4 C","CSV 4 C",null,null,null,null,null,null,null,{"$f":"'CCV Prep'!U10","v":""}]
[null,null,null,null,null,null,null,null,null,null,null,null,null,null,null,null,null,null,null,null,null,null,"CCV 4 D","CSV 4 D",null,null,null,null,null,null,null,{"$f":"'CCV Prep'!U11","v":""}]
[null,null,null,null,null,null,null,null,null,null,null,null,null,null,null,null,null,null,null,null,null,null,"CCV 5 A","CSV 5 A",null,null,null,null,null,null,null,{"$f":"'CCV Prep'!U12","v":""}]
[null,null,null,null,null,null,null,null,null,null,null,null,null,null,null,null,null,null,null,null,null,null,"CCV 5 B","CSV 5 B"]
[null,null,null,null,null,null,null,null,null,null,null,null,null,null,null,null,null,null,null,null,null,null,"CCV 5 C","CSV 5 C"]
[null,null,null,null,null,null,null,null,null,null,null,null,null,null,null,null,null,null,null,null,null,null,"CCV 5 D","CSV 5 D"]