{"text_format":"1","workbook":"xlsx","n_sheets":40,"sheets":["Intro","Emissions","Tier 1 Report","Tier 3 Screen Input","Tier 2 Report","CEQA","Tier 2 Report 70yr","Boiler Calc","Boiler data","Boiler","Crematory","Crematory Calc","Crematory data","Spray Booth Data","LeanBurnICE","RichBurnICE","Engine Calc","Engine data","DieselICE","Diesel Engine Calc","DieselEngine data","Gas Station","Gas Station Data","Pressure Washer","Spray Booth","Spray Booth Calc","PSE Calc","PSE Data","VSE Calc","VSE Data","Master List","TableIndex","Table 1","Table CP_REL","Table AcuteTO","Table ChronicTO","Table 8hrTO","Table 4","Table 5","Release Notes"],"not_rendered":{"charts":4,"images":37,"macros":1,"external_links":0,"defined_names":120,"comments":18,"pivot_tables":0},"unopened":[],"bounds":{"document_bytes":16777216,"sheet_cells":100000,"rows_first":2000,"rows_last":500,"rows_between":2000,"halvings":0,"cell_chars":16384,"cell_head_chars":4096},"cells_cut":0,"cells_raw":0,"read":"whole","date_system":"1900"}

{"sheet":"Intro","index":0,"n_rows":39,"n_cols":1,"rows_kept":39,"cut":false,"hidden":false,"merged":[]}
[]
[]
[]
[]
[]
[]
[]
[]
[]
[]
[]
[]
[]
[]
[]
[]
[]
[]
[]
[]
[]
[]
[]
[]
[]
[]
[]
[]
[]
[]
[]
[]
[]
[]
[]
[]
[]
[{"$f":"'Release Notes'!$A$4","v":"Risk Tool V1.105"}]
[{"$f":"MID('Release Notes'!A2,81,LEN('Release Notes'!A2)-4)","v":"\n(Procedure Version 8.1 & Package N, September 1, 2017 )"}]

{"sheet":"Emissions","index":1,"n_rows":68,"n_cols":27,"rows_kept":68,"cut":false,"hidden":false,"merged":[[3,2,3,6],[2,2,2,6],[21,4,21,5],[30,10,30,13],[28,2,28,8],[4,3,4,5],[5,4,5,5],[7,4,7,5],[6,4,6,5],[22,2,22,3],[24,4,24,5]]}
[null,null,"ENTER OPERATIONAL PARAMETERS IN THE HIGHLIGHTED YELLOW CELLS "]
[]
[null,null,{"$f":"IF(ScreeningMode=\"YES\",\"TIER 3 SCREENING RISK ASSESSMENT DATA INPUT\",\"TIER 1/TIER 2 SCREENING RISK ASSESSMENT DATA INPUT\")","v":"TIER 1/TIER 2 SCREENING RISK ASSESSMENT DATA INPUT"}]
[null,null,{"$f":"Intro!A39 & \" - \" &Intro!A38","v":"\n(Procedure Version 8.1 & Package N, September 1, 2017 ) - Risk Tool V1.105"},null,null,null,null,null,null,null,null,null,null,null,null,null,null,null,null,null,null,null,null,null,"Meteorological Stations (new list as of Sep 1, 2017)"]
[]
[null,null,null,"Application Deemed Complete Date ","2020-07-14",null,null,null,null,null,null,null,null,null,null,null,null,null,null,null,null,null,null,null,"Station Code","Location","Area #"]
[null,null,null,"A/N","622795 (96, 97)",null,null,null,null,null,null,null,null,null,null,null,null,null,null,null,null,null,null,null,"AZUS","Azusa","8,9,10"]
[null,null,null,"Facility Name ","Spear's Manufacturing Co.",null,null,null,null,null,null,null,null,null,null,null,null,null,null,null,null,null,null,null,"BNAP","Banning","28,29"]
[null,null,null,null,null,null,null,null,null,null,null,null,null,null,null,null,null,null,null,null,null,null,null,null,"CELA","Central L.A.","1"]
[null,null,null,null,null,null,null,null,null,null,null,null,null,null,null,null,null,null,null,null,null,null,null,null,"ELSI","Lake Elsinore","25,26,27"]
[null,null,"1. Stack Data",null,"Input","Units",null,null,null,null,null,null,null,null,null,null,null,null,null,null,null,null,null,null,"FONT","Fontana",34]
[null,null,"Hours/Day",null,24,{"$f":"IF(OR(E12>24,E12<=0),\"Enter value between 0.5 and 24\",\"hrs/day\")","v":"hrs/day"},null,null,null,null,null,null,null,null,null,null,null,null,null,null,null,null,null,null,"MSVJ","Mission Viejo","19,20,21"]
[null,null,"Days/Week",null,7,{"$f":"IF(OR(E13>7,E13<=0),\"Enter value between 1 and 7\",\"days/wk\")","v":"days/wk"},null,null,null,null,null,null,null,null,null,null,null,null,null,null,null,null,null,null,"PERI","Perris","24,27,28"]
[null,null,"Weeks/Year",null,52,{"$f":"IF(OR(E14>52,E14<=0),\"Enter value between 1 and 52\",\"wks/yr\")","v":"wks/yr"},null,null,null,null,null,null,null,null,null,null,null,null,null,null,null,null,null,null,"PICO","Pico Rivera","5,10,11"]
[null,null,"Control Efficiency",null,0,null,null,null,null,null,null,null,null,null,null,null,null,null,null,null,null,null,null,null,"RDLD","Redlands","35,38"]
[null,null,"Does source have T-BACT?",null,"NO",null,null,null,null,null,null,null,null,null,null,null,null,null,null,null,null,null,null,null,"UPLA","Upland","32,36"]
[null,null,{"$f":"IF(E25=\"c - crematory\",\"Source\",\"Source type (Point or Volume)\")","v":"Source type (Point or Volume)"},null,"P",{"$f":"IF(AND(E17<>\"P\",E17<>\"V\"),\"Needs Source\",IF(E25=\"C - Crematory\",\"Source\",\"P or V\"))","v":"P or V"},{"$f":"IF(E17=\"V\",IF(SourceType<>\"O\",\"Volume Source is only applicable where Source Type = Other. Select Point Source for Boiler, Crematory, ICEs types\"),\"\")","v":""},null,null,null,null,null,null,null,null,null,null,null,null,null,null,null,null,null,"KBUR","Burbank Airport","7,8,15"]
[null,null,"Stack Height or Building Height",null,32,"feet",null,"Conversion Units (select units From & To)",null,null,null,null,null,null,null,null,null,null,null,null,null,null,null,null,"KCNO","Chino Airport.","22,33"]
[null,null,"Building Area ",null,5000,"ft2",null,"From ",null,null,null,null,null,null,null,null,null,null,null,null,null,null,null,null,"KCQT","USC/Downtown L.A.","1,12"]
[null,null,"Distance-Residential",null,157,"meters",null,1,"feet",null,null,null,null,null,null,null,null,null,null,null,null,null,null,null,"KFUL","Fullerton Airport","16,17"]
[null,null,"Distance-Commercial",null,265,"meters",null,"To",null,null,null,null,null,null,null,null,null,null,null,null,null,null,null,null,"KHHR","Hawthorne Airport","3,12"]
[null,null,"Meteorological Station",null,"Van Nuys Airport",null,null,{"$f":"conv_fr*VLOOKUP(I20&\" to \"&I22,unitconversion,2,FALSE)","v":0.30480000000000002},"meter",null,null,null,null,null,null,null,null,null,null,null,null,null,null,null,"KLAX","Los Angeles Int'l Airport",3]
[null,null,"Project Duration\n(Short term options: 2, 5, or 9 years; Else 30 years)",null,30,"years",null,null,null,null,null,null,null,null,null,null,null,null,null,null,null,null,null,null,"KLGB","Long Beach Airport","4,18"]
[null,null,null,null,null,null,null,null,null,null,null,null,null,null,null,null,null,null,null,null,null,null,null,null,"KONT","Ontario Airport",33]
[null,null,"Source Type",null,"Other",null,null,null,null,null,null,null,null,null,null,null,null,null,null,null,null,null,null,null,"KPSP","Palm Springs Airport","30,31"]
[null,null,"Screening Mode (NO = Tier 1 or Tier 2; YES = Tier 3)",null,"NO",null,null,null,null,null,null,null,null,null,null,null,null,null,null,null,null,null,null,null,"KRAL","Riverside Airport","22,23"]
[null,null,null,null,null,null,null,null,null,null,null,null,null,null,null,null,null,null,null,null,null,null,null,null,"KSMO","Santa Monica Airport",2]
[null,null,null,null,null,null,null,null,null,null,null,null,null,null,null,null,null,null,null,null,null,null,null,null,"KSNA","John Wayne Int'l Airport","17,18,20"]
[null,null,"FOR SOURCE TYPE OTHER THAN  BOILER, CREMATORY, ICE, PRESSURE WASHER, OR SPRAY BOOTH,  FILL IN THE USER DEFINED TABLE BELOW",null,null,null,null,null,null,null,"EQUIPMENT EMISSION SUMMARY",null,null,null,null,null,null,null,null,null,null,null,null,null,"KTRM","Desert Hot Springs Airport","27,30,31"]
[null,null,"Fac Name:",{"$f":"\"    \"& E8","v":"    Spear's Manufacturing Co."},"A/N:",{"$f":"E7","v":"622795 (96, 97)"},null,null,null,null,null,null,null,null,null,null,null,null,null,null,null,null,null,null,"KVNY","Van Nuys Airport","6,13,15"]
[null,null,null,null,null,null,null,null,null,null,{"$f":"SourceType","v":"Other"}]
[null,null,"TAC Code","Compound","Emission Rate\n (lbs/hr)","Molecular Weight","R1 - Uncontrolled (lbs/hr)","Efficiency Factor (Fraction range 0-1)","R2-Controlled (lbs/hr)",null,"Code","Compound","R1 - Uncontrolled (lbs/hr)","R2 - Controlled (lbs/hr)"]
[null,null,"V4",{"$f":"IF(C33<>\"\",VLOOKUP(C33,TAClist,2,FALSE),\"\")","v":"Vinyl Chloride  (Chloroethylene)"},3.33E-8,{"$f":"IF($C33=\"\",\"\",VLOOKUP(C33,TAClist,13,FALSE))","v":62.5},{"$f":"IF(E33=\"\",\"\",E33)","v":3.33E-8},{"$f":"IF(C33<>\"\",CombControlEfficiency,\"\")","v":0},{"$f":"IF(E33=\"\",\"\",IF(CombControlEfficiency=\"\",G33*(1-H33),G33*(1-CombControlEfficiency)))","v":3.33E-8},null,{"$f":"IF(C33=\"\",\"\",C33)","v":"V4"},{"$f":"IF(K33=\"\",\"\",VLOOKUP(K33,TAClist,2,FALSE))","v":"Vinyl Chloride  (Chloroethylene)"},{"$f":"IF(C33=\"\",\"\",G33)","v":3.33E-8},{"$f":"IF(C33=\"\",\"\",I33)","v":3.33E-8}]
[null,null,"S6",{"$f":"IF($C34=\"\",\"\",VLOOKUP(C34,TAClist,2,FALSE))","v":"Styrene"},1.6499999999999999E-8,104.16,{"$f":"IF(E34=\"\",\"\",E34)","v":1.6499999999999999E-8},0,{"$f":"IF(E34=\"\",\"\",IF(CombControlEfficiency=\"\",G34*(1-H34),G34*(1-CombControlEfficiency)))","v":1.6499999999999999E-8},null,{"$f":"IF(C34=\"\",\"\",C34)","v":"S6"},{"$f":"IF(K34=\"\",\"\",VLOOKUP(K34,TAClist,2,FALSE))","v":"Styrene"},{"$f":"IF(C34=\"\",\"\",G34)","v":1.6499999999999999E-8},{"$f":"IF(C34=\"\",\"\",I34)","v":1.6499999999999999E-8}]
[null,null,"B12","1,3-Butadiene",9.4400000000000005E-9,54.09,9.4400000000000005E-9,0,9.4400000000000005E-9,null,"B12","1,3-Butadiene",9.4400000000000005E-9,9.4400000000000005E-9]
[null,null,null,"",null,"","","","",null,"","","",""]
[null,null,null,"",null,"","","","",null,"","","",""]
[null,null,null,"",null,"","","","",null,"","","",""]
[null,null,null,"",null,"","","","",null,"","","",""]
[null,null,null,"",null,"","","","",null,"","","",""]
[null,null,null,"",null,"","","","",null,"","","",""]
[null,null,null,"",null,"","","","",null,"","","",""]
[null,null,null,"",null,"","","","",null,"","","",""]
[null,null,null,"",null,"","","","",null,"","","",""]
[null,null,null,"",null,"","","","",null,"","","",""]
[null,null,null,"",null,"","","","",null,"","","",""]
[null,null,null,"",null,"","","","",null,"","","",""]
[null,null,null,"",null,"","","","",null,"","","",""]
[null,null,null,"",null,"","","","",null,"","","",""]
[null,null,null,"",null,"","","","",null,"","","",""]
[null,null,null,"",null,"","","","",null,"","","",""]
[null,null,null,"",null,"","","","",null,"","","",""]
[null,null,null,"",null,"","","","",null,"","","",""]
[null,null,null,"",null,"","","","",null,"","","",""]
[null,null,null,"",null,"","","","",null,"","","",""]
[null,null,null,"",null,"","","","",null,"","","",""]
[null,null,null,"",null,"","","","",null,"","","",""]
[null,null,null,"",null,"","","","",null,"","","",""]
[null,null,null,"",null,"","","","",null,"","","",""]
[null,null,null,"",null,"","","","",null,"","","",""]
[null,null,null,"",null,"","","","",null,"","","",""]
[null,null,null,"",null,"","","","",null,"","","",""]
[null,null,null,"",null,"","","","",null,"","","",""]
[null,null,null,"",null,"","","","",null,"","","",""]
[null,null,null,"",null,"","","","",null,"","","",""]
[null,null,null,"",null,"","","","",null,"","","",""]
[null,null,null,"",null,"","","","",null,"","","",""]
[null,null,null,"",null,"","","","",null,"","","",""]

{"sheet":"Tier 1 Report","index":2,"n_rows":53,"n_cols":17,"rows_kept":53,"cut":false,"hidden":false,"merged":[[14,14,14,15],[14,16,14,17],[7,7,7,8]]}
[]
[]
[null,null,"PRIMARY INPUT PARAMETERS MUST BE ENTERED ON THE EMISSIONS SHEET OR ON ONE OF THE EQUIPMENT SPECIFIC SHEETS"]
[]
[null,null,"TIER 1 SCREENING RISK ASSESSMENT REPORT",null,null,null,"Application deemed complete date:",null,{"$f":"DeemCompleteDate","v":"2020-07-14"}]
[null,null,{"$f":"Intro!A39","v":"\n(Procedure Version 8.1 & Package N, September 1, 2017 )"}]
[]
[null,null,{"$f":"\"A/N \"&Emissions!$E$7&\", \"&Emissions!$E$8","v":"A/N 622795 (96, 97), Spear's Manufacturing Co."},null,null,null,null,"Tier 1 Results"]
[null,null,"Equipment Type",{"$f":"SourceType","v":"Other"},null,{"$f":"IF(Emissions!$E$16= \"NO\",\"No T-BACT\",\"With T-BACT\")","v":"No T-BACT"},null,"Cancer/Chronic ASI","Acute ASI"]
[null,null,"Nearest Receptor Distance (actual)",{"$f":"MIN(Emissions!DistanceResidential,Emissions!DistanceCommercial)","v":157},"meters",{"$f":"VLOOKUP(SourceType,LookupEquipDesc,2,FALSE)","v":0},null,{"$f":"H53","v":2.8760152711198997E-4},{"$f":"I53","v":1.1065479008265069E-8}]
[null,null,"Receptor Distance (Table 1 Emission look up)",{"$f":"IF(D10>=100,100,IF(D10>=50,50,25))","v":100},"meters",{"$f":"VLOOKUP(SourceType,LookupEquipDesc,4,FALSE)","v":0},null,{"$f":"IF(H10>1,\"FAILED\",\"PASSED\")","v":"PASSED"},{"$f":"IF(I10>1,\"FAILED\",\"PASSED\")","v":"PASSED"},null,null,null,null,null,null,"column name","column no."]
[null,null,null,null,null,{"$f":"VLOOKUP(SourceType,LookupEquipDesc,6,FALSE)","v":0},null,null,null,null,null,null,null,null,"cancer column name",{"$f":"IF(D11=100,\"cancer100\",IF(D11=50,\"cancer50\",\"cancer25\"))","v":"cancer100"},{"$f":"MATCH(P12,'Table 1'!A1:M1,0)","v":10}]
[null,null,null,null,null,null,null,null,null,null,null,null,null,null,"acute column name",{"$f":"IF(D11=100,\"acute100\",IF(D11=50,\"acute50\",\"acute25\"))","v":"acute100"},{"$f":"MATCH(P13,'Table 1'!A1:M1,0)","v":13}]
[]
[null,null,"APPLICATION SCREENING INDEX CALCULATION"]
[null,"Code","Compound","Average Annual Emission Rate (lbs/yr)","Max Hourly Emission Rate (lbs/hr)","Cancer/Chronic Pollutant Screening Level (lbs/yr) from Table 1","Acute Pollutant Screening Level (lbs/hr) from Table 1","Cancer/Chronic Pollutant Screening Index (PSI)","Acute Pollutant Screening Index (PSI)"]
[null,{"$f":"'Tier 2 Report'!B36","v":"V4"},{"$f":"'Tier 2 Report'!C36:D36","v":"Vinyl Chloride  (Chloroethylene)"},{"$f":"'Tier 2 Report'!I76","v":2.9090879999999999E-4},{"$f":"'Tier 2 Report'!F76","v":3.33E-8},{"$f":"IF(OR($B17=0,$B17=\"\"),0,VLOOKUP($B17,Table1,$Q$12,FALSE))","v":1.65},{"$f":"IF(OR($B17=0,$B17=\"\"),0,VLOOKUP($B17,Table1,$Q$13,FALSE))","v":248},{"$f":"IF(OR(F17=\"N/A\",F17=\"\",F17=0),\"\",D17/F17)","v":1.7630836363636364E-4},{"$f":"IF(OR(G17=\"N/A\",G17=\"\",G17=0,E17=\"\"),\"\",E17/G17)","v":1.3427419354838709E-10}]
[null,{"$f":"'Tier 2 Report'!B37","v":"S6"},{"$f":"'Tier 2 Report'!C37:D37","v":"Styrene"},{"$f":"'Tier 2 Report'!I77","v":1.4414399999999999E-4},{"$f":"'Tier 2 Report'!F77","v":1.6499999999999999E-8},{"$f":"IF(OR($B18=0,$B18=\"\"),0,VLOOKUP($B18,Table1,$Q$12,FALSE))","v":271000},{"$f":"IF(OR($B18=0,$B18=\"\"),0,VLOOKUP($B18,Table1,$Q$13,FALSE))","v":29},{"$f":"IF(OR(F18=\"N/A\",F18=\"\",F18=0),\"\",D18/F18)","v":5.3189667896678968E-10},5.6896551724137928E-10]
[null,{"$f":"'Tier 2 Report'!B38","v":"B12"},{"$f":"'Tier 2 Report'!C38:D38","v":"1,3-Butadiene"},{"$f":"'Tier 2 Report'!I78","v":8.246784E-5},{"$f":"'Tier 2 Report'!F78","v":9.4400000000000005E-9},0.74099999999999999,0.91100000000000003,{"$f":"IF(OR(F19=\"N/A\",F19=\"\",F19=0),\"\",D19/F19)","v":1.1129263157894738E-4},1.0362239297475301E-8]
[null,{"$f":"'Tier 2 Report'!B39","v":""},{"$f":"'Tier 2 Report'!C39:D39","v":""},{"$f":"'Tier 2 Report'!I79","v":0},{"$f":"'Tier 2 Report'!F79","v":""},0,0,"",""]
[null,{"$f":"'Tier 2 Report'!B40","v":""},{"$f":"'Tier 2 Report'!C40:D40","v":""},{"$f":"'Tier 2 Report'!I80","v":0},{"$f":"'Tier 2 Report'!F80","v":""},0,0,"",""]
[null,{"$f":"'Tier 2 Report'!B41","v":""},{"$f":"'Tier 2 Report'!C41:D41","v":""},{"$f":"'Tier 2 Report'!I81","v":0},{"$f":"'Tier 2 Report'!F81","v":""},0,0,"",""]
[null,{"$f":"'Tier 2 Report'!B42","v":""},{"$f":"'Tier 2 Report'!C42:D42","v":""},{"$f":"'Tier 2 Report'!I82","v":0},{"$f":"'Tier 2 Report'!F82","v":""},0,0,"",""]
[null,{"$f":"'Tier 2 Report'!B43","v":""},{"$f":"'Tier 2 Report'!C43:D43","v":""},{"$f":"'Tier 2 Report'!I83","v":0},{"$f":"'Tier 2 Report'!F83","v":""},0,0,"",""]
[null,{"$f":"'Tier 2 Report'!B44","v":""},{"$f":"'Tier 2 Report'!C44:D44","v":""},{"$f":"'Tier 2 Report'!I84","v":0},{"$f":"'Tier 2 Report'!F84","v":""},0,0,"",""]
[null,{"$f":"'Tier 2 Report'!B45","v":""},{"$f":"'Tier 2 Report'!C45:D45","v":""},{"$f":"'Tier 2 Report'!I85","v":0},{"$f":"'Tier 2 Report'!F85","v":""},0,0,"",""]
[null,{"$f":"'Tier 2 Report'!B46","v":""},{"$f":"'Tier 2 Report'!C46:D46","v":""},{"$f":"'Tier 2 Report'!I86","v":0},{"$f":"'Tier 2 Report'!F86","v":""},0,0,"",""]
[null,{"$f":"'Tier 2 Report'!B47","v":""},{"$f":"'Tier 2 Report'!C47:D47","v":""},{"$f":"'Tier 2 Report'!I87","v":0},{"$f":"'Tier 2 Report'!F87","v":""},0,0,"",""]
[null,{"$f":"'Tier 2 Report'!B48","v":""},{"$f":"'Tier 2 Report'!C48:D48","v":""},{"$f":"'Tier 2 Report'!I88","v":0},{"$f":"'Tier 2 Report'!F88","v":""},0,0,"",""]
[null,{"$f":"'Tier 2 Report'!B49","v":""},{"$f":"'Tier 2 Report'!C49:D49","v":""},{"$f":"'Tier 2 Report'!I89","v":0},{"$f":"'Tier 2 Report'!F89","v":""},0,0,"",""]
[null,{"$f":"'Tier 2 Report'!B50","v":""},{"$f":"'Tier 2 Report'!C50:D50","v":""},{"$f":"'Tier 2 Report'!I90","v":0},{"$f":"'Tier 2 Report'!F90","v":""},0,0,"",""]
[null,{"$f":"'Tier 2 Report'!B51","v":""},{"$f":"'Tier 2 Report'!C51:D51","v":""},{"$f":"'Tier 2 Report'!I91","v":0},{"$f":"'Tier 2 Report'!F91","v":""},0,0,"",""]
[null,{"$f":"'Tier 2 Report'!B52","v":""},{"$f":"'Tier 2 Report'!C52:D52","v":""},{"$f":"'Tier 2 Report'!I92","v":0},{"$f":"'Tier 2 Report'!F92","v":""},0,0,"",""]
[null,{"$f":"'Tier 2 Report'!B53","v":""},{"$f":"'Tier 2 Report'!C53:D53","v":""},{"$f":"'Tier 2 Report'!I93","v":0},{"$f":"'Tier 2 Report'!F93","v":""},0,0,"",""]
[null,{"$f":"'Tier 2 Report'!B54","v":""},{"$f":"'Tier 2 Report'!C54:D54","v":""},{"$f":"'Tier 2 Report'!I94","v":0},{"$f":"'Tier 2 Report'!F94","v":""},0,0,"",""]
[null,{"$f":"'Tier 2 Report'!B55","v":""},{"$f":"'Tier 2 Report'!C55:D55","v":""},{"$f":"'Tier 2 Report'!I95","v":0},{"$f":"'Tier 2 Report'!F95","v":""},0,0,"",""]
[null,{"$f":"'Tier 2 Report'!B56","v":""},{"$f":"'Tier 2 Report'!C56:D56","v":""},{"$f":"'Tier 2 Report'!I96","v":0},{"$f":"'Tier 2 Report'!F96","v":""},0,0,"",""]
[null,{"$f":"'Tier 2 Report'!B57","v":""},{"$f":"'Tier 2 Report'!C57:D57","v":""},{"$f":"'Tier 2 Report'!I97","v":0},{"$f":"'Tier 2 Report'!F97","v":""},0,0,"",""]
[null,{"$f":"'Tier 2 Report'!B58","v":""},{"$f":"'Tier 2 Report'!C58:D58","v":""},{"$f":"'Tier 2 Report'!I98","v":0},{"$f":"'Tier 2 Report'!F98","v":""},0,0,"",""]
[null,{"$f":"'Tier 2 Report'!B59","v":""},{"$f":"'Tier 2 Report'!C59:D59","v":""},{"$f":"'Tier 2 Report'!I99","v":0},{"$f":"'Tier 2 Report'!F99","v":""},0,0,"",""]
[null,{"$f":"'Tier 2 Report'!B60","v":""},{"$f":"'Tier 2 Report'!C60:D60","v":""},{"$f":"'Tier 2 Report'!I100","v":0},{"$f":"'Tier 2 Report'!F100","v":""},0,0,"",{"$f":"IF(OR(G41=\"N/A\",G41=\"\",G41=0,E41=\"\"),\"\",E41/G41)","v":""}]
[null,{"$f":"'Tier 2 Report'!B61","v":""},{"$f":"'Tier 2 Report'!C61:D61","v":""},{"$f":"'Tier 2 Report'!I101","v":0},{"$f":"'Tier 2 Report'!F101","v":""},0,0,"",{"$f":"IF(OR(G42=\"N/A\",G42=\"\",G42=0,E42=\"\"),\"\",E42/G42)","v":""}]
[null,{"$f":"'Tier 2 Report'!B62","v":""},{"$f":"'Tier 2 Report'!C62:D62","v":""},{"$f":"'Tier 2 Report'!I102","v":0},{"$f":"'Tier 2 Report'!F102","v":""},0,0,"",""]
[null,{"$f":"'Tier 2 Report'!B63","v":""},{"$f":"'Tier 2 Report'!C63:D63","v":""},{"$f":"'Tier 2 Report'!I103","v":0},{"$f":"'Tier 2 Report'!F103","v":""},0,0,"",""]
[null,{"$f":"'Tier 2 Report'!B64","v":""},{"$f":"'Tier 2 Report'!C64:D64","v":""},{"$f":"'Tier 2 Report'!I104","v":0},{"$f":"'Tier 2 Report'!F104","v":""},0,0,"",""]
[null,{"$f":"'Tier 2 Report'!B65","v":""},{"$f":"'Tier 2 Report'!C65:D65","v":""},{"$f":"'Tier 2 Report'!I105","v":0},{"$f":"'Tier 2 Report'!F105","v":""},0,0,"",""]
[null,{"$f":"'Tier 2 Report'!B66","v":""},{"$f":"'Tier 2 Report'!C66:D66","v":""},{"$f":"'Tier 2 Report'!I106","v":0},{"$f":"'Tier 2 Report'!F106","v":""},0,0,"",""]
[null,{"$f":"'Tier 2 Report'!B67","v":""},{"$f":"'Tier 2 Report'!C67:D67","v":""},{"$f":"'Tier 2 Report'!I107","v":0},{"$f":"'Tier 2 Report'!F107","v":""},0,0,"",""]
[null,{"$f":"'Tier 2 Report'!B68","v":""},{"$f":"'Tier 2 Report'!C68:D68","v":""},{"$f":"'Tier 2 Report'!I108","v":0},{"$f":"'Tier 2 Report'!F108","v":""},0,0,"",""]
[null,{"$f":"'Tier 2 Report'!B69","v":""},{"$f":"'Tier 2 Report'!C69:D69","v":""},{"$f":"'Tier 2 Report'!I109","v":0},{"$f":"'Tier 2 Report'!F109","v":""},0,0,"",""]
[null,{"$f":"'Tier 2 Report'!B70","v":""},{"$f":"'Tier 2 Report'!C70:D70","v":""},{"$f":"'Tier 2 Report'!I110","v":0},{"$f":"'Tier 2 Report'!F110","v":""},0,0,"",""]
[null,{"$f":"'Tier 2 Report'!B71","v":""},{"$f":"'Tier 2 Report'!C71:D71","v":""},{"$f":"'Tier 2 Report'!I111","v":0},{"$f":"'Tier 2 Report'!F111","v":""},0,0,"",""]
[null,null,"TOTAL (APPLICATION SCREENING INDEX)",null,null,null,null,{"$f":"SUM(H17:H52)","v":2.8760152711198997E-4},{"$f":"SUM(I17:I52)","v":1.1065479008265069E-8}]

{"sheet":"Tier 3 Screen Input","index":3,"n_rows":39,"n_cols":16,"rows_kept":39,"cut":false,"hidden":true,"merged":[[17,11,17,12],[19,8,20,11],[5,7,7,13],[8,7,8,13],[8,1,9,4],[14,7,14,13],[9,7,13,13],[15,11,15,12],[16,11,16,12]]}
[]
[]
[null,"TIER 3 SCREEN INPUT & CANCER BURDEN CALCULATION",null,null,null,null,null,"A/N:",{"$f":"Emissions!E7","v":"622795 (96, 97)"},"Fac:",{"$f":"Emissions!E8","v":"Spear's Manufacturing Co."}]
[null,{"$f":"Intro!A39 & \" - \" & Intro!A38","v":"\n(Procedure Version 8.1 & Package N, September 1, 2017 ) - Risk Tool V1.105"}]
[]
[null,"Screening program used ",null,"AERSCREEN",null,null,null,{"$f":"IF(C35=\"NO\",\"\",IF('Tier 2 Report'!E156>'Tier 2 Report'!F156,\"Attention! Residential MICR exceeds threshold==> Cancer Burden Calculation is Triggered \",\"Attention! Commercial MICR exceeds threshold==> Cancer Burden Calculation is Triggered\"))","v":""}]
[null,"Convert 1-hr to Annual Conc. Factor",null,{"$f":"VLOOKUP(D6,O38:P39,2,FALSE)","v":0.1}]
[]
[null,"Instructions: Run a screening program at 1 lb/hr rate to get the max 1-hr concentrations at residential & commercial receptors.  Enter values into the yellow highlighted cells in the table below.  Review scaled up risk result in Tier 3 Report.",null,null,null,null,null,"Cancer Burden Calculation"]
[null,null,null,null,null,null,null,"Pursuant to the Risk Assessment Procedure, to calculate cancer burden, the distance at which MICR falls below one in a million needs to be calculated. The New 1-Hr X/Q for risk at 1.0E-06 is calculated and populated in the table below. To calculate the distance for the new 1-hr X/Q, enter lower and higher concentration data point near the new X/Q and their respective distances  in the table below (using AERSCREEN output file). The interpolated cancer burden result will be displayed on cell L18 in the table below and cell N153 on the Tier 3 Report."]
[]
[null,"Modeling emissions rate",null,0.126,"g/sec"]
[null,"Modeling emissions rate",null,{"$f":"D12/453.592*3600","v":1.0000176369953615},"lbs/hr"]
[null,"Modeling emissions rate",null,{"$f":"D13*8760/2000","v":4.3800772500396832},"tons/yr"]
[null,"Max Hours per day",null,{"$f":"HoursPerDay","v":24},"hr/day",null,null,"User input from AERSCREEN output file"]
[null,"Days per week",null,{"$f":"DaysPerWeek","v":7},"dy/wk",null,null,"Data Set:",null,null,{"$f":"IF(C35=\"NO\",\"\",\" @ Low Conc\")","v":""},{"$f":"IF(C35=\"NO\",\"\",\" @ New X/Q\")","v":""},null,{"$f":"IF(C35=\"NO\",\"\",\" @ High Conc\")","v":""}]
[null,"Weeks per year",null,{"$f":"WeeksPerYear","v":52},"wk/yr",null,null,"Max 1-Hr Concentration:",null,"(µg/m³)",94.3,{"$f":"IF(C35<>\"YES\",\"\",'Tier 2 Report'!N152*D14/D7)","v":""},null,84.35]
[null,"MODELING RESULTS - MAX ONE HOUR",null,null,null,null,null,"Corresponding Distance:",null,"(meters)",300,{"$f":"IF(AND(N17<>\"\",N18<>\"\",K17<>\"\",K18<>\"\"),(L17-K17)*(K18-N18)/(K17-N17)+K18, \"Distance to be Interpolated\")","v":{"$error":"#VALUE!"}},null,325]
[null,"Distance residential",null,{"$f":"Emissions!DistanceResidential","v":157},"meters"]
[null,"Max. 1-hr Conc. at Residential receptor",null,null,"µg/m³",null,null,null,"*** Conversion table is for conversion purposes only. ***  \nNumbers have no input value in Risk Calculation. "]
[null,"Annualized Conc. Residential",null,{"$f":"D20*$D$7","v":0},"µg/m³"]
[null,"Distance Commerical",null,{"$f":"Emissions!DistanceCommercial","v":265},"meters",null,null,null,"SCREEN INPUT DATA - BRITISH UNITS"]
[null,"Max. 1-hr Conc. at Comm. receptor",null,null,"µg/m³",null,null,null,"Temperature",null,100,"°F"]
[null,"Annualized Conc. Commercial",null,{"$f":"D23*$D$7","v":0},"µg/m³",null,null,null,"Stack diameter",null,12,"in"]
[null,null,null,null,null,null,null,null,"Stack height",null,10,"ft"]
[null,null,null,null,null,null,null,null,"Actual exhaust rate",null,100,"acfm"]
[null,"Annualized X/Q",null,null,null,null,null,null,"Modeling emissions rate",null,0.04,"lb/hr"]
[null,"X/Q Residential",null,{"$f":"$D$21/$D$14","v":0}," (µg/m³)/(tons/yr)"]
[null,"X/Q Commercial",null,{"$f":"$D$24/$D$14","v":0}," (µg/m³)/(tons/yr)",null,null,null,"SCREEN INPUT DATA - METRIC UNITS"]
[null,null,null,null,null,null,null,null,"Temperature",null,{"$f":"((K23-32)/1.8)+273","v":310.77777777777777},"K"]
[null,"Hourly X/Q (X/Q Max)",null,null,null,null,null,null,"Stack diameter",null,{"$f":"(K24/12)/3.2808","v":0.30480370641306997},"meters"]
[null,"X/Q Residential",null,{"$f":"$D$20/$D$13","v":0}," (µg/m³)/(lbs/hr)",null,null,null,"Stack area",null,{"$f":"3.14*(K31^2)/4","v":7.2930660062868788E-2},"m2"]
[null,"X/Q Commercial",null,{"$f":"$D$23/$D$13","v":0}," (µg/m³)/(lbs/hr)",null,null,null,"Stack height",null,{"$f":"K25/3.2808","v":3.0480370641306997},"meters"]
[null,null,null,null,null,null,null,null,"Stack velocity",null,{"$f":"(K26/2118.8)/K32","v":0.64714245414722182},"m/s"]
[null,"Cancer Burden Triggered?",{"$f":"'Tier 2 Report'!CBTrigger","v":"NO"},null,null,null,null,null,"Modeling emissions rate",null,{"$f":"K27*454/3600","v":5.0444444444444443E-3},"g/s"]
[]
[null,null,null,null,null,null,null,null,null,null,null,null,null,null,"Screen program used ","Convert fr 1hr to Annual Conc. Factor "]
[null,null,null,null,null,null,null,null,null,null,null,null,null,null,"SCREEN3",0.08]
[null,null,null,null,null,null,null,null,null,null,null,null,null,null,"AERSCREEN",0.1]

{"sheet":"Tier 2 Report","index":4,"n_rows":435,"n_cols":33,"rows_kept":435,"cut":false,"hidden":false,"merged":[[148,13,148,14],[149,2,149,3],[150,2,150,3],[161,2,161,4],[154,2,154,3],[151,2,151,3],[130,2,130,3],[131,2,131,3],[132,2,132,3],[133,2,133,3],[134,2,134,3],[135,2,135,3],[136,2,136,3],[137,2,137,3],[22,13,22,14],[128,2,128,3],[146,2,146,3],[122,2,122,3],[123,2,123,3],[124,2,124,3],[125,2,125,3],[126,2,126,3],[127,2,127,3],[109,2,109,3],[110,2,110,3],[138,2,138,3],[139,2,139,3],[106,2,106,3],[107,2,107,3],[108,2,108,3],[129,2,129,3],[105,2,105,3],[119,2,119,3],[120,2,120,3],[121,2,121,3],[101,2,101,3],[102,2,102,3],[91,2,91,3],[95,2,95,3],[96,2,96,3],[177,6,177,9],[140,2,140,3],[141,2,141,3],[142,2,142,3],[143,2,143,3],[144,2,144,3],[145,2,145,3],[147,2,147,3],[148,2,148,3],[153,2,153,3],[152,2,152,3],[151,8,151,12],[152,8,152,12],[156,8,156,12],[103,2,103,3],[104,2,104,3],[71,2,71,3],[75,2,75,3],[76,2,76,3],[77,2,77,3],[78,2,78,3],[97,2,97,3],[98,2,98,3],[99,2,99,3],[100,2,100,3],[85,2,85,3],[86,2,86,3],[87,2,87,3],[88,2,88,3],[89,2,89,3],[90,2,90,3],[79,2,79,3],[80,2,80,3],[81,2,81,3],[82,2,82,3],[83,2,83,3],[84,2,84,3],[92,2,92,3],[93,2,93,3],[94,2,94,3],[33,28,33,31],[35,2,35,3],[36,2,36,3],[37,2,37,3],[38,2,38,3],[39,2,39,3],[46,2,46,3],[47,2,47,3],[62,2,62,3],[48,2,48,3],[49,2,49,3],[50,2,50,3],[51,2,51,3],[40,2,40,3],[41,2,41,3],[42,2,42,3],[43,2,43,3],[44,2,44,3],[45,2,45,3],[52,2,52,3],[53,2,53,3],[54,2,54,3],[55,2,55,3],[56,2,56,3],[33,24,33,27],[16,9,16,11],[23,9,23,11],[24,9,24,11],[22,9,22,11],[70,2,70,3],[58,2,58,3],[59,2,59,3],[60,2,60,3],[61,2,61,3],[64,2,64,3],[65,2,65,3],[66,2,66,3],[67,2,67,3],[68,2,68,3],[69,2,69,3],[63,2,63,3],[57,2,57,3],[16,13,16,14],[17,13,17,14],[18,13,18,14],[21,13,21,14],[23,13,23,14],[24,13,24,14]]}
[]
[null,null,"EMISSIONS ARE ENTERED ON THE EMISSIONS WORKSHEET OR ON ONE OF EQUIPMENT WORKSHEETS"]
[null,null,"INPUT PARAMETERS ENTERED ON THE EMISSIONS SHEET ARE USED FOR TIERS 1 AND TIER 2 ANALYSES"]
[]
[null,null,null,{"$f":"IF(ScreeningMode=\"YES\",\"TIER 3 SCREENING RISK ASSESSMENT REPORT\",\"TIER 2 SCREENING RISK ASSESSMENT REPORT\")","v":"TIER 2 SCREENING RISK ASSESSMENT REPORT"}]
[null,null,null,{"$f":"Intro!A39 & \" - \" &Intro!A38","v":"\n(Procedure Version 8.1 & Package N, September 1, 2017 ) - Risk Tool V1.105"}]
[]
[null,null,"A/N:   ",{"$f":"Emissions!E7","v":"622795 (96, 97)"},null,null,"Fac:  ",{"$f":"Emissions!E8","v":"Spear's Manufacturing Co."},null,null,null,null,"Application deemed complete date:",{"$f":"DeemCompleteDate","v":"2020-07-14"}]
[]
[]
[null,null,"1. Stack Data",null,null,null,null,null,null,{"$f":"IF(ScreeningMode = \"yes\",\"2. Tier 3 Data\",\"2. Tier 2 Data\")","v":"2. Tier 2 Data"}]
[null,null,null,null,null,null,null,null,null,"Dispersion Factors tables",null,null,{"$f":"IF(PointVolumeSource=\"P\",\"Point Source\",\"Volume Source\")","v":"Point Source"}]
[null,null,"Equipment Type",{"$f":"SourceType","v":"Other"},null,{"$f":"VLOOKUP(SourceType,LookupEquipDesc,2,FALSE)","v":0},null,null,null,"For Chronic X/Q",null,null,{"$f":"IF(PointVolumeSource =\"P\",VLOOKUP(SourceType,TableIndex!$H$5:$L$13,2,0),VLOOKUP(SourceType,TableIndex!$H$5:$L$13,4,0))","v":"Table 6"}]
[null,null,null,null,null,{"$f":"VLOOKUP(SourceType,LookupEquipDesc,4,FALSE)","v":0},null,null,null,"For Acute X/Q max",null,null,{"$f":"IF(PointVolumeSource =\"P\",VLOOKUP(SourceType,TableIndex!$H$5:$L$13,3,0),VLOOKUP(SourceType,TableIndex!$H$5:$L$13,5,0))","v":"Table 6.4"}]
[null,null,null,null,null,{"$f":"VLOOKUP(SourceType,LookupEquipDesc,6,FALSE)","v":0}]
[null,null,"Combustion Eff",{"$f":"IF(CombControlEfficiency=0,\"0.0\",CombControlEfficiency)","v":"0.0"},null,{"$f":"VLOOKUP(SourceType,LookupEquipDesc,8,FALSE)","v":0},null,null,null,"Dilution Factors"]
[null,null,null,{"$f":"IF(Emissions!E16= \"No\",\"No T-BACT\",\"With T-BACT\")","v":"No T-BACT"},null,null,null,null,null,"Receptor",null,null,"Χ/Q (µg/m³)/(tons/yr)","X/Qmax (µg/m³)/(lbs/hr)"]
[null,null,null,null,null,null,null,null,null,"Residential",null,null,{"$f":"TableIndex!AC3","v":1.7869000000000002},{"$f":"TableIndex!AD3","v":71.687000000000012}]
[null,null,null,null,null,null,null,null,null,"Commercial - Worker",null,null,{"$f":"TableIndex!AC4","v":0.64900000000000002},{"$f":"TableIndex!AD4","v":28.651}]
[null,null,"Operation Schedule ",{"$f":" HoursPerDay","v":24},"hrs/day"]
[null,null,null,{"$f":"DaysPerWeek","v":7},"days/week",null,null,null,null,"Intake and Adjustment Factors"]
[null,null,null,{"$f":"WeeksPerYear","v":52},"weeks/year",null,null,null,null,null,null,null,"Residential","Worker"]
[null,null,null,null,null,null,null,null,null,"Year of Exposure ",null,null,{"$f":"YrExposure","v":30}]
[null,null,{"$f":"IF(SourceType=\"Crematory\",\"\",\"Stack Height\")","v":"Stack Height"},{"$f":"IF(SourceType=\"Crematory\",\"\",StackHeight)","v":32},{"$f":"IF(SourceType=\"Crematory\",\"\",\"ft\")","v":"ft"},null,null,null,null,{"$f":"\"Combined Exposure Factor (CEF) - \" & TableIndex!A8","v":"Combined Exposure Factor (CEF) - Table 4"},null,null,{"$f":"VLOOKUP(M23,'Table 4'!$G$6:$H$11,2,FALSE)","v":677.40233142857142},{"$f":"IF(YrExposure<=30,VLOOKUP(M23,'Table 4'!$F$21:$G$24,2,FALSE),'Table 4'!$G$24)","v":55.857142857142854}]
[null,null,{"$f":"IF(OR(PointVolumeSource=\"V\",SourceType=\"Crematory\"),\"Building Area\",\"\")","v":""},{"$f":"IF(OR(PointVolumeSource=\"V\",SourceType=\"Crematory\"),Emissions!E19,\"\")","v":""},{"$f":"IF(OR(PointVolumeSource=\"V\",SourceType=\"Crematory\"),\"ft²\",\"\")","v":""},null,null,null,null,{"$f":"\"Worker Adjustment Factor (WAF) - \"& TableIndex!A9","v":"Worker Adjustment Factor (WAF) - Table 5"},null,null,1,{"$f":"afann(DaysPerWeek,HoursPerDay)","v":1}]
[null,null,"Distance to Residential",{"$f":"Emissions!E20","v":157},"m"]
[null,null,"Distance to Commercial",{"$f":"Emissions!E21","v":265},"m"]
[null,null,"Meteorological Station",{"$f":"Emissions!E22","v":"Van Nuys Airport"}]
[]
[]
[]
[]
[null,null,null,null,null,null,null,null,"A/N:",{"$f":"$D$8","v":"622795 (96, 97)"},null,null,null,"Application deemed complete date:",{"$f":"$N$8","v":"2020-07-14"}]
[null,null,"3. Rule 1401 Compound Data",null,null,null,null,null,null,null,null,null,null,null,null,null,null,null,null,null,null,null,null,null," Table 1 look up adopted date",null,null,null,"Based on Deemed complete date, determine to include the risk factor or not (1 = yes, 0 = no)"]
[null,"Code","Compound",null,"R1 -\nUncontrolled (lbs/hr)","R2 - \nControlled (lbs/hr)","CP\n(mg/kg-day)-1","MP\nMICR Resident","MP \nMICR Worker","MP\nChronic Resident","MP \nChronic Worker","REL\nChronic\n(µg/m³)","REL\n8-hr Chronic (µg/m³)","REL\nAcute (µg/m³)","MWAF",null,null,null,null,null,null,null,null,null,"Date cancer","Date chronic","Date 8-hr Chronic","Date acute","Include cancer","Include chronic","Include 8-hr chronic","Include acute"]
[null,{"$f":"Emissions!K33","v":"V4"},{"$f":"IF(B36=\"\",\"\",VLOOKUP(B36,TAClist,2,FALSE))","v":"Vinyl Chloride  (Chloroethylene)"},null,{"$f":"Emissions!M33","v":3.33E-8},{"$f":"Emissions!N33","v":3.33E-8},{"$f":"IF(B36=\"\",\"\",VLOOKUP($B36,TAClist,4,FALSE)*$AC36)","v":0.27},{"$f":"IF($B36=\"\",\"\",VLOOKUP($B36,TAClist,VLOOKUP(YrExposure,lu_YrExpose_MPcol,2,TRUE),FALSE))","v":1},{"$f":"IF(B36=\"\",\"\",VLOOKUP($B36,TAClist,VLOOKUP(YrExposure,lu_YrExpose_MPcol,3,TRUE),FALSE))","v":1},{"$f":"IF(B36=\"\",\"\",VLOOKUP($B36,TAClist,9,FALSE))","v":1},{"$f":"IF(B36=\"\",\"\",VLOOKUP($B36,TAClist,10,FALSE))","v":1},{"$f":"IF(B36=\"\",\"\",VLOOKUP($B36,TAClist,8,FALSE)*$AD36)","v":0},{"$f":"IF(B36=\"\",\"\",VLOOKUP($B36,TAClist,11,FALSE)*$AE36)","v":0},{"$f":"IF(B36=\"\",\"\",VLOOKUP($B36,TAClist,12,FALSE)*$AF36)","v":180000},{"$f":"IF(B36=\"\",\"\",VLOOKUP($B36,TAClist,7,FALSE))","v":1},null,null,null,null,null,null,null,null,null,{"$f":"IF($B36=\"\",\"\",VLOOKUP($B36,Table1,2,FALSE))","v":"1990-12-07"},{"$f":"IF($B36=\"\",\"\",VLOOKUP($B36,Table1,3,FALSE))","v":"00:00:00"},{"$f":"IF($B36=\"\",\"\",VLOOKUP($B36,Table1,4,FALSE))","v":"00:00:00"},{"$f":"IF($B36=\"\",\"\",VLOOKUP($B36,Table1,5,FALSE))","v":"1999-08-13"},{"$f":"IF(DeemCompleteDate>=Y36,1,0)","v":1},{"$f":"IF(DeemCompleteDate>=Z36,1,0)","v":1},{"$f":"IF(DeemCompleteDate>=AA36,1,0)","v":1},{"$f":"IF(DeemCompleteDate>=AB36,1,0)","v":1}]
[null,{"$f":"Emissions!K34","v":"S6"},{"$f":"IF(B37=\"\",\"\",VLOOKUP(B37,TAClist,2,FALSE))","v":"Styrene"},null,{"$f":"Emissions!M34","v":1.6499999999999999E-8},{"$f":"Emissions!N34","v":1.6499999999999999E-8},0,1,1,1,1,900,0,{"$f":"IF(B37=\"\",\"\",VLOOKUP($B37,TAClist,12,FALSE)*$AF37)","v":21000},1,null,null,null,null,null,null,null,null,null,{"$f":"IF($B37=\"\",\"\",VLOOKUP($B37,Table1,2,FALSE))","v":"00:00:00"},{"$f":"IF($B37=\"\",\"\",VLOOKUP($B37,Table1,3,FALSE))","v":"2000-08-18"},"2015-07-05","1999-08-13",1,1,1,1]
[null,{"$f":"Emissions!K35","v":"B12"},"1,3-Butadiene",null,{"$f":"Emissions!M35","v":9.4400000000000005E-9},{"$f":"Emissions!N35","v":9.4400000000000005E-9},0.6,1,1,1,1,2,9,660,1,null,null,null,null,null,null,null,null,null,"1990-12-07","2001-06-15","2015-07-05","2017-09-01",1,1,1,1]
[null,{"$f":"Emissions!K36","v":""},"",null,{"$f":"Emissions!M36","v":""},{"$f":"Emissions!N36","v":""},"","","","","","","","","",null,null,null,null,null,null,null,null,null,"","","","",1,1,1,1]
[null,{"$f":"Emissions!K37","v":""},"",null,{"$f":"Emissions!M37","v":""},{"$f":"Emissions!N37","v":""},"","","","","","","","","",null,null,null,null,null,null,null,null,null,"","","","",1,1,1,1]
[null,{"$f":"Emissions!K38","v":""},"",null,{"$f":"Emissions!M38","v":""},{"$f":"Emissions!N38","v":""},"","","","","","","","","",null,null,null,null,null,null,null,null,null,"","","","",1,1,1,1]
[null,{"$f":"Emissions!K39","v":""},"",null,{"$f":"Emissions!M39","v":""},{"$f":"Emissions!N39","v":""},"","","","","","","","","",null,null,null,null,null,null,null,null,null,"","","","",1,1,1,1]
[null,{"$f":"Emissions!K40","v":""},"",null,{"$f":"Emissions!M40","v":""},{"$f":"Emissions!N40","v":""},"","","","","","","","","",null,null,null,null,null,null,null,null,null,"","","","",1,1,1,1]
[null,{"$f":"Emissions!K41","v":""},"",null,{"$f":"Emissions!M41","v":""},{"$f":"Emissions!N41","v":""},"","","","","","","","","",null,null,null,null,null,null,null,null,null,"","","","",1,1,1,1]
[null,{"$f":"Emissions!K42","v":""},"",null,{"$f":"Emissions!M42","v":""},{"$f":"Emissions!N42","v":""},"","","","","","","","","",null,null,null,null,null,null,null,null,null,"","","","",1,1,1,1]
[null,{"$f":"Emissions!K43","v":""},"",null,{"$f":"Emissions!M43","v":""},{"$f":"Emissions!N43","v":""},"","","","","","","","","",null,null,null,null,null,null,null,null,null,"","","","",1,1,1,1]
[null,{"$f":"Emissions!K44","v":""},"",null,{"$f":"Emissions!M44","v":""},{"$f":"Emissions!N44","v":""},"","","","","","","","","",null,null,null,null,null,null,null,null,null,"","","","",1,1,1,1]
[null,{"$f":"Emissions!K45","v":""},"",null,{"$f":"Emissions!M45","v":""},{"$f":"Emissions!N45","v":""},"","","","","","","","","",null,null,null,null,null,null,null,null,null,"","","","",1,1,1,1]
[null,{"$f":"Emissions!K46","v":""},{"$f":"IF(B49=\"\",\"\",VLOOKUP(B49,TAClist,2,FALSE))","v":""},null,{"$f":"Emissions!M46","v":""},{"$f":"Emissions!N46","v":""},"","",{"$f":"IF(B49=\"\",\"\",VLOOKUP($B49,TAClist,VLOOKUP(YrExposure,lu_YrExpose_MPcol,3,TRUE),FALSE))","v":""},{"$f":"IF(B49=\"\",\"\",VLOOKUP($B49,TAClist,9,FALSE))","v":""},{"$f":"IF(B49=\"\",\"\",VLOOKUP($B49,TAClist,10,FALSE))","v":""},{"$f":"IF(B49=\"\",\"\",VLOOKUP($B49,TAClist,8,FALSE)*$AD49)","v":""},"",{"$f":"IF(B49=\"\",\"\",VLOOKUP($B49,TAClist,12,FALSE)*$AF49)","v":""},{"$f":"IF(B49=\"\",\"\",VLOOKUP($B49,TAClist,7,FALSE))","v":""},null,null,null,null,null,null,null,null,null,"","","","",1,1,1,1]
[null,{"$f":"Emissions!K47","v":""},"",null,{"$f":"Emissions!M47","v":""},{"$f":"Emissions!N47","v":""},"","","","","","","","","",null,null,null,null,null,null,null,null,null,"","","","",1,1,1,1]
[null,{"$f":"Emissions!K48","v":""},"",null,{"$f":"Emissions!M48","v":""},{"$f":"Emissions!N48","v":""},"","","","","","","","","",null,null,null,null,null,null,null,null,null,"","","","",1,1,1,1]
[null,{"$f":"Emissions!K49","v":""},"",null,{"$f":"Emissions!M49","v":""},{"$f":"Emissions!N49","v":""},"","","","","","","","","",null,null,null,null,null,null,null,null,null,"","","","",1,1,1,1]
[null,{"$f":"Emissions!K50","v":""},"",null,{"$f":"Emissions!M50","v":""},{"$f":"Emissions!N50","v":""},"","","","","","","","","",null,null,null,null,null,null,null,null,null,"","","","",1,1,1,1]
[null,{"$f":"Emissions!K51","v":""},"",null,{"$f":"Emissions!M51","v":""},{"$f":"Emissions!N51","v":""},"","","","","","","","","",null,null,null,null,null,null,null,null,null,"","","","",1,1,1,1]
[null,{"$f":"Emissions!K52","v":""},"",null,{"$f":"Emissions!M52","v":""},{"$f":"Emissions!N52","v":""},"","","","","","","","","",null,null,null,null,null,null,null,null,null,"","","","",1,1,1,1]
[null,{"$f":"Emissions!K53","v":""},"",null,{"$f":"Emissions!M53","v":""},{"$f":"Emissions!N53","v":""},"","","","","","","","","",null,null,null,null,null,null,null,null,null,"","","","",1,1,1,1]
[null,{"$f":"Emissions!K54","v":""},"",null,{"$f":"Emissions!M54","v":""},{"$f":"Emissions!N54","v":""},"","","","","","","","","",null,null,null,null,null,null,null,null,null,"","","","",1,1,1,1]
[null,{"$f":"Emissions!K55","v":""},"",null,{"$f":"Emissions!M55","v":""},{"$f":"Emissions!N55","v":""},"","","","","","","","","",null,null,null,null,null,null,null,null,null,"","","","",1,1,1,1]
[null,{"$f":"Emissions!K56","v":""},"",null,{"$f":"Emissions!M56","v":""},{"$f":"Emissions!N56","v":""},"","","","","","","","","",null,null,null,null,null,null,null,null,null,"","","","",1,1,1,1]
[null,{"$f":"Emissions!K57","v":""},"",null,{"$f":"Emissions!M57","v":""},{"$f":"Emissions!N57","v":""},"","","","","","","","","",null,null,null,null,null,null,null,null,null,"","","","",1,1,1,1]
[null,{"$f":"Emissions!K58","v":""},"",null,{"$f":"Emissions!M58","v":""},{"$f":"Emissions!N58","v":""},"","","","","","","","","",null,null,null,null,null,null,null,null,null,"","","","",1,1,1,1]
[null,{"$f":"Emissions!K59","v":""},"",null,{"$f":"Emissions!M59","v":""},{"$f":"Emissions!N59","v":""},"","","","","","","","","",null,null,null,null,null,null,null,null,null,"","","","",1,1,1,1]
[null,{"$f":"Emissions!K60","v":""},"",null,{"$f":"Emissions!M60","v":""},{"$f":"Emissions!N60","v":""},"","","","","","","","","",null,null,null,null,null,null,null,null,null,"","","","",1,1,1,1]
[null,{"$f":"Emissions!K61","v":""},"",null,{"$f":"Emissions!M61","v":""},{"$f":"Emissions!N61","v":""},"","","","","","","","","",null,null,null,null,null,null,null,null,null,"","","","",1,1,1,1]
[null,{"$f":"Emissions!K62","v":""},"",null,{"$f":"Emissions!M62","v":""},{"$f":"Emissions!N62","v":""},"","","","","","","","","",null,null,null,null,null,null,null,null,null,"","","","",1,1,1,1]
[null,{"$f":"Emissions!K63","v":""},"",null,{"$f":"Emissions!M63","v":""},{"$f":"Emissions!N63","v":""},"","","","","","","","","",null,null,null,null,null,null,null,null,null,"","","","",1,1,1,1]
[null,{"$f":"Emissions!K64","v":""},"",null,{"$f":"Emissions!M64","v":""},{"$f":"Emissions!N64","v":""},"","","","","","","","","",null,null,null,null,null,null,null,null,null,"","","","",1,1,1,1]
[null,{"$f":"Emissions!K65","v":""},"",null,{"$f":"Emissions!M65","v":""},{"$f":"Emissions!N65","v":""},"","","","","","","","","",null,null,null,null,null,null,null,null,null,"","","","",1,1,1,1]
[null,{"$f":"Emissions!K66","v":""},"",null,{"$f":"Emissions!M66","v":""},{"$f":"Emissions!N66","v":""},"","","","","","","","","",null,null,null,null,null,null,null,null,null,"","","","",1,1,1,1]
[null,{"$f":"Emissions!K67","v":""},"",null,{"$f":"Emissions!M67","v":""},{"$f":"Emissions!N67","v":""},"","","","","","","","","",null,null,null,null,null,null,null,null,null,"","","","",1,1,1,1]
[null,{"$f":"Emissions!K68","v":""},"",null,{"$f":"Emissions!M68","v":""},{"$f":"Emissions!N68","v":""},"","","","","","","","","",null,null,null,null,null,null,null,null,null,"","","","",1,1,1,1]
[]
[null,null,null,null,null,null,null,null,"A/N:",{"$f":"$D$8","v":"622795 (96, 97)"},null,null,null,"Application deemed complete date:",{"$f":"$N$8","v":"2020-07-14"}]
[null,null,"4. Emission Calculations"]
[null,null,"Compound",null,"R1 (lbs/hr)","R2 (lbs/hr)","R1 (lbs/day)","R2 (lbs/day)","R2 (lbs/yr)","R2 (tons/yr)"]
[null,null,{"$f":"C36","v":"Vinyl Chloride  (Chloroethylene)"},null,{"$f":"Emissions!M33","v":3.33E-8},{"$f":"Emissions!N33","v":3.33E-8},{"$f":"E76*HoursPerDay","v":7.9920000000000001E-7},{"$f":"F76*HoursPerDay","v":7.9920000000000001E-7},{"$f":"(F76*HoursPerDay*DaysPerWeek*WeeksPerYear)","v":2.9090879999999999E-4},{"$f":"I76/2000","v":1.454544E-7}]
[null,null,"Styrene",null,{"$f":"Emissions!M34","v":1.6499999999999999E-8},{"$f":"Emissions!N34","v":1.6499999999999999E-8},3.96E-7,3.96E-7,1.4414399999999999E-4,{"$f":"I77/2000","v":7.2071999999999998E-8}]
[null,null,"1,3-Butadiene",null,{"$f":"Emissions!M35","v":9.4400000000000005E-9},{"$f":"Emissions!N35","v":9.4400000000000005E-9},2.2656000000000001E-7,2.2656000000000001E-7,8.246784E-5,{"$f":"I78/2000","v":4.1233919999999998E-8}]
[null,null,"",null,{"$f":"Emissions!M36","v":""},{"$f":"Emissions!N36","v":""},0,0,0,0]
[null,null,"",null,{"$f":"Emissions!M37","v":""},{"$f":"Emissions!N37","v":""},0,0,0,0]
[null,null,"",null,{"$f":"Emissions!M38","v":""},{"$f":"Emissions!N38","v":""},0,0,0,0]
[null,null,"",null,{"$f":"Emissions!M39","v":""},{"$f":"Emissions!N39","v":""},0,0,0,0]
[null,null,"",null,{"$f":"Emissions!M40","v":""},{"$f":"Emissions!N40","v":""},0,0,0,0]
[null,null,"",null,{"$f":"Emissions!M41","v":""},{"$f":"Emissions!N41","v":""},0,0,0,0]
[null,null,"",null,{"$f":"Emissions!M42","v":""},{"$f":"Emissions!N42","v":""},0,0,0,0]
[null,null,"",null,{"$f":"Emissions!M43","v":""},{"$f":"Emissions!N43","v":""},0,0,0,0]
[null,null,"",null,{"$f":"Emissions!M44","v":""},{"$f":"Emissions!N44","v":""},0,0,0,0]
[null,null,"",null,{"$f":"Emissions!M45","v":""},{"$f":"Emissions!N45","v":""},0,0,0,0]
[null,null,"",null,{"$f":"Emissions!M46","v":""},{"$f":"Emissions!N46","v":""},0,0,0,0]
[null,null,"",null,{"$f":"Emissions!M47","v":""},{"$f":"Emissions!N47","v":""},0,0,0,0]
[null,null,"",null,{"$f":"Emissions!M48","v":""},{"$f":"Emissions!N48","v":""},0,0,0,0]
[null,null,"",null,{"$f":"Emissions!M49","v":""},{"$f":"Emissions!N49","v":""},0,0,0,0]
[null,null,"",null,{"$f":"Emissions!M50","v":""},{"$f":"Emissions!N50","v":""},0,0,0,0]
[null,null,"",null,{"$f":"Emissions!M51","v":""},{"$f":"Emissions!N51","v":""},0,0,0,0]
[null,null,"",null,{"$f":"Emissions!M52","v":""},{"$f":"Emissions!N52","v":""},0,0,{"$f":"IF(SourceType = \"Spray Booth\",F95*24*7*52,(F95*HoursPerDay*DaysPerWeek*WeeksPerYear))","v":0},0]
[null,null,"",null,{"$f":"Emissions!M53","v":""},{"$f":"Emissions!N53","v":""},0,0,{"$f":"IF(SourceType = \"Spray Booth\",F96*24*7*52,(F96*HoursPerDay*DaysPerWeek*WeeksPerYear))","v":0},0]
[null,null,"",null,{"$f":"Emissions!M54","v":""},{"$f":"Emissions!N54","v":""},{"$f":"IF(SourceType=\"Spray Booth\",E97*24,E97*HoursPerDay)","v":0},{"$f":"IF(SourceType=\"Spray Booth\",F97*24,F97*HoursPerDay)","v":0},{"$f":"IF(SourceType = \"Spray Booth\",F97*24*7*52,(F97*HoursPerDay*DaysPerWeek*WeeksPerYear))","v":0},0]
[null,null,"",null,{"$f":"Emissions!M55","v":""},{"$f":"Emissions!N55","v":""},0,0,{"$f":"IF(SourceType = \"Spray Booth\",F98*24*7*52,(F98*HoursPerDay*DaysPerWeek*WeeksPerYear))","v":0},0]
[null,null,"",null,{"$f":"Emissions!M56","v":""},{"$f":"Emissions!N56","v":""},0,0,{"$f":"IF(SourceType = \"Spray Booth\",F99*24*7*52,(F99*HoursPerDay*DaysPerWeek*WeeksPerYear))","v":0},0]
[null,null,"",null,{"$f":"Emissions!M57","v":""},{"$f":"Emissions!N57","v":""},0,0,{"$f":"(F100*HoursPerDay*DaysPerWeek*WeeksPerYear)","v":0},0]
[null,null,"",null,{"$f":"Emissions!M58","v":""},{"$f":"Emissions!N58","v":""},0,0,0,0]
[null,null,"",null,{"$f":"Emissions!M59","v":""},{"$f":"Emissions!N59","v":""},0,0,0,0]
[null,null,"",null,{"$f":"Emissions!M60","v":""},{"$f":"Emissions!N60","v":""},0,0,0,0]
[null,null,"",null,{"$f":"Emissions!M61","v":""},{"$f":"Emissions!N61","v":""},0,0,0,0]
[null,null,"",null,{"$f":"Emissions!M62","v":""},{"$f":"Emissions!N62","v":""},0,0,0,0]
[null,null,"",null,{"$f":"Emissions!M63","v":""},{"$f":"Emissions!N63","v":""},0,0,0,0]
[null,null,"",null,{"$f":"Emissions!M64","v":""},{"$f":"Emissions!N64","v":""},0,0,0,0]
[null,null,"",null,{"$f":"Emissions!M65","v":""},{"$f":"Emissions!N65","v":""},{"$f":"E108*HoursPerDay","v":0},0,0,0]
[null,null,"",null,{"$f":"Emissions!M66","v":""},{"$f":"Emissions!N66","v":""},0,0,0,0]
[null,null,"",null,{"$f":"Emissions!M67","v":""},{"$f":"Emissions!N67","v":""},0,0,0,0]
[null,null,"",null,{"$f":"Emissions!M68","v":""},{"$f":"Emissions!N68","v":""},0,0,0,0]
[null,null,"Total",null,{"$f":"SUM(E76:E111)","v":5.9239999999999993E-8},{"$f":"SUM(F76:F111)","v":5.9239999999999993E-8},{"$f":"SUM(G76:G111)","v":1.42176E-6},1.42176E-6,{"$f":"SUM(I76:I111)","v":5.1752063999999998E-4},{"$f":"SUM(J76:J111)","v":2.5876031999999997E-7}]
[]
[null,null,{"$f":"IF([0]!ScreeningMode=\"NO\",\"TIER 2 RESULTS\",\"TIER 3 RESULTS\")","v":"TIER 2 RESULTS"},null,null,null,null,null,"A/N:",{"$f":"$D$8","v":"622795 (96, 97)"},null,null,null,"Application deemed complete date:",{"$f":"$N$8","v":"2020-07-14"}]
[]
[null,null,"5a. MICR"]
[null,null,"MICR Resident = CP (mg/(kg-day))^-1 * Q (ton/yr) * (X/Q) Resident  * CEF Resident * MP  Resident * 1e-6 * MWAF"]
[null,null,"MICR Worker   = CP (mg/(kg-day))^-1 * Q (ton/yr) * (X/Q) Worker * CEF Worker* MP Worker* WAF Worker* 1e-6 * MWAF"]
[null,null,"Compound",null,"Residential","Commercial"]
[null,null,{"$f":"C36","v":"Vinyl Chloride  (Chloroethylene)"},null,{"$f":"$G36*$J76*$M$18*$M$24*$H36*10^-6*$O36","v":4.7537634066394449E-11},{"$f":"$G36*$J76*$M$19*$N$24*$N$25*$I36*10^-6*$O36","v":1.423685433456E-12}]
[null,null,"Styrene",null,{"$f":"$G37*$J77*$M$18*$M$24*$H37*10^-6*$O37","v":0},0]
[null,null,"1,3-Butadiene",null,2.9946964670454698E-11,8.9686956902399989E-13]
[null,null,"",null,0,0]
[null,null,"",null,0,0]
[null,null,"",null,0,0]
[null,null,"",null,0,0]
[null,null,"",null,0,0]
[null,null,"",null,0,0]
[null,null,"",null,0,0]
[null,null,"",null,0,0]
[null,null,"",null,0,0]
[null,null,"",null,0,0]
[null,null,"",null,0,0]
[null,null,"",null,0,0]
[null,null,"",null,0,0]
[null,null,"",null,0,0]
[null,null,"",null,0,0]
[null,null,"",null,0,0]
[null,null,"",null,0,0]
[null,null,"",null,0,0]
[null,null,"",null,0,0]
[null,null,"",null,0,0,null,null,null,null,null,null,null,null,null,null,null,null,null,null,"Cancer Burden lookup table for cases"]
[null,null,"",null,0,0,null,null,null,null,null,null,null,null,null,null,null,null,null,null,"Model used:",null,null,null,{"$f":"SourceType & \" -  \" & PointVolumeSource","v":"Other -  P"}]
[null,null,"",null,0,0,null,null,null,null,null,null,null,null,null,null,null,null,null,null,"Interpolated Distance (meter)",null,null,null,{"$f":"IF(ScreeningMode=\"YES\",Y147,MAX(Y147:Y156))","v":0}]
[null,null,"",null,0,0]
[null,null,"",null,0,0,null,null,null,null,null,null,null,null,null,null,null,null,null,null,null,null,null,"New Distance (m)"]
[null,null,"",null,0,0,null,null,null,null,null,null,null,null,null,null,null,null,null,null,"Screening",null,null,null,{"$f":"IF(ScreeningMode=\"YES\",'Tier 3 Screen Input'!L18,\"No input\")","v":"No input"}]
[null,null,"",null,0,0,null,null,null,null,null,null,null,null,null,null,null,null,null,null,"Boiler",null,null,null,{"$f":"IF(SourceType=\"Boiler\",'Boiler Calc'!M7,\"Not Applicable\")","v":"Not Applicable"}]
[null,null,"",null,0,0,null,null,null,null,null,null,null,null,null,null,null,null,null,null,"Crematory",null,null,null,{"$f":"IF(SourceType = \"Crematory\",'Crematory Calc'!M7,\"Not Applicable\")","v":"Not Applicable"}]
[null,null,"",null,0,0,null,null,"5b. Is Cancer Burden Calculation Needed (MICR >1E-6)?",null,null,null,null,{"$f":"IF(OR($E$156>=1*10^-6,$F$156>=1*10^-6),\"YES\",\"NO\")","v":"NO"},null,null,null,null,null,null,"Diesel ICE",null,null,null,{"$f":"IF(SourceType = \"Diesel ICE\",'Diesel Engine Calc'!M7,\"Not Applicable\")","v":"Not Applicable"}]
[null,null,"",null,0,0,null,null,null,null,null,null,null,null,null,null,null,null,null,null,"Gas Station",null,null,null,"Not Applicable"]
[null,null,"",null,0,0,null,null,"New X/Q at which MICR70yr is one-in-a-million    [(µg/m³)/(tons/yr)]:",null,null,null,null,{"$f":"IF($N$150=\"YES\",IF($E$156>=$F$156,$M$18/'Tier 2 Report 70yr'!$E$159/1000000,$M$19/'Tier 2 Report 70yr'!$F$159/1000000),0)","v":0},null,null,null,null,null,null,"Diesel Pressure Washer",null,null,null,{"$f":"IF(SourceType = \"Pressure Washer\",'Diesel Engine Calc'!M7, \"Not Applicable\")","v":"Not Applicable"}]
[null,null,"",null,0,0,null,null,"New Distance, interpolated from X/Q table using New X/Q    (meter):",null,null,null,null,{"$f":"IF($N$150=\"NO\",\"\",IF($Y$144>0,$Y$144,\"\"))","v":""},null,null,null,null,null,null,"Lean Burn ICE",null,null,null,{"$f":"IF(SourceType = \"Lean Burn ICE\",'Engine Calc'!M7, \"Not Applicable\")","v":"Not Applicable"}]
[null,null,{"$f":"IF(SourceType=\"Spray Booth\",\"Total MICR from Coating\",C70)","v":""},null,{"$f":"IF(SourceType=\"Spray Booth\",SUM(E120:E140,$G70*$J110*$M$18*$M$24*$H70*10^-6*$O70))","v":false},{"$f":"IF(SourceType = \"Spray Booth\",SUM(F120:F140),$G70*$J110*$M$19*$N$24*$N$25*$I70*10^-6*$O70)","v":0},null,null,"Zone Impact Area (km²):",null,null,null,null,{"$f":"PI()*(N153/1000)^2","v":0},null,null,null,null,null,null,"Rich Burn ICE",null,null,null,{"$f":"IF(SourceType = \"Rich Burn ICE\",'Engine Calc'!M7, \"Not Applicable\")","v":"Not Applicable"}]
[null,null,{"$f":"IF(SourceType=\"Spray Booth\",\"Total MICR from Combustion\",C71)","v":""},null,{"$f":"IF(SourceType = \"Spray Booth\",SUM(E141:E151),$G71*$J111*$M$18*$M$24*$H71*10^-6*$O71)","v":0},{"$f":"IF(SourceType=\"Spray Booth\",SUM(F141:F151),$G71*$J111*$M$19*$N$24*$N$25*$I71*10^-6*$O71)","v":0},null,null,"Zone of Impact Population (7000 person/km²):",null,null,null,null,{"$f":"N154*7000","v":0},null,null,null,null,null,null,"Spray Booth",null,null,null,{"$f":"IF(SourceType = \"Spray Booth\",'Spray Booth Calc'!M7,\"Not Applicable\")","v":"Not Applicable"}]
[null,null,"Total",null,{"$f":"IF(SourceType = \"Spray Booth\",SUM(E154:E155),SUM($E$120:$E$155))","v":7.7484598736849147E-11},{"$f":"IF(SourceType = \"Spray Booth\",SUM(F154:F155),SUM($F$120:$F$155)*1)","v":2.3205550024800001E-12},null,null,"Cancer Burden:",null,null,null,null,{"$f":"N155*MAX('Tier 2 Report 70yr'!$E$159:$F$159)","v":0},null,null,null,null,null,null,"Other",null,null,null,{"$f":"IF(AND(SourceType=\"Other\",PointVolumeSource=\"P\"),'PSE Calc'!M7,IF(AND(SourceType=\"Other\",PointVolumeSource=\"V\"),'VSE Calc'!M7,\"No input\"))","v":0}]
[null,null,null,null,{"$f":"IF($E$156=0,\"No Cancer Risk\",IF(Emissions!TBact=\"YES\",IF($E$156<=0.00001,\"PASS\",\"FAIL\"),IF($E$156<=0.000001,\"PASS\",\"FAIL\")))","v":"PASS"},{"$f":"IF(F156=0,\"No Cancer Risk\",IF(Emissions!TBact=\"YES\",IF(F156<=0.00001,\"PASS\",\"FAIL\"),IF(F156<=0.000001,\"PASS\",\"FAIL\")))","v":"PASS"},null,null,{"$f":"IF(N156=0,\"\",IF(N156<=0.5,\"Cancer Burden is less than or equal to 0.5\",\"Cancer Burden is more than 0.5\"))","v":""},null,null,null,null,{"$f":"IF(N156=0,\"\",IF(N156<=0.5,\"PASS\",\"FAIL\"))","v":""}]
[null,null,"6. Hazard Index Summary",null,null,null,null,null,"A/N:",{"$f":"$D$8","v":"622795 (96, 97)"},null,null,null,"Application deemed complete date:",{"$f":"$N$8","v":"2020-07-14"}]
[null,null,"HIA = [Q(lb/hr) * (X/Q)max * MWAF ]/ Acute REL"]
[null,null,"HIC = [Q(ton/yr) * (X/Q) * MP * MWAF] / Chronic REL"]
[null,null,"HIC 8-hr= [Q(ton/yr) * (X/Q) * WAF * MWAF] / 8-hr Chronic REL"]
[null,null,"Target Organs",null,null,"Acute","Chronic","8-hr Chronic ","Acute \nPass/Fail","Chronic \nPass/Fail","8-hr Chronic  \nPass/Fail"]
[null,null,"Alimentary system (liver) - AL",null,null,{"$f":"MAX(E$220,E$262)","v":0},{"$f":"MAX(E$305,E$349)","v":0},{"$f":"IF(AND(HoursPerDay>=8,DaysPerWeek>=5),MAX(E$392,E$435),\"N/A\")","v":0},{"$f":"IF(OR(F163<=1,F163=\"\"),\"Pass\",\"Fail\")","v":"Pass"},{"$f":"IF(OR(G163<=1,G163=\"\"),\"Pass\",\"Fail\")","v":"Pass"},{"$f":"IF(OR(H163<=1,H163=\"\"),\"Pass\",\"Fail\")","v":"Pass"}]
[null,null,"Bones and teeth - BN",null,null,null,{"$f":"MAX(F$305,F$349)","v":0},{"$f":"IF(AND(HoursPerDay>=8,DaysPerWeek>=5),MAX(F$392,F$435),\"N/A\")","v":0},"Pass","Pass","Pass"]
[null,null,"Cardiovascular system - CV",null,null,{"$f":"MAX(F$220,F$262)","v":0},{"$f":"MAX(G$305,G$349)","v":0},{"$f":"IF(AND(HoursPerDay>=8,DaysPerWeek>=5),MAX(G$392,G$435),\"N/A\")","v":0},"Pass","Pass","Pass"]
[null,null,"Developmental - DEV",null,null,{"$f":"MAX(G$220,G$262)","v":1.0816668333333335E-9},{"$f":"MAX(H$305,H$349)","v":3.6840445824000001E-8},{"$f":"IF(AND(HoursPerDay>=8,DaysPerWeek>=5),MAX(H$392,H$435),\"N/A\")","v":8.1867657386666675E-9},"Pass","Pass","Pass"]
[null,null,"Endocrine system - END",null,null,null,{"$f":"MAX(I$305,I$349)","v":0},{"$f":"IF(AND(HoursPerDay>=8,DaysPerWeek>=5),MAX(I$392,I$435),\"N/A\")","v":0},"Pass","Pass","Pass"]
[null,null,"Eye",null,null,{"$f":"MAX(H$220,H$262)","v":6.9587595000000016E-11},{"$f":"MAX(J$305,J$349)","v":0},{"$f":"IF(AND(HoursPerDay>=8,DaysPerWeek>=5),MAX(J$392,J$435),\"N/A\")","v":0},"Pass","Pass","Pass"]
[null,null,"Hematopoietic system - HEM",null,null,{"$f":"MAX(I$220,I$262)","v":0},{"$f":"MAX(K$305,K$349)","v":0},{"$f":"IF(AND(HoursPerDay>=8,DaysPerWeek>=5),MAX(K$392,K$435),\"N/A\")","v":0},"Pass","Pass","Pass"]
[null,null,"Immune system - IMM",null,null,{"$f":"MAX(J$220,J$262)","v":0},{"$f":"MAX(L$305,L$349)","v":0},{"$f":"IF(AND(HoursPerDay>=8,DaysPerWeek>=5),MAX(L$392,L$435),\"N/A\")","v":0},"Pass","Pass","Pass"]
[null,null,"Kidney - KID",null,null,null,{"$f":"MAX(M$305,M$349)","v":0},{"$f":"IF(AND(HoursPerDay>=8,DaysPerWeek>=5),MAX(M$392,M$435),\"N/A\")","v":0},"Pass","Pass","Pass"]
[null,null,"Nervous system - NS",null,null,{"$f":"MAX(K$220,K$262)","v":1.3262095000000004E-11},{"$f":"MAX(N$305,N$349)","v":1.4309495200000001E-10},{"$f":"IF(AND(HoursPerDay>=8,DaysPerWeek>=5),MAX(N$392,N$435),\"N/A\")","v":0},"Pass","Pass","Pass"]
[null,null,"Reproductive system - REP",null,null,{"$f":"MAX(L$220,L$262)","v":1.0816668333333335E-9},{"$f":"MAX(O$305,O$349)","v":3.6840445824000001E-8},{"$f":"IF(AND(HoursPerDay>=8,DaysPerWeek>=5),MAX(O$392,O$435),\"N/A\")","v":0},"Pass","Pass","Pass"]
[null,null,"Respiratory system - RESP",null,null,{"$f":"MAX(M$220,M$262)","v":6.9587595000000016E-11},{"$f":"MAX(P$305,P$349)","v":0},{"$f":"IF(AND(HoursPerDay>=8,DaysPerWeek>=5),MAX(P$392,P$435),\"N/A\")","v":0},"Pass","Pass","Pass"]
[null,null,"Skin",null,null,{"$f":"MAX(N$220,N$262)","v":0},{"$f":"MAX(Q$305,Q$349)","v":0},{"$f":"IF(AND(HoursPerDay>=8,DaysPerWeek>=5),MAX(Q$392,Q$435),\"N/A\")","v":0},"Pass","Pass","Pass"]
[]
[]
[]
[null,null,null,null,null,null,null,null,null,"A/N:",{"$f":"$D$8","v":"622795 (96, 97)"},null,null,"Application deemed complete date:",{"$f":"$N$8","v":"2020-07-14"}]
[null,null,"6a. Hazard Index Acute - Resident"]
[null,null,"HIA = [Q(lb/hr) * (X/Q)max resident * MWAF] / Acute REL"]
[null,null,null,null,null,null,null,"HIA - Residential",null,null,null,null,null,null,null,null,null,null,null,null,"Lookup table Acute Target Organ Toxicity"]
[null,null,"Compound",null,"AL","CV","DEV","EYE","HEM","IMM","NS","REP","RESP","SKIN",null,null,null,null,null,null,"AL","CV","DEV","EYE","HEM","IMM","NS","REP","RESP","SKIN"]
[null,null,{"$f":"C36","v":"Vinyl Chloride  (Chloroethylene)"},null,{"$f":"IF(ISERR(U184),\"\", IF($N36=0,\"\",IF($T184=\"\",\"\",IF(OR(U184<>\"x\",U184=\"\"),\"\",($F76*$N$18*$O36)/$N36))))","v":""},{"$f":"IF(ISERR(V184),\"\", IF($N36=0,\"\",IF($T184=\"\",\"\",IF(OR(V184<>\"x\",V184=\"\"),\"\",($F76*$N$18*$O36)/$N36))))","v":""},{"$f":"IF(ISERR(W184),\"\", IF($N36=0,\"\",IF($T184=\"\",\"\",IF(OR(W184<>\"x\",W184=\"\"),\"\",($F76*$N$18*$O36)/$N36))))","v":""},{"$f":"IF(ISERR(X184),\"\", IF($N36=0,\"\",IF($T184=\"\",\"\",IF(OR(X184<>\"x\",X184=\"\"),\"\",($F76*$N$18*$O36)/$N36))))","v":1.3262095000000004E-11},{"$f":"IF(ISERR(Y184),\"\", IF($N36=0,\"\",IF($T184=\"\",\"\",IF(OR(Y184<>\"x\",Y184=\"\"),\"\",($F76*$N$18*$O36)/$N36))))","v":""},{"$f":"IF(ISERR(Z184),\"\", IF($N36=0,\"\",IF($T184=\"\",\"\",IF(OR(Z184<>\"x\",Z184=\"\"),\"\",($F76*$N$18*$O36)/$N36))))","v":""},{"$f":"IF(ISERR(AA184),\"\", IF($N36=0,\"\",IF($T184=\"\",\"\",IF(OR(AA184<>\"x\",AA184=\"\"),\"\",($F76*$N$18*$O36)/$N36))))","v":1.3262095000000004E-11},{"$f":"IF(ISERR(AB184),\"\", IF($N36=0,\"\",IF($T184=\"\",\"\",IF(OR(AB184<>\"x\",AB184=\"\"),\"\",($F76*$N$18*$O36)/$N36))))","v":""},{"$f":"IF(ISERR(AC184),\"\", IF($N36=0,\"\",IF($T184=\"\",\"\",IF(OR(AC184<>\"x\",AC184=\"\"),\"\",($F76*$N$18*$O36)/$N36))))","v":1.3262095000000004E-11},{"$f":"IF(ISERR(AD184),\"\", IF($N36=0,\"\",IF($T184=\"\",\"\",IF(OR(AD184<>\"x\",AD184=\"\"),\"\",($F76*$N$18*$O36)/$N36))))","v":""},null,null,null,null,null,{"$f":"IF($B36=\"\",\"\",$B36)","v":"V4"},{"$f":"IFERROR(IF($T184=\"\",\"\",VLOOKUP($T184,TOAcute_data,4,FALSE)),\"\")","v":0},{"$f":"IFERROR(IF($T184=\"\",\"\",VLOOKUP($T184,TOAcute_data,5,FALSE)),\"\")","v":0},{"$f":"IFERROR(IF($T184=\"\",\"\",VLOOKUP($T184,TOAcute_data,6,FALSE)),\"\")","v":0},{"$f":"IFERROR(IF($T184=\"\",\"\",VLOOKUP($T184,TOAcute_data,7,FALSE)),\"\")","v":"X"},{"$f":"IFERROR(IF($T184=\"\",\"\",VLOOKUP($T184,TOAcute_data,8,FALSE)),\"\")","v":0},{"$f":"IFERROR(IF($T184=\"\",\"\",VLOOKUP($T184,TOAcute_data,9,FALSE)),\"\")","v":0},{"$f":"IFERROR(IF($T184=\"\",\"\",VLOOKUP($T184,TOAcute_data,10,FALSE)),\"\")","v":"X"},{"$f":"IFERROR(IF($T184=\"\",\"\",VLOOKUP($T184,TOAcute_data,11,FALSE)),\"\")","v":0},{"$f":"IFERROR(IF($T184=\"\",\"\",VLOOKUP($T184,TOAcute_data,12,FALSE)),\"\")","v":"X"},{"$f":"IFERROR(IF($T184=\"\",\"\",VLOOKUP($T184,TOAcute_data,13,FALSE)),\"\")","v":0}]
[null,null,"Styrene",null,"","",5.6325500000000008E-11,{"$f":"IF(ISERR(X185),\"\", IF($N37=0,\"\",IF($T185=\"\",\"\",IF(OR(X185<>\"x\",X185=\"\"),\"\",($F77*$N$18*$O37)/$N37))))","v":5.6325500000000008E-11},"","","",5.6325500000000008E-11,5.6325500000000008E-11,"",null,null,null,null,null,"S6",0,0,"X","X",0,0,0,"X","X",0]
[null,null,"1,3-Butadiene",null,"","",1.0253413333333336E-9,"","","","",1.0253413333333336E-9,"","",null,null,null,null,null,"B12",0,0,"X",0,0,0,0,"X",0,0]
[null,null,"",null,"","","","","","","","","","",null,null,null,null,null,"","","","","","","","","","",""]
[null,null,"",null,"","","","","","","","","","",null,null,null,null,null,"","","","","","","","","","",""]
[null,null,"",null,"","","","","","","","","","",null,null,null,null,null,"","","","","","","","","","",""]
[null,null,"",null,"","","","","","","","","","",null,null,null,null,null,"","","","","","","","","","",""]
[null,null,"",null,"","","","","","","","","","",null,null,null,null,null,"","","","","","","","","","",""]
[null,null,"",null,"","","","","","","","","","",null,null,null,null,null,"","","","","","","","","","",""]
[null,null,"",null,"","","","","","","","","","",null,null,null,null,null,"","","","","","","","","","",""]
[null,null,"",null,"","","","","","","","","","",null,null,null,null,null,"","","","","","","","","","",""]
[null,null,"",null,"","","","","","","","","","",null,null,null,null,null,"","","","","","","","","","",""]
[null,null,"",null,"","","","","","","","","","",null,null,null,null,null,"","","","","","","","","","",""]
[null,null,"",null,"","","","","","","","","","",null,null,null,null,null,"","","","","","","","","","",""]
[null,null,"",null,"","","","","","","","","","",null,null,null,null,null,"","","","","","","","","","",""]
[null,null,"",null,"","","","","","","","","","",null,null,null,null,null,"","","","","","","","","","",""]
[null,null,"",null,"","","","","","","","","","",null,null,null,null,null,"","","","","","","","","","",""]
[null,null,"",null,"","","","","","","","","","",null,null,null,null,null,"","","","","","","","","","",""]
[null,null,"",null,"","","","","","","","","","",null,null,null,null,null,"","","","","","","","","","",""]
[null,null,"",null,"","","","","","","","","","",null,null,null,null,null,"","","","","","","","","","",""]
[null,null,"",null,"","","","","","","","","","",null,null,null,null,null,"","","","","","","","","","",""]
[null,null,"",null,"","","","","","","","","","",null,null,null,null,null,"","","","","","","","","","",""]
[null,null,"",null,"","","","","","","","","","",null,null,null,null,null,"","","","","","","","","","",""]
[null,null,"",null,"","","","","","","","","","",null,null,null,null,null,"","","","","","","","","","",""]
[null,null,"",null,"","","","","","","","","","",null,null,null,null,null,"","","","","","","","","","",""]
[null,null,"",null,"","","","","","","","","","",null,null,null,null,null,"","","","","","","","","","",""]
[null,null,"",null,"","","","","","","","","","",null,null,null,null,null,"","","","","","","","","","",""]
[null,null,"",null,"","","","","","","","","","",null,null,null,null,null,"","","","","","","","","","",""]
[null,null,"",null,"","","","","","","","","","",null,null,null,null,null,"","","","","","","","","","",""]
[null,null,"",null,"","","","","","","","","","",null,null,null,null,null,"","","","","","","","","","",""]
[null,null,"",null,"","","","","","","","","","",null,null,null,null,null,"","","","","","","","","","",""]
[null,null,"",null,"","","","","","","","","","",null,null,null,null,null,"","","","","","","","","","",""]
[null,null,"",null,"","","","","","","","","","",null,null,null,null,null,"","","","","","","","","","",""]
[null,null,"",null,"","","","","","","","","","",null,null,null,null,null,"","","","","","","","","","",""]
[null,null,"",null,"","","","","","","","","","",null,null,null,null,null,"","","","","","","","","","",""]
[null,null,"",null,"","","","","","","","","","",null,null,null,null,null,"","","","","","","","","","",""]
[null,null,"Total",null,{"$f":"SUM(E184:E219)","v":0},{"$f":"SUM(F184:F219)","v":0},1.0816668333333335E-9,6.9587595000000016E-11,0,0,1.3262095000000004E-11,1.0816668333333335E-9,6.9587595000000016E-11,0]
[]
[null,null,"6a. Hazard Index Acute - Worker",null,null,null,null,null,"A/N:",{"$f":"$D$8","v":"622795 (96, 97)"},null,null,null,"Application deemed complete date:",{"$f":"$N$8","v":"2020-07-14"}]
[null,null,"HIA = [Q(lb/hr) * (X/Q)max Worker * MWAF] / Acute REL"]
[null,null,null,null,null,null,null,"HIA - Commercial",null,null,null,null,null,null,null,null,null,null,null,null,"Lookup table Acute Target Organ Toxicity (Same as table above)"]
[null,null,"Compound",null,"AL","CV","DEV","EYE","HEM","IMM","NS","REP","RESP","SKIN",null,null,null,null,null,null,"AL","CV","DEV","EYE","HEM","IMM","NS","REP","RESP","SKIN"]
[null,null,{"$f":"C36","v":"Vinyl Chloride  (Chloroethylene)"},null,{"$f":"IF(ISERR(U226),\"\",IF($N36=0,\"\",IF($T226=\"\",\"\",IF(OR(U226<>\"x\",U226=\"\"),\"\",($F76*$N$19 *$O36)/$N36))))","v":""},{"$f":"IF(ISERR(V226),\"\",IF($N36=0,\"\",IF($T226=\"\",\"\",IF(OR(V226<>\"x\",V226=\"\"),\"\",($F76*$N$19 *$O36)/$N36))))","v":""},{"$f":"IF(ISERR(W226),\"\",IF($N36=0,\"\",IF($T226=\"\",\"\",IF(OR(W226<>\"x\",W226=\"\"),\"\",($F76*$N$19 *$O36)/$N36))))","v":""},{"$f":"IF(ISERR(X226),\"\",IF($N36=0,\"\",IF($T226=\"\",\"\",IF(OR(X226<>\"x\",X226=\"\"),\"\",($F76*$N$19 *$O36)/$N36))))","v":5.3004349999999995E-12},{"$f":"IF(ISERR(Y226),\"\",IF($N36=0,\"\",IF($T226=\"\",\"\",IF(OR(Y226<>\"x\",Y226=\"\"),\"\",($F76*$N$19 *$O36)/$N36))))","v":""},{"$f":"IF(ISERR(Z226),\"\",IF($N36=0,\"\",IF($T226=\"\",\"\",IF(OR(Z226<>\"x\",Z226=\"\"),\"\",($F76*$N$19 *$O36)/$N36))))","v":""},{"$f":"IF(ISERR(AA226),\"\",IF($N36=0,\"\",IF($T226=\"\",\"\",IF(OR(AA226<>\"x\",AA226=\"\"),\"\",($F76*$N$19 *$O36)/$N36))))","v":5.3004349999999995E-12},{"$f":"IF(ISERR(AB226),\"\",IF($N36=0,\"\",IF($T226=\"\",\"\",IF(OR(AB226<>\"x\",AB226=\"\"),\"\",($F76*$N$19 *$O36)/$N36))))","v":""},{"$f":"IF(ISERR(AC226),\"\",IF($N36=0,\"\",IF($T226=\"\",\"\",IF(OR(AC226<>\"x\",AC226=\"\"),\"\",($F76*$N$19 *$O36)/$N36))))","v":5.3004349999999995E-12},{"$f":"IF(ISERR(AD226),\"\",IF($N36=0,\"\",IF($T226=\"\",\"\",IF(OR(AD226<>\"x\",AD226=\"\"),\"\",($F76*$N$19 *$O36)/$N36))))","v":""},null,null,null,null,null,{"$f":"T184","v":"V4"},{"$f":"U184","v":0},{"$f":"V184","v":0},0,"X",0,0,"X",0,"X",0]
[null,null,"Styrene",null,"","",2.2511499999999998E-11,2.2511499999999998E-11,"","","",2.2511499999999998E-11,2.2511499999999998E-11,"",null,null,null,null,null,{"$f":"T185","v":"S6"},0,0,"X","X",0,0,0,"X","X",0]
[null,null,"1,3-Butadiene",null,"","",4.0979612121212121E-10,"","","","",4.0979612121212121E-10,"","",null,null,null,null,null,"B12",0,0,"X",0,0,0,0,"X",0,0]
[null,null,"",null,"","","","","","","","","","",null,null,null,null,null,"","","","","","","","","","",""]
[null,null,"",null,"","","","","","","","","","",null,null,null,null,null,"","","","","","","","","","",""]
[null,null,"",null,"","","","","","","","","","",null,null,null,null,null,"","","","","","","","","","",""]
[null,null,"",null,"","","","","","","","","","",null,null,null,null,null,"","","","","","","","","","",""]
[null,null,"",null,"","","","","","","","","","",null,null,null,null,null,"","","","","","","","","","",""]
[null,null,"",null,"","","","","","","","","","",null,null,null,null,null,"","","","","","","","","","",""]
[null,null,"",null,"","","","","","","","","","",null,null,null,null,null,"","","","","","","","","","",""]
[null,null,"",null,"","","","","","","","","","",null,null,null,null,null,"","","","","","","","","","",""]
[null,null,"",null,"","","","","","","","","","",null,null,null,null,null,"","","","","","","","","","",""]
[null,null,"",null,"","","","","","","","","","",null,null,null,null,null,"","","","","","","","","","",""]
[null,null,"",null,"","","","","","","","","","",null,null,null,null,null,"","","","","","","","","","",""]
[null,null,"",null,"","","","","","","","","","",null,null,null,null,null,"","","","","","","","","","",""]
[null,null,"",null,"","","","","","","","","","",null,null,null,null,null,"","","","","","","","","","",""]
[null,null,"",null,"","","","","","","","","","",null,null,null,null,null,"","","","","","","","","","",""]
[null,null,"",null,"","","","","","","","","","",null,null,null,null,null,{"$f":"T201","v":""},"","","","","","","","","",""]
[null,null,"",null,"","","","","","","","","","",null,null,null,null,null,"","","","","","","","","","",""]
[null,null,"",null,"","","","","","","","","","",null,null,null,null,null,"","","","","","","","","","",""]
[null,null,"",null,"","","","","","","","","","",null,null,null,null,null,"","","","","","","","","","",""]
[null,null,"",null,"","","","","","","","","","",null,null,null,null,null,"","","","","","","","","","",""]
[null,null,"",null,"","","","","","","","","","",null,null,null,null,null,"","","","","","","","","","",""]
[null,null,"",null,{"$f":"IF(ISERR(U249),\"\",IF($N59=0,\"\",IF($T249=\"\",\"\",IF(OR(U249<>\"x\",U249=\"\"),\"\",($F99*$N$19 *$O59)/$N59))))","v":""},{"$f":"IF(ISERR(V249),\"\",IF($N59=0,\"\",IF($T249=\"\",\"\",IF(OR(V249<>\"x\",V249=\"\"),\"\",($F99*$N$19 *$O59)/$N59))))","v":""},{"$f":"IF(ISERR(W249),\"\",IF($N59=0,\"\",IF($T249=\"\",\"\",IF(OR(W249<>\"x\",W249=\"\"),\"\",($F99*$N$19 *$O59)/$N59))))","v":""},"",{"$f":"IF(ISERR(Y249),\"\",IF($N59=0,\"\",IF($T249=\"\",\"\",IF(OR(Y249<>\"x\",Y249=\"\"),\"\",($F99*$N$19 *$O59)/$N59))))","v":""},{"$f":"IF(ISERR(Z249),\"\",IF($N59=0,\"\",IF($T249=\"\",\"\",IF(OR(Z249<>\"x\",Z249=\"\"),\"\",($F99*$N$19 *$O59)/$N59))))","v":""},{"$f":"IF(ISERR(AA249),\"\",IF($N59=0,\"\",IF($T249=\"\",\"\",IF(OR(AA249<>\"x\",AA249=\"\"),\"\",($F99*$N$19 *$O59)/$N59))))","v":""},{"$f":"IF(ISERR(AB249),\"\",IF($N59=0,\"\",IF($T249=\"\",\"\",IF(OR(AB249<>\"x\",AB249=\"\"),\"\",($F99*$N$19 *$O59)/$N59))))","v":""},{"$f":"IF(ISERR(AC249),\"\",IF($N59=0,\"\",IF($T249=\"\",\"\",IF(OR(AC249<>\"x\",AC249=\"\"),\"\",($F99*$N$19 *$O59)/$N59))))","v":""},{"$f":"IF(ISERR(AD249),\"\",IF($N59=0,\"\",IF($T249=\"\",\"\",IF(OR(AD249<>\"x\",AD249=\"\"),\"\",($F99*$N$19 *$O59)/$N59))))","v":""},null,null,null,null,null,"","","","","","","","","","",""]
[null,null,"",null,"","","",{"$f":"IF(ISERR(X250),\"\",IF($N60=0,\"\",IF($T250=\"\",\"\",IF(OR(X250<>\"x\",X250=\"\"),\"\",($F100*$N$19 *$O60)/$N60))))","v":""},"","","","","","",null,null,null,null,null,"","","","","","","","","","",""]
[null,null,"",null,"","","","","","","","","","",null,null,null,null,null,"","","","","","","","","","",""]
[null,null,"",null,"","","","","","","","","","",null,null,null,null,null,"","","","","","","","","","",""]
[null,null,"",null,"","","","","","","","","","",null,null,null,null,null,"","","","","","","","","","",""]
[null,null,"",null,"","","","","","","","","","",null,null,null,null,null,"","","","","","","","","","",""]
[null,null,"",null,"","","","","","","","","","",null,null,null,null,null,"","","","","","","","","","",""]
[null,null,"",null,"","","","","","","","","","",null,null,null,null,null,"","","","","","","","","","",""]
[null,null,"",null,"","","","","","","","","","",null,null,null,null,null,"","","","","","","","","","",""]
[null,null,"",null,"","","","","","","","","","",null,null,null,null,null,"","","","","","","","","","",""]
[null,null,"",null,"","","","","","","","","","",null,null,null,null,null,{"$f":"T217","v":""},"","","","","","","","","",""]
[null,null,"",null,"","","","","","","","","","",null,null,null,null,null,"","","","","","","","","","",""]
[null,null,"",null,"","","","","","","","","","",null,null,null,null,null,"","","","","","","","","","",""]
[null,null,"Total",null,{"$f":"SUM(E226:E261)","v":0},{"$f":"SUM(F226:F261)","v":0},4.3230762121212123E-10,2.7811934999999998E-11,0,0,5.3004349999999995E-12,4.3230762121212123E-10,2.7811934999999998E-11,0]
[]
[null,null,null,null,null,null,null,null,"A/N:",{"$f":"$D$8","v":"622795 (96, 97)"},null,null,null,"Application deemed complete date:",{"$f":"$N$8","v":"2020-07-14"}]
[null,null,"6b. Hazard Index Chronic - Resident"]
[null,null,"HIC = [Q(ton/yr) * (X/Q) Resident * MP Chronic Resident * MWAF] / Chronic REL"]
[null,null,null,null,null,null,null,null,"HIC - Residential",null,null,null,null,null,null,null,null,null,null,null,"Look up table Chronic Target Organ "]
[null,null,"Compound",null,"AL","BN","CV","DEV","END","EYE","HEM","IMM","KID","NS","REP","RESP","SKIN",null,null,null,"AL","BN","CV","DEV","END","EYE","HEM","IMM","KID","NS","REP","RESP","SKIN"]
[null,null,{"$f":"C36","v":"Vinyl Chloride  (Chloroethylene)"},null,{"$f":"IF(ISERR(U269),\"\",IF($L36=0,\"\",IF($T269=\"\",\"\",IF(OR(U269<>\"x\",U269=\"\"),\"\",($J76*$M$18*$J36*$O36)/$L36))))","v":""},{"$f":"IF(ISERR(V269),\"\",IF($L36=0,\"\",IF($T269=\"\",\"\",IF(OR(V269<>\"x\",V269=\"\"),\"\",($J76*$M$18*$J36*$O36)/$L36))))","v":""},{"$f":"IF(ISERR(W269),\"\",IF($L36=0,\"\",IF($T269=\"\",\"\",IF(OR(W269<>\"x\",W269=\"\"),\"\",($J76*$M$18*$J36*$O36)/$L36))))","v":""},{"$f":"IF(ISERR(X269),\"\",IF($L36=0,\"\",IF($T269=\"\",\"\",IF(OR(X269<>\"x\",X269=\"\"),\"\",($J76*$M$18*$J36*$O36)/$L36))))","v":""},{"$f":"IF(ISERR(Y269),\"\",IF($L36=0,\"\",IF($T269=\"\",\"\",IF(OR(Y269<>\"x\",Y269=\"\"),\"\",($J76*$M$18*$J36*$O36)/$L36))))","v":""},{"$f":"IF(ISERR(Z269),\"\",IF($L36=0,\"\",IF($T269=\"\",\"\",IF(OR(Z269<>\"x\",Z269=\"\"),\"\",($J76*$M$18*$J36*$O36)/$L36))))","v":""},{"$f":"IF(ISERR(AA269),\"\",IF($L36=0,\"\",IF($T269=\"\",\"\",IF(OR(AA269<>\"x\",AA269=\"\"),\"\",($J76*$M$18*$J36*$O36)/$L36))))","v":""},{"$f":"IF(ISERR(AB269),\"\",IF($L36=0,\"\",IF($T269=\"\",\"\",IF(OR(AB269<>\"x\",AB269=\"\"),\"\",($J76*$M$18*$J36*$O36)/$L36))))","v":""},{"$f":"IF(ISERR(AC269),\"\",IF($L36=0,\"\",IF($T269=\"\",\"\",IF(OR(AC269<>\"x\",AC269=\"\"),\"\",($J76*$M$18*$J36*$O36)/$L36))))","v":""},{"$f":"IF(ISERR(AD269),\"\",IF($L36=0,\"\",IF($T269=\"\",\"\",IF(OR(AD269<>\"x\",AD269=\"\"),\"\",($J76*$M$18*$J36*$O36)/$L36))))","v":""},{"$f":"IF(ISERR(AE269),\"\",IF($L36=0,\"\",IF($T269=\"\",\"\",IF(OR(AE269<>\"x\",AE269=\"\"),\"\",($J76*$M$18*$J36*$O36)/$L36))))","v":""},{"$f":"IF(ISERR(AF269),\"\",IF($L36=0,\"\",IF($T269=\"\",\"\",IF(OR(AF269<>\"x\",AF269=\"\"),\"\",($J76*$M$18*$J36*$O36)/$L36))))","v":""},{"$f":"IF(ISERR(AG269),\"\",IF($L36=0,\"\",IF($T269=\"\",\"\",IF(OR(AG269<>\"x\",AG269=\"\"),\"\",($J76*$M$18*$J36*$O36)/$L36))))","v":""},null,null,{"$f":"IF($B36=\"\",\"\",$B36)","v":"V4"},{"$f":"IFERROR(IF($T269=\"\",\"\",VLOOKUP($T269,TOChronic_data,4,FALSE)),\"\")","v":""},{"$f":"IFERROR(IF($T269=\"\",\"\",VLOOKUP($T269,TOChronic_data,5,FALSE)),\"\")","v":""},{"$f":"IFERROR(IF($T269=\"\",\"\",VLOOKUP($T269,TOChronic_data,6,FALSE)),\"\")","v":""},{"$f":"IFERROR(IF($T269=\"\",\"\",VLOOKUP($T269,TOChronic_data,7,FALSE)),\"\")","v":""},{"$f":"IFERROR(IF($T269=\"\",\"\",VLOOKUP($T269,TOChronic_data,8,FALSE)),\"\")","v":""},{"$f":"IFERROR(IF($T269=\"\",\"\",VLOOKUP($T269,TOChronic_data,9,FALSE)),\"\")","v":""},{"$f":"IFERROR(IF($T269=\"\",\"\",VLOOKUP($T269,TOChronic_data,10,FALSE)),\"\")","v":""},{"$f":"IFERROR(IF($T269=\"\",\"\",VLOOKUP($T269,TOChronic_data,11,FALSE)),\"\")","v":""},{"$f":"IFERROR(IF($T269=\"\",\"\",VLOOKUP($T269,TOChronic_data,12,FALSE)),\"\")","v":""},{"$f":"IFERROR(IF($T269=\"\",\"\",VLOOKUP($T269,TOChronic_data,13,FALSE)),\"\")","v":""},{"$f":"IFERROR(IF($T269=\"\",\"\",VLOOKUP($T269,TOChronic_data,14,FALSE)),\"\")","v":""},{"$f":"IFERROR(IF($T269=\"\",\"\",VLOOKUP($T269,TOChronic_data,15,FALSE)),\"\")","v":""},{"$f":"IFERROR(IF($T269=\"\",\"\",VLOOKUP($T269,TOChronic_data,16,FALSE)),\"\")","v":""}]
[null,null,"Styrene",null,"","","","","","","","","",1.4309495200000001E-10,"","","",null,null,"S6",0,0,0,0,0,0,0,0,0,"X",0,0,0]
[null,null,"1,3-Butadiene",null,"","","",3.6840445824000001E-8,"","","","","","",3.6840445824000001E-8,"","",null,null,"B12",0,0,0,"X",0,0,0,0,0,0,"X",0,0]
[null,null,"",null,"","","","","","","","","","","","","",null,null,"","","","","","","","","","","","","",""]
[null,null,"",null,"","","","","","","","","","","","","",null,null,"","","","","","","","","","","","","",""]
[null,null,"",null,"","","","","","","","","","","","","",null,null,"","","","","","","","","","","","","",""]
[null,null,"",null,"","","","","","","","","","","","","",null,null,"","","","","","","","","","","","","",""]
[null,null,"",null,"","","","","","","","","","","","","",null,null,"","","","","","","","","","","","","",""]
[null,null,"",null,"","","","","","","","","","","","","",null,null,"","","","","","","","","","","","","",""]
[null,null,"",null,"","","","","","","","","","","","","",null,null,"","","","","","","","","","","","","",""]
[null,null,"",null,"","","","","","","","","","","","","",null,null,"","","","","","","","","","","","","",""]
[null,null,"",null,"","","","","","","","","","","","","",null,null,"","","","","","","","","","","","","",""]
[null,null,"",null,"","","","","","","","","","","","","",null,null,"","","","","","","","","","","","","",""]
[null,null,"",null,"","","","","","","","","","","","","",null,null,"","","","","","","","","","","","","",""]
[null,null,"",null,"","","","","","","","","","","","","",null,null,"","","","","","","","","","","","","",""]
[null,null,"",null,"","","","","","","","","","","","","",null,null,"","","","","","","","","","","","","",""]
[null,null,"",null,"","","","","","","","","","","","","",null,null,"","","","","","","","","","","","","",""]
[null,null,"",null,"","","","","","","","","","","","","",null,null,"","","","","","","","","","","","","",""]
[null,null,"",null,"","","","","","","","","","","","","",null,null,"","","","","","","","","","","","","",""]
[null,null,"",null,"","","","","","","","","","","","","",null,null,"","","","","","","","","","","","","",""]
[null,null,"",null,"","","","","","","","","","","","","",null,null,"","","","","","","","","","","","","",""]
[null,null,"",null,"","","","","","","","","","","","","",null,null,"","","","","","","","","","","","","",""]
[null,null,"",null,"","","","","","","","","","","","","",null,null,"","","","","","","","","","","","","",""]
[null,null,"",null,"","","","","","","","","","","","","",null,null,"","","","","","","","","","","","","",""]
[null,null,"",null,"","","","","","","","","","","","","",null,null,"","","","","","","","","","","","","",""]
[null,null,"",null,"","","","","","","","","","","","","",null,null,"","","","","","","","","","","","","",""]
[null,null,"",null,"","","","","","","","","","","","","",null,null,"","","","","","","","","","","","","",""]
[null,null,"",null,"","","","","","","","","","","","","",null,null,"","","","","","","","","","","","","",""]
[null,null,"",null,"","","","","","","","","","","","","",null,null,"","","","","","","","","","","","","",""]
[null,null,"",null,"","","","","","","","","","","","","",null,null,"","","","","","","","","","","","","",""]
[null,null,"",null,"","","","","","","","","","","","","",null,null,"","","","","","","","","","","","","",""]
[null,null,"",null,"","","","","","","","","","","","","",null,null,"","","","","","","","","","","","","",""]
[null,null,"",null,"","","","","","","","","","","","","",null,null,"","","","","","","","","","","","","",""]
[null,null,"",null,"","","","","","","","","","","","","",null,null,"","","","","","","","","","","","","",""]
[null,null,"",null,"","","","","","","","","","","","","",null,null,"","","","","","","","","","","","","",""]
[null,null,"",null,"","","","","","","","","","","","","",null,null,"","","","","","","","","","","","","",""]
[null,null,"Total",null,{"$f":"SUM(E269:E304)","v":0},{"$f":"SUM(F269:F304)","v":0},0,3.6840445824000001E-8,0,0,0,0,0,1.4309495200000001E-10,3.6840445824000001E-8,0,0]
[null,null,null,null,null,null,null,null,null,null,null,null,null,null,null,null,null,null,null,null,{"$f":"IF($T306=\"\",\"\",VLOOKUP($T306,table10A,MATCH(E$268,head10A,0),FALSE))","v":""},{"$f":"IF($T306=\"\",\"\",VLOOKUP($T306,table10A,MATCH(F$268,head10A,0),FALSE))","v":""},{"$f":"IF($T306=\"\",\"\",VLOOKUP($T306,table10A,MATCH(G$268,head10A,0),FALSE))","v":""},{"$f":"IF($T306=\"\",\"\",VLOOKUP($T306,table10A,MATCH(H$268,head10A,0),FALSE))","v":""},{"$f":"IF($T306=\"\",\"\",VLOOKUP($T306,table10A,MATCH(I$268,head10A,0),FALSE))","v":""},{"$f":"IF($T306=\"\",\"\",VLOOKUP($T306,table10A,MATCH(J$268,head10A,0),FALSE))","v":""},{"$f":"IF($T306=\"\",\"\",VLOOKUP($T306,table10A,MATCH(K$268,head10A,0),FALSE))","v":""},{"$f":"IF($T306=\"\",\"\",VLOOKUP($T306,table10A,MATCH(L$268,head10A,0),FALSE))","v":""},{"$f":"IF($T306=\"\",\"\",VLOOKUP($T306,table10A,MATCH(M$268,head10A,0),FALSE))","v":""},{"$f":"IF($T306=\"\",\"\",VLOOKUP($T306,table10A,MATCH(R$268,head10A,0),FALSE))","v":""}]
[]
[null,null,null,null,null,null,null,null,"A/N:",{"$f":"$D$8","v":"622795 (96, 97)"},null,null,null,"Application deemed complete date:",{"$f":"$N$8","v":"2020-07-14"}]
[null,null,"6b. Hazard Index Chronic - Worker"]
[null,null,"HIC = [Q(ton/yr) * (X/Q) * MP Chronic Worker * MWAF] / Chronic REL"]
[null,null,null,null,null,null,null,null,"HIC - Commercial",null,null,null,null,null,null,null,null,null,null,null,"Look up table Chronic Target Organ "]
[null,null,"Compound",null,"AL","BN","CV","DEV","END","EYE","HEM","IMM","KID","NS","REP","RESP","SKIN",null,null,null,"AL","BN","CV","DEV","END","EYE","HEM","IMM","KID","NS","REP","RESP","SKIN"]
[null,null,{"$f":"C36","v":"Vinyl Chloride  (Chloroethylene)"},null,{"$f":"IF(ISERR(U313),\"\",IF($L36=0,\"\",IF($T313=\"\",\"\",IF(OR(U313<>\"x\",U313=\"\"),\"\",($J76*$M$19*$K36*$O36)/$L36))))","v":""},{"$f":"IF(ISERR(V313),\"\",IF($L36=0,\"\",IF($T313=\"\",\"\",IF(OR(V313<>\"x\",V313=\"\"),\"\",($J76*$M$19*$K36*$O36)/$L36))))","v":""},{"$f":"IF(ISERR(W313),\"\",IF($L36=0,\"\",IF($T313=\"\",\"\",IF(OR(W313<>\"x\",W313=\"\"),\"\",($J76*$M$19*$K36*$O36)/$L36))))","v":""},{"$f":"IF(ISERR(X313),\"\",IF($L36=0,\"\",IF($T313=\"\",\"\",IF(OR(X313<>\"x\",X313=\"\"),\"\",($J76*$M$19*$K36*$O36)/$L36))))","v":""},{"$f":"IF(ISERR(Y313),\"\",IF($L36=0,\"\",IF($T313=\"\",\"\",IF(OR(Y313<>\"x\",Y313=\"\"),\"\",($J76*$M$19*$K36*$O36)/$L36))))","v":""},{"$f":"IF(ISERR(Z313),\"\",IF($L36=0,\"\",IF($T313=\"\",\"\",IF(OR(Z313<>\"x\",Z313=\"\"),\"\",($J76*$M$19*$K36*$O36)/$L36))))","v":""},{"$f":"IF(ISERR(AA313),\"\",IF($L36=0,\"\",IF($T313=\"\",\"\",IF(OR(AA313<>\"x\",AA313=\"\"),\"\",($J76*$M$19*$K36*$O36)/$L36))))","v":""},{"$f":"IF(ISERR(AB313),\"\",IF($L36=0,\"\",IF($T313=\"\",\"\",IF(OR(AB313<>\"x\",AB313=\"\"),\"\",($J76*$M$19*$K36*$O36)/$L36))))","v":""},{"$f":"IF(ISERR(AC313),\"\",IF($L36=0,\"\",IF($T313=\"\",\"\",IF(OR(AC313<>\"x\",AC313=\"\"),\"\",($J76*$M$19*$K36*$O36)/$L36))))","v":""},{"$f":"IF(ISERR(AD313),\"\",IF($L36=0,\"\",IF($T313=\"\",\"\",IF(OR(AD313<>\"x\",AD313=\"\"),\"\",($J76*$M$19*$K36*$O36)/$L36))))","v":""},{"$f":"IF(ISERR(AE313),\"\",IF($L36=0,\"\",IF($T313=\"\",\"\",IF(OR(AE313<>\"x\",AE313=\"\"),\"\",($J76*$M$19*$K36*$O36)/$L36))))","v":""},{"$f":"IF(ISERR(AF313),\"\",IF($L36=0,\"\",IF($T313=\"\",\"\",IF(OR(AF313<>\"x\",AF313=\"\"),\"\",($J76*$M$19*$K36*$O36)/$L36))))","v":""},{"$f":"IF(ISERR(AG313),\"\",IF($L36=0,\"\",IF($T313=\"\",\"\",IF(OR(AG313<>\"x\",AG313=\"\"),\"\",($J76*$M$19*$K36*$O36)/$L36))))","v":""},null,null,{"$f":"T269","v":"V4"},"","","","","","","","","","","","",""]
[null,null,"Styrene",null,"","","","","","","","","",5.1971919999999999E-11,"","","",null,null,"S6",0,0,0,0,0,0,0,0,0,"X",0,0,0]
[null,null,"1,3-Butadiene",null,"","","",1.338040704E-8,"","","","","","",1.338040704E-8,"","",null,null,"B12",0,0,0,"X",0,0,0,0,0,0,"X",0,0]
[null,null,"",null,"","","","","","","","","","","","","",null,null,"","","","","","","","","","","","","",""]
[null,null,"",null,"","","","","","","","","","","","","",null,null,"","","","","","","","","","","","","",""]
[null,null,"",null,"","","","","","","","","","","","","",null,null,"","","","","","","","","","","","","",""]
[null,null,"",null,"","","","","","","","","","","","","",null,null,"","","","","","","","","","","","","",""]
[null,null,"",null,"","","","","","","","","","","","","",null,null,"","","","","","","","","","","","","",""]
[null,null,"",null,"","","","","","","","","","","","","",null,null,"","","","","","","","","","","","","",""]
[null,null,"",null,"","","","","","","","","","","","","",null,null,"","","","","","","","","","","","","",""]
[null,null,"",null,"","","","","","","","","","","","","",null,null,"","","","","","","","","","","","","",""]
[null,null,"",null,"","","","","","","","","","","","","",null,null,"","","","","","","","","","","","","",""]
[null,null,"",null,"","","","","","","","","","","","","",null,null,"","","","","","","","","","","","","",""]
[null,null,"",null,"","","","","","","","","","","","","",null,null,"","","","","","","","","","","","","",""]
[null,null,"",null,"","","","","","","","","","","","","",null,null,"","","","","","","","","","","","","",""]
[null,null,"",null,"","","","","","","","","","","","","",null,null,"","","","","","","","","","","","","",""]
[null,null,"",null,"","","","","","","","","","","","","",null,null,{"$f":"T285","v":""},"","","","","","","","","","","","",""]
[null,null,"",null,"","","","","","","","","","","","","",null,null,"","","","","","","","","","","","","",""]
[null,null,"",null,"","","","","","","","","","","","","",null,null,"","","","","","","","","","","","","",""]
[null,null,"",null,"","","","","","","","","","","","","",null,null,"","","","","","","","","","","","","",""]
[null,null,"",null,"","","","","","","","","","","","","",null,null,"","","","","","","","","","","","","",""]
[null,null,"",null,"","","","","","","","","","","","","",null,null,"","","","","","","","","","","","","",""]
[null,null,"",null,"","","","","","","","","","","","","",null,null,"","","","","","","","","","","","","",""]
[null,null,"",null,"","","","","","","","","","","","","",null,null,"","","","","","","","","","","","","",""]
[null,null,"",null,"","","","","","","","","","","","","",null,null,"","","","","","","","","","","","","",""]
[null,null,"",null,"","","","","","","","","","","","","",null,null,"","","","","","","","","","","","","",""]
[null,null,"",null,"","","","","","","","","","","","","",null,null,"","","","","","","","","","","","","",""]
[null,null,"",null,"","","","","","","","","","","","","",null,null,"","","","","","","","","","","","","",""]
[null,null,"",null,"","","","","","","","","","","","","",null,null,"","","","","","","","","","","","","",""]
[null,null,"",null,"","","","","","","","","","","","","",null,null,"","","","","","","","","","","","","",""]
[null,null,"",null,"","","","","","","","","","","","","",null,null,"","","","","","","","","","","","","",""]
[null,null,"",null,"","","","","","","","","","","","","",null,null,"","","","","","","","","","","","","",""]
[null,null,"",null,"","","","","","","","","","","","","",null,null,{"$f":"T301","v":""},"","","","","","","","","","","","",""]
[null,null,"",null,"","","","","","","","","","","","","",null,null,"","","","","","","","","","","","","",""]
[null,null,"",null,"","","","","","","","","","","","","",null,null,"","","","","","","","","","","","","",""]
[null,null,"",null,"","","","","","","","","","","","","",null,null,"","","","","","","","","","","","","",""]
[null,null,"Total",null,{"$f":"SUM(E313:E348)","v":0},{"$f":"SUM(F313:F348)","v":0},{"$f":"SUM(G313:G348)","v":0},1.338040704E-8,0,0,0,0,0,5.1971919999999999E-11,1.338040704E-8,0,0]
[null,null,null,null,null,null,null,null,null,null,null,null,null,null,null,null,null,null,null,0,"","","","","","","","","","",0,0,0]
[]
[null,null,"6c. 8-hour Hazard Index Chronic  - Resident",null,null,null,null,null,"A/N:",{"$f":"$D$8","v":"622795 (96, 97)"},null,null,null,null,"Application deemed complete date:",{"$f":"$N$8","v":"2020-07-14"}]
[null,null,"HIC 8-hr = [Q(ton/yr) * (X/Q) Resident * WAF Resident * MWAF] / 8-hr Chronic REL"]
[null,null,null,null,null,null,null,null,"HIC - Residential",null,null,null,null,null,null,null,null,null,null,"Look up Table 8-hr Chronic "]
[null,null,"Compound",null,"AL","BN","CV","DEV","END","EYE","HEM","IMM","KID","NS","REP","RESP","SKIN",null,null,null,"AL","BN","CV","DEV","END","EYE","HEM","IMM","KID","NS","REP","RESP","SKIN"]
[null,null,{"$f":"C120","v":"Vinyl Chloride  (Chloroethylene)"},null,{"$f":"IF(ISERR(U356),\"\",IF($M36=0,\"\",IF($T356=\"\",\"\",IF(OR(U356<>\"x\",U356=\"\"),\"\",($J76*$M$18*$M$25*$O36)/$M36))))","v":""},{"$f":"IF(ISERR(V356),\"\",IF($M36=0,\"\",IF($T356=\"\",\"\",IF(OR(V356<>\"x\",V356=\"\"),\"\",($J76*$M$18*$M$25*$O36)/$M36))))","v":""},{"$f":"IF(ISERR(W356),\"\",IF($M36=0,\"\",IF($T356=\"\",\"\",IF(OR(W356<>\"x\",W356=\"\"),\"\",($J76*$M$18*$M$25*$O36)/$M36))))","v":""},{"$f":"IF(ISERR(X356),\"\",IF($M36=0,\"\",IF($T356=\"\",\"\",IF(OR(X356<>\"x\",X356=\"\"),\"\",($J76*$M$18*$M$25*$O36)/$M36))))","v":""},{"$f":"IF(ISERR(Y356),\"\",IF($M36=0,\"\",IF($T356=\"\",\"\",IF(OR(Y356<>\"x\",Y356=\"\"),\"\",($J76*$M$18*$M$25*$O36)/$M36))))","v":""},{"$f":"IF(ISERR(Z356),\"\",IF($M36=0,\"\",IF($T356=\"\",\"\",IF(OR(Z356<>\"x\",Z356=\"\"),\"\",($J76*$M$18*$M$25*$O36)/$M36))))","v":""},{"$f":"IF(ISERR(AA356),\"\",IF($M36=0,\"\",IF($T356=\"\",\"\",IF(OR(AA356<>\"x\",AA356=\"\"),\"\",($J76*$M$18*$M$25*$O36)/$M36))))","v":""},{"$f":"IF(ISERR(AB356),\"\",IF($M36=0,\"\",IF($T356=\"\",\"\",IF(OR(AB356<>\"x\",AB356=\"\"),\"\",($J76*$M$18*$M$25*$O36)/$M36))))","v":""},{"$f":"IF(ISERR(AC356),\"\",IF($M36=0,\"\",IF($T356=\"\",\"\",IF(OR(AC356<>\"x\",AC356=\"\"),\"\",($J76*$M$18*$M$25*$O36)/$M36))))","v":""},{"$f":"IF(ISERR(AD356),\"\",IF($M36=0,\"\",IF($T356=\"\",\"\",IF(OR(AD356<>\"x\",AD356=\"\"),\"\",($J76*$M$18*$M$25*$O36)/$M36))))","v":""},{"$f":"IF(ISERR(AE356),\"\",IF($M36=0,\"\",IF($T356=\"\",\"\",IF(OR(AE356<>\"x\",AE356=\"\"),\"\",($J76*$M$18*$M$25*$O36)/$M36))))","v":""},{"$f":"IF(ISERR(AF356),\"\",IF($M36=0,\"\",IF($T356=\"\",\"\",IF(OR(AF356<>\"x\",AF356=\"\"),\"\",($J76*$M$18*$M$25*$O36)/$M36))))","v":""},{"$f":"IF(ISERR(AG356),\"\",IF($M36=0,\"\",IF($T356=\"\",\"\",IF(OR(AG356<>\"x\",AG356=\"\"),\"\",($J76*$M$18*$M$25*$O36)/$M36))))","v":""},null,null,{"$f":"T313","v":"V4"},{"$f":"IFERROR(IF($T356=\"\",\"\",VLOOKUP($T356,TO8hr_data,4,FALSE)),\"\")","v":""},{"$f":"IFERROR(IF($T356=\"\",\"\",VLOOKUP($T356,TO8hr_data,5,FALSE)),\"\")","v":""},{"$f":"IFERROR(IF($T356=\"\",\"\",VLOOKUP($T356,TO8hr_data,6,FALSE)),\"\")","v":""},{"$f":"IFERROR(IF($T356=\"\",\"\",VLOOKUP($T356,TO8hr_data,7,FALSE)),\"\")","v":""},{"$f":"IFERROR(IF($T356=\"\",\"\",VLOOKUP($T356,TO8hr_data,8,FALSE)),\"\")","v":""},{"$f":"IFERROR(IF($T356=\"\",\"\",VLOOKUP($T356,TO8hr_data,9,FALSE)),\"\")","v":""},{"$f":"IFERROR(IF($T356=\"\",\"\",VLOOKUP($T356,TO8hr_data,10,FALSE)),\"\")","v":""},{"$f":"IFERROR(IF($T356=\"\",\"\",VLOOKUP($T356,TO8hr_data,11,FALSE)),\"\")","v":""},{"$f":"IFERROR(IF($T356=\"\",\"\",VLOOKUP($T356,TO8hr_data,12,FALSE)),\"\")","v":""},{"$f":"IFERROR(IF($T356=\"\",\"\",VLOOKUP($T356,TO8hr_data,13,FALSE)),\"\")","v":""},{"$f":"IFERROR(IF($T356=\"\",\"\",VLOOKUP($T356,TO8hr_data,14,FALSE)),\"\")","v":""},{"$f":"IFERROR(IF($T356=\"\",\"\",VLOOKUP($T356,TO8hr_data,15,FALSE)),\"\")","v":""},{"$f":"IFERROR(IF($T356=\"\",\"\",VLOOKUP($T356,TO8hr_data,16,FALSE)),\"\")","v":""}]
[null,null,"Styrene",null,"","","","","","","","","","","","","",null,null,{"$f":"T314","v":"S6"},"","","","","","","","","","","","",""]
[null,null,"1,3-Butadiene",null,"","","",8.1867657386666675E-9,"","","","","","","","","",null,null,"B12",0,0,0,"X",0,0,0,0,0,0,0,0,0]
[null,null,"",null,"","","","","","","","","","","","","",null,null,"","","","","","","","","","","","","",""]
[null,null,"",null,"","","","","","","","","","","","","",null,null,"","","","","","","","","","","","","",""]
[null,null,"",null,"","","","","","","","","","","","","",null,null,"","","","","","","","","","","","","",""]
[null,null,"",null,"","","","","","","","","","","","","",null,null,"","","","","","","","","","","","","",""]
[null,null,"",null,"","","","","","","","","","","","","",null,null,"","","","","","","","","","","","","",""]
[null,null,"",null,"","","","","","","","","","","","","",null,null,"","","","","","","","","","","","","",""]
[null,null,"",null,"","","","","","","","","","","","","",null,null,"","","","","","","","","","","","","",""]
[null,null,"",null,"","","","","","","","","","","","","",null,null,"","","","","","","","","","","","","",""]
[null,null,"",null,"","","","","","","","","","","","","",null,null,"","","","","","","","","","","","","",""]
[null,null,"",null,"","","","","","","","","","","","","",null,null,"","","","","","","","","","","","","",""]
[null,null,"",null,"","","","","","","","","","","","","",null,null,"","","","","","","","","","","","","",""]
[null,null,"",null,"","","","","","","","","","","","","",null,null,"","","","","","","","","","","","","",""]
[null,null,"",null,"","","","","","","","","","","","","",null,null,"","","","","","","","","","","","","",""]
[null,null,"",null,"","","","","","","","","","","","","",null,null,"","","","","","","","","","","","","",""]
[null,null,"",null,"","","","","","","","","","","","","",null,null,"","","","","","","","","","","","","",""]
[null,null,"",null,"","","","","","","","","","","","","",null,null,"","","","","","","","","","","","","",""]
[null,null,"",null,"","","","","","","","","","","","","",null,null,"","","","","","","","","","","","","",""]
[null,null,"",null,"","","","","","","","","","","","","",null,null,"","","","","","","","","","","","","",""]
[null,null,"",null,"","","","","","","","","","","","","",null,null,"","","","","","","","","","","","","",""]
[null,null,"",null,"","","","","","","","","","","","","",null,null,"","","","","","","","","","","","","",""]
[null,null,"",null,"","","","","","","","","","","","","",null,null,"","","","","","","","","","","","","",""]
[null,null,"",null,"","","","","","","","","","","","","",null,null,"","","","","","","","","","","","","",""]
[null,null,"",null,"","","","","","","","","","","","","",null,null,"","","","","","","","","","","","","",""]
[null,null,"",null,"","","","","","","","","","","","","",null,null,"","","","","","","","","","","","","",""]
[null,null,"",null,"","","","","","","","","","","","","",null,null,"","","","","","","","","","","","","",""]
[null,null,"",null,"","","","","","","","","","","","","",null,null,"","","","","","","","","","","","","",""]
[null,null,"",null,"","","","","","","","","","","","","",null,null,"","","","","","","","","","","","","",""]
[null,null,"",null,"","","","","","","","","","","","","",null,null,"","","","","","","","","","","","","",""]
[null,null,"",null,"","","","","","","","","","","","","",null,null,"","","","","","","","","","","","","",""]
[null,null,"",null,"","","","","","","","","","","","","",null,null,"","","","","","","","","","","","","",""]
[null,null,"",null,"","","","","","","","","","","","","",null,null,"","","","","","","","","","","","","",""]
[null,null,"",null,"","","","","","","","","","","","","",null,null,"","","","","","","","","","","","","",""]
[null,null,"",null,"","","","","","","","","","","","","",null,null,"","","","","","","","","","","","","",""]
[null,null,"Total",null,{"$f":"SUM(E356:E391)","v":0},{"$f":"SUM(F356:F391)","v":0},0,8.1867657386666675E-9,0,0,0,0,0,0,0,0,0,null,null,null,{"$f":"IF($T392=\"\",\"\",VLOOKUP($T392,table10A,MATCH(E$268,head10A,0),FALSE))","v":""},{"$f":"IF($T392=\"\",\"\",VLOOKUP($T392,table10A,MATCH(F$268,head10A,0),FALSE))","v":""},{"$f":"IF($T392=\"\",\"\",VLOOKUP($T392,table10A,MATCH(G$268,head10A,0),FALSE))","v":""},{"$f":"IF($T392=\"\",\"\",VLOOKUP($T392,table10A,MATCH(H$268,head10A,0),FALSE))","v":""},{"$f":"IF($T392=\"\",\"\",VLOOKUP($T392,table10A,MATCH(I$268,head10A,0),FALSE))","v":""},{"$f":"IF($T392=\"\",\"\",VLOOKUP($T392,table10A,MATCH(J$268,head10A,0),FALSE))","v":""},{"$f":"IF($T392=\"\",\"\",VLOOKUP($T392,table10A,MATCH(K$268,head10A,0),FALSE))","v":""},{"$f":"IF($T392=\"\",\"\",VLOOKUP($T392,table10A,MATCH(L$268,head10A,0),FALSE))","v":""},{"$f":"IF($T392=\"\",\"\",VLOOKUP($T392,table10A,MATCH(M$268,head10A,0),FALSE))","v":""},{"$f":"IF($T392=\"\",\"\",VLOOKUP($T392,table10A,MATCH(R$268,head10A,0),FALSE))","v":""}]
[null,null,null,null,{"$f":"IF(E392>1,\"DO NOT PASS\",\"\")","v":""},{"$f":"IF(F392>1,\"DO NOT PASS\",\"\")","v":""},"","","","","","","","","","",""]
[null,null,null,null,null,null,null,null,"A/N:",{"$f":"$D$8","v":"622795 (96, 97)"},null,null,null,null,"Application deemed complete date:",{"$f":"$N$8","v":"2020-07-14"}]
[null,null,"6c. 8-hour Hazard Index Chronic - Worker "]
[null,null,"HIC 8-hr = [Q(ton/yr) * (X/Q) Worker * WAF Worker * MWAF] / 8-hr Chronic REL"]
[null,null,null,null,null,null,null,null,"HIC - Commercial",null,null,null,null,null,null,null,null,null,null,"Look up Table 8-hr Chronic "]
[null,null,"Compound",null,"AL","BN","CV","DEV","END","EYE","HEM","IMM","KID","NS","REP","RESP","SKIN",null,null,{"$f":"T355","v":0},{"$f":"U355","v":"AL"},"BN","CV","DEV","END","EYE","HEM","IMM","KID","NS","REP","RESP","SKIN"]
[null,null,{"$f":"C120","v":"Vinyl Chloride  (Chloroethylene)"},null,{"$f":"IF(ISERR(U399),\"\",IF($M36=0,\"\",IF($T399=\"\",\"\",IF(OR(U399<>\"x\",U399=\"\"),\"\",($J76*$M$19*$N$25*$O36)/$M36))))","v":""},{"$f":"IF(ISERR(V399),\"\",IF($M36=0,\"\",IF($T399=\"\",\"\",IF(OR(V399<>\"x\",V399=\"\"),\"\",($J76*$M$19*$N$25*$O36)/$M36))))","v":""},{"$f":"IF(ISERR(W399),\"\",IF($M36=0,\"\",IF($T399=\"\",\"\",IF(OR(W399<>\"x\",W399=\"\"),\"\",($J76*$M$19*$N$25*$O36)/$M36))))","v":""},{"$f":"IF(ISERR(X399),\"\",IF($M36=0,\"\",IF($T399=\"\",\"\",IF(OR(X399<>\"x\",X399=\"\"),\"\",($J76*$M$19*$N$25*$O36)/$M36))))","v":""},{"$f":"IF(ISERR(Y399),\"\",IF($M36=0,\"\",IF($T399=\"\",\"\",IF(OR(Y399<>\"x\",Y399=\"\"),\"\",($J76*$M$19*$N$25*$O36)/$M36))))","v":""},{"$f":"IF(ISERR(Z399),\"\",IF($M36=0,\"\",IF($T399=\"\",\"\",IF(OR(Z399<>\"x\",Z399=\"\"),\"\",($J76*$M$19*$N$25*$O36)/$M36))))","v":""},{"$f":"IF(ISERR(AA399),\"\",IF($M36=0,\"\",IF($T399=\"\",\"\",IF(OR(AA399<>\"x\",AA399=\"\"),\"\",($J76*$M$19*$N$25*$O36)/$M36))))","v":""},{"$f":"IF(ISERR(AB399),\"\",IF($M36=0,\"\",IF($T399=\"\",\"\",IF(OR(AB399<>\"x\",AB399=\"\"),\"\",($J76*$M$19*$N$25*$O36)/$M36))))","v":""},{"$f":"IF(ISERR(AC399),\"\",IF($M36=0,\"\",IF($T399=\"\",\"\",IF(OR(AC399<>\"x\",AC399=\"\"),\"\",($J76*$M$19*$N$25*$O36)/$M36))))","v":""},{"$f":"IF(ISERR(AD399),\"\",IF($M36=0,\"\",IF($T399=\"\",\"\",IF(OR(AD399<>\"x\",AD399=\"\"),\"\",($J76*$M$19*$N$25*$O36)/$M36))))","v":""},{"$f":"IF(ISERR(AE399),\"\",IF($M36=0,\"\",IF($T399=\"\",\"\",IF(OR(AE399<>\"x\",AE399=\"\"),\"\",($J76*$M$19*$N$25*$O36)/$M36))))","v":""},{"$f":"IF(ISERR(AF399),\"\",IF($M36=0,\"\",IF($T399=\"\",\"\",IF(OR(AF399<>\"x\",AF399=\"\"),\"\",($J76*$M$19*$N$25*$O36)/$M36))))","v":""},{"$f":"IF(ISERR(AG399),\"\",IF($M36=0,\"\",IF($T399=\"\",\"\",IF(OR(AG399<>\"x\",AG399=\"\"),\"\",($J76*$M$19*$N$25*$O36)/$M36))))","v":""},null,null,{"$f":"T356","v":"V4"},"","","","","","","","","","","","",""]
[null,null,{"$f":"C121","v":"Styrene"},null,"","","","","","","","","","","","","",null,null,"S6","","","","","","","","","","","","",""]
[null,null,"1,3-Butadiene",null,"","","",2.9734237866666664E-9,"","","","","","","","","",null,null,"B12",0,0,0,"X",0,0,0,0,0,0,0,0,0]
[null,null,"",null,"","","","","","","","","","","","","",null,null,"","","","","","","","","","","","","",""]
[null,null,"",null,"","","","","","","","","","","","","",null,null,"","","","","","","","","","","","","",""]
[null,null,"",null,"","","","","","","","","","","","","",null,null,"","","","","","","","","","","","","",""]
[null,null,"",null,"","","","","","","","","","","","","",null,null,"","","","","","","","","","","","","",""]
[null,null,"",null,"","","","","","","","","","","","","",null,null,"","","","","","","","","","","","","",""]
[null,null,"",null,"","","","","","","","","","","","","",null,null,"","","","","","","","","","","","","",""]
[null,null,"",null,"","","","","","","","","","","","","",null,null,"","","","","","","","","","","","","",""]
[null,null,"",null,"","","","","","","","","","","","","",null,null,"","","","","","","","","","","","","",""]
[null,null,"",null,"","","","","","","","","","","","","",null,null,"","","","","","","","","","","","","",""]
[null,null,"",null,"","","","","","","","","","","","","",null,null,"","","","","","","","","","","","","",""]
[null,null,"",null,"","","","","","","","","","","","","",null,null,"","","","","","","","","","","","","",""]
[null,null,"",null,"","","","","","","","","","","","","",null,null,"","","","","","","","","","","","","",""]
[null,null,"",null,"","","","","","","","","","","","","",null,null,"","","","","","","","","","","","","",""]
[null,null,"",null,"","","","","","","","","","","","","",null,null,{"$f":"T372","v":""},"","","","","","","","","","","","",""]
[null,null,"",null,"","","","","","","","","","","","","",null,null,"","","","","","","","","","","","","",""]
[null,null,"",null,"","","","","","","","","","","","","",null,null,"","","","","","","","","","","","","",""]
[null,null,"",null,"","","","","","","","","","","","","",null,null,"","","","","","","","","","","","","",""]
[null,null,"",null,"","","","","","","","","","","","","",null,null,"","","","","","","","","","","","","",""]
[null,null,"",null,"","","","","","","","","","","","","",null,null,"","","","","","","","","","","","","",""]
[null,null,"",null,"","","","","","","","","","","","","",null,null,"","","","","","","","","","","","","",""]
[null,null,"",null,"","","","","","","","","","","","","",null,null,"","","","","","","","","","","","","",""]
[null,null,"",null,"","","","","","","","","","","","","",null,null,"","","","","","","","","","","","","",""]
[null,null,"",null,"","","","","","","","","","","","","",null,null,"","","","","","","","","","","","","",""]
[null,null,"",null,"","","","","","","","","","","","","",null,null,"","","","","","","","","","","","","",""]
[null,null,"",null,"","","","","","","","","","","","","",null,null,"","","","","","","","","","","","","",""]
[null,null,"",null,"","","","","","","","","","","","","",null,null,"","","","","","","","","","","","","",""]
[null,null,"",null,"","","","","","","","","","","","","",null,null,"","","","","","","","","","","","","",""]
[null,null,"",null,"","","","","","","","","","","","","",null,null,"","","","","","","","","","","","","",""]
[null,null,"",null,"","","","","","","","","","","","","",null,null,"","","","","","","","","","","","","",""]
[null,null,"",null,"","","","","","","","","","","","","",null,null,{"$f":"T388","v":""},"","","","","","","","","","","","",""]
[null,null,"",null,"","","","","","","","","","","","","",null,null,"","","","","","","","","","","","","",""]
[null,null,"",null,"","","","","","","","","","","","","",null,null,"","","","","","","","","","","","","",""]
[null,null,"",null,"","","","","","","","","","","","","",null,null,"","","","","","","","","","","","","",""]
[null,null,"Total",null,{"$f":"SUM(E399:E434)","v":0},0,0,2.9734237866666664E-9,0,0,0,0,0,0,0,0,0]

{"sheet":"CEQA","index":5,"n_rows":37,"n_cols":14,"rows_kept":37,"cut":false,"hidden":true,"merged":[[5,9,5,11],[6,6,7,6],[6,7,7,7],[33,2,33,5],[35,2,35,5],[6,1,7,2],[6,3,6,4],[6,5,7,5]]}
[]
[null,"CEQA CHRONIC & CANCER PRESCREENING "]
[]
[null,"Application Number",null,{"$f":"Emissions!E7","v":"622795 (96, 97)"}]
[null,"Distance to receptor",null,null,"meter"]
[null,null,null,null,null,null,null,null,null,"Table 1A"]
[null,"Compound  (a)",null,"Pollutant Screening Level (lb/yr)",null,"Maximum Annual Emission \n(lb/yr)","Pollutant Chronic Screening Index","Pollutant Cancer Screening Index",null,"25 meter ","50 meter","100 meter","slope 25-50","slope 50-100"]
[null,null,null,"Chronic","Cancer",null,null,null,null,"(lbs/yr)","(lbs/yr)","(lbs/yr)"]
[null,"Bromine *",null,{"$f":"IF($D$5>=100,$L9,IF($D$5<=25,$J9,IF(OR($D$5<=50,$D$5>25),$K9-$M9*($K$7-$D$5),IF(OR($D$5>50,$D$5<100),$N9*($D$5-$K$7)+K9))))","v":56.21},null,null,{"$f":"IF(F9=\"\",\"\",IF(D9<>0,F9/D9,1))","v":""},null,null,56.21,147.38,439.28,{"$f":"(K9-J9)/($K$7-$J$7)","v":{"$error":"#VALUE!"}},{"$f":"(L9-K9)/($K$7-$J$7)","v":{"$error":"#VALUE!"}}]
[null,"Bromine pentafluoride*",null,{"$f":"IF($D$5>=100,$L10,IF($D$5<=25,$J10,IF(OR($D$5<50,$D$5>25),$K10-$M10*($K$7-$D$5),IF(OR($D$5>50,$D$5<100),$N10*($D$5-$K$7)+K10))))","v":56.21},null,null,"",null,null,56.21,147.38,439.28,{"$f":"(K10-J10)/($K$7-$J$7)","v":{"$error":"#VALUE!"}},{"$error":"#VALUE!"}]
[null,"   Dichlorodifluoromethane (CFC-12)*",null,23144.32,null,null,"",null,null,23144.32,60684.87,180878.55,{"$error":"#VALUE!"},{"$error":"#VALUE!"}]
[null,"   Trichlorofluoromethane (CFC-11)*",null,23144.32,null,null,"",null,null,23144.32,60684.87,180878.55,{"$error":"#VALUE!"},{"$error":"#VALUE!"}]
[null,"   Trichlorotrifluoroethane (CFC-113)*",null,23144.32,null,null,"",null,null,23144.32,60684.87,180878.55,{"$error":"#VALUE!"},{"$error":"#VALUE!"}]
[null,"Chloroprene*",null,33.06,null,null,"",null,null,33.06,86.69,258.39999999999998,{"$error":"#VALUE!"},{"$error":"#VALUE!"}]
[null,"Dimethylamine *",null,66.13,null,null,"",null,null,66.13,173.39,516.79999999999995,{"$error":"#VALUE!"},{"$error":"#VALUE!"}]
[null,"Ethyl acrylate*",null,1587.04,null,null,"",null,null,1587.04,4161.25,12403.1,{"$error":"#VALUE!"},{"$error":"#VALUE!"}]
[null,"Hexachlorocyclopentadiene*",null,7.94,null,null,"",null,null,7.94,20.81,62.02,{"$error":"#VALUE!"},{"$error":"#VALUE!"}]
[null,"Hydrogen bromide*",null,793.52,null,null,"",null,null,793.52,2080.62,6201.55,{"$error":"#VALUE!"},{"$error":"#VALUE!"}]
[null,"Methyl methacrylate*",null,32402.05,null,null,"",null,null,32402.05,84958.82,253229.97,{"$error":"#VALUE!"},{"$error":"#VALUE!"}]
[null,"Mineral fibers(other than man-made)*",null,793.52,null,null,"",null,null,793.52,2080.62,6201.55]
[null,"Nitrobenzene*",null,56.21,null,null,"",null,null,56.21,147.38,439.28]
[null,"Nitropropane, 2-*",null,661.27,null,null,"",null,null,661.27,1733.85,5167.96]
[null,"Phosphorus and phosphorus compounds*",null,2.31,null,null,"",null,null,2.31,6.07,18.09]
[null,"Tetrachlorophenols *",null,2909.57,null,null,"",null,null,2909.57,7628.96,22739.02]
[null,"Vinylidene chloride*(1,1,-Dichloroethylene)",null,2314.4321375433956,null,null,"",null,null,2314.4321375433956,6068.487212830516,18087.855297157621]
[null,"Zinc and zinc compounds*",null,1157.22,null,null,"",null,null,1157.22,3034.24,9043.93]
[null,"   Zinc oxide*",null,1157.22,null,null,"",null,null,1157.22,3034.24,9043.93,{"$error":"#VALUE!"},{"$error":"#VALUE!"}]
[null,"Allyl chloride*",null,null,{"$f":"IF($D$5>=100,$L28,IF($D$5<=25,$J28,IF(OR($D$5<50,$D$5>25),$K28-$M28*($K$7-$D$5),IF(OR($D$5>50,$D$5<100),$N28*($D$5-$K$7)+L28))))","v":5.4368204854152706},null,null,{"$f":"IF($F28=\"\",\"\",IF($F28<>0,$F28/$E28,1))","v":""},null,5.4368204854152706,14.255451719235793,42.490086713536144,{"$error":"#VALUE!"},{"$error":"#VALUE!"}]
[null,"Aniline",null,null,{"$f":"IF($D$5>=100,$L29,IF($D$5<=25,$J29,IF(OR($D$5<50,$D$5>25),$K29-$M29*($K$7-$D$5),IF(OR($D$5>50,$D$5<100),$N29*($D$5-$K$7)+L29))))","v":20.030391262056263},null,null,{"$f":"IF($F29=\"\",\"\",IF($F29<>0,$F29/$E29,1))","v":""},null,20.030391262056263,52.520085281395019,156.54242473408053,{"$error":"#VALUE!"},{"$error":"#VALUE!"}]
[null,"Ethylene thiourea",null,null,{"$f":"IF($D$5>=100,$L30,IF($D$5<=25,$J30,IF(OR($D$5<50,$D$5>25),$K30-$M30*($K$7-$D$5),IF(OR($D$5>50,$D$5<100),$N30*($D$5-$K$7)+L30))))","v":2.5371828931937932},null,null,{"$f":"IF($F30=\"\",\"\",IF($F30<>0,$F30/$E30,1))","v":""},null,2.5371828931937932,6.6525441356433701,19.828707132983531,{"$error":"#VALUE!"},{"$error":"#VALUE!"}]
[null,"Fluorides and fluoride compounds*",null,{"$f":"IF($D$5>=100,$L31,IF($D$5<=25,$J31,IF(OR($D$5<50,$D$5>25),$K31-$M31*($K$7-$D$5),IF(OR($D$5>50,$D$5<100),$N31*($D$5-$K$7)+K31))))","v":430},null,null,{"$f":"IF(F31=\"\",\"\",IF(D31<>0,F31/D31,1))","v":""},null,null,430,1130,3360]
[null,"   Nitrosodiphenylamine, n-",null,null,{"$f":"IF($D$5>=100,$L32,IF($D$5<=25,$J32,IF(OR($D$5<50,$D$5>25),$K32-$M32*($K$7-$D$5),IF(OR($D$5>50,$D$5<100),$N32*($D$5-$K$7)+L32))))","v":12.685914465968967},null,null,{"$f":"IF($F32=\"\",\"\",IF($F32<>0,$F32/$E32,1))","v":""},null,12.685914465968967,33.262720678216851,99.143535664917664,{"$error":"#VALUE!"},{"$error":"#VALUE!"}]
[null,"Trichloroethane, 1,1,2-",null,null,{"$f":"IF($D$5>=100,$L33,IF($D$5<=25,$J33,IF(OR($D$5<50,$D$5>25),$K33-$M33*($K$7-$D$5),IF(OR($D$5>50,$D$5<100),$N33*($D$5-$K$7)+L33))))","v":2.0030391262056262},null,null,{"$f":"IF($F33=\"\",\"\",IF($F33<>0,$F33/$E33,1))","v":""},null,2.0030391262056262,5.2520085281395028,15.654242473408051,{"$error":"#VALUE!"},{"$error":"#VALUE!"}]
[null,null,"TOTAL",null,null,null,{"$f":"SUM(G9:G33)","v":0},{"$f":"SUM(H9:H33)","v":0}]
[null,null,null,null,null,"CEQA Threshold",1,10]
[null,null,"CEQA Chronic screening result",null,null,null,{"$f":"IF(G34=0,\"\",IF(G34>1,\"FAIL \n- NOTIFY CEQA GROUP\",\"PASS \"))","v":""},{"$f":"IF(H34=0,\"\",IF(H34>1,\"FAIL \n- NOTIFY CEQA GROUP\",\"PASS \"))","v":""}]
[null,"(a)The pollutant list and their screening values at 25m, 50m, and 100m are provided by CEQA group in Mar 26, 2013."]

{"sheet":"Tier 2 Report 70yr","index":6,"n_rows":438,"n_cols":33,"rows_kept":438,"cut":false,"hidden":true,"merged":[[266,12,266,15],[310,12,310,15],[354,12,354,15],[396,12,396,15],[158,8,158,10],[160,12,160,15],[164,2,164,4],[180,6,180,9],[181,12,181,15],[157,2,157,3],[157,13,157,14],[154,2,154,3],[154,8,154,11],[154,13,154,14],[155,2,155,3],[155,8,155,11],[155,13,155,14],[224,12,224,15],[151,13,151,14],[152,2,152,3],[152,12,153,12],[152,13,153,14],[153,2,153,3],[146,2,146,3],[147,2,147,3],[148,2,148,3],[156,2,156,3],[156,8,156,10],[156,13,156,14],[149,2,149,3],[150,2,150,3],[140,2,140,3],[141,2,141,3],[142,2,142,3],[143,2,143,3],[144,2,144,3],[145,2,145,3],[151,2,151,3],[134,2,134,3],[135,2,135,3],[136,2,136,3],[137,2,137,3],[138,2,138,3],[139,2,139,3],[128,2,128,3],[129,2,129,3],[130,2,130,3],[131,2,131,3],[132,2,132,3],[133,2,133,3],[122,2,122,3],[123,2,123,3],[124,2,124,3],[125,2,125,3],[126,2,126,3],[127,2,127,3],[107,2,107,3],[108,2,108,3],[109,2,109,3],[110,2,110,3],[114,6,114,9],[115,12,115,15],[101,2,101,3],[102,2,102,3],[103,2,103,3],[104,2,104,3],[105,2,105,3],[106,2,106,3],[95,2,95,3],[96,2,96,3],[97,2,97,3],[98,2,98,3],[99,2,99,3],[100,2,100,3],[89,2,89,3],[90,2,90,3],[76,2,76,3],[91,2,91,3],[92,2,92,3],[93,2,93,3],[94,2,94,3],[83,2,83,3],[84,2,84,3],[85,2,85,3],[86,2,86,3],[87,2,87,3],[88,2,88,3],[77,2,77,3],[78,2,78,3],[79,2,79,3],[80,2,80,3],[81,2,81,3],[61,2,61,3],[51,2,51,3],[82,2,82,3],[75,2,75,3],[32,12,32,15],[63,2,63,3],[64,2,64,3],[65,2,65,3],[66,2,66,3],[67,2,67,3],[68,2,68,3],[62,2,62,3],[69,2,69,3],[70,2,70,3],[71,2,71,3],[52,2,52,3],[53,2,53,3],[54,2,54,3],[55,2,55,3],[56,2,56,3],[72,12,72,15],[25,9,25,11],[25,13,25,14],[33,28,33,31],[35,2,35,3],[36,2,36,3],[37,2,37,3],[38,2,38,3],[152,8,153,11],[45,2,45,3],[46,2,46,3],[47,2,47,3],[48,2,48,3],[49,2,49,3],[50,2,50,3],[39,2,39,3],[40,2,40,3],[41,2,41,3],[42,2,42,3],[43,2,43,3],[44,2,44,3],[57,2,57,3],[58,2,58,3],[59,2,59,3],[60,2,60,3],[7,13,7,14],[17,13,17,14],[18,13,18,14],[19,13,19,14],[22,13,22,14],[23,9,23,11],[23,13,23,14],[24,9,24,11],[24,13,24,14]]}
[]
[null,null,"EMISSIONS ARE ENTERED ON THE EMISSIONS WORKSHEET OR ON ONE OF THE FIVE COMBUSTION SOURCE WORKSHEETS"]
[null,null,"INPUT PARAMETERS ENTERED ON THE EMISSIONS SHEET ARE ALSO USED FOR TIERS 1 AND TIER 2 ANALYSES"]
[]
[null,null,null,{"$f":"IF(ScreeningMode=\"YES\",\"TIER 3 SCREENING RISK ASSESSMENT REPORT\",\"TIER 2 SCREENING RISK ASSESSMENT REPORT\")","v":"TIER 2 SCREENING RISK ASSESSMENT REPORT"}]
[null,null,null,{"$f":"Intro!A39","v":"\n(Procedure Version 8.1 & Package N, September 1, 2017 )"}]
[]
[null,null,"A/N:",{"$f":"Emissions!E7","v":"622795 (96, 97)"},null,null,null,null,null,null,null,null,"Application deemed complete date:",{"$f":"DeemCompleteDate","v":"2020-07-14"}]
[null,null,"Fac:",{"$f":"Emissions!E8","v":"Spear's Manufacturing Co."}]
[]
[]
[null,null,"1. Stack Data",null,null,null,null,null,null,{"$f":"IF(ScreeningMode = \"yes\",\"2. Tier 3 Data\",\"2. Tier 2 Data\")","v":"2. Tier 2 Data"}]
[null,null,null,null,null,null,null,null,null,"Dispersion Factors tables",null,null,{"$f":"IF(PointVolumeSource=\"P\",\"Point Source\",\"Volume Source\")","v":"Point Source"}]
[null,null,"Equipment Type",{"$f":"SourceType","v":"Other"},null,{"$f":"VLOOKUP(SourceType,LookupEquipDesc,2,FALSE)","v":0},null,null,null,"For Chronic X/Q",null,null,{"$f":"IF(PointVolumeSource =\"P\",VLOOKUP(SourceType,TableIndex!$H$5:$L$13,2,0),VLOOKUP(SourceType,TableIndex!$H$5:$L$13,4,0))","v":"Table 6"}]
[null,null,null,null,null,{"$f":"VLOOKUP(SourceType,LookupEquipDesc,4,FALSE)","v":0},null,null,null,"For Acute X/Q max",null,null,{"$f":"IF(PointVolumeSource =\"P\",VLOOKUP(SourceType,TableIndex!$H$5:$L$13,3,0),VLOOKUP(SourceType,TableIndex!$H$5:$L$13,5,0))","v":"Table 6.4"}]
[null,null,null,null,null,{"$f":"VLOOKUP(SourceType,LookupEquipDesc,6,FALSE)","v":0}]
[null,null,"Combustion Control Eff",{"$f":"IF(CombControlEfficiency=0,\"0.0\",CombControlEfficiency)","v":"0.0"},null,{"$f":"VLOOKUP(SourceType,LookupEquipDesc,8,FALSE)","v":0},null,null,null,"Dilution Factors"]
[null,null,null,{"$f":"IF(Emissions!E17= \"No\",\"No T-BACT\",\"With T-BACT\")","v":"With T-BACT"},null,null,null,null,null,"Receptor",null,null,"Χ/Q (µg/m³)/(tons/yr)","X/Qmax (µg/m³)/(lbs/hr)"]
[null,null,null,null,null,null,null,null,null,"Residential",null,null,{"$f":"TableIndex!AC3","v":1.7869000000000002},{"$f":"TableIndex!AD3","v":71.687000000000012}]
[null,null,null,null,null,null,null,null,null,"Commercial - Worker",null,null,{"$f":"TableIndex!AC4","v":0.64900000000000002},{"$f":"TableIndex!AD4","v":28.651}]
[null,null,"Operation Schedule ",{"$f":" HoursPerDay","v":24},"hrs/day;"]
[null,null,null,{"$f":"DaysPerWeek","v":7},"days/week;",null,null,null,null,"Intake and Adjustment Factors"]
[null,null,null,{"$f":"WeeksPerYear","v":52},"weeks/year",null,null,null,null,null,null,null,"Residential","Worker"]
[null,null,{"$f":"IF(SourceType=\"Crematory\",\"\",\"Stack Height\")","v":"Stack Height"},{"$f":"IF(SourceType=\"Crematory\",\"\",StackHeight)","v":32},{"$f":"IF(SourceType=\"Crematory\",\"\",\"ft\")","v":"ft"},null,null,null,null,"Year of Exposure ",null,null,70]
[null,null,{"$f":"IF(OR(PointVolumeSource=\"V\",SourceType=\"Crematory\"),\"Building Area\",\"\")","v":""},{"$f":"IF(OR(PointVolumeSource=\"V\",SourceType=\"Crematory\"),Emissions!E19,\"\")","v":""},{"$f":"IF(OR(PointVolumeSource=\"V\",SourceType=\"Crematory\"),\"ft²\",\"\")","v":""},null,null,null,null,{"$f":"\"Combined Exposure Factor (CEF) - \" & TableIndex!A9","v":"Combined Exposure Factor (CEF) - Table 5"},null,null,{"$f":"VLOOKUP(M24,'Table 4'!$G$6:$H$11,2,FALSE)","v":766.78436571428574},{"$f":"IF(M24<=30,VLOOKUP(M24,'Table 4'!$F$21:$G$24,2,FALSE),'Table 4'!$G$24)","v":55.857142857142854}]
[null,null,"Distance - Residential",{"$f":"Emissions!E20","v":157},"m",null,null,null,null,{"$f":"\"Worker Adjustment Factor (WAF) - \"& TableIndex!A10","v":"Worker Adjustment Factor (WAF) - Table 6"},null,null,1,{"$f":"afann(DaysPerWeek,HoursPerDay)","v":1}]
[null,null,"Distance - Commercial",{"$f":"Emissions!E21","v":265},"m"]
[null,null,"Meteorological Station",{"$f":"Emissions!E22","v":"Van Nuys Airport"}]
[]
[]
[]
[]
[null,null,null,null,null,null,null,null,null,null,"A/N:",{"$f":"$D$8","v":"622795 (96, 97)"},"Application deemed complete date:",null,null,null,{"$f":"$N$8","v":"2020-07-14"}]
[null,null,"3. Rule 1401 Compound Data",null,null,null,null,null,null,null,null,null,null,null,null,null,null,null,null,null,null,null,null,null,"Look up adopted date in table 1 ",null,null,null,"Based on Deem complete date, determine to include the risk factor or not (1 = yes, 0 = no)"]
[null,"Code","Compound",null,"R1 -\nUncontrolled (lbs/hr)","R2 - \nControlled (lbs/hr)","CP\n(mg/kg-day)¯¹","MP\nMICR Resident","MP \nMICR Worker","MP\nChronic Res.","MP \nChronic Worker","REL\nChronic\n(µg/m³)","REL\n8-hr Chronic (µg/m³)","REL\nAcute (µg/m³)","MWAF",null,null,null,null,null,null,null,null,null,"date cancer","date chronic","date 8-hr Chronic","date acute","include cancer","include chronic","include 8-hr chronic","include acute"]
[null,{"$f":"Emissions!K33","v":"V4"},{"$f":"IF(B36=\"\",\"\",VLOOKUP(B36,TAClist,2,FALSE))","v":"Vinyl Chloride  (Chloroethylene)"},null,{"$f":"Emissions!M33","v":3.33E-8},{"$f":"Emissions!N33","v":3.33E-8},{"$f":"IF(B36=\"\",\"\",VLOOKUP($B36,TAClist,4,FALSE)*$AC36)","v":0.27},{"$f":"IF($B36=\"\",\"\",VLOOKUP($B36,TAClist,VLOOKUP(YrExposure,lu_YrExpose_MPcol,2,TRUE),FALSE))","v":1},{"$f":"IF(B36=\"\",\"\",VLOOKUP($B36,TAClist,VLOOKUP(YrExposure,lu_YrExpose_MPcol,3,TRUE),FALSE))","v":1},{"$f":"IF(B36=\"\",\"\",VLOOKUP($B36,TAClist,9,FALSE))","v":1},{"$f":"IF(B36=\"\",\"\",VLOOKUP($B36,TAClist,10,FALSE))","v":1},{"$f":"IF(B36=\"\",\"\",VLOOKUP($B36,TAClist,8,FALSE)*$AD36)","v":0},{"$f":"IF(B36=\"\",\"\",VLOOKUP($B36,TAClist,11,FALSE)*$AE36)","v":0},{"$f":"IF(B36=\"\",\"\",VLOOKUP($B36,TAClist,12,FALSE)*$AF36)","v":180000},{"$f":"IF(B36=\"\",\"\",VLOOKUP($B36,TAClist,7,FALSE))","v":1},null,null,null,null,null,null,null,null,null,{"$f":"IF($B36=\"\",\"\",VLOOKUP($B36,Table1,2,FALSE))","v":"1990-12-07"},{"$f":"IF($B36=\"\",\"\",VLOOKUP($B36,Table1,3,FALSE))","v":"00:00:00"},{"$f":"IF($B36=\"\",\"\",VLOOKUP($B36,Table1,4,FALSE))","v":"00:00:00"},{"$f":"IF($B36=\"\",\"\",VLOOKUP($B36,Table1,5,FALSE))","v":"1999-08-13"},{"$f":"IF(Y36=\"\",\"\",IF($N$8>=Y36,1,0))","v":1},{"$f":"IF(Z36=\"\",\"\",IF($N$8>=Z36,1,0))","v":""},{"$f":"IF(AA36=\"\",\"\",IF($N$8>=AA36,1,0))","v":""},{"$f":"IF(AB36=\"\",\"\",IF($N$8>=AB36,1,0))","v":1}]
[null,{"$f":"Emissions!K34","v":"S6"},"Styrene",null,{"$f":"Emissions!M34","v":1.6499999999999999E-8},{"$f":"Emissions!N34","v":1.6499999999999999E-8},0,1,{"$f":"IF(B37=\"\",\"\",VLOOKUP($B37,TAClist,VLOOKUP(YrExposure,lu_YrExpose_MPcol,3,TRUE),FALSE))","v":1},{"$f":"IF(B37=\"\",\"\",VLOOKUP($B37,TAClist,9,FALSE))","v":1},{"$f":"IF(B37=\"\",\"\",VLOOKUP($B37,TAClist,10,FALSE))","v":1},{"$f":"IF(B37=\"\",\"\",VLOOKUP($B37,TAClist,8,FALSE)*$AD37)","v":900},0,{"$f":"IF(B37=\"\",\"\",VLOOKUP($B37,TAClist,12,FALSE)*$AF37)","v":21000},{"$f":"IF(B37=\"\",\"\",VLOOKUP($B37,TAClist,7,FALSE))","v":1},null,null,null,null,null,null,null,null,null,{"$f":"IF($B37=\"\",\"\",VLOOKUP($B37,Table1,2,FALSE))","v":"00:00:00"},"2000-08-18","2015-07-05","1999-08-13","",1,1,1]
[null,{"$f":"Emissions!K35","v":"B12"},"1,3-Butadiene",null,{"$f":"Emissions!M35","v":9.4400000000000005E-9},{"$f":"Emissions!N35","v":9.4400000000000005E-9},0.6,1,1,1,1,2,9,660,1,null,null,null,null,null,null,null,null,null,"1990-12-07","2001-06-15","2015-07-05","2017-09-01",1,1,1,1]
[null,{"$f":"Emissions!K36","v":""},"",null,{"$f":"Emissions!M36","v":""},{"$f":"Emissions!N36","v":""},"","","","","","","","","",null,null,null,null,null,null,null,null,null,"","","","","","","",""]
[null,{"$f":"Emissions!K37","v":""},"",null,{"$f":"Emissions!M37","v":""},{"$f":"Emissions!N37","v":""},"","","","","","","","","",null,null,null,null,null,null,null,null,null,"","","","","","","",""]
[null,{"$f":"Emissions!K38","v":""},"",null,{"$f":"Emissions!M38","v":""},{"$f":"Emissions!N38","v":""},"","","","","","","","","",null,null,null,null,null,null,null,null,null,"","","","","","","",""]
[null,{"$f":"Emissions!K39","v":""},"",null,{"$f":"Emissions!M39","v":""},{"$f":"Emissions!N39","v":""},"","","","","","","","","",null,null,null,null,null,null,null,null,null,"","","","","","","",""]
[null,{"$f":"Emissions!K40","v":""},"",null,{"$f":"Emissions!M40","v":""},{"$f":"Emissions!N40","v":""},"","","","","","","","","",null,null,null,null,null,null,null,null,null,"","","","","","","",""]
[null,{"$f":"Emissions!K41","v":""},"",null,{"$f":"Emissions!M41","v":""},{"$f":"Emissions!N41","v":""},"","","","","","","","","",null,null,null,null,null,null,null,null,null,"","","","","","","",""]
[null,{"$f":"Emissions!K42","v":""},"",null,{"$f":"Emissions!M42","v":""},{"$f":"Emissions!N42","v":""},"","","","","","","","","",null,null,null,null,null,null,null,null,null,"","","","","","","",""]
[null,{"$f":"Emissions!K43","v":""},"",null,{"$f":"Emissions!M43","v":""},{"$f":"Emissions!N43","v":""},"","","","","","","","","",null,null,null,null,null,null,null,null,null,"","","","","","","",""]
[null,{"$f":"Emissions!K44","v":""},"",null,{"$f":"Emissions!M44","v":""},{"$f":"Emissions!N44","v":""},"","","","","","","","","",null,null,null,null,null,null,null,null,null,"","","","","","","",""]
[null,{"$f":"Emissions!K45","v":""},"",null,{"$f":"Emissions!M45","v":""},{"$f":"Emissions!N45","v":""},"","","","","","","","","",null,null,null,null,null,null,null,null,null,"","","","","","","",""]
[null,{"$f":"Emissions!K46","v":""},"",null,{"$f":"Emissions!M46","v":""},{"$f":"Emissions!N46","v":""},"","","","","","","","","",null,null,null,null,null,null,null,null,null,"","","","","","","",""]
[null,{"$f":"Emissions!K47","v":""},"",null,{"$f":"Emissions!M47","v":""},{"$f":"Emissions!N47","v":""},"","","","","","","","","",null,null,null,null,null,null,null,null,null,"","","","","","","",""]
[null,{"$f":"Emissions!K48","v":""},"",null,{"$f":"Emissions!M48","v":""},{"$f":"Emissions!N48","v":""},"","","","","","","","","",null,null,null,null,null,null,null,null,null,"","","","","","","",""]
[null,{"$f":"Emissions!K49","v":""},"",null,{"$f":"Emissions!M49","v":""},{"$f":"Emissions!N49","v":""},"","","","","","","","","",null,null,null,null,null,null,null,null,null,"","","","","","","",""]
[null,{"$f":"Emissions!K50","v":""},"",null,{"$f":"Emissions!M50","v":""},{"$f":"Emissions!N50","v":""},"","","","","","","","","",null,null,null,null,null,null,null,null,null,"","","","","","","",""]
[null,{"$f":"Emissions!K51","v":""},"",null,{"$f":"Emissions!M51","v":""},{"$f":"Emissions!N51","v":""},"","","","","","","","","",null,null,null,null,null,null,null,null,null,"","","","","","","",""]
[null,{"$f":"Emissions!K52","v":""},"",null,{"$f":"Emissions!M52","v":""},{"$f":"Emissions!N52","v":""},"","","","","","","","","",null,null,null,null,null,null,null,null,null,"","","","","","","",""]
[null,{"$f":"Emissions!K53","v":""},"",null,{"$f":"Emissions!M53","v":""},{"$f":"Emissions!N53","v":""},"","","","","","","","","",null,null,null,null,null,null,null,null,null,"","","","","","","",""]
[null,{"$f":"Emissions!K54","v":""},"",null,{"$f":"Emissions!M54","v":""},{"$f":"Emissions!N54","v":""},"","","","","","","","","",null,null,null,null,null,null,null,null,null,"","","","","","","",""]
[null,{"$f":"Emissions!K55","v":""},"",null,{"$f":"Emissions!M55","v":""},{"$f":"Emissions!N55","v":""},"","","","","","","","","",null,null,null,null,null,null,null,null,null,"","","","","","","",""]
[null,{"$f":"Emissions!K56","v":""},"",null,{"$f":"Emissions!M56","v":""},{"$f":"Emissions!N56","v":""},"","","","","","","","","",null,null,null,null,null,null,null,null,null,"","","","","","","",""]
[null,{"$f":"Emissions!K57","v":""},"",null,{"$f":"Emissions!M57","v":""},{"$f":"Emissions!N57","v":""},"","","","","","","","","",null,null,null,null,null,null,null,null,null,"","","","","","","",""]
[null,{"$f":"Emissions!K58","v":""},"",null,{"$f":"Emissions!M58","v":""},{"$f":"Emissions!N58","v":""},"","","","","","","","","",null,null,null,null,null,null,null,null,null,"","","","","","","",""]
[null,{"$f":"Emissions!K59","v":""},"",null,{"$f":"Emissions!M59","v":""},{"$f":"Emissions!N59","v":""},"","","","","","","","","",null,null,null,null,null,null,null,null,null,"","","","","","","",""]
[null,{"$f":"Emissions!K60","v":""},"",null,{"$f":"Emissions!M60","v":""},{"$f":"Emissions!N60","v":""},"","","","","","","","","",null,null,null,null,null,null,null,null,null,"","","","","","","",""]
[null,{"$f":"Emissions!K61","v":""},"",null,{"$f":"Emissions!M61","v":""},{"$f":"Emissions!N61","v":""},"","","","","","","","","",null,null,null,null,null,null,null,null,null,"","","","","","","",""]
[null,{"$f":"Emissions!K62","v":""},"",null,{"$f":"Emissions!M62","v":""},{"$f":"Emissions!N62","v":""},"","","","","","","","","",null,null,null,null,null,null,null,null,null,"","","","","","","",""]
[null,{"$f":"Emissions!K63","v":""},"",null,{"$f":"Emissions!M63","v":""},{"$f":"Emissions!N63","v":""},"","","","","","","","","",null,null,null,null,null,null,null,null,null,"","","","","","","",""]
[null,{"$f":"Emissions!K64","v":""},"",null,{"$f":"Emissions!M64","v":""},{"$f":"Emissions!N64","v":""},"","","","","","","","","",null,null,null,null,null,null,null,null,null,"","","","","","","",""]
[null,{"$f":"Emissions!K65","v":""},"",null,{"$f":"Emissions!M65","v":""},{"$f":"Emissions!N65","v":""},"","","","","","","","","",null,null,null,null,null,null,null,null,null,"","","","","","","",""]
[null,{"$f":"Emissions!K66","v":""},"",null,{"$f":"Emissions!M66","v":""},{"$f":"Emissions!N66","v":""},"","","","","","","","","",null,null,null,null,null,null,null,null,null,"","","","","","","",""]
[null,{"$f":"Emissions!K67","v":""},"",null,{"$f":"Emissions!M67","v":""},{"$f":"Emissions!N67","v":""},"","","","","","","","","",null,null,null,null,null,null,null,null,null,"","","","","","","",""]
[null,{"$f":"Emissions!K68","v":""},"",null,{"$f":"Emissions!M68","v":""},{"$f":"Emissions!N68","v":""},"","","","","","","","","",null,null,null,null,null,null,null,null,null,"","","","","","","",""]
[null,null,null,null,null,null,null,null,null,null,null,null,null,null,null,null,null,null,null,null,null,null,null,null,"","","","","","","",""]
[null,null,null,null,null,null,null,null,null,null,"A/N:",{"$f":"$D$8","v":"622795 (96, 97)"},"Application deemed complete date:",null,null,null,{"$f":"$N$8","v":"2020-07-14"}]
[null,null,"4. Emission Calculations"]
[null,null,"Compound",null,"R1 (lbs/hr)","R2 (lbs/hr)","R2 (lbs/yr)","R2 (tons/yr)"]
[null,null,{"$f":"C36","v":"Vinyl Chloride  (Chloroethylene)"},null,{"$f":"E36","v":3.33E-8},3.33E-8,{"$f":"(F76*HoursPerDay*DaysPerWeek*WeeksPerYear)","v":2.9090879999999999E-4},{"$f":"G76/2000","v":1.454544E-7}]
[null,null,"Styrene",null,1.6499999999999999E-8,1.6499999999999999E-8,{"$f":"(F77*HoursPerDay*DaysPerWeek*WeeksPerYear)","v":1.4414399999999999E-4},{"$f":"G77/2000","v":7.2071999999999998E-8}]
[null,null,"1,3-Butadiene",null,9.4400000000000005E-9,9.4400000000000005E-9,8.246784E-5,4.1233919999999998E-8]
[null,null,"",null,"","",0,0]
[null,null,"",null,"","",0,0]
[null,null,"",null,"","",0,0]
[null,null,"",null,"","",0,0]
[null,null,"",null,{"$f":"E43","v":""},"",{"$f":"(F83*HoursPerDay*DaysPerWeek*WeeksPerYear)","v":0},{"$f":"G83/2000","v":0}]
[null,null,"",null,{"$f":"E44","v":""},"",0,0]
[null,null,"",null,{"$f":"E45","v":""},"",0,0]
[null,null,"",null,{"$f":"E46","v":""},"",0,0]
[null,null,"",null,{"$f":"E47","v":""},"",0,0]
[null,null,"",null,{"$f":"E48","v":""},"",0,0]
[null,null,"",null,{"$f":"E49","v":""},"",0,0]
[null,null,"",null,{"$f":"E50","v":""},"",0,0]
[null,null,"",null,{"$f":"E51","v":""},"",0,0]
[null,null,"",null,{"$f":"E52","v":""},"",0,0]
[null,null,"",null,{"$f":"E53","v":""},"",0,0]
[null,null,"",null,{"$f":"E54","v":""},"",0,0]
[null,null,"",null,{"$f":"E55","v":""},"",0,0]
[null,null,"",null,{"$f":"E56","v":""},"",0,0]
[null,null,"",null,{"$f":"E57","v":""},"",{"$f":"IF(SourceType = \"Spray Booth\",F97*24*7*52,(F97*HoursPerDay*DaysPerWeek*WeeksPerYear))","v":0},0]
[null,null,"",null,"","",0,0]
[null,null,"",null,"","",0,0]
[null,null,"",null,"","",0,0]
[null,null,"",null,"","",0,0]
[null,null,"",null,"","",0,0]
[null,null,"",null,"","",0,0]
[null,null,"",null,"","",0,0]
[null,null,"",null,"","",0,0]
[null,null,"",null,"","",0,0]
[null,null,"",null,"","",0,0]
[null,null,"",null,{"$f":"E68","v":""},"",0,0]
[null,null,"",null,"","",0,0]
[null,null,"",null,"","",0,0]
[null,null,"",null,"","",0,0]
[null,null,"Total",null,{"$f":"SUM(E76:E111)","v":5.9239999999999993E-8},{"$f":"SUM(F76:F111)","v":5.9239999999999993E-8},{"$f":"SUM(G76:G111)","v":5.1752063999999998E-4},{"$f":"SUM(H76:H111)","v":2.5876031999999997E-7}]
[]
[]
[]
[null,null,null,null,null,null,null,null,null,null,"A/N:",{"$f":"$D$8","v":"622795 (96, 97)"},"Application deemed complete date:",null,null,null,{"$f":"$N$8","v":"2020-07-14"}]
[null,null,{"$f":"IF([0]!ScreeningMode=\"NO\",\"TIER 2 RESULTS\",\"TIER 3 RESULTS\")","v":"TIER 2 RESULTS"}]
[]
[null,null,"5a. MICR"]
[null,null,"MICR Resident = CP (mg/(kg-day))^-1 * Q (ton/yr) * (X/Q) Resident  * CEF Resident * MP  Resident * 1e-6 * MWAF"]
[null,null,"MICR Worker   = CP (mg/(kg-day))^-1 * Q (ton/yr) * (X/Q) Worker * CEF Worker* MP Worker* WAF Worker* 1e-6 * MWAF"]
[null,null,"Compound",null,"Residential","Commercial"]
[null,null,{"$f":"C36","v":"Vinyl Chloride  (Chloroethylene)"},null,{"$f":"$G36*$H76*$M$19*$M$25*$H36*10^-6*$O36","v":5.3810140434985607E-11},{"$f":"$G36*$H76*$M$20*$N$25*$N$26*$I36*10^-6*$O36","v":1.423685433456E-12}]
[null,null,"Styrene",null,{"$f":"$G37*$H77*$M$19*$M$25*$H37*10^-6*$O37","v":0},{"$f":"$G37*$H77*$M$20*$N$25*$N$26*$I37*10^-6*$O37","v":0}]
[null,null,"1,3-Butadiene",null,3.3898413460544815E-11,8.9686956902399989E-13]
[null,null,"",null,0,0]
[null,null,"",null,0,0]
[null,null,"",null,0,0]
[null,null,"",null,0,0]
[null,null,"",null,0,0]
[null,null,"",null,0,0]
[null,null,"",null,0,0]
[null,null,"",null,0,0]
[null,null,"",null,0,0]
[null,null,"",null,0,0]
[null,null,"",null,0,0]
[null,null,"",null,0,0]
[null,null,"",null,0,0]
[null,null,"",null,0,0]
[null,null,"",null,0,0]
[null,null,"",null,0,0]
[null,null,"",null,0,0]
[null,null,"",null,0,0]
[null,null,"",null,0,0]
[null,null,"",null,0,0,null,null,null,null,null,null,null,null,null,null,null,null,"Model used:",null,null,null,{"$f":"SourceType & \" -  \" & PointVolumeSource","v":"Other -  P"}]
[null,null,"",null,0,0,null,null,null,null,null,null,null,null,null,null,null,null,"Distance_interpolated (meter)",null,null,null,{"$f":"IF(ScreeningMode=\"YES\",W149,MAX(W149:W158))","v":0}]
[null,null,"",null,0,0]
[null,null,"",null,0,0,null,null,null,null,null,null,null,null,null,null,null,null,null,null,null,"New Distance (m)"]
[null,null,"",null,0,0,null,null,null,null,null,null,null,null,null,null,null,null,"Screening",null,null,null,{"$f":"IF(ScreeningMode=\"YES\",'Tier 3 Screen Input'!L18,\"No input\")","v":"No input"}]
[null,null,"",null,0,0,null,null,null,null,null,null,null,null,null,null,null,null,"Boiler",null,null,null,{"$f":"IF(SourceType=\"Boiler\",'Boiler Calc'!M7,\"Not Applicable\")","v":"Not Applicable"}]
[null,null,"",null,0,0,null,null,null,null,null,null,null,null,null,null,null,null,"Crematory",null,null,null,{"$f":"IF(SourceType = \"Crematory\",'Crematory Calc'!M7,\"Not Applicable\")","v":"Not Applicable"}]
[null,null,"",null,0,0,null,null,{"$f":"IF(AND(E159<0.000001,F159<0.000001),\"No Cancer Burden, MICR<1.0E-6\")","v":"No Cancer Burden, MICR<1.0E-6"},null,null,null,null,null,null,null,null,null,"Diesel ICE",null,null,null,{"$f":"IF(SourceType = \"Diesel ICE\",'Diesel Engine Calc'!M7,\"Not Applicable\")","v":"Not Applicable"}]
[null,null,"",null,0,0,null,null,"5b. Cancer Burden Calculation? ",null,null,null,{"$f":"IF(OR(E159>=1*10^-6,F159>=1*10^-6),\"YES\",\"NO\")","v":"NO"},null,null,null,null,null,"Gas Station",null,null,null,"Not Applicable"]
[null,null,"",null,0,0,null,null,null,null,null,null,null,null,null,null,null,null,"Diesel Pressure Washer",null,null,null,{"$f":"IF(SourceType = \"Pressure Washer\",'Diesel Engine Calc'!M7, \"Not Applicable\")","v":"Not Applicable"}]
[null,null,"",null,0,0,null,null,"X/Q for one-in-a-million (µg/m³)/(tons/yr):",null,null,null,{"$f":"IF($M$153=\"YES\",IF($E$159>=F159,$M$19/$E$159/1000000,$M$20/$F$159/1000000),0)","v":0},null,null,null,null,null,"Lean Burn ICE",null,null,null,{"$f":"IF(SourceType = \"Lean Burn ICE\",'Engine Calc'!M7, \"Not Applicable\")","v":"Not Applicable"}]
[null,null,"",null,0,0,null,null,"New Distance where MICR70 is below 1 million (m)",null,null,null,{"$f":"IF($M$153=\"NO\",\"\",IF($W$146>0,$W$146,\"\"))","v":""},null,null,null,null,null,"Rich Burn ICE",null,null,null,{"$f":"IF(SourceType = \"Rich Burn ICE\",'Engine Calc'!M7, \"Not Applicable\")","v":"Not Applicable"}]
[null,null,{"$f":"IF(SourceType=\"Spray Booth\",\"Total MICR from Coating\",C70)","v":""},null,{"$f":"IF(SourceType=\"Spray Booth\",SUM(E123:E135,$G70*$H110*$M$18*$M$24*$H70*10^-6*$O70))","v":false},{"$f":"IF(SourceType = \"Spray Booth\",SUM(F123:F135),$G70*$H110*$M$19*$N$24*$N$25*$I70*10^-6*$O70)","v":0},null,null,"Zone Impact Area (km²):",null,null,null,{"$f":"PI()*($M$156/1000)^2","v":0},null,null,null,null,null,"Spray Booth",null,null,null,{"$f":"IF(SourceType = \"Spray Booth\",'Spray Booth Calc'!M7,\"Not Applicable\")","v":"Not Applicable"}]
[null,null,{"$f":"IF(SourceType=\"Spray Booth\",\"Total MICR from Combustion\",C71)","v":""},null,{"$f":"IF(SourceType = \"Spray Booth\",SUM(E136:E146),$G71*$H111*$M$18*$M$24*$H71*10^-6*$O71)","v":0},{"$f":"IF(SourceType=\"Spray Booth\",SUM(F136:F146),$G71*$H111*$M$19*$N$24*$N$25*$I71*10^-6*$O71)","v":0},null,null,"Impact Population (of 7000 person/km²):",null,null,null,{"$f":"$M$157*7000","v":0},null,null,null,null,null,"Other",null,null,null,{"$f":"IF(AND(SourceType=\"Other\",PointVolumeSource=\"P\"),'PSE Calc'!M7,IF(AND(SourceType=\"Other\",PointVolumeSource=\"V\"),'VSE Calc'!M7,\"No input\"))","v":0}]
[null,null,"Total",null,{"$f":"IF(SourceType=\"Spray Booth\",SUM(E157:E158),SUM($E$123:$E$158))","v":8.7708553895530429E-11},{"$f":"IF(SourceType=\"Spray Booth\",SUM(F157:F158),SUM($E$123:$E$158))","v":8.7708553895530429E-11},null,null,"Cancer Burden:",null,null,null,{"$f":"$M$158*MAX($E$159:$F$159)","v":0},null,null,{"$f":"N159*M158","v":0}]
[null,null,null,null,{"$f":"IF(E159=0,\"Use AERMOD model\",IF(Emissions!TBact=\"yes\",IF(E159<=0.00001,\"PASS\",\"FAIL\"),IF(E159<=0.000001,\"PASS\",\"FAIL\")))","v":"PASS"},{"$f":"IF(F159=0,\"Use AERMOD model\",IF(Emissions!TBact=\"yes\",IF(F159<=0.00001,\"PASS\",\"FAIL\"),IF(F159<=0.000001,\"PASS\",\"FAIL\")))","v":"PASS"},null,null,null,null,null,null,{"$f":"IF(M159=0,\"\",IF(M159<=0.5,\"PASS\",\"FAIL\"))","v":""}]
[null,null,"6. Hazard Index",null,null,null,null,null,null,null,"A/N:",{"$f":"$D$8","v":"622795 (96, 97)"},"Application deemed complete date:",null,null,null,{"$f":"$N$8","v":"2020-07-14"}]
[null,null,"HIA = [Q(lb/hr) * (X/Q)max * MWAF ]/ Acute REL"]
[null,null,"HIC = [Q(ton/yr) * (X/Q) * MP * MWAF] / Chronic REL"]
[null,null,"HIC 8-hr= [Q(ton/yr) * (X/Q) * WAF * MWAF] / 8-hr Chronic REL"]
[null,null,"Target Organs",null,null,"Acute","Chronic","8-hr Chronic ","Acute \nPass/Fail","Chronic \nPass/Fail","Chronic  8-hr\nPass/Fail"]
[null,null,"Alimentary system (liver) - AL",null,null,{"$f":"MAX(E$223,E$265)","v":0},{"$f":"MAX(E$308,E$352)","v":0},{"$f":"IF(AND(HoursPerDay>=8,DaysPerWeek>=5),MAX(E$395,E$438),\"N/A\")","v":0},{"$f":"IF(OR(F166<=1,F166=\"\"),\"Pass\",\"Fail\")","v":"Pass"},{"$f":"IF(OR(G166<=1,G166=\"\"),\"Pass\",\"Fail\")","v":"Pass"},{"$f":"IF(OR(H166<=1,H166=\"\"),\"Pass\",\"Fail\")","v":"Pass"}]
[null,null,"Bones and teeth - BN",null,null,null,{"$f":"MAX(F$308,F$352)","v":0},{"$f":"IF(AND(HoursPerDay>=8,DaysPerWeek>=5),MAX(F$395,F$438),\"N/A\")","v":0},{"$f":"IF(OR(F167<=1,F167=\"\"),\"Pass\",\"Fail\")","v":"Pass"},"Pass","Pass"]
[null,null,"Cardiovascular system - CV",null,null,{"$f":"MAX(F$223,F$265)","v":0},{"$f":"MAX(G$308,G$352)","v":0},{"$f":"IF(AND(HoursPerDay>=8,DaysPerWeek>=5),MAX(G$395,G$438),\"N/A\")","v":0},"Pass","Pass","Pass"]
[null,null,"Developmental - DEV",null,null,{"$f":"MAX(G$223,G$265)","v":0},{"$f":"MAX(H$308,H$352)","v":3.2368627199999997E-6},{"$f":"IF(AND(HoursPerDay>=8,DaysPerWeek>=5),MAX(H$395,H$438),\"N/A\")","v":0},"Pass","Pass","Pass"]
[null,null,"Endocrine system - END",null,null,null,{"$f":"MAX(I$308,I$352)","v":0},{"$f":"IF(AND(HoursPerDay>=8,DaysPerWeek>=5),MAX(I$395,I$438),\"N/A\")","v":0},"Pass","Pass","Pass"]
[null,null,"Eye",null,null,{"$f":"MAX(H$223,H$265)","v":0},{"$f":"MAX(J$308,J$352)","v":0},{"$f":"IF(AND(HoursPerDay>=8,DaysPerWeek>=5),MAX(J$395,J$438),\"N/A\")","v":0},"Pass","Pass","Pass"]
[null,null,"Hematopoietic system - HEM",null,null,{"$f":"MAX(I$223,I$265)","v":0},{"$f":"MAX(K$308,K$352)","v":0},{"$f":"IF(AND(HoursPerDay>=8,DaysPerWeek>=5),MAX(K$395,K$438),\"N/A\")","v":0},"Pass","Pass","Pass"]
[null,null,"Immune system - IMM",null,null,{"$f":"MAX(J$223,J$265)","v":0},{"$f":"MAX(L$308,L$352)","v":0},{"$f":"IF(AND(HoursPerDay>=8,DaysPerWeek>=5),MAX(L$395,L$438),\"N/A\")","v":0},"Pass","Pass","Pass"]
[null,null,"Kidney - KID",null,null,null,{"$f":"MAX(M$308,M$352)","v":0},{"$f":"IF(AND(HoursPerDay>=8,DaysPerWeek>=5),MAX(M$395,M$438),\"N/A\")","v":0},"Pass","Pass","Pass"]
[null,null,"Nervous system - NS",null,null,{"$f":"MAX(K$223,K$265)","v":0},{"$f":"MAX(N$308,N$352)","v":1.257256E-8},{"$f":"IF(AND(HoursPerDay>=8,DaysPerWeek>=5),MAX(N$395,N$438),\"N/A\")","v":0},"Pass","Pass","Pass"]
[null,null,"Reproductive system - REP",null,null,{"$f":"MAX(L$223,L$265)","v":0},{"$f":"MAX(O$308,O$352)","v":3.2368627199999997E-6},{"$f":"IF(AND(HoursPerDay>=8,DaysPerWeek>=5),MAX(O$395,O$438),\"N/A\")","v":0},"Pass","Pass","Pass"]
[null,null,"Respiratory system - RES",null,null,{"$f":"MAX(M$223,M$265)","v":0},{"$f":"MAX(P$308,P$352)","v":0},{"$f":"IF(AND(HoursPerDay>=8,DaysPerWeek>=5),MAX(P$395,P$438),\"N/A\")","v":0},"Pass","Pass","Pass"]
[null,null,"Skin",null,null,{"$f":"MAX(N$223,N$265)","v":0},{"$f":"MAX(Q$308,Q$352)","v":0},{"$f":"IF(AND(HoursPerDay>=8,DaysPerWeek>=5),MAX(Q$395,Q$438),\"N/A\")","v":0},"Pass","Pass","Pass"]
[]
[]
[]
[null,null,null,null,null,null,null,null,null,null,"A/N:",{"$f":"$D$8","v":"622795 (96, 97)"},"Application deemed complete date:",null,null,null,{"$f":"$N$8","v":"2020-07-14"}]
[null,null,"6a. Hazard Index Acute - Resident"]
[null,null,"HIA = [Q(lb/hr) * (X/Q)max resident * MWAF] / Acute REL"]
[null,null,null,null,null,null,null,"HIA - Residential",null,null,null,null,null,null,null,null,null,null,null,null,"Lookup table 11.2- Acute Target Organ Toxicity"]
[null,null,"Compound",null,"AL","CV","DEV","EYE","HEM","IMM","NS","REP","RESP","SKIN",null,null,null,null,null,null,"AL","CV","DEV","EYE","HEM","IMM","NS","REP","RESP","SKIN"]
[null,null,{"$f":"C36","v":"Vinyl Chloride  (Chloroethylene)"},null,{"$f":"IF(ISERR(U187),\"\", IF($N36=0,\"\",IF($T187=\"\",\"\",IF(OR(U187<>\"x\",U187=\"\"),\"\",($F76*$E$24*$O36)/$N36))))","v":""},"","",0,"","",{"$f":"IF(ISERR(AA187),\"\", IF($N36=0,\"\",IF($T187=\"\",\"\",IF(OR(AA187<>\"x\",AA187=\"\"),\"\",($F76*$E$24*$O36)/$N36))))","v":0},"",0,"",null,null,null,null,null,{"$f":"IF($B36=\"\",\"\",$B36)","v":"V4"},{"$f":"IFERROR(IF($T187=\"\",\"\",VLOOKUP($T187,TOAcute_data,4,FALSE)),\"\")","v":0},{"$f":"IFERROR(IF($T187=\"\",\"\",VLOOKUP($T187,TOAcute_data,5,FALSE)),\"\")","v":0},{"$f":"IFERROR(IF($T187=\"\",\"\",VLOOKUP($T187,TOAcute_data,6,FALSE)),\"\")","v":0},{"$f":"IFERROR(IF($T187=\"\",\"\",VLOOKUP($T187,TOAcute_data,7,FALSE)),\"\")","v":"X"},{"$f":"IFERROR(IF($T187=\"\",\"\",VLOOKUP($T187,TOAcute_data,8,FALSE)),\"\")","v":0},{"$f":"IFERROR(IF($T187=\"\",\"\",VLOOKUP($T187,TOAcute_data,9,FALSE)),\"\")","v":0},{"$f":"IFERROR(IF($T187=\"\",\"\",VLOOKUP($T187,TOAcute_data,10,FALSE)),\"\")","v":"X"},{"$f":"IFERROR(IF($T187=\"\",\"\",VLOOKUP($T187,TOAcute_data,11,FALSE)),\"\")","v":0},{"$f":"IFERROR(IF($T187=\"\",\"\",VLOOKUP($T187,TOAcute_data,12,FALSE)),\"\")","v":"X"},{"$f":"IFERROR(IF($T187=\"\",\"\",VLOOKUP($T187,TOAcute_data,13,FALSE)),\"\")","v":0}]
[null,null,"Styrene",null,"","",0,0,"","","",0,0,"",null,null,null,null,null,"S6",0,0,"X","X",0,0,0,"X","X",0]
[null,null,"1,3-Butadiene",null,"","",0,"","","","",0,"","",null,null,null,null,null,"B12",0,0,"X",0,0,0,0,"X",0,0]
[null,null,"",null,"","","","","","","","","","",null,null,null,null,null,"","","","","","","","","","",""]
[null,null,"",null,"","","","","","","","","","",null,null,null,null,null,"","","","","","","","","","",""]
[null,null,"",null,"","","","","","","","","","",null,null,null,null,null,"","","","","","","","","","",""]
[null,null,"",null,"","","","","","","","","","",null,null,null,null,null,"","","","","","","","","","",""]
[null,null,"",null,"","","","","","","","","","",null,null,null,null,null,"","","","","","","","","","",""]
[null,null,"",null,"","","","","","","","","","",null,null,null,null,null,"","","","","","","","","","",""]
[null,null,"",null,"","","","","","","","","","",null,null,null,null,null,"","","","","","","","","","",""]
[null,null,"",null,"","","","","","","","","","",null,null,null,null,null,"","","","","","","","","","",""]
[null,null,"",null,"","","","","","","","","","",null,null,null,null,null,"","","","","","","","","","",""]
[null,null,"",null,"","","","","","","","","","",null,null,null,null,null,"","","","","","","","","","",""]
[null,null,"",null,"","","","","","","","","","",null,null,null,null,null,"","","","","","","","","","",""]
[null,null,"",null,"","","","","","","","","","",null,null,null,null,null,"","","","","","","","","","",""]
[null,null,"",null,"","","","","","","","","","",null,null,null,null,null,"","","","","","","","","","",""]
[null,null,"",null,{"$f":"IF(ISERR(U203),\"\", IF($N52=0,\"\",IF($T203=\"\",\"\",IF(OR(U203<>\"x\",U203=\"\"),\"\",($F92*$E$24*$O52)/$N52))))","v":""},"","","","","","","","","",null,null,null,null,null,"","","","","","","","","","",""]
[null,null,"",null,"","","","","","","","","","",null,null,null,null,null,"","","","","","","","","","",""]
[null,null,"",null,"","","","","","","","","","",null,null,null,null,null,"","","","","","","","","","",""]
[null,null,"",null,"","","","","","","","","","",null,null,null,null,null,"","","","","","","","","","",""]
[null,null,"",null,"","","","","","","","","","",null,null,null,null,null,"","","","","","","","","","",""]
[null,null,"",null,"","","","","","","","","","",null,null,null,null,null,"","","","","","","","","","",""]
[null,null,"",null,"","","","","","","","","","",null,null,null,null,null,"","","","","","","","","","",""]
[null,null,"",null,"","","","","","","","","","",null,null,null,null,null,"","","","","","","","","","",""]
[null,null,"",null,"","","","","","","","","","",null,null,null,null,null,"","","","","","","","","","",""]
[null,null,"",null,"","","","","","","","","","",null,null,null,null,null,"","","","","","","","","","",""]
[null,null,"",null,"","","","","","","","","","",null,null,null,null,null,"","","","","","","","","","",""]
[null,null,"",null,"","","","","","","","","","",null,null,null,null,null,"","","","","","","","","","",""]
[null,null,"",null,"","","","","","","","","","",null,null,null,null,null,"","","","","","","","","","",""]
[null,null,"",null,"","","","","","","","","","",null,null,null,null,null,"","","","","","","","","","",""]
[null,null,"",null,"","","","","","","","","","",null,null,null,null,null,"","","","","","","","","","",""]
[null,null,"",null,"","","","","","","","","","",null,null,null,null,null,"","","","","","","","","","",""]
[null,null,"",null,{"$f":"IF(ISERR(U219),\"\", IF($N68=0,\"\",IF($T219=\"\",\"\",IF(OR(U219<>\"x\",U219=\"\"),\"\",($F108*$E$24*$O68)/$N68))))","v":""},"","","","","","","","","",null,null,null,null,null,"","","","","","","","","","",""]
[null,null,"",null,"","","","","","","","","","",null,null,null,null,null,"","","","","","","","","","",""]
[null,null,"",null,"","","","","","","","","","",null,null,null,null,null,"","","","","","","","","","",""]
[null,null,{"$f":"C71","v":""},null,"","","","","","","","","","",null,null,null,null,null,"","","","","","","","","","",""]
[null,null,"Total",null,{"$f":"SUM(E187:E222)","v":0},{"$f":"SUM(F187:F222)","v":0},0,0,0,0,0,0,0,0]
[]
[null,null,"6a. Hazard Index Acute - Worker",null,null,null,null,null,null,null,"A/N:",{"$f":"$D$8","v":"622795 (96, 97)"},"Application deemed complete date:",null,null,null,{"$f":"$N$8","v":"2020-07-14"}]
[null,null,"HIA = [Q(lb/hr) * (X/Q)max Worker * MWAF] / Acute REL"]
[null,null,null,null,null,null,null,"HIA - Commercial",null,null,null,null,null,null,null,null,null,null,null,null,"Lookup table 11.2- Acute Target Organ Toxicity (Same as table above)"]
[null,null,"Compound",null,"AL","CV","DEV","EYE","HEM","IMM","NS","REP","RESP","SKIN",null,null,null,null,null,null,"AL","CV","DEV","EYE","HEM","IMM","NS","REP","RESP","SKIN"]
[null,null,{"$f":"C36","v":"Vinyl Chloride  (Chloroethylene)"},null,{"$f":"IF(ISERR(U229),\"\",IF($N36=0,\"\",IF($T229=\"\",\"\",IF(OR(U229<>\"x\",U229=\"\"),\"\",($F76*$E$26 *$O36)/$N36))))","v":""},{"$f":"IF(ISERR(V229),\"\",IF($N36=0,\"\",IF($T229=\"\",\"\",IF(OR(V229<>\"x\",V229=\"\"),\"\",($F76*$E$26 *$O36)/$N36))))","v":""},{"$f":"IF(ISERR(W229),\"\",IF($N36=0,\"\",IF($T229=\"\",\"\",IF(OR(W229<>\"x\",W229=\"\"),\"\",($F76*$E$26 *$O36)/$N36))))","v":""},{"$f":"IF(ISERR(X229),\"\",IF($N36=0,\"\",IF($T229=\"\",\"\",IF(OR(X229<>\"x\",X229=\"\"),\"\",($F76*$E$26 *$O36)/$N36))))","v":0},{"$f":"IF(ISERR(Y229),\"\",IF($N36=0,\"\",IF($T229=\"\",\"\",IF(OR(Y229<>\"x\",Y229=\"\"),\"\",($F76*$E$26 *$O36)/$N36))))","v":""},{"$f":"IF(ISERR(Z229),\"\",IF($N36=0,\"\",IF($T229=\"\",\"\",IF(OR(Z229<>\"x\",Z229=\"\"),\"\",($F76*$E$26 *$O36)/$N36))))","v":""},{"$f":"IF(ISERR(AA229),\"\",IF($N36=0,\"\",IF($T229=\"\",\"\",IF(OR(AA229<>\"x\",AA229=\"\"),\"\",($F76*$E$26 *$O36)/$N36))))","v":0},{"$f":"IF(ISERR(AB229),\"\",IF($N36=0,\"\",IF($T229=\"\",\"\",IF(OR(AB229<>\"x\",AB229=\"\"),\"\",($F76*$E$26 *$O36)/$N36))))","v":""},{"$f":"IF(ISERR(AC229),\"\",IF($N36=0,\"\",IF($T229=\"\",\"\",IF(OR(AC229<>\"x\",AC229=\"\"),\"\",($F76*$E$26 *$O36)/$N36))))","v":0},{"$f":"IF(ISERR(AD229),\"\",IF($N36=0,\"\",IF($T229=\"\",\"\",IF(OR(AD229<>\"x\",AD229=\"\"),\"\",($F76*$E$26 *$O36)/$N36))))","v":""},null,null,null,null,null,{"$f":"T187","v":"V4"},{"$f":"U187","v":0},{"$f":"V187","v":0},0,"X",0,0,"X",0,"X",0]
[null,null,"Styrene",null,"","",0,0,"","","",0,0,"",null,null,null,null,null,{"$f":"T188","v":"S6"},0,0,"X","X",0,0,0,"X","X",0]
[null,null,"1,3-Butadiene",null,"","",0,"","","","",0,"","",null,null,null,null,null,"B12",0,0,"X",0,0,0,0,"X",0,0]
[null,null,"",null,"","","","","","","","","","",null,null,null,null,null,"","","","","","","","","","",""]
[null,null,"",null,"","","","","","","","","","",null,null,null,null,null,"","","","","","","","","","",""]
[null,null,"",null,"","","","","","","","","","",null,null,null,null,null,"","","","","","","","","","",""]
[null,null,"",null,"","","","","","","","","","",null,null,null,null,null,"","","","","","","","","","",""]
[null,null,"",null,"","","","","","","","","","",null,null,null,null,null,"","","","","","","","","","",""]
[null,null,"",null,"","","","","","","","","","",null,null,null,null,null,"","","","","","","","","","",""]
[null,null,"",null,"","","","","","","","","","",null,null,null,null,null,"","","","","","","","","","",""]
[null,null,"",null,"","","","","","","","","","",null,null,null,null,null,"","","","","","","","","","",""]
[null,null,"",null,"","","","","","","","","","",null,null,null,null,null,"","","","","","","","","","",""]
[null,null,"",null,"","","","","","","","","","",null,null,null,null,null,"","","","","","","","","","",""]
[null,null,"",null,"","","","","","","","","","",null,null,null,null,null,"","","","","","","","","","",""]
[null,null,"",null,"","","","","","","","","","",null,null,null,null,null,"","","","","","","","","","",""]
[null,null,"",null,"","","","","","","","","","",null,null,null,null,null,"","","","","","","","","","",""]
[null,null,"",null,"","","","","","","","","","",null,null,null,null,null,"","","","","","","","","","",""]
[null,null,"",null,"","","","","","","","","","",null,null,null,null,null,{"$f":"T204","v":""},"","","","","","","","","",""]
[null,null,"",null,"","","","","","","","","","",null,null,null,null,null,"","","","","","","","","","",""]
[null,null,"",null,"","","","","","","","","","",null,null,null,null,null,"","","","","","","","","","",""]
[null,null,"",null,"","","","","","","","","","",null,null,null,null,null,"","","","","","","","","","",""]
[null,null,"",null,"","","","","","","","","","",null,null,null,null,null,"","","","","","","","","","",""]
[null,null,"",null,"","","","","","","","","","",null,null,null,null,null,"","","","","","","","","","",""]
[null,null,"",null,"","","","","","","","","","",null,null,null,null,null,"","","","","","","","","","",""]
[null,null,"",null,"","","","","","","","","","",null,null,null,null,null,"","","","","","","","","","",""]
[null,null,"",null,"","","","","","","","","","",null,null,null,null,null,"","","","","","","","","","",""]
[null,null,"",null,"","","","","","","","","","",null,null,null,null,null,"","","","","","","","","","",""]
[null,null,"",null,"","","","","","","","","","",null,null,null,null,null,"","","","","","","","","","",""]
[null,null,"",null,"","","","","","","","","","",null,null,null,null,null,"","","","","","","","","","",""]
[null,null,"",null,"","","","","","","","","","",null,null,null,null,null,"","","","","","","","","","",""]
[null,null,"",null,"","","","","","","","","","",null,null,null,null,null,"","","","","","","","","","",""]
[null,null,"",null,"","","","","","","","","","",null,null,null,null,null,"","","","","","","","","","",""]
[null,null,"",null,"","","","","","","","","","",null,null,null,null,null,"","","","","","","","","","",""]
[null,null,"",null,"","","","","","","","","","",null,null,null,null,null,{"$f":"T220","v":""},"","","","","","","","","",""]
[null,null,"",null,"","","","","","","","","","",null,null,null,null,null,"","","","","","","","","","",""]
[null,null,"",null,"","","","","","","","","","",null,null,null,null,null,"","","","","","","","","","",""]
[null,null,"Total",null,{"$f":"SUM(E229:E264)","v":0},{"$f":"SUM(F229:F264)","v":0},0,0,0,0,0,0,0,0]
[]
[null,null,null,null,null,null,null,null,null,null,"A/N:",{"$f":"$D$8","v":"622795 (96, 97)"},"Application deemed complete date:",null,null,null,{"$f":"$N$8","v":"2020-07-14"}]
[null,null,"6b. Hazard Index Chronic - Resident"]
[null,null,"HIC = [Q(ton/yr) * (X/Q) Resident * MP Chronic Resident * MWAF] / Chronic REL"]
[null,null,null,null,null,null,null,null,"HIC - Residential",null,null,null,null,null,null,null,null,null,null,null,"Look up table 11.1 - Chronic Target Organ "]
[null,null,"Compound",null,"AL","BN","CV","DEV","END","EYE","HEM","IMM","KID","NS","REP","RESP","SKIN",null,null,null,"AL","BN","CV","DEV","END","EYE","HEM","IMM","KID","NS","REP","RESP","SKIN"]
[null,null,{"$f":"C36","v":"Vinyl Chloride  (Chloroethylene)"},null,{"$f":"IF(ISERR(U272),\"\",IF($L36=0,\"\",IF($T272=\"\",\"\",IF(OR(U272<>\"x\",U272=\"\"),\"\",($H76*$D$24*$J36*$O36)/$L36))))","v":""},"","","","","","","","","","","","",null,null,{"$f":"IF($B36=\"\",\"\",$B36)","v":"V4"},{"$f":"IFERROR(IF($T272=\"\",\"\",VLOOKUP($T272,TOChronic_data,4,FALSE)),\"\")","v":""},{"$f":"IFERROR(IF($T272=\"\",\"\",VLOOKUP($T272,TOChronic_data,5,FALSE)),\"\")","v":""},{"$f":"IFERROR(IF($T272=\"\",\"\",VLOOKUP($T272,TOChronic_data,6,FALSE)),\"\")","v":""},{"$f":"IFERROR(IF($T272=\"\",\"\",VLOOKUP($T272,TOChronic_data,7,FALSE)),\"\")","v":""},{"$f":"IFERROR(IF($T272=\"\",\"\",VLOOKUP($T272,TOChronic_data,8,FALSE)),\"\")","v":""},{"$f":"IFERROR(IF($T272=\"\",\"\",VLOOKUP($T272,TOChronic_data,9,FALSE)),\"\")","v":""},{"$f":"IFERROR(IF($T272=\"\",\"\",VLOOKUP($T272,TOChronic_data,10,FALSE)),\"\")","v":""},{"$f":"IFERROR(IF($T272=\"\",\"\",VLOOKUP($T272,TOChronic_data,11,FALSE)),\"\")","v":""},{"$f":"IFERROR(IF($T272=\"\",\"\",VLOOKUP($T272,TOChronic_data,12,FALSE)),\"\")","v":""},{"$f":"IFERROR(IF($T272=\"\",\"\",VLOOKUP($T272,TOChronic_data,13,FALSE)),\"\")","v":""},{"$f":"IFERROR(IF($T272=\"\",\"\",VLOOKUP($T272,TOChronic_data,14,FALSE)),\"\")","v":""},{"$f":"IFERROR(IF($T272=\"\",\"\",VLOOKUP($T272,TOChronic_data,15,FALSE)),\"\")","v":""},{"$f":"IFERROR(IF($T272=\"\",\"\",VLOOKUP($T272,TOChronic_data,16,FALSE)),\"\")","v":""}]
[null,null,"Styrene",null,"","","","","","","","","",2.5625599999999999E-9,"","","",null,null,"S6",0,0,0,0,0,0,0,0,0,"X",0,0,0]
[null,null,"1,3-Butadiene",null,"","","",6.5974271999999997E-7,"","","","","","",6.5974271999999997E-7,"","",null,null,"B12",0,0,0,"X",0,0,0,0,0,0,"X",0,0]
[null,null,"",null,"","","","","","","","","","","","","",null,null,"","","","","","","","","","","","","",""]
[null,null,"",null,"","","","","","","","","","","","","",null,null,"","","","","","","","","","","","","",""]
[null,null,"",null,"","","","","","","","","","","","","",null,null,"","","","","","","","","","","","","",""]
[null,null,"",null,"","","","","","","","","","","","","",null,null,"","","","","","","","","","","","","",""]
[null,null,"",null,"","","","","","","","","","","","","",null,null,"","","","","","","","","","","","","",""]
[null,null,"",null,"","","","","","","","","","","","","",null,null,"","","","","","","","","","","","","",""]
[null,null,"",null,"","","","","","","","","","","","","",null,null,"","","","","","","","","","","","","",""]
[null,null,"",null,"","","","","","","","","","","","","",null,null,"","","","","","","","","","","","","",""]
[null,null,"",null,"","","","","","","","","","","","","",null,null,"","","","","","","","","","","","","",""]
[null,null,"",null,"","","","","","","","","","","","","",null,null,"","","","","","","","","","","","","",""]
[null,null,"",null,"","","","","","","","","","","","","",null,null,"","","","","","","","","","","","","",""]
[null,null,"",null,"","","","","","","","","","","","","",null,null,"","","","","","","","","","","","","",""]
[null,null,"",null,"","","","","","","","","","","","","",null,null,"","","","","","","","","","","","","",""]
[null,null,"",null,{"$f":"IF(ISERR(U288),\"\",IF($L52=0,\"\",IF($T288=\"\",\"\",IF(OR(U288<>\"x\",U288=\"\"),\"\",($H92*$D$24*$J52*$O52)/$L52))))","v":""},"","","","","","","","","","","","",null,null,"","","","","","","","","","","","","",""]
[null,null,"",null,"","","","","","","","","","","","","",null,null,"","","","","","","","","","","","","",""]
[null,null,"",null,"","","","","","","","","","","","","",null,null,"","","","","","","","","","","","","",""]
[null,null,"",null,"","","","","","","","","","","","","",null,null,"","","","","","","","","","","","","",""]
[null,null,"",null,"","","","","","","","","","","","","",null,null,"","","","","","","","","","","","","",""]
[null,null,"",null,"","","","","","","","","","","","","",null,null,"","","","","","","","","","","","","",""]
[null,null,"",null,"","","","","","","","","","","","","",null,null,"","","","","","","","","","","","","",""]
[null,null,"",null,"","","","","","","","","","","","","",null,null,"","","","","","","","","","","","","",""]
[null,null,"",null,"","","","","","","","","","","","","",null,null,"","","","","","","","","","","","","",""]
[null,null,"",null,"","","","","","","","","","","","","",null,null,"","","","","","","","","","","","","",""]
[null,null,"",null,"","","","","","","","","","","","","",null,null,"","","","","","","","","","","","","",""]
[null,null,"",null,"","","","","","","","","","","","","",null,null,"","","","","","","","","","","","","",""]
[null,null,"",null,"","","","","","","","","","","","","",null,null,"","","","","","","","","","","","","",""]
[null,null,"",null,"","","","","","","","","","","","","",null,null,"","","","","","","","","","","","","",""]
[null,null,"",null,"","","","","","","","","","","","","",null,null,"","","","","","","","","","","","","",""]
[null,null,"",null,"","","","","","","","","","","","","",null,null,"","","","","","","","","","","","","",""]
[null,null,"",null,{"$f":"IF(ISERR(U304),\"\",IF($L68=0,\"\",IF($T304=\"\",\"\",IF(OR(U304<>\"x\",U304=\"\"),\"\",($H108*$D$24*$J68*$O68)/$L68))))","v":""},"","","","","","","","","","","","",null,null,"","","","","","","","","","","","","",""]
[null,null,"",null,"","","","","","","","","","","","","",null,null,"","","","","","","","","","","","","",""]
[null,null,"",null,"","","","","","","","","","","","","",null,null,"","","","","","","","","","","","","",""]
[null,null,"",null,"","","","","","","","","","","","","",null,null,"","","","","","","","","","","","","",""]
[null,null,"Total",null,{"$f":"SUM(E272:E307)","v":0},{"$f":"SUM(F272:F307)","v":0},0,6.5974271999999997E-7,0,0,0,0,0,2.5625599999999999E-9,6.5974271999999997E-7,0,0]
[null,null,null,null,null,null,null,null,null,null,null,null,null,null,null,null,null,null,null,null,{"$f":"IF($T309=\"\",\"\",VLOOKUP($T309,table10A,MATCH(E$271,head10A,0),FALSE))","v":""},{"$f":"IF($T309=\"\",\"\",VLOOKUP($T309,table10A,MATCH(F$271,head10A,0),FALSE))","v":""},{"$f":"IF($T309=\"\",\"\",VLOOKUP($T309,table10A,MATCH(G$271,head10A,0),FALSE))","v":""},{"$f":"IF($T309=\"\",\"\",VLOOKUP($T309,table10A,MATCH(H$271,head10A,0),FALSE))","v":""},{"$f":"IF($T309=\"\",\"\",VLOOKUP($T309,table10A,MATCH(I$271,head10A,0),FALSE))","v":""},{"$f":"IF($T309=\"\",\"\",VLOOKUP($T309,table10A,MATCH(J$271,head10A,0),FALSE))","v":""},{"$f":"IF($T309=\"\",\"\",VLOOKUP($T309,table10A,MATCH(K$271,head10A,0),FALSE))","v":""},{"$f":"IF($T309=\"\",\"\",VLOOKUP($T309,table10A,MATCH(L$271,head10A,0),FALSE))","v":""},{"$f":"IF($T309=\"\",\"\",VLOOKUP($T309,table10A,MATCH(M$271,head10A,0),FALSE))","v":""},{"$f":"IF($T309=\"\",\"\",VLOOKUP($T309,table10A,MATCH(R$271,head10A,0),FALSE))","v":""}]
[]
[null,null,null,null,null,null,null,null,null,null,"A/N:",{"$f":"$D$8","v":"622795 (96, 97)"},"Application deemed complete date:",null,null,null,{"$f":"$N$8","v":"2020-07-14"}]
[null,null,"6b. Hazard Index Chronic - Worker"]
[null,null,"HIC = [Q(ton/yr) * (X/Q) * MP Chronic Worker * MWAF] / Chronic REL"]
[null,null,null,null,null,null,null,null,"HIC - Commercial",null,null,null,null,null,null,null,null,null,null,null,"Look up table 11.1 - Chronic Target Organ "]
[null,null,"Compound",null,"AL","BN","CV","DEV","END","EYE","HEM","IMM","KID","NS","REP","RESP","SKIN",null,null,null,"AL","BN","CV","DEV","END","EYE","HEM","IMM","KID","NS","REP","RESP","SKIN"]
[null,null,{"$f":"C36","v":"Vinyl Chloride  (Chloroethylene)"},null,{"$f":"IF(ISERR(U316),\"\",IF($L36=0,\"\",IF($T316=\"\",\"\",IF(OR(U316<>\"x\",U316=\"\"),\"\",($H76*$D$26*$K36*$O36)/$L36))))","v":""},{"$f":"IF(ISERR(V316),\"\",IF($L36=0,\"\",IF($T316=\"\",\"\",IF(OR(V316<>\"x\",V316=\"\"),\"\",($H76*$D$26*$K36*$O36)/$L36))))","v":""},{"$f":"IF(ISERR(W316),\"\",IF($L36=0,\"\",IF($T316=\"\",\"\",IF(OR(W316<>\"x\",W316=\"\"),\"\",($H76*$D$26*$K36*$O36)/$L36))))","v":""},{"$f":"IF(ISERR(X316),\"\",IF($L36=0,\"\",IF($T316=\"\",\"\",IF(OR(X316<>\"x\",X316=\"\"),\"\",($H76*$D$26*$K36*$O36)/$L36))))","v":""},{"$f":"IF(ISERR(Y316),\"\",IF($L36=0,\"\",IF($T316=\"\",\"\",IF(OR(Y316<>\"x\",Y316=\"\"),\"\",($H76*$D$26*$K36*$O36)/$L36))))","v":""},{"$f":"IF(ISERR(Z316),\"\",IF($L36=0,\"\",IF($T316=\"\",\"\",IF(OR(Z316<>\"x\",Z316=\"\"),\"\",($H76*$D$26*$K36*$O36)/$L36))))","v":""},{"$f":"IF(ISERR(AA316),\"\",IF($L36=0,\"\",IF($T316=\"\",\"\",IF(OR(AA316<>\"x\",AA316=\"\"),\"\",($H76*$D$26*$K36*$O36)/$L36))))","v":""},{"$f":"IF(ISERR(AB316),\"\",IF($L36=0,\"\",IF($T316=\"\",\"\",IF(OR(AB316<>\"x\",AB316=\"\"),\"\",($H76*$D$26*$K36*$O36)/$L36))))","v":""},{"$f":"IF(ISERR(AC316),\"\",IF($L36=0,\"\",IF($T316=\"\",\"\",IF(OR(AC316<>\"x\",AC316=\"\"),\"\",($H76*$D$26*$K36*$O36)/$L36))))","v":""},{"$f":"IF(ISERR(AD316),\"\",IF($L36=0,\"\",IF($T316=\"\",\"\",IF(OR(AD316<>\"x\",AD316=\"\"),\"\",($H76*$D$26*$K36*$O36)/$L36))))","v":""},{"$f":"IF(ISERR(AE316),\"\",IF($L36=0,\"\",IF($T316=\"\",\"\",IF(OR(AE316<>\"x\",AE316=\"\"),\"\",($H76*$D$26*$K36*$O36)/$L36))))","v":""},{"$f":"IF(ISERR(AF316),\"\",IF($L36=0,\"\",IF($T316=\"\",\"\",IF(OR(AF316<>\"x\",AF316=\"\"),\"\",($H76*$D$26*$K36*$O36)/$L36))))","v":""},{"$f":"IF(ISERR(AG316),\"\",IF($L36=0,\"\",IF($T316=\"\",\"\",IF(OR(AG316<>\"x\",AG316=\"\"),\"\",($H76*$D$26*$K36*$O36)/$L36))))","v":""},null,null,{"$f":"T272","v":"V4"},"","","","","","","","","","","","",""]
[null,null,"Styrene",null,"","","","","","","","","",1.257256E-8,"","","",null,null,"S6",0,0,0,0,0,0,0,0,0,"X",0,0,0]
[null,null,"1,3-Butadiene",null,"","","",3.2368627199999997E-6,"","","","","","",3.2368627199999997E-6,"","",null,null,"B12",0,0,0,"X",0,0,0,0,0,0,"X",0,0]
[null,null,"",null,"","","","","","","","","","","","","",null,null,"","","","","","","","","","","","","",""]
[null,null,"",null,"","","","","","","","","","","","","",null,null,"","","","","","","","","","","","","",""]
[null,null,"",null,"","","","","","","","","","","","","",null,null,"","","","","","","","","","","","","",""]
[null,null,"",null,"","","","","","","","","","","","","",null,null,"","","","","","","","","","","","","",""]
[null,null,"",null,"","","","","","","","","","","","","",null,null,"","","","","","","","","","","","","",""]
[null,null,"",null,"","","","","","","","","","","","","",null,null,"","","","","","","","","","","","","",""]
[null,null,"",null,"","","","","","","","","","","","","",null,null,"","","","","","","","","","","","","",""]
[null,null,"",null,"","","","","","","","","","","","","",null,null,"","","","","","","","","","","","","",""]
[null,null,"",null,"","","","","","","","","","","","","",null,null,"","","","","","","","","","","","","",""]
[null,null,"",null,"","","","","","","","","","","","","",null,null,"","","","","","","","","","","","","",""]
[null,null,"",null,"","","","","","","","","","","","","",null,null,"","","","","","","","","","","","","",""]
[null,null,"",null,"","","","","","","","","","","","","",null,null,"","","","","","","","","","","","","",""]
[null,null,"",null,"","","","","","","","","","","","","",null,null,"","","","","","","","","","","","","",""]
[null,null,"",null,"","","","","","","","","","","","","",null,null,{"$f":"T288","v":""},"","","","","","","","","","","","",""]
[null,null,"",null,"","","","","","","","","","","","","",null,null,"","","","","","","","","","","","","",""]
[null,null,"",null,"","","","","","","","","","","","","",null,null,"","","","","","","","","","","","","",""]
[null,null,"",null,"","","","","","","","","","","","","",null,null,"","","","","","","","","","","","","",""]
[null,null,"",null,"","","","","","","","","","","","","",null,null,"","","","","","","","","","","","","",""]
[null,null,"",null,"","","","","","","","","","","","","",null,null,"","","","","","","","","","","","","",""]
[null,null,"",null,"","","","","","","","","","","","","",null,null,"","","","","","","","","","","","","",""]
[null,null,"",null,"","","","","","","","","","","","","",null,null,"","","","","","","","","","","","","",""]
[null,null,"",null,"","","","","","","","","","","","","",null,null,"","","","","","","","","","","","","",""]
[null,null,"",null,"","","","","","","","","","","","","",null,null,"","","","","","","","","","","","","",""]
[null,null,"",null,"","","","","","","","","","","","","",null,null,"","","","","","","","","","","","","",""]
[null,null,"",null,"","","","","","","","","","","","","",null,null,"","","","","","","","","","","","","",""]
[null,null,"",null,"","","","","","","","","","","","","",null,null,"","","","","","","","","","","","","",""]
[null,null,"",null,"","","","","","","","","","","","","",null,null,"","","","","","","","","","","","","",""]
[null,null,"",null,"","","","","","","","","","","","","",null,null,"","","","","","","","","","","","","",""]
[null,null,"",null,"","","","","","","","","","","","","",null,null,"","","","","","","","","","","","","",""]
[null,null,"",null,"","","","","","","","","","","","","",null,null,{"$f":"T304","v":""},"","","","","","","","","","","","",""]
[null,null,"",null,"","","","","","","","","","","","","",null,null,"","","","","","","","","","","","","",""]
[null,null,"",null,"","","","","","","","","","","","","",null,null,"","","","","","","","","","","","","",""]
[null,null,"",null,"","","","","","","","","","","","","",null,null,"","","","","","","","","","","","","",""]
[null,null,"Total",null,{"$f":"SUM(E316:E351)","v":0},{"$f":"SUM(F316:F351)","v":0},{"$f":"SUM(G316:G351)","v":0},3.2368627199999997E-6,0,0,0,0,0,1.257256E-8,3.2368627199999997E-6,0,0]
[null,null,null,null,null,null,null,null,null,null,null,null,null,null,null,null,null,null,null,0,"","","","","","","","","","",0,0,0]
[]
[null,null,"6c. 8-hour Hazard Index Chronic  - Resident",null,null,null,null,null,null,null,"A/N:",{"$f":"$D$8","v":"622795 (96, 97)"},"Application deemed complete date:",null,null,null,{"$f":"$N$8","v":"2020-07-14"}]
[null,null,"HIC 8-hr = [Q(ton/yr) * (X/Q) Resident * WAF Resident * MWAF] / 8-hr Chronic REL"]
[null,null,null,null,null,null,null,null,"HIC - Residential",null,null,null,null,null,null,null,null,null,null,"Look up Table 11.3"]
[null,null,"Compound",null,"AL","BN","CV","DEV","END","EYE","HEM","IMM","KID","NS","REP","RESP","SKIN",null,null,null,"AL","BN","CV","DEV","END","EYE","HEM","IMM","KID","NS","REP","RESP","SKIN"]
[null,null,{"$f":"C123","v":"Vinyl Chloride  (Chloroethylene)"},null,{"$f":"IF(ISERR(U359),\"\",IF($M36=0,\"\",IF($T359=\"\",\"\",IF(OR(U359<>\"x\",U359=\"\"),\"\",($H76*$D$24*$E$30*$O36)/$M36))))","v":""},{"$f":"IF(ISERR(V359),\"\",IF($M36=0,\"\",IF($T359=\"\",\"\",IF(OR(V359<>\"x\",V359=\"\"),\"\",($H76*$D$24*$E$30*$O36)/$M36))))","v":""},"","","","","","","","","",{"$f":"IF(ISERR(AF359),\"\",IF($M36=0,\"\",IF($T359=\"\",\"\",IF(OR(AF359<>\"x\",AF359=\"\"),\"\",($H76*$D$24*$E$30*$O36)/$M36))))","v":""},"",null,null,{"$f":"T316","v":"V4"},{"$f":"IFERROR(IF($T359=\"\",\"\",VLOOKUP($T359,TO8hr_data,4,FALSE)),\"\")","v":""},{"$f":"IFERROR(IF($T359=\"\",\"\",VLOOKUP($T359,TO8hr_data,5,FALSE)),\"\")","v":""},{"$f":"IFERROR(IF($T359=\"\",\"\",VLOOKUP($T359,TO8hr_data,6,FALSE)),\"\")","v":""},{"$f":"IFERROR(IF($T359=\"\",\"\",VLOOKUP($T359,TO8hr_data,7,FALSE)),\"\")","v":""},{"$f":"IFERROR(IF($T359=\"\",\"\",VLOOKUP($T359,TO8hr_data,8,FALSE)),\"\")","v":""},{"$f":"IFERROR(IF($T359=\"\",\"\",VLOOKUP($T359,TO8hr_data,9,FALSE)),\"\")","v":""},{"$f":"IFERROR(IF($T359=\"\",\"\",VLOOKUP($T359,TO8hr_data,10,FALSE)),\"\")","v":""},{"$f":"IFERROR(IF($T359=\"\",\"\",VLOOKUP($T359,TO8hr_data,11,FALSE)),\"\")","v":""},{"$f":"IFERROR(IF($T359=\"\",\"\",VLOOKUP($T359,TO8hr_data,12,FALSE)),\"\")","v":""},{"$f":"IFERROR(IF($T359=\"\",\"\",VLOOKUP($T359,TO8hr_data,13,FALSE)),\"\")","v":""},{"$f":"IFERROR(IF($T359=\"\",\"\",VLOOKUP($T359,TO8hr_data,14,FALSE)),\"\")","v":""},{"$f":"IFERROR(IF($T359=\"\",\"\",VLOOKUP($T359,TO8hr_data,15,FALSE)),\"\")","v":""},{"$f":"IFERROR(IF($T359=\"\",\"\",VLOOKUP($T359,TO8hr_data,16,FALSE)),\"\")","v":""}]
[null,null,"Styrene",null,"","","","","","","","","","","","","",null,null,{"$f":"T317","v":"S6"},"","","","","","","","","","","","",""]
[null,null,"1,3-Butadiene",null,"","","",0,"","","","","","","","","",null,null,"B12",0,0,0,"X",0,0,0,0,0,0,0,0,0]
[null,null,"",null,"","","","","","","","","","","","","",null,null,"","","","","","","","","","","","","",""]
[null,null,"",null,"","","","","","","","","","","","","",null,null,"","","","","","","","","","","","","",""]
[null,null,"",null,"","","","","","","","","","","","","",null,null,"","","","","","","","","","","","","",""]
[null,null,"",null,"","","","","","","","","","","","","",null,null,"","","","","","","","","","","","","",""]
[null,null,"",null,"","","","","","","","","","","","","",null,null,"","","","","","","","","","","","","",""]
[null,null,"",null,"","","","","","","","","","","","","",null,null,"","","","","","","","","","","","","",""]
[null,null,"",null,"","","","","","","","","","","","","",null,null,"","","","","","","","","","","","","",""]
[null,null,"",null,"","","","","","","","","","","","","",null,null,"","","","","","","","","","","","","",""]
[null,null,"",null,"","","","","","","","","","","","","",null,null,"","","","","","","","","","","","","",""]
[null,null,"",null,"","","","","","","","","","","","","",null,null,"","","","","","","","","","","","","",""]
[null,null,"",null,"","","","","","","","","","","","","",null,null,"","","","","","","","","","","","","",""]
[null,null,"",null,"","","","","","","","","","","","","",null,null,"","","","","","","","","","","","","",""]
[null,null,"",null,"","","","","","","","","","","","","",null,null,"","","","","","","","","","","","","",""]
[null,null,"",null,"",{"$f":"IF(ISERR(V375),\"\",IF($M52=0,\"\",IF($T375=\"\",\"\",IF(OR(V375<>\"x\",V375=\"\"),\"\",($H92*$D$24*$E$30*$O52)/$M52))))","v":""},"","","","","","","","","","","",null,null,"","","","","","","","","","","","","",""]
[null,null,"",null,{"$f":"IF(ISERR(U376),\"\",IF($M53=0,\"\",IF($T376=\"\",\"\",IF(OR(U376<>\"x\",U376=\"\"),\"\",($H93*$D$24*$E$30*$O53)/$M53))))","v":""},"","","","","","","","","","","","",null,null,"","","","","","","","","","","","","",""]
[null,null,"",null,"","","","","","","","","","","","","",null,null,"","","","","","","","","","","","","",""]
[null,null,"",null,"","","","","","","","","","","","","",null,null,"","","","","","","","","","","","","",""]
[null,null,"",null,"","","","","","","","","","","","","",null,null,"","","","","","","","","","","","","",""]
[null,null,"",null,"","","","","","","","","","","","","",null,null,"","","","","","","","","","","","","",""]
[null,null,"",null,"","","","","","","","","","","","","",null,null,"","","","","","","","","","","","","",""]
[null,null,"",null,"","","","","","","","","","","","","",null,null,"","","","","","","","","","","","","",""]
[null,null,"",null,"","","","","","","","","","","","","",null,null,"","","","","","","","","","","","","",""]
[null,null,"",null,"","","","","","","","","","","","","",null,null,"","","","","","","","","","","","","",""]
[null,null,"",null,"","","","","","","","","","","","","",null,null,"","","","","","","","","","","","","",""]
[null,null,"",null,"","","","","","","","","","","","","",null,null,"","","","","","","","","","","","","",""]
[null,null,"",null,"","","","","","","","","","","","","",null,null,"","","","","","","","","","","","","",""]
[null,null,"",null,"","","","","","","","","","","","","",null,null,"","","","","","","","","","","","","",""]
[null,null,"",null,"","","","","","","","","","","","","",null,null,"","","","","","","","","","","","","",""]
[null,null,"",null,"","","","","","","","","","","","","",null,null,"","","","","","","","","","","","","",""]
[null,null,"",null,"","","","","","","","","","","","","",null,null,"","","","","","","","","","","","","",""]
[null,null,"",null,{"$f":"IF(ISERR(U392),\"\",IF($M69=0,\"\",IF($T392=\"\",\"\",IF(OR(U392<>\"x\",U392=\"\"),\"\",($H109*$D$24*$E$30*$O69)/$M69))))","v":""},"","","","","","","","","","","","",null,null,"","","","","","","","","","","","","",""]
[null,null,"",null,"","","","","","","","","","","","","",null,null,"","","","","","","","","","","","","",""]
[null,null,"",null,"","","","","","","","","","","","","",null,null,"","","","","","","","","","","","","",""]
[null,null,"Total",null,{"$f":"SUM(E359:E394)","v":0},{"$f":"SUM(F359:F394)","v":0},0,0,0,0,0,0,0,0,0,0,0,null,null,null,{"$f":"IF($T395=\"\",\"\",VLOOKUP($T395,table10A,MATCH(E$271,head10A,0),FALSE))","v":""},{"$f":"IF($T395=\"\",\"\",VLOOKUP($T395,table10A,MATCH(F$271,head10A,0),FALSE))","v":""},{"$f":"IF($T395=\"\",\"\",VLOOKUP($T395,table10A,MATCH(G$271,head10A,0),FALSE))","v":""},{"$f":"IF($T395=\"\",\"\",VLOOKUP($T395,table10A,MATCH(H$271,head10A,0),FALSE))","v":""},{"$f":"IF($T395=\"\",\"\",VLOOKUP($T395,table10A,MATCH(I$271,head10A,0),FALSE))","v":""},{"$f":"IF($T395=\"\",\"\",VLOOKUP($T395,table10A,MATCH(J$271,head10A,0),FALSE))","v":""},{"$f":"IF($T395=\"\",\"\",VLOOKUP($T395,table10A,MATCH(K$271,head10A,0),FALSE))","v":""},{"$f":"IF($T395=\"\",\"\",VLOOKUP($T395,table10A,MATCH(L$271,head10A,0),FALSE))","v":""},{"$f":"IF($T395=\"\",\"\",VLOOKUP($T395,table10A,MATCH(M$271,head10A,0),FALSE))","v":""},{"$f":"IF($T395=\"\",\"\",VLOOKUP($T395,table10A,MATCH(R$271,head10A,0),FALSE))","v":""}]
[null,null,null,null,{"$f":"IF(E395>1,\"DO NOT PASS\",\"\")","v":""},{"$f":"IF(F395>1,\"DO NOT PASS\",\"\")","v":""},"","","","","","","","","","",""]
[null,null,null,null,null,null,null,null,null,null,"A/N:",{"$f":"$D$8","v":"622795 (96, 97)"},"Application deemed complete date:",null,null,null,{"$f":"$N$8","v":"2020-07-14"}]
[null,null,"6c. 8-hour Hazard Index Chronic - Worker "]
[null,null,"HIC 8-hr = [Q(ton/yr) * (X/Q) Worker * WAF Worker * MWAF] / 8-hr Chronic REL"]
[null,null,null,null,null,null,null,null,"HIC - Commercial",null,null,null,null,null,null,null,null,null,null,"Look up Table 11.3"]
[null,null,"Compound",null,"AL","BN","CV","DEV","END","EYE","HEM","IMM","KID","NS","REP","RESP","SKIN",null,null,{"$f":"T358","v":0},{"$f":"U358","v":"AL"},"BN","CV","DEV","END","EYE","HEM","IMM","KID","NS","REP","RESP","SKIN"]
[null,null,{"$f":"C123","v":"Vinyl Chloride  (Chloroethylene)"},null,{"$f":"IF(ISERR(U402),\"\",IF($M36=0,\"\",IF($T402=\"\",\"\",IF(OR(U402<>\"x\",U402=\"\"),\"\",($H76*$D$26*$E$30*$O36)/$M36))))","v":""},{"$f":"IF(ISERR(V402),\"\",IF($M36=0,\"\",IF($T402=\"\",\"\",IF(OR(V402<>\"x\",V402=\"\"),\"\",($H76*$D$26*$E$30*$O36)/$M36))))","v":""},{"$f":"IF(ISERR(W402),\"\",IF($M36=0,\"\",IF($T402=\"\",\"\",IF(OR(W402<>\"x\",W402=\"\"),\"\",($H76*$D$26*$E$30*$O36)/$M36))))","v":""},{"$f":"IF(ISERR(X402),\"\",IF($M36=0,\"\",IF($T402=\"\",\"\",IF(OR(X402<>\"x\",X402=\"\"),\"\",($H76*$D$26*$E$30*$O36)/$M36))))","v":""},{"$f":"IF(ISERR(Y402),\"\",IF($M36=0,\"\",IF($T402=\"\",\"\",IF(OR(Y402<>\"x\",Y402=\"\"),\"\",($H76*$D$26*$E$30*$O36)/$M36))))","v":""},{"$f":"IF(ISERR(Z402),\"\",IF($M36=0,\"\",IF($T402=\"\",\"\",IF(OR(Z402<>\"x\",Z402=\"\"),\"\",($H76*$D$26*$E$30*$O36)/$M36))))","v":""},{"$f":"IF(ISERR(AA402),\"\",IF($M36=0,\"\",IF($T402=\"\",\"\",IF(OR(AA402<>\"x\",AA402=\"\"),\"\",($H76*$D$26*$E$30*$O36)/$M36))))","v":""},{"$f":"IF(ISERR(AB402),\"\",IF($M36=0,\"\",IF($T402=\"\",\"\",IF(OR(AB402<>\"x\",AB402=\"\"),\"\",($H76*$D$26*$E$30*$O36)/$M36))))","v":""},{"$f":"IF(ISERR(AC402),\"\",IF($M36=0,\"\",IF($T402=\"\",\"\",IF(OR(AC402<>\"x\",AC402=\"\"),\"\",($H76*$D$26*$E$30*$O36)/$M36))))","v":""},{"$f":"IF(ISERR(AD402),\"\",IF($M36=0,\"\",IF($T402=\"\",\"\",IF(OR(AD402<>\"x\",AD402=\"\"),\"\",($H76*$D$26*$E$30*$O36)/$M36))))","v":""},{"$f":"IF(ISERR(AE402),\"\",IF($M36=0,\"\",IF($T402=\"\",\"\",IF(OR(AE402<>\"x\",AE402=\"\"),\"\",($H76*$D$26*$E$30*$O36)/$M36))))","v":""},{"$f":"IF(ISERR(AF402),\"\",IF($M36=0,\"\",IF($T402=\"\",\"\",IF(OR(AF402<>\"x\",AF402=\"\"),\"\",($H76*$D$26*$E$30*$O36)/$M36))))","v":""},{"$f":"IF(ISERR(AG402),\"\",IF($M36=0,\"\",IF($T402=\"\",\"\",IF(OR(AG402<>\"x\",AG402=\"\"),\"\",($H76*$D$26*$E$30*$O36)/$M36))))","v":""},null,null,{"$f":"T359","v":"V4"},"","","","","","","","","","","","",""]
[null,null,{"$f":"C124","v":"Styrene"},null,"","","","","","","","","","","","","",null,null,"S6","","","","","","","","","","","","",""]
[null,null,"1,3-Butadiene",null,"","","",0,"","","","","","","","","",null,null,"B12",0,0,0,"X",0,0,0,0,0,0,0,0,0]
[null,null,"",null,"","","","","","","","","","","","","",null,null,"","","","","","","","","","","","","",""]
[null,null,"",null,"","","","","","","","","","","","","",null,null,"","","","","","","","","","","","","",""]
[null,null,"",null,"","","","","","","","","","","","","",null,null,"","","","","","","","","","","","","",""]
[null,null,"",null,"","","","","","","","","","","","","",null,null,"","","","","","","","","","","","","",""]
[null,null,"",null,"","","","","","","","","","","","","",null,null,"","","","","","","","","","","","","",""]
[null,null,"",null,"","","","","","","","","","","","","",null,null,"","","","","","","","","","","","","",""]
[null,null,"",null,"","","","","","","","","","","","","",null,null,"","","","","","","","","","","","","",""]
[null,null,"",null,"","","","","","","","","","","","","",null,null,"","","","","","","","","","","","","",""]
[null,null,"",null,"","","","","","","","","","","","","",null,null,"","","","","","","","","","","","","",""]
[null,null,"",null,"","","","","","","","","","","","","",null,null,"","","","","","","","","","","","","",""]
[null,null,"",null,"","","","","","","","","","","","","",null,null,"","","","","","","","","","","","","",""]
[null,null,"",null,"","","","","","","","","","","","","",null,null,"","","","","","","","","","","","","",""]
[null,null,"",null,"","","","","","","","","","","","","",null,null,"","","","","","","","","","","","","",""]
[null,null,"",null,"","","","","","","","","","","","","",null,null,{"$f":"T375","v":""},"","","","","","","","","","","","",""]
[null,null,"",null,"","","","","","","","","","","","","",null,null,"","","","","","","","","","","","","",""]
[null,null,"",null,"","","","","","","","","","","","","",null,null,"","","","","","","","","","","","","",""]
[null,null,"",null,"","","","","","","","","","","","","",null,null,"","","","","","","","","","","","","",""]
[null,null,"",null,"","","","","","","","","","","","","",null,null,"","","","","","","","","","","","","",""]
[null,null,"",null,"","","","","","","","","","","","","",null,null,"","","","","","","","","","","","","",""]
[null,null,"",null,"","","","","","","","","","","","","",null,null,"","","","","","","","","","","","","",""]
[null,null,"",null,"","","","","","","","","","","","","",null,null,"","","","","","","","","","","","","",""]
[null,null,"",null,"","","","","","","","","","","","","",null,null,"","","","","","","","","","","","","",""]
[null,null,"",null,"","","","","","","","","","","","","",null,null,"","","","","","","","","","","","","",""]
[null,null,"",null,"","","","","","","","","","","","","",null,null,"","","","","","","","","","","","","",""]
[null,null,"",null,"","","","","","","","","","","","","",null,null,"","","","","","","","","","","","","",""]
[null,null,"",null,"","","","","","","","","","","","","",null,null,"","","","","","","","","","","","","",""]
[null,null,"",null,"","","","","","","","","","","","","",null,null,"","","","","","","","","","","","","",""]
[null,null,"",null,"","","","","","","","","","","","","",null,null,"","","","","","","","","","","","","",""]
[null,null,"",null,"","","","","","","","","","","","","",null,null,"","","","","","","","","","","","","",""]
[null,null,"",null,"","","","","","","","","","","","","",null,null,{"$f":"T391","v":""},"","","","","","","","","","","","",""]
[null,null,"",null,"","","","","","","","","","","","","",null,null,"","","","","","","","","","","","","",""]
[null,null,"",null,"","","","","","","","","","","","","",null,null,"","","","","","","","","","","","","",""]
[null,null,"",null,"","","","","","","","","","","","","",null,null,"","","","","","","","","","","","","",""]
[null,null,"Total",null,{"$f":"SUM(E402:E437)","v":0},0,0,0,0,0,0,0,0,0,0,0,0]

{"sheet":"Boiler Calc","index":7,"n_rows":48,"n_cols":22,"rows_kept":48,"cut":false,"hidden":true,"merged":[[39,2,39,9],[2,11,3,13],[2,5,2,10],[25,2,25,9]]}
[null,"Look up for Boiler's X/Q"]
[]
[null,null,null,null,null,"Interpolation for X/Q from Nearest Distances",null,null,null,null,null,"Interpolation New Distance for Cancer Burden Calculation"]
[null,"Station",{"$f":"Emissions!$E$22","v":"Van Nuys Airport"},null,null,"MMBTU",{"$f":"BoilerRating","v":500},null,"Row:",{"$f":"S4","v":7},null,null,null,null,null,null,"MMBTU","ROW",{"$f":"MIN(S5:S12)","v":7}]
[null,"Operation Hours (hr/day)",{"$f":"HoursPerDay","v":24},null,null,null,"Residential",null,null,"Industrial",null,null,"X/Q for one-in-a-million",null,null,"(0,5)",5,1,{"$f":"IF($G$4<=Q5,R5,\"No\")","v":"No"}]
[null,"X/Q (residential)",{"$f":"$G$8","v":0.04},null,null,"near","actual","far","near","actual","far","near","actual","far",null,"(5,10]",10,2,"No"]
[null,"X/Q (industrial)",{"$f":"$J$8","v":3.3500000000000002E-2},null,"Distance (m)",{"$f":"IF(G7<25,25,HLOOKUP(G7,table2_b,1,TRUE))","v":100},{"$f":"Emissions!E20","v":157},{"$f":"IF(G7<25,25,IF(G7>=1000,1000,IF(G7=HLOOKUP(G7,table2_b,1,TRUE),G7,INDEX(table2_b,1,MATCH(G7,C16:J16,1)+1))))","v":200},{"$f":"IF(J7<25,25,HLOOKUP(J7,table2_b,1,TRUE))","v":200},{"$f":"Emissions!E21","v":265},{"$f":"IF(J7<25,25,IF(J7>=1000,1000,IF(J7=HLOOKUP(J7,table2_b,1,TRUE),J7,INDEX(table2_b,1,MATCH(J7,C16:J16,1)+1))))","v":300},{"$f":"IF(HoursPerDay<=12,VLOOKUP($J$4,$A$17:$S$23,17,FALSE),VLOOKUP($J$4,$A$28:$S$34,17,FALSE))","v":1000},{"$f":"IF(L7=\"\",\"\",IF(N7=L7,L7,L7-(L8-M8)/(L8-N8)*(L7-N7)))","v":1000},{"$f":"IF(HoursPerDay<=12,VLOOKUP($J$4,$A$17:$S$23,19,FALSE),VLOOKUP($J$4,$A$28:$S$34,19,FALSE))","v":1000},null,"(10,20]",20,3,"No"]
[null,"X/Q max acute (residential)",{"$f":"G9","v":2.7324000000000002},null,"X/Q ",{"$f":"IF(C5<=12,HLOOKUP(F7,table2_b,$J$4+1,TRUE),HLOOKUP(F7,table3_b,$J$4+1,TRUE))","v":0.04},{"$f":"IF(F8=H8,F8,F8-(((G7-F7)/(H7-F7))*(F8-H8)))","v":0.04},{"$f":"IF(C5<=12,HLOOKUP(H7,table2_b,$J$4+1,TRUE),HLOOKUP(H7,table3_b,$J$4+1,TRUE))","v":0.04},{"$f":"IF(C5<=12,HLOOKUP(I7,table2_b,$J$4+1,TRUE),HLOOKUP(I7,table3_b,$J$4+1,TRUE))","v":0.04},{"$f":"IF(I8=K8,I8,I8-(((J7-I7)/(K7-I7))*(I8-K8)))","v":3.3500000000000002E-2},{"$f":"IF(C5<=12,HLOOKUP(K7,table2_b,$J$4+1,TRUE),HLOOKUP(K7,table3_b,$J$4+1,TRUE))","v":0.03},{"$f":"IF(HoursPerDay<=12,VLOOKUP($J$4,$A$17:$S$23,16,FALSE),VLOOKUP($J$4,$A$28:$S$34,16,FALSE))","v":0.01},{"$f":"'Tier 2 Report'!N152","v":0},{"$f":"IF(HoursPerDay<=12,VLOOKUP($J$4,$A$17:$S$23,18,FALSE),VLOOKUP($J$4,$A$28:$S$34,18,FALSE))","v":0},null,"(20,30]",30,4,"No"]
[null,"X/Q max acute (industrial)",{"$f":"J9","v":2.0565000000000002},null,"X/Q max Acute",{"$f":"HLOOKUP(F7,table6_b,$J$4+1,TRUE)","v":3.12},{"$f":"IF(F9=H9,F9,F9-(((G7-F7)/(H7-F7))*(F9-H9)))","v":2.7324000000000002},{"$f":"HLOOKUP(H7,table6_b,$J$4+1,TRUE)","v":2.44},{"$f":"HLOOKUP(I7,table6_b,$J$4+1,TRUE)","v":2.44},{"$f":"IF(I9=K9,I9,I9-(((J7-I7)/(K7-I7))*(I9-K9)))","v":2.0565000000000002},{"$f":"HLOOKUP(K7,table6_b,$J$4+1,TRUE)","v":1.85},null,null,null,null,"(30,50]",50,5,"No"]
[null,null,null,null,null,null,null,null,null,null,null,null,null,null,null,"(50,150]",150,6,"No"]
[null,null,null,null,null,null,null,null,null,null,null,null,null,null,null,"(150,200]",200,7,"No"]
[null,null,null,null,null,null,null,null,null,null,null,null,null,null,null,">200",9999,7,7]
[]
[null,{"$f":"MID(TableIndex!I5,1,8) & \" - Point Source, operating 12 hrs/day or less (µg/m³)/(tons/yr)\"","v":"Table 8A - Point Source, operating 12 hrs/day or less (µg/m³)/(tons/yr)"}]
[null,"Rating (MMBTU/hr)",null,null,"Downwind Distance (meters)"]
["Row ",null,25,50,75,100,200,300,500,1000,null,null,null,null,null,"Nearest X/Q - high","nearest dist - low","Nearest X/Q- low","nearest dist - high",null,"Column","Dist"]
[1,"2 < Rating ≤ 5",{"$f":"VLOOKUP($C$4,BoilerLessThan12,2,FALSE)","v":14.28},{"$f":"VLOOKUP($C$4,BoilerLessThan12,3,FALSE)","v":4.29},{"$f":"VLOOKUP($C$4,BoilerLessThan12,4,FALSE)","v":2.66},{"$f":"VLOOKUP($C$4,BoilerLessThan12,5,FALSE)","v":1.71},{"$f":"VLOOKUP($C$4,BoilerLessThan12,6,FALSE)","v":0.43},{"$f":"VLOOKUP($C$4,BoilerLessThan12,7,FALSE)","v":0.17},{"$f":"VLOOKUP($C$4,BoilerLessThan12,8,FALSE)","v":0.06},{"$f":"VLOOKUP($C$4,BoilerLessThan12,9,FALSE)","v":0.01},null,null,null,null,null,{"$f":"IF(AND(MAX(C17:J17),MAX(C16:J16)),INDEX($C17:$J17,1,MATCH($M$8,$C17:$J17,-1)))","v":0.01},{"$f":"VLOOKUP(MATCH(P17,$C17:$J17,0),$U$17:$V$24,2,FALSE)","v":1000},{"$f":"INDEX($C17:$K17,1,1+MATCH($M$8,$C17:$J17,-1))","v":0},{"$f":"IF(R17=0,Q17,VLOOKUP(MATCH(R17,$C17:$J17,0),$U$17:$V$24,2,FALSE))","v":1000},null,1,25]
[2,"5 < Rating ≤ 10",{"$f":"VLOOKUP($C$4,BoilerLessThan12,11,FALSE)","v":9.66},{"$f":"VLOOKUP($C$4,BoilerLessThan12,12,FALSE)","v":3.08},{"$f":"VLOOKUP($C$4,BoilerLessThan12,13,FALSE)","v":2.04},{"$f":"VLOOKUP($C$4,BoilerLessThan12,14,FALSE)","v":1.42},{"$f":"VLOOKUP($C$4,BoilerLessThan12,15,FALSE)","v":0.39},{"$f":"VLOOKUP($C$4,BoilerLessThan12,16,FALSE)","v":0.16},{"$f":"VLOOKUP($C$4,BoilerLessThan12,17,FALSE)","v":0.06},{"$f":"VLOOKUP($C$4,BoilerLessThan12,18,FALSE)","v":0.01},null,null,null,null,null,{"$f":"INDEX($C18:$J18,1,MATCH($M$8,$C18:$J18,-1))","v":0.01},{"$f":"VLOOKUP(MATCH(P18,$C18:$J18,0),$U$17:$V$24,2,FALSE)","v":1000},{"$f":"INDEX($C18:$K18,1,1+MATCH($M$8,$C18:$J18,-1))","v":0},{"$f":"IF(R18=0,Q18,VLOOKUP(MATCH(R18,$C18:$K18,0),$U$17:$V$24,2,FALSE))","v":1000},null,2,50]
[3,"10 < Rating ≤ 20",{"$f":"VLOOKUP($C$4,BoilerLessThan12,20,FALSE)","v":7.43},{"$f":"VLOOKUP($C$4,BoilerLessThan12,21,FALSE)","v":2.4700000000000002},{"$f":"VLOOKUP($C$4,BoilerLessThan12,22,FALSE)","v":1.66},{"$f":"VLOOKUP($C$4,BoilerLessThan12,23,FALSE)","v":1.18},{"$f":"VLOOKUP($C$4,BoilerLessThan12,24,FALSE)","v":0.36},{"$f":"VLOOKUP($C$4,BoilerLessThan12,25,FALSE)","v":0.15},{"$f":"VLOOKUP($C$4,BoilerLessThan12,26,FALSE)","v":0.06},{"$f":"VLOOKUP($C$4,BoilerLessThan12,27,FALSE)","v":0.01},null,null,null,null,null,{"$f":"INDEX($C19:$J19,1,MATCH($M$8,$C19:$J19,-1))","v":0.01},{"$f":"VLOOKUP(MATCH(P19,$C19:$J19,0),$U$17:$V$24,2,FALSE)","v":1000},{"$f":"INDEX($C19:$K19,1,1+MATCH($M$8,$C19:$K19,-1))","v":0},{"$f":"IF(R19=0,Q19,VLOOKUP(MATCH(R19,$C19:$J19,0),$U$17:$V$24,2,FALSE))","v":1000},null,3,75]
[4,"20 < Rating ≤ 30",{"$f":"VLOOKUP($C$4,BoilerLessThan12,29,FALSE)","v":4.2699999999999996},{"$f":"VLOOKUP($C$4,BoilerLessThan12,30,FALSE)","v":1.55},{"$f":"VLOOKUP($C$4,BoilerLessThan12,31,FALSE)","v":1.1599999999999999},{"$f":"VLOOKUP($C$4,BoilerLessThan12,32,FALSE)","v":0.86},{"$f":"VLOOKUP($C$4,BoilerLessThan12,33,FALSE)","v":0.31},{"$f":"VLOOKUP($C$4,BoilerLessThan12,34,FALSE)","v":0.14000000000000001},{"$f":"VLOOKUP($C$4,BoilerLessThan12,35,FALSE)","v":0.05},{"$f":"VLOOKUP($C$4,BoilerLessThan12,36,FALSE)","v":0.01},null,null,null,null,null,{"$f":"INDEX($C20:$J20,1,MATCH($M$8,$C20:$J20,-1))","v":0.01},{"$f":"VLOOKUP(MATCH(P20,$C20:$J20,0),$U$17:$V$24,2,FALSE)","v":1000},{"$f":"INDEX($C20:$K20,1,1+MATCH($M$8,$C20:$K20,-1))","v":0},{"$f":"IF(R20=0,Q20,VLOOKUP(MATCH(R20,$C20:$J20,0),$U$17:$V$24,2,FALSE))","v":1000},null,4,100]
[5,"30 < Rating ≤ 50",{"$f":"VLOOKUP($C$4,BoilerLessThan12,38,FALSE)","v":3.09},{"$f":"VLOOKUP($C$4,BoilerLessThan12,39,FALSE)","v":1.1499999999999999},{"$f":"VLOOKUP($C$4,BoilerLessThan12,40,FALSE)","v":0.89},{"$f":"VLOOKUP($C$4,BoilerLessThan12,41,FALSE)","v":0.69},{"$f":"VLOOKUP($C$4,BoilerLessThan12,42,FALSE)","v":0.27},{"$f":"VLOOKUP($C$4,BoilerLessThan12,43,FALSE)","v":0.13},{"$f":"VLOOKUP($C$4,BoilerLessThan12,44,FALSE)","v":0.05},{"$f":"VLOOKUP($C$4,BoilerLessThan12,45,FALSE)","v":0.01},null,null,null,null,null,{"$f":"INDEX($C21:$J21,1,MATCH($M$8,$C21:$J21,-1))","v":0.01},{"$f":"VLOOKUP(MATCH(P21,$C21:$J21,0),$U$17:$V$24,2,FALSE)","v":1000},{"$f":"INDEX($C21:$K21,1,1+MATCH($M$8,$C21:$K21,-1))","v":0},{"$f":"IF(R21=0,Q21,VLOOKUP(MATCH(R21,$C21:$J21,0),$U$17:$V$24,2,FALSE))","v":1000},null,5,200]
[6,"50 < Rating ≤ 150",{"$f":"VLOOKUP($C$4,BoilerLessThan12,47,FALSE)","v":0.03},{"$f":"VLOOKUP($C$4,BoilerLessThan12,48,FALSE)","v":0.08},{"$f":"VLOOKUP($C$4,BoilerLessThan12,49,FALSE)","v":0.13},{"$f":"VLOOKUP($C$4,BoilerLessThan12,50,FALSE)","v":0.16},{"$f":"VLOOKUP($C$4,BoilerLessThan12,51,FALSE)","v":0.16},{"$f":"VLOOKUP($C$4,BoilerLessThan12,52,FALSE)","v":0.1},{"$f":"VLOOKUP($C$4,BoilerLessThan12,53,FALSE)","v":0.05},{"$f":"VLOOKUP($C$4,BoilerLessThan12,54,FALSE)","v":0.01},null,null,null,null,null,{"$f":"INDEX($F22:$J22,1,MATCH($M$8,$F22:$J22,-1))","v":0.01},{"$f":"VLOOKUP(MATCH(P22,$F22:$J22,0)+3,$U$17:$V$24,2,FALSE)","v":1000},{"$f":"INDEX($F22:$K22,1,1+MATCH($M$8,$F22:$K22,-1))","v":0},{"$f":"IF(R22=0,Q22,VLOOKUP(MATCH(R22,$F22:$J22,0)+3,$U$17:$V$24,2,FALSE))","v":1000},null,6,300]
[7,"150 < Rating ≤ 200",{"$f":"VLOOKUP($C$4,BoilerLessThan12,56,FALSE)","v":0.01},{"$f":"VLOOKUP($C$4,BoilerLessThan12,57,FALSE)","v":0.04},{"$f":"VLOOKUP($C$4,BoilerLessThan12,58,FALSE)","v":7.0000000000000007E-2},{"$f":"VLOOKUP($C$4,BoilerLessThan12,59,FALSE)","v":0.08},{"$f":"VLOOKUP($C$4,BoilerLessThan12,60,FALSE)","v":0.1},{"$f":"VLOOKUP($C$4,BoilerLessThan12,61,FALSE)","v":0.08},{"$f":"VLOOKUP($C$4,BoilerLessThan12,62,FALSE)","v":0.04},{"$f":"VLOOKUP($C$4,BoilerLessThan12,63,FALSE)","v":0.01},null,null,null,null,null,{"$f":"INDEX($F23:$J23,1,MATCH($M$8,$F23:$J23,-1))","v":0.01},{"$f":"VLOOKUP(MATCH(P23,$F23:$J23,0)+3,$U$17:$V$24,2,FALSE)","v":1000},{"$f":"INDEX($F23:$K23,1,1+MATCH($M$8,$F23:$K23,-1))","v":0},{"$f":"IF(R23=0,Q23,VLOOKUP(MATCH(R23,$F23:$J23,0)+3,$U$17:$V$24,2,FALSE))","v":1000},null,7,500]
[null,null,null,null,null,null,null,null,null,null,null,null,null,null,null,null,null,null,null,null,8,1000]
[null,{"$f":"MID(TableIndex!I5,1,7)&RIGHT(TableIndex!I5,1) & \" - Point Source, operating more than 12 hrs/day (µg/m³)/(tons/yr)\"","v":"Table 8B - Point Source, operating more than 12 hrs/day (µg/m³)/(tons/yr)"}]
[null,"Rating (MMBTU/hr)","Downwind Distance (meters)"]
["Row ",null,25,50,75,100,200,300,500,1000,null,null,null,null,null,"Nearest X/Q - high","nearest dist - low","Nearest X/Q- low","nearest dist - high"]
[1,"2 < Rating ≤ 5",{"$f":"VLOOKUP($C$4,BoilerMoreThan12,2,FALSE)","v":9.82},{"$f":"VLOOKUP($C$4,BoilerMoreThan12,3,FALSE)","v":2.82},{"$f":"VLOOKUP($C$4,BoilerMoreThan12,4,FALSE)","v":1.84},{"$f":"VLOOKUP($C$4,BoilerMoreThan12,5,FALSE)","v":1.32},{"$f":"VLOOKUP($C$4,BoilerMoreThan12,6,FALSE)","v":0.52},{"$f":"VLOOKUP($C$4,BoilerMoreThan12,7,FALSE)","v":0.28000000000000003},{"$f":"VLOOKUP($C$4,BoilerMoreThan12,8,FALSE)","v":0.14000000000000001},{"$f":"VLOOKUP($C$4,BoilerMoreThan12,9,FALSE)","v":0.06},null,null,null,null,null,{"$f":"INDEX($C28:$J28,1,MATCH($M$8,$C28:$J28,-1))","v":0.06},{"$f":"VLOOKUP(MATCH(P28,$C28:$J28,0),$U$17:$V$24,2,FALSE)","v":1000},{"$f":"INDEX($C28:$K28,1,1+MATCH($M$8,$C28:$K28,-1))","v":0},{"$f":"IF(R28=0,Q28,VLOOKUP(MATCH(R28,$C28:$J28,0),$U$17:$V$24,2,FALSE))","v":1000}]
[2,"5 < Rating ≤ 10",{"$f":"VLOOKUP($C$4,BoilerMoreThan12,11,FALSE)","v":6.11},{"$f":"VLOOKUP($C$4,BoilerMoreThan12,12,FALSE)","v":1.78},{"$f":"VLOOKUP($C$4,BoilerMoreThan12,13,FALSE)","v":1.1299999999999999},{"$f":"VLOOKUP($C$4,BoilerMoreThan12,14,FALSE)","v":0.83},{"$f":"VLOOKUP($C$4,BoilerMoreThan12,15,FALSE)","v":0.28000000000000003},{"$f":"VLOOKUP($C$4,BoilerMoreThan12,16,FALSE)","v":0.15},{"$f":"VLOOKUP($C$4,BoilerMoreThan12,17,FALSE)","v":0.09},{"$f":"VLOOKUP($C$4,BoilerMoreThan12,18,FALSE)","v":0.05},null,null,null,null,null,{"$f":"INDEX($C29:$J29,1,MATCH($M$8,$C29:$J29,-1))","v":0.05},{"$f":"VLOOKUP(MATCH(P29,$C29:$J29,0),$U$17:$V$24,2,FALSE)","v":1000},{"$f":"INDEX($C29:$K29,1,1+MATCH($M$8,$C29:$K29,-1))","v":0},{"$f":"IF(R29=0,Q29,VLOOKUP(MATCH(R29,$C29:$J29,0),$U$17:$V$24,2,FALSE))","v":1000}]
[3,"10 < Rating ≤ 20",{"$f":"VLOOKUP($C$4,BoilerMoreThan12,20,FALSE)","v":4.45},{"$f":"VLOOKUP($C$4,BoilerMoreThan12,21,FALSE)","v":1.34},{"$f":"VLOOKUP($C$4,BoilerMoreThan12,22,FALSE)","v":0.85},{"$f":"VLOOKUP($C$4,BoilerMoreThan12,23,FALSE)","v":0.61},{"$f":"VLOOKUP($C$4,BoilerMoreThan12,24,FALSE)","v":0.21},{"$f":"VLOOKUP($C$4,BoilerMoreThan12,25,FALSE)","v":0.1},{"$f":"VLOOKUP($C$4,BoilerMoreThan12,26,FALSE)","v":0.06},{"$f":"VLOOKUP($C$4,BoilerMoreThan12,27,FALSE)","v":0.04},null,null,null,null,null,{"$f":"INDEX($C30:$J30,1,MATCH($M$8,$C30:$J30,-1))","v":0.04},{"$f":"VLOOKUP(MATCH(P30,$C30:$J30,0),$U$17:$V$24,2,FALSE)","v":1000},{"$f":"INDEX($C30:$K30,1,1+MATCH($M$8,$C30:$K30,-1))","v":0},{"$f":"IF(R30=0,Q30,VLOOKUP(MATCH(R30,$C30:$J30,0),$U$17:$V$24,2,FALSE))","v":1000}]
[4,"20 < Rating ≤ 30",{"$f":"VLOOKUP($C$4,BoilerMoreThan12,29,FALSE)","v":2.36},{"$f":"VLOOKUP($C$4,BoilerMoreThan12,30,FALSE)","v":0.79},{"$f":"VLOOKUP($C$4,BoilerMoreThan12,31,FALSE)","v":0.55000000000000004},{"$f":"VLOOKUP($C$4,BoilerMoreThan12,32,FALSE)","v":0.4},{"$f":"VLOOKUP($C$4,BoilerMoreThan12,33,FALSE)","v":0.15},{"$f":"VLOOKUP($C$4,BoilerMoreThan12,34,FALSE)","v":7.0000000000000007E-2},{"$f":"VLOOKUP($C$4,BoilerMoreThan12,35,FALSE)","v":0.04},{"$f":"VLOOKUP($C$4,BoilerMoreThan12,36,FALSE)","v":0.03},null,null,null,null,null,{"$f":"INDEX($C31:$J31,1,MATCH($M$8,$C31:$J31,-1))","v":0.03},{"$f":"VLOOKUP(MATCH(P31,$C31:$J31,0),$U$17:$V$24,2,FALSE)","v":1000},{"$f":"INDEX($C31:$K31,1,1+MATCH($M$8,$C31:$K31,-1))","v":0},{"$f":"IF(R31=0,Q31,VLOOKUP(MATCH(R31,$C31:$J31,0),$U$17:$V$24,2,FALSE))","v":1000}]
[5,"30 < Rating ≤ 50",{"$f":"VLOOKUP($C$4,BoilerMoreThan12,38,FALSE)","v":1.6},{"$f":"VLOOKUP($C$4,BoilerMoreThan12,39,FALSE)","v":0.55000000000000004},{"$f":"VLOOKUP($C$4,BoilerMoreThan12,40,FALSE)","v":0.41},{"$f":"VLOOKUP($C$4,BoilerMoreThan12,41,FALSE)","v":0.31},{"$f":"VLOOKUP($C$4,BoilerMoreThan12,42,FALSE)","v":0.12},{"$f":"VLOOKUP($C$4,BoilerMoreThan12,43,FALSE)","v":0.06},{"$f":"VLOOKUP($C$4,BoilerMoreThan12,44,FALSE)","v":0.03},{"$f":"VLOOKUP($C$4,BoilerMoreThan12,45,FALSE)","v":0.02},null,null,null,null,null,{"$f":"INDEX($C32:$J32,1,MATCH($M$8,$C32:$J32,-1))","v":0.02},{"$f":"VLOOKUP(MATCH(P32,$C32:$J32,0),$U$17:$V$24,2,FALSE)","v":1000},{"$f":"INDEX($C32:$K32,1,1+MATCH($M$8,$C32:$K32,-1))","v":0},{"$f":"IF(R32=0,Q32,VLOOKUP(MATCH(R32,$C32:$J32,0),$U$17:$V$24,2,FALSE))","v":1000}]
[6,"50 < Rating ≤ 150",{"$f":"VLOOKUP($C$4,BoilerMoreThan12,47,FALSE)","v":0.01},{"$f":"VLOOKUP($C$4,BoilerMoreThan12,48,FALSE)","v":0.04},{"$f":"VLOOKUP($C$4,BoilerMoreThan12,49,FALSE)","v":0.06},{"$f":"VLOOKUP($C$4,BoilerMoreThan12,50,FALSE)","v":7.0000000000000007E-2},{"$f":"VLOOKUP($C$4,BoilerMoreThan12,51,FALSE)","v":0.06},{"$f":"VLOOKUP($C$4,BoilerMoreThan12,52,FALSE)","v":0.04},{"$f":"VLOOKUP($C$4,BoilerMoreThan12,53,FALSE)","v":0.02},{"$f":"VLOOKUP($C$4,BoilerMoreThan12,54,FALSE)","v":0.01},null,null,null,null,null,{"$f":"INDEX($F33:$J33,1,MATCH($M$8,$F33:$J33,-1))","v":0.01},{"$f":"VLOOKUP(MATCH(P33,$F33:$J33,0)+3,$U$17:$V$24,2,FALSE)","v":1000},{"$f":"INDEX($F33:$K33,1,1+MATCH($M$8,$F33:$K33,-1))","v":0},{"$f":"IF(R33=0,Q33,VLOOKUP(MATCH(R33,$F33:$J33,0),$U$17:$V$24,2,FALSE))","v":1000},{"$f":"MATCH(MAX(C33:J33),C33:J33,0)","v":4}]
[7,"150 < Rating ≤ 200",{"$f":"VLOOKUP($C$4,BoilerMoreThan12,56,FALSE)","v":0.01},{"$f":"VLOOKUP($C$4,BoilerMoreThan12,57,FALSE)","v":0.02},{"$f":"VLOOKUP($C$4,BoilerMoreThan12,58,FALSE)","v":0.03},{"$f":"VLOOKUP($C$4,BoilerMoreThan12,59,FALSE)","v":0.04},{"$f":"VLOOKUP($C$4,BoilerMoreThan12,60,FALSE)","v":0.04},{"$f":"VLOOKUP($C$4,BoilerMoreThan12,61,FALSE)","v":0.03},{"$f":"VLOOKUP($C$4,BoilerMoreThan12,62,FALSE)","v":0.02},{"$f":"VLOOKUP($C$4,BoilerMoreThan12,63,FALSE)","v":0.01},null,null,null,null,null,{"$f":"INDEX($F34:$J34,1,MATCH($M$8,$F34:$J34,-1))","v":0.01},{"$f":"VLOOKUP(MATCH(P34,$F34:$J34,0)+3,$U$17:$V$24,2,FALSE)","v":1000},{"$f":"INDEX($F34:$K34,1,1+MATCH($M$8,$F34:$K34,-1))","v":0},{"$f":"IF(R34=0,Q34,VLOOKUP(MATCH(R34,$F34:$J34,0),$U$17:$V$24,2,FALSE))","v":1000},{"$f":"MATCH(MAX(C34:J34),C34:J34,0)","v":4}]
[]
[]
[]
[null,"Table 8.8 Dispersion Factors (X/Q) for Acute Hazard Index"]
[null,"All Operating Conditions X/Q Values [(µg/m³)/(lbs/hr)] "]
[null,"Rating (MMBTU/hr)","Downwind Distance (meters)"]
["Row ",null,25,50,75,100,200,300,500,1000]
[1,"2 < Rating ≤ 5",246.77,77.099999999999994,64.069999999999993,55.15,24.9,11.86,6.16,2.89]
[2,"5 < Rating ≤ 10",176.34,52.72,41.1,35.06,15.72,6.62,3.69,2.4300000000000002]
[3,"10 < Rating ≤ 20",146.19999999999999,45.42,34.409999999999997,28.2,12.56,5.8,3.1,1.91]
[4,"20 < Rating ≤ 30",100.89,31.91,25.44,20.43,9.5399999999999991,4.4800000000000004,2.52,1.25]
[5,"30 < Rating ≤ 50",83.84,27.57,21.8,17.399999999999999,7.8,3.93,2.21,1.1000000000000001]
[6,"50 < Rating ≤ 150",7.32,3.85,4.74,4.4800000000000004,3.3,2.5,1.62,0.82]
[7,"150 < Rating ≤ 200",3.82,2.5,2.65,3.12,2.44,1.85,1.21,0.61]

{"sheet":"Boiler data","index":8,"n_rows":60,"n_cols":64,"rows_kept":60,"cut":false,"hidden":true,"merged":[[34,37,34,44],[34,46,34,53],[34,55,34,62],[2,37,2,44],[2,46,2,53],[2,55,2,62],[2,1,2,8],[34,1,34,8],[2,10,2,17],[2,19,2,26],[2,28,2,35],[34,10,34,17],[34,19,34,26],[34,28,34,35]]}
["Table 8 A - Dispersion Factor (X/Q) for Natural Gas Boiler Operating 12 Hours per Day or Less"]
["Units are in (ug/m3)/(tons/yr)","Size = 2 to 5 MMBTU",null,null,null,null,null,null,null,null,"Size > 5 to 10 MMBTU",null,null,null,null,null,null,null,null,"Size > 10 to 20 MMBTU",null,null,null,null,null,null,null,null,"Size > 20 to 30 MMBTU",null,null,null,null,null,null,null,null,"Size > 30 to 50 MMBTU",null,null,null,null,null,null,null,null,"Size > 50 to 150 MMBTU",null,null,null,null,null,null,null,null,"Size > 150 to 200 MMBTU"]
[null,"Downwind Distance (meters)",null,null,null,null,null,null,null,null,"Downwind Distance (meters)",null,null,null,null,null,null,null,null,"Downwind Distance (meters)",null,null,null,null,null,null,null,null,"Downwind Distance (meters)",null,null,null,null,null,null,null,null,"Downwind Distance (meters)",null,null,null,null,null,null,null,null,"Downwind Distance (meters)",null,null,null,null,null,null,null,null,"Downwind Distance (meters)"]
["Location",25,50,75,100,200,300,500,1000,null,"25","50","75","100","200","300","500","1000",null,"25","50","75","100","200","300","500","1000",null,"25","50","75","100","200","300","500","1000",null,"25","50","75","100","200","300","500","1000",null,"25","50","75","100","200","300","500","1000",null,"25","50","75","100","200","300","500","1000"]
["Azusa",13.41,4.34,2.61,1.59,0.35,0.13,0.04,0.01,null,6.63,2.71,1.8,1.22,0.31,0.12,0.04,0.01,null,3.82,1.78,1.26,0.89,0.27,0.11,0.04,0.01,null,1.18,0.71,0.62,0.49,0.2,0.1,0.04,0.01,null,0.42,0.37,0.38,0.34,0.16,0.09,0.04,0.01,null,0.06,0.15,0.19,0.2,0.13,0.08,0.04,0.01,null,0.03,7.0000000000000007E-2,0.1,0.11,0.09,0.06,0.03,0.01,{"$f":"MATCH(MAX(BD5:BK5),BD5:BK5,0)","v":4}]
["Banning",14.59,4.49,2.94,1.95,0.53,0.21,7.0000000000000007E-2,0.02,null,11.09,3.56,2.41,1.71,0.49,0.2,7.0000000000000007E-2,0.02,null,8.7899999999999991,2.98,2.0499999999999998,1.47,0.46,0.19,7.0000000000000007E-2,0.02,null,4.92,1.8,1.43,1.08,0.39,0.17,7.0000000000000007E-2,0.02,null,3.63,1.28,1.08,0.86,0.34,0.16,0.06,0.02,null,0,0.02,0.09,0.17,0.2,0.13,0.06,0.02,null,0,0.01,0.03,7.0000000000000007E-2,0.12,0.09,0.05,0.01,{"$f":"MATCH(MAX(BD6:BK6),BD6:BK6,0)","v":5}]
["Central L.A.",14.45,3.98,2.34,1.42,0.33,0.13,0.04,0.01,null,8.73,2.76,1.76,1.1599999999999999,0.3,0.12,0.04,0.01,null,6.08,2.11,1.42,0.96,0.27,0.11,0.04,0.01,null,2.76,1.1499999999999999,0.9,0.66,0.22,0.1,0.04,0.01,null,1.41,0.67,0.59,0.47,0.19,0.09,0.04,0.01,null,0.04,0.13,0.18,0.21,0.14000000000000001,0.08,0.03,0.01,null,0.02,0.06,0.09,0.1,0.09,0.06,0.03,0.01,4]
["Lake Elsinore",8.92,3.16,1.95,1.21,0.28000000000000003,0.11,0.04,0.01,null,4.37,1.79,1.25,0.88,0.24,0.1,0.04,0.01,null,2.77,1.2,0.89,0.65,0.21,0.09,0.03,0.01,null,1.33,0.68,0.56999999999999995,0.44,0.17,0.08,0.03,0.01,null,0.63,0.39,0.36,0.31,0.14000000000000001,7.0000000000000007E-2,0.03,0.01,null,0.08,0.14000000000000001,0.16,0.16,0.1,0.06,0.03,0.01,null,0.04,7.0000000000000007E-2,0.08,0.09,7.0000000000000007E-2,0.05,0.02,0.01,4]
["Fontana",16.21,4.7699999999999996,2.95,1.85,0.44,0.17,0.06,0.01,null,9.9499999999999993,3.25,2.17,1.5,0.39,0.16,0.06,0.01,null,7,2.4,1.67,1.18,0.36,0.15,0.06,0.01,null,3.46,1.34,1.07,0.81,0.28999999999999998,0.14000000000000001,0.05,0.01,null,2.04,0.83,0.73,0.59,0.25,0.12,0.05,0.01,null,0.03,0.09,0.16,0.2,0.17,0.1,0.05,0.01,null,0.01,0.04,7.0000000000000007E-2,0.1,0.11,0.08,0.04,0.01,5]
["Mission Viejo",10.73,3.54,2.17,1.33,0.3,0.12,0.04,0.01,null,5.65,2.19,1.48,1.01,0.26,0.11,0.04,0.01,null,3.41,1.44,1.05,0.75,0.23,0.1,0.04,0.01,null,1.41,0.72,0.62,0.49,0.19,0.09,0.03,0.01,null,0.59,0.38,0.38,0.33,0.15,0.08,0.03,0.01,null,0.03,0.1,0.15,0.17,0.12,7.0000000000000007E-2,0.03,0.01,null,0.01,0.05,7.0000000000000007E-2,0.09,0.08,0.05,0.03,0.01,4]
["Perris",9.8699999999999992,3.21,2.04,1.33,0.35,0.14000000000000001,0.05,0.01,null,6.64,2.2400000000000002,1.52,1.07,0.31,0.13,0.05,0.01,null,5.0999999999999996,1.76,1.22,0.88,0.28000000000000003,0.12,0.05,0.01,null,2.98,1.1299999999999999,0.86,0.65,0.24,0.11,0.04,0.01,null,2.11,0.82,0.65,0.51,0.2,0.1,0.04,0.01,null,0.08,0.11,0.14000000000000001,0.16,0.13,0.08,0.04,0.01,null,0.03,0.05,7.0000000000000007E-2,0.08,0.08,0.06,0.03,0.01,4]
["Pico Rivera",15.62,4.3600000000000003,2.61,1.63,0.38,0.15,0.05,0.01,null,9.9499999999999993,3.09,1.97,1.33,0.34,0.14000000000000001,0.05,0.01,null,7.07,2.33,1.54,1.06,0.31,0.13,0.05,0.01,null,3.76,1.38,1.04,0.76,0.26,0.12,0.05,0.01,null,2.33,0.91,0.74,0.56999999999999995,0.22,0.11,0.04,0.01,null,0.03,0.11,0.17,0.21,0.15,0.09,0.04,0.01,null,0.01,0.05,0.09,0.11,0.1,7.0000000000000007E-2,0.03,0.01,4]
["Redlands",11.97,4.38,2.65,1.61,0.35,0.14000000000000001,0.05,0.01,null,5.59,2.64,1.79,1.22,0.31,0.12,0.05,0.01,null,3.1,1.68,1.22,0.87,0.27,0.12,0.04,0.01,null,0.84,0.6,0.56999999999999995,0.47,0.2,0.1,0.04,0.01,null,0.37,0.35,0.38,0.34,0.17,0.09,0.04,0.01,null,7.0000000000000007E-2,0.14000000000000001,0.19,0.2,0.14000000000000001,0.08,0.04,0.01,null,0.03,0.06,0.09,0.11,0.09,0.06,0.03,0.01,4]
["Upland",17.23,5.03,3.13,1.97,0.46,0.18,0.06,0.02,null,10.02,3.39,2.29,1.58,0.41,0.17,0.06,0.02,null,6.63,2.4500000000000002,1.73,1.23,0.37,0.16,0.06,0.02,null,2.67,1.1599999999999999,0.98,0.76,0.28999999999999998,0.14000000000000001,0.05,0.01,null,1.18,0.6,0.6,0.52,0.24,0.13,0.05,0.01,null,0.03,0.1,0.18,0.23,0.18,0.11,0.05,0.01,null,0.01,0.04,0.08,0.11,0.12,0.08,0.04,0.01,5]
["Burbank Airport",17.170000000000002,4.93,3.08,1.99,0.49,0.2,7.0000000000000007E-2,0.02,null,11.8,3.6,2.38,1.66,0.44,0.19,7.0000000000000007E-2,0.02,null,9.0399999999999991,2.88,1.95,1.38,0.41,0.18,7.0000000000000007E-2,0.02,null,4.0999999999999996,1.54,1.22,0.93,0.34,0.16,0.06,0.02,null,2.39,0.95,0.82,0.68,0.28999999999999998,0.15,0.06,0.02,null,0.03,0.09,0.14000000000000001,0.19,0.19,0.12,0.06,0.02,null,0.01,0.04,7.0000000000000007E-2,0.09,0.12,0.09,0.05,0.01,5]
["Chino Airport.",12.11,4.25,2.82,1.88,0.51,0.21,7.0000000000000007E-2,0.02,null,8.74,3.04,2.13,1.54,0.46,0.2,7.0000000000000007E-2,0.02,null,6.97,2.4300000000000002,1.73,1.28,0.43,0.18,7.0000000000000007E-2,0.02,null,4,1.5,1.18,0.92,0.36,0.17,0.06,0.02,null,3.16,1.19,0.95,0.76,0.31,0.15,0.06,0.02,null,0.02,0.06,0.1,0.15,0.18,0.12,0.05,0.02,null,0.01,0.03,0.05,7.0000000000000007E-2,0.1,0.08,0.04,0.01,5]
["USC/Downtown L.A.",12.73,4.74,2.99,1.87,0.42,0.16,0.05,0.01,null,5.69,2.76,1.95,1.38,0.36,0.14000000000000001,0.05,0.01,null,3.17,1.8,1.35,0.99,0.32,0.13,0.05,0.01,null,0.37,0.47,0.5,0.44,0.21,0.12,0.05,0.01,null,0.21,0.3,0.35,0.33,0.18,0.1,0.04,0.01,null,0.05,0.14000000000000001,0.19,0.2,0.15,0.09,0.04,0.01,null,0.02,7.0000000000000007E-2,0.1,0.11,0.1,7.0000000000000007E-2,0.03,0.01,4]
["Fullerton Airport",17.05,4.6900000000000004,2.89,1.84,0.44,0.17,0.06,0.01,null,11.06,3.32,2.19,1.51,0.4,0.16,0.06,0.01,null,8.32,2.61,1.77,1.25,0.37,0.15,0.06,0.01,null,4.63,1.63,1.24,0.91,0.31,0.14000000000000001,0.05,0.01,null,2.96,1.1200000000000001,0.91,0.7,0.27,0.13,0.05,0.01,null,0.03,0.1,0.17,0.21,0.17,0.1,0.05,0.01,null,0.01,0.05,0.08,0.11,0.11,0.08,0.04,0.01,4]
["Hawthorne Airport",18.93,5.45,3.5,2.29,0.59,0.23,0.08,0.02,null,13.92,4.2,2.83,1.98,0.55000000000000004,0.22,0.08,0.02,null,10.84,3.49,2.4,1.71,0.52,0.21,0.08,0.02,null,6.03,2.16,1.7,1.27,0.44,0.19,7.0000000000000007E-2,0.02,null,4.4400000000000004,1.6,1.33,1.03,0.39,0.18,7.0000000000000007E-2,0.02,null,0.02,0.08,0.17,0.25,0.24,0.15,0.06,0.02,null,0.01,0.04,7.0000000000000007E-2,0.11,0.16,0.11,0.06,0.02,5]
["Los Angeles Int'l Airport",20.56,6.23,4.2300000000000004,2.91,0.83,0.33,0.11,0.03,null,15.95,5.01,3.5,2.5499999999999998,0.78,0.32,0.11,0.03,null,12.76,4.24,2.99,2.21,0.73,0.3,0.11,0.03,null,6.98,2.65,2.11,1.62,0.62,0.27,0.1,0.03,null,5.13,1.98,1.65,1.32,0.53,0.25,0.1,0.03,null,0.01,0.04,0.12,0.21,0.28000000000000003,0.19,0.09,0.03,null,0,0.02,0.05,0.09,0.17,0.14000000000000001,7.0000000000000007E-2,0.02,5]
["Long Beach Airport",14.51,4.3,2.77,1.82,0.46,0.19,0.06,0.02,null,10.07,3.17,2.14,1.52,0.42,0.17,0.06,0.02,null,7.66,2.5499999999999998,1.75,1.26,0.38,0.16,0.06,0.01,null,3.5,1.34,1.06,0.82,0.31,0.15,0.06,0.01,null,2.1,0.84,0.71,0.57999999999999996,0.26,0.13,0.05,0.01,null,0.02,7.0000000000000007E-2,0.13,0.17,0.17,0.11,0.05,0.01,null,0.01,0.04,0.06,0.09,0.11,0.08,0.04,0.01,5]
["Ontario Airport",17.36,5.34,3.52,2.34,0.62,0.25,0.09,0.02,null,11.97,3.85,2.68,1.94,0.56999999999999995,0.24,0.08,0.02,null,9.15,3.07,2.17,1.6,0.52,0.22,0.08,0.02,null,4.88,1.8,1.43,1.1100000000000001,0.44,0.2,0.08,0.02,null,3.5,1.3,1.08,0.87,0.37,0.18,7.0000000000000007E-2,0.02,null,0.01,0.06,0.11,0.17,0.21,0.14000000000000001,7.0000000000000007E-2,0.02,null,0.01,0.03,0.05,0.08,0.13,0.1,0.05,0.02,5]
["Palm Springs Airport",10.92,3.45,2.2400000000000002,1.44,0.35,0.14000000000000001,0.05,0.01,null,6.59,2.2599999999999998,1.6,1.1399999999999999,0.32,0.13,0.05,0.01,null,4.62,1.69,1.23,0.91,0.28999999999999998,0.12,0.04,0.01,null,2.2799999999999998,0.85,0.7,0.56000000000000005,0.23,0.11,0.04,0.01,null,1.84,0.69,0.54,0.43,0.19,0.1,0.04,0.01,null,0.02,0.06,0.11,0.14000000000000001,0.13,0.08,0.04,0.01,null,0.01,0.03,0.05,7.0000000000000007E-2,0.08,0.06,0.03,0.01,5]
["Riverside Airport",14,5.12,3.37,2.2000000000000002,0.55000000000000004,0.22,0.08,0.02,null,8.19,3.3,2.38,1.72,0.49,0.2,7.0000000000000007E-2,0.02,null,5.61,2.42,1.8,1.35,0.44,0.19,7.0000000000000007E-2,0.02,null,1.85,1.02,0.97,0.81,0.35,0.17,7.0000000000000007E-2,0.02,null,1.01,0.61,0.65,0.59,0.28999999999999998,0.15,0.06,0.02,null,0.02,7.0000000000000007E-2,0.14000000000000001,0.19,0.19,0.13,0.06,0.02,null,0.01,0.03,0.06,0.09,0.12,0.09,0.05,0.01,5]
["Santa Monica Airport",25.29,6.32,3.98,2.61,0.68,0.27,0.09,0.02,null,18.600000000000001,4.9000000000000004,3.22,2.25,0.63,0.25,0.09,0.02,null,14.8,4.12,2.74,1.94,0.59,0.24,0.09,0.02,null,9.06,2.85,2.08,1.5,0.51,0.22,0.08,0.02,null,6.54,2.14,1.64,1.23,0.44,0.2,0.08,0.02,null,0.01,0.08,0.18,0.26,0.25,0.16,7.0000000000000007E-2,0.02,null,0,0.03,0.08,0.12,0.16,0.12,0.06,0.02,5]
["John Wayne Int'l Airport",19.61,5.61,3.5,2.31,0.6,0.25,0.08,0.02,null,14.46,4.32,2.8,1.97,0.55000000000000004,0.23,0.08,0.02,null,11.57,3.61,2.37,1.68,0.52,0.22,0.08,0.02,null,7.18,2.4700000000000002,1.77,1.29,0.44,0.2,7.0000000000000007E-2,0.02,null,5.49,1.92,1.43,1.07,0.39,0.18,7.0000000000000007E-2,0.02,null,0.02,7.0000000000000007E-2,0.14000000000000001,0.2,0.22,0.14000000000000001,0.06,0.02,null,0.01,0.03,0.06,0.1,0.13,0.1,0.05,0.02,5]
["Desert Hot Springs Airport",14.28,4.3499999999999996,2.86,1.93,0.52,0.21,7.0000000000000007E-2,0.02,null,9.8699999999999992,3.13,2.1800000000000002,1.59,0.47,0.19,7.0000000000000007E-2,0.02,null,7.55,2.5,1.75,1.31,0.43,0.18,7.0000000000000007E-2,0.02,null,4.2699999999999996,1.54,1.18,0.91,0.36,0.16,0.06,0.02,null,2.88,1.06,0.85,0.69,0.28999999999999998,0.14000000000000001,0.06,0.02,null,0.01,0.05,0.09,0.14000000000000001,0.16,0.11,0.05,0.01,null,0,0.02,0.04,0.06,0.1,0.08,0.04,0.01,5]
["Van Nuys Airport",14.28,4.29,2.66,1.71,0.43,0.17,0.06,0.01,null,9.66,3.08,2.04,1.42,0.39,0.16,0.06,0.01,null,7.43,2.4700000000000002,1.66,1.18,0.36,0.15,0.06,0.01,null,4.2699999999999996,1.55,1.1599999999999999,0.86,0.31,0.14000000000000001,0.05,0.01,null,3.09,1.1499999999999999,0.89,0.69,0.27,0.13,0.05,0.01,null,0.03,0.08,0.13,0.16,0.16,0.1,0.05,0.01,null,0.01,0.04,7.0000000000000007E-2,0.08,0.1,0.08,0.04,0.01,5]
[]
[]
[]
[]
["Table 8 B -  Dispersion Factor (X/Q) for Natural Gas Boiler Operating More than 12 Hours per Day"]
["Units are in (ug/m3)/(tons/yr)","Size 2 to 5 MMBTU",null,null,null,null,null,null,null,null,"Size > 5 to 10 MMBTU",null,null,null,null,null,null,null,null,"Size > 10 to 20 MMBTU",null,null,null,null,null,null,null,null,"Size > 20 to 30 MMBTU",null,null,null,null,null,null,null,null,"Size > 30 to 50 MMBTU",null,null,null,null,null,null,null,null,"Size > 50 to 150 MMBTU",null,null,null,null,null,null,null,null,"Size > 150 to 200 MMBTU"]
[null,"Downwind Distance (meters)",null,null,null,null,null,null,null,null,"Downwind Distance (meters)",null,null,null,null,null,null,null,null,"Downwind Distance (meters)",null,null,null,null,null,null,null,null,"Downwind Distance (meters)",null,null,null,null,null,null,null,null,"Downwind Distance (meters)",null,null,null,null,null,null,null,null,"Downwind Distance (meters)",null,null,null,null,null,null,null,null,"Downwind Distance (meters)"]
["Location","25","50","75","100","200","300","500","1000",null,"25","50","75","100","200","300","500","1000",null,"25","50","75","100","200","300","500","1000",null,"25","50","75","100","200","300","500","1000",null,"25","50","75","100","200","300","500","1000",null,"25","50","75","100","200","300","500","1000",null,"25","50","75","100","200","300","500","1000"]
["Azusa",8.83,2.5099999999999998,1.76,1.31,0.59,0.3,0.14000000000000001,0.05,null,4.0999999999999996,1.35,0.93,0.69,0.27,0.17,0.1,0.05,null,2.2999999999999998,0.87,0.62,0.46,0.18,0.1,7.0000000000000007E-2,0.04,null,0.98,0.33,0.27,0.22,0.1,0.06,0.04,0.03,null,0.48,0.19,0.16,0.14000000000000001,0.08,0.05,0.03,0.02,null,0.03,7.0000000000000007E-2,0.08,0.08,0.06,0.04,0.02,0.01,null,0.01,0.03,0.04,0.04,0.04,0.03,0.01,0.01]
["Banning",16.96,5.08,3.61,2.73,1.1200000000000001,0.57999999999999996,0.28000000000000003,0.1,null,11.83,3.44,2.29,1.77,0.75,0.4,0.22,0.1,null,9.06,2.68,1.74,1.27,0.56999999999999995,0.31,0.18,0.09,null,4.34,1.39,1,0.74,0.34,0.2,0.12,7.0000000000000007E-2,null,2.98,0.92,0.69,0.53,0.23,0.14000000000000001,0.09,0.06,null,0,0.01,0.04,0.08,0.1,7.0000000000000007E-2,0.05,0.03,null,0,0.01,0.02,0.03,0.06,0.04,0.03,0.02]
["Central L.A.",8.08,2.11,1.47,1.1000000000000001,0.51,0.26,0.12,0.04,null,4.54,1.3,0.88,0.64,0.24,0.15,0.09,0.04,null,3.07,0.97,0.67,0.48,0.18,0.1,7.0000000000000007E-2,0.04,null,1.22,0.49,0.39,0.28999999999999998,0.12,0.06,0.04,0.03,null,0.59,0.27,0.24,0.2,0.09,0.05,0.03,0.02,null,0.02,0.05,7.0000000000000007E-2,0.08,0.06,0.04,0.02,0.01,null,0.01,0.03,0.03,0.04,0.04,0.03,0.01,0.01]
["Lake Elsinore",5.04,1.63,1.08,0.76,0.43,0.27,0.15,0.06,null,2.52,0.89,0.62,0.45,0.16,0.11,0.09,0.05,null,1.58,0.59,0.43,0.32,0.12,0.06,0.06,0.04,null,0.71,0.32,0.26,0.2,0.08,0.04,0.03,0.03,null,0.31,0.17,0.15,0.13,0.06,0.04,0.02,0.02,null,0.04,0.06,7.0000000000000007E-2,0.06,0.04,0.03,0.02,0.01,null,0.02,0.03,0.03,0.03,0.03,0.02,0.01,0.01]
["Fontana",12.49,3.43,2.36,1.73,0.73,0.39,0.19,7.0000000000000007E-2,null,7.25,2.04,1.35,1.01,0.39,0.22,0.14000000000000001,0.06,null,4.93,1.44,0.96,0.7,0.27,0.15,0.1,0.05,null,2.38,0.78,0.59,0.44,0.18,0.1,0.06,0.04,null,1.38,0.48,0.39,0.31,0.13,7.0000000000000007E-2,0.04,0.03,null,0.02,0.04,7.0000000000000007E-2,0.08,7.0000000000000007E-2,0.05,0.03,0.02,null,0.01,0.02,0.03,0.04,0.05,0.03,0.02,0.01]
["Mission Viejo",5.91,1.79,1.18,0.82,0.4,0.25,0.13,0.05,null,2.77,0.98,0.66,0.47,0.16,0.11,0.08,0.04,null,1.59,0.62,0.45,0.32,0.11,0.06,0.05,0.03,null,0.57999999999999996,0.28999999999999998,0.25,0.2,0.08,0.04,0.03,0.02,null,0.24,0.15,0.15,0.13,0.06,0.04,0.02,0.01,null,0.02,0.04,0.06,7.0000000000000007E-2,0.05,0.03,0.01,0.01,null,0.01,0.02,0.03,0.03,0.03,0.02,0.01,0]
["Perris",7.68,2.2999999999999998,1.57,1.1599999999999999,0.55000000000000004,0.32,0.17,0.06,null,4.6900000000000004,1.42,0.94,0.7,0.27,0.16,0.11,0.05,null,3.41,1.07,0.71,0.52,0.2,0.11,0.08,0.04,null,1.87,0.65,0.47,0.35,0.14000000000000001,7.0000000000000007E-2,0.04,0.03,null,1.26,0.45,0.34,0.26,0.11,0.06,0.03,0.02,null,0.04,0.05,0.06,0.06,0.06,0.04,0.02,0.01,null,0.02,0.02,0.03,0.03,0.03,0.03,0.02,0.01]
["Pico Rivera",11.03,2.88,1.89,1.36,0.56000000000000005,0.3,0.14000000000000001,0.05,null,6.4,1.73,1.0900000000000001,0.79,0.28999999999999998,0.17,0.1,0.05,null,4.3099999999999996,1.24,0.79,0.56000000000000005,0.21,0.11,0.08,0.04,null,2.15,0.7,0.51,0.37,0.13,7.0000000000000007E-2,0.04,0.03,null,1.21,0.43,0.34,0.26,0.1,0.05,0.03,0.02,null,0.02,0.05,7.0000000000000007E-2,0.08,0.06,0.04,0.02,0.01,null,0.01,0.02,0.04,0.04,0.04,0.03,0.01,0.01]
["Redlands",6.69,2.31,1.6,1.17,0.56000000000000005,0.34,0.2,0.08,null,3,1.25,0.86,0.64,0.24,0.15,0.14000000000000001,0.08,null,1.68,0.79,0.57999999999999996,0.43,0.16,0.1,0.09,7.0000000000000007E-2,null,0.4,0.27,0.25,0.21,0.1,0.06,0.04,0.05,null,0.17,0.15,0.16,0.14000000000000001,0.08,0.05,0.03,0.03,null,0.04,0.06,0.08,0.08,0.06,0.04,0.02,0.02,null,0.02,0.03,0.04,0.04,0.04,0.03,0.02,0.01]
["Upland",11.18,3.05,2.13,1.56,0.69,0.36,0.19,0.08,null,6.2,1.81,1.24,0.93,0.35,0.21,0.13,7.0000000000000007E-2,null,4.03,1.27,0.88,0.65,0.25,0.14000000000000001,0.09,0.06,null,1.57,0.59,0.48,0.37,0.16,0.09,0.06,0.04,null,0.69,0.3,0.28000000000000003,0.24,0.12,7.0000000000000007E-2,0.04,0.03,null,0.02,0.05,7.0000000000000007E-2,0.09,0.08,0.05,0.03,0.02,null,0.01,0.02,0.03,0.04,0.05,0.04,0.02,0.01]
["Burbank Airport",11.76,3.25,2.13,1.49,0.53,0.28000000000000003,0.14000000000000001,0.05,null,7.55,2.12,1.36,0.99,0.32,0.17,0.1,0.04,null,5.51,1.61,1.04,0.74,0.25,0.12,0.08,0.04,null,2.37,0.79,0.59,0.44,0.17,0.09,0.05,0.03,null,1.41,0.48,0.38,0.31,0.13,7.0000000000000007E-2,0.04,0.02,null,0.01,0.04,0.06,0.08,0.08,0.05,0.03,0.01,null,0.01,0.02,0.03,0.04,0.05,0.04,0.02,0.01]
["Chino Airport.",10.26,3.21,2.2400000000000002,1.65,0.67,0.36,0.18,7.0000000000000007E-2,null,7.07,2.16,1.47,1.1100000000000001,0.42,0.22,0.13,0.06,null,5.49,1.72,1.1599999999999999,0.86,0.33,0.16,0.1,0.05,null,3.01,1.03,0.76,0.56999999999999995,0.23,0.12,0.06,0.04,null,2.2999999999999998,0.8,0.6,0.46,0.19,0.1,0.05,0.03,null,0.01,0.03,0.04,0.06,0.08,0.06,0.03,0.02,null,0,0.01,0.02,0.03,0.04,0.04,0.02,0.01]
["USC/Downtown L.A.",7.72,2.59,1.89,1.44,0.68,0.37,0.18,7.0000000000000007E-2,null,3.04,1.27,0.92,0.7,0.28000000000000003,0.18,0.13,0.06,null,1.59,0.79,0.6,0.46,0.18,0.11,0.09,0.05,null,0.19,0.19,0.21,0.19,0.1,0.06,0.05,0.04,null,0.13,0.12,0.14000000000000001,0.14000000000000001,0.08,0.05,0.03,0.02,null,0.02,0.06,0.08,0.08,0.06,0.04,0.02,0.01,null,0.01,0.03,0.04,0.05,0.04,0.03,0.02,0.01]
["Fullerton Airport",9.3699999999999992,2.4900000000000002,1.63,1.1299999999999999,0.46,0.25,0.13,0.05,null,5.55,1.56,1.01,0.73,0.24,0.14000000000000001,0.08,0.04,null,3.98,1.18,0.78,0.55000000000000004,0.18,0.09,0.06,0.03,null,2.04,0.7,0.52,0.38,0.14000000000000001,0.06,0.04,0.02,null,1.24,0.46,0.37,0.28999999999999998,0.11,0.05,0.03,0.02,null,0.01,0.05,7.0000000000000007E-2,0.08,7.0000000000000007E-2,0.04,0.02,0.01,null,0.01,0.02,0.03,0.04,0.04,0.03,0.02,0.01]
["Hawthorne Airport",12.48,3.47,2.37,1.7,0.67,0.35,0.17,0.06,null,8.3699999999999992,2.34,1.54,1.1399999999999999,0.41,0.22,0.12,0.05,null,6.28,1.84,1.23,0.88,0.32,0.16,0.1,0.04,null,3.25,1.05,0.8,0.59,0.23,0.12,0.06,0.03,null,2.25,0.75,0.6,0.47,0.19,0.1,0.05,0.03,null,0.01,0.04,7.0000000000000007E-2,0.1,0.1,7.0000000000000007E-2,0.04,0.02,null,0,0.02,0.03,0.04,0.06,0.05,0.03,0.01]
["Los Angeles Int'l Airport",14.98,4.4400000000000004,3.15,2.33,0.89,0.44,0.21,0.08,null,10.74,3.18,2.1800000000000002,1.66,0.62,0.3,0.16,7.0000000000000007E-2,null,8.3000000000000007,2.56,1.74,1.28,0.5,0.23,0.13,0.06,null,4.18,1.45,1.1000000000000001,0.83,0.34,0.17,0.09,0.05,null,2.9,1.05,0.82,0.65,0.27,0.14000000000000001,7.0000000000000007E-2,0.04,null,0,0.02,0.05,0.09,0.12,0.09,0.05,0.02,null,0,0.01,0.02,0.04,7.0000000000000007E-2,0.06,0.03,0.01]
["Long Beach Airport",10.44,3.03,2.15,1.64,0.72,0.38,0.2,0.08,null,6.51,1.85,1.22,0.95,0.38,0.2,0.13,7.0000000000000007E-2,null,4.82,1.39,0.9,0.66,0.27,0.13,0.09,0.06,null,2.61,0.8,0.55000000000000004,0.4,0.16,0.08,0.05,0.04,null,1.81,0.56999999999999995,0.4,0.3,0.11,0.06,0.03,0.03,null,0.01,0.03,0.05,7.0000000000000007E-2,0.06,0.04,0.02,0.01,null,0,0.02,0.03,0.03,0.04,0.03,0.02,0.01]
["Ontario Airport",15.84,4.6900000000000004,3.31,2.46,0.96,0.49,0.24,0.09,null,10.65,3.1,2.1,1.61,0.62,0.31,0.18,0.08,null,8.01,2.39,1.6,1.18,0.47,0.23,0.13,7.0000000000000007E-2,null,4.0599999999999996,1.33,0.97,0.72,0.3,0.15,0.09,0.05,null,2.81,0.94,0.7,0.54,0.22,0.11,0.06,0.04,null,0.01,0.03,0.05,7.0000000000000007E-2,0.09,7.0000000000000007E-2,0.04,0.02,null,0,0.01,0.02,0.03,0.05,0.04,0.03,0.01]
["Palm Springs Airport",12.74,3.89,2.68,1.99,0.79,0.41,0.21,0.08,null,8.99,2.67,1.76,1.34,0.52,0.27,0.15,7.0000000000000007E-2,null,7.1,2.14,1.38,1.01,0.4,0.2,0.12,0.06,null,4.28,1.36,0.92,0.67,0.27,0.14000000000000001,0.08,0.05,null,3.2,1.04,0.72,0.53,0.21,0.11,0.06,0.04,null,0.01,0.03,0.04,0.06,0.08,0.06,0.04,0.02,null,0,0.01,0.02,0.03,0.04,0.04,0.03,0.01]
["Riverside Airport",9.57,3.37,2.4900000000000002,1.91,0.85,0.45,0.22,0.09,null,5.2,1.92,1.37,1.06,0.44,0.25,0.16,7.0000000000000007E-2,null,3.47,1.37,0.99,0.75,0.31,0.17,0.12,0.06,null,1.07,0.54,0.49,0.4,0.19,0.11,7.0000000000000007E-2,0.05,null,0.61,0.32,0.32,0.28999999999999998,0.15,0.08,0.05,0.03,null,0.01,0.03,0.06,0.08,0.09,0.06,0.03,0.02,null,0,0.02,0.03,0.04,0.05,0.04,0.02,0.01]
["Santa Monica Airport",14.81,3.77,2.52,1.81,0.69,0.34,0.16,0.06,null,9.81,2.5299999999999998,1.65,1.21,0.42,0.21,0.11,0.05,null,7.41,2.0099999999999998,1.31,0.94,0.33,0.15,0.09,0.04,null,4.21,1.28,0.92,0.67,0.24,0.11,0.06,0.03,null,2.88,0.92,0.7,0.52,0.19,0.09,0.04,0.02,null,0.01,0.03,7.0000000000000007E-2,0.1,0.1,7.0000000000000007E-2,0.03,0.01,null,0,0.02,0.03,0.05,0.06,0.05,0.03,0.01]
["John Wayne Int'l Airport",14.14,3.99,2.61,1.87,0.69,0.36,0.18,7.0000000000000007E-2,null,9.34,2.65,1.67,1.23,0.42,0.21,0.12,0.06,null,7.05,2.0699999999999998,1.29,0.92,0.32,0.15,0.09,0.05,null,3.98,1.28,0.87,0.63,0.22,0.1,0.05,0.03,null,2.82,0.94,0.67,0.49,0.18,0.08,0.04,0.02,null,0.01,0.03,0.06,0.08,0.09,0.06,0.03,0.01,null,0,0.02,0.03,0.04,0.05,0.04,0.02,0.01]
["Desert Hot Springs Airport",13.7,4.1399999999999997,2.89,2.15,0.88,0.49,0.25,0.1,null,8.68,2.65,1.75,1.34,0.53,0.28999999999999998,0.18,0.08,null,6.41,2.04,1.33,0.97,0.39,0.2,0.14000000000000001,7.0000000000000007E-2,null,3.54,1.23,0.85,0.62,0.25,0.13,0.08,0.05,null,2.66,0.95,0.66,0.48,0.19,0.1,0.06,0.04,null,0,0.02,0.04,0.05,0.06,0.05,0.04,0.02,null,0,0.01,0.02,0.03,0.04,0.03,0.02,0.01]
["Van Nuys Airport",9.82,2.82,1.84,1.32,0.52,0.28000000000000003,0.14000000000000001,0.06,null,6.11,1.78,1.1299999999999999,0.83,0.28000000000000003,0.15,0.09,0.05,null,4.45,1.34,0.85,0.61,0.21,0.1,0.06,0.04,null,2.36,0.79,0.55000000000000004,0.4,0.15,7.0000000000000007E-2,0.04,0.03,null,1.6,0.55000000000000004,0.41,0.31,0.12,0.06,0.03,0.02,null,0.01,0.04,0.06,7.0000000000000007E-2,0.06,0.04,0.02,0.01,null,0.01,0.02,0.03,0.04,0.04,0.03,0.02,0.01]

{"sheet":"Boiler","index":9,"n_rows":31,"n_cols":15,"rows_kept":31,"cut":false,"hidden":false,"merged":[[11,2,12,3],[11,4,12,4],[10,12,10,14],[10,10,12,10],[10,11,12,11],[11,7,11,8],[11,5,12,5],[11,6,12,6]]}
[]
[null,null,"NATURAL GAS BOILER DATA",null,null,null,null,{"$f":"\"A/N \"&Emissions!$E$7&\", \"&Emissions!$E$8","v":"A/N 622795 (96, 97), Spear's Manufacturing Co."}]
[null,null,{"$f":"Intro!A39 & \" - \" &Intro!A38","v":"\n(Procedure Version 8.1 & Package N, September 1, 2017 ) - Risk Tool V1.105"}]
[]
[null,null,"Max burner rating",null,500,"MMBtu/hr"]
[null,null,"Equipment w/ SNCR, SCR, or OTHER",null,"OTHER"]
[null,null,"Fuel HHV",null,1050,"btu/ft³"]
[null,null,"Fuel rate",null,{"$f":"(E5*1000000)/E7","v":476190.47619047621},"ft³/hr"]
[null,null,"MMCF fuel rate",null,{"$f":"E8/1000000","v":0.47619047619047622},"mmcf/hr"]
[]
[null,null,null,null,null,null,null,null,null,null,"Compound *","CAS #","Boiler Rating *"]
[null,null,"Compound *",null,"EF (*)\n(lbs/mmcf)","R1 (Uncontrolled) \n(lbs/hr)","R2 (Controlled)\n(lbs/hr)","Toxic NSR Entry (E-06 lbs/hr)",null,null,null,null,"<10 mmbtu/hr","10-100 mmbtu/hr",">100 mmbtu/hr"]
[null,null,null,null,null,null,null,"R1 (Uncontrolled) ","R2 (Controlled)",null,null,null,"EF(lbs/mmcf)","EF(lbs/mmcf)","EF(lbs/mmcf)"]
["A1",null,{"$f":"VLOOKUP(A14,TAClist,2,FALSE)","v":"Acetaldehyde"},null,{"$f":"IF(BoilerRating<10,M14, IF(AND(BoilerRating>=10, BoilerRating<=100 ),N14, O14))","v":8.9999999999999998E-4},{"$f":"E14*$E$9","v":4.285714285714286E-4},{"$f":"F14*(1-CombControlEfficiency)","v":4.285714285714286E-4},{"$f":"F14*1000000","v":428.57142857142861},{"$f":"G14*1000000","v":428.57142857142861},null,"Acetaldehyde","75-07-0",4.3E-3,3.0999999999999999E-3,8.9999999999999998E-4]
["A3",null,{"$f":"VLOOKUP(A15,TAClist,2,FALSE)","v":"Acrolein"},null,8.0000000000000004E-4,{"$f":"E15*$E$9","v":3.8095238095238102E-4},3.8095238095238102E-4,{"$f":"F15*1000000","v":380.95238095238102},380.95238095238102,null,"Acrolein","107-02-8",2.7000000000000001E-3,2.7000000000000001E-3,8.0000000000000004E-4]
["A9",null,"Ammonia",null,3.2,1.5238095238095239,1.5238095238095239,1523809.523809524,1523809.523809524,null,"Ammonia","7664-41-7",{"$f":"VLOOKUP($E$6,$K$27:$L$30,2,FALSE)","v":3.2},{"$f":"VLOOKUP($E$6,$K$27:$L$30,2,FALSE)","v":3.2},{"$f":"VLOOKUP($E$6,$K$27:$L$30,2,FALSE)","v":3.2}]
["B1",null,"Benzene",null,1.6999999999999999E-3,8.0952380952380957E-4,8.0952380952380957E-4,809.52380952380952,809.52380952380952,null,"Benzene (including from gasoline)","71-43-2",8.0000000000000002E-3,5.7999999999999996E-3,1.6999999999999999E-3]
["E3",null,"Ethyl Benzene",null,2E-3,9.5238095238095249E-4,9.5238095238095249E-4,952.38095238095252,952.38095238095252,null,"Ethyl benzene","100-41-4",9.4999999999999998E-3,6.8999999999999999E-3,2E-3]
["F2",null,"Formaldehyde",null,3.5999999999999999E-3,1.7142857142857144E-3,1.7142857142857144E-3,1714.2857142857144,1714.2857142857144,null,"Formaldehyde","50-00-0",1.7000000000000001E-2,1.23E-2,3.5999999999999999E-3]
["H6",null,"n-Hexane",null,1.2999999999999999E-3,6.19047619047619E-4,6.19047619047619E-4,619.04761904761904,619.04761904761904,null,"Hexane (n-)","110-54-3",6.3E-3,4.5999999999999999E-3,1.2999999999999999E-3]
["P41",null,"Polycyclic Aromatic Hydrocarbon  (PAH)",null,1E-4,4.7619047619047627E-5,4.7619047619047627E-5,47.619047619047628,47.619047619047628,null,"Polycyclic Aromatic Hydrocarbons (PAHs)",1151,1E-4,1E-4,1E-4]
["P62",null,"Naphthalene",null,2.9999999999999997E-4,1.4285714285714284E-4,1.4285714285714284E-4,142.85714285714283,142.85714285714283,null,"   Napthalene","91-20-3",2.9999999999999997E-4,2.9999999999999997E-4,2.9999999999999997E-4]
["T3",null,"Toluene",null,7.7999999999999996E-3,3.7142857142857142E-3,3.7142857142857142E-3,3714.2857142857142,3714.2857142857142,null,"Toluene (methyl benzene)","108-88-3",3.6600000000000001E-2,2.6499999999999999E-2,7.7999999999999996E-3]
["X1",null,"Xylenes (Mixed Isomers)",null,5.7999999999999996E-3,2.7619047619047619E-3,2.7619047619047619E-3,2761.9047619047619,2761.9047619047619,null,"Xylenes (isomers and mixtures)","1330-20-7",2.7199999999999998E-2,1.9699999999999999E-2,5.7999999999999996E-3]
[null,null,"* Data from AB2588 Reporting Procedure - Dec 2014",null,null,null,null,null,null,null,"* Data from AB2588 Reporting Procedure - Dec 2014"]
[]
[null,null,null,null,null,null,null,null,null,null,"CONTROL","Ammonia EF (lb/mmcf)"]
[null,null,null,null,null,null,null,null,null,null,"SNCR",18]
[null,null,null,null,null,null,null,null,null,null,"SCR",9.1]
[null,null,null,null,null,null,null,null,null,null,"OTHER",3.2]
[null,null,null,null,null,null,null,null,null,null,"Note:  Select \"OTHER\" when there is no control or when the control type is not SNCR or SCR"]

{"sheet":"Crematory","index":10,"n_rows":26,"n_cols":15,"rows_kept":26,"cut":false,"hidden":false,"merged":[[5,4,5,5],[10,2,11,3],[10,1,11,1],[10,4,11,4],[10,5,11,5],[10,7,10,8],[6,4,6,5],[10,6,11,6],[7,4,7,5]]}
[]
[null,null,"CREMATORY INPUT DATA",null,null,null,null,{"$f":"'Tier 1 Report'!C8","v":"A/N 622795 (96, 97), Spear's Manufacturing Co."}]
[null,null,{"$f":"Intro!A39 & \" - \" &Intro!A38","v":"\n(Procedure Version 8.1 & Package N, September 1, 2017 ) - Risk Tool V1.105"}]
[]
[]
[null,null,"Crematory Type (Human or Animal)",null,"Human Cremation"]
[null,null,"Maximum Burn Rate",null,150,null,"lbs/hr",null,null,null,null,"Crematory Emissions Factors (USEPA Final 1999 Non Point HAP Source Estimates, August 26, 2003)"]
[null,null,"Combustion Control Efficiency",null,{"$f":"CombControlEfficiency","v":0}]
[]
[]
[null,"Code","Compound",null,"EF\n(lbs/ton)","R1 (Uncontrolled) \n(lbs/hr)","R2 (Controlled)\n(lbs/hr)","NSR Data Entry (E-06 lbs/hr)",null,null,null,null,null,"Human Cremation","Animal Cremation"]
[null,null,null,null,null,null,null,"R1 (Uncontrolled) ","R2 (Controlled)",null,null,"Compound","CAS # ","EF(lbs/ton)","EF(lbs/ton)"]
[null,"A11",{"$f":"VLOOKUP(B13,TAClist,2,FALSE)","v":"Arsenic and Compounds (Inorganic)"},null,{"$f":"IF(E$6=\"Human Cremation\",N13,O13)","v":4.0000000000000002E-4},{"$f":"E13*$E$7/2000","v":3.0000000000000001E-5},{"$f":"F13*(1-CombControlEfficiency)","v":3.0000000000000001E-5},{"$f":"F13*1000000","v":30},30,null,null,"Arsenic and arsenic compounds (inorganic)","7440-38-2",4.0000000000000002E-4,4.0000000000000002E-4]
[null,"B8","Beryllium and Compounds",null,{"$f":"IF(E$6=\"Human Cremation\",N14,O14)","v":1.84E-5},{"$f":"E14*$E$7/2000","v":1.3799999999999999E-6},1.3799999999999999E-6,1.38,1.38,null,null,"Beryllium and beryllium compounds","7440-41-7",1.84E-5,1.84E-5]
[null,"C1","Cadmium and Compounds",null,1.4599999999999999E-3,1.0950000000000001E-4,1.0950000000000001E-4,109.5,109.5,null,null,"Cadmium and cadmium compounds","7440-43-9",1.4599999999999999E-3,1.4599999999999999E-3]
[null,"C16","Chromium 6+",null,1.9100000000000001E-4,1.4325000000000001E-5,1.4325000000000001E-5,14.325000000000001,14.325000000000001,null,null,"Chromium, hexavalent*","18540-29-9",{"$f":"0.000191","v":1.9100000000000001E-4},{"$f":"0.000191","v":1.9100000000000001E-4}]
[null,"P30","Polychlorinated Dibenzofurans (PCDF)",null,1.43E-7,1.0725E-8,1.0725E-8,1.0725E-2,1.0725E-2,null,null,"Polychlorinated Dibenzofurans (PCDF) (as 2,3,7,8-Eqiv) and total",1080,1.43E-7,1.43E-7]
[null,"P23","2,3,7,8-Tetrachlorodibenzo-p-Dioxin",null,7.7400000000000005E-8,5.8050000000000005E-9,5.8050000000000005E-9,5.8050000000000003E-3,5.8050000000000003E-3,null,null,"Polychlorinated Dibenzo-p-Dioxins (PCDD) (as 2,3,7,8-Eqiv) and total",1086,7.7400000000000005E-8,7.7400000000000005E-8]
[null,"F2","Formaldehyde",null,2.8900000000000002E-9,2.1675E-10,2.1675E-10,2.1675000000000001E-4,2.1675000000000001E-4,null,null,"Formaldehyde","50-00-0",2.8900000000000002E-9,2.8900000000000002E-9]
[null,"H9","Hydrochloric Acid  (Hydrogen Chloride)",null,1.97,0.14774999999999999,0.14774999999999999,147750,147750,null,null,"Hydrogen chloride (hydrochloric acid)","7647-01-0",1.97,1.97]
[null,"L1","Lead and Compounds (Inorganic)",null,9.3900000000000008E-3,7.0425000000000001E-4,7.0425000000000001E-4,704.25,704.25,null,null,"Lead and compounds (inorganic, including elemental lead)","7439-92-1",9.3900000000000008E-3,9.3900000000000008E-3]
[null,"N12","Nickel and Compounds",null,5.0900000000000001E-4,3.8175E-5,3.8175E-5,38.174999999999997,38.174999999999997,null,null,"Nickel & compounds (except nickel oxide):","7440-02-0",5.0900000000000001E-4,5.0900000000000001E-4]
[null,"M3","Mercury and Compounds (Inorganic)",null,5.3200000000000001E-3,3.9899999999999999E-4,3.9899999999999999E-4,399,399,null,null,"Mercury and mercury compounds (inorganic)","7439-97-6",5.3200000000000001E-3,0]
[null,"P41","Polycyclic Aromatic Hydrocarbon  (PAH)",null,9.6299999999999999E-4,7.2224999999999994E-5,7.2224999999999994E-5,72.224999999999994,72.224999999999994,null,null,"Polycyclic Aromatic Hydrocarbons (PAHs)",1151,9.6299999999999999E-4,9.6299999999999999E-4]
[]
[null,null,null,null,null,null,null,null,null,null,null,"* Emission factor from EPA is for Total Chrome.  Hex. Chrome emission factor is from San Diego APCD "]

{"sheet":"Crematory Calc","index":11,"n_rows":34,"n_cols":22,"rows_kept":34,"cut":false,"hidden":true,"merged":[[20,1,20,2],[28,1,28,2],[2,11,3,13],[2,5,2,10],[4,11,4,13],[13,1,13,2],[13,3,13,10]]}
[null,"Look up for Crematory X/Q Data "]
[]
[null,"Station",{"$f":"Emissions!$E$22","v":"Van Nuys Airport"},null,null,"Interpolation for X/Q from Nearest Distances",null,null,null,null,null,"Interpolation New Distance for Cancer Burden Calculation"]
[null,"Operating Hours (hrs/day)",{"$f":"HoursPerDay","v":24},null,null,null,null,"Area:",{"$f":"BuildingArea","v":5000},"row:",{"$f":"T4-1","v":1},null,null,null,null,null,null,"Building Area [ft2]","Lookup Row",{"$f":"MIN(T5:T8)","v":2}]
[null,"X/Q (residential)",{"$f":"$G$8","v":0.42350000000000004},null,null,null,"Residential",null,null,"Industrial",null,"X/Q for one-in-a-million ",null,null,null,null,"<5000",5000,1,{"$f":"IF(BuildingArea<R5,S5,\"No\")","v":"No"}]
[null,"X/Q (industrial)",{"$f":"$J$8","v":0.1585},null,null,"near","actual","far","near","actual","far","near","actual","far",null,null,"≥ 5,000 to 10,000",10000,2,{"$f":"IF(BuildingArea>=R5,IF(BuildingArea<R6,S6,\"No\"))","v":2}]
[null,"X/Q max acute (residential)",{"$f":"G9","v":24.608900000000002},null,"Distance (m)",{"$f":"IF(G7<25,25,HLOOKUP(G7,table4_c,1,TRUE))","v":100},{"$f":"Emissions!E20","v":157},{"$f":"IF(G7<25,25,IF(G7>=1000,1000,IF(G7=HLOOKUP(G7,table4_c,1,TRUE),G7,INDEX(table4_c,1,MATCH(G7,C15:J15,1)))))","v":200},{"$f":"IF(J7<25,25,HLOOKUP(J7,table4_c,1,TRUE))","v":200},{"$f":"Emissions!E21","v":265},{"$f":"IF(J7<25,25,IF(J7>=1000,1000,IF(J7=HLOOKUP(J7,table4_c,1,TRUE),J7,INDEX(table4_c,1,MATCH(J7,D15:K15,1)+1))))","v":300},{"$f":"IF(HoursPerDay<=12,VLOOKUP($K$4,$A$16:$S$18,17,FALSE),VLOOKUP($K$4,$A$23:$S$25,17,FALSE))","v":1000},{"$f":"IF(L7=\"\",\"\",IF(N7=L7,N7,L7-(L8-M8)/(L8-N8)*(L7-N7)))","v":1000},{"$f":"IF(HoursPerDay<=12,VLOOKUP($K$4,$A$16:$S$18,19,FALSE),VLOOKUP($K$4,$A$23:$S$25,19,FALSE))","v":1000},null,null,"> 10,000 to 15,000",15000,3,{"$f":"IF(BuildingArea>=R6,IF(BuildingArea<R7,S7,\"No\"))","v":false}]
[null,"X/Q max acute (industrial)",{"$f":"J9","v":10.1685},null,"X/Q",{"$f":"IF(C4<=12,HLOOKUP(F7,table4_c,$K$4+1,TRUE),HLOOKUP(F7,table5_c,$K$4+1,TRUE))","v":0.68},{"$f":"IF(F8=H8,F8,F8-(((G7-F7)/(H7-F7))*(F8-H8)))","v":0.42350000000000004},{"$f":"IF(C4<=12,HLOOKUP(H7,table4_c,$K$4+1,TRUE),HLOOKUP(H7,table5_c,$K$4+1,TRUE))","v":0.23},{"$f":"IF(C4<=12,HLOOKUP(I7,table4_c,$K$4+1,TRUE),HLOOKUP(I7,table5_c,$K$4+1,TRUE))","v":0.23},{"$f":"IF(I8=K8,I8,I8-(((J7-I7)/(K7-I7))*(I8-K8)))","v":0.1585},{"$f":"IF(C4<=12,HLOOKUP(K7,table4_c,$K$4+1,TRUE),HLOOKUP(K7,table5_c,$K$4+1,TRUE))","v":0.12},{"$f":"IF(HoursPerDay<=12,VLOOKUP($K$4,$A$16:$S$18,16,FALSE),VLOOKUP($K$4,$A$23:$S$25,16,FALSE))","v":0.04},{"$f":"'Tier 2 Report'!N152","v":0},{"$f":"IF(HoursPerDay<=12,VLOOKUP($K$4,$A$16:$S$18,18,FALSE),VLOOKUP($K$4,$A$23:$S$25,18,FALSE))","v":0},null,null,"> 15,000",null,4,{"$f":"IF(BuildingArea>R7,S8,\"No\")","v":"No"}]
[null,null,null,null,"X/Q Max",{"$f":"HLOOKUP(F7,table6_c,$K$4+1,TRUE)","v":37.28},{"$f":"IF(F9=H9,F9,F9-(((G7-F7)/(H7-F7))*(F9-H9)))","v":24.608900000000002},{"$f":"HLOOKUP(H7,table6_c,$K$4+1,TRUE)","v":15.05},{"$f":"HLOOKUP(I7,table6_c,$K$4+1,TRUE)","v":15.05},{"$f":"IF(I9=K9,I9,I9-(((J7-I7)/(K7-I7))*(I9-K9)))","v":10.1685},{"$f":"HLOOKUP(K7,table6_c,$K$4+1,TRUE)","v":7.54}]
[]
[]
[]
[null,"Table 11A Crematory operating 12 hrs/day or less (µg/m³)/(tons/yr)"]
[null,"Source Dimensions",null,"Downwind Distance (meters)"]
["Row ","Area (ft2)","Height (ft)",25,50,75,100,200,300,500,1000,null,null,null,null,"Nearest X/Q - high","nearest dist - low","Nearest X/Q- low","nearest dist - high",null,"Column","Dist"]
[1,"≥ 5,000 to 10,000","Any ",{"$f":"VLOOKUP($C$3,CrematoryLessThan12,2,FALSE)","v":11.52},{"$f":"VLOOKUP($C$3,CrematoryLessThan12,3,FALSE)","v":3.27},{"$f":"VLOOKUP($C$3,CrematoryLessThan12,4,FALSE)","v":2.0299999999999998},{"$f":"VLOOKUP($C$3,CrematoryLessThan12,5,FALSE)","v":1.37},{"$f":"VLOOKUP($C$3,CrematoryLessThan12,6,FALSE)","v":0.39},{"$f":"VLOOKUP($C$3,CrematoryLessThan12,7,FALSE)","v":0.16},{"$f":"VLOOKUP($C$3,CrematoryLessThan12,8,FALSE)","v":0.06},{"$f":"VLOOKUP($C$3,CrematoryLessThan12,9,FALSE)","v":0.01},null,null,null,null,{"$f":"INDEX($D16:$L16,1,MATCH($M$8,$D16:$K16,-1))","v":0.01},{"$f":"VLOOKUP(MATCH(P16,$D16:$K16,0),$U$16:$V$23,2,FALSE)","v":1000},{"$f":"INDEX($D16:$L16,1,1+MATCH($M$8,$D16:$L16,-1))","v":0},{"$f":"IF(R16=0,Q16,VLOOKUP(MATCH(R16,$D16:$K16,0),$U$17:$V$24,2,FALSE))","v":1000},null,1,25]
[2,"> 10,000 to 15,000","Any",{"$f":"VLOOKUP($C$3,CrematoryLessThan12,11,FALSE)","v":12.48},{"$f":"VLOOKUP($C$3,CrematoryLessThan12,12,FALSE)","v":3.59},{"$f":"VLOOKUP($C$3,CrematoryLessThan12,13,FALSE)","v":2.2000000000000002},{"$f":"VLOOKUP($C$3,CrematoryLessThan12,14,FALSE)","v":1.48},{"$f":"VLOOKUP($C$3,CrematoryLessThan12,15,FALSE)","v":0.41},{"$f":"VLOOKUP($C$3,CrematoryLessThan12,16,FALSE)","v":0.16},{"$f":"VLOOKUP($C$3,CrematoryLessThan12,17,FALSE)","v":0.06},{"$f":"VLOOKUP($C$3,CrematoryLessThan12,18,FALSE)","v":0.01},null,null,null,null,{"$f":"INDEX($D17:$K17,1,MATCH($M$8,$D17:$K17,-1))","v":0.01},{"$f":"VLOOKUP(MATCH(P17,$D17:$K17,0),$U$16:$V$23,2,FALSE)","v":1000},{"$f":"INDEX($D17:$L17,1,1+MATCH($M$8,$D17:$L17,-1))","v":0},{"$f":"IF(R17=0,Q17,VLOOKUP(MATCH(R17,$D17:$K17,0),$U$17:$V$24,2,FALSE))","v":1000},null,2,50]
[3,"> 15,000","Any",{"$f":"VLOOKUP($C$3,CrematoryLessThan12,20,FALSE)","v":12.72},{"$f":"VLOOKUP($C$3,CrematoryLessThan12,21,FALSE)","v":3.75},{"$f":"VLOOKUP($C$3,CrematoryLessThan12,22,FALSE)","v":2.27},{"$f":"VLOOKUP($C$3,CrematoryLessThan12,23,FALSE)","v":1.52},{"$f":"VLOOKUP($C$3,CrematoryLessThan12,24,FALSE)","v":0.41},{"$f":"VLOOKUP($C$3,CrematoryLessThan12,25,FALSE)","v":0.16},{"$f":"VLOOKUP($C$3,CrematoryLessThan12,26,FALSE)","v":0.06},{"$f":"VLOOKUP($C$3,CrematoryLessThan12,27,FALSE)","v":0.01},null,null,null,null,{"$f":"INDEX($D18:$K18,1,MATCH($M$8,$D18:$K18,-1))","v":0.01},{"$f":"VLOOKUP(MATCH(P18,$D18:$K18,0),$U$16:$V$23,2,FALSE)","v":1000},{"$f":"INDEX($D18:$L18,1,1+MATCH($M$8,$D18:$L18,-1))","v":0},{"$f":"IF(R18=0,Q18,VLOOKUP(MATCH(R18,$D18:$K18,0),$U$17:$V$24,2,FALSE))","v":1000},null,3,75]
[null,null,null,null,null,null,null,null,null,null,null,null,null,null,null,null,null,null,null,null,4,100]
[null,"Table 11B Crematory operating more than 12 hrs/day (µg/m³)/(tons/yr)",null,null,null,null,null,null,null,null,null,null,null,null,null,null,null,null,null,null,5,200]
[null,"Source Dimensions",null,null,null,"Downwind Distance (meters)",null,null,null,null,null,null,null,null,null,null,null,null,null,null,6,300]
["Row ","Area (ft2)","Height (ft)",25,50,75,100,200,300,500,1000,null,null,null,null,"Nearest X/Q - high","nearest dist - low","Nearest X/Q- low","nearest dist - high",null,7,500]
[1,"≥ 5,000 to 10,000","Any",{"$f":"VLOOKUP($C$3,CrematoryMoreThan12,2,FALSE)","v":6.12},{"$f":"VLOOKUP($C$3,CrematoryMoreThan12,3,FALSE)","v":1.65},{"$f":"VLOOKUP($C$3,CrematoryMoreThan12,4,FALSE)","v":0.99},{"$f":"VLOOKUP($C$3,CrematoryMoreThan12,5,FALSE)","v":0.68},{"$f":"VLOOKUP($C$3,CrematoryMoreThan12,6,FALSE)","v":0.23},{"$f":"VLOOKUP($C$3,CrematoryMoreThan12,7,FALSE)","v":0.12},{"$f":"VLOOKUP($C$3,CrematoryMoreThan12,8,FALSE)","v":7.0000000000000007E-2},{"$f":"VLOOKUP($C$3,CrematoryMoreThan12,9,FALSE)","v":0.04},null,null,null,null,{"$f":"INDEX($D23:$K23,1,MATCH($M$8,$D23:$K23,-1))","v":0.04},{"$f":"VLOOKUP(MATCH(P23,$D23:$K23,0),$U$16:$V$23,2,FALSE)","v":1000},{"$f":"INDEX($D23:$L23,1,1+MATCH($M$8,$D23:$L23,-1))","v":0},{"$f":"IF(R23=0,Q23,VLOOKUP(MATCH(R23,$D23:$K23,0),$U$17:$V$24,2,FALSE))","v":1000},null,8,1000]
[2,"> 10,000 to 15,000","Any",{"$f":"VLOOKUP($C$3,CrematoryMoreThan12,11,FALSE)","v":7.57},{"$f":"VLOOKUP($C$3,CrematoryMoreThan12,12,FALSE)","v":2.1800000000000002},{"$f":"VLOOKUP($C$3,CrematoryMoreThan12,13,FALSE)","v":1.27},{"$f":"VLOOKUP($C$3,CrematoryMoreThan12,14,FALSE)","v":0.85},{"$f":"VLOOKUP($C$3,CrematoryMoreThan12,15,FALSE)","v":0.28000000000000003},{"$f":"VLOOKUP($C$3,CrematoryMoreThan12,16,FALSE)","v":0.12},{"$f":"VLOOKUP($C$3,CrematoryMoreThan12,17,FALSE)","v":7.0000000000000007E-2},{"$f":"VLOOKUP($C$3,CrematoryMoreThan12,18,FALSE)","v":0.04},null,null,null,null,{"$f":"INDEX($D24:$K24,1,MATCH($M$8,$D24:$K24,-1))","v":0.04},{"$f":"VLOOKUP(MATCH(P24,$D24:$K24,0),$U$16:$V$23,2,FALSE)","v":1000},{"$f":"INDEX($D24:$L24,1,1+MATCH($M$8,$D24:$L24,-1))","v":0},{"$f":"IF(R24=0,Q24,VLOOKUP(MATCH(R24,$D24:$K24,0),$U$17:$V$24,2,FALSE))","v":1000}]
[3,"> 15,000","Any",{"$f":"VLOOKUP($C$3,CrematoryMoreThan12,20,FALSE)","v":8.48},{"$f":"VLOOKUP($C$3,CrematoryMoreThan12,21,FALSE)","v":2.54},{"$f":"VLOOKUP($C$3,CrematoryMoreThan12,22,FALSE)","v":1.47},{"$f":"VLOOKUP($C$3,CrematoryMoreThan12,23,FALSE)","v":0.97},{"$f":"VLOOKUP($C$3,CrematoryMoreThan12,24,FALSE)","v":0.3},{"$f":"VLOOKUP($C$3,CrematoryMoreThan12,25,FALSE)","v":0.13},{"$f":"VLOOKUP($C$3,CrematoryMoreThan12,26,FALSE)","v":7.0000000000000007E-2},{"$f":"VLOOKUP($C$3,CrematoryMoreThan12,27,FALSE)","v":0.04},null,null,null,null,{"$f":"INDEX($D25:$K25,1,MATCH($M$8,$D25:$K25,-1))","v":0.04},{"$f":"VLOOKUP(MATCH(P25,$D25:$K25,0),$U$16:$V$23,2,FALSE)","v":1000},{"$f":"INDEX($D25:$L25,1,1+MATCH($M$8,$D25:$L25,-1))","v":0},{"$f":"IF(R25=0,Q25,VLOOKUP(MATCH(R25,$D25:$K25,0),$U$17:$V$24,2,FALSE))","v":1000}]
[]
[null,"Table 11.4 Dispersion Factors (X/Q) for Acute Hazard Index"]
[null,"All Operating Conditions X/Q Values [(µg/m³)/(lbs/hr)] "]
[null,"Source Dimensions",null,null,null,"Downwind Distance (meters)"]
["Row ","Area (ft2)","Height (ft)",25,50,75,100,200,300,500,1000]
[1,"≥ 5,000 to 10,000","Any",265,72.63,48.55,37.28,15.05,7.54,3.64,1.88]
[2,"> 10,000 to 15,000","Any",258.10000000000002,69.72,47.65,36.200000000000003,15.12,7.57,3.64,1.88]
[3,"> 15,000","Any",230.5,71.3,49.3,37.130000000000003,14.98,7.49,3.64,1.88]
[null,"*Note: Facilities with building dimensions outside the ranges here must perform Tier 3 or 4 dispersion modeling"]

{"sheet":"Crematory data","index":12,"n_rows":58,"n_cols":27,"rows_kept":58,"cut":false,"hidden":true,"merged":[[32,19,32,26],[1,19,1,26],[31,19,31,26],[32,1,32,8],[32,10,32,17],[2,19,2,26],[2,1,2,8],[2,10,2,17]]}
["Table 11A Dispersion Factors (X/Q) for Crematory Operating 12 Hours per Day or Less"]
["Units are in (ug/m3)/(tons/yr)","Building Area ≥ 5,000 to ≤ 10,000 ft2",null,null,null,null,null,null,null,null,"Building Area > 10,000 to ≤ 15,000 ft2",null,null,null,null,null,null,null,null,"Building Area > 15,000 ft2"]
[null,"Downwind Distance (meters)",null,null,null,null,null,null,null,null,"Downwind Distance (meters)",null,null,null,null,null,null,null,null,"Downwind Distance (meters)"]
["Location","25","50","75","100","200","300","500",1000,null,"25","50","75","100","200","300","500",1000,null,"25","50","75","100","200","300","500",1000]
["Azusa",5.19,2.52,1.65,1.1100000000000001,0.28000000000000003,0.11,0.04,0.01,null,7.34,2.79,1.81,1.21,0.31,0.11,0.04,0.01,null,8.67,3,1.9,1.27,0.31,0.12,0.04,0.01]
["Banning",16.829999999999998,4.62,2.67,1.75,0.48,0.19,7.0000000000000007E-2,0.02,null,19.940000000000001,4.8600000000000003,2.82,1.84,0.51,0.2,7.0000000000000007E-2,0.02,null,19.23,4.9400000000000004,2.87,1.88,0.52,0.2,7.0000000000000007E-2,0.02]
["Central L.A.",8,2.76,1.7,1.1000000000000001,0.28000000000000003,0.11,0.04,0.01,null,10.43,3.01,1.86,1.2,0.3,0.11,0.04,0.01,null,11.56,3.23,1.96,1.27,0.31,0.11,0.04,0.01]
["Lake Elsinore",3.29,1.56,1.0900000000000001,0.77,0.22,0.09,0.03,0.01,null,4.53,1.73,1.18,0.82,0.23,0.09,0.03,0.01,null,5.14,1.82,1.22,0.84,0.23,0.09,0.03,0.01]
["Fontana",10.51,3.28,2.09,1.4,0.38,0.15,0.06,0.01,null,12.5,3.61,2.2599999999999998,1.51,0.4,0.16,0.06,0.01,null,13.06,3.8,2.34,1.56,0.41,0.16,0.06,0.01]
["Mission Viejo",4.09,2.0099999999999998,1.35,0.91,0.24,0.1,0.04,0.01,null,6.07,2.2200000000000002,1.48,0.99,0.25,0.1,0.04,0.01,null,7.37,2.36,1.54,1.03,0.26,0.1,0.04,0.01]
["Perris",7.5,2.2799999999999998,1.47,1.02,0.3,0.12,0.05,0.01,null,8.3000000000000007,2.5,1.58,1.08,0.31,0.13,0.05,0.01,null,8.5299999999999994,2.58,1.62,1.1100000000000001,0.32,0.13,0.05,0.01]
["Pico Rivera",9.36,3.09,1.93,1.28,0.33,0.13,0.05,0.01,null,11.92,3.44,2.11,1.39,0.35,0.13,0.05,0.01,null,12.97,3.63,2.2000000000000002,1.44,0.36,0.14000000000000001,0.05,0.01]
["Redlands",4.8499999999999996,2.5099999999999998,1.65,1.1000000000000001,0.28000000000000003,0.12,0.04,0.01,null,7.22,2.74,1.8,1.21,0.31,0.12,0.04,0.01,null,8.51,2.95,1.88,1.26,0.32,0.12,0.04,0.01]
["Upland",9.11,3.33,2.17,1.47,0.39,0.16,0.06,0.02,null,12.04,3.67,2.36,1.6,0.42,0.16,0.06,0.02,null,13.29,3.96,2.4700000000000002,1.66,0.43,0.16,0.06,0.02]
["Burbank Airport",11.72,3.97,2.44,1.65,0.45,0.19,7.0000000000000007E-2,0.02,null,16.96,4.32,2.64,1.77,0.49,0.19,7.0000000000000007E-2,0.02,null,17.29,4.6399999999999997,2.74,1.84,0.5,0.19,7.0000000000000007E-2,0.02]
["Chino Airport.",13.44,3.8,2.31,1.56,0.45,0.19,7.0000000000000007E-2,0.02,null,14.75,4.04,2.44,1.63,0.47,0.19,7.0000000000000007E-2,0.02,null,14.78,4.1900000000000004,2.5099999999999998,1.68,0.48,0.19,7.0000000000000007E-2,0.02]
["USC/Downtown L.A.",4.2,2.5,1.74,1.23,0.33,0.13,0.05,0.01,null,7.22,2.82,1.93,1.35,0.37,0.14000000000000001,0.05,0.01,null,8.7100000000000009,3.13,2.06,1.43,0.38,0.14000000000000001,0.05,0.01]
["Fullerton Airport",10.9,3.23,2.1,1.44,0.41,0.16,0.06,0.02,null,12.79,3.64,2.31,1.57,0.43,0.16,0.06,0.02,null,13.56,3.85,2.41,1.63,0.44,0.17,0.06,0.02]
["Hawthorne Airport",20.21,5.26,3.11,2.0499999999999998,0.54,0.21,0.08,0.02,null,22.42,5.47,3.26,2.15,0.57999999999999996,0.22,0.08,0.02,null,21.59,5.56,3.31,2.19,0.59,0.22,0.08,0.02]
["Los Angeles Int'l Airport",23.17,6.76,4.09,2.76,0.78,0.31,0.11,0.03,null,26.64,6.87,4.16,2.82,0.82,0.32,0.11,0.03,null,24.86,6.91,4.18,2.84,0.83,0.32,0.11,0.03]
["Long Beach Airport",10.44,3.26,2.09,1.46,0.42,0.17,0.06,0.02,null,13.42,3.59,2.2400000000000002,1.55,0.45,0.18,0.06,0.02,null,13.82,3.82,2.34,1.6,0.46,0.18,0.06,0.02]
["Ontario Airport",16.09,4.4800000000000004,2.79,1.9,0.55000000000000004,0.23,0.08,0.02,null,17.190000000000001,4.83,2.96,2.0099999999999998,0.57999999999999996,0.23,0.08,0.02,null,17.3,5.0599999999999996,3.05,2.0699999999999998,0.59,0.23,0.08,0.02]
["Palm Springs Airport",6.54,2.21,1.48,1.03,0.3,0.12,0.04,0.01,null,8.14,2.4900000000000002,1.62,1.1200000000000001,0.32,0.13,0.04,0.01,null,9.02,2.7,1.71,1.17,0.32,0.13,0.04,0.01]
["Riverside Airport",9.82,3.77,2.42,1.67,0.46,0.19,7.0000000000000007E-2,0.02,null,14.72,4.09,2.6,1.79,0.51,0.2,7.0000000000000007E-2,0.02,null,15.2,4.34,2.72,1.86,0.52,0.2,7.0000000000000007E-2,0.02]
["Santa Monica Airport",21.67,5.38,3.3,2.2400000000000002,0.63,0.25,0.09,0.02,null,22.24,5.82,3.53,2.37,0.66,0.25,0.09,0.02,null,21.6,5.95,3.6,2.42,0.66,0.25,0.09,0.02]
["John Wayne Int'l Airport",19.13,4.92,2.94,1.99,0.56999999999999995,0.23,0.08,0.02,null,19.670000000000002,5.33,3.16,2.1,0.59,0.24,0.08,0.02,null,19.38,5.47,3.24,2.16,0.6,0.24,0.08,0.02]
["Desert Hot Springs Airport",10.73,3.11,2.0499999999999998,1.48,0.46,0.19,7.0000000000000007E-2,0.02,null,11.49,3.51,2.2400000000000002,1.58,0.48,0.19,7.0000000000000007E-2,0.02,null,11.69,3.66,2.3199999999999998,1.62,0.48,0.19,7.0000000000000007E-2,0.02]
["Van Nuys Airport",11.52,3.27,2.0299999999999998,1.37,0.39,0.16,0.06,0.01,null,12.48,3.59,2.2000000000000002,1.48,0.41,0.16,0.06,0.01,null,12.72,3.75,2.27,1.52,0.41,0.16,0.06,0.01]
[]
[]
["Table 11B Dispersion Factors (X/Q) for Crematory Operating More than 12 Hours per Day "]
["Units are in (ug/m3)/(tons/yr)","Building Area ≥ 5,000 to 10,000 ft2",null,null,null,null,null,null,null,null,"Building Area > 10,000 to 15,000 ft2",null,null,null,null,null,null,null,null,"Building Area > 15,000 ft2"]
[null,"Downwind Distance (meters)",null,null,null,null,null,null,null,null,"Downwind Distance (meters)",null,null,null,null,null,null,null,null,"Downwind Distance (meters)"]
["Location","25","50","75","100","200","300","500",1000,null,"25","50","75","100","200","300","500",1000,null,"25","50","75","100","200","300","500",1000]
["Azusa",2.76,1.1499999999999999,0.78,0.56000000000000005,0.21,0.11,0.08,0.04,null,4.45,1.46,0.95,0.67,0.24,0.12,0.08,0.04,null,5.71,1.78,1.1100000000000001,0.77,0.26,0.12,0.08,0.04]
["Banning",14.53,4.2699999999999996,2.4,1.63,0.68,0.37,0.21,0.09,null,20.309999999999999,5.25,2.99,1.99,0.77,0.39,0.21,0.09,null,20.89,5.96,3.43,2.2799999999999998,0.82,0.4,0.21,0.09]
["Central L.A.",3.89,1.25,0.81,0.56000000000000005,0.2,0.11,7.0000000000000007E-2,0.04,null,5.6,1.49,0.94,0.65,0.22,0.11,7.0000000000000007E-2,0.04,null,6.81,1.79,1.08,0.74,0.25,0.12,7.0000000000000007E-2,0.04]
["Lake Elsinore",1.74,0.71,0.5,0.36,0.13,7.0000000000000007E-2,0.06,0.04,null,2.6,0.9,0.59,0.42,0.14000000000000001,7.0000000000000007E-2,0.06,0.04,null,3.08,1.02,0.66,0.46,0.15,7.0000000000000007E-2,0.06,0.04]
["Fontana",6.91,1.89,1.18,0.82,0.31,0.17,0.11,0.05,null,8.86,2.48,1.49,1.02,0.36,0.18,0.11,0.05,null,9.69,2.91,1.72,1.17,0.39,0.18,0.11,0.05]
["Mission Viejo",1.75,0.82,0.56000000000000005,0.39,0.12,7.0000000000000007E-2,0.06,0.03,null,2.88,0.99,0.65,0.44,0.14000000000000001,7.0000000000000007E-2,0.06,0.03,null,3.7,1.1399999999999999,0.72,0.49,0.15,7.0000000000000007E-2,0.06,0.03]
["Perris",4.6100000000000003,1.28,0.81,0.56999999999999995,0.22,0.12,0.08,0.04,null,5.5,1.63,0.99,0.69,0.25,0.12,0.08,0.04,null,5.91,1.84,1.1100000000000001,0.77,0.26,0.13,0.08,0.04]
["Pico Rivera",5.0199999999999996,1.47,0.91,0.63,0.23,0.13,0.08,0.04,null,7.17,1.96,1.1599999999999999,0.78,0.27,0.13,0.08,0.04,null,8.48,2.34,1.37,0.9,0.28999999999999998,0.13,0.08,0.04]
["Redlands",2.48,1.1499999999999999,0.76,0.53,0.19,0.11,0.09,7.0000000000000007E-2,null,4.32,1.39,0.9,0.62,0.22,0.11,0.09,7.0000000000000007E-2,null,5.36,1.68,1.03,0.71,0.24,0.12,0.09,7.0000000000000007E-2]
["Upland",5.32,1.67,1.0900000000000001,0.77,0.28999999999999998,0.15,0.1,0.06,null,7.5,2.12,1.32,0.92,0.33,0.16,0.1,0.06,null,8.65,2.5299999999999998,1.53,1.05,0.36,0.17,0.1,0.06]
["Burbank Airport",6.81,2.04,1.24,0.85,0.28999999999999998,0.15,0.09,0.04,null,10.27,2.5499999999999998,1.5,1.01,0.34,0.16,0.09,0.04,null,11.28,3.02,1.72,1.1599999999999999,0.37,0.16,0.09,0.04]
["Chino Airport.",9.83,2.66,1.59,1.08,0.38,0.19,0.11,0.05,null,11.48,3.09,1.83,1.25,0.43,0.2,0.11,0.05,null,12.16,3.5,2.0299999999999998,1.37,0.45,0.21,0.11,0.05]
["USC/Downtown L.A.",2.0099999999999998,1.0900000000000001,0.78,0.57999999999999996,0.22,0.12,0.09,0.05,null,4.25,1.41,0.96,0.69,0.27,0.13,0.09,0.05,null,5.75,1.82,1.1599999999999999,0.83,0.3,0.14000000000000001,0.09,0.05]
["Fullerton Airport",4.83,1.38,0.89,0.62,0.21,0.11,7.0000000000000007E-2,0.03,null,6.3,1.74,1.08,0.74,0.24,0.11,7.0000000000000007E-2,0.03,null,7.29,2.04,1.22,0.82,0.26,0.12,7.0000000000000007E-2,0.03]
["Hawthorne Airport",10.64,2.73,1.59,1.06,0.36,0.19,0.1,0.05,null,13.24,3.27,1.88,1.23,0.41,0.2,0.1,0.05,null,13.78,3.7,2.11,1.38,0.44,0.2,0.1,0.05]
["Los Angeles Int'l Airport",13.91,4.09,2.44,1.67,0.56999999999999995,0.27,0.15,0.06,null,17.190000000000001,4.62,2.77,1.89,0.64,0.28999999999999998,0.15,0.06,null,16.98,5.0199999999999996,3.02,2.0699999999999998,0.68,0.3,0.15,0.06]
["Long Beach Airport",7.01,1.84,1.1100000000000001,0.78,0.32,0.17,0.11,0.06,null,8.19,2.5099999999999998,1.51,1.04,0.39,0.18,0.11,0.06,null,8.89,2.91,1.76,1.22,0.43,0.18,0.11,0.06]
["Ontario Airport",12.91,3.47,2.09,1.44,0.54,0.27,0.16,7.0000000000000007E-2,null,14.46,4.24,2.56,1.77,0.63,0.28999999999999998,0.16,7.0000000000000007E-2,null,15.11,4.78,2.9,2,0.68,0.3,0.16,7.0000000000000007E-2]
["Palm Springs Airport",10.81,2.92,1.76,1.22,0.47,0.24,0.14000000000000001,0.06,null,11.68,3.62,2.1800000000000002,1.5,0.54,0.25,0.14000000000000001,0.06,null,11.9,3.94,2.41,1.66,0.57999999999999996,0.26,0.14000000000000001,0.06]
["Riverside Airport",6.02,2.2200000000000002,1.39,0.98,0.36,0.19,0.13,7.0000000000000007E-2,null,10.24,2.72,1.68,1.17,0.44,0.22,0.13,7.0000000000000007E-2,null,11.24,3.23,1.96,1.36,0.49,0.23,0.13,7.0000000000000007E-2]
["Santa Monica Airport",10.09,2.4900000000000002,1.52,1.06,0.36,0.17,0.09,0.04,null,11.4,3.09,1.85,1.26,0.41,0.18,0.09,0.04,null,11.83,3.45,2.06,1.4,0.44,0.18,0.09,0.04]
["John Wayne Int'l Airport",10.31,2.61,1.53,1.04,0.37,0.18,0.11,0.05,null,12.04,3.38,1.95,1.3,0.43,0.19,0.11,0.05,null,12.91,3.84,2.23,1.48,0.47,0.2,0.11,0.05]
["Desert Hot Springs Airport",9.94,2.8,1.73,1.21,0.49,0.26,0.16,0.08,null,11.48,3.51,2.14,1.49,0.56000000000000005,0.27,0.16,0.08,null,12.46,3.98,2.4300000000000002,1.69,0.61,0.28000000000000003,0.16,0.08]
["Van Nuys Airport",6.12,1.65,0.99,0.68,0.23,0.12,7.0000000000000007E-2,0.04,null,7.57,2.1800000000000002,1.27,0.85,0.28000000000000003,0.12,7.0000000000000007E-2,0.04,null,8.48,2.54,1.47,0.97,0.3,0.13,7.0000000000000007E-2,0.04]

{"sheet":"Spray Booth Data","index":13,"n_rows":29,"n_cols":18,"rows_kept":29,"cut":false,"hidden":true,"merged":[[2,1,2,8],[2,10,2,17]]}
["Table 13.1 -13.2 Dispersion Factors (X/Q) for Spray Booth Equipment Operating 12 Hours per Day or Less"]
["Units are in (ug/m3)/(tons/yr)","Stack Height  ≥ 16 ft to <24 ft*",null,null,null,null,null,null,null,null,"Stack Height  ≥ 24 ft to <50 ft*"]
[null,"Downwind Distance (meters)",null,null,null,null,null,null,null,null,"Downwind Distance (meters)"]
["Location","25","50","75","100","200","300","500",1000,null,"25","50","75","100","200","300","500",1000]
["Azusa",21.48,5.77,2.98,1.78,0.34,0.13,0.05,0.01,null,15.68,7.28,3.08,1.96,0.49,0.18,0.05,0.01]
["Banning",25.33,6.05,3.59,2.31,0.54,0.22,0.08,0.02,null,16.43,5.62,3.26,2.2000000000000002,0.65,0.27,0.08,0.02]
["Central L.A.",23.19,7.14,2.95,1.74,0.33,0.13,0.05,0.01,null,14.1,8.6,2.75,1.77,0.45,0.17,0.05,0.01]
["Lake Elsinore",11.82,5.62,2.23,1.34,0.28000000000000003,0.11,0.04,0.01,null,10.37,8.1199999999999992,2.31,1.46,0.37,0.14000000000000001,0.04,0.01]
["Fontana",23.99,6.78,3.45,2.13,0.44,0.18,0.06,0.01,null,16.71,9.18,3.27,2.14,0.56999999999999995,0.22,0.06,0.01]
["Mission Viejo",14.46,7.58,2.5,1.5,0.28999999999999998,0.12,0.04,0.01,null,11.34,8.6300000000000008,2.35,1.53,0.38,0.14000000000000001,0.04,0.01]
["Perris",10.89,6.11,2.36,1.48,0.35,0.15,0.05,0.01,null,8.52,6.81,2.1800000000000002,1.44,0.41,0.17,0.05,0.01]
["Pico Rivera",16.68,9.3000000000000007,3.07,1.84,0.38,0.15,0.05,0.01,null,12.3,10.41,2.83,1.81,0.48,0.18,0.05,0.01]
["Redlands",20.78,5.75,3,1.81,0.35,0.14000000000000001,0.05,0.01,null,16.48,6.82,3.18,2.02,0.5,0.18,0.05,0.01]
["Upland",27.3,7.04,3.69,2.27,0.46,0.18,7.0000000000000007E-2,0.02,null,17.77,8.64,3.53,2.31,0.62,0.23,7.0000000000000007E-2,0.02]
["Burbank Airport",14.62,8.84,3.44,2.14,0.49,0.21,7.0000000000000007E-2,0.02,null,11.88,10.42,3.12,2.04,0.56000000000000005,0.23,7.0000000000000007E-2,0.02]
["Chino Airport.",22.53,5.96,3.49,2.25,0.54,0.22,7.0000000000000007E-2,0.02,null,15.61,5.77,3.15,2.13,0.63,0.26,0.08,0.02]
["USC/Downtown L.A.",23.02,6.43,3.51,2.15,0.42,0.16,0.06,0.01,null,16.41,7.29,3.44,2.23,0.56999999999999995,0.21,0.06,0.01]
["Fullerton Airport",15.58,9.4499999999999993,3.26,2.02,0.44,0.18,7.0000000000000007E-2,0.02,null,12.13,11.23,3.02,2,0.56000000000000005,0.22,7.0000000000000007E-2,0.02]
["Hawthorne Airport",32.270000000000003,7.25,4.22,2.68,0.59,0.23,0.08,0.02,null,20.76,6.85,3.96,2.65,0.78,0.31,0.09,0.02]
["Los Angeles Int'l Airport",34.880000000000003,8.3699999999999992,5.14,3.37,0.83,0.34,0.12,0.03,null,22.81,7.3,4.6399999999999997,3.22,1.03,0.43,0.12,0.03]
["Long Beach Airport",11.54,7.02,2.98,1.9,0.47,0.2,7.0000000000000007E-2,0.02,null,9.19,8.4,2.67,1.79,0.52,0.21,7.0000000000000007E-2,0.02]
["Ontario Airport",27.28,7.64,4.24,2.72,0.65,0.26,0.09,0.02,null,18.510000000000002,8.4600000000000009,3.8,2.57,0.76,0.31,0.09,0.02]
["Palm Springs Airport",17.43,4.66,2.62,1.65,0.36,0.14000000000000001,0.05,0.01,null,12.03,5.4,2.39,1.59,0.44,0.17,0.05,0.01]
["Riverside Airport",25.4,6.5,3.94,2.5099999999999998,0.56000000000000005,0.22,0.08,0.02,null,18.010000000000002,6.03,3.73,2.5,0.7,0.28000000000000003,0.08,0.02]
["Santa Monica Airport",28.07,8.6999999999999993,4.4800000000000004,2.84,0.66,0.27,0.1,0.02,null,18.309999999999999,14.28,4.13,2.79,0.84,0.33,0.1,0.02]
["John Wayne Int'l Airport",22.94,8.73,4.07,2.59,0.63,0.26,0.09,0.02,null,15.86,12.66,3.68,2.46,0.73,0.3,0.09,0.02]
["Desert Hot Springs Airport",14.92,6.24,3.14,2.04,0.52,0.22,0.08,0.02,null,10.55,9.4,2.82,1.94,0.6,0.25,0.08,0.02]
["Van Nuys Airport",14.36,7.45,2.98,1.87,0.43,0.18,0.06,0.01,null,10.89,9.7100000000000009,2.72,1.8,0.51,0.2,0.06,0.01]
["*Note: Facilities with stack heights of  less than 16 feet or more than 50 feet must perform Tier 3 or Tier 4 dispersion modeling"]

{"sheet":"LeanBurnICE","index":14,"n_rows":51,"n_cols":16,"rows_kept":51,"cut":false,"hidden":false,"merged":[[15,13,15,14],[15,5,16,5],[15,6,16,6],[15,7,15,8],[15,1,16,1],[15,2,16,2],[15,3,16,3],[15,4,16,4]]}
[]
[null,null,"LEAN BURN ENGINE DATA",{"$f":"Intro!A39 & \" - \" &Intro!A38","v":"\n(Procedure Version 8.1 & Package N, September 1, 2017 ) - Risk Tool V1.105"},null,null,null,null,{"$f":"'Tier 1 Report'!C8","v":"A/N 622795 (96, 97), Spear's Manufacturing Co."}]
[]
[null,null,"Engine Horse Power",51,"bhp"]
[null,null,"Equipment with SNCR, SCR, or OTHER","OTHER"]
[" ",null,"Engine efficiency (37% default)",0.37]
[null,null,"Fuel rate for nat gas (actual if available)",0]
[null,null,"HHV-Natural gas",1050,"btu/ft³"]
[null,null,"Conversion factor to btu/hr",2544.5,"btu/hr"]
[null,null,{"$f":"IF(D7=0,\"Fuel rate nat gas (default)\",\"Fuel rate nat gas (actual)\")","v":"Fuel rate nat gas (default)"},{"$f":"IF(D7=0,(D4*D9/D8)/D6,D7)","v":334.02702702702703},"ft³/hr"]
[]
[null,null,"Pollutant","Control Efficiency"]
[null,null,"PAHs",0.97699999999999998]
[null,null,"VOCs",0.97699999999999998]
[]
[null,"Code","Compound","EF\n (lbs/mmbtu)","EF \n(lbs/mmcf)","R1 (Uncontrolled) \n(lbs/hr)","R2 (Controlled)\n(lbs/hr)","NSR Data Entry (E-06 lbs/hr)",null,null,null,null,null,"Lean Burn",null,"Rich Burn"]
[null,null,null,null,null,null,null,"R1\n (Uncontrolled) ","R2\n (Controlled)",null,"CODE","CAS #","COMPOUND","EF 2-STROKE (lbs/mmcf)","EF 4-STROKE (lbs/mmcf)","EF 4-STROKE RICHBURN (lbs/mmcf)"]
[1,"B1",{"$f":"VLOOKUP(B18,TAClist,2,FALSE)","v":"Benzene"},{"$f":"E18/$D$8","v":4.2761904761904761E-4},{"$f":"VLOOKUP(B18,$K$18:$P$44,5,FALSE)","v":0.44900000000000001},{"$f":"E18*$D$10/1000000","v":1.4997813513513514E-4},{"$f":"F18*(1-$D$14)","v":3.4494971081081113E-6},{"$f":"F18*1000000","v":149.97813513513515},{"$f":"G18*1000000","v":3.4494971081081114},null,"B1","71-43-2","Benzene",1.98,0.44900000000000001,1.61]
[2,"B12",{"$f":"VLOOKUP(B19,TAClist,2,FALSE)","v":"1,3-Butadiene"},2.5904761904761909E-4,{"$f":"VLOOKUP(B19,$K$18:$P$44,5,FALSE)","v":0.27200000000000002},{"$f":"E19*$D$10/1000000","v":9.0855351351351357E-5},{"$f":"F19*(1-$D$14)","v":2.0896730810810832E-6},{"$f":"F19*1000000","v":90.855351351351359},2.0896730810810831,null,"B12","106-99-0","1,3-Butadiene",0.83599999999999997,0.27200000000000002,0.67600000000000005]
[3,"C5","Carbon Tetrachloride  (Tetrachloromethane)",3.561904761904762E-5,3.7400000000000003E-2,{"$f":"E20*$D$10/1000000","v":1.2492610810810812E-5},2.8733004864864892E-7,12.492610810810811,0.28733004864864892,null,"C5","56-23-5","Carbon Tetrachloride (Tetrachloromethane)",6.1899999999999997E-2,3.7400000000000003E-2,1.8100000000000002E-2]
[4,"E5","Ethylene Dibromide  (1,2-Dibromoethane)",4.3047619047619043E-5,4.5199999999999997E-2,1.5098021621621621E-5,3.472544972972976E-7,15.098021621621621,0.34725449729729763,null,"E5","106-93-4","Ethylene Dibromide (1,2-Dibromoethane)",7.4899999999999994E-2,4.5199999999999997E-2,2.1700000000000001E-2]
[5,"E6","Ethylene Dichloride  (1,2-Dichloroethane)",2.2952380952380952E-5,2.41E-2,8.0500513513513506E-6,1.8515118108108123E-7,8.0500513513513514,0.18515118108108122,null,"E6","107-06-2","Ethylene Dichloride (1,2-Dichloroethane)",4.2999999999999997E-2,2.41E-2,1.15E-2]
[6,"F2","Formaldehyde",5.1333333333333335E-2,53.9,1.8004056756756755E-2,4.1409330540540575E-4,18004.056756756756,414.09330540540577,null,"F2","50-00-0","Formaldehyde",56.3,53.9,20.9]
[7,"M13","Methylene Chloride  (Dichloromethane)",1.942857142857143E-5,2.0400000000000001E-2,6.814151351351352E-6,1.5672548108108124E-7,6.8141513513513523,0.15672548108108125,null,"M13","75-09-2","Methylene Chloride (Dichloromethane)",0.15,2.0400000000000001E-2,4.2000000000000003E-2]
[8,"P42","Benz(a)Anthracene",0,0,0,0,0,0,null,"P42","56-55-3","Benz(a)Anthracene",3.4299999999999999E-4,0,0]
[9,"P43","Benzo(a)Pyrene",0,0,0,0,0,0,null,"P43","50-32-8","Benzo(a)Pyrene",5.7899999999999996E-6,0,0]
[10,"P44","Benzo(b)Fluoranthene",1.6095238095238095E-7,1.6899999999999999E-4,5.645056756756756E-8,1.298363054054055E-9,5.6450567567567562E-2,1.2983630540540549E-3,null,"P44","205-99-2","Benzo(b)Fluoranthene",8.6799999999999999E-6,1.6899999999999999E-4,0]
[11,"P46","Benzo(k)Fluoranthene",0,0,0,0,0,0,null,"P46","207-08-9","Benzo(k)Fluoranthene",5.7899999999999996E-6,0,0]
[12,"P47","Chrysene",6.7333333333333327E-7,7.0699999999999995E-4,2.361571081081081E-7,5.4316134864864913E-9,0.23615710810810808,5.4316134864864909E-3,null,"P47","218-01-9","Chrysene",6.8499999999999995E-4,7.0699999999999995E-4,0]
[13,"P59","Indeno(1,2,3-c,d)Pyrene",0,0,0,0,0,0,null,"P59","193-39-5","Indeno(1,2,3-c,d)Pyrene",1.01E-5,0,0]
[14,"P62","Naphthalene",7.2285714285714279E-5,7.5899999999999995E-2,2.5352651351351352E-5,5.8311098108108159E-7,25.352651351351351,0.58311098108108161,null,"P62","91-20-3","Naphthalene",9.8229999999999998E-2,7.5899999999999995E-2,9.9000000000000005E-2]
[15,"V4","Vinyl Chloride  (Chloroethylene)",1.4476190476190476E-5,1.52E-2,5.0772108108108107E-6,1.1677584864864876E-7,5.0772108108108105,0.11677584864864876,null,"V4","75-01-4","Vinyl Chloride (Chloroethylene)",2.52E-2,1.52E-2,7.3200000000000001E-3]
[16,"T1","1,1,2,2-Tetrachloroethane",3.8857142857142861E-5,4.0800000000000003E-2,1.3628302702702704E-5,3.1345096216216249E-7,13.628302702702705,0.31345096216216251,null,"T1","79-34-5","1,1,2,2-Tetrachloroethane",6.7599999999999993E-2,4.0800000000000003E-2,2.58E-2]
[17,"T7","1,1,2-Trichloroethane (Vinyl Trichloride)",3.0857142857142856E-5,3.2399999999999998E-2,1.0822475675675675E-5,2.4891694054054074E-7,10.822475675675674,0.24891694054054075,null,"T7","79-00-5","1,1,2-Trichloroethane (Vinyl Trichloride)",5.3800000000000001E-2,3.2399999999999998E-2,1.5599999999999999E-2]
[18,"A1","Acetaldehyde",8.1238095238095227E-3,8.5299999999999994,2.8492505405405405E-3,6.5532762432432491E-5,2849.2505405405404,65.532762432432492,null,"A1","75-07-0","Acetaldehyde",7.92,8.5299999999999994,2.85]
[19,"A3","Acrolein",4.990476190476191E-3,5.24,1.7503016216216217E-3,4.0256937297297335E-5,1750.3016216216217,40.256937297297334,null,"A3","107-02-8","Acrolein",7.94,5.24,2.68]
[20,"A9","Ammonia",3.0476190476190477E-3,3.2,1.0688864864864865E-3,2.4584389189189211E-5,1068.8864864864865,24.58438918918921,null,"A9","7664-41-7","Ammonia",{"$f":"VLOOKUP($D$5,$K$48:$L$50,2,FALSE)","v":3.2},{"$f":"VLOOKUP($D$5,$K$48:$L$50,2,FALSE)","v":3.2},{"$f":"VLOOKUP($D$5,$K$48:$L$50,2,FALSE)","v":3.2}]
[21,"C11","Chloroform",2.7714285714285716E-5,2.9100000000000001E-2,9.7201864864864875E-6,2.2356428918918941E-7,9.7201864864864866,0.22356428918918941,null,"C11","67-66-3","Chloroform",4.8000000000000001E-2,2.9100000000000001E-2,1.4E-2]
[22,"E3","Ethyl Benzene",3.857142857142857E-5,4.0500000000000001E-2,1.3528094594594595E-5,3.1114617567567598E-7,13.528094594594595,0.31114617567567598,null,"E3","100-41-4","Ethyl Benzene",0.11,4.0500000000000001E-2,2.53E-2]
[23,"H6","n-Hexane",1.076190476190476E-3,1.1299999999999999,3.7745054054054048E-4,{"$f":"F40*(1-$D$14)","v":8.6813624324324396E-6},{"$f":"G40*1000000","v":8.6813624324324401},8681362.4324324392,null,"H6","110-54-3","n-Hexane",0.45400000000000001,1.1299999999999999,0]
[24,"M5","Methanol",2.4285714285714284E-3,2.5499999999999998,8.5176891891891886E-4,1.9590685135135149E-5,19.59068513513515,19590685.135135151,null,"M5","67-56-1","Methanol",2.5299999999999998,2.5499999999999998,3.12]
[25,"S6","Styrene",2.2952380952380952E-5,2.41E-2,8.0500513513513506E-6,1.8515118108108123E-7,0.18515118108108122,185151.18108108122,null,"S6","100-42-5","Styrene",5.5899999999999998E-2,2.41E-2,1.21E-2]
[26,"T3","Toluene",3.961904761904762E-4,0.41599999999999998,1.3895524324324324E-4,3.1959705945945975E-6,3.1959705945945975,3195970.5945945974,null,"T3","108-88-3","Toluene",0.98199999999999998,0.41599999999999998,0.56899999999999995]
[27,"X1","Xylenes (Mixed Isomers)",1.7904761904761904E-4,0.188,6.2797081081081087E-5,1.4443328648648662E-6,1.4443328648648663,1444332.8648648662,null,"X1","1330-20-7","Xylenes (Mixed Isomers)",0.27300000000000002,0.188,0.19900000000000001]
[null,null,null,null,null,null,null,0,0,null,"* Data from AB2588 Reporting Procedure - Dec 2014"]
[null,null,null,null,null,null,null,0,0]
[null,null,null,null,null,null,null,0,0,null,"Control","Ammonia EF (lb/mmcf)"]
[null,null,null,null,null,null,null,0,0,null,"SNCR",18]
[null,null,null,null,null,null,null,0,0,null,"SCR",9.1]
[null,null,null,null,null,null,null,null,null,null,"OTHER",3.2]
[null,null,null,null,null,null,null,null,null,null,"* Select \"OTHER\" when there is no control or when the control type is not SNCR or SCR"]

{"sheet":"RichBurnICE","index":15,"n_rows":52,"n_cols":16,"rows_kept":52,"cut":false,"hidden":false,"merged":[[16,13,16,14],[16,3,17,3],[16,2,17,2],[16,1,17,1],[16,7,16,8],[16,6,17,6],[16,5,17,5],[16,4,17,4]]}
[]
[null,null,"RICH BURN ENGINE DATA",{"$f":"Intro!A39 & \" - \" &Intro!A38","v":"\n(Procedure Version 8.1 & Package N, September 1, 2017 ) - Risk Tool V1.105"},null,null,null,null,{"$f":"'Tier 1 Report'!C8","v":"A/N 622795 (96, 97), Spear's Manufacturing Co."}]
[]
[null,null,"Engine Horse Power",51,"bhp"]
[null,null,"Equipment with SNCR, SCR, or OTHER","SNCR"]
[null,null,"Engine efficiency (33% default)",0.33]
[null,null,"Fuel rate nat gas (actual if available)",100]
[null,null,"HHV-Natural gas",1050,"btu/ft³"]
[null,null,"Conversion factor to btu/hr",2542.4699999999998,"btu/hr-hp"]
[null,null,{"$f":"IF(D7=0,\"Fuel rate nat gas (default)\",\"Fuel rate nat gas (actual)\")","v":"Fuel rate nat gas (actual)"},{"$f":"IF(D7=0,(D4*D9/D8)/D6,D7)","v":100},"ft³/hr"]
[]
[null,null,"Pollutant","Control Efficiency"]
[null,null,"PAHs",0.97699999999999998]
[null,null,"VOCs",0.97699999999999998]
[]
[]
[null,"Code","Compound","EF\n (lb/mmbtu)","EF \n(lb/mmcf)","R1 (Uncontrolled) (lbs/hr)","R2 (Controlled)\n(lbs/hr)","Toxic NSR Entry (E-06 lbs/hr)",null,null,null,null,null,"Lean Burn",null,"Rich Burn"]
[null,null,null,null,null,null,null,"R1\n (Uncontrolled) ","R2 \n(Controlled)",null,"CODE","CAS #","COMPOUND","EF 2-STROKE (lbs/mmcf)","EF 4-STROKE (lbs/mmcf)","EF 4-STROKE RICHBURN (lbs/mmcf)"]
[1,"B1",{"$f":"VLOOKUP(B19,TAClist,2,FALSE)","v":"Benzene"},{"$f":"E19/$D$8","v":1.5333333333333334E-3},{"$f":"VLOOKUP(B19,$K$19:$P$45,6,FALSE)","v":1.61},{"$f":"E19*$D$10/1000000","v":1.6100000000000001E-4},{"$f":"F19*(1-$D$14)","v":3.7030000000000033E-6},{"$f":"F19*1000000","v":161},{"$f":"G19*1000000","v":3.7030000000000034},null,"B1","71-43-2","Benzene",1.98,0.44900000000000001,1.61]
[2,"B12","1,3-Butadiene",6.4380952380952382E-4,{"$f":"VLOOKUP(B20,$K$19:$P$45,6,FALSE)","v":0.67600000000000005},{"$f":"E20*$D$10/1000000","v":6.7600000000000003E-5},{"$f":"F20*(1-$D$14)","v":1.5548000000000014E-6},{"$f":"F20*1000000","v":67.600000000000009},{"$f":"G20*1000000","v":1.5548000000000013},null,"B12","106-99-0","1,3-Butadiene",0.83599999999999997,0.27200000000000002,0.67600000000000005]
[3,"C5","Carbon Tetrachloride  (Tetrachloromethane)",1.7238095238095239E-5,1.8100000000000002E-2,1.81E-6,4.1630000000000036E-8,1.81,4.1630000000000035E-2,null,"C5","56-23-5","Carbon Tetrachloride (Tetrachloromethane)",6.1899999999999997E-2,3.7400000000000003E-2,1.8100000000000002E-2]
[4,"E5","Ethylene Dibromide  (1,2-Dibromoethane)",2.0666666666666666E-5,2.1700000000000001E-2,2.17E-6,4.9910000000000041E-8,2.17,4.9910000000000045E-2,null,"E5","106-93-4","Ethylene Dibromide (1,2-Dibromoethane)",7.4899999999999994E-2,4.5199999999999997E-2,2.1700000000000001E-2]
[5,"E6","Ethylene Dichloride  (1,2-Dichloroethane)",1.0952380952380953E-5,1.15E-2,1.15E-6,2.6450000000000025E-8,1.1499999999999999,2.6450000000000026E-2,null,"E6","107-06-2","Ethylene Dichloride (1,2-Dichloroethane)",4.2999999999999997E-2,2.41E-2,1.15E-2]
[6,"F2","Formaldehyde",1.9904761904761904E-2,20.9,2.0899999999999998E-3,4.807000000000004E-5,2090,48.070000000000043,null,"F2","50-00-0","Formaldehyde",56.3,53.9,20.9]
[7,"M13","Methylene Chloride  (Dichloromethane)",4.0000000000000003E-5,4.2000000000000003E-2,4.2000000000000004E-6,9.6600000000000097E-8,4.2,9.6600000000000102E-2,null,"M13","75-09-2","Methylene Chloride (Dichloromethane)",0.15,2.0400000000000001E-2,4.2000000000000003E-2]
[8,"P42","Benz(a)Anthracene",0,0,0,0,0,0,null,"P42","56-55-3","Benz(a)Anthracene",3.4299999999999999E-4,0,0]
[9,"P43","Benzo(a)Pyrene",0,0,0,0,0,0,null,"P43","50-32-8","Benzo(a)Pyrene",5.7899999999999996E-6,0,0]
[10,"P44","Benzo(b)Fluoranthene",0,0,0,0,0,0,null,"P44","205-99-2","Benzo(b)Fluoranthene",8.6799999999999999E-6,1.6899999999999999E-4,0]
[11,"P46","Benzo(k)Fluoranthene",0,0,0,0,0,0,null,"P46","207-08-9","Benzo(k)Fluoranthene",5.7899999999999996E-6,0,0]
[12,"P47","Chrysene",0,0,0,0,0,0,null,"P47","218-01-9","Chrysene",6.8499999999999995E-4,7.0699999999999995E-4,0]
[13,"P59","Indeno(1,2,3-c,d)Pyrene",0,0,0,0,0,0,null,"P59","193-39-5","Indeno(1,2,3-c,d)Pyrene",1.01E-5,0,0]
[14,"P62","Naphthalene",9.4285714285714285E-5,9.9000000000000005E-2,9.9000000000000001E-6,2.2770000000000019E-7,9.9,0.22770000000000018,null,"P62","91-20-3","Naphthalene",9.8229999999999998E-2,7.5899999999999995E-2,9.9000000000000005E-2]
[15,"V4","Vinyl Chloride  (Chloroethylene)",6.9714285714285718E-6,7.3200000000000001E-3,7.3199999999999994E-7,1.6836000000000013E-8,0.73199999999999998,1.6836000000000014E-2,null,"V4","75-01-4","Vinyl Chloride  (Chloroethylene)",2.52E-2,1.52E-2,7.3200000000000001E-3]
[16,"T1","1,1,2,2-Tetrachloroethane",2.4571428571428572E-5,2.58E-2,2.5799999999999999E-6,5.9340000000000047E-8,2.58,5.9340000000000045E-2,null,"T1","79-34-5","1,1,2,2-Tetrachloroethane",6.7599999999999993E-2,4.0800000000000003E-2,2.58E-2]
[17,"T7","1,1,2-Trichloroethane (Vinyl Trichloride)",1.4857142857142857E-5,1.5599999999999999E-2,1.5599999999999999E-6,3.5880000000000027E-8,1.5599999999999998,3.588000000000003E-2,null,"T7","79-00-5","1,1,2-Trichloroethane (Vinyl Trichloride)",5.3800000000000001E-2,3.2399999999999998E-2,1.5599999999999999E-2]
[18,"A1","Acetaldehyde",2.7142857142857142E-3,2.85,2.8499999999999999E-4,6.5550000000000058E-6,285,6.5550000000000059,null,"A1","75-07-0","Acetaldehyde",7.92,8.5299999999999994,2.85]
[19,"A3","Acrolein",2.5523809523809527E-3,2.68,2.6800000000000001E-4,6.1640000000000057E-6,268,6.1640000000000059,null,"A3","107-02-8","Acrolein",7.94,5.24,2.68]
[20,"A9","Ammonia",1.7142857142857144E-2,18,1.8E-3,{"$f":"F38*(1-$D$14)","v":4.1400000000000037E-5},1800,41.400000000000034,null,"A9","7664-41-7","Ammonia",{"$f":"VLOOKUP($D$5,$K$49:$L$51,2,FALSE)","v":18},{"$f":"VLOOKUP($D$5,$K$49:$L$51,2,FALSE)","v":18},{"$f":"VLOOKUP($D$5,$K$49:$L$51,2,FALSE)","v":18}]
[21,"C11","Chloroform",1.3333333333333333E-5,1.4E-2,1.4000000000000001E-6,3.220000000000003E-8,1.4000000000000001,3.2200000000000027E-2,null,"C11","67-66-3","Chloroform",4.8000000000000001E-2,2.9100000000000001E-2,1.4E-2]
[22,"E3","Ethyl Benzene",2.4095238095238094E-5,2.53E-2,2.5299999999999999E-6,5.8190000000000047E-8,2.5299999999999998,5.8190000000000047E-2,null,"E3","100-41-4","Ethyl Benzene",0.11,4.0500000000000001E-2,2.53E-2]
[23,"H6","n-Hexane",0,0,0,0,0,0,null,"H6","110-54-3","n-Hexane",0.45400000000000001,1.1299999999999999,0]
[24,"M5","Methanol",2.9714285714285715E-3,3.12,3.1199999999999999E-4,7.1760000000000063E-6,312,7.1760000000000064,null,"M5","67-56-1","Methanol",2.5299999999999998,2.5499999999999998,3.12]
[25,"S6","Styrene",1.1523809523809524E-5,1.21E-2,1.2100000000000001E-6,2.7830000000000025E-8,1.21,2.7830000000000025E-2,null,"S6","100-42-5","Styrene",5.5899999999999998E-2,2.41E-2,1.21E-2]
[26,"T3","Toluene",5.4190476190476189E-4,0.56899999999999995,5.6899999999999994E-5,1.3087000000000011E-6,56.899999999999991,1.3087000000000011,null,"T3","108-88-3","Toluene",0.98199999999999998,0.41599999999999998,0.56899999999999995]
[27,"X1","Xylenes (Mixed Isomers)",1.8952380952380954E-4,0.19900000000000001,1.9900000000000003E-5,4.5770000000000045E-7,19.900000000000002,0.45770000000000044,null,"X1","1330-20-7","Xylenes (Mixed Isomers)",0.27300000000000002,0.188,0.19900000000000001]
[null,null,null,null,null,null,null,{"$f":"F46*1000000","v":0},0,null,"From AB2588 Reporting Procedure - Dec 2014"]
[null,null,null,null,null,null,null,0,0]
[null,null,null,null,null,null,null,0,0,null,"Control","Ammonia EF (lb/mmcf)"]
[null,null,null,null,null,null,null,0,0,null,"SNCR",18]
[null,null,null,null,null,null,null,0,0,null,"SCR",9.1]
[null,null,null,null,null,null,null,0,0,null,"OTHER",3.2]
[null,null,null,null,null,null,null,null,null,null,"* Select \"OTHER\" when there is no control or when the control type is not SNCR or SCR"]

{"sheet":"Engine Calc","index":16,"n_rows":40,"n_cols":22,"rows_kept":40,"cut":false,"hidden":true,"merged":[[2,5,2,10],[2,11,3,13],[33,2,33,9],[22,2,22,9],[12,2,12,9]]}
[null,"Look up for Natural Gas Engine's X/Q"]
[]
[null,null,null,null,null,"Interpolation for X/Q from Nearest Distances",null,null,null,null,null,"Interpolation New Distance for Cancer Burden Calculation"]
[null,"Operating Hours (hrs/day)",{"$f":"HoursPerDay","v":24},null,null,"BHP",{"$f":"IF(SourceType=\"Lean Burn ICE\",LeanBurnICEPower,IF(SourceType=\"Rich Burn ICE\",RichBurnICEPower))","v":false},null,"row:",{"$f":"S4","v":0},null,null,null,null,null,null,"BHP","Lookup Row ",{"$f":"MIN(S5:S10)","v":0}]
[null,"Station",{"$f":"Emissions!$E$22","v":"Van Nuys Airport"},null,null,null,"Residential",null,null,"Industrial",null,null,"X/Q for one-in-a-million",null,null,"Rating < 50",50,1,{"$f":"IF($G$4<Q5,\"No\",\"No\")","v":"No"}]
[null,"X/Q (residential)",{"$f":"$G$8","v":{"$error":"#VALUE!"}},null,null,"near","actual","far","near","actual","far","near","actual","far",null,"50 < Rating ≤ 75",75,2,{"$f":"IF($G$4>=$Q$5,IF($G$4<=Q6,R6,\"No\"),\"No\")","v":"No"}]
[null,"X/Q (industrial)",{"$f":"$J$8","v":{"$error":"#VALUE!"}},null,"Distance (m)",{"$f":"IF(G7<25,25,HLOOKUP(G7,EngineCalcLessThan12,1,TRUE))","v":100},{"$f":"Emissions!E20","v":157},{"$f":"IF(G7<25,25,IF(G7>=1000,1000,IF(G7=HLOOKUP(G7,EngineCalcLessThan12,1,TRUE),G7,INDEX(EngineCalcLessThan12,1,MATCH(G7,C14:J14,1)+1))))","v":200},{"$f":"IF(J7<25,25,HLOOKUP(J7,EngineCalcLessThan12,1,TRUE))","v":200},{"$f":"Emissions!E21","v":265},{"$f":"IF(J7<25,25,IF(J7>=1000,1000,IF(J7=HLOOKUP(J7,EngineCalcLessThan12,1,TRUE),J7,INDEX(EngineCalcLessThan12,1,MATCH(J7,C14:J14,1)+1))))","v":300},{"$f":"IF(HoursPerDay<=12,VLOOKUP($J$4,$A$15:$S$19,17,FALSE),VLOOKUP($J$4,$A$25:$S$29,17,FALSE))","v":{"$error":"#N/A"}},{"$f":"IF(L7=\"\",\"\",IF(N7=L7,\"no data\",L7-(L8-M8)/(L8-N8)*(L7-N7)))","v":{"$error":"#N/A"}},{"$f":"IF(HoursPerDay<=12,VLOOKUP($J$4,$A$15:$S$19,19,FALSE),VLOOKUP($J$4,$A$25:$S$29,19,FALSE))","v":{"$error":"#N/A"}},null,"75 < Rating ≤ 150",150,3,{"$f":"IF($G$4>$Q$6,IF($G$4<=Q7,R7,\"No\"),\"No\")","v":"No"}]
[null,"X/Q max acute (residential)",{"$f":"G9","v":{"$error":"#VALUE!"}},null,"X/Q",{"$f":"IF(C4<=12,HLOOKUP(F7,EngineCalcLessThan12,$J$4,TRUE),HLOOKUP(F7,table3_e,$J$4,TRUE))","v":{"$error":"#VALUE!"}},{"$f":"IF(F8=H8,F8,F8-(((G7-F7)/(H7-F7))*(F8-H8)))","v":{"$error":"#VALUE!"}},{"$f":"IF(C4<=12,HLOOKUP(H7,EngineCalcLessThan12,$J$4,TRUE),HLOOKUP(H7,table3_e,$J$4,TRUE))","v":{"$error":"#VALUE!"}},{"$f":"IF(C4<=12,HLOOKUP(I7,EngineCalcLessThan12,$J$4,TRUE),HLOOKUP(I7,table3_e,$J$4,TRUE))","v":{"$error":"#VALUE!"}},{"$f":"IF(I8=K8,I8,I8-(((J7-I7)/(K7-I7))*(I8-K8)))","v":{"$error":"#VALUE!"}},{"$f":"IF(C4<=12,HLOOKUP(K7,EngineCalcLessThan12,$J$4,TRUE),HLOOKUP(K7,table3_e,$J$4,TRUE))","v":{"$error":"#VALUE!"}},{"$f":"IF(HoursPerDay<=12,VLOOKUP($J$4,$A$15:$S$19,16,FALSE),VLOOKUP($J$4,$A$25:$S$29,16,FALSE))","v":{"$error":"#N/A"}},{"$f":"'Tier 2 Report'!N152","v":0},{"$f":"IF(HoursPerDay<=12,VLOOKUP($J$4,$A$15:$S$19,18,FALSE),VLOOKUP($J$4,$A$25:$S$29,18,FALSE))","v":{"$error":"#N/A"}},null,"150 < Rating ≤ 250",250,4,{"$f":"IF($G$4>$Q$7,IF($G$4<=Q8,R8,\"No\"),\"No\")","v":"No"}]
[null,"X/Q max acute (industrial)",{"$f":"J9","v":{"$error":"#VALUE!"}},null,"X/Q Max Acute",{"$f":"HLOOKUP(F7,EngineCalcAcute,$J$4,TRUE)","v":{"$error":"#VALUE!"}},{"$f":"IF(F9=H9,F9,F9-(((G7-F7)/(H7-F7))*(F9-H9)))","v":{"$error":"#VALUE!"}},{"$f":"HLOOKUP(H7,EngineCalcAcute,$J$4,TRUE)","v":{"$error":"#VALUE!"}},{"$f":"HLOOKUP(I7,EngineCalcAcute,$J$4,TRUE)","v":{"$error":"#VALUE!"}},{"$f":"IF(I9=K9,I9,I9-(((J7-I7)/(K7-I7))*(I9-K9)))","v":{"$error":"#VALUE!"}},{"$f":"HLOOKUP(K7,EngineCalcAcute,$J$4,TRUE)","v":{"$error":"#VALUE!"}},null,null,null,null,"250 < Rating ≤ 1000",1000,5,{"$f":"IF($G$4>$Q$8,IF($G$4<=Q9,R9,\"No\"),\"No\")","v":"No"}]
[null,null,null,null,null,null,null,null,null,null,null,null,null,null,null,"Rating > 1000",99999,6,{"$f":"IF($G$4>$Q$9,IF($G$4<=Q10,R10,\"No\"),\"No\")","v":"No"}]
[]
[null,"Table 9A - Point Source, operating 12 hrs/day or less (µg/m³)/(tons/yr)"]
[null,"Rating (BHP)","Downwind Distance (meters)"]
["Row ",null,25,50,75,100,200,300,500,1000,null,null,null,null,null,"Nearest X/Q - high","nearest dist - low","Nearest X/Q- low","nearest dist - high",null,"Column","Dist"]
[2,"50 < Rating ≤ 75",{"$f":"VLOOKUP($C$5,EngineLessThan12_lu,2,FALSE)","v":31.64},{"$f":"VLOOKUP($C$5,EngineLessThan12_lu,3,FALSE)","v":7.53},{"$f":"VLOOKUP($C$5,EngineLessThan12_lu,4,FALSE)","v":4},{"$f":"VLOOKUP($C$5,EngineLessThan12_lu,5,FALSE)","v":2.35},{"$f":"VLOOKUP($C$5,EngineLessThan12_lu,6,FALSE)","v":0.51},{"$f":"VLOOKUP($C$5,EngineLessThan12_lu,7,FALSE)","v":0.19},{"$f":"VLOOKUP($C$5,EngineLessThan12_lu,8,FALSE)","v":0.06},{"$f":"VLOOKUP($C$5,EngineLessThan12_lu,9,FALSE)","v":0.01},null,null,null,null,null,{"$f":"INDEX($C15:$J15,1,MATCH($M$8,$C15:$J15,-1))","v":0.01},{"$f":"VLOOKUP(MATCH(P15,$C15:$J15,0),$U$15:$V$22,2,FALSE)","v":1000},{"$f":"IF($M$8>C15,C15,INDEX($C15:$K15,1,1+MATCH($M$8,$C15:$K15,-1)))","v":0},{"$f":"IF(R15=0,Q15,VLOOKUP(MATCH(R15,$C15:$J15,0),$U$15:$V$22,2,FALSE))","v":1000},null,1,25]
[3,"75 < Rating ≤ 150",{"$f":"VLOOKUP($C$5,EngineLessThan12_lu,11,FALSE)","v":22.59},{"$f":"VLOOKUP($C$5,EngineLessThan12_lu,12,FALSE)","v":5.99},{"$f":"VLOOKUP($C$5,EngineLessThan12_lu,13,FALSE)","v":3.46},{"$f":"VLOOKUP($C$5,EngineLessThan12_lu,14,FALSE)","v":2.13},{"$f":"VLOOKUP($C$5,EngineLessThan12_lu,15,FALSE)","v":0.49},{"$f":"VLOOKUP($C$5,EngineLessThan12_lu,16,FALSE)","v":0.18},{"$f":"VLOOKUP($C$5,EngineLessThan12_lu,17,FALSE)","v":0.06},{"$f":"VLOOKUP($C$5,EngineLessThan12_lu,18,FALSE)","v":0.01},null,null,null,null,null,{"$f":"INDEX($C16:$J16,1,MATCH($M$8,$C16:$J16,-1))","v":0.01},{"$f":"VLOOKUP(MATCH(P16,$C16:$J16,0),$U$15:$V$22,2,FALSE)","v":1000},{"$f":"IF($M$8>C16,C16,INDEX($C16:$K16,1,1+MATCH($M$8,$C16:$K16,-1)))","v":0},{"$f":"IF(R16=0,Q16,VLOOKUP(MATCH(R16,$C16:$J16,0),$U$15:$V$22,2,FALSE))","v":1000},null,2,50]
[4,"150 < Rating ≤ 250",{"$f":"VLOOKUP($C$5,EngineLessThan12_lu,20,FALSE)","v":7.43},{"$f":"VLOOKUP($C$5,EngineLessThan12_lu,21,FALSE)","v":2.4700000000000002},{"$f":"VLOOKUP($C$5,EngineLessThan12_lu,22,FALSE)","v":1.66},{"$f":"VLOOKUP($C$5,EngineLessThan12_lu,23,FALSE)","v":1.18},{"$f":"VLOOKUP($C$5,EngineLessThan12_lu,24,FALSE)","v":0.36},{"$f":"VLOOKUP($C$5,EngineLessThan12_lu,25,FALSE)","v":0.15},{"$f":"VLOOKUP($C$5,EngineLessThan12_lu,26,FALSE)","v":0.06},{"$f":"VLOOKUP($C$5,EngineLessThan12_lu,27,FALSE)","v":0.01},null,null,null,null,null,{"$f":"INDEX($C17:$J17,1,MATCH($M$8,$C17:$J17,-1))","v":0.01},{"$f":"VLOOKUP(MATCH(P17,$C17:$J17,0),$U$15:$V$22,2,FALSE)","v":1000},{"$f":"IF($M$8>C17,C17,INDEX($C17:$K17,1,1+MATCH($M$8,$C17:$K17,-1)))","v":0},{"$f":"IF(R17=0,Q17,VLOOKUP(MATCH(R17,$C17:$J17,0),$U$15:$V$22,2,FALSE))","v":1000},null,3,75]
[5,"250 < Rating ≤ 1000",{"$f":"VLOOKUP($C$5,EngineLessThan12_lu,29,FALSE)","v":8.52},{"$f":"VLOOKUP($C$5,EngineLessThan12_lu,30,FALSE)","v":2.69},{"$f":"VLOOKUP($C$5,EngineLessThan12_lu,31,FALSE)","v":1.74},{"$f":"VLOOKUP($C$5,EngineLessThan12_lu,32,FALSE)","v":1.19},{"$f":"VLOOKUP($C$5,EngineLessThan12_lu,33,FALSE)","v":0.37},{"$f":"VLOOKUP($C$5,EngineLessThan12_lu,34,FALSE)","v":0.15},{"$f":"VLOOKUP($C$5,EngineLessThan12_lu,35,FALSE)","v":0.06},{"$f":"VLOOKUP($C$5,EngineLessThan12_lu,36,FALSE)","v":0.01},null,null,null,null,null,{"$f":"INDEX($C18:$J18,1,MATCH($M$8,$C18:$J18,-1))","v":0.01},{"$f":"VLOOKUP(MATCH(P18,$C18:$J18,0),$U$15:$V$22,2,FALSE)","v":1000},{"$f":"IF($M$8>C18,C18,INDEX($C18:$K18,1,1+MATCH($M$8,$C18:$K18,-1)))","v":0},{"$f":"IF(R18=0,Q18,VLOOKUP(MATCH(R18,$C18:$J18,0),$U$15:$V$22,2,FALSE))","v":1000},null,4,100]
[6,"Rating > 1000",{"$f":"VLOOKUP($C$5,EngineLessThan12_lu,38,FALSE)","v":2.12},{"$f":"VLOOKUP($C$5,EngineLessThan12_lu,39,FALSE)","v":0.78},{"$f":"VLOOKUP($C$5,EngineLessThan12_lu,40,FALSE)","v":0.61},{"$f":"VLOOKUP($C$5,EngineLessThan12_lu,41,FALSE)","v":0.49},{"$f":"VLOOKUP($C$5,EngineLessThan12_lu,42,FALSE)","v":0.2},{"$f":"VLOOKUP($C$5,EngineLessThan12_lu,43,FALSE)","v":0.11},{"$f":"VLOOKUP($C$5,EngineLessThan12_lu,44,FALSE)","v":0.04},{"$f":"VLOOKUP($C$5,EngineLessThan12_lu,45,FALSE)","v":0.01},null,null,null,null,null,{"$f":"INDEX($C19:$J19,1,MATCH($M$8,$C19:$J19,-1))","v":0.01},{"$f":"VLOOKUP(MATCH(P19,$C19:$J19,0),$U$15:$V$22,2,FALSE)","v":1000},{"$f":"IF($M$8>C19,C19,INDEX($C19:$K19,1,1+MATCH($M$8,$C19:$K19,-1)))","v":0},{"$f":"IF(R19=0,Q19,VLOOKUP(MATCH(R19,$C19:$J19,0),$U$15:$V$22,2,FALSE))","v":1000},null,5,200]
[null,null,null,null,null,null,null,null,null,null,null,null,null,null,null,null,null,null,null,null,6,300]
[null,null,null,null,null,null,null,null,null,null,null,null,null,null,null,null,null,null,null,null,7,500]
[null,"Table 9B - Point Source, operating more than 12 hrs/day (µg/m³)/(tons/yr)",null,null,null,null,null,null,null,null,null,null,null,null,null,null,null,null,null,null,8,1000]
[null,"Rating (BHP)","Downwind Distance (meters)"]
["Row ",null,25,50,75,100,200,300,500,1000,null,null,null,null,null,"Nearest X/Q - high","nearest dist - low","Nearest X/Q- low","nearest dist - high"]
[2,"50 < Rating ≤ 75",{"$f":"VLOOKUP($C$5,EngineMoreThan12_lu,2,FALSE)","v":21.17},{"$f":"VLOOKUP($C$5,EngineMoreThan12_lu,3,FALSE)","v":6.18},{"$f":"VLOOKUP($C$5,EngineMoreThan12_lu,4,FALSE)","v":4.01},{"$f":"VLOOKUP($C$5,EngineMoreThan12_lu,5,FALSE)","v":2.88},{"$f":"VLOOKUP($C$5,EngineMoreThan12_lu,6,FALSE)","v":1.03},{"$f":"VLOOKUP($C$5,EngineMoreThan12_lu,7,FALSE)","v":0.45},{"$f":"VLOOKUP($C$5,EngineMoreThan12_lu,8,FALSE)","v":0.18},{"$f":"VLOOKUP($C$5,EngineMoreThan12_lu,9,FALSE)","v":0.06},null,null,null,null,null,{"$f":"INDEX($C25:$J25,1,MATCH($M$8,$C25:$J25,-1))","v":0.06},{"$f":"VLOOKUP(MATCH(P25,$C25:$J25,0),$U$15:$V$22,2,FALSE)","v":1000},{"$f":"IF($M$8>C25,C25,INDEX($C25:$K25,1,1+MATCH($M$8,$C25:$K25,-1)))","v":0},{"$f":"IF(R25=0, Q25,VLOOKUP(MATCH(R25,$C25:$J25,0),$U$15:$V$22,2,FALSE))","v":1000}]
[3,"75 < Rating ≤ 150",{"$f":"VLOOKUP($C$5,EngineMoreThan12_lu,11,FALSE)","v":14.56},{"$f":"VLOOKUP($C$5,EngineMoreThan12_lu,12,FALSE)","v":4.18},{"$f":"VLOOKUP($C$5,EngineMoreThan12_lu,13,FALSE)","v":2.64},{"$f":"VLOOKUP($C$5,EngineMoreThan12_lu,14,FALSE)","v":1.9},{"$f":"VLOOKUP($C$5,EngineMoreThan12_lu,15,FALSE)","v":0.74},{"$f":"VLOOKUP($C$5,EngineMoreThan12_lu,16,FALSE)","v":0.36},{"$f":"VLOOKUP($C$5,EngineMoreThan12_lu,17,FALSE)","v":0.16},{"$f":"VLOOKUP($C$5,EngineMoreThan12_lu,18,FALSE)","v":0.06},null,null,null,null,null,{"$f":"INDEX($C26:$J26,1,MATCH($M$8,$C26:$J26,-1))","v":0.06},{"$f":"VLOOKUP(MATCH(P26,$C26:$J26,0),$U$15:$V$22,2,FALSE)","v":1000},{"$f":"IF($M$8>C26,C26,INDEX($C26:$K26,1,1+MATCH($M$8,$C26:$K26,-1)))","v":0},{"$f":"IF(R26=0, Q26,VLOOKUP(MATCH(R26,$C26:$J26,0),$U$15:$V$22,2,FALSE))","v":1000}]
[4,"150 < Rating ≤ 250",{"$f":"VLOOKUP($C$5,EngineMoreThan12_lu,20,FALSE)","v":8.4499999999999993},{"$f":"VLOOKUP($C$5,EngineMoreThan12_lu,21,FALSE)","v":2.4500000000000002},{"$f":"VLOOKUP($C$5,EngineMoreThan12_lu,22,FALSE)","v":1.43},{"$f":"VLOOKUP($C$5,EngineMoreThan12_lu,23,FALSE)","v":1.03},{"$f":"VLOOKUP($C$5,EngineMoreThan12_lu,24,FALSE)","v":0.36},{"$f":"VLOOKUP($C$5,EngineMoreThan12_lu,25,FALSE)","v":0.19},{"$f":"VLOOKUP($C$5,EngineMoreThan12_lu,26,FALSE)","v":0.1},{"$f":"VLOOKUP($C$5,EngineMoreThan12_lu,27,FALSE)","v":0.05},null,null,null,null,null,{"$f":"INDEX($C27:$J27,1,MATCH($M$8,$C27:$J27,-1))","v":0.05},{"$f":"VLOOKUP(MATCH(P27,$C27:$J27,0),$U$15:$V$22,2,FALSE)","v":1000},{"$f":"IF($M$8>C27,C27,INDEX($C27:$K27,1,1+MATCH($M$8,$C27:$K27,-1)))","v":0},{"$f":"IF(R27=0, Q27,VLOOKUP(MATCH(R27,$C27:$J27,0),$U$15:$V$22,2,FALSE))","v":1000}]
[5,"250 < Rating ≤ 1000",{"$f":"VLOOKUP($C$5,EngineMoreThan12_lu,29,FALSE)","v":4.92},{"$f":"VLOOKUP($C$5,EngineMoreThan12_lu,30,FALSE)","v":1.48},{"$f":"VLOOKUP($C$5,EngineMoreThan12_lu,31,FALSE)","v":0.9},{"$f":"VLOOKUP($C$5,EngineMoreThan12_lu,32,FALSE)","v":0.61},{"$f":"VLOOKUP($C$5,EngineMoreThan12_lu,33,FALSE)","v":0.21},{"$f":"VLOOKUP($C$5,EngineMoreThan12_lu,34,FALSE)","v":0.09},{"$f":"VLOOKUP($C$5,EngineMoreThan12_lu,35,FALSE)","v":0.05},{"$f":"VLOOKUP($C$5,EngineMoreThan12_lu,36,FALSE)","v":0.03},null,null,null,null,null,{"$f":"INDEX($C28:$J28,1,MATCH($M$8,$C28:$J28,-1))","v":0.03},{"$f":"VLOOKUP(MATCH(P28,$C28:$J28,0),$U$15:$V$22,2,FALSE)","v":1000},{"$f":"IF($M$8>C28,C28,INDEX($C28:$K28,1,1+MATCH($M$8,$C28:$K28,-1)))","v":0},{"$f":"IF(R28=0, Q28,VLOOKUP(MATCH(R28,$C28:$J28,0),$U$15:$V$22,2,FALSE))","v":1000}]
[6,"Rating > 1000",{"$f":"VLOOKUP($C$5,EngineMoreThan12_lu,38,FALSE)","v":1.04},{"$f":"VLOOKUP($C$5,EngineMoreThan12_lu,39,FALSE)","v":0.37},{"$f":"VLOOKUP($C$5,EngineMoreThan12_lu,40,FALSE)","v":0.27},{"$f":"VLOOKUP($C$5,EngineMoreThan12_lu,41,FALSE)","v":0.21},{"$f":"VLOOKUP($C$5,EngineMoreThan12_lu,42,FALSE)","v":0.09},{"$f":"VLOOKUP($C$5,EngineMoreThan12_lu,43,FALSE)","v":0.05},{"$f":"VLOOKUP($C$5,EngineMoreThan12_lu,44,FALSE)","v":0.02},{"$f":"VLOOKUP($C$5,EngineMoreThan12_lu,45,FALSE)","v":0.01},null,null,null,null,null,{"$f":"INDEX($C29:$J29,1,MATCH($M$8,$C29:$J29,-1))","v":0.01},{"$f":"VLOOKUP(MATCH(P29,$C29:$J29,0),$U$15:$V$22,2,FALSE)","v":1000},{"$f":"IF($M$8>C29,C29,INDEX($C29:$K29,1,1+MATCH($M$8,$C29:$K29,-1)))","v":0},{"$f":"IF(R29=0, Q29,VLOOKUP(MATCH(R29,$C29:$J29,0),$U$15:$V$22,2,FALSE))","v":1000}]
[]
[]
[null,"Table 9.6  - Dispersion Factors (X/Q) for Acute Hazard Index"]
[null,"All Operating Conditions X/Q Values [(µg/m³)/(lbs/hr)] "]
[null,"Rating (BHP)","Downwind Distance (meters)"]
["Row ",null,25,50,75,100,200,300,500,1000]
[2,"50 < Rating ≤ 75",528.24,175.46,128.59,103.13,46.87,19.010000000000002,6.77,2.67]
[3,"75 < Rating ≤ 150",382.75,120.44,89.95,71.22,31.74,14.51,6.34,2.88]
[4,"150 < Rating ≤ 250",270.73,79.19,56.02,44.86,19.28,9.68,4.54,2.31]
[5,"250 < Rating ≤ 1000",191.9,55.66,39.93,30.37,12.85,6.98,3.48,1.58]
[6,"Rating > 1000",79.34,26.34,19.690000000000001,15.17,5.88,3.76,2.09,0.95]

{"sheet":"Engine data","index":17,"n_rows":61,"n_cols":45,"rows_kept":61,"cut":false,"hidden":true,"merged":[[35,1,35,8],[35,10,35,17],[35,19,35,26],[35,28,35,35],[35,37,35,44],[2,1,2,8],[2,10,2,17],[2,19,2,26],[2,28,2,35],[2,37,2,44]]}
["Table 9A -  Dispersion Factors (X/Q) for Natural Gas ICE Operating 12 Hours per Day or Less"]
["Units are in (ug/m3)/(tons/yr)","Size > 50 to 75 BHP",null,null,null,null,null,null,null,null,"Size > 75 to 150 BHP",null,null,null,null,null,null,null,null,"Size > 150 to 250 BHP",null,null,null,null,null,null,null,null,"Size > 250 to 1,000 BHP",null,null,null,null,null,null,null,null,"Size > 1,000 BHP"]
[null,"Downwind Distance (meters)",null,null,null,null,null,null,null,null,"Downwind Distance (meters)",null,null,null,null,null,null,null,null,"Downwind Distance (meters)",null,null,null,null,null,null,null,null,"Downwind Distance (meters)",null,null,null,null,null,null,null,null,"Downwind Distance (meters)"]
["Location","25","50","75","100","200","300","500","1000",null,"25","50","75","100","200","300","500","1000",null,"25","50","75","100","200","300","500","1000",null,"25","50","75","100","200","300","500","1000",null,"25","50","75","100","200","300","500","1000"]
["Azusa",32.01,7.57,3.93,2.2400000000000002,0.42,0.14000000000000001,0.05,0.01,null,18.850000000000001,5.64,3.29,1.98,0.4,0.14000000000000001,0.05,0.01,null,8.43,3.18,2.0499999999999998,1.4,0.34,0.12,0.04,0.01,null,3.68,1.73,1.25,0.87,0.26,0.11,0.04,0.01,null,0.21,0.22,0.23,0.21,0.12,7.0000000000000007E-2,0.03,0.01]
["Banning",38.68,8.93,4.76,2.83,0.64,0.24,0.08,0.02,null,28.35,7.32,4.2,2.6,0.62,0.23,0.08,0.02,null,19.239999999999998,5.22,3.13,2.13,0.56000000000000005,0.21,7.0000000000000007E-2,0.02,null,11.81,3.53,2.2799999999999998,1.55,0.49,0.19,7.0000000000000007E-2,0.02,null,3.06,1.06,0.87,0.71,0.28000000000000003,0.14000000000000001,0.06,0.02]
["Central L.A.",32.26,7.3,3.64,2.06,0.41,0.14000000000000001,0.05,0.01,null,21.69,5.72,3.17,1.86,0.39,0.13,0.04,0.01,null,11.92,3.71,2.23,1.45,0.34,0.12,0.04,0.01,null,6.24,2.2000000000000002,1.47,0.99,0.28000000000000003,0.11,0.04,0.01,null,0.64,0.34,0.33,0.28000000000000003,0.13,7.0000000000000007E-2,0.03,0.01]
["Lake Elsinore",21.77,5.76,2.98,1.69,0.34,0.12,0.04,0.01,null,12.22,3.98,2.35,1.42,0.31,0.11,0.04,0.01,null,5.37,2.04,1.35,0.95,0.25,0.1,0.04,0.01,null,2.65,1.1100000000000001,0.82,0.59,0.2,0.09,0.03,0.01,null,0.32,0.2,0.2,0.18,0.1,0.06,0.03,0.01]
["Fontana",37.79,8.52,4.46,2.59,0.53,0.19,0.06,0.02,null,24.88,6.53,3.8,2.3199999999999998,0.5,0.18,0.06,0.02,null,14.04,4.1100000000000003,2.56,1.76,0.44,0.16,0.06,0.01,null,7.72,2.5099999999999998,1.71,1.18,0.36,0.15,0.05,0.01,null,1.29,0.52,0.47,0.4,0.19,0.1,0.04,0.01]
["Mission Viejo",24.52,6.22,3.24,1.83,0.35,0.13,0.04,0.01,null,15.29,4.6500000000000004,2.71,1.61,0.33,0.12,0.04,0.01,null,7.16,2.65,1.69,1.1299999999999999,0.27,0.11,0.04,0.01,null,3.4,1.43,1.02,0.71,0.22,0.09,0.03,0.01,null,0.24,0.2,0.21,0.19,0.11,0.06,0.03,0.01]
["Perris",22.74,5.86,3.14,1.86,0.41,0.16,0.05,0.01,null,15.28,4.46,2.63,1.64,0.39,0.15,0.05,0.01,null,9.31,2.9,1.8,1.25,0.34,0.13,0.05,0.01,null,5.73,1.88,1.25,0.87,0.28000000000000003,0.12,0.04,0.01,null,1.4,0.54,0.43,0.35,0.15,0.08,0.03,0.01]
["Pico Rivera",34.270000000000003,7.79,3.97,2.29,0.45,0.16,0.05,0.01,null,23.33,6.12,3.43,2.06,0.43,0.16,0.05,0.01,null,13.37,4.0199999999999996,2.39,1.59,0.37,0.14000000000000001,0.05,0.01,null,7.61,2.5099999999999998,1.62,1.08,0.31,0.12,0.05,0.01,null,1.34,0.54,0.47,0.39,0.16,0.09,0.04,0.01]
["Redlands",30.36,7.78,4.0199999999999996,2.2599999999999998,0.43,0.15,0.05,0.01,null,17.36,5.69,3.34,2,0.4,0.14000000000000001,0.05,0.01,null,7.44,3.09,2.02,1.39,0.34,0.13,0.05,0.01,null,3.13,1.64,1.21,0.86,0.27,0.11,0.04,0.01,null,0.23,0.21,0.23,0.22,0.13,7.0000000000000007E-2,0.03,0.01]
["Upland",40.22,9.0500000000000007,4.8,2.8,0.56000000000000005,0.2,7.0000000000000007E-2,0.02,null,25.63,6.85,4.07,2.5,0.53,0.19,0.06,0.02,null,13.49,4.1900000000000004,2.7,1.88,0.46,0.17,0.06,0.02,null,6.86,2.4900000000000002,1.77,1.23,0.38,0.15,0.06,0.02,null,0.65,0.35,0.36,0.33,0.18,0.1,0.04,0.01]
["Burbank Airport",42.23,9.0500000000000007,4.7300000000000004,2.78,0.57999999999999996,0.22,7.0000000000000007E-2,0.02,null,29.72,7.24,4.12,2.5299999999999998,0.55000000000000004,0.21,7.0000000000000007E-2,0.02,null,18.600000000000001,4.99,2.97,2.02,0.49,0.2,7.0000000000000007E-2,0.02,null,11.19,3.29,2.11,1.43,0.42,0.17,7.0000000000000007E-2,0.02,null,2.23,0.81,0.66,0.54,0.23,0.12,0.05,0.02]
["Chino Airport.",31.86,8.2100000000000009,4.49,2.68,0.61,0.23,7.0000000000000007E-2,0.02,null,22.67,6.48,3.87,2.42,0.57999999999999996,0.22,7.0000000000000007E-2,0.02,null,14.96,4.3899999999999997,2.72,1.89,0.52,0.2,7.0000000000000007E-2,0.02,null,9.49,2.94,1.94,1.35,0.44,0.18,7.0000000000000007E-2,0.02,null,2.9,1.01,0.77,0.61,0.25,0.13,0.05,0.01]
["USC/Downtown L.A.",32.549999999999997,8.5,4.54,2.63,0.51,0.18,0.06,0.01,null,18.61,6.14,3.75,2.2999999999999998,0.48,0.17,0.06,0.01,null,7.49,3.28,2.25,1.62,0.41,0.15,0.05,0.01,null,3.16,1.75,1.35,0.98,0.32,0.13,0.05,0.01,null,0.14000000000000001,0.2,0.23,0.22,0.13,0.08,0.04,0.01]
["Fullerton Airport",36.729999999999997,8.24,4.38,2.58,0.54,0.19,0.06,0.02,null,25.25,6.52,3.79,2.33,0.51,0.18,0.06,0.02,null,14.84,4.33,2.67,1.82,0.46,0.17,0.06,0.02,null,8.5399999999999991,2.74,1.83,1.26,0.38,0.15,0.05,0.01,null,1.44,0.59,0.52,0.44,0.19,0.1,0.04,0.01]
["Hawthorne Airport",48.48,10.62,5.69,3.38,0.74,0.26,0.09,0.02,null,35,8.65,5,3.1,0.71,0.25,0.08,0.02,null,23.33,6.09,3.7,2.52,0.65,0.24,0.08,0.02,null,14.22,4.1100000000000003,2.69,1.84,0.56000000000000005,0.21,0.08,0.02,null,3.55,1.25,1.04,0.84,0.33,0.15,0.06,0.02]
["Los Angeles Int'l Airport",54.5,12.46,7.05,4.4000000000000004,1.06,0.38,0.12,0.03,null,40.380000000000003,10.34,6.22,4.01,1.01,0.37,0.12,0.03,null,28.1,7.53,4.67,3.26,0.92,0.35,0.12,0.03,null,17.73,5.19,3.41,2.37,0.78,0.31,0.11,0.03,null,4.72,1.66,1.33,1.08,0.44,0.22,0.09,0.03]
["Long Beach Airport",34.78,7.8,4.2,2.5299999999999998,0.55000000000000004,0.21,7.0000000000000007E-2,0.02,null,24.49,6.18,3.63,2.2799999999999998,0.52,0.2,7.0000000000000007E-2,0.02,null,15.05,4.2,2.58,1.8,0.46,0.18,7.0000000000000007E-2,0.02,null,8.99,2.78,1.83,1.26,0.39,0.16,0.06,0.02,null,1.33,0.54,0.48,0.41,0.2,0.11,0.05,0.01]
["Ontario Airport",42.3,9.9700000000000006,5.5,3.33,0.75,0.28000000000000003,0.09,0.02,null,30.05,7.88,4.75,3.01,0.72,0.27,0.09,0.02,null,18.98,5.3,3.33,2.34,0.64,0.25,0.09,0.02,null,11.52,3.49,2.33,1.63,0.54,0.22,0.08,0.02,null,2.85,0.99,0.8,0.66,0.28999999999999998,0.15,0.06,0.02]
["Palm Springs Airport",26.05,6.19,3.34,1.97,0.42,0.15,0.05,0.01,null,17.02,4.67,2.82,1.76,0.4,0.15,0.05,0.01,null,9.1300000000000008,2.81,1.85,1.31,0.35,0.13,0.05,0.01,null,4.96,1.69,1.22,0.88,0.28999999999999998,0.12,0.04,0.01,null,1.59,0.56999999999999995,0.43,0.34,0.14000000000000001,0.08,0.03,0.01]
["Riverside Airport",37.51,9.69,5.28,3.13,0.67,0.24,0.08,0.02,null,24.45,7.35,4.47,2.8,0.64,0.23,0.08,0.02,null,13.23,4.4400000000000004,2.91,2.08,0.56000000000000005,0.21,0.08,0.02,null,6.99,2.67,1.92,1.38,0.46,0.19,7.0000000000000007E-2,0.02,null,1.1200000000000001,0.54,0.52,0.47,0.24,0.13,0.06,0.02]
["Santa Monica Airport",53.59,11.42,6.22,3.77,0.84,0.3,0.1,0.02,null,39.130000000000003,9.3000000000000007,5.44,3.42,0.8,0.28999999999999998,0.1,0.02,null,25.8,6.65,4.04,2.78,0.73,0.27,0.09,0.02,null,16.420000000000002,4.59,2.96,2.02,0.62,0.24,0.09,0.02,null,4.0599999999999996,1.36,1.1000000000000001,0.88,0.34,0.16,7.0000000000000007E-2,0.02]
["John Wayne Int'l Airport",42.99,10.050000000000001,5.34,3.23,0.71,0.27,0.09,0.02,null,31.67,8.18,4.68,2.94,0.68,0.26,0.09,0.02,null,21.15,5.89,3.47,2.38,0.62,0.24,0.08,0.02,null,13.61,4.08,2.54,1.73,0.53,0.22,0.08,0.02,null,3.95,1.36,1.01,0.79,0.3,0.15,0.06,0.02]
["Desert Hot Springs Airport",30.67,7.76,4.3600000000000003,2.71,0.63,0.24,0.08,0.02,null,21.6,6.03,3.7,2.4,0.59,0.23,0.08,0.02,null,7.55,2.5,1.75,1.31,0.43,0.18,7.0000000000000007E-2,0.02,null,8.16,2.61,1.77,1.26,0.43,0.18,7.0000000000000007E-2,0.02,null,1.68,0.63,0.52,0.44,0.21,0.11,0.05,0.01]
["Van Nuys Airport",31.64,7.53,4,2.35,0.51,0.19,0.06,0.01,null,22.59,5.99,3.46,2.13,0.49,0.18,0.06,0.01,null,7.43,2.4700000000000002,1.66,1.18,0.36,0.15,0.06,0.01,null,8.52,2.69,1.74,1.19,0.37,0.15,0.06,0.01,null,2.12,0.78,0.61,0.49,0.2,0.11,0.04,0.01]
[]
[]
[]
[]
[]
["Table 9B - Dispersion Factors (X/Q) for Natural Gas ICE Operating More Than 12 Hours per Day"]
["Units are in (ug/m3)/(tons/yr)","Size > 50 to 75 BHP",null,null,null,null,null,null,null,null,"Size > 75 to 150 BHP",null,null,null,null,null,null,null,null,"Size > 150 to 250 BHP",null,null,null,null,null,null,null,null,"Size > 250 to 1,000 BHP",null,null,null,null,null,null,null,null,"Size > 1,000 BHP"]
[null,"Downwind Distance (meters)",null,null,null,null,null,null,null,null,"Downwind Distance (meters)",null,null,null,null,null,null,null,null,"Downwind Distance (meters)",null,null,null,null,null,null,null,null,"Downwind Distance (meters)",null,null,null,null,null,null,null,null,"Downwind Distance (meters)"]
["Location","25","50","75","100","200","300","500","1000",null,"25","50","75","100","200","300","500","1000",null,"25","50","75","100","200","300","500","1000",null,"25","50","75","100","200","300","500","1000",null,"25","50","75","100","200","300","500","1000"]
["Azusa",22.16,6.82,4.8899999999999997,3.63,1.2,0.42,0.14000000000000001,0.04,null,12.22,3.59,2.54,1.93,0.78,0.35,0.14000000000000001,0.05,null,4.9400000000000004,1.62,1.08,0.82,0.33,0.18,0.1,0.05,null,2.12,0.83,0.6,0.43,0.17,0.08,0.06,0.03,null,0.23,0.1,0.09,0.09,0.05,0.03,0.02,0.01]
["Banning",43.66,12.89,8.19,5.78,1.99,0.81,0.31,0.1,null,30.57,8.89,5.8,4.17,1.61,0.73,0.31,0.11,null,19.11,5.27,3.14,2.34,1,0.52,0.25,0.1,null,11.39,3.21,1.96,1.32,0.6,0.33,0.18,0.08,null,2.4900000000000002,0.75,0.55000000000000004,0.42,0.17,0.11,7.0000000000000007E-2,0.04]
["Central L.A.",19.5,6.05,4.26,3.23,1.07,0.37,0.13,0.04,null,12.22,3.33,2.36,1.79,0.69,0.28999999999999998,0.11,0.04,null,6.17,1.77,1.1299999999999999,0.84,0.32,0.16,0.09,0.04,null,3.12,1.01,0.71,0.49,0.18,0.08,0.05,0.03,null,0.26,0.14000000000000001,0.13,0.12,0.06,0.03,0.02,0.01]
["Lake Elsinore",12.04,4.1399999999999997,3.2,2.5499999999999998,1,0.43,0.17,0.06,null,6.74,2.15,1.4,1,0.53,0.31,0.16,0.06,null,3.02,1.04,0.68,0.5,0.18,0.12,0.09,0.05,null,1.5,0.55000000000000004,0.4,0.28999999999999998,0.11,0.05,0.04,0.03,null,0.15,0.09,0.08,7.0000000000000007E-2,0.04,0.03,0.01,0.01]
["Fontana",29.32,8.35,5.59,4.07,1.4,0.56000000000000005,0.2,7.0000000000000007E-2,null,18.53,5.0999999999999996,3.37,2.46,0.97,0.45,0.2,7.0000000000000007E-2,null,9.83,2.71,1.67,1.23,0.47,0.25,0.14000000000000001,0.06,null,5.32,1.55,1.01,0.69,0.27,0.14000000000000001,0.08,0.05,null,0.85,0.28999999999999998,0.25,0.2,0.09,0.05,0.03,0.02]
["Mission Viejo",15.67,4.8,3.43,2.58,0.94,0.39,0.16,0.05,null,8.68,2.56,1.68,1.22,0.51,0.28000000000000003,0.14000000000000001,0.05,null,3.53,1.21,0.76,0.54,0.17,0.11,0.08,0.04,null,1.58,0.62,0.43,0.3,0.1,0.05,0.04,0.03,null,0.1,0.08,0.08,0.08,0.04,0.03,0.01,0.01]
["Perris",17.73,5.68,3.96,2.98,1.1000000000000001,0.49,0.2,7.0000000000000007E-2,null,11.26,3.42,2.2400000000000002,1.64,0.7,0.36,0.17,0.06,null,6.37,1.92,1.17,0.85,0.32,0.18,0.11,0.05,null,3.77,1.17,0.74,0.51,0.19,0.1,0.06,0.03,null,0.81,0.28999999999999998,0.22,0.18,7.0000000000000007E-2,0.04,0.02,0.01]
["Pico Rivera",24.75,7.29,4.75,3.36,1.02,0.39,0.14000000000000001,0.04,null,15.68,4.33,2.78,2.0099999999999998,0.74,0.34,0.15,0.05,null,8.17,2.31,1.35,0.98,0.35,0.19,0.11,0.04,null,4.45,1.33,0.82,0.56000000000000005,0.2,0.1,0.06,0.03,null,0.64,0.24,0.2,0.17,7.0000000000000007E-2,0.04,0.02,0.01]
["Redlands",18.170000000000002,5.69,4.08,3.59,1.65,0.6,0.19,7.0000000000000007E-2,null,9.9499999999999993,3.19,2.1800000000000002,1.62,0.71,0.37,0.2,0.08,null,4.0199999999999996,1.49,0.99,0.74,0.28999999999999998,0.16,0.13,0.08,null,1.71,0.77,0.56999999999999995,0.41,0.16,0.08,0.06,0.05,null,0.11,0.09,0.1,0.09,0.06,0.04,0.02,0.01]
["Upland",26.65,7.41,5.23,3.89,1.34,0.5,0.18,0.06,null,16.399999999999999,4.42,3.01,2.2200000000000002,0.92,0.41,0.2,0.08,null,8.1300000000000008,2.2999999999999998,1.48,1.1200000000000001,0.43,0.23,0.13,7.0000000000000007E-2,null,4.12,1.3,0.9,0.64,0.25,0.12,0.08,0.05,null,0.38,0.17,0.17,0.15,0.08,0.05,0.03,0.02]
["Burbank Airport",28.06,7.33,4.55,3.15,0.98,0.43,0.17,0.05,null,19.32,5.12,3.18,2.21,0.75,0.36,0.16,0.05,null,11.54,3.09,1.8,1.29,0.42,0.21,0.11,0.05,null,6.72,1.89,1.1499999999999999,0.77,0.26,0.12,7.0000000000000007E-2,0.03,null,1.1200000000000001,0.39,0.3,0.24,0.1,0.06,0.03,0.01]
["Chino Airport.",26.01,7.66,4.9400000000000004,3.52,1.29,0.57999999999999996,0.23,7.0000000000000007E-2,null,18.12,5.29,3.43,2.4300000000000002,0.96,0.47,0.21,7.0000000000000007E-2,null,11.55,3.27,2.0099999999999998,1.47,0.54,0.28000000000000003,0.15,0.06,null,7.21,2.12,1.34,0.92,0.35,0.17,0.09,0.04,null,2.04,0.68,0.48,0.36,0.14000000000000001,7.0000000000000007E-2,0.04,0.02]
["USC/Downtown L.A.",22.13,7.25,5.46,4.24,1.49,0.53,0.17,0.06,null,11.71,3.7,2.77,2.2000000000000002,0.98,0.44,0.19,7.0000000000000007E-2,null,4.01,1.54,1.08,0.86,0.37,0.21,0.13,0.06,null,1.59,0.77,0.6,0.45,0.18,0.09,0.06,0.04,null,0.08,0.09,0.09,0.09,0.06,0.04,0.02,0.01]
["Fullerton Airport",21.21,5.92,3.97,2.78,0.87,0.37,0.15,0.05,null,13.94,3.75,2.4300000000000002,1.71,0.62,0.3,0.13,0.05,null,7.48,2.1,1.27,0.91,0.3,0.15,0.09,0.04,null,4.1100000000000003,1.25,0.81,0.55000000000000004,0.18,0.08,0.05,0.03,null,0.57999999999999996,0.24,0.21,0.17,0.08,0.04,0.02,0.01]
["Hawthorne Airport",31.43,8.4700000000000006,5.39,3.76,1.18,0.48,0.18,0.06,null,21.65,5.72,3.61,2.5299999999999998,0.91,0.41,0.17,0.06,null,13.15,3.43,2.0499999999999998,1.46,0.53,0.26,0.13,0.05,null,7.75,2.16,1.36,0.92,0.34,0.16,0.09,0.04,null,1.73,0.57999999999999996,0.47,0.37,0.15,0.08,0.04,0.02]
["Los Angeles Int'l Airport",38.21,10.48,6.77,4.74,1.57,0.66,0.25,0.08,null,27.4,7.64,4.99,3.54,1.27,0.56999999999999995,0.24,0.08,null,17.84,4.8600000000000003,3.01,2.2000000000000002,0.81,0.39,0.18,7.0000000000000007E-2,null,10.99,3.14,2,1.37,0.52,0.25,0.12,0.06,null,2.62,0.88,0.66,0.52,0.21,0.11,0.05,0.02]
["Long Beach Airport",23.38,7.52,5.2,3.89,1.46,0.62,0.23,0.08,null,16.09,4.91,3.36,2.52,1.06,0.51,0.22,0.08,null,9.44,2.75,1.68,1.27,0.52,0.27,0.15,7.0000000000000007E-2,null,5.56,1.63,1,0.68,0.27,0.13,0.08,0.05,null,1.25,0.39,0.27,0.2,0.08,0.04,0.02,0.01]
["Ontario Airport",37.07,10.63,6.93,4.96,1.75,0.77,0.3,0.1,null,26.1,7.49,5,3.62,1.37,0.65,0.28000000000000003,0.1,null,16.09,4.49,2.79,2.08,0.81,0.41,0.2,0.09,null,9.7200000000000006,2.8,1.77,1.22,0.48,0.23,0.13,0.06,null,2.21,0.71,0.51,0.39,0.16,0.08,0.04,0.02]
["Palm Springs Airport",27.17,8.69,5.66,4.07,1.42,0.62,0.24,0.08,null,19.940000000000001,6.33,4.17,3.03,1.1399999999999999,0.54,0.23,0.08,null,13.17,4.05,2.48,1.83,0.7,0.35,0.17,7.0000000000000007E-2,null,8.48,2.64,1.63,1.1100000000000001,0.43,0.21,0.11,0.06,null,2.48,0.83,0.56000000000000005,0.41,0.15,0.09,0.05,0.02]
["Riverside Airport",26.33,8.7100000000000009,6.06,4.53,1.68,0.69,0.26,0.09,null,16.52,5.34,3.72,2.81,1.19,0.56000000000000005,0.24,0.09,null,8.3800000000000008,2.75,1.78,1.36,0.57999999999999996,0.31,0.17,0.08,null,4.4400000000000004,1.57,1.08,0.77,0.32,0.16,0.1,0.06,null,0.69,0.3,0.27,0.24,0.12,7.0000000000000007E-2,0.03,0.02]
["Santa Monica Airport",31.42,8.49,5.53,3.88,1.23,0.49,0.18,0.06,null,21.93,5.76,3.72,2.65,0.94,0.41,0.17,0.06,null,13.3,3.51,2.13,1.54,0.53,0.25,0.12,0.05,null,8.0299999999999994,2.23,1.41,0.96,0.33,0.14000000000000001,7.0000000000000007E-2,0.04,null,1.73,0.56000000000000005,0.45,0.36,0.14000000000000001,7.0000000000000007E-2,0.03,0.01]
["John Wayne Int'l Airport",30.25,8.6999999999999993,5.44,3.86,1.3,0.56000000000000005,0.22,7.0000000000000007E-2,null,21.48,6.12,3.83,2.72,0.99,0.47,0.2,7.0000000000000007E-2,null,13.17,3.73,2.15,1.56,0.53,0.26,0.14000000000000001,0.06,null,8,2.35,1.4,0.94,0.32,0.14000000000000001,0.08,0.04,null,1.88,0.63,0.45,0.35,0.13,7.0000000000000007E-2,0.03,0.01]
["Desert Hot Springs Airport",29.98,9.5299999999999994,6.26,4.5199999999999996,1.67,0.77,0.31,0.1,null,21.32,6.64,4.46,3.26,1.3,0.65,0.28999999999999998,0.1,null,13.12,4.0199999999999996,2.48,1.84,0.74,0.38,0.21,0.09,null,7.8,2.5,1.56,1.06,0.42,0.22,0.13,7.0000000000000007E-2,null,2.12,0.76,0.51,0.37,0.13,0.08,0.05,0.03]
["Van Nuys Airport",21.17,6.18,4.01,2.88,1.03,0.45,0.18,0.06,null,14.56,4.18,2.64,1.9,0.74,0.36,0.16,0.06,null,8.4499999999999993,2.4500000000000002,1.43,1.03,0.36,0.19,0.1,0.05,null,4.92,1.48,0.9,0.61,0.21,0.09,0.05,0.03,null,1.04,0.37,0.27,0.21,0.09,0.05,0.02,0.01]

{"sheet":"DieselICE","index":18,"n_rows":23,"n_cols":31,"rows_kept":23,"cut":false,"hidden":false,"merged":[[21,9,22,9],[15,2,17,6],[18,2,20,6],[21,2,22,6]]}
[]
[null,null,"DIESEL ENGINE DATA\n\n",null,null,null,{"$f":"'Tier 1 Report'!C8","v":"A/N 622795 (96, 97), Spear's Manufacturing Co."}]
[null,null,{"$f":"Intro!A39 & \" - \" &Intro!A38","v":"\n(Procedure Version 8.1 & Package N, September 1, 2017 ) - Risk Tool V1.105"}]
[]
[]
[null,null,"Engine Horse Power",780,"bhp"]
[null,null,"Engine Year Built",2015]
[null,null,"Generator Engine ? ","NO"]
[null,null,"Emission Factor from applicant or engine manufacturer's specification (*)",0,"g/bhp-hr"]
[null,null,"EPA's PM non-road exhaust emission standards (**)",{"$f":"I23","v":0.03},"g/bhp-hr",null,null,null,null,null,"PM Emission Factor Limits (g/(bhp*hr) based on ARB's Off-Road Compression-Ignition (Diesel) Engine Standards  (last update Mar 2010)"]
[null,null,null,null,null,null,null,null,"Row ","Rating (BHP)",1995,1996,1997,1998,1999,2000,2001,2002,2003,2004,2005,2006,2007,2008,2009,2010,2011,2012,2013,2014,2015]
[null,null,null,null,null,null,null,null,1,"50-75",0,0,0,0,0,0,0,0,0,0.3,0.3,0.3,0.3,0.22,0.22,0.22,0.22,0.22,0.02,0.02,0.02]
[null,"Code","Compound","R1 (Uncontrolled) (lbs/hr) (***)","Efficiency","R2 (Controlled) \n(lbs/hr)",null,null,2,"75-100",0,0,0,0,0,0,0,0,0,0.3,0.3,0.3,0.3,0.3,0.3,0.3,0.3,0.01,0.01,0.01,0.01]
[null,"P1",{"$f":"VLOOKUP(B14,TAClist,2,FALSE)","v":"Particulate Emissions from Diesel-Fueled Engines"},{"$f":"IF(D9<>0,$D$9*DieselICEPower/454,IF(ISTEXT(D10),\"No look up value. Enter Emission Factor in cell D9\",$D$10*DieselICEPower/454))","v":5.1541850220264314E-2},0.1,{"$f":"D14*(1-$E14)","v":4.6387665198237886E-2},null,null,3,"100-175",0,0,0,0,0,0,0,0,0.22,0.22,0.22,0.22,0.22,0.22,0.22,0.22,0.22,0.01,0.01,0.01,0.01]
[null,null,null,null,null,null,null,null,4,"175-300",0,0.4,0.4,0.4,0.4,0.4,0.4,0.4,0.15,0.15,0.15,0.15,0.15,0.15,0.15,0.15,1.4999999999999999E-2,1.4999999999999999E-2,1.4999999999999999E-2,0.01,0.01]
[null,null,"   (*) From applicant or engine manufaturer's specifications. ",null,null,null,null,null,5,"300-600",0,0.4,0.4,0.4,0.4,0.4,0.15,0.15,0.15,0.15,0.15,0.15,0.15,0.15,0.15,0.15,1.4999999999999999E-2,1.4999999999999999E-2,1.4999999999999999E-2,0.01,0.01]
[null,null,null,null,null,null,null,null,6,"600-750",0,0.4,0.4,0.4,0.4,0.4,0.4,0.15,0.15,0.15,0.15,0.15,0.15,0.15,0.15,0.15,1.4999999999999999E-2,1.4999999999999999E-2,1.4999999999999999E-2,0.01,0.01]
[null,null,null,null,null,null,null,null,7,"> 750",0,0,0,0,0,0.4,0.4,0.4,0.4,0.4,0.4,0.15,0.15,0.15,0.15,0.15,7.0000000000000007E-2,7.0000000000000007E-2,7.0000000000000007E-2,7.0000000000000007E-2,0.03]
[null,null,"   (**) From EPA non-road engine exhaust emission standards for Diesel ICE based on engine HP,  engine year built and engine type.  (http://www.arb.ca.gov/msprog/offroad/offroad.htm & http://www.epa.gov/otaq/standards/nonroad/nonroadci.htm)",null,null,null,null,null,8,"(750,1207]",0,0,0,0,0,0.4,0.4,0.4,0.4,0.4,0.4,0.15,0.15,0.15,0.15,0.15,7.0000000000000007E-2,7.0000000000000007E-2,7.0000000000000007E-2,7.0000000000000007E-2,0.02]
[null,null,null,null,null,null,null,null,9,"> 1207",0,0,0,0,0,0.4,0.4,0.4,0.4,0.4,0.4,0.15,0.15,0.15,0.15,0.15,7.0000000000000007E-2,7.0000000000000007E-2,7.0000000000000007E-2,7.0000000000000007E-2,0.02]
[null,null,null,null,null,null,null,null,null,null,null,null,null,null,null,null,null,null,null,null,null,null,null,null,null,"http://www.arb.ca.gov/msprog/offroad/offroad.htm"]
[null,null,"  (***) Uncontrolled emission R1 is calculated as followed:\n         R1 = Engine Power [BHP] x   Emission Factor [g/BHP-hr] x  1 lb/454 g \n\n    \n\n",null,null,null,null,null,{"$f":"IF(D6<75,1,IF(D6<100,2,IF(D6<175,3,IF(D6<300,4,IF(D6<600,5,IF(D6<750,6,IF(D8=\"YES\",IF(D6<1207,8,9),7)))))))","v":7},"Generator Engine Choice","YES"]
[null,null,null,null,null,null,null,null,{"$f":"VLOOKUP(I22,I11:AE20,MATCH(D7,K11:AE11)+2,0)","v":0.03},null,"NO"]

{"sheet":"Diesel Engine Calc","index":19,"n_rows":40,"n_cols":22,"rows_kept":40,"cut":false,"hidden":true,"merged":[[2,5,2,10],[2,11,3,13],[12,2,12,9],[22,2,22,9],[33,2,33,9]]}
[null,"Look up for Diesel Engine's X/Q"]
[]
[null,null,null,null,null,"Interpolation for X/Q from Nearest Distances",null,null,null,null,null,"Interpolation New Distance for Cancer Burden Calculation"]
[null,"Operating Hours (hrs/day)",{"$f":"HoursPerDay","v":24},null,null,"BHP",{"$f":"DieselICEPower","v":780},null,"row:",{"$f":"S4","v":6},null,null,null,null,null,null,"BHP","ROW",{"$f":"MIN(S5:S11)","v":6}]
[null,"Station",{"$f":"Emissions!$E$22","v":"Van Nuys Airport"},null,null,null,"Residential",null,null,"Industrial",null,null,"X/Q for one-in-a-million",null,null,"<50",50,1,{"$f":"IF($G$4<Q5,Q5,\"No\")","v":"No"}]
[null,"X/Q (residential)",{"$f":"$G$8","v":0.21030000000000001},null,null,"near","actual","far","near","actual","far","near","actual","far",null,"50 < Rating ≤ 175",175,2,{"$f":"IF($G$4<=Q6,R6,\"No\")","v":"No"}]
[null,"X/Q (industrial)",{"$f":"$J$8","v":8.0999999999999989E-2},null,"Distance (m)",{"$f":"IF(G7<25,25,HLOOKUP(G7,table2_de,1,TRUE))","v":100},{"$f":"Emissions!E20","v":157},{"$f":"IF(G7<25,25,IF(G7>=1000,1000,IF(G7=HLOOKUP(G7,table2_de,1,TRUE),G7,INDEX(table2_de,1,MATCH(G7,C14:J14,1)+1))))","v":200},{"$f":"IF(J7<25,25,HLOOKUP(J7,table2_de,1,TRUE))","v":200},{"$f":"Emissions!E21","v":265},{"$f":"IF(J7<25,25,IF(J7>=1000,1000,IF(J7=HLOOKUP(J7,table2_de,1,TRUE),J7,INDEX(table2_de,1,MATCH(J7,C14:J14,1)+1))))","v":300},{"$f":"IF(HoursPerDay<=12,VLOOKUP($J$4,$A$15:$S$19,17,FALSE),VLOOKUP($J$4,$A$25:$S$29,17,FALSE))","v":1000},{"$f":"IF(L7=\"\",\"\",IF(N7=L7,L7,L7-(L8-M8)/(L8-N8)*(L7-N7)))","v":1000},{"$f":"IF(HoursPerDay<=12,VLOOKUP($J$4,$A$15:$S$19,19,FALSE),VLOOKUP($J$4,$A$25:$S$29,19,FALSE))","v":1000},null,"175 < Rating ≤ 300",300,3,"No"]
[null,"X/Q max acute (residential)",{"$f":"G9","v":13.6356},null,"X/Q",{"$f":"IF(C4<=12,HLOOKUP(F7,table2_de,$J$4,TRUE),HLOOKUP(F7,table3_de,$J$4,TRUE))","v":0.33},{"$f":"IF(F8=H8,F8,F8-(((G7-F7)/(H7-F7))*(F8-H8)))","v":0.21030000000000001},{"$f":"IF(C4<=12,HLOOKUP(H7,table2_de,$J$4,TRUE),HLOOKUP(H7,table3_de,$J$4,TRUE))","v":0.12},{"$f":"IF(C4<=12,HLOOKUP(I7,table2_de,$J$4,TRUE),HLOOKUP(I7,table3_de,$J$4,TRUE))","v":0.12},{"$f":"IF(I8=K8,I8,I8-(((J7-I7)/(K7-I7))*(I8-K8)))","v":8.0999999999999989E-2},{"$f":"IF(C4<=12,HLOOKUP(K7,table2_de,$J$4,TRUE),HLOOKUP(K7,table3_de,$J$4,TRUE))","v":0.06},{"$f":"IF(HoursPerDay<=12,VLOOKUP($J$4,$A$15:$S$19,16,FALSE),VLOOKUP($J$4,$A$25:$S$29,16,FALSE))","v":0.01},{"$f":"'Tier 2 Report'!N152","v":0},{"$f":"IF(HoursPerDay<=12,VLOOKUP($J$4,$A$15:$S$19,18,FALSE),VLOOKUP($J$4,$A$25:$S$29,18,FALSE))","v":0.01},null,"300 < Rating ≤ 400",400,4,"No"]
[null,"X/Q max acute (industrial)",{"$f":"J9","v":4.5019999999999998},null,"X/Q Max Acute",{"$f":"HLOOKUP(F7,table6_de,$J$4,TRUE)","v":20.43},{"$f":"IF(F9=H9,F9,F9-(((G8-F8)/(H8-F8))*(F9-H9)))","v":13.6356},{"$f":"HLOOKUP(H7,table6_de,$J$4,TRUE)","v":8.51},{"$f":"HLOOKUP(I7,EngineCalcAcute,$J$4,TRUE)","v":5.88},{"$f":"IF(I9=K9,I9,I9-(((J8-I8)/(K8-I8))*(I9-K9)))","v":4.5019999999999998},{"$f":"HLOOKUP(K7,EngineCalcAcute,$J$4,TRUE)","v":3.76},null,null,null,null,"400 < Rating ≤ 600",600,5,"No"]
[null,null,null,null,null,null,null,null,null,null,null,null,null,null,null,"600 < Rating ≤ 1150",1150,6,6]
[null,null,null,null,null,null,null,null,null,null,null,null,null,null,null,">1150",99999,6,6]
[null,"Table 10A Diesel Engine  - Point Source, operating 12 hrs/day or less (µg/m³)/(tons/yr)"]
[null,"Rating (BHP)","Downwind Distance (meters)"]
["ROW",null,25,50,75,100,200,300,500,1000,null,null,null,null,null,"Nearest X/Q - high","nearest dist - low","Nearest X/Q- low","nearest dist - high",null,"Column","Dist"]
[2,"50 < Rating ≤ 175",{"$f":"VLOOKUP($C$5,DieselEngineLessThan12,2,FALSE)","v":21.16},{"$f":"VLOOKUP($C$5,DieselEngineLessThan12,3,FALSE)","v":6.06},{"$f":"VLOOKUP($C$5,DieselEngineLessThan12,4,FALSE)","v":3.58},{"$f":"VLOOKUP($C$5,DieselEngineLessThan12,5,FALSE)","v":2.23},{"$f":"VLOOKUP($C$5,DieselEngineLessThan12,6,FALSE)","v":0.5},{"$f":"VLOOKUP($C$5,DieselEngineLessThan12,7,FALSE)","v":0.19},{"$f":"VLOOKUP($C$5,DieselEngineLessThan12,8,FALSE)","v":0.06},{"$f":"VLOOKUP($C$5,DieselEngineLessThan12,9,FALSE)","v":0.01},null,null,null,null,null,{"$f":"INDEX($C15:$J15,1,MATCH($M$8,$C15:$J15,-1))","v":0.01},{"$f":"VLOOKUP(MATCH(P15,$C15:$J15,0),$U$15:$V$22,2,FALSE)","v":1000},{"$f":"IF(ISERR(INDEX($C15:$J15,1,1+MATCH($M$8,$C15:$J15,-1))),P15,INDEX($C15:$J15,1,1+MATCH($M$8,$C15:$J15,-1)))","v":0.01},{"$f":"VLOOKUP(MATCH(R15,$C15:$J15,0),$U$15:$V$22,2,FALSE)","v":1000},null,1,25]
[3,"175 < Rating ≤ 300",{"$f":"VLOOKUP($C$5,DieselEngineLessThan12,11,FALSE)","v":17.489999999999998},{"$f":"VLOOKUP($C$5,DieselEngineLessThan12,12,FALSE)","v":5.17},{"$f":"VLOOKUP($C$5,DieselEngineLessThan12,13,FALSE)","v":3.16},{"$f":"VLOOKUP($C$5,DieselEngineLessThan12,14,FALSE)","v":2.04},{"$f":"VLOOKUP($C$5,DieselEngineLessThan12,15,FALSE)","v":0.48},{"$f":"VLOOKUP($C$5,DieselEngineLessThan12,16,FALSE)","v":0.18},{"$f":"VLOOKUP($C$5,DieselEngineLessThan12,17,FALSE)","v":0.06},{"$f":"VLOOKUP($C$5,DieselEngineLessThan12,18,FALSE)","v":0.01},null,null,null,null,null,{"$f":"INDEX($C16:$J16,1,MATCH($M$8,$C16:$J16,-1))","v":0.01},{"$f":"VLOOKUP(MATCH(P16,$C16:$J16,0),$U$15:$V$22,2,FALSE)","v":1000},{"$f":"IF(ISERR(INDEX($C16:$J16,1,1+MATCH($M$8,$C16:$J16,-1))),P16,INDEX($C16:$J16,1,1+MATCH($M$8,$C16:$J16,-1)))","v":0.01},{"$f":"VLOOKUP(MATCH(R16,$C16:$J16,0),$U$15:$V$22,2,FALSE)","v":1000},null,2,50]
[4,"300 < Rating ≤ 400",{"$f":"VLOOKUP($C$5,DieselEngineLessThan12,20,FALSE)","v":12.43},{"$f":"VLOOKUP($C$5,DieselEngineLessThan12,21,FALSE)","v":3.98},{"$f":"VLOOKUP($C$5,DieselEngineLessThan12,22,FALSE)","v":2.4300000000000002},{"$f":"VLOOKUP($C$5,DieselEngineLessThan12,23,FALSE)","v":1.68},{"$f":"VLOOKUP($C$5,DieselEngineLessThan12,24,FALSE)","v":0.44},{"$f":"VLOOKUP($C$5,DieselEngineLessThan12,25,FALSE)","v":0.17},{"$f":"VLOOKUP($C$5,DieselEngineLessThan12,26,FALSE)","v":0.06},{"$f":"VLOOKUP($C$5,DieselEngineLessThan12,27,FALSE)","v":0.01},null,null,null,null,null,{"$f":"INDEX($C17:$J17,1,MATCH($M$8,$C17:$J17,-1))","v":0.01},{"$f":"VLOOKUP(MATCH(P17,$C17:$J17,0),$U$15:$V$22,2,FALSE)","v":1000},{"$f":"IF(ISERR(INDEX($C17:$J17,1,1+MATCH($M$8,$C17:$J17,-1))),P17,INDEX($C17:$J17,1,1+MATCH($M$8,$C17:$J17,-1)))","v":0.01},{"$f":"VLOOKUP(MATCH(R17,$C17:$J17,0),$U$15:$V$22,2,FALSE)","v":1000},null,3,75]
[5,"400 < Rating ≤ 600",{"$f":"VLOOKUP($C$5,DieselEngineLessThan12,29,FALSE)","v":9.4600000000000009},{"$f":"VLOOKUP($C$5,DieselEngineLessThan12,30,FALSE)","v":3.16},{"$f":"VLOOKUP($C$5,DieselEngineLessThan12,31,FALSE)","v":2},{"$f":"VLOOKUP($C$5,DieselEngineLessThan12,32,FALSE)","v":1.35},{"$f":"VLOOKUP($C$5,DieselEngineLessThan12,33,FALSE)","v":0.4},{"$f":"VLOOKUP($C$5,DieselEngineLessThan12,34,FALSE)","v":0.16},{"$f":"VLOOKUP($C$5,DieselEngineLessThan12,35,FALSE)","v":0.06},{"$f":"VLOOKUP($C$5,DieselEngineLessThan12,36,FALSE)","v":0.01},null,null,null,null,null,{"$f":"INDEX($C18:$J18,1,MATCH($M$8,$C18:$J18,-1))","v":0.01},{"$f":"VLOOKUP(MATCH(P18,$C18:$J18,0),$U$15:$V$22,2,FALSE)","v":1000},{"$f":"IF(ISERR(INDEX($C18:$J18,1,1+MATCH($M$8,$C18:$J18,-1))),P18,INDEX($C18:$J18,1,1+MATCH($M$8,$C18:$J18,-1)))","v":0.01},{"$f":"VLOOKUP(MATCH(R18,$C18:$J18,0),$U$15:$V$22,2,FALSE)","v":1000},null,4,100]
[6,"600 < Rating ≤ 1150",{"$f":"VLOOKUP($C$5,DieselEngineLessThan12,38,FALSE)","v":3.67},{"$f":"VLOOKUP($C$5,DieselEngineLessThan12,39,FALSE)","v":1.31},{"$f":"VLOOKUP($C$5,DieselEngineLessThan12,40,FALSE)","v":0.95},{"$f":"VLOOKUP($C$5,DieselEngineLessThan12,41,FALSE)","v":0.72},{"$f":"VLOOKUP($C$5,DieselEngineLessThan12,42,FALSE)","v":0.26},{"$f":"VLOOKUP($C$5,DieselEngineLessThan12,43,FALSE)","v":0.12},{"$f":"VLOOKUP($C$5,DieselEngineLessThan12,44,FALSE)","v":0.05},{"$f":"VLOOKUP($C$5,DieselEngineLessThan12,45,FALSE)","v":0.01},null,null,null,null,null,{"$f":"INDEX($C19:$J19,1,MATCH($M$8,$C19:$J19,-1))","v":0.01},{"$f":"VLOOKUP(MATCH(P19,$C19:$J19,0),$U$15:$V$22,2,FALSE)","v":1000},{"$f":"IF(ISERR(INDEX($C19:$J19,1,1+MATCH($M$8,$C19:$J19,-1))),P19,INDEX($C19:$J19,1,1+MATCH($M$8,$C19:$J19,-1)))","v":0.01},{"$f":"VLOOKUP(MATCH(R19,$C19:$J19,0),$U$15:$V$22,2,FALSE)","v":1000},null,5,200]
[null,null,null,null,null,null,null,null,null,null,null,null,null,null,null,null,null,null,null,null,6,300]
[null,null,null,null,null,null,null,null,null,null,null,null,null,null,null,null,null,null,null,null,7,500]
[null,"Table 10B Diesel Engine - Point Source, operating more than 12 hrs/day (µg/m³)/(tons/yr)",null,null,null,null,null,null,null,null,null,null,null,null,null,null,null,null,null,null,8,1000]
[null,"Rating (BHP)","Downwind Distance (meters)"]
["ROW",null,25,50,75,100,200,300,500,1000,null,null,null,null,null,"Nearest X/Q - high","nearest dist - low","Nearest X/Q- low","nearest dist - high"]
[2,{"$f":"B15","v":"50 < Rating ≤ 175"},{"$f":"VLOOKUP($C$5,DieselEngineMoreThan12,2,FALSE)","v":13.6},{"$f":"VLOOKUP($C$5,DieselEngineMoreThan12,3,FALSE)","v":4.17},{"$f":"VLOOKUP($C$5,DieselEngineMoreThan12,4,FALSE)","v":2.64},{"$f":"VLOOKUP($C$5,DieselEngineMoreThan12,5,FALSE)","v":1.9},{"$f":"VLOOKUP($C$5,DieselEngineMoreThan12,6,FALSE)","v":0.73},{"$f":"VLOOKUP($C$5,DieselEngineMoreThan12,7,FALSE)","v":0.35},{"$f":"VLOOKUP($C$5,DieselEngineMoreThan12,8,FALSE)","v":0.16},{"$f":"VLOOKUP($C$5,DieselEngineMoreThan12,9,FALSE)","v":0.06},null,null,null,null,null,{"$f":"INDEX($C25:$J25,1,MATCH($M$8,$C25:$J25,-1))","v":0.06},{"$f":"VLOOKUP(MATCH(P25,$C25:$J25,0),$U$15:$V$22,2,FALSE)","v":1000},{"$f":"IF(ISERR(INDEX($C25:$J25,1,1+MATCH($M$8,$C25:$J25,-1))),P25,INDEX($C25:$J25,1,1+MATCH($M$8,$C25:$J25,-1)))","v":0.06},{"$f":"VLOOKUP(MATCH(R25,$C25:$J25,0),$U$15:$V$22,2,FALSE)","v":1000}]
[3,{"$f":"B16","v":"175 < Rating ≤ 300"},{"$f":"VLOOKUP($C$5,DieselEngineMoreThan12,11,FALSE)","v":10.94},{"$f":"VLOOKUP($C$5,DieselEngineMoreThan12,12,FALSE)","v":3.32},{"$f":"VLOOKUP($C$5,DieselEngineMoreThan12,13,FALSE)","v":2.06},{"$f":"VLOOKUP($C$5,DieselEngineMoreThan12,14,FALSE)","v":1.47},{"$f":"VLOOKUP($C$5,DieselEngineMoreThan12,15,FALSE)","v":0.55000000000000004},{"$f":"VLOOKUP($C$5,DieselEngineMoreThan12,16,FALSE)","v":0.28000000000000003},{"$f":"VLOOKUP($C$5,DieselEngineMoreThan12,17,FALSE)","v":0.13},{"$f":"VLOOKUP($C$5,DieselEngineMoreThan12,18,FALSE)","v":0.05},null,null,null,null,null,{"$f":"INDEX($C26:$J26,1,MATCH($M$8,$C26:$J26,-1))","v":0.05},{"$f":"VLOOKUP(MATCH(P26,$C26:$J26,0),$U$15:$V$22,2,FALSE)","v":1000},{"$f":"IF(ISERR(INDEX($C26:$J26,1,1+MATCH($M$8,$C26:$J26,-1))),P26,INDEX($C26:$J26,1,1+MATCH($M$8,$C26:$J26,-1)))","v":0.05},{"$f":"VLOOKUP(MATCH(R26,$C26:$J26,0),$U$15:$V$22,2,FALSE)","v":1000}]
[4,{"$f":"B17","v":"300 < Rating ≤ 400"},{"$f":"VLOOKUP($C$5,DieselEngineMoreThan12,20,FALSE)","v":7.7},{"$f":"VLOOKUP($C$5,DieselEngineMoreThan12,21,FALSE)","v":2.4500000000000002},{"$f":"VLOOKUP($C$5,DieselEngineMoreThan12,22,FALSE)","v":1.42},{"$f":"VLOOKUP($C$5,DieselEngineMoreThan12,23,FALSE)","v":1.02},{"$f":"VLOOKUP($C$5,DieselEngineMoreThan12,24,FALSE)","v":0.35},{"$f":"VLOOKUP($C$5,DieselEngineMoreThan12,25,FALSE)","v":0.17},{"$f":"VLOOKUP($C$5,DieselEngineMoreThan12,26,FALSE)","v":0.09},{"$f":"VLOOKUP($C$5,DieselEngineMoreThan12,27,FALSE)","v":0.04},null,null,null,null,null,{"$f":"INDEX($C27:$J27,1,MATCH($M$8,$C27:$J27,-1))","v":0.04},{"$f":"VLOOKUP(MATCH(P27,$C27:$J27,0),$U$15:$V$22,2,FALSE)","v":1000},{"$f":"IF(ISERR(INDEX($C27:$J27,1,1+MATCH($M$8,$C27:$J27,-1))),P27,INDEX($C27:$J27,1,1+MATCH($M$8,$C27:$J27,-1)))","v":0.04},{"$f":"VLOOKUP(MATCH(R27,$C27:$J27,0),$U$15:$V$22,2,FALSE)","v":1000}]
[5,{"$f":"B18","v":"400 < Rating ≤ 600"},{"$f":"VLOOKUP($C$5,DieselEngineMoreThan12,29,FALSE)","v":5.68},{"$f":"VLOOKUP($C$5,DieselEngineMoreThan12,30,FALSE)","v":1.85},{"$f":"VLOOKUP($C$5,DieselEngineMoreThan12,31,FALSE)","v":1.1000000000000001},{"$f":"VLOOKUP($C$5,DieselEngineMoreThan12,32,FALSE)","v":0.74},{"$f":"VLOOKUP($C$5,DieselEngineMoreThan12,33,FALSE)","v":0.25},{"$f":"VLOOKUP($C$5,DieselEngineMoreThan12,34,FALSE)","v":0.11},{"$f":"VLOOKUP($C$5,DieselEngineMoreThan12,35,FALSE)","v":0.06},{"$f":"VLOOKUP($C$5,DieselEngineMoreThan12,36,FALSE)","v":0.03},null,null,null,null,null,{"$f":"INDEX($C28:$J28,1,MATCH($M$8,$C28:$J28,-1))","v":0.03},{"$f":"VLOOKUP(MATCH(P28,$C28:$J28,0),$U$15:$V$22,2,FALSE)","v":1000},{"$f":"IF(ISERR(INDEX($C28:$J28,1,1+MATCH($M$8,$C28:$J28,-1))),P28,INDEX($C28:$J28,1,1+MATCH($M$8,$C28:$J28,-1)))","v":0.03},{"$f":"VLOOKUP(MATCH(R28,$C28:$J28,0),$U$15:$V$22,2,FALSE)","v":1000}]
[6,{"$f":"B19","v":"600 < Rating ≤ 1150"},{"$f":"VLOOKUP($C$5,DieselEngineMoreThan12,38,FALSE)","v":1.87},{"$f":"VLOOKUP($C$5,DieselEngineMoreThan12,39,FALSE)","v":0.65},{"$f":"VLOOKUP($C$5,DieselEngineMoreThan12,40,FALSE)","v":0.45},{"$f":"VLOOKUP($C$5,DieselEngineMoreThan12,41,FALSE)","v":0.33},{"$f":"VLOOKUP($C$5,DieselEngineMoreThan12,42,FALSE)","v":0.12},{"$f":"VLOOKUP($C$5,DieselEngineMoreThan12,43,FALSE)","v":0.06},{"$f":"VLOOKUP($C$5,DieselEngineMoreThan12,44,FALSE)","v":0.03},{"$f":"VLOOKUP($C$5,DieselEngineMoreThan12,45,FALSE)","v":0.01},null,null,null,null,null,{"$f":"INDEX($C29:$J29,1,MATCH($M$8,$C29:$J29,-1))","v":0.01},{"$f":"VLOOKUP(MATCH(P29,$C29:$J29,0),$U$15:$V$22,2,FALSE)","v":1000},{"$f":"IF(ISERR(INDEX($C29:$J29,1,1+MATCH($M$8,$C29:$J29,-1))),P29,INDEX($C29:$J29,1,1+MATCH($M$8,$C29:$J29,-1)))","v":0.01},{"$f":"VLOOKUP(MATCH(R29,$C29:$J29,0),$U$15:$V$22,2,FALSE)","v":1000}]
[]
[]
[null,"Table 10.6 Dispersion Factors (X/Q) for Acute Hazard Index"]
[null,"All Operating Conditions X/Q Values [(µg/m³)/(lbs/hr)] "]
[null,"Rating (BHP)","Downwind Distance (meters)"]
["Row ",null,25,50,75,100,200,300,500,1000]
[2,{"$f":"B25","v":"50 < Rating ≤ 175"},361.32,121.96,90.85,73.66,33.200000000000003,14.52,6.12,2.86]
[3,{"$f":"B26","v":"175 < Rating ≤ 300"},309.73,100.99,73.33,60.55,25.94,12.36,5.45,2.67]
[4,{"$f":"B27","v":"300 < Rating ≤ 400"},238.41,80.180000000000007,54.79,44.34,19.52,9.85,4.54,2.0699999999999998]
[5,{"$f":"B28","v":"400 < Rating ≤ 600"},198.38,67.23,46.82,35.85,15.74,8.3699999999999992,3.94,1.75]
[6,{"$f":"B29","v":"600 < Rating ≤ 1150"},107.85,35.729999999999997,26.27,20.43,8.51,5.36,2.83,1.25]

{"sheet":"DieselEngine data","index":20,"n_rows":75,"n_cols":45,"rows_kept":75,"cut":false,"hidden":true,"merged":[[2,37,2,44],[35,37,35,44],[35,19,35,26],[35,28,35,35],[35,1,35,8],[35,10,35,17],[66,0,74,0],[2,1,2,8],[2,10,2,17],[2,19,2,26],[2,28,2,35]]}
["Table 10A - Dispersion Factors (X/Q) for Diesel ICE Operating 12 Hours per Day or Less Carcinogenic, Chronic and Chronic 8-Hour  "]
["([ug/m3]/[ton/year]) ","Diesel ICE Rating 50 to 175 BHP",null,null,null,null,null,null,null,null,"Diesel ICE Rating >175 to 300 BHP",null,null,null,null,null,null,null,null,"Diesel ICE Rating >300 to 400 BHP",null,null,null,null,null,null,null,null,"Diesel ICE Rating >400 to 600 BHP",null,null,null,null,null,null,null,null,"Diesel ICE Rating >600 to 1,150 BHP"]
[null,"Downwind Distance (meters)",null,null,null,null,null,null,null,null,"Downwind Distance (meters)",null,null,null,null,null,null,null,null,"Downwind Distance (meters)",null,null,null,null,null,null,null,null,"Downwind Distance (meters)",null,null,null,null,null,null,null,null,"Downwind Distance (meters)"]
["Location","25","50","75","100","200","300","500",1000,null,"25","50","75","100","200","300","500",1000,null,"25","50","75","100","200","300","500",1000,null,"25","50","75","100","200","300","500",1000,null,"25","50","75","100","200","300","500",1000]
["Azusa",16.41,5.87,3.57,2.1800000000000002,0.43,0.14000000000000001,0.05,0.01,null,12.51,4.63,2.99,1.93,0.4,0.13,0.04,0.01,null,7.52,3.35,2.1800000000000002,1.51,0.36,0.12,0.04,0.01,null,4.3600000000000003,2.09,1.47,1.02,0.28999999999999998,0.1,0.04,0.01,null,0.69,0.41,0.37,0.31,0.15,0.08,0.03,0.01]
["Banning",27.27,7.5,4.43,2.78,0.65,0.23,0.08,0.02,null,23,6.47,3.95,2.57,0.63,0.23,0.08,0.02,null,16.850000000000001,5.16,3.14,2.1800000000000002,0.59,0.21,7.0000000000000007E-2,0.02,null,12.99,4.1399999999999997,2.65,1.8,0.54,0.2,7.0000000000000007E-2,0.02,null,5.23,1.79,1.34,1.03,0.37,0.16,0.06,0.02]
["Central L.A.",19.739999999999998,6.52,3.71,2.2000000000000002,0.44,0.13,0.04,0.01,null,15.94,5.56,3.28,2.0099999999999998,0.41,0.13,0.04,0.01,null,10.49,4.09,2.4700000000000002,1.63,0.37,0.11,0.04,0.01,null,7.39,3.07,1.98,1.3,0.33,0.1,0.03,0.01,null,1.98,0.82,0.67,0.51,0.18,0.08,0.03,0.01]
["Lake Elsinore",11.19,3.9,2.38,1.47,0.32,0.11,0.04,0.01,null,8.16,2.95,1.95,1.29,0.3,0.11,0.04,0.01,null,4.8899999999999997,1.93,1.3,0.93,0.25,0.09,0.03,0.01,null,3.07,1.24,0.89,0.64,0.21,0.08,0.03,0.01,null,0.77,0.39,0.33,0.28000000000000003,0.12,0.06,0.03,0.01]
["Fontana",22.8,6.68,4.01,2.48,0.53,0.18,0.06,0.02,null,18.260000000000002,5.49,3.47,2.25,0.5,0.18,0.06,0.02,null,12.44,4.1399999999999997,2.61,1.82,0.45,0.16,0.06,0.01,null,8.67,2.99,1.99,1.37,0.4,0.15,0.05,0.01,null,2.78,1.01,0.81,0.64,0.25,0.11,0.05,0.01]
["Mission Viejo",14.22,4.76,2.84,1.7,0.34,0.12,0.04,0.01,null,10.62,3.78,2.38,1.52,0.32,0.11,0.04,0.01,null,6.75,2.66,1.69,1.1399999999999999,0.27,0.1,0.04,0.01,null,4.07,1.69,1.1499999999999999,0.78,0.22,0.09,0.03,0.01,null,0.78,0.41,0.36,0.3,0.13,7.0000000000000007E-2,0.03,0.01]
["Perris",14.34,4.49,2.7,1.71,0.4,0.15,0.05,0.01,null,11.61,3.7,2.3199999999999998,1.53,0.38,0.14000000000000001,0.05,0.01,null,8.3699999999999992,2.84,1.77,1.24,0.34,0.13,0.05,0.01,null,6.25,2.19,1.42,0.98,0.3,0.12,0.04,0.01,null,2.42,0.91,0.68,0.52,0.2,0.09,0.04,0.01]
["Pico Rivera",21.87,6.65,3.8,2.2999999999999998,0.46,0.15,0.05,0.01,null,17.510000000000002,5.55,3.32,2.09,0.43,0.15,0.05,0.01,null,12.37,4.3099999999999996,2.56,1.7,0.38,0.13,0.05,0.01,null,8.67,3.16,1.97,1.29,0.33,0.12,0.04,0.01,null,2.83,1.07,0.8,0.6,0.2,0.09,0.04,0.01]
["Redlands",14.93,5.67,3.48,2.12,0.42,0.14000000000000001,0.05,0.01,null,11.11,4.32,2.82,1.82,0.38,0.13,0.05,0.01,null,6.69,3.14,2.08,1.46,0.35,0.12,0.04,0.01,null,3.76,1.92,1.38,0.97,0.28000000000000003,0.11,0.04,0.01,null,0.65,0.4,0.38,0.32,0.15,0.08,0.04,0.01]
["Upland",23.12,7.26,4.47,2.79,0.57999999999999996,0.19,0.06,0.02,null,18.11,5.9,3.83,2.5,0.55000000000000004,0.18,0.06,0.02,null,12.13,4.46,2.89,2.0299999999999998,0.49,0.16,0.06,0.02,null,7.92,3.12,2.16,1.5,0.42,0.15,0.05,0.01,null,1.95,0.81,0.7,0.56999999999999995,0.23,0.11,0.05,0.01]
["Burbank Airport",28.28,7.43,4.32,2.68,0.56999999999999995,0.21,7.0000000000000007E-2,0.02,null,23.52,6.35,3.82,2.46,0.55000000000000004,0.21,7.0000000000000007E-2,0.02,null,16.559999999999999,4.93,2.96,2.0299999999999998,0.5,0.19,7.0000000000000007E-2,0.02,null,12.55,3.93,2.46,1.65,0.45,0.18,7.0000000000000007E-2,0.02,null,4.6100000000000003,1.56,1.1299999999999999,0.86,0.3,0.14000000000000001,0.06,0.02]
["Chino Airport.",21.41,6.44,3.95,2.5099999999999998,0.6,0.22,7.0000000000000007E-2,0.02,null,18.16,5.45,3.45,2.2799999999999998,0.57999999999999996,0.22,7.0000000000000007E-2,0.02,null,13.35,4.24,2.67,1.89,0.53,0.2,7.0000000000000007E-2,0.02,null,10.43,3.42,2.2200000000000002,1.54,0.48,0.19,7.0000000000000007E-2,0.02,null,4.53,1.57,1.1200000000000001,0.86,0.32,0.15,0.06,0.02]
["USC/Downtown L.A.",16.25,5.97,3.83,2.41,0.51,0.17,0.06,0.01,null,11.38,4.57,3.15,2.11,0.48,0.16,0.06,0.01,null,6.74,3.14,2.19,1.61,0.42,0.15,0.05,0.01,null,4.2,2.14,1.61,1.17,0.36,0.13,0.05,0.01,null,0.41,0.35,0.34,0.3,0.16,0.09,0.04,0.01]
["Fullerton Airport",23.65,6.75,4.01,2.5,0.54,0.19,0.06,0.02,null,19.07,5.69,3.52,2.2799999999999998,0.52,0.18,0.06,0.02,null,13.26,4.34,2.69,1.87,0.47,0.17,0.06,0.02,null,9.66,3.35,2.19,1.49,0.42,0.15,0.05,0.01,null,3.29,1.23,0.95,0.73,0.26,0.12,0.05,0.01]
["Hawthorne Airport",33.46,8.98,5.34,3.36,0.76,0.26,0.09,0.02,null,28.18,7.72,4.76,3.1,0.74,0.25,0.08,0.02,null,20.29,6.11,3.78,2.62,0.68,0.24,0.08,0.02,null,15.71,4.9400000000000004,3.21,2.19,0.63,0.22,0.08,0.02,null,6.2,2.12,1.62,1.24,0.43,0.18,7.0000000000000007E-2,0.02]
["Los Angeles Int'l Airport",38.9,10.54,6.49,4.2300000000000004,1.07,0.38,0.13,0.03,null,33.67,9.18,5.82,3.91,1.03,0.37,0.12,0.03,null,24.46,7.34,4.6100000000000003,3.29,0.95,0.35,0.12,0.03,null,19.21,6,3.91,2.73,0.88,0.33,0.11,0.03,null,8.0399999999999991,2.71,2.02,1.56,0.59,0.26,0.1,0.03]
["Long Beach Airport",23.01,6.23,3.74,2.38,0.54,0.2,7.0000000000000007E-2,0.02,null,18.95,5.29,3.29,2.1800000000000002,0.51,0.2,7.0000000000000007E-2,0.02,null,13.34,4.09,2.5299999999999998,1.79,0.47,0.18,7.0000000000000007E-2,0.02,null,10.06,3.25,2.1,1.44,0.42,0.17,0.06,0.02,null,3.35,1.23,0.93,0.72,0.27,0.13,0.05,0.01]
["Ontario Airport",28.22,7.86,4.87,3.13,0.74,0.27,0.09,0.02,null,23.49,6.64,4.25,2.85,0.71,0.26,0.09,0.02,null,16.73,5.14,3.26,2.33,0.65,0.25,0.08,0.02,null,12.75,4.07,2.68,1.87,0.59,0.23,0.08,0.02,null,4.8600000000000003,1.66,1.24,0.97,0.38,0.18,7.0000000000000007E-2,0.02]
["Palm Springs Airport",15.4,4.5599999999999996,2.86,1.81,0.41,0.15,0.05,0.01,null,12.03,3.68,2.4300000000000002,1.62,0.39,0.14000000000000001,0.05,0.01,null,8.06,2.69,1.78,1.29,0.35,0.13,0.05,0.01,null,5.76,2,1.41,1,0.31,0.12,0.04,0.01,null,2.35,0.86,0.61,0.46,0.19,0.09,0.04,0.01]
["Riverside Airport",22.29,7.19,4.55,2.91,0.67,0.24,0.08,0.02,null,17.329999999999998,5.77,3.86,2.59,0.63,0.23,0.08,0.02,null,11.58,4.2699999999999996,2.84,2.08,0.57999999999999996,0.21,7.0000000000000007E-2,0.02,null,8.1999999999999993,3.16,2.2400000000000002,1.6,0.51,0.2,7.0000000000000007E-2,0.02,null,2.38,1.02,0.87,0.73,0.31,0.15,0.06,0.02]
["Santa Monica Airport",36.880000000000003,9.8699999999999992,5.9,3.76,0.87,0.3,0.1,0.02,null,31.15,8.57,5.28,3.47,0.83,0.28999999999999998,0.1,0.02,null,22.99,6.88,4.21,2.93,0.77,0.27,0.09,0.02,null,17.89,5.65,3.6,2.44,0.71,0.25,0.09,0.02,null,7.32,2.4300000000000002,1.79,1.35,0.46,0.19,0.08,0.02]
["John Wayne Int'l Airport",29.99,8.3699999999999992,4.8899999999999997,3.1,0.71,0.26,0.09,0.02,null,25.48,7.3,4.3600000000000003,2.87,0.69,0.25,0.08,0.02,null,18.86,5.84,3.47,2.4,0.63,0.24,0.08,0.02,null,14.84,4.78,2.94,1.99,0.57999999999999996,0.22,0.08,0.02,null,6.44,2.2200000000000002,1.53,1.1399999999999999,0.39,0.18,7.0000000000000007E-2,0.02]
["Desert Hot Springs Airport",20.149999999999999,6.01,3.77,2.4900000000000002,0.61,0.23,0.08,0.02,null,16.64,5.05,3.29,2.25,0.59,0.22,0.08,0.02,null,11.91,3.89,2.4900000000000002,1.83,0.53,0.2,7.0000000000000007E-2,0.02,null,9.07,3.07,2.0299999999999998,1.45,0.48,0.19,7.0000000000000007E-2,0.02,null,3.17,1.17,0.88,0.7,0.28999999999999998,0.14000000000000001,0.06,0.02]
["Van Nuys Airport",21.16,6.06,3.58,2.23,0.5,0.19,0.06,0.01,null,17.489999999999998,5.17,3.16,2.04,0.48,0.18,0.06,0.01,null,12.43,3.98,2.4300000000000002,1.68,0.44,0.17,0.06,0.01,null,9.4600000000000009,3.16,2,1.35,0.4,0.16,0.06,0.01,null,3.67,1.31,0.95,0.72,0.26,0.12,0.05,0.01]
[]
[]
[]
[]
[]
["Table 10 B - Dispersion Factors (X/Q) for Diesel ICE Operating More Than 12 Hours per Day"]
["([ug/m3]/[ton/year]) ","Diesel ICE Rating 50 to 175 BHP",null,null,null,null,null,null,null,null,"Diesel ICE Rating >175 to 300 BHP",null,null,null,null,null,null,null,null,"Diesel ICE Rating >300 to 400 BHP",null,null,null,null,null,null,null,null,"Diesel ICE Rating >400 to 600 BHP",null,null,null,null,null,null,null,null,"Diesel ICE Rating >600 to 1,150 BHP"]
["Location","Downwind Distance (meters)",null,null,null,null,null,null,null,null,"Downwind Distance (meters)",null,null,null,null,null,null,null,null,"Downwind Distance (meters)",null,null,null,null,null,null,null,null,"Downwind Distance (meters)",null,null,null,null,null,null,null,null,"Downwind Distance (meters)"]
[null,"25","50","75","100","200","300","500",1000,null,"25","50","75","100","200","300","500",1000,null,"25","50","75","100","200","300","500",1000,null,"25","50","75","100","200","300","500",1000,null,"25","50","75","100","200","300","500",1000]
["Azusa",10.78,3.7,2.65,2.0099999999999998,0.81,0.34,0.14000000000000001,0.05,null,7.87,2.66,1.9,1.46,0.61,0.28000000000000003,0.13,0.05,null,4.62,1.77,1.17,0.89,0.33,0.16,0.09,0.04,null,2.66,1.0900000000000001,0.77,0.55000000000000004,0.21,0.1,0.06,0.04,null,0.55000000000000004,0.21,0.16,0.14000000000000001,7.0000000000000007E-2,0.04,0.02,0.02]
["Banning",28.59,8.77,5.82,4.2300000000000004,1.65,0.74,0.3,0.1,null,23.57,6.99,4.55,3.35,1.37,0.65,0.28000000000000003,0.1,null,17.149999999999999,5.26,3.13,2.31,1.01,0.51,0.24,0.1,null,12.86,3.97,2.41,1.63,0.75,0.39,0.2,0.08,null,4.8,1.47,0.98,0.72,0.31,0.19,0.11,0.06]
["Central L.A.",11.17,3.68,2.57,1.9,0.74,0.28999999999999998,0.11,0.04,null,8.49,2.81,1.89,1.37,0.52,0.23,0.1,0.04,null,5.53,1.98,1.27,0.93,0.31,0.14000000000000001,7.0000000000000007E-2,0.04,null,3.83,1.47,0.99,0.68,0.23,0.09,0.05,0.03,null,0.89,0.35,0.28999999999999998,0.23,0.09,0.04,0.02,0.02]
["Lake Elsinore",6.18,2.11,1.39,0.98,0.49,0.28000000000000003,0.15,0.06,null,4.59,1.56,1.06,0.77,0.33,0.2,0.12,0.05,null,2.79,1.02,0.66,0.5,0.17,0.09,7.0000000000000007E-2,0.04,null,1.8,0.67,0.46,0.33,0.13,0.06,0.04,0.03,null,0.39,0.18,0.15,0.12,0.06,0.03,0.02,0.01]
["Fontana",16.920000000000002,5.16,3.46,2.5299999999999998,0.97,0.44,0.19,7.0000000000000007E-2,null,13.38,3.98,2.64,1.95,0.76,0.36,0.17,7.0000000000000007E-2,null,8.94,2.82,1.72,1.27,0.47,0.23,0.12,0.06,null,6.19,2,1.28,0.88,0.34,0.16,0.09,0.05,null,1.85,0.62,0.46,0.35,0.14000000000000001,0.08,0.04,0.03]
["Mission Viejo",8.2200000000000006,2.6,1.72,1.22,0.47,0.25,0.13,0.05,null,5.82,1.9,1.24,0.87,0.31,0.18,0.1,0.05,null,3.38,1.24,0.77,0.54,0.16,0.09,7.0000000000000007E-2,0.04,null,1.98,0.77,0.51,0.35,0.12,0.05,0.04,0.03,null,0.31,0.17,0.14000000000000001,0.12,0.05,0.03,0.02,0.01]
["Perris",10.57,3.45,2.2799999999999998,1.66,0.67,0.34,0.16,0.06,null,8.4499999999999993,2.7,1.76,1.29,0.51,0.26,0.14000000000000001,0.06,null,5.82,1.94,1.17,0.86,0.31,0.16,0.09,0.05,null,4.28,1.46,0.91,0.62,0.23,0.11,0.06,0.04,null,1.46,0.53,0.37,0.28000000000000003,0.11,0.05,0.03,0.02]
["Pico Rivera",14.82,4.63,2.97,2.13,0.75,0.33,0.14000000000000001,0.05,null,11.55,3.56,2.2400000000000002,1.63,0.57999999999999996,0.27,0.13,0.05,null,7.74,2.54,1.45,1.04,0.35,0.17,0.09,0.04,null,5.33,1.81,1.0900000000000001,0.73,0.26,0.11,0.06,0.03,null,1.48,0.52,0.38,0.28999999999999998,0.1,0.05,0.03,0.02]
["Redlands",8.6199999999999992,3.12,2.19,1.62,0.69,0.34,0.19,0.08,null,6.23,2.23,1.57,1.17,0.48,0.25,0.17,0.09,null,3.73,1.54,1.02,0.77,0.28000000000000003,0.14000000000000001,0.11,7.0000000000000007E-2,null,2.14,0.95,0.68,0.49,0.18,0.09,0.06,0.05,null,0.35,0.19,0.18,0.15,7.0000000000000007E-2,0.04,0.03,0.02]
["Upland",14.72,4.59,3.18,2.34,0.94,0.4,0.19,0.08,null,11.26,3.48,2.39,1.78,0.69,0.32,0.16,0.08,null,7.48,2.5,1.6,1.21,0.44,0.21,0.11,0.06,null,4.8499999999999996,1.71,1.1599999999999999,0.82,0.31,0.14000000000000001,0.08,0.05,null,1.1399999999999999,0.42,0.35,0.28999999999999998,0.12,7.0000000000000007E-2,0.04,0.02]
["Burbank Airport",18.29,5.18,3.26,2.27,0.75,0.35,0.15,0.05,null,14.9,4.18,2.59,1.82,0.59,0.28999999999999998,0.14000000000000001,0.05,null,10.43,3.11,1.8,1.28,0.41,0.19,0.1,0.04,null,7.76,2.38,1.42,0.94,0.3,0.14000000000000001,7.0000000000000007E-2,0.04,null,2.48,0.81,0.56000000000000005,0.42,0.15,7.0000000000000007E-2,0.04,0.02]
["Chino Airport.",17.11,5.17,3.4,2.4500000000000002,0.95,0.46,0.2,7.0000000000000007E-2,null,14.28,4.21,2.74,1.99,0.75,0.38,0.18,7.0000000000000007E-2,null,10.44,3.24,1.99,1.45,0.54,0.26,0.13,0.06,null,8.0500000000000007,2.56,1.6,1.1000000000000001,0.42,0.2,0.1,0.05,null,3.3,1.1000000000000001,0.74,0.54,0.21,0.11,0.05,0.03]
["USC/Downtown L.A.",10.15,3.48,2.64,2.1,0.94,0.43,0.18,7.0000000000000007E-2,null,6.56,2.35,1.75,1.38,0.63,0.32,0.16,7.0000000000000007E-2,null,3.74,1.52,1.06,0.84,0.34,0.17,0.11,0.06,null,2.23,0.99,0.75,0.56000000000000005,0.22,0.1,7.0000000000000007E-2,0.05,null,0.19,0.15,0.14000000000000001,0.13,7.0000000000000007E-2,0.04,0.03,0.02]
["Fullerton Airport",13.04,3.81,2.48,1.73,0.6,0.28000000000000003,0.13,0.04,null,10.14,2.97,1.88,1.32,0.44,0.22,0.11,0.04,null,6.77,2.13,1.28,0.92,0.28999999999999998,0.13,0.08,0.03,null,4.7699999999999996,1.58,1,0.68,0.22,0.09,0.05,0.03,null,1.44,0.52,0.39,0.3,0.11,0.05,0.02,0.01]
["Hawthorne Airport",20.350000000000001,5.76,3.69,2.59,0.91,0.4,0.17,0.06,null,16.52,4.62,2.92,2.06,0.73,0.34,0.15,0.05,null,11.71,3.49,2.09,1.5,0.53,0.25,0.12,0.05,null,8.83,2.7,1.68,1.1399999999999999,0.41,0.19,0.09,0.04,null,3.19,1.04,0.76,0.57999999999999996,0.22,0.11,0.05,0.02]
["Los Angeles Int'l Airport",25.99,7.58,5.0199999999999996,3.59,1.29,0.56999999999999995,0.23,0.08,null,21.87,6.23,4.09,2.95,1.08,0.5,0.21,0.08,null,15.8,4.78,2.95,2.17,0.81,0.37,0.17,7.0000000000000007E-2,null,12.21,3.77,2.38,1.64,0.63,0.28999999999999998,0.14000000000000001,0.06,null,4.7300000000000004,1.53,1.08,0.81,0.32,0.16,0.08,0.04]
["Long Beach Airport",15.02,4.8600000000000003,3.34,2.5099999999999998,1.06,0.5,0.22,0.08,null,12.12,3.79,2.52,1.9,0.79,0.4,0.19,0.08,null,8.57,2.74,1.66,1.24,0.5,0.25,0.14000000000000001,7.0000000000000007E-2,null,6.35,2.06,1.26,0.85,0.35,0.17,0.09,0.05,null,2.2000000000000002,0.73,0.48,0.34,0.13,7.0000000000000007E-2,0.04,0.02]
["Ontario Airport",24.4,7.38,4.99,3.64,1.38,0.65,0.28000000000000003,0.1,null,20.11,5.91,3.95,2.91,1.1200000000000001,0.54,0.25,0.09,null,14.44,4.45,2.75,2.0499999999999998,0.8,0.38,0.19,0.08,null,10.96,3.44,2.16,1.48,0.59,0.28000000000000003,0.14000000000000001,7.0000000000000007E-2,null,3.93,1.28,0.87,0.64,0.25,0.13,7.0000000000000007E-2,0.04]
["Palm Springs Airport",18.97,6.43,4.2699999999999996,3.12,1.17,0.54,0.23,0.08,null,16.079999999999998,5.33,3.47,2.5499999999999998,0.96,0.46,0.2,0.08,null,12.02,4.12,2.5,1.84,0.7,0.33,0.16,7.0000000000000007E-2,null,9.48,3.31,2.02,1.38,0.53,0.25,0.12,0.06,null,3.97,1.4,0.91,0.64,0.24,0.13,7.0000000000000007E-2,0.03]
["Riverside Airport",15.05,5.09,3.6,2.73,1.17,0.54,0.24,0.09,null,11.37,3.8,2.64,2.0099999999999998,0.87,0.43,0.21,0.08,null,7.61,2.7,1.75,1.34,0.55000000000000004,0.28000000000000003,0.15,7.0000000000000007E-2,null,5.33,1.94,1.31,0.94,0.39,0.19,0.11,0.06,null,1.53,0.6,0.48,0.39,0.17,0.09,0.05,0.03]
["Santa Monica Airport",20.51,5.97,3.88,2.76,0.95,0.4,0.16,0.06,null,16.739999999999998,4.82,3.09,2.2000000000000002,0.75,0.33,0.14000000000000001,0.05,null,11.98,3.65,2.21,1.6,0.53,0.23,0.11,0.05,null,8.99,2.85,1.78,1.21,0.41,0.16,0.08,0.04,null,3.26,1.07,0.77,0.57999999999999996,0.21,0.09,0.04,0.02]
["John Wayne Int'l Airport",20.16,6.16,3.9,2.78,0.99,0.46,0.2,7.0000000000000007E-2,null,16.579999999999998,4.99,3.08,2.21,0.77,0.37,0.17,0.06,null,11.96,3.77,2.16,1.55,0.52,0.24,0.12,0.05,null,9.06,2.93,1.72,1.1399999999999999,0.39,0.17,0.09,0.04,null,3.31,1.1299999999999999,0.74,0.54,0.18,0.09,0.04,0.02]
["Desert Hot Springs Airport",20.21,6.65,4.5,3.3,1.31,0.64,0.28000000000000003,0.1,null,16.66,5.38,3.56,2.63,1.05,0.52,0.25,0.1,null,12,4.0599999999999996,2.4700000000000002,1.82,0.72,0.36,0.19,0.08,null,8.9499999999999993,3.13,1.93,1.31,0.53,0.26,0.14000000000000001,7.0000000000000007E-2,null,3.36,1.26,0.82,0.57999999999999996,0.23,0.13,7.0000000000000007E-2,0.04]
["Van Nuys Airport",13.6,4.17,2.64,1.9,0.73,0.35,0.16,0.06,null,10.94,3.32,2.06,1.47,0.55000000000000004,0.28000000000000003,0.13,0.05,null,7.7,2.4500000000000002,1.42,1.02,0.35,0.17,0.09,0.04,null,5.68,1.85,1.1000000000000001,0.74,0.25,0.11,0.06,0.03,null,1.87,0.65,0.45,0.33,0.12,0.06,0.03,0.01]
[]
[]
[]
[]
[null,"Rating (BHP)",1995,1996,1997,1998,1999,2000,2001,2002,2003,2004,2005,2006,2007,2008,2009,2010,2011,2012,2013,2014,2015]
["PM","50-75",0,0,0,0,0,0,0,0,0,0.3,0.3,0.3,0.3,0.22,0.22,0.22,0.22,0.22,0.02,0.02,0.02]
[null,"75-100",0,0,0,0,0,0,0,0,0,0.3,0.3,0.3,0.3,0.3,0.3,0.3,0.3,0.01,0.01,0.01,0.01]
[null,"100-175",0,0,0,0,0,0,0,0,0.22,0.22,0.22,0.22,0.22,0.22,0.22,0.22,0.22,0.01,0.01,0.01,0.01]
[null,"175-300",0,0.4,0.4,0.4,0.4,0.4,0.4,0.4,0.15,0.15,0.15,0.15,0.15,0.15,0.15,0.15,1.4999999999999999E-2,1.4999999999999999E-2,1.4999999999999999E-2,0.01,0.01]
[null,"300-600",0,0.4,0.4,0.4,0.4,0.4,0.15,0.15,0.15,0.15,0.15,0.15,0.15,0.15,0.15,0.15,1.4999999999999999E-2,1.4999999999999999E-2,1.4999999999999999E-2,0.01,0.01]
[null,"600-750",0,0.4,0.4,0.4,0.4,0.4,0.4,0.15,0.15,0.15,0.15,0.15,0.15,0.15,0.15,0.15,1.4999999999999999E-2,1.4999999999999999E-2,1.4999999999999999E-2,0.01,0.01]
[null,"750-",0,0,0,0,0,0.4,0.4,0.4,0.4,0.4,0.4,0.15,0.15,0.15,0.15,0.15,7.0000000000000007E-2,7.0000000000000007E-2,7.0000000000000007E-2,7.0000000000000007E-2,0.03]
[null,"750-1207",0,0,0,0,0,0.4,0.4,0.4,0.4,0.4,0.4,0.15,0.15,0.15,0.15,0.15,7.0000000000000007E-2,7.0000000000000007E-2,7.0000000000000007E-2,7.0000000000000007E-2,0.02]
[null,"1207-",0,0,0,0,0,0.4,0.4,0.4,0.4,0.4,0.4,0.15,0.15,0.15,0.15,0.15,7.0000000000000007E-2,7.0000000000000007E-2,7.0000000000000007E-2,7.0000000000000007E-2,0.02]

{"sheet":"Gas Station","index":21,"n_rows":29,"n_cols":18,"rows_kept":29,"cut":false,"hidden":false,"merged":[[1,9,1,10],[0,9,0,10],[25,3,25,10],[14,3,14,4],[15,3,15,4],[16,3,16,4],[14,5,14,6],[15,5,15,6],[16,5,16,6],[21,2,21,3],[22,2,22,3],[27,1,28,1],[5,9,5,10],[2,9,2,10],[14,15,14,16],[14,17,14,18],[15,13,16,14],[15,15,16,16],[15,17,16,18]]}
[null,"GASOLINE DISPENSING SERVICE STATION ",null,null,null,null,null,null,"AN:"]
[null,{"$f":"Intro!A39 & \" - \" &Intro!A38","v":"\n(Procedure Version 8.1 & Package N, September 1, 2017 ) - Risk Tool V1.105"},null,null,null,null,null,null,"Facility Name:"]
[null,null,null,null,null,null,null,null,"Deem Complete Date:"]
[]
[]
[null,"Storage Tank Type ","Aboveground",null,null,null,"MET Station",null,null,"Azusa"]
[null,"Annual Throughput ",null,"million gallons /year",null,null,"Distance to Resident",null,null,null,"meter"]
[null,"T-BACT","YES",null,null,null,"Distance to Commercial",null,null,null,"meter"]
[]
[]
[null,"MICR Calculation: ","MICR = MICR per 1 Million gallons/yr  x Annual Throughput (Million gallons/yr)"]
[null,"HIA & HIC Calculation:","Negligible compared to Cancer risk and is not calculated."]
[]
[null,"MICR Result"]
[null,null,null,"Resident",null,"Commercial",null,null,null,null,null,null,null,null,null,"Resident",null,"Commercial"]
[null,null,"MICR",{"$f":"F23*C7","v":0},null,{"$f":"I23*C7","v":0},null,null,null,null,null,null,null,"Throughput cap for MICR = 10  (million gal/yr)",null,{"$f":"10/F23","v":2.2487069934787498},null,{"$f":"10/I23","v":27.247956403269754}]
[null,null,"MICR ≤ 10",{"$f":"IF(D16>10,\"FAIL\",\"PASS\")","v":"PASS"},null,{"$f":"IF(F16>10,\"FAIL\",\"PASS\")","v":"PASS"}]
[]
[]
[null,"Interpolation for MICR from Nearest Distances",null,null,null,"Residential",null,null,"Commercial"]
[null,null,null,null,"near","actual","far","near","actual","far"]
[null,null,"Distance (meter)",null,{"$f":"IF(ISNA(HLOOKUP(F22,'Gas Station Data'!$B$4:$I$28,1,TRUE)),MIN(J7:J8),HLOOKUP(F22,'Gas Station Data'!$B$4:$I$28,1,TRUE))","v":0},{"$f":"J7","v":0},{"$f":"IF(F22<25,25,IF(F22>=1000,1000,IF(F22=HLOOKUP(F22,'Gas Station Data'!$A$5:$R$28,1,TRUE),F22,INDEX(table2_de,1,MATCH(F22,'Gas Station Data'!$B$4:$I$4,1)+1))))","v":25},{"$f":"IF(ISNA(HLOOKUP(I22,'Gas Station Data'!$B$4:$I$28,1,TRUE)),MIN(J7:J8),HLOOKUP(I22,'Gas Station Data'!$B$4:$I$28,1,TRUE))","v":0},{"$f":"J8","v":0},{"$f":"IF(I22<25,25,IF(I22>=1000,1000,IF(I22=HLOOKUP(I22,'Gas Station Data'!$A$5:$R$28,1,TRUE),I22,INDEX(table2_de,1,MATCH(I22,'Gas Station Data'!$B$4:$I$4,1)+1))))","v":25}]
[null,null,"MICR (per 1 million gasoline gallon throughput per year)",null,{"$f":"IF(ISNA(HLOOKUP(E22,$D$27:$K$29,2,TRUE)),D28,HLOOKUP(E22,$D$27:$K$29,2,TRUE))","v":4.4470000000000001},{"$f":"ROUND(IF(E23=G23,E23,E23-(((F22-E22)/(G22-E22))*(E23-G23))),4)","v":4.4470000000000001},{"$f":"HLOOKUP(G22,$D$27:$K$29,2,TRUE)","v":4.4470000000000001},{"$f":"IF(ISNA(HLOOKUP(H22,$D$27:$K$29,3,TRUE)),D29,HLOOKUP(H22,$D$27:$K$29,3,TRUE))","v":0.36699999999999999},{"$f":"IF(H23=J23,H23,H23-(((I22-H22)/(J22-H22))*(H23-J23)))","v":0.36699999999999999},{"$f":"HLOOKUP(J22,$D$27:$K$29,3,TRUE)","v":0.36699999999999999}]
[]
[null,{"$f":"\"Look up from Table 12 - MICR for \"&C6&\" Storage Tank\"","v":"Look up from Table 12 - MICR for Aboveground Storage Tank"}]
[null,null,null,"Downwind Distance (m)"]
[null,"Station","Receptor",25,50,75,100,200,300,500,1000]
[null,{"$f":"J6","v":"Azusa"},"Resident",{"$f":"IF($C$6=\"Underground\",VLOOKUP($J$6,'Gas Station Data'!$A$5:$R$28,2,FALSE),VLOOKUP($J$6,'Gas Station Data'!$A$5:$R$28,11,FALSE))","v":4.4470000000000001},{"$f":"IF($C$6=\"Underground\",VLOOKUP($J$6,'Gas Station Data'!$A$5:$R$28,3,FALSE),VLOOKUP($J$6,'Gas Station Data'!$A$5:$R$28,12,FALSE))","v":1.603},{"$f":"IF($C$6=\"Underground\",VLOOKUP($J$6,'Gas Station Data'!$A$5:$R$28,4,FALSE),VLOOKUP($J$6,'Gas Station Data'!$A$5:$R$28,13,FALSE))","v":0.82699999999999996},{"$f":"IF($C$6=\"Underground\",VLOOKUP($J$6,'Gas Station Data'!$A$5:$R$28,5,FALSE),VLOOKUP($J$6,'Gas Station Data'!$A$5:$R$28,14,FALSE))","v":0.496},{"$f":"IF($C$6=\"Underground\",VLOOKUP($J$6,'Gas Station Data'!$A$5:$R$28,6,FALSE),VLOOKUP($J$6,'Gas Station Data'!$A$5:$R$28,15,FALSE))","v":0.114},{"$f":"IF($C$6=\"Underground\",VLOOKUP($J$6,'Gas Station Data'!$A$5:$R$28,7,FALSE),VLOOKUP($J$6,'Gas Station Data'!$A$5:$R$28,16,FALSE))","v":0.05},{"$f":"IF($C$6=\"Underground\",VLOOKUP($J$6,'Gas Station Data'!$A$5:$R$28,8,FALSE),VLOOKUP($J$6,'Gas Station Data'!$A$5:$R$28,17,FALSE))","v":0.02},{"$f":"IF($C$6=\"Underground\",VLOOKUP($J$6,'Gas Station Data'!$A$5:$R$28,9,FALSE),VLOOKUP($J$6,'Gas Station Data'!$A$5:$R$28,18,FALSE))","v":6.0000000000000001E-3}]
[null,null,"Commercial",{"$f":"IF($C$6=\"Underground\",VLOOKUP($J$6,'Gas Station Data'!$A$36:$R$59,2,FALSE),VLOOKUP($J$6,'Gas Station Data'!$A$36:$R$59,11,FALSE))","v":0.36699999999999999},{"$f":"IF($C$6=\"Underground\",VLOOKUP($J$6,'Gas Station Data'!$A$36:$R$59,3,FALSE),VLOOKUP($J$6,'Gas Station Data'!$A$36:$R$59,12,FALSE))","v":0.13200000000000001},{"$f":"IF($C$6=\"Underground\",VLOOKUP($J$6,'Gas Station Data'!$A$36:$R$59,4,FALSE),VLOOKUP($J$6,'Gas Station Data'!$A$36:$R$59,13,FALSE))","v":6.8000000000000005E-2},{"$f":"IF($C$6=\"Underground\",VLOOKUP($J$6,'Gas Station Data'!$A$36:$R$59,5,FALSE),VLOOKUP($J$6,'Gas Station Data'!$A$36:$R$59,14,FALSE))","v":4.1000000000000002E-2},{"$f":"IF($C$6=\"Underground\",VLOOKUP($J$6,'Gas Station Data'!$A$36:$R$59,6,FALSE),VLOOKUP($J$6,'Gas Station Data'!$A$36:$R$59,15,FALSE))","v":8.9999999999999993E-3},{"$f":"IF($C$6=\"Underground\",VLOOKUP($J$6,'Gas Station Data'!$A$36:$R$59,7,FALSE),VLOOKUP($J$6,'Gas Station Data'!$A$36:$R$59,16,FALSE))","v":4.0000000000000001E-3},{"$f":"IF($C$6=\"Underground\",VLOOKUP($J$6,'Gas Station Data'!$A$36:$R$59,8,FALSE),VLOOKUP($J$6,'Gas Station Data'!$A$36:$R$59,17,FALSE))","v":2E-3},{"$f":"IF($C$6=\"Underground\",VLOOKUP($J$6,'Gas Station Data'!$A$36:$R$59,9,FALSE),VLOOKUP($J$6,'Gas Station Data'!$A$36:$R$59,18,FALSE))","v":1E-3}]

{"sheet":"Gas Station Data","index":22,"n_rows":59,"n_cols":18,"rows_kept":59,"cut":false,"hidden":true,"merged":[[2,1,2,8],[2,10,2,17],[33,1,33,8],[33,10,33,17]]}
["Table 12A Screening table MICR (per one million gallons of throughput) for Gasoline Underground & Aboveground Storage Tank - Residential"]
["MICR/1 milion gal throughput","Underground",null,null,null,null,null,null,null,null,"Aboveground"]
[null,"Downwind Distance (meters)",null,null,null,null,null,null,null,null,"Downwind Distance (meters)"]
["Location",25,50,75,100,200,300,500,1000,null,25,50,75,100,200,300,500,1000]
["Azusa",2.8839999999999999,1.04,0.55000000000000004,0.34,9.2999999999999999E-2,4.4999999999999998E-2,1.7999999999999999E-2,6.0000000000000001E-3,null,4.4470000000000001,1.603,0.82699999999999996,0.496,0.114,0.05,0.02,6.0000000000000001E-3]
["Banning",4.2080000000000002,1.7030000000000001,0.94,0.60299999999999998,0.186,9.2999999999999999E-2,3.9E-2,1.2999999999999999E-2,null,5.4690000000000003,2.1760000000000002,1.1850000000000001,0.748,0.21,0.10100000000000001,4.2000000000000003E-2,1.2999999999999999E-2]
["Central L.A.",2.484,0.876,0.45500000000000002,0.28699999999999998,8.5000000000000006E-2,4.1000000000000002E-2,1.7000000000000001E-2,5.0000000000000001E-3,null,3.61,1.258,0.64100000000000001,0.39200000000000002,0.1,4.5999999999999999E-2,1.9E-2,6.0000000000000001E-3]
["Lake Elsinore",2.9780000000000002,1.075,0.55800000000000005,0.34699999999999998,0.10299999999999999,5.0999999999999997E-2,2.1000000000000001E-2,7.0000000000000001E-3,null,4.056,1.458,0.748,0.45200000000000001,0.11899999999999999,5.7000000000000002E-2,2.4E-2,8.0000000000000002E-3]
["Fontana",3.306,1.254,0.67700000000000005,0.42299999999999999,0.124,0.06,2.5000000000000001E-2,7.0000000000000001E-3,null,4.8120000000000003,1.7869999999999999,0.94,0.56899999999999995,0.14499999999999999,6.7000000000000004E-2,2.7E-2,8.0000000000000002E-3]
["Mission Viejo",2.7210000000000001,0.98099999999999998,0.51500000000000001,0.31900000000000001,9.4E-2,4.7E-2,1.7999999999999999E-2,6.0000000000000001E-3,null,3.6,1.276,0.65,0.39500000000000002,0.108,5.1999999999999998E-2,2.1000000000000001E-2,7.0000000000000001E-3]
["Perris",3.4940000000000002,1.31,0.69499999999999995,0.436,0.127,6.3E-2,2.5999999999999999E-2,8.0000000000000002E-3,null,4.6390000000000002,1.7330000000000001,0.90400000000000003,0.55800000000000005,0.14399999999999999,6.9000000000000006E-2,2.9000000000000001E-2,8.9999999999999993E-3]
["Pico Rivera",2.629,0.95599999999999996,0.50900000000000001,0.316,9.0999999999999998E-2,4.3999999999999997E-2,1.7999999999999999E-2,5.0000000000000001E-3,null,3.72,1.3420000000000001,0.69899999999999995,0.42099999999999999,0.106,4.9000000000000002E-2,1.9E-2,6.0000000000000001E-3]
["Redlands",3.5619999999999998,1.325,0.69099999999999995,0.41799999999999998,0.113,5.5E-2,2.4E-2,7.0000000000000001E-3,null,5.8090000000000002,2.218,1.1539999999999999,0.68500000000000005,0.13200000000000001,6.2E-2,2.5999999999999999E-2,8.0000000000000002E-3]
["Upland",3.1080000000000001,1.133,0.60899999999999999,0.38400000000000001,0.111,5.3999999999999999E-2,2.1999999999999999E-2,7.0000000000000001E-3,null,4.6929999999999996,1.677,0.871,0.53200000000000003,0.13,0.06,2.5000000000000001E-2,8.0000000000000002E-3]
["Burbank Airport",3.097,1.198,0.65500000000000003,0.41,0.125,6.2E-2,2.5999999999999999E-2,8.0000000000000002E-3,null,3.94,1.4930000000000001,0.80800000000000005,0.49299999999999999,0.13900000000000001,6.9000000000000006E-2,2.8000000000000001E-2,8.0000000000000002E-3]
["Chino Airport.",4.0839999999999996,1.609,0.87,0.54900000000000004,0.16600000000000001,8.2000000000000003E-2,3.3000000000000002E-2,0.01,null,4.9710000000000001,1.95,1.0469999999999999,0.65800000000000003,0.188,9.0999999999999998E-2,3.6999999999999998E-2,1.0999999999999999E-2]
["USC/Downtown L.A.",3.3820000000000001,1.244,0.65600000000000003,0.40699999999999997,0.11,5.1999999999999998E-2,2.1000000000000001E-2,7.0000000000000001E-3,null,5.3929999999999998,1.9590000000000001,1.002,0.60399999999999998,0.13300000000000001,5.8000000000000003E-2,2.4E-2,7.0000000000000001E-3]
["Fullerton Airport",2.726,1.0269999999999999,0.55300000000000005,0.34799999999999998,0.104,5.1999999999999998E-2,2.1000000000000001E-2,7.0000000000000001E-3,null,3.6139999999999999,1.3360000000000001,0.69899999999999995,0.42899999999999999,0.11799999999999999,5.8000000000000003E-2,2.4E-2,7.0000000000000001E-3]
["Hawthorne Airport",3.2250000000000001,1.1970000000000001,0.64,0.40500000000000003,0.123,6.0999999999999999E-2,2.5000000000000001E-2,7.0000000000000001E-3,null,4.415,1.593,0.83699999999999997,0.51100000000000001,0.14000000000000001,6.7000000000000004E-2,2.7E-2,8.0000000000000002E-3]
["Los Angeles Int'l Airport",4.4560000000000004,1.83,1.01,0.64800000000000002,0.20399999999999999,0.10199999999999999,4.3999999999999997E-2,1.2999999999999999E-2,null,5.6239999999999997,2.3159999999999998,1.2569999999999999,0.79400000000000004,0.22700000000000001,0.111,4.7E-2,1.4999999999999999E-2]
["Long Beach Airport",3.4169999999999998,1.3939999999999999,0.76400000000000001,0.48799999999999999,0.151,7.5999999999999998E-2,3.3000000000000002E-2,0.01,null,4.45,1.829,0.99299999999999999,0.621,0.17199999999999999,8.3000000000000004E-2,3.5000000000000003E-2,1.0999999999999999E-2]
["Ontario Airport",4.8339999999999996,2.0059999999999998,1.111,0.71,0.222,0.112,4.7E-2,1.4999999999999999E-2,null,5.99,2.4940000000000002,1.37,0.86199999999999999,0.249,0.121,5.0999999999999997E-2,1.7000000000000001E-2]
["Palm Springs Airport",3.363,1.3520000000000001,0.73599999999999999,0.46700000000000003,0.14399999999999999,7.2999999999999995E-2,3.1E-2,0.01,null,4.1479999999999997,1.6910000000000001,0.91500000000000004,0.57299999999999995,0.16300000000000001,0.08,3.4000000000000002E-2,0.01]
["Riverside Airport",4.141,1.6779999999999999,0.92200000000000004,0.58799999999999997,0.17699999999999999,8.7999999999999995E-2,3.7999999999999999E-2,1.2999999999999999E-2,null,5.77,2.3180000000000001,1.244,0.77600000000000002,0.20200000000000001,9.6000000000000002E-2,4.1000000000000002E-2,1.2999999999999999E-2]
["Santa Monica Airport",3.444,1.3360000000000001,0.73099999999999998,0.46200000000000002,0.13900000000000001,6.8000000000000005E-2,2.8000000000000001E-2,8.0000000000000002E-3,null,4.7709999999999999,1.829,0.97699999999999998,0.59599999999999997,0.159,7.3999999999999996E-2,3.1E-2,8.9999999999999993E-3]
["John Wayne Int'l Airport",4.0410000000000004,1.605,0.87,0.54900000000000004,0.16400000000000001,7.9000000000000001E-2,3.2000000000000001E-2,0.01,null,5.0720000000000001,2.0169999999999999,1.085,0.67400000000000004,0.186,8.7999999999999995E-2,3.5999999999999997E-2,0.01]
["Desert Hot Springs Airport",3.82,1.5529999999999999,0.84799999999999998,0.54,0.16300000000000001,8.2000000000000003E-2,3.5000000000000003E-2,0.01,null,4.681,1.917,1.04,0.66,0.183,9.0999999999999998E-2,3.9E-2,1.2E-2]
["Van Nuys Airport",2.9089999999999998,1.1319999999999999,0.60799999999999998,0.378,0.111,5.5E-2,2.1999999999999999E-2,7.0000000000000001E-3,null,3.673,1.4279999999999999,0.76,0.46700000000000003,0.127,0.06,2.5000000000000001E-2,8.0000000000000002E-3]
[]
[]
[]
["Table 12B Screening table MICR (per one million gallons of throughput) for Gasoline Underground & Aboveground Storage Tank - Worker"]
["MICR/1 milion gal throughput","Underground",null,null,null,null,null,null,null,null,"Aboveground"]
[null,"Downwind Distance (meters)",null,null,null,null,null,null,null,null,"Downwind Distance (meters)"]
["Location",25,50,75,100,200,300,500,1000,null,25,50,75,100,200,300,500,1000]
["Azusa",0.23799999999999999,8.5999999999999993E-2,4.4999999999999998E-2,2.8000000000000001E-2,8.0000000000000002E-3,4.0000000000000001E-3,2E-3,0,null,0.36699999999999999,0.13200000000000001,6.8000000000000005E-2,4.1000000000000002E-2,8.9999999999999993E-3,4.0000000000000001E-3,2E-3,1E-3]
["Banning",0.34699999999999998,0.14000000000000001,7.8E-2,0.05,1.4999999999999999E-2,8.0000000000000002E-3,3.0000000000000001E-3,1E-3,null,0.45100000000000001,0.17899999999999999,9.8000000000000004E-2,6.2E-2,1.7000000000000001E-2,8.0000000000000002E-3,3.0000000000000001E-3,1E-3]
["Central L.A.",0.20499999999999999,7.1999999999999995E-2,3.7999999999999999E-2,2.4E-2,7.0000000000000001E-3,3.0000000000000001E-3,1E-3,0,null,0.29799999999999999,0.104,5.2999999999999999E-2,3.2000000000000001E-2,8.0000000000000002E-3,4.0000000000000001E-3,2E-3,1E-3]
["Lake Elsinore",0.246,8.8999999999999996E-2,4.5999999999999999E-2,2.9000000000000001E-2,8.9999999999999993E-3,4.0000000000000001E-3,2E-3,1E-3,null,0.33400000000000002,0.12,6.2E-2,3.6999999999999998E-2,0.01,5.0000000000000001E-3,2E-3,1E-3]
["Fontana",0.27300000000000002,0.10299999999999999,5.6000000000000001E-2,3.5000000000000003E-2,0.01,5.0000000000000001E-3,2E-3,1E-3,null,0.39700000000000002,0.14699999999999999,7.6999999999999999E-2,4.7E-2,1.2E-2,5.0000000000000001E-3,2E-3,1E-3]
["Mission Viejo",0.224,8.1000000000000003E-2,4.2000000000000003E-2,2.5999999999999999E-2,8.0000000000000002E-3,4.0000000000000001E-3,2E-3,0,null,0.29699999999999999,0.105,5.3999999999999999E-2,3.3000000000000002E-2,8.9999999999999993E-3,4.0000000000000001E-3,2E-3,1E-3]
["Perris",0.28799999999999998,0.108,5.7000000000000002E-2,3.5999999999999997E-2,0.01,5.0000000000000001E-3,2E-3,1E-3,null,0.38300000000000001,0.14299999999999999,7.4999999999999997E-2,4.5999999999999999E-2,1.2E-2,6.0000000000000001E-3,2E-3,1E-3]
["Pico Rivera",0.217,7.9000000000000001E-2,4.2000000000000003E-2,2.5999999999999999E-2,7.0000000000000001E-3,4.0000000000000001E-3,1E-3,0,null,0.307,0.111,5.8000000000000003E-2,3.5000000000000003E-2,8.9999999999999993E-3,4.0000000000000001E-3,2E-3,1E-3]
["Redlands",0.29399999999999998,0.109,5.7000000000000002E-2,3.4000000000000002E-2,8.9999999999999993E-3,5.0000000000000001E-3,2E-3,1E-3,null,0.47899999999999998,0.183,9.5000000000000001E-2,5.6000000000000001E-2,1.0999999999999999E-2,5.0000000000000001E-3,2E-3,1E-3]
["Upland",0.25600000000000001,9.2999999999999999E-2,0.05,3.2000000000000001E-2,8.9999999999999993E-3,4.0000000000000001E-3,2E-3,1E-3,null,0.38700000000000001,0.13800000000000001,7.1999999999999995E-2,4.3999999999999997E-2,1.0999999999999999E-2,5.0000000000000001E-3,2E-3,1E-3]
["Burbank Airport",0.255,9.9000000000000005E-2,5.3999999999999999E-2,3.4000000000000002E-2,0.01,5.0000000000000001E-3,2E-3,1E-3,null,0.32500000000000001,0.123,6.7000000000000004E-2,4.1000000000000002E-2,1.0999999999999999E-2,6.0000000000000001E-3,2E-3,1E-3]
["Chino Airport.",0.33700000000000002,0.13300000000000001,7.1999999999999995E-2,4.4999999999999998E-2,1.4E-2,7.0000000000000001E-3,3.0000000000000001E-3,1E-3,null,0.41,0.161,8.5999999999999993E-2,5.3999999999999999E-2,1.6E-2,7.0000000000000001E-3,3.0000000000000001E-3,1E-3]
["USC/Downtown L.A.",0.27900000000000003,0.10299999999999999,5.3999999999999999E-2,3.4000000000000002E-2,8.9999999999999993E-3,4.0000000000000001E-3,2E-3,1E-3,null,0.44500000000000001,0.16200000000000001,8.3000000000000004E-2,0.05,1.0999999999999999E-2,5.0000000000000001E-3,2E-3,1E-3]
["Fullerton Airport",0.22500000000000001,8.5000000000000006E-2,4.5999999999999999E-2,2.9000000000000001E-2,8.9999999999999993E-3,4.0000000000000001E-3,2E-3,1E-3,null,0.29799999999999999,0.11,5.8000000000000003E-2,3.5000000000000003E-2,0.01,5.0000000000000001E-3,2E-3,1E-3]
["Hawthorne Airport",0.26600000000000001,9.9000000000000005E-2,5.2999999999999999E-2,3.3000000000000002E-2,0.01,5.0000000000000001E-3,2E-3,1E-3,null,0.36399999999999999,0.13100000000000001,6.9000000000000006E-2,4.2000000000000003E-2,1.2E-2,6.0000000000000001E-3,2E-3,1E-3]
["Los Angeles Int'l Airport",0.36699999999999999,0.151,8.3000000000000004E-2,5.2999999999999999E-2,1.7000000000000001E-2,8.0000000000000002E-3,4.0000000000000001E-3,1E-3,null,0.46400000000000002,0.191,0.104,6.6000000000000003E-2,1.9E-2,8.9999999999999993E-3,4.0000000000000001E-3,1E-3]
["Long Beach Airport",0.28199999999999997,0.115,6.3E-2,0.04,1.2E-2,6.0000000000000001E-3,3.0000000000000001E-3,1E-3,null,0.36699999999999999,0.151,8.2000000000000003E-2,5.0999999999999997E-2,1.4E-2,7.0000000000000001E-3,3.0000000000000001E-3,1E-3]
["Ontario Airport",0.39900000000000002,0.16500000000000001,9.1999999999999998E-2,5.8999999999999997E-2,1.7999999999999999E-2,8.9999999999999993E-3,4.0000000000000001E-3,1E-3,null,0.49399999999999999,0.20599999999999999,0.113,7.0999999999999994E-2,2.1000000000000001E-2,0.01,4.0000000000000001E-3,1E-3]
["Palm Springs Airport",0.27700000000000002,0.111,6.0999999999999999E-2,3.7999999999999999E-2,1.2E-2,6.0000000000000001E-3,3.0000000000000001E-3,1E-3,null,0.34200000000000003,0.13900000000000001,7.4999999999999997E-2,4.7E-2,1.2999999999999999E-2,7.0000000000000001E-3,3.0000000000000001E-3,1E-3]
["Riverside Airport",0.34100000000000003,0.13800000000000001,7.5999999999999998E-2,4.9000000000000002E-2,1.4999999999999999E-2,7.0000000000000001E-3,3.0000000000000001E-3,1E-3,null,0.47599999999999998,0.191,0.10299999999999999,6.4000000000000001E-2,1.7000000000000001E-2,8.0000000000000002E-3,3.0000000000000001E-3,1E-3]
["Santa Monica Airport",0.28399999999999997,0.11,0.06,3.7999999999999999E-2,1.0999999999999999E-2,6.0000000000000001E-3,2E-3,1E-3,null,0.39300000000000002,0.151,8.1000000000000003E-2,4.9000000000000002E-2,1.2999999999999999E-2,6.0000000000000001E-3,3.0000000000000001E-3,1E-3]
["John Wayne Int'l Airport",0.33300000000000002,0.13200000000000001,7.1999999999999995E-2,4.4999999999999998E-2,1.4E-2,7.0000000000000001E-3,3.0000000000000001E-3,1E-3,null,0.41799999999999998,0.16600000000000001,8.8999999999999996E-2,5.6000000000000001E-2,1.4999999999999999E-2,7.0000000000000001E-3,3.0000000000000001E-3,1E-3]
["Desert Hot Springs Airport",0.315,0.128,7.0000000000000007E-2,4.4999999999999998E-2,1.2999999999999999E-2,7.0000000000000001E-3,3.0000000000000001E-3,1E-3,null,0.38600000000000001,0.158,8.5999999999999993E-2,5.3999999999999999E-2,1.4999999999999999E-2,7.0000000000000001E-3,3.0000000000000001E-3,1E-3]
["Van Nuys Airport",0.24,9.2999999999999999E-2,0.05,3.1E-2,8.9999999999999993E-3,5.0000000000000001E-3,2E-3,1E-3,null,0.30299999999999999,0.11799999999999999,6.3E-2,3.7999999999999999E-2,0.01,5.0000000000000001E-3,2E-3,1E-3]

{"sheet":"Pressure Washer","index":23,"n_rows":24,"n_cols":12,"rows_kept":24,"cut":false,"hidden":false,"merged":[[11,4,12,4],[11,5,12,5],[11,6,11,7],[11,2,12,2],[11,3,12,3]]}
[]
[null,null,"PRESSURE WASHER (DIESEL) DATA",null,null,null,null,{"$f":"'Tier 1 Report'!C8","v":"A/N 622795 (96, 97), Spear's Manufacturing Co."}]
[null,null,{"$f":"Intro!A39 & \" - \" &Intro!A38","v":"\n(Procedure Version 8.1 & Package N, September 1, 2017 ) - Risk Tool V1.105"}]
[]
[]
[null,null,"Max burner rating",1,"btu/hr"]
[null,null,"Fuel HHV (Diesel)",137,"btu/gal"]
[null,null,"Fuel rate",{"$f":"D6/D7","v":7.2992700729927005E-3},"gal/hr"]
[null,null,"Efficiency",{"$f":"CombControlEfficiency","v":0}," fraction range 0-1"]
[]
[]
[null,null,"Compound","Emission Rate\n(lbs/1000 gal)","R1 \n(Uncontrolled) \n(lbs/hr)","R2 (Controlled)\n(lbs/hr)","Toxic NSR Entry (E-06 lbs/hr)"]
[null,null,null,null,null,null,"R1 (Uncontrolled) ","R2 \n(Controlled)",null,null,null,"CAS#"]
[null,"B1",{"$f":"VLOOKUP(B14,TAClist,2,FALSE)","v":"Benzene"},2.8500000000000001E-3,{"$f":"D14*$D$8/1000","v":2.0802919708029198E-8},{"$f":"E14*(1-CombControlEfficiency)","v":2.0802919708029198E-8},{"$f":"E14*1000000","v":2.0802919708029197E-2},{"$f":"F14*1000000","v":2.0802919708029197E-2},null,null,null,"71-43-2"]
[null,"E3","Ethyl Benzene",1.65E-3,{"$f":"D15*$D$8/1000","v":1.2043795620437955E-8},1.2043795620437955E-8,{"$f":"E15*1000000","v":1.2043795620437956E-2},1.2043795620437956E-2,null,null,null,"100-41-4"]
[null,"F2","Formaldehyde",1.75,1.2773722627737226E-5,1.2773722627737226E-5,12.773722627737227,12.773722627737227,null,null,null,"50-00-0"]
[null,"H6","n-Hexane",1.34E-3,9.7810218978102184E-9,9.7810218978102184E-9,9.7810218978102176E-3,9.7810218978102176E-3,null,null,null,"110-54-3"]
[null,"P62","Naphthalene",2.78,2.0291970802919705E-5,2.0291970802919705E-5,20.291970802919703,20.291970802919703,null,null,null,"91-20-3"]
[null,"P41","Polycyclic Aromatic Hydrocarbon  (PAH)",9.9500000000000001E-4,7.2627737226277375E-9,7.2627737226277375E-9,7.2627737226277373E-3,7.2627737226277373E-3,null,null,null,1151]
[null,"P69","Propylene  (Propene)",1.8E-3,1.3138686131386861E-8,1.3138686131386861E-8,1.313868613138686E-2,1.313868613138686E-2,null,null,null,"115-07-1"]
[null,"T3","Toluene",1.6999999999999999E-3,1.240875912408759E-8,1.240875912408759E-8,1.2408759124087591E-2,1.2408759124087591E-2,null,null,null,"108-88-3"]
[null,"X1","Xylenes (Mixed Isomers)",1.65E-3,1.2043795620437955E-8,1.2043795620437955E-8,1.2043795620437956E-2,1.2043795620437956E-2,null,null,null,"1330-20-7"]
[]
[null,null,"*ARB CATEF LIST"]

{"sheet":"Spray Booth","index":24,"n_rows":44,"n_cols":25,"rows_kept":44,"cut":false,"hidden":false,"merged":[[9,10,9,11],[9,9,10,9],[9,3,10,3],[9,4,10,5],[9,6,10,6],[9,7,10,7],[9,8,10,8],[11,2,31,2],[42,4,42,5],[41,4,41,5],[40,4,40,5],[39,4,39,5],[38,4,38,5],[37,4,37,5],[36,4,36,5],[35,4,35,5],[34,4,34,5],[33,4,33,5],[32,4,32,5],[32,2,42,2]]}
[]
[null,null,null,"SPRAY BOOTH INPUT DATA & TOXIC EMISSION SUMMARY",null,null,null,null,null,{"$f":"'Tier 1 Report'!$C$8","v":"A/N 622795 (96, 97), Spear's Manufacturing Co."},null,null,null,"Natural Gas Combustion Emissions for Spray Booth "]
[null,null,null,{"$f":"Intro!A39 & \" - \" &Intro!A38","v":"\n(Procedure Version 8.1 & Package N, September 1, 2017 ) - Risk Tool V1.105"},null,null,null,null,null,null,null,null,null,null,null,null,null,null,null,{"$f":"'Tier 1 Report'!$C$8","v":"A/N 622795 (96, 97), Spear's Manufacturing Co."}]
[]
[null,null,null,null,null,null,null,null,null,null,null,null,null,null,"Maximum","Normal"]
[null,null,"Spray Booth Type",null,"Without Burner",null,null,null,null,null,null,null,null,"hr/dy",24,8,null,null,"Max Heat Input (MMBTU/hr)",{"$f":"I6","v":0}]
[null,null,null,null,null,null,null,null,null,null,null,null,null,"dy/wk",7,5,null,null,"Gross Heating Value (BTU/scf)",1050]
[null,null,null,null,null,null,null,null,null,null,null,null,null,"wk/yr",52,52,null,null,"Maximum Gas Usage (scf/dy)",{"$f":"O6*O9*T6*1000000/T7","v":0}]
[null,null,null,null,null,null,null,null,null,null,null,null,null,"load",1,0.5,null,null,"Average Gas Usage (scf/dy)",{"$f":"$T$6*$P$9*$P$6*1000000/$T$7","v":0},null,null,null,"dy/wk","30-Day Avg."]
[null,null,null,"Code","Compound",null,{"$f":"IF(SprayboothType =\"With Burner\",\"Emission Rate (lb/hr) & (lbs/mmcf)\",\"Emission Rate (lbs/hr)\")","v":"Emission Rate (lbs/hr)"},"R1 (Uncontrolled) (lbs/hr)","Control Factor (range 0-1)","R2 \n(Controlled)\n(lbs/hr)","Toxic NSR Entry\n (E-06 lbs/hr)",null,null,null,null,null,null,null,null,null,null,null,null,1,{"$f":"ROUND(X10*4.33,0)","v":4}]
[null,null,null,null,null,null,null,null,null,null,"R1 \n(Uncontrolled) ","R2\n (Controlled)",null,null,"Emission Factors","Max","Ave","Max","30-Day","Max",null,null,null,2,9]
[null,null,"Coating Material ","E3",{"$f":"IF(D12<>\"\",VLOOKUP(D12,TAClist,2,FALSE),\"\")","v":"Ethyl Benzene"},null,0.5,{"$f":"IF(D12=\"\",\"\",G12)","v":0.5},0,{"$f":"IF(H12=\"\",\"\",H12*(1-I12))","v":0.5},{"$f":"IF(D12<>\"\",H12*1000000,\"\")","v":500000},{"$f":"IF(D12<>\"\",J12*1000000,\"\")","v":500000},null,null,"(lb/MMscf)","(lb/hr)","(lb/hr)","(lb/dy)","(lb/dy)","(ton/yr)",null,null,null,3,13]
[null,null,null,null,"",null,null,{"$f":"IF(D13=\"\",\"\",G13)","v":""},null,"","","",null,"Criterias (*)",null,null,null,null,null,null,null,null,null,4,17]
[null,null,null,null,"",null,null,"",null,"","","",null,"SOx (R1=R2)",0.6,{"$f":"O14*$T$8/1000000/$O$6","v":0},{"$f":"O14*$T$9/($P$6)/1000000","v":0},{"$f":"P14*$O$6","v":0},{"$f":"R14*VLOOKUP($O$7,$X$10:$Y$16,2,FALSE)/30","v":0},{"$f":"P14*$O$6*$O$7*$O$8/2000","v":0},null,null,null,5,22]
[null,null,null,null,"",null,null,"",null,"","","",null,"NOx (R1)",{"$f":"Q30","v":38.275340782122896},{"$f":"O15*$T$8/1000000/$O$6","v":0},{"$f":"O15*$T$9/($P$6)/1000000","v":0},{"$f":"P15*$O$6","v":0},"NA",{"$f":"P15*$O$6*$O$7*$O$8/2000","v":0},null,null,null,6,26]
[null,null,null,null,"",null,null,"",null,"","","",null,"NOx (R2)",{"$f":"O15","v":38.275340782122896},0,0,0,{"$f":"R16*VLOOKUP($O$7,$X$10:$Y$16,2,FALSE)/30","v":0},0,null,null,null,7,30]
[null,null,null,null,"",null,null,"",null,"","","",null,"CO (R1)",35,0,0,0,"NA",0]
[null,null,null,null,"",null,null,{"$f":"IF(D18=\"\",\"\",G18)","v":""},null,{"$f":"IF(H18=\"\",\"\",H18*(1-I18))","v":""},"","",null,"CO (R2)",{"$f":"Q31","v":34.457791575418987},0,0,0,{"$f":"R18*VLOOKUP($O$7,$X$10:$Y$16,2,FALSE)/30","v":0},0]
[null,null,null,null,"",null,null,"",null,"","","",null,"PM, PM10 (R1=R2)",7.5,0,0,0,{"$f":"R19*VLOOKUP($O$7,$X$10:$Y$16,2,FALSE)/30","v":0},0]
[null,null,null,null,"",null,null,"",null,"","","",null,"ROG (R1=R2)",7,0,0,0,{"$f":"R20*VLOOKUP($O$7,$X$10:$Y$16,2,FALSE)/30","v":0},0]
[null,null,null,null,"",null,null,"",null,"","",""]
[null,null,null,null,"",null,null,"",null,"","","",null,"Green House Gases (**)","(lb/MMBtu)"]
[null,null,null,null,"",null,null,"",null,"","","",null,"CO2 (R1=R2)",116.89,{"$f":"O23*$T$6","v":0},{"$f":"O23*$T$6*$O$9","v":0},{"$f":"P23*$O$6","v":0},{"$f":"R23*VLOOKUP($O$7,$X$10:$Y$16,2,FALSE)/30","v":0},{"$f":"P23*$O$6*$O$7*$O$8/2000","v":0}]
[null,null,null,null,"",null,null,"",null,"","","",null,"CH4 (R1=R2)",2E-3,{"$f":"O24*$T$6","v":0},{"$f":"O24*$T$6*$O$9","v":0},{"$f":"P24*$O$6","v":0},{"$f":"R24*VLOOKUP($O$7,$X$10:$Y$16,2,FALSE)/30","v":0},{"$f":"P24*$O$6*$O$7*$O$8/2000","v":0}]
[null,null,null,null,"",null,null,"",null,"","","",null,"N2O (R1=R2)",2.0000000000000001E-4,0,0,0,{"$f":"R25*VLOOKUP($O$7,$X$10:$Y$16,2,FALSE)/30","v":0},0]
[null,null,null,null,{"$f":"IF(D26<>\"\",VLOOKUP(D26,TAClist,2,FALSE),\"\")","v":""},null,null,{"$f":"IF(D26=\"\",\"\",G26)","v":""},null,{"$f":"IF(H26=\"\",\"\",H26*(1-I26))","v":""},"",""]
[null,null,null,null,"",null,null,"",null,"","",""]
[null,null,null,null,"",null,null,"",null,"","","",null,"Ambient Temperature (F)",68,null,null,null,"Volume Occupied by 1 lb-mole of Ideal Gas (scf)",{"$f":"IF(O28=60,379,IF(O28=68,385))","v":385}]
[null,null,null,null,"",null,null,"",null,"","",""]
[null,null,null,null,"",null,null,"",null,"","","",null,"ppmv NOx@ 3% O2",30,"è",{"$f":"O30*(20.9/(20.9-3))*1050*8710*46/(T28*1000000)","v":38.275340782122896},"NOx Emission Factor (lb/MMscf)"]
[null,null,null,null,"",null,null,"",null,"","","",null,"ppmv CO @ 3% O2",44.37,"è",{"$f":"O31*(20.9/(20.9-3))*1050*8710*28/(T28*1000000)","v":34.457791575418987},"CO Emission Factor (lb/MMscf)"]
[null,null,null,null,"",null,null,"",null,"","",""]
[null,null,null,null,{"$f":"IF(D33=\"\",\"\",VLOOKUP(D33,TAClist,2,FALSE))","v":""},null,null,{"$f":"IF(D33=\"\",\"\",$I$6/1050*G33)","v":""},null,"",{"$f":"IF(H33=\"\",\"\",H33*1000000)","v":""},{"$f":"IF(J33=\"\",\"\",J33*1000000)","v":""},null,"NOx Emission Factor (lb/MMscf)",{"$f":"O16","v":38.275340782122896},"è",{"$f":"$O$33/((20.9/(20.9-3))*1050*8710*46/(T28*1000000))","v":29.999999999999996},"ppmv NOx @ 3% O2"]
[null,null,null,null,"",null,null,{"$f":"IF(D34=\"\",\"\",$I$6/1050*G34)","v":""},null,{"$f":"IF(H34=\"\",\"\",H34*(1-I34))","v":""},{"$f":"IF(H34=\"\",\"\",H34*1000000)","v":""},{"$f":"IF(J34=\"\",\"\",J34*1000000)","v":""},null,"CO Emission Factor (lb/MMscf)",{"$f":"$O$18","v":34.457791575418987},"è",{"$f":"$O$34/((20.9/(20.9-3))*1050*8710*28/(T28*1000000))","v":44.36999999999999},"ppmv CO @ 3% O2"]
[null,null,null,null,"",null,null,"",null,"","","",null,"SOx Emission Factor (lb/MMscf)",{"$f":"$O$14","v":0.6},"è",{"$f":"$O$35/((20.9/(20.9-3))*1050*8710*64/(T28*1000000))","v":0.33801136020303346},"ppmv SOx @ 3% O2"]
[null,null,null,null,"",null,null,"",null,"","",""]
[null,null,null,null,"",null,null,"",null,"","",""]
[null,null,null,null,"",null,null,"",null,"","","",null,null,null,"grain/scf PM @ 12% CO2",{"$f":"($P$19*0.00959*23440)/(($T$6)*530*0.539)","v":{"$error":"#DIV/0!"}},"(Rule 409)"]
[null,null,null,null,"",null,null,"",null,"","",""]
[null,null,null,null,"",null,null,"",null,"","","",null,null,null,"Exhaust Blower Flow Rate (scfm)",1500]
[null,null,null,null,"",null,null,"",null,"","","",null,null,null,"Grain Loading (grain/scf)",{"$f":"$P$19*7000/$Q$40/60","v":0},"(Rule 404)",null,null,null,"`"]
[null,null,null,null,"",null,null,"",null,"","",""]
[null,null,null,null,"",null,null,"",null,"","","",null,"(*) Criteria emission factors are defaulted factors from December 2014 AER Manual"]
[null,null,"* Emission factors and TAC for combustion are from Combustion Equipment rating <=10 MMBtu/hr with no control, AB2588 Reporting Procedure - Dec 2014 ",null,null,null,null,null,null,null,null,null,null,"(**) Greenhouse emission factors are from EPA "]

{"sheet":"Spray Booth Calc","index":25,"n_rows":26,"n_cols":22,"rows_kept":26,"cut":false,"hidden":true,"merged":[[2,5,2,10],[2,11,3,13],[13,2,13,9],[21,2,21,9],[17,2,17,9]]}
[null,"Look up for Spray Booth X/Q Data "]
[]
[null,"Station",{"$f":"Emissions!$E$22","v":"Van Nuys Airport"},null,null,"Interpolation for X/Q from Nearest Distances",null,null,null,null,null,"Interpolation New Distance for Cancer Burden Calculation"]
[null,"Operating Hours (hrs/day)",{"$f":"HoursPerDay","v":24},null,null,"Stack Ht (ft)",{"$f":"StackHeight","v":32},null,"row:",{"$f":"S5","v":3}]
[null,"X/Q (residential)",{"$f":"G8","v":1.0647000000000002},null,null,null,"Residential",null,null,"Industrial",null,null,"X/Q for one-in-a-million",null,null,null,"Stack Height","Row",{"$f":"MIN(S6:S9)","v":3}]
[null,"X/Q (industrial)",{"$f":"J8","v":0.3085},null,null,"near","actual","far","near","actual","far","near","actual","far",null,"<16",16,1,{"$f":"IF(StackHeight<Q6,\"No data\",\"No\")","v":"No"}]
[null,"X/Q max acute (residential)",{"$f":"G9","v":138.37119999999999},null,"Distance (m)",{"$f":"IF(G7<25,25,HLOOKUP(G7,SprayBoothCalcXQ,1,TRUE))","v":100},{"$f":"Emissions!E20","v":157},{"$f":"IF(G7<25,25,IF(G7>=1000,1000,IF(G7=HLOOKUP(G7,SprayBoothCalcXQ,1,TRUE),G7,INDEX(SprayBoothCalcXQ,1,MATCH(G7,C15:J15,1)+1))))","v":200},{"$f":"IF(J7<25,25,HLOOKUP(J7,SprayBoothCalcXQ,1,TRUE))","v":200},{"$f":"Emissions!E21","v":265},{"$f":"IF(J7<25,25,IF(J7>=1000,1000,IF(J7=HLOOKUP(J7,SprayBoothCalcXQ,1,TRUE),J7,INDEX(SprayBoothCalcXQ,1,MATCH(J7,C15:J15,1)+1))))","v":300},{"$f":"IF(L8=0,0,VLOOKUP($J$4,$A$16:$S$17,17,FALSE))","v":0},{"$f":"IF(L7=\"\",\"\",IF(N7=L7,N7,L7-(L8-M8)/(L8-N8)*(L7-N7)))","v":0},{"$f":"IF(N8=0,0,VLOOKUP($J$4,$A$16:$S$17,19,FALSE))","v":0},null,"[16,24)",24,2,{"$f":"IF(StackHeight>=Q6,IF(StackHeight<Q7,R7,\"No\"))","v":"No"}]
[null,"X/Q max acute (industrial)",{"$f":"J9","v":73.540500000000009},null,"X/Q",{"$f":"HLOOKUP(F7,SprayBoothCalcXQ,$J$4,TRUE)","v":1.8},{"$f":"IF(F8=H8,F8,F8-(((G7-F7)/(H7-F7))*(F8-H8)))","v":1.0647000000000002},{"$f":"HLOOKUP(H7,SprayBoothCalcXQ,$J$4,TRUE)","v":0.51},{"$f":"HLOOKUP(I7,SprayBoothCalcXQ,$J$4,TRUE)","v":0.51},{"$f":"IF(I8=K8,I8,I8-(((J7-I7)/(K7-I7))*(I8-K8)))","v":0.3085},{"$f":"HLOOKUP(K7,SprayBoothCalcXQ,$J$4,TRUE)","v":0.2},{"$f":"IF(M8=0,0,VLOOKUP($J$4,$A$16:$S$17,16,FALSE))","v":0},{"$f":"'Tier 2 Report'!N152","v":0},{"$f":"IF(M8=0,0,VLOOKUP($J$4,$A$16:$S$17,18,FALSE))","v":0},null,"[24,50)",50,3,{"$f":"IF(StackHeight>=Q7,IF(StackHeight<Q8,R8,\"No\"))","v":3}]
[null,null,null,null,"X/Q Max Acute",{"$f":"HLOOKUP(F7,SprayBoothCalcAcute,$J$4,TRUE)","v":181.03},{"$f":"IF(F9=H9,F9,F9-(((G7-F7)/(H7-F7))*(F9-H9)))","v":138.37119999999999},{"$f":"HLOOKUP(H7,SprayBoothCalcAcute,$J$4,TRUE)","v":106.19},{"$f":"HLOOKUP(I7,SprayBoothCalcAcute,$J$4,TRUE)","v":106.19},{"$f":"IF(I9=K9,I9,I9-(((J7-I7)/(K7-I7))*(I9-K9)))","v":73.540500000000009},{"$f":"HLOOKUP(K7,SprayBoothCalcAcute,$J$4,TRUE)","v":55.96},null,null,null,null,">=50",null,null,3]
[]
[]
[]
[null,"Table 13.1  & 13.2  -  Spray Booth, Operating 12 hrs/day or less (µg/m³)/(tons/yr)"]
[null,"Stack ht.","Downwind Distance (meters)"]
["Row","(ft)",25,50,75,100,200,300,500,1000,null,null,null,null,null,"Nearest X/Q - high","nearest dist - low","Nearest X/Q- low","nearest dist - high",null,"Column","Dist"]
[2,"≥ 16 to < 24",{"$f":"VLOOKUP($C$3,SprayBoothLessthan12_lu,2,FALSE)","v":14.36},{"$f":"VLOOKUP($C$3,SprayBoothLessthan12_lu,3,FALSE)","v":7.45},{"$f":"VLOOKUP($C$3,SprayBoothLessthan12_lu,4,FALSE)","v":2.98},{"$f":"VLOOKUP($C$3,SprayBoothLessthan12_lu,5,FALSE)","v":1.87},{"$f":"VLOOKUP($C$3,SprayBoothLessthan12_lu,6,FALSE)","v":0.43},{"$f":"VLOOKUP($C$3,SprayBoothLessthan12_lu,7,FALSE)","v":0.18},{"$f":"VLOOKUP($C$3,SprayBoothLessthan12_lu,8,FALSE)","v":0.06},{"$f":"VLOOKUP($C$3,SprayBoothLessthan12_lu,9,FALSE)","v":0.01},null,null,null,null,null,{"$f":"INDEX($C16:$J16,1,MATCH($M$8,$C16:$J16,-1))","v":0.01},{"$f":"VLOOKUP(MATCH(P16,$C16:$J16,0),$U$16:$V$23,2,FALSE)","v":1000},{"$f":"INDEX($C16:$K16,1,1+MATCH($M$8,$C16:$K16,-1))","v":0},{"$f":"IF(R16=0,Q16,VLOOKUP(MATCH(R16,$C16:$J16,0),$U$16:$V$23,2,FALSE))","v":1000},null,1,25]
[3,"24 to < 50",{"$f":"VLOOKUP($C$3,SprayBoothLessthan12_lu,11,FALSE)","v":10.89},{"$f":"VLOOKUP($C$3,SprayBoothLessthan12_lu,12,FALSE)","v":9.7100000000000009},{"$f":"VLOOKUP($C$3,SprayBoothLessthan12_lu,13,FALSE)","v":2.72},{"$f":"VLOOKUP($C$3,SprayBoothLessthan12_lu,14,FALSE)","v":1.8},{"$f":"VLOOKUP($C$3,SprayBoothLessthan12_lu,15,FALSE)","v":0.51},{"$f":"VLOOKUP($C$3,SprayBoothLessthan12_lu,16,FALSE)","v":0.2},{"$f":"VLOOKUP($C$3,SprayBoothLessthan12_lu,17,FALSE)","v":0.06},{"$f":"VLOOKUP($C$3,SprayBoothLessthan12_lu,18,FALSE)","v":0.01},null,null,null,null,null,{"$f":"INDEX($C17:$J17,1,MATCH($M$8,$C17:$J17,-1))","v":0.01},{"$f":"VLOOKUP(MATCH(P17,$C17:$J17,0),$U$16:$V$23,2,FALSE)","v":1000},{"$f":"INDEX($C17:$K17,1,1+MATCH($M$8,$C17:$K17,-1))","v":0},{"$f":"IF(R17=0,Q17,VLOOKUP(MATCH(R17,$C17:$J17,0),$U$16:$V$23,2,FALSE))","v":1000},null,2,50]
[null,">= 50","No X/Q available. Need to perform Tier 3 or 4 dispersion modeling",null,null,null,null,null,null,null,null,null,null,null,null,null,null,null,null,null,3,75]
[null,null,null,null,null,null,null,null,null,null,null,null,null,null,null,null,null,null,null,null,4,100]
[null,"Table 13.3 Dispersion Factors (X/Q) for Acute Hazard Index Spray Booth Equipment",null,null,null,null,null,null,null,null,null,null,null,null,null,null,null,null,null,null,5,200]
[null,"All Operating Conditions X/Q Values [(µg/m³)/(lbs/hr)] ",null,null,null,null,null,null,null,null,null,null,null,null,null,null,null,null,null,null,6,300]
[null,"Stack ht.","Downwind Distance (meters)",null,null,null,null,null,null,null,null,null,null,null,null,null,null,null,null,null,7,500]
["Row","(ft)",25,50,75,100,200,300,500,1000,null,null,null,null,null,null,null,null,null,null,8,1000]
[2," ≥ 16 to < 24",1280.53,498.24,275.07,213.97,72.34,39.799999999999997,19.87,7.27]
[3,"24 to < 50",782,503.29,213.04,181.03,106.19,55.96,20.63,7.56]
[null,"*Note: Facilities with stack heights of less than 16 feet  or more than 50 feet must perform Tier 3 or 4 dispersion modeling"]

{"sheet":"PSE Calc","index":26,"n_rows":34,"n_cols":22,"rows_kept":34,"cut":false,"hidden":false,"merged":[[13,2,13,9],[20,2,20,9],[28,2,28,9],[2,5,2,10],[2,11,3,13]]}
[null,"Look up for Point Source Equipment's X/Q"]
[]
[null,"Station",{"$f":"Emissions!$E$22","v":"Van Nuys Airport"},null,null,"Interpolation for X/Q from Nearest Distances",null,null,null,null,null,"Interpolation New Distance for Cancer Burden Calculation"]
[null,"Operating Hours (hrs/day)",{"$f":"HoursPerDay","v":24},null,null,"Stack Ht (ft)",{"$f":"StackHeight","v":32},null,"row:",{"$f":"S5","v":3}]
[null,"X/Q (residential)",{"$f":"G8","v":1.7869000000000002},null,null,null,"Residential",null,null,"Industrial",null,null,"X/Q for one-in-a-million",null,null,null,"Stack Height (ft)","Row",{"$f":"MIN(S6:S9)","v":3}]
[null,"X/Q (industrial)",{"$f":"J8","v":0.64900000000000002},null,null,"near","actual","far","near","actual","far","near","actual","far",null,"<14",14,1,{"$f":"IF($G$4<Q6,\"No data\",\"No\")","v":"No"}]
[null,"X/Q max acute (residential)",{"$f":"G9","v":71.687000000000012},null,"Distance (m)",{"$f":"IF(G7<25,25,HLOOKUP(G7,table2_pse,1,TRUE))","v":100},{"$f":"Emissions!E20","v":157},{"$f":"IF(G7<25,25,IF(G7>=1000,1000,IF(G7=HLOOKUP(G7,table2_pse,1,TRUE),G7,INDEX(table2_pse,1,MATCH(G7,C15:J15,1)+1))))","v":200},{"$f":"IF(J7<25,25,HLOOKUP(J7,table2_pse,1,TRUE))","v":200},{"$f":"Emissions!E21","v":265},{"$f":"IF(J7<25,25,IF(J7>=1000,1000,IF(J7=HLOOKUP(J7,table2_pse,1,TRUE),J7,INDEX(table2_pse,1,MATCH(J7,C15:J15,1)+1))))","v":300},{"$f":"IF(L8=0,0,IF(HoursPerDay<=12,VLOOKUP($J$4,$A$16:$S$18,17,FALSE),VLOOKUP($J$4,$A$23:$S$25,17,FALSE)))","v":0},{"$f":"IF(L7=\"\",\"\",IF(N7=L7,N7,L7-(L8-M8)/(L8-N8)*(L7-N7)))","v":0},{"$f":"IF(N8=0,0,IF(HoursPerDay<=12,VLOOKUP($J$4,$A$16:$S$18,19,FALSE),VLOOKUP($J$4,$A$23:$S$25,19,FALSE)))","v":0},null,"[14,25)",25,2,{"$f":"IF($G$4>=Q6,IF($G$4<Q7,R7,\"No\"))","v":"No"}]
[null,"X/Q max acute (industrial)",{"$f":"J9","v":28.651},null,"X/Q",{"$f":"IF(HoursPerDay<=12,HLOOKUP(F7,table2_pse,$J$4,TRUE),HLOOKUP(F7,table3_pse,$J$4,TRUE))","v":2.83},{"$f":"IF(F8=H8,F8,F8-(((G7-F7)/(H7-F7))*(F8-H8)))","v":1.7869000000000002},{"$f":"IF(C4<=12,HLOOKUP(H7,table2_pse,$J$4,TRUE),HLOOKUP(H7,table3_pse,$J$4,TRUE))","v":1},{"$f":"IF(C4<=12,HLOOKUP(I7,table2_pse,$J$4,TRUE),HLOOKUP(I7,table3_pse,$J$4,TRUE))","v":1},{"$f":"IF(I8=K8,I8,I8-(((J7-I7)/(K7-I7))*(I8-K8)))","v":0.64900000000000002},{"$f":"IF(C4<=12,HLOOKUP(K7,table2_pse,$J$4,TRUE),HLOOKUP(K7,table3_pse,$J$4,TRUE))","v":0.46},{"$f":"IF(M8=0,0,IF(HoursPerDay<=12,VLOOKUP($J$4,$A$16:$S$18,16,FALSE),VLOOKUP($J$4,$A$23:$S$25,16,FALSE)))","v":0},{"$f":"'Tier 2 Report'!N152","v":0},{"$f":"IF(M8=0,0,IF(HoursPerDay<=12,VLOOKUP($J$4,$A$16:$S$18,18,FALSE),VLOOKUP($J$4,$A$23:$S$25,18,FALSE)))","v":0},null,"[25,50)",50,3,{"$f":"IF($G$4>=Q6,IF($G$4<Q8,R8,\"No\"))","v":3}]
[null,null,null,null,"X/Q Max Acute",{"$f":"HLOOKUP(F7,table6_pse,$J$4,TRUE)","v":106.97},{"$f":"IF(F9=H9,F9,F9-(((G7-F7)/(H7-F7))*(F9-H9)))","v":71.687000000000012},{"$f":"HLOOKUP(H7,table6_pse,$J$4,TRUE)","v":45.07},{"$f":"HLOOKUP(I7,table6_pse,$J$4,TRUE)","v":45.07},{"$f":"IF(I9=K9,I9,I9-(((J7-I7)/(K7-I7))*(I9-K9)))","v":28.651},{"$f":"HLOOKUP(K7,table6_pse,$J$4,TRUE)","v":19.809999999999999},null,null,null,null,">=50",10000000000,4,{"$f":"IF($G$4>=Q6,IF($G$4<Q9,R9,\"No\"))","v":4}]
[]
[]
[]
[null,"Table 6A -  Point Source, operating 12 hrs/day or less (µg/m³)/(tons/yr)"]
[null,"Stack ht.","Downwind Distance (meters)"]
["Row","(ft)",25,50,75,100,200,300,500,1000,null,null,null,null,null,"Nearest X/Q - high","nearest dist - low","Nearest X/Q- low","nearest dist - high",null,"Column","Dist"]
[2," ≥ 14 to < 25",{"$f":"VLOOKUP($C$3,PointSourceEquipmentLessThan12_lu,2,FALSE)","v":35.79},{"$f":"VLOOKUP($C$3,PointSourceEquipmentLessThan12_lu,3,FALSE)","v":8.0500000000000007},{"$f":"VLOOKUP($C$3,PointSourceEquipmentLessThan12_lu,4,FALSE)","v":4.17},{"$f":"VLOOKUP($C$3,PointSourceEquipmentLessThan12_lu,5,FALSE)","v":2.4300000000000002},{"$f":"VLOOKUP($C$3,PointSourceEquipmentLessThan12_lu,6,FALSE)","v":0.52},{"$f":"VLOOKUP($C$3,PointSourceEquipmentLessThan12_lu,7,FALSE)","v":0.19},{"$f":"VLOOKUP($C$3,PointSourceEquipmentLessThan12_lu,8,FALSE)","v":0.06},{"$f":"VLOOKUP($C$3,PointSourceEquipmentLessThan12_lu,9,FALSE)","v":0.01},null,null,null,null,null,{"$f":"INDEX($C16:$J16,1,MATCH($M$8,$C16:$J16,-1))","v":0.01},{"$f":"VLOOKUP(MATCH(P16,$C16:$J16,0),$U$16:$V$23,2,FALSE)","v":1000},{"$f":"INDEX($C16:$K16,1,1+MATCH($M$8,$C16:$K16,-1))","v":0},{"$f":"IF(R16=0,Q16,VLOOKUP(MATCH(R16,$C16:$J16,0),$U$16:$V$23,2,FALSE))","v":1000},null,1,25]
[3,"25 to < 50",{"$f":"VLOOKUP($C$3,PointSourceEquipmentLessThan12_lu,11,FALSE)","v":21.17},{"$f":"VLOOKUP($C$3,PointSourceEquipmentLessThan12_lu,12,FALSE)","v":5.7},{"$f":"VLOOKUP($C$3,PointSourceEquipmentLessThan12_lu,13,FALSE)","v":3.24},{"$f":"VLOOKUP($C$3,PointSourceEquipmentLessThan12_lu,14,FALSE)","v":1.99},{"$f":"VLOOKUP($C$3,PointSourceEquipmentLessThan12_lu,15,FALSE)","v":0.47},{"$f":"VLOOKUP($C$3,PointSourceEquipmentLessThan12_lu,16,FALSE)","v":0.19},{"$f":"VLOOKUP($C$3,PointSourceEquipmentLessThan12_lu,17,FALSE)","v":0.06},{"$f":"VLOOKUP($C$3,PointSourceEquipmentLessThan12_lu,18,FALSE)","v":0.01},null,null,null,null,null,{"$f":"INDEX($C17:$J17,1,MATCH($M$8,$C17:$J17,-1))","v":0.01},{"$f":"VLOOKUP(MATCH(P17,$C17:$J17,0),$U$16:$V$23,2,FALSE)","v":1000},{"$f":"INDEX($C17:$K17,1,1+MATCH($M$8,$C17:$K17,-1))","v":0},{"$f":"IF(R17=0,Q17,VLOOKUP(MATCH(R17,$C17:$J17,0),$U$16:$V$23,2,FALSE))","v":1000},null,2,50]
[4,"≥ 50",{"$f":"VLOOKUP($C$3,PointSourceEquipmentLessThan12_lu,20,FALSE)","v":0.18},{"$f":"VLOOKUP($C$3,PointSourceEquipmentLessThan12_lu,21,FALSE)","v":0.51},{"$f":"VLOOKUP($C$3,PointSourceEquipmentLessThan12_lu,22,FALSE)","v":0.72},{"$f":"VLOOKUP($C$3,PointSourceEquipmentLessThan12_lu,23,FALSE)","v":0.76},{"$f":"VLOOKUP($C$3,PointSourceEquipmentLessThan12_lu,24,FALSE)","v":0.36},{"$f":"VLOOKUP($C$3,PointSourceEquipmentLessThan12_lu,25,FALSE)","v":0.17},{"$f":"VLOOKUP($C$3,PointSourceEquipmentLessThan12_lu,26,FALSE)","v":0.06},{"$f":"VLOOKUP($C$3,PointSourceEquipmentLessThan12_lu,27,FALSE)","v":0.01},null,null,null,null,null,{"$f":"INDEX($E18:$J18,1,MATCH($M$8,$E18:$J18,-1))","v":0.01},{"$f":"VLOOKUP(MATCH(P18,$C18:$J18,0),$U$16:$V$23,2,FALSE)","v":1000},{"$f":"INDEX($E18:$K18,1,1+MATCH($M$8,$E18:$K18,-1))","v":0},{"$f":"IF(R18=0,Q18,VLOOKUP(MATCH(R18,$C18:$J18,0),$U$16:$V$23,2,FALSE))","v":1000},null,3,75]
[null,null,null,null,null,null,null,null,null,null,null,null,null,null,null,null,null,null,null,null,4,100]
[null,"Table 6B -  Point Source, operating more than 12 hrs/day (µg/m³)/(tons/yr)",null,null,null,null,null,null,null,null,null,null,null,null,null,null,null,null,null,null,5,200]
[null,"Stack ht.","Downwind Distance (meters)",null,null,null,null,null,null,null,null,null,null,null,null,null,null,null,null,null,6,300]
["Row","(ft)",25,50,75,100,200,300,500,1000,null,null,null,null,null,"Nearest X/Q - high","nearest dist - low","Nearest X/Q- low","nearest dist - high",null,7,500]
[2," ≥ 14 to < 25",{"$f":"VLOOKUP($C$3,PointSourceEquipmentMoreThan12_lu,2,FALSE)","v":33.39},{"$f":"VLOOKUP($C$3,PointSourceEquipmentMoreThan12_lu,3,FALSE)","v":10.25},{"$f":"VLOOKUP($C$3,PointSourceEquipmentMoreThan12_lu,4,FALSE)","v":6.07},{"$f":"VLOOKUP($C$3,PointSourceEquipmentMoreThan12_lu,5,FALSE)","v":4.05},{"$f":"VLOOKUP($C$3,PointSourceEquipmentMoreThan12_lu,6,FALSE)","v":1.24},{"$f":"VLOOKUP($C$3,PointSourceEquipmentMoreThan12_lu,7,FALSE)","v":0.49},{"$f":"VLOOKUP($C$3,PointSourceEquipmentMoreThan12_lu,8,FALSE)","v":0.17},{"$f":"VLOOKUP($C$3,PointSourceEquipmentMoreThan12_lu,9,FALSE)","v":0.05},null,null,null,null,null,{"$f":"INDEX($C23:$J23,1,MATCH($M$8,$C23:$J23,-1))","v":0.05},{"$f":"VLOOKUP(MATCH(P23,$C23:$J23,0),$U$16:$V$23,2,FALSE)","v":1000},{"$f":"INDEX($C23:$K23,1,1+MATCH($M$8,$C23:$K23,-1))","v":0},{"$f":"IF(R23=0,Q23,VLOOKUP(MATCH(R23,$C23:$J23,0),$U$16:$V$23,2,FALSE))","v":1000},null,8,1000]
[3,"25 to < 50",{"$f":"VLOOKUP($C$3,PointSourceEquipmentMoreThan12_lu,11,FALSE)","v":17.989999999999998},{"$f":"VLOOKUP($C$3,PointSourceEquipmentMoreThan12_lu,12,FALSE)","v":6.19},{"$f":"VLOOKUP($C$3,PointSourceEquipmentMoreThan12_lu,13,FALSE)","v":4.0199999999999996},{"$f":"VLOOKUP($C$3,PointSourceEquipmentMoreThan12_lu,14,FALSE)","v":2.83},{"$f":"VLOOKUP($C$3,PointSourceEquipmentMoreThan12_lu,15,FALSE)","v":1},{"$f":"VLOOKUP($C$3,PointSourceEquipmentMoreThan12_lu,16,FALSE)","v":0.46},{"$f":"VLOOKUP($C$3,PointSourceEquipmentMoreThan12_lu,17,FALSE)","v":0.18},{"$f":"VLOOKUP($C$3,PointSourceEquipmentMoreThan12_lu,18,FALSE)","v":0.06},null,null,null,null,null,{"$f":"INDEX($C24:$J24,1,MATCH($M$8,$C24:$J24,-1))","v":0.06},{"$f":"VLOOKUP(MATCH(P24,$C24:$J24,0),$U$16:$V$23,2,FALSE)","v":1000},{"$f":"INDEX($C24:$K24,1,1+MATCH($M$8,$C24:$K24,-1))","v":0},{"$f":"IF(R24=0,Q24,VLOOKUP(MATCH(R24,$C24:$J24,0),$U$16:$V$23,2,FALSE))","v":1000}]
[4,"≥ 50",{"$f":"VLOOKUP($C$3,PointSourceEquipmentMoreThan12_lu,20,FALSE)","v":0.09},{"$f":"VLOOKUP($C$3,PointSourceEquipmentMoreThan12_lu,21,FALSE)","v":0.28999999999999998},{"$f":"VLOOKUP($C$3,PointSourceEquipmentMoreThan12_lu,22,FALSE)","v":0.46},{"$f":"VLOOKUP($C$3,PointSourceEquipmentMoreThan12_lu,23,FALSE)","v":0.55000000000000004},{"$f":"VLOOKUP($C$3,PointSourceEquipmentMoreThan12_lu,24,FALSE)","v":0.44},{"$f":"VLOOKUP($C$3,PointSourceEquipmentMoreThan12_lu,25,FALSE)","v":0.3},{"$f":"VLOOKUP($C$3,PointSourceEquipmentMoreThan12_lu,26,FALSE)","v":0.16},{"$f":"VLOOKUP($C$3,PointSourceEquipmentMoreThan12_lu,27,FALSE)","v":0.06},null,null,null,null,null,{"$f":"INDEX($F25:$J25,1,MATCH($M$8,$F25:$J25,-1))","v":0.06},{"$f":"VLOOKUP(MATCH(P25,$C25:$J25,0),$U$16:$V$23,2,FALSE)","v":1000},{"$f":"INDEX($E25:$K25,1,1+MATCH($M$8,$E25:$K25,-1))","v":0},{"$f":"IF(R25=0,Q25,VLOOKUP(MATCH(R25,$C25:$J25,0),$U$16:$V$23,2,FALSE))","v":1000}]
[]
[null,"Table 6.4 Dispersion Factors (X/Q) for Acute Hazard Index Point Source Equipment"]
[null,"All Operating Conditions X/Q Values [(µg/m³)/(lbs/hr)] "]
[null,"Stack ht.","Downwind Distance (meters)"]
["Row","(ft)",25,50,75,100,200,300,500,1000]
[2," ≥ 14 to < 25",676.64,261.45999999999998,200.34,165.43,66.010000000000005,22.72,8.35,2.68]
[3,"25 to < 50",423.53,153.11000000000001,128.46,106.97,45.07,19.809999999999999,7.7,2.64]
[4,"≥ 50",81.87,44.53,26.15,23.7,17.760000000000002,13.56,6.82,2.82]
[null,"*Note: Facilities with stack heights less than 14 feet must perform Tier 3 or 4 dispersion modeling"]

{"sheet":"PSE Data","index":27,"n_rows":63,"n_cols":27,"rows_kept":63,"cut":false,"hidden":true,"merged":[[2,1,2,8],[2,10,2,17],[2,19,2,26],[33,10,33,17],[33,1,33,8],[33,19,33,26]]}
["Table 6A Dispersion Factors (X/Q) for Point Source Equipment Operating 12 Hours per Day or Less"]
["Units are in (ug/m3)/(tons/yr)","Stack Height  ≥ 14 ft to 25 ft*",null,null,null,null,null,null,null,null,"Stack Height  ≥ 24 ft to 50 ft*",null,null,null,null,null,null,null,null,"Stack Height  ≥ 50 ft*"]
[null,"Downwind Distance (meters)",null,null,null,null,null,null,null,null,"Downwind Distance (meters)",null,null,null,null,null,null,null,null,"Downwind Distance (meters)"]
["Location","25","50","75","100","200","300","500",1000,null,"25","50","75","100","200","300","500",1000,null,"25","50","75","100","200","300","500",1000]
["Azusa",44.54,8.83,4.3099999999999996,2.39,0.44,0.15,0.05,0.01,null,24.89,6.39,3.37,1.94,0.39,0.14000000000000001,0.05,0.01,null,0.57999999999999996,1.0900000000000001,1.05,0.82,0.27,0.13,0.04,0.01]
["Banning",38.880000000000003,9.15,4.83,2.86,0.65,0.24,0.08,0.02,null,20.18,5.81,3.49,2.2200000000000002,0.56999999999999995,0.22,7.0000000000000007E-2,0.02,null,0.04,0.17,0.52,0.72,0.4,0.2,7.0000000000000007E-2,0.02]
["Central L.A.",39.03,8.06,3.86,2.15,0.42,0.14000000000000001,0.05,0.01,null,22.83,5.57,2.93,1.69,0.36,0.14000000000000001,0.04,0.01,null,0.4,0.98,1.02,0.8,0.27,0.12,0.04,0.01]
["Lake Elsinore",31.08,6.78,3.28,1.8,0.36,0.12,0.04,0.01,null,19.61,5.12,2.68,1.52,0.32,0.12,0.04,0.01,null,0.89,1.17,0.97,0.73,0.24,0.11,0.04,0.01]
["Fontana",45.12,9.39,4.72,2.68,0.54,0.19,0.06,0.01,null,26.01,6.61,3.65,2.1800000000000002,0.48,0.18,0.06,0.01,null,0.31,0.74,0.97,0.9,0.36,0.17,0.06,0.01]
["Mission Viejo",32.090000000000003,7.04,3.47,1.93,0.36,0.13,0.04,0.01,null,19.350000000000001,5.15,2.79,1.62,0.33,0.12,0.04,0.01,null,0.31,0.83,0.92,0.75,0.25,0.11,0.04,0.01]
["Perris",27,6.57,3.37,1.96,0.43,0.16,0.05,0.01,null,16.03,4.71,2.65,1.61,0.39,0.15,0.05,0.01,null,0.88,0.93,0.87,0.77,0.3,0.14000000000000001,0.05,0.01]
["Pico Rivera",40.64,8.4700000000000006,4.18,2.38,0.47,0.17,0.05,0.01,null,24.22,5.95,3.23,1.92,0.42,0.16,0.05,0.01,null,0.28999999999999998,0.76,0.94,0.84,0.32,0.15,0.05,0.01]
["Redlands",43.55,9.17,4.4400000000000004,2.4300000000000002,0.45,0.15,0.05,0.01,null,24.11,6.67,3.5,1.99,0.4,0.15,0.05,0.01,null,0.89,1.19,1.1100000000000001,0.86,0.28999999999999998,0.13,0.05,0.01]
["Upland",49.43,10.09,5.1100000000000003,2.93,0.57999999999999996,0.2,7.0000000000000007E-2,0.02,null,27.21,7.02,3.91,2.33,0.51,0.19,0.06,0.02,null,0.28999999999999998,0.88,1.1499999999999999,1.01,0.37,0.17,0.06,0.01]
["Burbank Airport",46.03,9.5399999999999991,4.88,2.85,0.59,0.22,7.0000000000000007E-2,0.02,null,25.74,6.55,3.73,2.2999999999999998,0.54,0.21,7.0000000000000007E-2,0.02,null,0.19,0.52,0.8,0.88,0.42,0.2,7.0000000000000007E-2,0.02]
["Chino Airport.",35.659999999999997,8.9,4.72,2.77,0.63,0.24,7.0000000000000007E-2,0.02,null,18.760000000000002,5.97,3.56,2.23,0.56999999999999995,0.23,7.0000000000000007E-2,0.02,null,0.12,0.46,0.67,0.77,0.41,0.2,7.0000000000000007E-2,0.02]
["USC/Downtown L.A.",45.34,9.9,4.96,2.79,0.53,0.18,0.06,0.01,null,24.42,7.07,3.87,2.2599999999999998,0.47,0.17,0.06,0.01,null,0.35,1.01,1.1100000000000001,0.93,0.33,0.15,0.05,0.01]
["Fullerton Airport",42.01,9.0299999999999994,4.67,2.72,0.56999999999999995,0.2,7.0000000000000007E-2,0.02,null,25.29,6.32,3.58,2.1800000000000002,0.5,0.19,0.06,0.02,null,0.17,0.67,0.99,0.94,0.37,0.17,0.06,0.01]
["Hawthorne Airport",50.38,11.1,5.83,3.44,0.75,0.26,0.09,0.02,null,26.83,7.21,4.2300000000000004,2.64,0.64,0.25,0.08,0.02,null,0.15,0.51,0.88,0.97,0.45,0.22,0.08,0.02]
["Los Angeles Int'l Airport",53.93,12.76,7.14,4.43,1.07,0.39,0.12,0.03,null,28.07,8.09,5.07,3.34,0.91,0.36,0.12,0.03,null,0.03,0.25,0.63,0.91,0.6,0.3,0.11,0.03]
["Long Beach Airport",36.19,8.18,4.34,2.59,0.56000000000000005,0.21,7.0000000000000007E-2,0.02,null,20.16,5.61,3.32,2.09,0.51,0.2,7.0000000000000007E-2,0.02,null,0.1,0.43,0.72,0.8,0.39,0.18,0.06,0.01]
["Ontario Airport",46.82,10.65,5.72,3.42,0.77,0.28999999999999998,0.09,0.02,null,25.71,7.23,4.32,2.74,0.69,0.27,0.09,0.02,null,0.06,0.4,0.75,0.91,0.5,0.24,0.09,0.02]
["Palm Springs Airport",30.91,6.85,3.55,2.06,0.43,0.16,0.05,0.01,null,16.78,4.7699999999999996,2.77,1.69,0.39,0.15,0.05,0.01,null,0.1,0.46,0.7,0.69,0.28999999999999998,0.14000000000000001,0.05,0.01]
["Riverside Airport",44.72,10.63,5.56,3.24,0.69,0.25,0.08,0.02,null,22.53,7.15,4.1900000000000004,2.58,0.61,0.23,0.08,0.02,null,0.09,0.53,0.88,0.94,0.44,0.21,7.0000000000000007E-2,0.02]
["Santa Monica Airport",55.55,11.88,6.36,3.83,0.85,0.3,0.1,0.02,null,33.700000000000003,8.01,4.7,2.97,0.74,0.28000000000000003,0.09,0.02,null,0.06,0.46,0.97,1.0900000000000001,0.52,0.25,0.09,0.02]
["John Wayne Int'l Airport",46.2,10.72,5.63,3.38,0.76,0.28999999999999998,0.09,0.02,null,27.52,7.36,4.2699999999999996,2.71,0.68,0.27,0.09,0.02,null,0.09,0.38,0.79,0.97,0.51,0.25,0.09,0.02]
["Desert Hot Springs Airport",33.57,8.31,4.5599999999999996,2.8,0.65,0.24,0.08,0.02,null,19.989999999999998,5.74,3.48,2.25,0.56999999999999995,0.23,7.0000000000000007E-2,0.02,null,0.04,0.3,0.66,0.8,0.42,0.2,7.0000000000000007E-2,0.02]
["Van Nuys Airport",35.79,8.0500000000000007,4.17,2.4300000000000002,0.52,0.19,0.06,0.01,null,21.17,5.7,3.24,1.99,0.47,0.19,0.06,0.01,null,0.18,0.51,0.72,0.76,0.36,0.17,0.06,0.01]
[]
["*Note: Facilities with stack heights less than 14 feet must perform Tier 3 or 4 dispersion modeling"]
[]
["Table 6B Dispersion Factors (X/Q) for Point Source Equipment Operating More than 12 Hours per Day"]
["Units are in (ug/m3)/(tons/yr)","Stack Height  ≥ 14 ft to 25 ft*",null,null,null,null,null,null,null,null,"Stack Height  ≥ 24 ft to 50 ft*",null,null,null,null,null,null,null,null,"Stack Height  ≥ 50 ft*"]
[null,"Downwind Distance (meters)",null,null,null,null,null,null,null,null,"Downwind Distance (meters)",null,null,null,null,null,null,null,null,"Downwind Distance (meters)"]
["Location","25","50","75","100","200","300","500",1000,null,"25","50","75","100","200","300","500",1000,null,"25","50","75","100","200","300","500",1000]
["Azusa",46.4,12.88,7.73,5.16,1.43,0.47,0.14000000000000001,0.04,null,24.27,7.94,5.0999999999999996,3.54,1.1000000000000001,0.42,0.14000000000000001,0.04,null,0.65,1.08,1.17,1.07,0.55000000000000004,0.31,0.15,0.05]
["Banning",49.83,15.25,9.5399999999999991,6.61,2.13,0.81,0.28000000000000003,0.09,null,25.48,8.2100000000000009,5.6,4.12,1.61,0.75,0.3,0.1,null,0.05,0.15,0.34,0.5,0.64,0.48,0.27,0.1]
["Central L.A.",37.54,11.42,6.95,4.71,1.31,0.41,0.13,0.04,null,21.12,7.18,4.55,3.16,0.97,0.36,0.13,0.04,null,0.4,1.21,1.36,1.2,0.54,0.3,0.13,0.04]
["Lake Elsinore",34.729999999999997,11.44,6.73,4.4800000000000004,1.32,0.48,0.17,0.05,null,20.8,7.79,4.8600000000000003,3.34,1.07,0.44,0.17,0.05,null,1.21,1.91,1.63,1.37,0.66,0.38,0.18,0.06]
["Fontana",49.3,14.18,8.4700000000000006,5.69,1.62,0.56000000000000005,0.17,0.05,null,26.78,8.65,5.59,3.93,1.3,0.53,0.19,0.06,null,0.4,0.77,0.94,1,0.67,0.41,0.2,7.0000000000000007E-2]
["Mission Viejo",36.69,10.68,6.31,4.2300000000000004,1.22,0.43,0.15,0.05,null,20.45,7.18,4.57,3.07,0.97,0.4,0.16,0.05,null,0.47,0.99,1.2,1.1499999999999999,0.59,0.34,0.16,0.05]
["Perris",40.07,12.51,7.21,4.74,1.38,0.54,0.19,0.06,null,24.72,8.6999999999999993,5.29,3.6,1.17,0.51,0.2,0.06,null,1.35,2.0699999999999998,1.68,1.42,0.72,0.42,0.2,7.0000000000000007E-2]
["Pico Rivera",42.92,12.08,6.91,4.4800000000000004,1.18,0.42,0.14000000000000001,0.04,null,24.92,7.76,4.84,3.29,0.99,0.4,0.15,0.04,null,0.53,0.96,1.06,1.02,0.56999999999999995,0.33,0.16,0.05]
["Redlands",46.28,13.58,9.06,6.65,2.16,0.64,0.18,0.05,null,25.51,9.2200000000000006,5.62,4.25,1.54,0.52,0.19,0.06,null,1.19,1.97,1.82,1.49,0.73,0.42,0.2,7.0000000000000007E-2]
["Upland",47.67,13.81,8.41,5.89,1.57,0.52,0.16,0.05,null,24.75,8.44,5.51,3.86,1.24,0.5,0.18,0.06,null,0.34,0.76,1.07,1.1299999999999999,0.68,0.4,0.19,7.0000000000000007E-2]
["Burbank Airport",38.659999999999997,10.82,6.3,4.1399999999999997,1.1399999999999999,0.46,0.17,0.05,null,20.260000000000002,6.51,4.18,2.91,0.96,0.44,0.18,0.06,null,0.1,0.28000000000000003,0.48,0.59,0.47,0.3,0.15,0.05]
["Chino Airport.",37.18,11.76,7.2,4.8899999999999997,1.59,0.67,0.24,0.08,null,18.11,6.64,4.47,3.22,1.23,0.6,0.24,0.08,null,7.0000000000000007E-2,0.26,0.43,0.55000000000000004,0.5,0.36,0.19,7.0000000000000007E-2]
["USC/Downtown L.A.",46.96,14.53,9.3000000000000007,6.45,1.86,0.56000000000000005,0.15,0.05,null,22.29,8.08,5.67,4.13,1.34,0.49,0.16,0.05,null,0.16,0.56000000000000005,0.94,1.03,0.63,0.38,0.18,0.06]
["Fullerton Airport",37,10.76,6.29,4.04,1.2,0.43,0.16,0.05,null,20.52,6.87,4.41,3,0.93,0.41,0.16,0.05,null,0.1,0.51,0.83,0.88,0.54,0.32,0.15,0.05]
["Hawthorne Airport",43.98,12.84,7.57,4.95,1.35,0.49,0.17,0.05,null,22.38,7.59,4.97,3.46,1.1200000000000001,0.48,0.19,0.06,null,0.08,0.39,0.72,0.86,0.61,0.37,0.18,0.06]
["Los Angeles Int'l Airport",45.53,13.6,8.3800000000000008,5.68,1.76,0.71,0.25,0.08,null,22.49,7.55,5.16,3.72,1.36,0.63,0.25,0.08,null,0.02,0.14000000000000001,0.34,0.51,0.53,0.38,0.2,0.08]
["Long Beach Airport",35.4,11.99,7.6,5.32,1.71,0.64,0.22,7.0000000000000007E-2,null,19.53,6.86,4.71,3.46,1.3,0.57999999999999996,0.23,0.08,null,0.05,0.25,0.43,0.51,0.48,0.36,0.2,0.08]
["Ontario Airport",47.53,14.23,8.8800000000000008,6.14,2.0299999999999998,0.85,0.32,0.1,null,24.86,8.1999999999999993,5.54,4.0199999999999996,1.54,0.75,0.31,0.1,null,0.04,0.21,0.39,0.53,0.56000000000000005,0.43,0.24,0.09]
["Palm Springs Airport",34.090000000000003,11.3,7.14,4.96,1.59,0.65,0.24,0.08,null,19.600000000000001,6.63,4.5,3.28,1.24,0.6,0.25,0.08,null,0.05,0.21,0.33,0.41,0.48,0.37,0.21,0.08]
["Riverside Airport",43.31,14.55,9.1999999999999993,6.41,2.0099999999999998,0.71,0.23,7.0000000000000007E-2,null,20,7.83,5.48,4.04,1.5,0.65,0.25,0.08,null,0.06,0.34,0.63,0.79,0.68,0.45,0.24,0.09]
["Santa Monica Airport",45.64,13.21,7.8,5.13,1.44,0.53,0.18,0.05,null,25.22,8.1,5.26,3.64,1.17,0.49,0.18,0.06,null,0.04,0.33,0.68,0.84,0.57999999999999996,0.36,0.17,0.06]
["John Wayne Int'l Airport",41.29,12.48,7.55,5.14,1.57,0.63,0.23,7.0000000000000007E-2,null,23.36,7.39,4.8499999999999996,3.48,1.26,0.59,0.23,7.0000000000000007E-2,null,0.04,0.2,0.43,0.59,0.56000000000000005,0.38,0.2,7.0000000000000007E-2]
["Desert Hot Springs Airport",38.5,12.31,7.93,5.57,1.87,0.78,0.28999999999999998,0.09,null,22.7,7.22,4.96,3.67,1.47,0.73,0.3,0.1,null,0.02,0.15,0.3,0.41,0.54,0.43,0.25,0.1]
["Van Nuys Airport",33.39,10.25,6.07,4.05,1.24,0.49,0.17,0.05,null,17.989999999999998,6.19,4.0199999999999996,2.83,1,0.46,0.18,0.06,null,0.09,0.28999999999999998,0.46,0.55000000000000004,0.44,0.3,0.16,0.06]
[]
[]
[]
["*Note: Facilities with stack heights less than 14 feet must perform Tier 3 or 4 dispersion modeling"]

{"sheet":"VSE Calc","index":28,"n_rows":43,"n_cols":22,"rows_kept":43,"cut":false,"hidden":false,"merged":[[2,11,3,13],[2,5,2,10],[23,1,23,2],[13,1,13,2],[34,1,34,2],[34,3,34,10],[13,3,13,10]]}
[null,"Look up for Volume Source Equipment's X/Q"]
[]
[null,"Station",{"$f":"Emissions!$E$22","v":"Van Nuys Airport"},null,null,"Interpolation for X/Q from Nearest Distances",null,null,null,null,null,"Interpolation New Distance for Cancer Burden Calculation"]
[null,"Operating Hours (hrs/day)",{"$f":"HoursPerDay","v":24},null,null,"Stack Ht (ft)",{"$f":"Emissions!E18","v":32},"Area:",{"$f":"Emissions!E19","v":5000},"row:",{"$f":"IF(AND(G4<=20,I4<=3000),1,IF(AND(G4<=20,I4>3000,I4<=10000),2,IF(AND(G4<=20,I4>10000,I4<=30000),3,IF(AND(G4>20,I4<=3000),4,IF(AND(G4>20,I4>3000,I4<=10000),5,IF(AND(G4>20,I4>10000,I4<=30000),6,\"no data\"))))))","v":5}]
[null,"X/Q (residential)",{"$f":"$G$8","v":1.1057999999999999},null,null,null,"Residential",null,null,"Industrial",null,null,"X/Q for one-in-a-million (for screening mode only)"]
[null,"X/Q (industrial)",{"$f":"$J$8","v":0.45499999999999996},null,null,"near","actual","far","near","actual","far","near","actual","far"]
[null,"X/Q max acute (residential)",{"$f":"G9","v":61.099899999999998},null,"Distance (m)",{"$f":"IF(G7<25,25,HLOOKUP(G7,table4_vse,1,TRUE))","v":100},{"$f":"Emissions!E20","v":157},{"$f":"IF(G7<25,25,IF(G7>=1000,1000,IF(G7=HLOOKUP(G7,table4_vse,1,TRUE),G7,INDEX(table4_vse,1,MATCH(G7,C15:J15,1)))))","v":200},{"$f":"IF(J7<25,25,HLOOKUP(J7,table4_vse,1,TRUE))","v":200},{"$f":"Emissions!E21","v":265},{"$f":"IF(J7<25,25,IF(J7>=1000,1000,IF(J7=HLOOKUP(J7,table4_vse,1,TRUE),J7,INDEX(table4_vse,1,MATCH(J7,D15:K15,1)+1))))","v":300},{"$f":"IF(HoursPerDay<=12,VLOOKUP($K$4,$A$16:$S$21,17,FALSE),VLOOKUP($K$4,$A$26:$S$31,17,FALSE))","v":1000},{"$f":"IF(L7=\"\",\"\",IF(N7=L7,N7,L7-(L8-M8)/(L8-N8)*(L7-N7)))","v":1000},{"$f":"IF(HoursPerDay<=12,VLOOKUP($K$4,$A$16:$S$21,19,FALSE),VLOOKUP($K$4,$A$26:$S$31,19,FALSE))","v":1000}]
[null,"X/Q max acute (industrial)",{"$f":"J9","v":24.917999999999999},null,"X/Q",{"$f":"IF(C4<=12,HLOOKUP(F7,table4_vse,$K$4+1,TRUE),HLOOKUP(F7,table5_vse,$K$4+1,TRUE))","v":1.71},{"$f":"IF(F8=H8,F8,F8-(((G7-F7)/(H7-F7))*(F8-H8)))","v":1.1057999999999999},{"$f":"IF(C4<=12,HLOOKUP(H7,table4_vse,$K$4+1,TRUE),HLOOKUP(H7,table5_vse,$K$4+1,TRUE))","v":0.65},{"$f":"IF(C4<=12,HLOOKUP(I7,table4_vse,$K$4+1,TRUE),HLOOKUP(I7,table5_vse,$K$4+1,TRUE))","v":0.65},{"$f":"IF(I8=K8,I8,I8-(((J7-I7)/(K7-I7))*(I8-K8)))","v":0.45499999999999996},{"$f":"IF(C4<=12,HLOOKUP(K7,table4_vse,$K$4+1,TRUE),HLOOKUP(K7,table5_vse,$K$4+1,TRUE))","v":0.35},{"$f":"IF(HoursPerDay<=12,VLOOKUP($K$4,$A$16:$S$21,16,FALSE),VLOOKUP($K$4,$A$26:$S$31,16,FALSE))","v":0.05},{"$f":"'Tier 2 Report'!N152","v":0},{"$f":"IF(HoursPerDay<=12,VLOOKUP($K$4,$A$16:$S$21,18,FALSE),VLOOKUP($K$4,$A$26:$S$31,18,FALSE))","v":0}]
[null,null,null,null,"X/Q max",{"$f":"HLOOKUP(F7,VSE_Acute_data,$K$4+1,TRUE)","v":94.69},{"$f":"IF(F9=H9,F9,F9-(((G7-F7)/(H7-F7))*(F9-H9)))","v":61.099899999999998},{"$f":"HLOOKUP(H7,VSE_Acute_data,$K$4+1,TRUE)","v":35.76},{"$f":"HLOOKUP(I7,VSE_Acute_data,$K$4+1,TRUE)","v":35.76},{"$f":"IF(I9=K9,I9,I9-(((J7-I7)/(K7-I7))*(I9-K9)))","v":24.917999999999999},{"$f":"HLOOKUP(K7,VSE_Acute_data,$K$4+1,TRUE)","v":19.079999999999998}]
[]
[]
[]
[null,"Table 7A - Volume source, operating less than or equal to 12 hrs/day (µg/m³)/(tons/yr)"]
[null,"Source Dimensions",null,"Downwind Distance (meters)"]
["Row","Area (ft2)","Height (ft)",25,50,75,100,200,300,500,1000,null,null,null,null,"Nearest X/Q - high","nearest dist - closer","Nearest X/Q- low","nearest dist - further",null,"Column","Dist"]
[1,"Area  ≤  3,000","≤ 20",{"$f":"VLOOKUP($C$3,VolumeSourceEquipmentLessThan12,2,FALSE)","v":12.43},{"$f":"VLOOKUP($C$3,VolumeSourceEquipmentLessThan12,3,FALSE)","v":4.5599999999999996},{"$f":"VLOOKUP($C$3,VolumeSourceEquipmentLessThan12,4,FALSE)","v":2.3199999999999998},{"$f":"VLOOKUP($C$3,VolumeSourceEquipmentLessThan12,5,FALSE)","v":1.4},{"$f":"VLOOKUP($C$3,VolumeSourceEquipmentLessThan12,6,FALSE)","v":0.38},{"$f":"VLOOKUP($C$3,VolumeSourceEquipmentLessThan12,7,FALSE)","v":0.17},{"$f":"VLOOKUP($C$3,VolumeSourceEquipmentLessThan12,8,FALSE)","v":0.06},{"$f":"VLOOKUP($C$3,VolumeSourceEquipmentLessThan12,9,FALSE)","v":0.01},null,null,null,null,{"$f":"INDEX($D16:$K16,1,MATCH($M$8,$D16:$K16,-1))","v":0.01},{"$f":"VLOOKUP(MATCH(P16,$D16:$K16,0),$U$16:$V$23,2,FALSE)","v":1000},{"$f":"INDEX($C16:$L16,1,1+MATCH($M$8,$C16:$L16,-1))","v":0},{"$f":"IF(R16=0,Q16,VLOOKUP(MATCH(R16,$D16:$K16,0),$U$16:$V$23,2,FALSE))","v":1000},null,1,25]
[2,"3,000 < Area ≤ 10,000","≤ 20",{"$f":"VLOOKUP($C$3,VolumeSourceEquipmentLessThan12,11,FALSE)","v":8.83},{"$f":"VLOOKUP($C$3,VolumeSourceEquipmentLessThan12,12,FALSE)","v":3.67},{"$f":"VLOOKUP($C$3,VolumeSourceEquipmentLessThan12,13,FALSE)","v":1.98},{"$f":"VLOOKUP($C$3,VolumeSourceEquipmentLessThan12,14,FALSE)","v":1.23},{"$f":"VLOOKUP($C$3,VolumeSourceEquipmentLessThan12,15,FALSE)","v":0.35},{"$f":"VLOOKUP($C$3,VolumeSourceEquipmentLessThan12,16,FALSE)","v":0.16},{"$f":"VLOOKUP($C$3,VolumeSourceEquipmentLessThan12,17,FALSE)","v":0.06},{"$f":"VLOOKUP($C$3,VolumeSourceEquipmentLessThan12,18,FALSE)","v":0.01},null,null,null,null,{"$f":"INDEX($C17:$K17,1,MATCH($M$8,$C17:$K17,-1))","v":0.01},1000,0,1000,null,2,50]
[3,"10,000 < Area ≤ 30,000","≤ 20",{"$f":"VLOOKUP($C$3,VolumeSourceEquipmentLessThan12,20,FALSE)","v":7.25},{"$f":"VLOOKUP($C$3,VolumeSourceEquipmentLessThan12,21,FALSE)","v":3.39},{"$f":"VLOOKUP($C$3,VolumeSourceEquipmentLessThan12,22,FALSE)","v":1.91},{"$f":"VLOOKUP($C$3,VolumeSourceEquipmentLessThan12,23,FALSE)","v":1.2},{"$f":"VLOOKUP($C$3,VolumeSourceEquipmentLessThan12,24,FALSE)","v":0.35},{"$f":"VLOOKUP($C$3,VolumeSourceEquipmentLessThan12,25,FALSE)","v":0.16},{"$f":"VLOOKUP($C$3,VolumeSourceEquipmentLessThan12,26,FALSE)","v":0.06},{"$f":"VLOOKUP($C$3,VolumeSourceEquipmentLessThan12,27,FALSE)","v":0.01},null,null,null,null,{"$f":"INDEX($C18:$K18,1,MATCH($M$8,$C18:$K18,-1))","v":0.01},1000,0,1000,null,3,75]
[4,"Area  ≤  3,000","> 20",{"$f":"VLOOKUP($C$3,VolumeSourceEquipmentLessThan12,29,FALSE)","v":5.63},{"$f":"VLOOKUP($C$3,VolumeSourceEquipmentLessThan12,30,FALSE)","v":2.71},{"$f":"VLOOKUP($C$3,VolumeSourceEquipmentLessThan12,31,FALSE)","v":1.58},{"$f":"VLOOKUP($C$3,VolumeSourceEquipmentLessThan12,32,FALSE)","v":1.03},{"$f":"VLOOKUP($C$3,VolumeSourceEquipmentLessThan12,33,FALSE)","v":0.32},{"$f":"VLOOKUP($C$3,VolumeSourceEquipmentLessThan12,34,FALSE)","v":0.15},{"$f":"VLOOKUP($C$3,VolumeSourceEquipmentLessThan12,35,FALSE)","v":0.06},{"$f":"VLOOKUP($C$3,VolumeSourceEquipmentLessThan12,36,FALSE)","v":0.01},null,null,null,null,{"$f":"INDEX($C19:$K19,1,MATCH($M$8,$C19:$K19,-1))","v":0.01},1000,0,1000,null,4,100]
[5,"3,000 < Area ≤ 10,000","> 20",{"$f":"VLOOKUP($C$3,VolumeSourceEquipmentLessThan12,38,FALSE)","v":4.95},{"$f":"VLOOKUP($C$3,VolumeSourceEquipmentLessThan12,39,FALSE)","v":2.56},{"$f":"VLOOKUP($C$3,VolumeSourceEquipmentLessThan12,40,FALSE)","v":1.53},{"$f":"VLOOKUP($C$3,VolumeSourceEquipmentLessThan12,41,FALSE)","v":1},{"$f":"VLOOKUP($C$3,VolumeSourceEquipmentLessThan12,42,FALSE)","v":0.31},{"$f":"VLOOKUP($C$3,VolumeSourceEquipmentLessThan12,43,FALSE)","v":0.15},{"$f":"VLOOKUP($C$3,VolumeSourceEquipmentLessThan12,44,FALSE)","v":0.05},{"$f":"VLOOKUP($C$3,VolumeSourceEquipmentLessThan12,45,FALSE)","v":0.01},null,null,null,null,{"$f":"INDEX($C20:$K20,1,MATCH($M$8,$C20:$K20,-1))","v":0.01},1000,0,1000,null,5,200]
[6,"10,000 < Area ≤ 30,000 ","> 20",{"$f":"VLOOKUP($C$3,VolumeSourceEquipmentLessThan12,47,FALSE)","v":2.8},{"$f":"VLOOKUP($C$3,VolumeSourceEquipmentLessThan12,48,FALSE)","v":1.65},{"$f":"VLOOKUP($C$3,VolumeSourceEquipmentLessThan12,49,FALSE)","v":1.07},{"$f":"VLOOKUP($C$3,VolumeSourceEquipmentLessThan12,50,FALSE)","v":0.74},{"$f":"VLOOKUP($C$3,VolumeSourceEquipmentLessThan12,51,FALSE)","v":0.26},{"$f":"VLOOKUP($C$3,VolumeSourceEquipmentLessThan12,52,FALSE)","v":0.13},{"$f":"VLOOKUP($C$3,VolumeSourceEquipmentLessThan12,53,FALSE)","v":0.05},{"$f":"VLOOKUP($C$3,VolumeSourceEquipmentLessThan12,54,FALSE)","v":0.01},null,null,null,null,{"$f":"INDEX($C21:$K21,1,MATCH($M$8,$C21:$K21,-1))","v":0.01},1000,0,1000,null,6,300]
[null,null,null,null,null,null,null,null,null,null,null,null,null,null,null,null,null,null,null,null,7,500]
[null,"Table 7 B - Volume source, operating more than 12 hours/day (µg/m³)/(tons/yr)",null,null,null,null,null,null,null,null,null,null,null,null,null,null,null,null,null,null,8,1000]
[null,"Source Dimensions",null,null,null,"Downwind Distance (meters)"]
["Row","Area (ft2)","Height (ft)",25,50,75,100,200,300,500,1000,null,null,null,null,"Nearest X/Q - high","nearest dist - low","Nearest X/Q- low","nearest dist - high"]
[1,"Area  ≤  3,000","≤ 20",{"$f":"VLOOKUP($C$3,VolumeSourceEquipmentMoreThan12,2,FALSE)","v":17.649999999999999},{"$f":"VLOOKUP($C$3,VolumeSourceEquipmentMoreThan12,3,FALSE)","v":7.07},{"$f":"VLOOKUP($C$3,VolumeSourceEquipmentMoreThan12,4,FALSE)","v":3.86},{"$f":"VLOOKUP($C$3,VolumeSourceEquipmentMoreThan12,5,FALSE)","v":2.46},{"$f":"VLOOKUP($C$3,VolumeSourceEquipmentMoreThan12,6,FALSE)","v":0.79},{"$f":"VLOOKUP($C$3,VolumeSourceEquipmentMoreThan12,7,FALSE)","v":0.4},{"$f":"VLOOKUP($C$3,VolumeSourceEquipmentMoreThan12,8,FALSE)","v":0.17},{"$f":"VLOOKUP($C$3,VolumeSourceEquipmentMoreThan12,9,FALSE)","v":0.05},null,null,null,null,{"$f":"INDEX($D26:$K26,1,MATCH($M$8,$D26:$K26,-1))","v":0.05},{"$f":"VLOOKUP(MATCH(P26,$D26:$K26,0),$U$16:$V$23,2,FALSE)","v":1000},{"$f":"IF(ISERROR(INDEX($D26:$L26,1,1+MATCH($M$8,$D26:$L26,-1))),P26,INDEX($D26:$L26,1,1+MATCH($M$8,$D26:$L26,-1)))","v":0},{"$f":"IF(R26=0,Q26,VLOOKUP(MATCH(R26,$D26:$K26,0),$U$16:$V$23,2,FALSE))","v":1000}]
[2,"3,000 < Area ≤ 10,000","≤ 20",{"$f":"VLOOKUP($C$3,VolumeSourceEquipmentMoreThan12,11,FALSE)","v":12.96},{"$f":"VLOOKUP($C$3,VolumeSourceEquipmentMoreThan12,12,FALSE)","v":5.83},{"$f":"VLOOKUP($C$3,VolumeSourceEquipmentMoreThan12,13,FALSE)","v":3.36},{"$f":"VLOOKUP($C$3,VolumeSourceEquipmentMoreThan12,14,FALSE)","v":2.21},{"$f":"VLOOKUP($C$3,VolumeSourceEquipmentMoreThan12,15,FALSE)","v":0.75},{"$f":"VLOOKUP($C$3,VolumeSourceEquipmentMoreThan12,16,FALSE)","v":0.39},{"$f":"VLOOKUP($C$3,VolumeSourceEquipmentMoreThan12,17,FALSE)","v":0.17},{"$f":"VLOOKUP($C$3,VolumeSourceEquipmentMoreThan12,18,FALSE)","v":0.05},null,null,null,null,0.05,1000,0,1000]
[3,"10,000 < Area ≤ 30,000","> 20",{"$f":"VLOOKUP($C$3,VolumeSourceEquipmentMoreThan12,20,FALSE)","v":9.75},{"$f":"VLOOKUP($C$3,VolumeSourceEquipmentMoreThan12,21,FALSE)","v":4.88},{"$f":"VLOOKUP($C$3,VolumeSourceEquipmentMoreThan12,22,FALSE)","v":2.95},{"$f":"VLOOKUP($C$3,VolumeSourceEquipmentMoreThan12,23,FALSE)","v":1.99},{"$f":"VLOOKUP($C$3,VolumeSourceEquipmentMoreThan12,24,FALSE)","v":0.71},{"$f":"VLOOKUP($C$3,VolumeSourceEquipmentMoreThan12,25,FALSE)","v":0.37},{"$f":"VLOOKUP($C$3,VolumeSourceEquipmentMoreThan12,26,FALSE)","v":0.16},{"$f":"VLOOKUP($C$3,VolumeSourceEquipmentMoreThan12,27,FALSE)","v":0.05},null,null,null,null,0.05,{"$f":"VLOOKUP(MATCH(P28,$D28:$K28,0),$U$16:$V$23,2,FALSE)","v":1000},{"$f":"IF(ISERROR(INDEX($D28:$L28,1,1+MATCH($M$8,$D28:$L28,-1))),P28,INDEX($D28:$L28,1,1+MATCH($M$8,$D28:$L28,-1)))","v":0},1000]
[4,"Area  ≤  3,000","≤ 20",{"$f":"VLOOKUP($C$3,VolumeSourceEquipmentMoreThan12,29,FALSE)","v":8.7200000000000006},{"$f":"VLOOKUP($C$3,VolumeSourceEquipmentMoreThan12,30,FALSE)","v":4.4800000000000004},{"$f":"VLOOKUP($C$3,VolumeSourceEquipmentMoreThan12,31,FALSE)","v":2.76},{"$f":"VLOOKUP($C$3,VolumeSourceEquipmentMoreThan12,32,FALSE)","v":1.89},{"$f":"VLOOKUP($C$3,VolumeSourceEquipmentMoreThan12,33,FALSE)","v":0.69},{"$f":"VLOOKUP($C$3,VolumeSourceEquipmentMoreThan12,34,FALSE)","v":0.36},{"$f":"VLOOKUP($C$3,VolumeSourceEquipmentMoreThan12,35,FALSE)","v":0.16},{"$f":"VLOOKUP($C$3,VolumeSourceEquipmentMoreThan12,36,FALSE)","v":0.05},null,null,null,null,0.05,1000,0,1000]
[5,"3,000 < Area ≤ 10,000",">20",{"$f":"VLOOKUP($C$3,VolumeSourceEquipmentMoreThan12,38,FALSE)","v":6.92},{"$f":"VLOOKUP($C$3,VolumeSourceEquipmentMoreThan12,39,FALSE)","v":3.83},{"$f":"VLOOKUP($C$3,VolumeSourceEquipmentMoreThan12,40,FALSE)","v":2.4500000000000002},{"$f":"VLOOKUP($C$3,VolumeSourceEquipmentMoreThan12,41,FALSE)","v":1.71},{"$f":"VLOOKUP($C$3,VolumeSourceEquipmentMoreThan12,42,FALSE)","v":0.65},{"$f":"VLOOKUP($C$3,VolumeSourceEquipmentMoreThan12,43,FALSE)","v":0.35},{"$f":"VLOOKUP($C$3,VolumeSourceEquipmentMoreThan12,44,FALSE)","v":0.16},{"$f":"VLOOKUP($C$3,VolumeSourceEquipmentMoreThan12,45,FALSE)","v":0.05},null,null,null,null,0.05,1000,0,1000]
[6,"10,000 < Area ≤ 30,000","≥ 20",{"$f":"VLOOKUP($C$3,VolumeSourceEquipmentMoreThan12,47,FALSE)","v":4.22},{"$f":"VLOOKUP($C$3,VolumeSourceEquipmentMoreThan12,48,FALSE)","v":2.65},{"$f":"VLOOKUP($C$3,VolumeSourceEquipmentMoreThan12,49,FALSE)","v":1.83},{"$f":"VLOOKUP($C$3,VolumeSourceEquipmentMoreThan12,50,FALSE)","v":1.34},{"$f":"VLOOKUP($C$3,VolumeSourceEquipmentMoreThan12,51,FALSE)","v":0.56000000000000005},{"$f":"VLOOKUP($C$3,VolumeSourceEquipmentMoreThan12,52,FALSE)","v":0.32},{"$f":"VLOOKUP($C$3,VolumeSourceEquipmentMoreThan12,53,FALSE)","v":0.15},{"$f":"VLOOKUP($C$3,VolumeSourceEquipmentMoreThan12,54,FALSE)","v":0.05},null,null,null,null,0.05,1000,0,1000]
[]
[null,"Table 7.7 Dispersion Factors (X/Q) for Acute Hazard Index Volume Source Equipment "]
[null,"All Operating Conditions X/Q Values [(µg/m³)/(lbs/hr)] "]
[null,"Source Dimensions*",null,"Downwind Distance (meters)"]
["Row","Area (ft2)","Height (ft)",25,50,75,100,200,300,500,1000]
[1,"Area  ≤  3,000","≤ 20",1033.77,414.65,218.14,135.08000000000001,44.63,23.14,10.01,3.15]
[2,"3,000 < Area ≤ 10,000","≤ 20",707.38,325.92,183.9,119.58,41.96,22.2,9.76,3.12]
[3,"10,000 < Area ≤ 30,000","≤ 20",488.94,273.75,169.32,114.26,39.57,20.43,8.7100000000000009,2.64]
[4,"Area  ≤  3,000","> 20",427.29,230.93,142.88999999999999,99.1,38.15,20.87,9.44,3.1]
[5,"3,000 < Area ≤ 10,000","> 20",325.79000000000002,202.24,133.97,94.69,35.76,19.079999999999998,8.36,2.59]
[6,"10,000 < Area ≤ 30,000","> 20",182.34,126.31,91.4,68.97,29.84,16.86,7.75,2.4900000000000002]
[null,"*Note: Facilities with building dimensions outside the ranges here must perform Tier 3 or 4 dispersion modeling"]

{"sheet":"VSE Data","index":29,"n_rows":61,"n_cols":54,"rows_kept":61,"cut":false,"hidden":true,"merged":[[1,19,1,26],[2,55,2,62],[2,64,2,69],[32,10,32,17],[33,1,33,8],[33,28,33,35],[2,19,2,26],[33,10,33,17],[2,1,2,8],[2,28,2,35],[33,19,33,26],[33,46,33,53],[33,37,33,44],[2,46,2,53],[2,37,2,44],[2,10,2,17]]}
["Table 7A Dispersion Factors (X/Q) for Volume Source Equipment Operating 12 Hours per Day or Less"]
["Units are in (ug/m3)/(tons/yr)","Building Area ≤ 3,000 ft2, Stack Height ≤ 20 ft*",null,null,null,null,null,null,null,null,"Building Area > 3,000 to 10,000 ft2, Stack Height ≤ 20 ft*",null,null,null,null,null,null,null,null,"Building Area > 10,000 to 30,000 ft2, Stack Height ≤  20 ft*",null,null,null,null,null,null,null,null,"Building Area <3,000 ft2, Stack Height > 20 ft*",null,null,null,null,null,null,null,null,"Building Area > 3,000 to 10,000 ft2, Stack Height > 20 ft*",null,null,null,null,null,null,null,null,"Building Area > 10,000 ft2 to 30,000 ft2, Stack Height > 20 ft*"]
[null,"Downwind Distance (meters)",null,null,null,null,null,null,null,null,"Downwind Distance (meters)",null,null,null,null,null,null,null,null,"Downwind Distance (meters)",null,null,null,null,null,null,null,null,"Downwind Distance (meters)",null,null,null,null,null,null,null,null,"Downwind Distance (meters)",null,null,null,null,null,null,null,null,"Downwind Distance (meters)"]
["Location","25","50","75","100","200","300","500",1000,null,"25","50","75","100","200","300","500",1000,null,"25","50","75","100","200","300","500",1000,null,"25","50","75","100","200","300","500",1000,null,"25","50","75","100","200","300","500",1000,null,"25","50","75","100","200","300","500",1000]
["Azusa",8.24,2.66,1.36,0.84,0.25,0.12,0.05,0.01,null,5.55,2.14,1.17,0.75,0.24,0.12,0.04,0.01,null,5.42,2.2200000000000002,1.21,0.77,0.24,0.11,0.04,0.01,null,3.41,1.6,0.95,0.64,0.22,0.11,0.04,0.01,null,3.46,1.66,0.98,0.65,0.21,0.11,0.04,0.01,null,1.86,1.07,0.69,0.49,0.18,0.09,0.04,0.01]
["Banning",12.32,4.72,2.5,1.55,0.45,0.21,0.08,0.02,null,8.8000000000000007,3.84,2.15,1.37,0.42,0.2,7.0000000000000007E-2,0.02,null,7.23,3.57,2.0699999999999998,1.33,0.41,0.19,7.0000000000000007E-2,0.02,null,5.67,2.86,1.72,1.1499999999999999,0.38,0.18,7.0000000000000007E-2,0.02,null,5.01,2.71,1.67,1.1200000000000001,0.37,0.18,7.0000000000000007E-2,0.02,null,2.88,1.77,1.18,0.84,0.31,0.16,0.06,0.02]
["Central L.A.",7.23,2.2799999999999998,1.24,0.8,0.25,0.12,0.04,0.01,null,4.84,1.87,1.0900000000000001,0.72,0.24,0.11,0.04,0.01,null,4.8499999999999996,2.06,1.17,0.76,0.24,0.11,0.04,0.01,null,2.92,1.43,0.89,0.62,0.22,0.11,0.04,0.01,null,3.15,1.57,0.95,0.64,0.22,0.11,0.04,0.01,null,1.75,1.03,0.69,0.49,0.18,0.09,0.04,0.01]
["Lake Elsinore",9.36,2.96,1.43,0.84,0.23,0.1,0.04,0.01,null,6.31,2.34,1.21,0.74,0.21,0.1,0.04,0.01,null,5.92,2.33,1.22,0.74,0.21,0.1,0.04,0.01,null,3.83,1.7,0.96,0.62,0.19,0.09,0.04,0.01,null,3.72,1.7,0.96,0.62,0.19,0.09,0.03,0.01,null,1.93,1.06,0.67,0.46,0.16,0.08,0.03,0.01]
["Fontana",9.56,3.6,1.93,1.2,0.35,0.16,0.06,0.01,null,6.81,2.95,1.66,1.07,0.33,0.16,0.06,0.01,null,6.55,2.97,1.68,1.07,0.33,0.15,0.06,0.01,null,4.4400000000000004,2.23,1.35,0.9,0.3,0.15,0.06,0.01,null,4.4000000000000004,2.25,1.36,0.9,0.3,0.14000000000000001,0.05,0.01,null,2.48,1.46,0.96,0.68,0.25,0.13,0.05,0.01]
["Mission Viejo",8.75,2.92,1.46,0.88,0.24,0.11,0.04,0.01,null,6,2.34,1.25,0.78,0.22,0.1,0.04,0.01,null,5.68,2.35,1.27,0.78,0.22,0.1,0.04,0.01,null,3.74,1.73,1,0.65,0.2,0.1,0.04,0.01,null,3.68,1.75,1.01,0.65,0.2,0.09,0.03,0.01,null,1.99,1.1100000000000001,0.71,0.49,0.17,0.08,0.03,0.01]
["Perris",11.24,3.8,1.89,1.1299999999999999,0.31,0.14000000000000001,0.05,0.01,null,7.74,3.04,1.61,1,0.28999999999999998,0.13,0.05,0.01,null,6.95,2.94,1.59,0.99,0.28000000000000003,0.13,0.05,0.01,null,4.8099999999999996,2.23,1.28,0.83,0.26,0.12,0.05,0.01,null,4.51,2.1800000000000002,1.26,0.82,0.25,0.12,0.05,0.01,null,2.42,1.37,0.88,0.61,0.21,0.11,0.04,0.01]
["Pico Rivera",8.4700000000000006,3.14,1.69,1.06,0.31,0.14000000000000001,0.05,0.01,null,5.98,2.58,1.46,0.94,0.28999999999999998,0.14000000000000001,0.05,0.01,null,6.01,2.67,1.5,0.96,0.28999999999999998,0.13,0.05,0.01,null,3.9,1.96,1.19,0.8,0.26,0.13,0.05,0.01,null,4.0199999999999996,2.02,1.21,0.81,0.26,0.13,0.05,0.01,null,2.2599999999999998,1.32,0.87,0.61,0.22,0.11,0.04,0.01]
["Redlands",8.7799999999999994,2.9,1.48,0.91,0.27,0.13,0.05,0.01,null,5.96,2.33,1.27,0.81,0.25,0.12,0.05,0.01,null,5.84,2.4,1.31,0.83,0.25,0.12,0.05,0.01,null,3.69,1.73,1.03,0.68,0.23,0.11,0.05,0.01,null,3.74,1.79,1.05,0.69,0.23,0.11,0.04,0.01,null,2.0099999999999998,1.1499999999999999,0.74,0.52,0.19,0.1,0.04,0.01]
["Upland",8.67,3.28,1.82,1.17,0.36,0.17,0.06,0.02,null,6.12,2.72,1.59,1.05,0.34,0.16,0.06,0.02,null,6.33,2.87,1.64,1.06,0.33,0.16,0.06,0.02,null,4.03,2.09,1.3,0.89,0.31,0.15,0.06,0.02,null,4.25,2.19,1.34,0.9,0.3,0.15,0.06,0.01,null,2.41,1.44,0.96,0.68,0.26,0.13,0.05,0.01]
["Burbank Airport",12.78,4.82,2.52,1.54,0.44,0.2,7.0000000000000007E-2,0.02,null,9.15,3.91,2.16,1.37,0.41,0.19,7.0000000000000007E-2,0.02,null,7.89,3.72,2.11,1.35,0.4,0.19,7.0000000000000007E-2,0.02,null,5.92,2.92,1.73,1.1399999999999999,0.37,0.18,7.0000000000000007E-2,0.02,null,5.41,2.82,1.7,1.1299999999999999,0.36,0.17,0.06,0.02,null,3.08,1.83,1.2,0.84,0.3,0.15,0.06,0.02]
["Chino Airport.",15.87,5.72,2.88,1.72,0.46,0.21,7.0000000000000007E-2,0.02,null,11.2,4.59,2.4500000000000002,1.51,0.43,0.2,7.0000000000000007E-2,0.02,null,8.76,4.13,2.33,1.47,0.42,0.19,7.0000000000000007E-2,0.02,null,7.07,3.36,1.94,1.26,0.39,0.18,7.0000000000000007E-2,0.02,null,5.99,3.12,1.86,1.22,0.38,0.18,7.0000000000000007E-2,0.02,null,3.39,2,1.3,0.91,0.32,0.16,0.06,0.02]
["USC/Downtown L.A.",9.73,3.38,1.76,1.0900000000000001,0.32,0.15,0.06,0.01,null,6.73,2.74,1.51,0.97,0.3,0.15,0.06,0.01,null,6.47,2.78,1.53,0.97,0.28999999999999998,0.14000000000000001,0.05,0.01,null,4.24,2.0499999999999998,1.22,0.81,0.28000000000000003,0.14000000000000001,0.05,0.01,null,4.2300000000000004,2.08,1.23,0.82,0.27,0.13,0.05,0.01,null,2.31,1.34,0.87,0.61,0.23,0.12,0.05,0.01]
["Fullerton Airport",9.82,3.76,2.0099999999999998,1.26,0.37,0.17,0.06,0.02,null,7.05,3.08,1.74,1.1200000000000001,0.35,0.17,0.06,0.02,null,6.79,3.09,1.75,1.1200000000000001,0.34,0.16,0.06,0.01,null,4.63,2.33,1.41,0.94,0.32,0.16,0.06,0.02,null,4.58,2.34,1.41,0.94,0.31,0.15,0.06,0.01,null,2.58,1.52,1,0.71,0.26,0.13,0.05,0.01]
["Hawthorne Airport",11.74,4.4800000000000004,2.42,1.53,0.47,0.22,0.08,0.02,null,8.32,3.67,2.1,1.37,0.44,0.22,0.08,0.02,null,7.81,3.67,2.11,1.36,0.43,0.21,0.08,0.02,null,5.4,2.77,1.7,1.1499999999999999,0.4,0.2,0.08,0.02,null,5.28,2.78,1.7,1.1499999999999999,0.39,0.19,0.08,0.02,null,2.98,1.8,1.21,0.86,0.33,0.17,7.0000000000000007E-2,0.02]
["Los Angeles Int'l Airport",18.91,7.29,3.86,2.39,0.71,0.33,0.13,0.03,null,13.41,5.89,3.31,2.12,0.66,0.32,0.12,0.03,null,10.38,5.28,3.11,2.0299999999999998,0.63,0.3,0.11,0.03,null,8.52,4.3499999999999996,2.64,1.77,0.6,0.3,0.12,0.03,null,7.17,4.01,2.5,1.7,0.56999999999999995,0.28000000000000003,0.11,0.03,null,4.1100000000000003,2.59,1.75,1.26,0.48,0.25,0.1,0.03]
["Long Beach Airport",13.43,5.01,2.57,1.55,0.43,0.19,7.0000000000000007E-2,0.02,null,9.59,4.04,2.19,1.37,0.4,0.18,7.0000000000000007E-2,0.02,null,7.75,3.7,2.09,1.32,0.38,0.17,0.06,0.01,null,6.13,2.98,1.74,1.1399999999999999,0.36,0.17,0.06,0.02,null,5.32,2.79,1.68,1.1000000000000001,0.35,0.16,0.06,0.01,null,3.02,1.79,1.17,0.82,0.28999999999999998,0.14000000000000001,0.06,0.01]
["Ontario Airport",17.68,6.6,3.38,2.04,0.56000000000000005,0.25,0.09,0.02,null,12.6,5.31,2.88,1.8,0.52,0.24,0.09,0.02,null,9.8800000000000008,4.8099999999999996,2.74,1.74,0.51,0.23,0.08,0.02,null,8.0399999999999991,3.91,2.29,1.49,0.47,0.22,0.08,0.02,null,6.83,3.64,2.2000000000000002,1.45,0.46,0.22,0.08,0.02,null,3.91,2.35,1.54,1.08,0.38,0.19,7.0000000000000007E-2,0.02]
["Palm Springs Airport",10.42,3.72,1.87,1.1200000000000001,0.3,0.14000000000000001,0.05,0.01,null,7.34,2.98,1.6,0.99,0.28000000000000003,0.13,0.05,0.01,null,6.22,2.82,1.55,0.97,0.28000000000000003,0.13,0.04,0.01,null,4.6399999999999997,2.19,1.27,0.82,0.25,0.12,0.04,0.01,null,4.1900000000000004,2.11,1.24,0.81,0.25,0.12,0.04,0.01,null,2.3199999999999998,1.34,0.86,0.6,0.21,0.1,0.04,0.01]
["Riverside Airport",12.96,4.9000000000000004,2.58,1.59,0.46,0.21,0.08,0.02,null,9.24,3.98,2.21,1.41,0.43,0.2,0.08,0.02,null,8,3.79,2.16,1.38,0.42,0.2,7.0000000000000007E-2,0.02,null,5.94,2.96,1.77,1.18,0.39,0.19,7.0000000000000007E-2,0.02,null,5.46,2.87,1.74,1.1599999999999999,0.38,0.18,7.0000000000000007E-2,0.02,null,3.08,1.85,1.22,0.86,0.32,0.16,0.06,0.02]
["Santa Monica Airport",13.18,5.25,2.87,1.82,0.55000000000000004,0.26,0.1,0.02,null,9.49,4.32,2.4900000000000002,1.62,0.52,0.25,0.09,0.02,null,8.65,4.22,2.46,1.6,0.5,0.24,0.09,0.02,null,6.26,3.27,2.02,1.37,0.47,0.23,0.09,0.02,null,5.96,3.22,1.99,1.35,0.46,0.22,0.09,0.02,null,3.43,2.11,1.42,1.02,0.38,0.2,0.08,0.02]
["John Wayne Int'l Airport",17.059999999999999,6.46,3.34,2.0299999999999998,0.56000000000000005,0.25,0.09,0.02,null,12.23,5.22,2.86,1.79,0.52,0.24,0.08,0.02,null,9.81,4.78,2.73,1.74,0.51,0.23,0.08,0.02,null,7.87,3.87,2.2799999999999998,1.5,0.47,0.22,0.08,0.02,null,6.8,3.63,2.2000000000000002,1.46,0.46,0.22,0.08,0.02,null,3.91,2.36,1.55,1.0900000000000001,0.39,0.19,7.0000000000000007E-2,0.02]
["Desert Hot Springs Airport",15.32,5.69,2.9,1.74,0.48,0.21,0.08,0.02,null,10.88,4.57,2.4700000000000002,1.54,0.44,0.2,7.0000000000000007E-2,0.02,null,8.4,4.0999999999999996,2.33,1.47,0.43,0.2,7.0000000000000007E-2,0.02,null,6.88,3.34,1.95,1.27,0.4,0.19,7.0000000000000007E-2,0.02,null,5.79,3.09,1.86,1.23,0.39,0.18,7.0000000000000007E-2,0.02,null,3.28,1.97,1.29,0.9,0.32,0.16,0.06,0.02]
["Van Nuys Airport",12.43,4.5599999999999996,2.3199999999999998,1.4,0.38,0.17,0.06,0.01,null,8.83,3.67,1.98,1.23,0.35,0.16,0.06,0.01,null,7.25,3.39,1.91,1.2,0.35,0.16,0.06,0.01,null,5.63,2.71,1.58,1.03,0.32,0.15,0.06,0.01,null,4.95,2.56,1.53,1,0.31,0.15,0.05,0.01,null,2.8,1.65,1.07,0.74,0.26,0.13,0.05,0.01]
[]
["*Note: Facilities with building dimensions outside the ranges in Tables 4 must perform Tier 3 or 4 dispersion modeling"]
[]
["Table 7B Dispersion Factors (X/Q) for Volume Source Equipment Operating more than 12 Hours per Day"]
["Units are in (ug/m3)/(tons/yr)","Building Area ≤ 3,000 ft2, Stack Height ≤ 20 ft*",null,null,null,null,null,null,null,null,"Building Area > 3,000 to 10,000 ft2, Stack Height ≤ 20 ft*",null,null,null,null,null,null,null,null,"Building Area > 3,000 to 10,000 ft2, Stack Height > 20 ft*",null,null,null,null,null,null,null,null,"Building Area > 10,000 to 30,000 ft2, Stack Height ≤ 20 ft*",null,null,null,null,null,null,null,null,"Building Area > 10,000 to 30,000 ft2, Stack Height > 20 ft*",null,null,null,null,null,null,null,null,"Building Area > 30,000 ft2, Stack Height > 20 ft*"]
[null,"Downwind Distance (meters)",null,null,null,null,null,null,null,null,"Downwind Distance (meters)",null,null,null,null,null,null,null,null,"Downwind Distance (meters)",null,null,null,null,null,null,null,null,"Downwind Distance (meters)",null,null,null,null,null,null,null,null,"Downwind Distance (meters)",null,null,null,null,null,null,null,null,"Downwind Distance (meters)"]
["Location","25","50","75","100","200","300","500",1000,null,"25","50","75","100","200","300","500",1000,null,"25","50","75","100","200","300","500",1000,null,"25","50","75","100","200","300","500",1000,null,"25","50","75","100","200","300","500",1000,null,"25","50","75","100","200","300","500",1000]
["Azusa",15.52,5.77,3.1,1.97,0.64,0.32,0.14000000000000001,0.04,null,11.05,4.7300000000000004,2.69,1.77,0.6,0.31,0.13,0.04,null,9.91,4.5,2.61,1.73,0.59,0.31,0.13,0.04,null,7.21,3.6,2.21,1.51,0.55000000000000004,0.28999999999999998,0.13,0.04,null,6.69,3.46,2.15,1.48,0.54,0.28999999999999998,0.13,0.04,null,3.87,2.34,1.58,1.1499999999999999,0.47,0.26,0.12,0.04]
["Banning",23.69,10.16,5.74,3.75,1.28,0.67,0.28999999999999998,0.09,null,17.61,8.43,5.0199999999999996,3.37,1.21,0.64,0.28000000000000003,0.09,null,11.99,6.51,4.13,2.87,1.08,0.59,0.26,0.09,null,11.98,6.52,4.1500000000000004,2.9,1.1100000000000001,0.61,0.28000000000000003,0.09,null,8.69,5.18,3.45,2.48,1,0.55000000000000004,0.26,0.09,null,5.44,3.63,2.6,1.96,0.87,0.5,0.24,0.08]
["Central L.A.",14.82,5.39,2.92,1.86,0.61,0.31,0.13,0.04,null,10.47,4.43,2.54,1.67,0.56999999999999995,0.3,0.13,0.04,null,9.77,4.3600000000000003,2.52,1.66,0.56999999999999995,0.28999999999999998,0.13,0.04,null,6.76,3.38,2.08,1.43,0.53,0.28000000000000003,0.12,0.04,null,6.54,3.35,2.0699999999999998,1.42,0.52,0.28000000000000003,0.12,0.04,null,3.76,2.2599999999999998,1.52,1.1100000000000001,0.45,0.25,0.11,0.04]
["Lake Elsinore",19.079999999999998,7.04,3.74,2.36,0.75,0.38,0.16,0.05,null,13.58,5.76,3.24,2.11,0.71,0.37,0.16,0.05,null,12.01,5.4,3.11,2.0499999999999998,0.7,0.36,0.16,0.05,null,8.84,4.37,2.65,1.8,0.65,0.35,0.15,0.05,null,8.08,4.1500000000000004,2.56,1.75,0.64,0.34,0.15,0.05,null,4.6500000000000004,2.79,1.88,1.36,0.55000000000000004,0.31,0.14000000000000001,0.05]
["Fontana",17.82,6.95,3.79,2.4300000000000002,0.79,0.4,0.17,0.05,null,12.9,5.73,3.3,2.1800000000000002,0.75,0.39,0.17,0.05,null,10.86,5.19,3.08,2.06,0.72,0.38,0.16,0.05,null,8.56,4.38,2.71,1.86,0.69,0.37,0.16,0.05,null,7.5,4.03,2.54,1.76,0.66,0.35,0.16,0.05,null,4.4400000000000004,2.74,1.88,1.38,0.56999999999999995,0.32,0.15,0.05]
["Mission Viejo",17.82,6.61,3.52,2.2200000000000002,0.7,0.36,0.15,0.05,null,12.71,5.41,3.05,1.99,0.66,0.34,0.15,0.05,null,11.27,5.0999999999999996,2.94,1.94,0.66,0.34,0.15,0.05,null,8.2899999999999991,4.1100000000000003,2.4900000000000002,1.69,0.61,0.32,0.14000000000000001,0.04,null,7.62,3.92,2.42,1.65,0.6,0.32,0.14000000000000001,0.04,null,4.4000000000000004,2.64,1.78,1.28,0.52,0.28999999999999998,0.13,0.04]
["Perris",20.96,7.91,4.24,2.68,0.86,0.44,0.19,0.06,null,15,6.48,3.68,2.41,0.82,0.42,0.18,0.06,null,12.85,5.93,3.46,2.29,0.79,0.41,0.18,0.06,null,9.82,4.93,3.01,2.0499999999999998,0.75,0.4,0.18,0.06,null,8.7200000000000006,4.57,2.84,1.96,0.73,0.39,0.17,0.06,null,5.07,3.08,2.09,1.52,0.63,0.35,0.16,0.05]
["Pico Rivera",15.66,5.95,3.21,2.04,0.65,0.33,0.14000000000000001,0.04,null,11.25,4.8899999999999997,2.79,1.83,0.61,0.31,0.13,0.04,null,10.01,4.62,2.69,1.78,0.61,0.31,0.13,0.04,null,7.41,3.74,2.29,1.56,0.56000000000000005,0.3,0.13,0.04,null,6.83,3.57,2.2200000000000002,1.52,0.56000000000000005,0.28999999999999998,0.13,0.04,null,3.99,2.42,1.63,1.18,0.48,0.27,0.12,0.04]
["Redlands",19.149999999999999,7.15,3.84,2.44,0.79,0.4,0.17,0.05,null,13.65,5.86,3.34,2.19,0.75,0.39,0.17,0.05,null,12.29,5.56,3.22,2.13,0.73,0.38,0.17,0.05,null,8.92,4.47,2.74,1.87,0.69,0.37,0.16,0.05,null,8.27,4.2699999999999996,2.65,1.82,0.67,0.36,0.16,0.05,null,4.7699999999999996,2.88,1.95,1.42,0.57999999999999996,0.33,0.15,0.05]
["Upland",17.02,6.52,3.55,2.27,0.74,0.37,0.16,0.05,null,12.23,5.37,3.09,2.04,0.7,0.36,0.15,0.05,null,10.98,5.1100000000000003,2.99,1.99,0.68,0.35,0.15,0.05,null,8.07,4.1100000000000003,2.54,1.74,0.64,0.34,0.15,0.05,null,7.5,3.95,2.46,1.7,0.63,0.33,0.15,0.05,null,4.3899999999999997,2.67,1.82,1.32,0.54,0.3,0.14000000000000001,0.04]
["Burbank Airport",17.97,7.19,3.92,2.4900000000000002,0.8,0.4,0.17,0.05,null,13.21,5.93,3.41,2.23,0.75,0.39,0.17,0.05,null,10.119999999999999,5.05,3.05,2.0499999999999998,0.72,0.37,0.16,0.05,null,8.9,4.5599999999999996,2.8,1.91,0.69,0.37,0.16,0.05,null,7.19,3.97,2.5299999999999998,1.76,0.66,0.35,0.16,0.05,null,4.3899999999999997,2.74,1.89,1.38,0.56999999999999995,0.32,0.15,0.05]
["Chino Airport.",23.67,9.7100000000000009,5.36,3.43,1.1200000000000001,0.56999999999999995,0.24,7.0000000000000007E-2,null,17.46,8.02,4.67,3.08,1.06,0.55000000000000004,0.24,7.0000000000000007E-2,null,12.37,6.4,3.95,2.7,0.98,0.52,0.23,7.0000000000000007E-2,null,11.78,6.17,3.83,2.64,0.97,0.52,0.23,7.0000000000000007E-2,null,8.85,5.05,3.29,2.33,0.9,0.49,0.22,7.0000000000000007E-2,null,5.46,3.52,2.46,1.83,0.78,0.44,0.21,7.0000000000000007E-2]
["USC/Downtown L.A.",16.690000000000001,6.32,3.41,2.17,0.7,0.35,0.15,0.05,null,11.98,5.19,2.96,1.94,0.66,0.34,0.15,0.05,null,10.46,4.8499999999999996,2.84,1.88,0.64,0.33,0.14000000000000001,0.04,null,7.87,3.96,2.4300000000000002,1.66,0.6,0.32,0.14000000000000001,0.04,null,7.14,3.75,2.33,1.61,0.59,0.31,0.14000000000000001,0.04,null,4.17,2.5299999999999998,1.72,1.25,0.51,0.28000000000000003,0.13,0.04]
["Fullerton Airport",16.91,6.53,3.53,2.2400000000000002,0.72,0.36,0.15,0.05,null,12.23,5.37,3.07,2.0099999999999998,0.68,0.35,0.15,0.05,null,10.45,4.93,2.9,1.92,0.66,0.34,0.15,0.05,null,8.11,4.0999999999999996,2.52,1.72,0.62,0.33,0.14000000000000001,0.04,null,7.2,3.82,2.39,1.65,0.61,0.32,0.14000000000000001,0.04,null,4.25,2.6,1.76,1.28,0.53,0.28999999999999998,0.13,0.04]
["Hawthorne Airport",17.71,6.91,3.78,2.41,0.79,0.4,0.17,0.05,null,12.8,5.69,3.29,2.17,0.74,0.39,0.16,0.05,null,10.68,5.16,3.07,2.0499999999999998,0.72,0.37,0.16,0.05,null,8.48,4.3499999999999996,2.7,1.85,0.68,0.36,0.16,0.05,null,7.4,4,2.5299999999999998,1.76,0.66,0.35,0.15,0.05,null,4.38,2.72,1.87,1.37,0.56999999999999995,0.32,0.15,0.05]
["Los Angeles Int'l Airport",22.51,9.48,5.32,3.45,1.1599999999999999,0.6,0.26,0.08,null,16.59,7.84,4.6399999999999997,3.1,1.1000000000000001,0.57999999999999996,0.25,0.08,null,11.54,6.19,3.88,2.68,0.99,0.53,0.24,0.08,null,11.17,6.02,3.81,2.66,1.01,0.55000000000000004,0.25,0.08,null,8.27,4.88,3.23,2.31,0.91,0.5,0.23,0.08,null,5.1100000000000003,3.38,2.4,1.81,0.79,0.45,0.21,7.0000000000000007E-2]
["Long Beach Airport",18.82,7.78,4.34,2.81,0.95,0.5,0.22,7.0000000000000007E-2,null,13.87,6.44,3.79,2.5299999999999998,0.9,0.48,0.21,7.0000000000000007E-2,null,9.84,5.09,3.17,2.1800000000000002,0.82,0.44,0.2,7.0000000000000007E-2,null,9.3699999999999992,4.96,3.13,2.17,0.83,0.46,0.21,7.0000000000000007E-2,null,7.02,4.03,2.65,1.89,0.75,0.42,0.19,7.0000000000000007E-2,null,4.34,2.81,1.99,1.49,0.66,0.38,0.18,0.06]
["Ontario Airport",26.62,11.37,6.41,4.18,1.42,0.74,0.32,0.1,null,19.75,9.42,5.6,3.75,1.34,0.71,0.32,0.1,null,13.46,7.23,4.5599999999999996,3.17,1.2,0.65,0.28999999999999998,0.1,null,13.41,7.26,4.6100000000000003,3.22,1.23,0.67,0.31,0.1,null,9.6999999999999993,5.73,3.81,2.74,1.1000000000000001,0.61,0.28000000000000003,0.1,null,6.04,4,2.86,2.16,0.96,0.56000000000000005,0.27,0.09]
["Palm Springs Airport",21.06,8.74,4.87,3.16,1.07,0.56000000000000005,0.24,0.08,null,15.51,7.23,4.25,2.84,1.01,0.54,0.24,0.08,null,10.7,5.62,3.52,2.4300000000000002,0.91,0.49,0.22,7.0000000000000007E-2,null,10.47,5.56,3.5,2.44,0.93,0.51,0.23,0.08,null,7.66,4.45,2.94,2.1,0.84,0.47,0.22,7.0000000000000007E-2,null,4.74,3.1,2.21,1.66,0.73,0.42,0.2,7.0000000000000007E-2]
["Riverside Airport",20.88,8.52,4.7300000000000004,3.06,1.03,0.54,0.23,0.08,null,15.28,7.03,4.13,2.75,0.97,0.52,0.23,0.08,null,11.64,5.91,3.61,2.46,0.89,0.48,0.21,7.0000000000000007E-2,null,10.23,5.4,3.4,2.36,0.9,0.49,0.22,7.0000000000000007E-2,null,8.2100000000000009,4.63,3,2.11,0.82,0.45,0.21,7.0000000000000007E-2,null,4.97,3.18,2.23,1.66,0.71,0.41,0.19,7.0000000000000007E-2]
["Santa Monica Airport",18.16,7.21,3.96,2.54,0.83,0.42,0.18,0.05,null,13.2,5.95,3.45,2.2799999999999998,0.78,0.4,0.17,0.05,null,10.88,5.34,3.2,2.14,0.75,0.39,0.17,0.05,null,8.8000000000000007,4.5599999999999996,2.83,1.95,0.72,0.38,0.17,0.05,null,7.6,4.16,2.64,1.84,0.69,0.37,0.16,0.05,null,4.54,2.83,1.95,1.43,0.59,0.33,0.15,0.05]
["John Wayne Int'l Airport",22.27,9.14,5.04,3.23,1.05,0.53,0.22,7.0000000000000007E-2,null,16.46,7.56,4.3899999999999997,2.9,0.99,0.51,0.22,7.0000000000000007E-2,null,11.92,6.17,3.79,2.58,0.92,0.48,0.21,7.0000000000000007E-2,null,11.14,5.82,3.61,2.48,0.91,0.48,0.21,7.0000000000000007E-2,null,8.56,4.87,3.15,2.2200000000000002,0.85,0.46,0.2,0.06,null,5.29,3.38,2.36,1.74,0.74,0.41,0.19,0.06]
["Desert Hot Springs Airport",24.66,10.58,5.96,3.87,1.3,0.67,0.28999999999999998,0.09,null,18.41,8.7799999999999994,5.2,3.48,1.23,0.65,0.28999999999999998,0.09,null,12.09,6.57,4.18,2.92,1.1100000000000001,0.6,0.27,0.09,null,12.6,6.8,4.3,2.99,1.1299999999999999,0.61,0.28000000000000003,0.09,null,8.8000000000000007,5.25,3.51,2.5299999999999998,1.02,0.56999999999999995,0.26,0.09,null,5.57,3.71,2.66,2.0099999999999998,0.89,0.52,0.25,0.08]
["Van Nuys Airport",17.649999999999999,7.07,3.86,2.46,0.79,0.4,0.17,0.05,null,12.96,5.83,3.36,2.21,0.75,0.39,0.17,0.05,null,9.75,4.88,2.95,1.99,0.71,0.37,0.16,0.05,null,8.7200000000000006,4.4800000000000004,2.76,1.89,0.69,0.36,0.16,0.05,null,6.92,3.83,2.4500000000000002,1.71,0.65,0.35,0.16,0.05,null,4.22,2.65,1.83,1.34,0.56000000000000005,0.32,0.15,0.05]
[]
["*Note: Facilities with building dimensions outside the ranges in Tables 5 must perform Tier 3 or 4 dispersion modeling"]

{"sheet":"Master List","index":30,"n_rows":255,"n_cols":11,"rows_kept":255,"cut":false,"hidden":true,"merged":[]}
["CAS No","Code","Toxic Air Contaminant","R1401 TABLE I","Table 1","CP_REL ","TO Acute","TO Chronic","TO 8hr","CAS No"]
["75-07-0","A1","Acetaldehyde",null,"yes","yes","yes","yes","yes","75-07-0"]
["60-35-5","A2","Acetamide",null,"yes","yes",{"$error":"#N/A"},{"$error":"#N/A"},{"$error":"#N/A"},"60-35-5"]
["107-02-8","A3","Acrolein",null,"yes","yes","yes","yes","yes","107-02-8"]
["79-06-1","A4","Acrylamide",null,"yes","yes",{"$error":"#N/A"},{"$error":"#N/A"},{"$error":"#N/A"},"79-06-1"]
["79-10-7","A5","Acrylic Acid",null,"yes","yes",{"$error":"#N/A"},"yes",{"$error":"#N/A"},"79-10-7"]
["107-13-1","A6","Acrylonitrile",null,"yes","yes","yes",{"$error":"#N/A"},{"$error":"#N/A"},"107-13-1"]
["107-05-1","A7","Allyl Chloride",null,"yes","yes",{"$error":"#N/A"},"switchero",{"$error":"#N/A"},"107-05-1"]
["117-79-3","A8","2-Aminoanthraquinone",null,"yes","yes",{"$error":"#N/A"},{"$error":"#N/A"},{"$error":"#N/A"},"117-79-3"]
["7664-41-7","A9","Ammonia",null,"yes","yes","yes","yes",{"$error":"#N/A"},"7664-41-7"]
["62-53-3","A10","Aniline",null,"yes","yes",{"$error":"#N/A"},{"$error":"#N/A"},{"$error":"#N/A"},"62-53-3"]
["7440-38-2","A11","Arsenic and Compounds (Inorganic)",null,"yes","yes","yes","yes","yes","7440-38-2"]
["7784-42-1","A12","Arsine",null,"yes","yes","yes","yes","yes","7784-42-1"]
["1332-21-4","A13","Asbestos",null,"yes","yes",{"$error":"#N/A"},{"$error":"#N/A"},{"$error":"#N/A"},"1332-21-4"]
["71-43-2","B1","Benzene",null,"yes","yes","yes","yes","yes","71-43-2"]
["92-87-5","B2","Benzidine (and Its Salts)",null,"yes","yes",{"$error":"#N/A"},{"$error":"#N/A"},{"$error":"#N/A"},"92-87-5"]
[1020,"B3","Benzidine Based Dyes",null,"yes","yes",{"$error":"#N/A"},{"$error":"#N/A"},{"$error":"#N/A"},1020]
["1937-37-7","B4","Direct Black",null,"yes","yes",{"$error":"#N/A"},{"$error":"#N/A"},{"$error":"#N/A"},"1937-37-7"]
["2602-46-2","B5","Direct Blue",null,"yes","yes",{"$error":"#N/A"},{"$error":"#N/A"},{"$error":"#N/A"},"2602-46-2"]
["16071-86-6","B6","Direct Brown (Technical Grade)",null,"yes","yes",{"$error":"#N/A"},{"$error":"#N/A"},{"$error":"#N/A"},"16071-86-6"]
["100-44-7","B7","Benzyl Chloride",null,"yes","yes",{"$error":"#N/A"},"yes",{"$error":"#N/A"},"100-44-7"]
["7440-41-7","B8","Beryllium and Compounds",null,"yes","yes","yes",{"$error":"#N/A"},{"$error":"#N/A"},"7440-41-7"]
["111-44-4","B9","Bis(2-Chloroethyl)Ether  (Dichloroethyl Ether)",null,"yes","yes",{"$error":"#N/A"},{"$error":"#N/A"},{"$error":"#N/A"},"111-44-4"]
["542-88-1","B10","Bis(Chloromethyl)Ether",null,"yes","yes",{"$error":"#N/A"},{"$error":"#N/A"},{"$error":"#N/A"},"542-88-1"]
["7758-01-2","B11","Potassium Bromate",null,"yes","yes","yes",{"$error":"#N/A"},{"$error":"#N/A"},"7758-01-2"]
["106-99-0","B12","1,3-Butadiene",null,"yes","yes","yes","yes","yes","106-99-0","Oct 2016 PAR"]
["7440-43-9","C1","Cadmium and Compounds",null,"yes","yes","yes",{"$error":"#N/A"},{"$error":"#N/A"},"7440-43-9"]
["105-60-2","C2","Caprolactum (-​Oxohexamethyleneimine, Aza-2-cycloheptanone, epsilon-Caprolactam)",null,"yes","yes","yes","yes","yes","105-60-2","Sep 2017 PRA"]
["75-15-0","C3","Carbon Disulfide",null,"yes","yes","yes","yes",{"$error":"#N/A"},"75-15-0"]
["630-08-0","C4-do not use","Carbon Monoxide",null,"yes","yes",{"$error":"#N/A"},"yes",{"$error":"#N/A"},"630-08-0"]
["56-23-5","C5","Carbon Tetrachloride  (Tetrachloromethane)",null,"yes","yes","yes","yes",{"$error":"#N/A"},"56-23-5"]
["108171-26-2","C6","Chlorinated Paraffins",null,"yes","yes",{"$error":"#N/A"},{"$error":"#N/A"},{"$error":"#N/A"},"108171-26-2"]
["7782-50-5","C7","Chlorine",null,"yes","yes","yes","yes",{"$error":"#N/A"},"7782-50-5"]
["10049-04-4","C8","Chlorine Dioxide",null,"yes","yes","yes",{"$error":"#N/A"},{"$error":"#N/A"},"10049-04-4"]
["95-83-0","C9","4-Chloro-o-Phenylenediamine",null,"yes","yes",{"$error":"#N/A"},{"$error":"#N/A"},{"$error":"#N/A"},"95-83-0"]
["108-90-7","C10","Chlorobenzene",null,"yes","yes","yes",{"$error":"#N/A"},{"$error":"#N/A"},"108-90-7"]
["67-66-3","C11","Chloroform",null,"yes","yes","yes","yes",{"$error":"#N/A"},"67-66-3"]
["87-86-5","C12","Pentachlorophenol",null,"yes","yes",{"$error":"#N/A"},{"$error":"#N/A"},{"$error":"#N/A"},"87-86-5"]
["88-06-2","C13","2,4,6-Trichlorophenol",null,"yes","yes",{"$error":"#N/A"},{"$error":"#N/A"},{"$error":"#N/A"},"88-06-2"]
["76-06-2","C14","Chloropicrin",null,"yes","yes","yes","yes",{"$error":"#N/A"},"76-06-2"]
["95-69-2","C15","p-Chloro-o-Toluidine",null,"yes","yes",{"$error":"#N/A"},{"$error":"#N/A"},{"$error":"#N/A"},"95-69-2"]
["18540-29-9","C16","Chromium 6+ (hexavalent)",null,"yes","yes","yes",{"$error":"#N/A"},{"$error":"#N/A"},"18540-29-9"]
["10294-40-3","C17","Barium Chromate",null,"yes","yes","yes",{"$error":"#N/A"},{"$error":"#N/A"},"10294-40-3"]
["13765-19-0","C18","Calcium Chromate (Gelbin; Yellow ultramarine; Calcium monochromate; Calcium Chrome Yellow; Chromatite; calcium;dioxido(dioxo)chromium)",null,"yes","yes","yes",{"$error":"#N/A"},{"$error":"#N/A"},"13765-19-0"]
["7758-97-6","C19","Lead Chromate",null,"yes","yes","yes",{"$error":"#N/A"},{"$error":"#N/A"},"7758-97-6"]
["10588-01-9","C20","Sodium Dichromate",null,"yes","yes","yes",{"$error":"#N/A"},{"$error":"#N/A"},"10588-01-9"]
["7789-06-2","C21","Strontium Chromate",null,"yes","yes","yes",{"$error":"#N/A"},{"$error":"#N/A"},"7789-06-2"]
["1333-82-0","C22","Chromic Trioxide (as Chromic Acid Mist)",null,"yes","yes","yes",{"$error":"#N/A"},{"$error":"#N/A"},"1333-82-0"]
["7440-50-8","C23","Copper and Compounds",null,"yes","yes",{"$error":"#N/A"},"yes",{"$error":"#N/A"},"7440-50-8"]
["120-71-8","C24","p-Cresidine",null,"yes","yes",{"$error":"#N/A"},{"$error":"#N/A"},{"$error":"#N/A"},"120-71-8"]
["1319-77-3","C25","Cresols (Mixtures of)",null,"yes","yes","yes",{"$error":"#N/A"},{"$error":"#N/A"},"1319-77-3"]
["108-39-4","C26","m-Cresol ",null,"yes","yes","yes",{"$error":"#N/A"},{"$error":"#N/A"},"108-39-4"]
["95-48-7","C27","o-Cresol  ",null,"yes","yes","yes",{"$error":"#N/A"},{"$error":"#N/A"},"95-48-7"]
["106-44-5","C28","p-Cresol  ",null,"yes","yes","yes",{"$error":"#N/A"},{"$error":"#N/A"},"106-44-5"]
["135-20-6","C29","Cupferron",null,"yes","yes",{"$error":"#N/A"},{"$error":"#N/A"},{"$error":"#N/A"},"135-20-6"]
["57-12-5","C30 - Do not use","Cyanide and Compounds (Inorganic)",null,"yes","yes","yes","yes",{"$error":"#N/A"},"57-12-5"]
["74-90-8","C31","Hydrogen Cyanide (Hydrocyanic Acid)  (See Cyanide Compounds) (Table 11)",null,"yes","yes","yes","yes",{"$error":"#N/A"},"74-90-8"]
["463-58-1","C32","Carbonyl Sulfide",null,"yes","yes","yes","yes","yes","463-58-1","Sep 2017 PAR"]
["13530-65-9","C33","Zinc Chromate",null,"no","no",null,null,null,"13530-65-9","Sep 2017 PAR"]
["615-05-4","D1","2,4-Diaminoanisole",null,"yes","yes",{"$error":"#N/A"},{"$error":"#N/A"},{"$error":"#N/A"},"615-05-4"]
["95-80-7","D2","2,4-Diaminotoluene",null,"yes","yes",{"$error":"#N/A"},{"$error":"#N/A"},{"$error":"#N/A"},"95-80-7"]
["96-12-8","D3","1,2-Dibromo-3-Chloropropane (DBCP)",null,"yes","yes",{"$error":"#N/A"},{"$error":"#N/A"},{"$error":"#N/A"},"96-12-8"]
["106-46-7","D4","p-Dichlorobenzene",null,"yes","yes","yes",{"$error":"#N/A"},{"$error":"#N/A"},"106-46-7"]
["91-94-1","D5","3,3-Dichlorobenzidine",null,"yes","yes",{"$error":"#N/A"},{"$error":"#N/A"},{"$error":"#N/A"},"91-94-1"]
["75-34-3","D6","1,1,-Dichloroethane  (Ethylidene Dichloride)",null,"yes","yes","yes",{"$error":"#N/A"},{"$error":"#N/A"},"75-34-3"]
["117-81-7","D7","Di(2-Ethylhexyl)Phthalate (DEHP)",null,"yes","yes",{"$error":"#N/A"},{"$error":"#N/A"},{"$error":"#N/A"},"117-81-7"]
["111-42-2","D8","Diethanolamine",null,"yes","yes","yes",{"$error":"#N/A"},{"$error":"#N/A"},"111-42-2"]
["60-11-7","D9","p-Dimethylaminoazobenzene",null,"yes","yes",{"$error":"#N/A"},{"$error":"#N/A"},{"$error":"#N/A"},"60-11-7"]
["68-12-2","D10","N,N-Dimethyl Formamide",null,"yes","yes","yes",{"$error":"#N/A"},{"$error":"#N/A"},"68-12-2"]
["121-14-2","D11","2,4-Dinitrotoluene",null,"yes","yes",{"$error":"#N/A"},{"$error":"#N/A"},{"$error":"#N/A"},"121-14-2"]
["123-91-1","D12","1,4-Dioxane  (1,4-Diethylene Dioxide)",null,"yes","yes","yes","yes",{"$error":"#N/A"},"123-91-1"]
["106-89-8","E1","Epichlorohydrin  (1-Chloro-2,3-Epoxypropane)",null,"yes","yes","yes","yes",{"$error":"#N/A"},"106-89-8"]
["106-88-7","E2","1,2-Epoxybutane",null,"yes","yes","yes",{"$error":"#N/A"},{"$error":"#N/A"},"106-88-7"]
["100-41-4","E3","Ethyl Benzene",null,"yes","yes","yes",{"$error":"#N/A"},{"$error":"#N/A"},"100-41-4"]
["75-00-3","E4","Ethyl Chloride  (Chloroethane)",null,"yes","yes","yes",{"$error":"#N/A"},{"$error":"#N/A"},"75-00-3"]
["106-93-4","E5","Ethylene Dibromide  (1,2-Dibromoethane)",null,"yes","yes","yes",{"$error":"#N/A"},{"$error":"#N/A"},"106-93-4"]
["107-06-2","E6","Ethylene Dichloride  (1,2-Dichloroethane)",null,"yes","yes","yes",{"$error":"#N/A"},{"$error":"#N/A"},"107-06-2"]
["107-21-1","E7","Ethylene Glycol",null,"yes","yes","yes",{"$error":"#N/A"},{"$error":"#N/A"},"107-21-1"]
["75-21-8","E8","Ethylene Oxide  (1,2-Epoxyethane)",null,"yes","yes","yes",{"$error":"#N/A"},{"$error":"#N/A"},"75-21-8"]
["96-45-7","E9","Ethylene Thiourea",null,"yes","yes",{"$error":"#N/A"},{"$error":"#N/A"},{"$error":"#N/A"},"96-45-7"]
[1101,"F1","Flourides",null,"yes","yes","yes","yes",{"$error":"#N/A"},1101]
["7664-39-3","H11","Hydrogen Fluoride  (Hydrofluoric Acid)",null,"yes","yes","yes","yes",{"$error":"#N/A"},"7664-39-3"]
["50-00-0","F2","Formaldehyde",null,"yes","yes","yes","yes","yes","50-00-0"]
["111-30-8","G1","Glutaraldehyde",null,"yes","yes","yes",{"$error":"#N/A"},{"$error":"#N/A"},"111-30-8"]
["111-76-2","E14","Ethylene Glycol Butyl Ether – EGBE",null,"yes","yes",{"$error":"#N/A"},"yes",{"$error":"#N/A"},"111-76-2"]
["110-80-5","E15","Ethylene Glycol Ethyl Ether – EGEE",null,"yes","yes","yes","yes",{"$error":"#N/A"},"110-80-5"]
["111-15-9","E16","Ethylene Glycol Ethyl Ether Acetate – EGEEA",null,"yes","yes","yes","yes",{"$error":"#N/A"},"111-15-9"]
["109-86-4","E17","Ethylene Glycol Methyl Ether – EGME",null,"yes","yes","yes","yes",{"$error":"#N/A"},"109-86-4"]
["110-49-6","E18","Ethylene Glycol Methyl Ether Acetate – EGMEA",null,"yes","yes","yes",{"$error":"#N/A"},{"$error":"#N/A"},"110-49-6"]
["118-74-1","H1","Hexachlorobenzene",null,"yes","yes",{"$error":"#N/A"},{"$error":"#N/A"},{"$error":"#N/A"},"118-74-1"]
["608-73-1","H2","Hexachlorocyclohexanes",null,"yes","yes",{"$error":"#N/A"},{"$error":"#N/A"},{"$error":"#N/A"},"608-73-1"]
["319-84-6","H3","Alpha-Hexachlorocyclohexane (α-1,2,3,4,5,6-Hexachlorocyclohexane, α-BHC)",null,"yes","yes",{"$error":"#N/A"},{"$error":"#N/A"},{"$error":"#N/A"},"319-84-6"]
["319-85-7","H4","Beta- Hexachlorocyclohexane (Beta-HCH; beta-1,2,3,4,5,6-Hexachlorocyclohexane )",null,"yes","yes",{"$error":"#N/A"},{"$error":"#N/A"},{"$error":"#N/A"},"319-85-7"]
["58-89-9","H5","Gamma-Hexachlorocyclohexane (Lindane)",null,"yes","yes","yes",{"$error":"#N/A"},{"$error":"#N/A"},"58-89-9"]
["110-54-3","H6","n-Hexane",null,"yes","yes","yes",{"$error":"#N/A"},{"$error":"#N/A"},"110-54-3"]
["302-01-2","H7","Hydrazine",null,"yes","yes","yes",{"$error":"#N/A"},{"$error":"#N/A"},"302-01-2"]
["122-66-7","H8","Hydrazobenzene  (or 1,2-diphenylhydrazine; N,N'-Diphenylhydrazine)",null,null,null,null,null,null,"122-66-7"]
["7647-01-0","H9","Hydrochloric Acid  (Hydrogen Chloride)",null,"yes","yes","yes","yes",{"$error":"#N/A"},"7647-01-0"]
["10035-10-6","H10","Hydrogen Bromide (See Bromine & Compounds)",null,"no","no","yes - no data",{"$error":"#N/A"},{"$error":"#N/A"},"10035-10-6"]
["7783-06-4","H12","Hydrogen Sulfide",null,"yes","yes","yes","yes",{"$error":"#N/A"},"7783-06-4"]
["78-59-1","I1","Isophorone",null,"yes","yes","yes",{"$error":"#N/A"},{"$error":"#N/A"},"78-59-1"]
["67-63-0","I2","Isopropyl Alcohol  (Isopropanol)",null,"yes","yes","yes","yes",{"$error":"#N/A"},"67-63-0"]
["7439-92-1","L1","Lead and Compounds (Inorganic)",null,"yes","yes",{"$error":"#N/A"},{"$error":"#N/A"},{"$error":"#N/A"},"7439-92-1"]
["301-04-2","L2","Lead Acetate",null,"yes","yes",{"$error":"#N/A"},{"$error":"#N/A"},{"$error":"#N/A"},"301-04-2"]
["7446-27-7","L3","Lead Phosphate",null,"yes","yes",{"$error":"#N/A"},{"$error":"#N/A"},{"$error":"#N/A"},"7446-27-7"]
["1335-32-6","L4","Lead Subacetate",null,"yes","yes",{"$error":"#N/A"},{"$error":"#N/A"},{"$error":"#N/A"},"1335-32-6"]
["108-31-6","M1","Maleic Anhydride",null,"yes","yes","yes",{"$error":"#N/A"},{"$error":"#N/A"},"108-31-6"]
["7439-96-5","M2","Manganese and Compounds",null,"yes","yes","yes",{"$error":"#N/A"},"yes","7439-96-5"]
["7439-97-6","M3","Mercury and Compounds (Inorganic)",null,"yes","yes","yes","yes","yes","7439-97-6"]
["7487-94-7","M4","Mercuric Chloride",null,"yes","yes","yes","yes","yes","7487-94-7"]
["67-56-1","M5","Methanol",null,"yes","yes","yes","yes",{"$error":"#N/A"},"67-56-1"]
["74-83-9","M6","Methyl Bromide  (Bromomethane)",null,"yes","yes","yes","yes",{"$error":"#N/A"},"74-83-9"]
["1634-04-4","M7","Methyl Tertiary-Butyl Ether",null,"yes","yes","yes",{"$error":"#N/A"},{"$error":"#N/A"},"1634-04-4"]
["71-55-6","M8","Methyl Chloroform  (1,1,1-Trichloroethane)",null,"yes","yes","yes","yes",{"$error":"#N/A"},"71-55-6"]
["78-93-3","M9","Methyl Ethyl Ketone  (2-Butanone)",null,"yes","yes",{"$error":"#N/A"},"yes",{"$error":"#N/A"},"78-93-3"]
["624-83-9","M10","Methyl Isocyanate",null,"yes","yes","yes",{"$error":"#N/A"},{"$error":"#N/A"},"624-83-9"]
["593-74-8","M11","Methyl Mercury ",null,"no",null,null,null,null,"593-74-8"]
["101-14-4","M12","4,4'-Methylene Bis (2-Chloroaniline) (MOCA)",null,"yes","yes",{"$error":"#N/A"},{"$error":"#N/A"},{"$error":"#N/A"},"101-14-4"]
["75-09-2","M13","Methylene Chloride  (Dichloromethane)",null,"yes","yes","yes","yes",{"$error":"#N/A"},"75-09-2"]
["101-77-9","M14","4,4'-Methylene Dianiline (and Its Dichloride)",null,"yes","yes","yes",{"$error":"#N/A"},{"$error":"#N/A"},"101-77-9"]
["101-68-8","M15","Methylene Diphenyl Isocyanate ",null,"yes","yes","yes",{"$error":"#N/A"},{"$error":"#N/A"},"101-68-8"]
["90-94-8","M16","Michler's Ketone  (4,4’-Bis(Dimethylamino)Benzophenone)",null,"yes","yes",{"$error":"#N/A"},{"$error":"#N/A"},{"$error":"#N/A"},"90-94-8"]
["924-16-3","N1","n-Nitrosodi-n-Butylamine",null,"yes","yes",{"$error":"#N/A"},{"$error":"#N/A"},{"$error":"#N/A"},"924-16-3"]
["621-64-7","N2","n-Nitrosodi-n-Propylamine",null,"yes","yes",{"$error":"#N/A"},{"$error":"#N/A"},{"$error":"#N/A"},"621-64-7"]
["55-18-5","N3","n-Nitrosodiethylamine",null,"yes","yes",{"$error":"#N/A"},{"$error":"#N/A"},{"$error":"#N/A"},"55-18-5"]
["62-75-9","N4","n-Nitrosodimethylamine",null,"yes","yes",{"$error":"#N/A"},{"$error":"#N/A"},{"$error":"#N/A"},"62-75-9"]
["86-30-6","N5","n-Nitrosodiphenylamine",null,"yes","yes",{"$error":"#N/A"},{"$error":"#N/A"},{"$error":"#N/A"},"86-30-6"]
["759-73-9","N6","Nitroso-n-ethylurea, n- (ENU; N-​Ethyl-​N-​nitrosourea)",null,"no","no",null,null,null,"759-73-9"]
["10595-95-6","N7","n-Nitroso-n-Methylethylamine",null,"yes","yes",{"$error":"#N/A"},{"$error":"#N/A"},{"$error":"#N/A"},"10595-95-6"]
["684-93-5","N8","Nitroso-n-methylurea, n- (MNU; N-​Methyl-​N-​nitrosourea)",null,"no","no",null,null,null,"684-93-5"]
["59-89-2","N9","n-Nitrosomorpholine",null,"yes","yes",{"$error":"#N/A"},{"$error":"#N/A"},{"$error":"#N/A"},"59-89-2"]
["100-75-4","N10","n-Nitrosopiperidine",null,"yes","yes",{"$error":"#N/A"},{"$error":"#N/A"},{"$error":"#N/A"},"100-75-4"]
["930-55-2","N11","n-Nitrosopyrrolidine",null,"yes","yes",{"$error":"#N/A"},{"$error":"#N/A"},{"$error":"#N/A"},"930-55-2"]
["7440-02-0","N12","Nickel and Compounds",null,"yes","yes","yes","yes","yes","7440-02-0"]
["373-02-4","N13","Nickel Acetate",null,"yes","yes","yes","yes","yes","373-02-4"]
["3333-67-3","N14","Nickel Carbonate",null,"yes","yes","yes","yes","yes","3333-67-3"]
["13463-39-3","N15","Nickel Carbonyl",null,"yes","yes","yes","yes","yes","13463-39-3"]
["12054-48-7","N16","Nickel Hydroxide",null,"yes","yes","yes","yes","yes","12054-48-7"]
["1271-28-9","N17","Nickelocene (Di(cyclopentadienyl)nickel(II); bis(cyclopentadienyl)nickel(II); Bis(η5-2,4-cyclopentadien-1-yl)nickel)",null,"yes","yes","yes","yes","yes","1271-28-9"]
["1313-99-1","N18","Nickel Oxide",null,"yes","yes","yes","yes","yes","1313-99-1"]
[1146,"N19","Nickel Refinery Dust (Pyrometallurgical Process)",null,"yes","yes","yes","yes","yes",1146]
["12035-72-2","N20","Nickel Subsulfide (Nickel Sulfide)",null,"yes","yes","yes","yes","yes","12035-72-2"]
["7697-37-2","N21","Nitric Acid",null,"yes","yes",{"$error":"#N/A"},"yes",{"$error":"#N/A"},"7697-37-2"]
["10102-44-0","N22-Do not use","Nitrogen Dioxide",null,"yes","yes",{"$error":"#N/A"},"yes",{"$error":"#N/A"},"10102-44-0"]
["156-10-5","N23","p-Nitrosodiphenylamine",null,"yes","yes",{"$error":"#N/A"},{"$error":"#N/A"},{"$error":"#N/A"},"156-10-5"]
["10028-15-6","O1-Do not use","Ozone",null,null,null,{"$error":"#N/A"},"yes",{"$error":"#N/A"},"10028-15-6"]
[9901,"P1","Particulate Emissions From Diesel-Fueled Engines",null,"yes","yes","yes",{"$error":"#N/A"},{"$error":"#N/A"},9901]
["127-18-4","P2","Perchloroethylene  (Tetrachloroethylene)",null,"yes","yes","yes","yes",{"$error":"#N/A"},"127-18-4"]
["108-95-2","P3","Phenol",null,"yes","yes","yes","yes",{"$error":"#N/A"},"108-95-2"]
["75-44-5","P4","Phosgene",null,"yes","yes",{"$error":"#N/A"},"yes",{"$error":"#N/A"},"75-44-5"]
["7803-51-2","P5","Phosphine",null,"yes","yes","yes",{"$error":"#N/A"},{"$error":"#N/A"},"7803-51-2"]
["7664-38-2","P6","Phosphoric Acid",null,"yes","yes","yes",{"$error":"#N/A"},{"$error":"#N/A"},"7664-38-2"]
["85-44-9","P7","Phthalic Anhydride",null,"yes","yes","yes",{"$error":"#N/A"},{"$error":"#N/A"},"85-44-9"]
["1336-36-3","P8","Dioxin-Like Polychlorinated Biphenyls (PCBS)",null,{"$error":"#N/A"},"yes","yes",{"$error":"#N/A"},{"$error":"#N/A"},"1336-36-3","Oct 2016 PAR"]
["32598-13-3","P9","3,3',4,4'-Tetrachlorobiphenyl  (PCB 77)",null,"yes","yes","yes",{"$error":"#N/A"},{"$error":"#N/A"},"32598-13-3","Oct 2016 PAR"]
["70362-50-4","P10","3,4,4',5-Tetrachlorobiphenyl  (PCB 81)",null,"yes","yes","yes",{"$error":"#N/A"},{"$error":"#N/A"},"70362-50-4","Oct 2016 PAR"]
["32598-14-4","P11","2,3,3',4,4'-Pentachlorobiphenyl  (PCB 105)",null,"yes","yes","yes",{"$error":"#N/A"},{"$error":"#N/A"},"32598-14-4","Oct 2016 PAR"]
["74472-37-0","P12","2,3,4,4',5-Pentachlorobiphenyl  (PCB 114)",null,"yes","yes","yes",{"$error":"#N/A"},{"$error":"#N/A"},"74472-37-0","Oct 2016 PAR"]
["31508-00-6","P13","2,3',4,4',5-Pentachlorobiphenyl  (PCB 118)",null,"yes","yes","yes",{"$error":"#N/A"},{"$error":"#N/A"},"31508-00-6","Oct 2016 PAR"]
["65510-44-3","P14","2,3',4,4',5'-Pentachlorobiphenyl  (PCB 123)",null,"yes","yes","yes",{"$error":"#N/A"},{"$error":"#N/A"},"65510-44-3","Oct 2016 PAR"]
["57465-28-8","P15","3,3',4,4',5-Pentachlorobiphenyl  (PCB 126)",null,"yes","yes","yes",{"$error":"#N/A"},{"$error":"#N/A"},"57465-28-8","Oct 2016 PAR"]
["38380-08-4","P16","2,3,3',4,4',5-Hexachlorobiphenyl  (PCB 156)",null,"yes","yes","yes",{"$error":"#N/A"},{"$error":"#N/A"},"38380-08-4","Oct 2016 PAR"]
["69782-90-7","P17","2,3,3',4,4',5'-Hexachlorobiphenyl  (PCB 157)",null,"yes","yes","yes",{"$error":"#N/A"},{"$error":"#N/A"},"69782-90-7","Oct 2016 PAR"]
["52663-72-6","P18","2,3',4,4',5,5'-Hexachlorobiphenyl  (PCB 167)",null,"yes","yes","yes",{"$error":"#N/A"},{"$error":"#N/A"},"52663-72-6","Oct 2016 PAR"]
["32774-16-6","P19","3,3',4,4',5,5'-Hexachlorobiphenyl  (PCB 169)",null,"yes","yes","yes",{"$error":"#N/A"},{"$error":"#N/A"},"32774-16-6","Oct 2016 PAR"]
["39635-31-9","P20","2,3,3',4,4',5,5'-Heptachlorobiphenyl  (PCB 189)",null,"yes","yes","yes",{"$error":"#N/A"},{"$error":"#N/A"},"39635-31-9","Oct 2016 PAR"]
[1086,"P22","Polychlorinated Dibenzo-p-Dioxins  (PCDD or Dioxins)",null,"yes","yes","yes",{"$error":"#N/A"},{"$error":"#N/A"},1086]
["1746-01-6","P23","2,3,7,8-Tetrachlorodibenzo-p-Dioxin",null,"yes","yes","yes",{"$error":"#N/A"},{"$error":"#N/A"},"1746-01-6"]
["40321-76-4","P24","1,2,3,7,8-Pentachlorodibenzo-p-Dioxin",null,"yes","yes","yes",{"$error":"#N/A"},{"$error":"#N/A"},"40321-76-4"]
["39227-28-6","P25","1,2,3,4,7,8-Hexachlorodibenzo-p-Dioxin",null,"yes","yes","yes",{"$error":"#N/A"},{"$error":"#N/A"},"39227-28-6"]
["57653-85-7","P26","1,2,3,6,7,8-Hexachlorodibenzo-p-Dioxin",null,"yes","yes","yes",{"$error":"#N/A"},{"$error":"#N/A"},"57653-85-7"]
["19408-74-3","P27","1,2,3,7,8,9-Hexachlorodibenzo-p-Dioxin",null,"yes","yes","yes",{"$error":"#N/A"},{"$error":"#N/A"},"19408-74-3"]
["35822-46-9","P28","1,2,3,4,6,7,8-Heptachlorodibenzo-p-Dioxin",null,"yes","yes","yes",{"$error":"#N/A"},{"$error":"#N/A"},"35822-46-9"]
["3268-87-9","P29","1,2,3,4,6,7,8,9-Octachlorodibenzo-p-Dioxin",null,"yes","yes","yes",{"$error":"#N/A"},{"$error":"#N/A"},"3268-87-9"]
[1080,"P30","Polychlorinated Dibenzofurans (PCDF or Furans)",null,"yes","yes","yes",{"$error":"#N/A"},{"$error":"#N/A"},1080]
["51207-31-9","P31","2,3,7,8-Tetrachlorodibenzofuran (TCDF; Tcdbf; Dibenzofuran, 2,3,7,8-tetrachloro-; 2,3,7,8-TCDF; PCDF 83)",null,"yes","yes","yes",{"$error":"#N/A"},{"$error":"#N/A"},"51207-31-9"]
["57117-41-6","P32","1,2,3,7,8-Pentachlorodibenzofuran",null,"yes","yes","yes",{"$error":"#N/A"},{"$error":"#N/A"},"57117-41-6"]
["57117-31-4","P33","2,3,4,7,8-Pentachlorodibenzofuran",null,"yes","yes","yes",{"$error":"#N/A"},{"$error":"#N/A"},"57117-31-4"]
["70648-26-9","P34","1,2,3,4,7,8-Hexachlorodibenzofuran",null,"yes","yes","yes",{"$error":"#N/A"},{"$error":"#N/A"},"70648-26-9"]
["57117-44-9","P35","1,2,3,6,7,8-Hexachlorodibenzofuran",null,"yes","yes","yes",{"$error":"#N/A"},{"$error":"#N/A"},"57117-44-9"]
["72918-21-9","P36","1,2,3,7,8,9-Hexachlorodibenzofuran",null,"yes","yes","yes",{"$error":"#N/A"},{"$error":"#N/A"},"72918-21-9"]
["60851-34-5","P37","2,3,4,6,7,8-Hexachlorodibenzofuran",null,"yes","yes","yes",{"$error":"#N/A"},{"$error":"#N/A"},"60851-34-5"]
["67562-39-4","P38","1,2,3,4,6,7,8-Heptachlorodibenzofuran",null,"yes","yes","yes",{"$error":"#N/A"},{"$error":"#N/A"},"67562-39-4"]
["55673-89-7","P39","1,2,3,4,7,8,9-Heptachlorodibenzofuran",null,"yes","yes","yes",{"$error":"#N/A"},{"$error":"#N/A"},"55673-89-7"]
["39001-02-0","P40","1,2,3,4,6,7,8,9-Octachlorodibenzofuran",null,"yes","yes","yes",{"$error":"#N/A"},{"$error":"#N/A"},"39001-02-0"]
[1151,"P41","Polycyclic Aromatic Hydrocarbon (PAH), total, with individ. components also reported [PAH, POM]",null,"yes","yes",{"$error":"#N/A"},{"$error":"#N/A"},{"$error":"#N/A"},1151]
["56-55-3","P42","Benz(a)Anthracene",null,"yes","yes",{"$error":"#N/A"},{"$error":"#N/A"},{"$error":"#N/A"},"56-55-3"]
["50-32-8","P43","Benzo(a)Pyrene",null,"yes","yes",{"$error":"#N/A"},{"$error":"#N/A"},{"$error":"#N/A"},"50-32-8"]
["205-99-2","P44","Benzo(b)Fluoranthene",null,"yes","yes",{"$error":"#N/A"},{"$error":"#N/A"},{"$error":"#N/A"},"205-99-2"]
["205-82-3","P45","Benzo(j)Fluoranthene",null,"yes","yes",{"$error":"#N/A"},{"$error":"#N/A"},{"$error":"#N/A"},"205-82-3"]
["207-08-9","P46","Benzo(k)Fluoranthene",null,"yes","yes",{"$error":"#N/A"},{"$error":"#N/A"},{"$error":"#N/A"},"207-08-9"]
["218-01-9","P47","Chrysene",null,"yes","yes",{"$error":"#N/A"},{"$error":"#N/A"},{"$error":"#N/A"},"218-01-9"]
["226-36-8","P48","Dibenz(a,h)Acridine",null,"yes","yes",{"$error":"#N/A"},{"$error":"#N/A"},{"$error":"#N/A"},"226-36-8"]
["53-70-3","P49","Dibenz(a,h)Anthracene",null,"yes","yes",{"$error":"#N/A"},{"$error":"#N/A"},{"$error":"#N/A"},"53-70-3"]
["224-42-0","P50","Dibenz(a,j)Acridine",null,"yes","yes",{"$error":"#N/A"},{"$error":"#N/A"},{"$error":"#N/A"},"224-42-0"]
["192-65-4","P51","Dibenzo(a,e)Pyrene",null,"yes","yes",{"$error":"#N/A"},{"$error":"#N/A"},{"$error":"#N/A"},"192-65-4"]
["189-64-0","P52","Dibenzo(a,h)Pyrene",null,"yes","yes",{"$error":"#N/A"},{"$error":"#N/A"},{"$error":"#N/A"},"189-64-0"]
["189-55-9","P53","Dibenzo(a,i)Pyrene",null,"yes","yes",{"$error":"#N/A"},{"$error":"#N/A"},{"$error":"#N/A"},"189-55-9"]
["191-30-0","P54","Dibenzo(a,l)Pyrene",null,"yes","yes",{"$error":"#N/A"},{"$error":"#N/A"},{"$error":"#N/A"},"191-30-0"]
["194-59-2","P55","7H-Dibenzo(c,g)Carbazole",null,"yes","yes",{"$error":"#N/A"},{"$error":"#N/A"},{"$error":"#N/A"},"194-59-2"]
["57-97-6","P56","7,12-Dimethylbenz(a)Anthracene",null,"yes","yes",{"$error":"#N/A"},{"$error":"#N/A"},{"$error":"#N/A"},"57-97-6"]
["42397-64-8","P57","1,6-Dinitropyrene",null,"yes","yes",{"$error":"#N/A"},{"$error":"#N/A"},{"$error":"#N/A"},"42397-64-8"]
["42397-65-9","P58","1,8-Dinitropyrene",null,"yes","yes",{"$error":"#N/A"},{"$error":"#N/A"},{"$error":"#N/A"},"42397-65-9"]
["193-39-5","P59","Indeno(1,2,3-c,d)Pyrene",null,"yes","yes",{"$error":"#N/A"},{"$error":"#N/A"},{"$error":"#N/A"},"193-39-5"]
["56-49-5","P60","3-Methylcholanthrene",null,"yes","yes",{"$error":"#N/A"},{"$error":"#N/A"},{"$error":"#N/A"},"56-49-5"]
["3697-24-3","P61","5-Methylchrysene",null,"yes","yes",{"$error":"#N/A"},{"$error":"#N/A"},{"$error":"#N/A"},"3697-24-3"]
["91-20-3","P62","Naphthalene",null,"yes","yes","yes",{"$error":"#N/A"},{"$error":"#N/A"},"91-20-3"]
["602-87-9","P63","5-Nitroacenaphthene",null,"yes","yes",{"$error":"#N/A"},{"$error":"#N/A"},{"$error":"#N/A"},"602-87-9"]
["7496-02-8","P64","6-Nitrochrysene",null,"yes","yes",{"$error":"#N/A"},{"$error":"#N/A"},{"$error":"#N/A"},"7496-02-8"]
["607-57-8","P65","2-Nitrofluorene",null,"yes","yes",{"$error":"#N/A"},{"$error":"#N/A"},{"$error":"#N/A"},"607-57-8"]
["5522-43-0","P66","1-Nitropyrene",null,"yes","yes",{"$error":"#N/A"},{"$error":"#N/A"},{"$error":"#N/A"},"5522-43-0"]
["57835-92-4","P67","4-Nitropyrene",null,"yes","yes",{"$error":"#N/A"},{"$error":"#N/A"},{"$error":"#N/A"},"57835-92-4"]
["1120-71-4","P68","1,3-Propane Sultone",null,"yes","yes",{"$error":"#N/A"},{"$error":"#N/A"},{"$error":"#N/A"},"1120-71-4"]
["115-07-1","P69","Propylene  (Propene)",null,"yes","yes","yes",{"$error":"#N/A"},{"$error":"#N/A"},"115-07-1"]
["107-98-2","P70","Propylene Glycol Monomethyl Ether",null,"yes","yes","yes",{"$error":"#N/A"},{"$error":"#N/A"},"107-98-2"]
["75-56-9","P71","Propylene Oxide",null,"yes","yes","yes","yes",{"$error":"#N/A"},"75-56-9"]
["7782-49-2","S1","Selenium and Compounds",null,"yes","yes","yes","yes",{"$error":"#N/A"},"7782-49-2"]
["7783-07-5","S2","Hydrogen Selenide",null,"yes","yes",{"$error":"#N/A"},"yes",{"$error":"#N/A"},"7783-07-5"]
["7446-34-6","S3","Selenium Sulfide (Selenium disulfide)",null,"yes","yes","yes",{"$error":"#N/A"},{"$error":"#N/A"},"7446-34-6"]
["7631-86-9","S4-Do Not Use","Silica [Crystalline, Respirable]",null,"yes","no","yes",{"$error":"#N/A"},{"$error":"#N/A"},"7631-86-9","Oct 2016 PAR"]
["1310-73-2","S5","Sodium Hydroxide",null,"yes","yes",{"$error":"#N/A"},"yes",{"$error":"#N/A"},"1310-73-2"]
["100-42-5","S6","Styrene",null,"yes","yes","yes","yes",{"$error":"#N/A"},"100-42-5"]
["18785-72-3","S7-do not use","Sulfates",null,"yes","yes",{"$error":"#N/A"},"yes",{"$error":"#N/A"},"18785-72-3"]
["7446-09-5","S8-do not use","Sulfur Dioxide",null,"yes","yes",{"$error":"#N/A"},"yes",{"$error":"#N/A"},"7446-09-5"]
["7664-93-9","S9","Sulfuric Acid",null,"no","yes","yes","yes",{"$error":"#N/A"},"7664-93-9"]
["7446-71-9","S10","Sulfuric Acid (Sulfur Trioxide)",null,"yes","yes","yes","yes",{"$error":"#N/A"},"7446-71-9"]
["8014-95-7","S11","Sulfuric Acid (Oleum)",null,"yes","yes",{"$error":"#N/A"},"yes",{"$error":"#N/A"},"8014-95-7"]
["79-34-5","T1","1,1,2,2-Tetrachloroethane",null,"yes","yes",{"$error":"#N/A"},{"$error":"#N/A"},{"$error":"#N/A"},"79-34-5"]
["62-55-5","T2","Thioacetamide",null,"yes","yes",{"$error":"#N/A"},{"$error":"#N/A"},{"$error":"#N/A"},"62-55-5"]
["108-88-3","T3","Toluene",null,"yes","yes","yes","yes",{"$error":"#N/A"},"108-88-3"]
["26471-62-5","T4","Toluene Diisocyantates",null,"yes","yes","yes","yes","yes","26471-62-5"]
["584-84-9","T5","Toluene-2,4-Diisocyanate",null,"yes","yes","yes","yes","yes","584-84-9"]
["91-08-7","T6","Toluene-2,6-Diisocyanate",null,"yes","yes","yes","yes","yes","91-08-7"]
["79-00-5","T7","1,1,2-Trichloroethane (Vinyl Trichloride)",null,"yes","yes",{"$error":"#N/A"},"yes",{"$error":"#N/A"},"79-00-5"]
["79-01-6","T8","Trichloroethylene",null,"yes","yes","yes",{"$error":"#N/A"},{"$error":"#N/A"},"79-01-6"]
["121-44-8","T9","Triethylamine",null,"yes","yes","yes","yes",{"$error":"#N/A"},"121-44-8"]
["51-79-6","U1","Urethane  (Ethyl Carbamate)",null,"yes","yes",{"$error":"#N/A"},{"$error":"#N/A"},{"$error":"#N/A"},"51-79-6"]
["7440-62-2","V1","Vanadium (Fume or Dust)",null,"yes","yes",{"$error":"#N/A"},"yes",{"$error":"#N/A"},"7440-62-2","Oct 2016 PAR"]
["1314-62-1","V2","Vanadium Pentoxide",null,"yes","yes",{"$error":"#N/A"},"yes",{"$error":"#N/A"},"1314-62-1","Oct 2016 PAR"]
["108-05-4","V3","Vinyl Acetate",null,"yes","yes","yes",{"$error":"#N/A"},{"$error":"#N/A"},"108-05-4"]
["75-01-4","V4","Vinyl Chloride  (Chloroethylene)",null,"yes","yes",{"$error":"#N/A"},"yes",{"$error":"#N/A"},"75-01-4"]
["75-35-4","V5","Vinylidene Chloride  (1,1-Dichloroethylene)",null,"yes","yes","yes",{"$error":"#N/A"},{"$error":"#N/A"},"75-35-4"]
["1330-20-7","X1","Xylenes (Mixed Isomers)",null,"yes","yes","yes","yes",{"$error":"#N/A"},"1330-20-7"]
["108-38-3","X2","m-Xylene",null,"yes","yes","yes","yes",{"$error":"#N/A"},"108-38-3"]
["95-47-6","X3","o-Xylene",null,"yes","yes","yes","yes",{"$error":"#N/A"},"95-47-6"]
["106-42-3","X4","p-Xylene",null,"yes","yes","yes","yes",{"$error":"#N/A"},"106-42-3"]
["58-89-9",null,"Lindane                  ... (See Gamma-Hexachlorocyclohexane)",null,null,null,"yes",{"$error":"#N/A"},{"$error":"#N/A"},"58-89-9"]
[1151,null,"Polycyclic Aromatic Hydrocarbon (PAH), total, w/o individ. components reported [PAH, POM]"]
[]
[]
[]
[]
[null,null,"* Red: Special case"]
[null,null,"* Blue: Table 1, Table 8 and Table 11"]
[null,null,"* Black: Table 1 and Table 8"]

{"sheet":"TableIndex","index":31,"n_rows":74,"n_cols":30,"rows_kept":74,"cut":false,"hidden":true,"merged":[[70,0,71,0]]}
["Table Index",null,null,null,null,null,null,null,null,null,null,null,null,null,null,null,null,null,null,null,null,null,null,null,null,null,null,"X/Q and X/Qmax"]
["Table 1 ","Screening Emissions Level",null,null,null,null,null,null,null,null,null,null,null,null,null,null,null,null,"Hour/Day =",{"$f":"HoursPerDay","v":24},null,null,null,null,null,null,null,"Receptor","X/Q","X/Qmax"]
["Table Acute TO","ARB's Acute Target Organ Table - Table 2  ",null,"https://www.arb.ca.gov/toxics/healthval/totables.pdf",null,null,null,null,null,null,null,null,null,null,null,null,null,null,"Source Type =",{"$f":"Emissions!E25","v":"Other"},null,null,null,null,null,null,null,"Residential",{"$f":"IF(ScreeningMode=\"NO\",VLOOKUP(\"yes\",XQSummary,2,FALSE),IF(ScreeningMode=\"YES\",'Tier 3 Screen Input'!D28))","v":1.7869000000000002},{"$f":"IF(ScreeningMode=\"NO\",VLOOKUP(\"yes\",XQSummary,3,FALSE),IF(ScreeningMode=\"YES\",'Tier 3 Screen Input'!D32))","v":71.687000000000012}]
[" ","ARB's 8-hr Target Organ Table - Table 3",null,null,null,null,null,"Source Types list","PointSouce - Cancer, Chronic","Acute","Volume Source - Cancer, Chronic","Volume Source - Acute","Min Stack Height (ft) ","Max Stack Height (ft) ",null,null,null,null,"Point or Volume Source?",{"$f":"PointVolumeSource","v":"P"},null,null,null,null,null,null,null,"Commercial",{"$f":"IF(ScreeningMode=\"NO\",VLOOKUP(\"yes\",XQSummary,4,FALSE), IF( ScreeningMode=\"YES\",'Tier 3 Screen Input'!D29))","v":0.64900000000000002},{"$f":"IF(ScreeningMode=\"YES\",'Tier 3 Screen Input'!D33,VLOOKUP(\"yes\",XQSummary,5,FALSE))","v":28.651}]
["Table Chronic TO","ARB's Chronic Target Organ Table - Table 4",null,null,null,null,null,"Boiler","Table 8AB","Table 8.8","No data","No data",0,52]
["Table CP_REL","Cancer Potency & RELs values from ARB's Consolidate table 1 and ARB's Target Organ Table - Table 2,3&4",null,"https://www.arb.ca.gov/toxics/healthval/contable.pdf",null,null,null,"Crematory","Table 11","Table 11.4","No data","No data",0,999,null,null,null,null,null,null,"Residential",null,"Commercial / Industrial"]
["Table 3","MP Adjustment Factors ",null,null,null,null,null,"Diesel ICE","Table 10","Table 10.6","No data","No data",10,13,null,null,null,null,null,null,"Cancer/Chronic","Acute","Cancer/Chronic","Acute"]
["Table 4","Residential & Worker Combined Exposure Factor (CEF)",null,null,null,null,null,"Diesel Pressure Washer","Table 10","Table 10.6","No data","No data",10,13,null,null,null,null,null,null,"X/Q","X/Qmax","X/Q","X/Qmax"]
["Table 5","Worker Combined Exposure Factor (WAF)",null,null,null,null,null,"Lean Burn ICE","Table 9","Table 9.6","No data","No data",13,23,null,null,null,null,"Lean Burn ICE",{"$f":"IF(PointVolumeSource=\"P\",IF(Emissions!$E$25=\"Lean Burn ICE\",\"yes\",\"no\"),\"no\")","v":"no"},{"$f":"'Engine Calc'!$C$6","v":{"$error":"#VALUE!"}},{"$f":"'Engine Calc'!$C$8","v":{"$error":"#VALUE!"}},{"$f":"'Engine Calc'!$C$7","v":{"$error":"#VALUE!"}},{"$f":"'Engine Calc'!$C$9","v":{"$error":"#VALUE!"}}]
["Table 6","x/Q for General Non-Combustion Point Source Equipment ",null,null,null,null,null,"Rich Burn ICE","Table 9","Table 9.6","No data","No data",13,23]
["Table 7","x/Q for General Non-Combustion Volume Source Equipment ",null,null,null,null,null,"Spray Booth","Table 13","Table 13.3","No data","No data",16,50,null,null,null,null,"Rich Burn ICE - PS",{"$f":"IF(PointVolumeSource=\"P\",IF(Emissions!$E$25=\"Rich Burn ICE\",\"yes\",\"no\"),\"no\")","v":"no"},{"$f":"'Engine Calc'!$C$6","v":{"$error":"#VALUE!"}},{"$f":"'Engine Calc'!$C$8","v":{"$error":"#VALUE!"}},{"$f":"'Engine Calc'!$C$7","v":{"$error":"#VALUE!"}},{"$f":"'Engine Calc'!$C$9","v":{"$error":"#VALUE!"}}]
["Table 8","x/Q for Natural Gas Boilers ",null,null,null,null,null,"Other","Table 6","Table 6.4","Table 7 ","Table 7.7",14,50,0,999,null,null," - Vol Source",{"$f":"IF(PointVolumeSource=\"V\",IF(Emissions!$E$25=\"Rich Burn ICE\",\"yes\",\"no\"),\"no\")","v":"no"},"No data ","No data ","No data ","No data "]
["Table 9","x/Q for Natural Gas Internal Combustion Engines ",null,null,null,null,null,"Gas Station","Table 12","Table 12","No data","No data",null,null,null,null,null,null,"Boiler -Point Source",{"$f":"IF(PointVolumeSource=\"P\",IF(SourceType=\"Boiler\",\"yes\",\"no\"),\"no\")","v":"no"},{"$f":"'Boiler Calc'!$C6","v":0.04},{"$f":"'Boiler Calc'!C8","v":2.7324000000000002},{"$f":"'Boiler Calc'!$C7","v":3.3500000000000002E-2},{"$f":"'Boiler Calc'!$C9","v":2.0565000000000002}]
["Table 10","x/Q for Diesel Internal Combustion Engines ",null,null,null,null,null,null,null,null,null,null,null,null,null,null,null,null,"-  Vol Source",{"$f":"IF(PointVolumeSource=\"V\",IF(SourceType=\"Boiler\",\"yes\",\"no\"),\"no\")","v":"no"},"No data ","No data ","No data ","No data "]
["Table 11","x/Q for Crematoriums ",null,null,null,null,null,null,null,null,null,null,null,null,null,null,null,null,"Gas Station",{"$f":"IF(PointVolumeSource=\"P\",IF(Emissions!$E$25=\"Gas Station\",\"yes\",\"no\"),\"no\")","v":"no"}]
["Table 12","MICR Screening Tables for Gasoline Dispensing Facilities (Underground & Aboveground)",null,null,null,null,null,null,null,null,null,null,null,null,null,null,null,null,"Other - PSE",{"$f":"IF(PointVolumeSource=\"P\",IF(Emissions!$E$25=\"Other\",\"yes\",\"no\"),\"no\")","v":"yes"},{"$f":"'PSE Calc'!$C$5","v":1.7869000000000002},{"$f":"'PSE Calc'!$C$7","v":71.687000000000012},{"$f":"'PSE Calc'!$C$6","v":0.64900000000000002},{"$f":"'PSE Calc'!$C$8","v":28.651}]
["Table 13","x/Q for Spray Booths ",null,null,null,null,null,null,null,null,null,null,null,null,null,null,null,null,null,null,"No data ","No data ","No data ","No data "]
[null,null,null,null,null,null,null,"Conversion Table",null,null,null,null,null,null,null,null,null,null,"Other - VSE",{"$f":"IF(PointVolumeSource=\"V\",IF(Emissions!$E$25=\"Other\",\"yes\",\"no\"),\"no\")","v":"no"},{"$f":"'VSE Calc'!$C$5","v":1.1057999999999999},{"$f":"'VSE Calc'!$C$7","v":61.099899999999998},{"$f":"'VSE Calc'!$C$6","v":0.45499999999999996},{"$f":"'VSE Calc'!$C$8","v":24.917999999999999}]
[null,null,null,null,null,null,null,"Unit List ","Lookup Case","Conversion Factor"]
["Boiler","Natural Gas - Point Source",null,null,null,null,null,"feet","feet to meter",0.30480000000000002,null,null,null,null,null,null,null,null,"Diesel ICE",{"$f":"IF(PointVolumeSource=\"P\",IF(Emissions!$E$25=\"Diesel ICE\",\"yes\",\"no\"),\"no\")","v":"no"},{"$f":"'Diesel Engine Calc'!$C$6","v":0.21030000000000001},{"$f":"'Diesel Engine Calc'!$C$8","v":13.6356},{"$f":"'Diesel Engine Calc'!$C$7","v":8.0999999999999989E-2},{"$f":"'Diesel Engine Calc'!$C$9","v":4.5019999999999998}]
[null,null,"MMBTU","≤ 12 hr/day","> 12 hr/day",null,null,"meter","meter to feet",3.2808000000000002]
[null,null,"2 < Rating ≤ 5","Table 8.1 A","Table 8.1 B",null,null,null,"meter to meter",1,null,null,null,null,null,null,null,null,"Crematory",{"$f":"IF(PointVolumeSource=\"P\",IF(SourceType=\"Crematory\",\"yes\",\"no\"),\"no\")","v":"no"},{"$f":"'Crematory Calc'!$C$5","v":0.42350000000000004},{"$f":"'Crematory Calc'!$C$7","v":24.608900000000002},{"$f":"'Crematory Calc'!$C$6","v":0.1585},{"$f":"'Crematory Calc'!$C$8","v":10.1685}]
[null,null,"5 < Rating ≤ 10","Table 8.2 A","Table 8.2 B",null,null,null,"feet to feet",1]
[null,null,"10 < Rating ≤ 20","Table 8.3 A","Table 8.3 B",null,null,null,{"$f":"H22&\" to \"&H23","v":" to "},null,null,null,null,null,null,null,null,null,"Pressure Washer",{"$f":"IF(PointVolumeSource=\"P\",IF(SourceType=\"Diesel Pressure Washer\",\"yes\",\"no\"),\"no\")","v":"no"},{"$f":"'PSE Calc'!C$5","v":1.7869000000000002},{"$f":"'PSE Calc'!$C$7","v":71.687000000000012},{"$f":"'PSE Calc'!C$6","v":0.64900000000000002},{"$f":"'PSE Calc'!$C$8","v":28.651}]
[null,null,"20 < Rating ≤ 30","Table 8.4 A","Table 8.4 B",null,null,null,{"$f":"H23&\" to \"&H22","v":" to "}]
[null,null,"30 < Rating ≤ 50","Table 8.5 A","Table 8.5 B",null,null,null,{"$f":"H22&\" to \"&H22","v":" to "},1,null,null,null,null,null,null,null,null,"Spray Booth",{"$f":"IF(PointVolumeSource=\"P\",IF(SourceType=\"Spray Booth\",\"yes\",\"no\"),\"no\")","v":"no"},{"$f":"'Spray Booth Calc'!$C$5","v":1.0647000000000002},{"$f":"'Spray Booth Calc'!$C$7","v":138.37119999999999},{"$f":"'Spray Booth Calc'!$C$6","v":0.3085},{"$f":"'Spray Booth Calc'!$C$8","v":73.540500000000009}]
[null,null,"50 < Rating ≤ 150","Table 8.6 A","Table 8.6 B",null,null,null,{"$f":"H23&\" to \"&H23","v":" to "},1]
[null,null,"150 < Rating ≤ 200","Table 8.7 A","Table 8.7 B"]
[null,null,">200","No data. Run Tier 3 or Tier4 to get x/Q ",null,null,null,null,null,null,null,null,null,null,null,null,null,null,"Equipment summary "]
["Point Source","Natural Gas",null,null,null,null,null,null,null,null,null,null,null,null,null,null,null,null,"Boiler",{"$f":"\"Burner Rating:  \"&BoilerRating&\" MMBtu/hr\"","v":"Burner Rating:  500 MMBtu/hr"},null,{"$f":"\"Control Type:   \"&Boiler!E6","v":"Control Type:   OTHER"},null,{"$f":"\"Fuel HHV:  \"&Boiler!E7&\" \"&Boiler!F7","v":"Fuel HHV:  1050 btu/ft³"}]
[null,null,"Stack Height  (ft)","≤ 12 hr/day","> 12 hr/day",null,null,null,null,null,null,null,null,null,null,null,null,null,"Crematory",{"$f":"Crematory!E6","v":"Human Cremation"},null,{"$f":"\"Burner Rating:  \"&CrematoryBurnRate&\"  lbs/hr\"","v":"Burner Rating:  150  lbs/hr"}]
[null,null,"<14","No Data","No Data",null,null,null,null,null,null,null,null,null,null,null,null,null,"Diesel ICE",{"$f":"\"Engine Horse Power:  \"&DieselICEPower&\" BHP\"","v":"Engine Horse Power:  780 BHP"},null,{"$f":"\"Engine Year Built:  \"&DieselICE!D7","v":"Engine Year Built:  2015"},null,{"$f":"\"Generator Engine?  \"&DieselICE!D8","v":"Generator Engine?  NO"},null,{"$f":"\"Engine Emission Factor:  \"&IF(DieselICE!D9=0,DieselICE!D10,DieselICE!D9)&\" \"&DieselICE!E9","v":"Engine Emission Factor:  0.03 g/bhp-hr"}]
[null,null,"14 ≤ Stack Height < 25","Table 6.1 A","Table 6.1 B",null,null,null,null,null,null,null,null,null,null,null,null,null,"Gas Station"]
[null,null,"25 ≤ Stack Height < 50","Table 6.2 A","Table 6.2 B",null,null,null,null,null,null,null,null,null,null,null,null,null,"Diesel Pressure Washer",{"$f":"\"Burner Rating: \"&'Pressure Washer'!D6&\" MMBtu/hr\"","v":"Burner Rating: 1 MMBtu/hr"}]
[null,null,"Stack Height ≥ 50","Table 6.3 A","Table 6.3 B",null,null,null,null,null,null,null,null,null,null,null,null,null,"Lean Burn ICE",{"$f":"\"Engine Horse Power:  \"&LeanBurnICEPower&\" BHP\"","v":"Engine Horse Power:  51 BHP"},null,{"$f":"\"Control Type:  \"&LeanBurnICE!D5","v":"Control Type:  OTHER"},null,{"$f":"\"Engine efficiency :   \"&LeanBurnICE!D6","v":"Engine efficiency :   0.37"}]
["Volume Source",null,null,null,null,null,null,null,null,null,null,null,null,null,null,null,null,null,"Rich Burn ICE",{"$f":"\"Engine Horse Power:  \"&RichBurnICEPower&\" BHP\"","v":"Engine Horse Power:  51 BHP"},null,{"$f":"\"Control Type:  \"&RichBurnICE!D5","v":"Control Type:  SNCR"},null,{"$f":"\"Engine efficiency :   \"&RichBurnICE!D6","v":"Engine efficiency :   0.33"},null,"Fuel rate nat gas (actual if available)",{"$f":"RichBurnICE!D7","v":100}]
[null,"Area (ft2) ","Stack Height  (ft)","≤ 12 hr/day","> 12 hr/day",null,null,null,null,null,null,null,null,null,null,null,null,null,"Spray Booth",{"$f":"SprayboothType & \" \"& 'Spray Booth'!I6&\" \"&'Spray Booth'!J6","v":"Without Burner  "}]
[null,"Area  ≤  3,000","≤ 20","Table 7.1 A","Table 7.1 B",null,null,null,null,null,null,null,null,null,null,null,null,null,"Other"]
[null,"3,000 < Area ≤ 10,000","≤ 20","Table 7.2 A","Table 7.2 B"]
[null,"10,000 < Area ≤ 30,000","≤ 20","Table 7.3 A","Table 7.3 B"]
[null,"Area  ≤  3,000","> 20","Table 7.4 A","Table 7.4 B"]
[null,"3,000 < Area ≤ 10,000","> 20","Table 7.5 A","Table 7.5 B"]
[null,"10,000 < Area ≤ 30,000 ","> 20","Table 7.6 A","Table 7.6 B",null,null,null,null,null,null,null,null,null,null,null,null,null,null,null,"Point Source/Volumm Source","P"]
[null,null,null,null,null,null,null,null,null,null,null,null,null,null,null,null,null,null,null,null,null,"V"]
["Engine","Natural Gas - Point Source"]
[null,null,"BHP","≤ 12 hr/day","> 12 hr/day",null,null,null,null,null,null,null,null,null,null,null,null,null,null,null,"Correspond columns in table 3"]
[null,null,"<50","No Data","No Data",null,null,null,null,null,null,null,null,null,null,null,null,null,null,null,"MP r","MP w"]
[null,null,"50 ≤  Rating ≤ 75","Table 9.1 A","Table 9.1 B",null,null,null,null,null,null,null,null,null,null,null,null,null,"Year of Exposure",2,18,19]
[null,null,"75 < Rating ≤ 150","Table 9.2 A","Table 9.2 B",null,null,null,null,null,null,null,null,null,null,null,null,null,null,5,16,17]
[null,null,"150 < Rating ≤ 250","Table 9.3 A","Table 9.3 B",null,null,null,null,null,null,null,null,null,null,null,null,null,null,9,14,15]
[null,null,"250 < Rating ≤ 1000","Table 9.4 A","Table 9.4 B",null,null,null,null,null,null,null,null,null,null,null,null,null,null,30,5,6]
[null,null,"Rating > 1000","Table 9.5 A","Table 9.5 B",null,null,null,null,null,null,null,null,null,null,null,null,null,null,70,5,6]
["Engine","Diesel - Point Source"]
[null,null,"BHP","≤ 12 hr/day","> 12 hr/day"]
[null,null,"<50","No Data","No Data"]
[null,null,"50 ≤  Rating ≤ 175","Table 10.1 A","Table 10.1 B"]
[null,null,"175 < Rating ≤ 300","Table 10.2 A","Table 10.2 B"]
[null,null,"300 < Rating ≤ 400","Table 10.3 A","Table 10.3 B"]
[null,null,"400 < Rating ≤ 600","Table 10.4 A","Table 10.4 B"]
[null,null,"600 < Rating ≤ 1150","Table 10.5 A","Table 10.5 B"]
[null,null,">1150","No data "]
["Crematoriums","Natural Gas - Point Source"]
[null,"Type ","Building Area (ft2) ","≤ 12 hr/day","> 12 hr/day"]
[null,"Human Cremation","5,000  <  Area ≤ 10,000","Table 11.1 A","Table 11.1 B"]
[null,"Animal Cremation","10,000  <  Area ≤ 15,000","Table 11.2 A","Table 11.2 B"]
[null,null,"Area > 15,000","Table 11.3 A","Table 11.3 B"]
["Spray Booth","Natural Gas - Point Source"]
[null,"Type ","Stack Height  (ft)","≤ 12 hr/day"]
[null,"Without Burner","16 ≤ Height < 24","Table 13.1"]
[null,"With Burner","24 ≤ Height < 50","Table 13.2"]
["Gasoline Dispensing Station"]
[null,"Storage Tank Type ","MICR tables ","Residential","Worker"]
[null,"Underground",null,"Table 12.1A","Table 12.1B"]
[null,"Aboveground",null,"Table 12.2A","Table 12.2B"]

{"sheet":"Table 1","index":32,"n_rows":242,"n_cols":17,"rows_kept":242,"cut":false,"hidden":false,"merged":[]}
["TABLE 1.0 Screening Emissions Level",null,null,null,null,null,null,"cancer25","cancer50","cancer100","acute25","acute50","acute100"]
[null,"Effective Date (from Table I R1401 )",null,null,null,"Pollutant",null,"Annual Emission Screening Value (lbs/yr)",null,null,"Hourly Emission Screening Value (lbs/hr)",null,null,"Date Toxicity Criteria Last Updated (from TABLE I R1401)"]
["Code","Cancer","Chronic","8-hr Chronic","Acute","Toxic Air Contaminant","CAS No.","Emissions at 25 m","Emissions at 50 m","Emissions at 100 m","Emissions at 25 m","Emissions at 50 m","Emissions at 100 m","Cancer","Chronic","8-hr Chronic","Acute"]
[{"$f":"VLOOKUP(G4,'Master List'!A:B,2,FALSE)","v":"A1"},"1990-12-07","1998-09-08","2010-09-10","2010-09-10","Acetaldehyde","75-07-0",5.31,19.399999999999999,44.4,0.104,0.25900000000000001,0.64900000000000002,"4/99[5/93]","2008-12-19","2008-12-19","2008-12-19"]
[{"$f":"VLOOKUP(G5,'Master List'!A:B,2,FALSE)","v":"A2"},"1999-01-08",null,null,null,"Acetamide","60-35-5",0.75900000000000001,2.77,6.35,null,null,null,"1999-04-01"]
[{"$f":"VLOOKUP(G6,'Master List'!A:B,2,FALSE)","v":"A3"},null,"2001-06-15","2015-07-05","1999-08-13","Acrolein","107-02-8",6,21.9,50.2,5.5199999999999997E-4,1.3799999999999999E-3,3.4499999999999999E-3,null,"2008-12-19","2008-12-19","2008-12-19"]
[{"$f":"VLOOKUP(G7,'Master List'!A:B,2,FALSE)","v":"A4"},"1990-12-07",null,null,null,"Acrylamide","79-06-1",1.18E-2,4.2999999999999997E-2,9.8699999999999996E-2,null,null,null,"4/99[7/90]"]
[{"$f":"VLOOKUP(G8,'Master List'!A:B,2,FALSE)","v":"A5"},null,"1999-08-13","2015-07-05","1999-08-13","Acrylic Acid","79-10-7",null,null,null,1.33,3.3,8.2799999999999994,null,null,null,"1999-04-01"]
[{"$f":"VLOOKUP(G9,'Master List'!A:B,2,FALSE)","v":"A6"},"1990-12-07","2002-05-03",null,null,"Acrylonitrile","107-13-1",5.3100000000000001E-2,0.19400000000000001,0.44400000000000001,null,null,null,"4/99[1/91]","2001-12-01"]
[{"$f":"VLOOKUP(G10,'Master List'!A:B,2,FALSE)","v":"A7"},"1999-01-08",null,null,null,"Allyl Chloride","107-05-1",2.5299999999999998,9.2200000000000006,21.2,null,null,null,"1999-04-01"]
[{"$f":"VLOOKUP(G11,'Master List'!A:B,2,FALSE)","v":"A8"},"1999-01-08",null,null,null,"2-Aminoanthraquinone","117-79-3",1.61,5.87,13.5,null,null,null,"1999-04-01"]
[{"$f":"VLOOKUP(G12,'Master List'!A:B,2,FALSE)","v":"A9"},null,"2000-08-18","2015-07-05","1999-08-13","Ammonia","7664-41-7",7200,26200,60200,0.70699999999999996,1.76,4.42,null,"2000-02-01",null,"1999-04-01"]
[{"$f":"VLOOKUP(G13,'Master List'!A:B,2,FALSE)","v":"A10"},"1999-01-08",null,null,null,"Aniline","62-53-3",9.32,34,77.900000000000006,null,null,null,"1999-04-01"]
[{"$f":"VLOOKUP(G14,'Master List'!A:B,2,FALSE)","v":"A11"},"1990-12-07","2001-06-15","2015-07-05","1999-08-13","Arsenic And Compounds (Inorganic)","7440-38-2",4.5600000000000003E-4,1.66E-3,3.81E-3,4.4199999999999997E-5,1.1E-4,2.7599999999999999E-4,"1990-07-01","2008-12-19","2008-12-19","2008-12-19"]
[{"$f":"VLOOKUP(G15,'Master List'!A:B,2,FALSE)","v":"A12"},null,"2010-09-10","2015-07-05","1999-08-13","Arsine","7784-42-1",0.129,0.46800000000000003,1.07,4.4199999999999997E-5,1.1E-4,2.7599999999999999E-4,null,"2008-12-19","2008-12-19","2008-12-19"]
[{"$f":"VLOOKUP(G16,'Master List'!A:B,2,FALSE)","v":"A13"},"1990-06-01",null,null,null,"Asbestos","1332-21-4",7.2500000000000005E-7,2.6400000000000001E-6,6.0599999999999996E-6,null,null,null,"1986-03-01"]
[{"$f":"VLOOKUP(G17,'Master List'!A:B,2,FALSE)","v":"B1"},"1990-06-01","2000-08-18","2015-07-05","1999-08-13","Benzene","71-43-2",0.53100000000000003,1.94,4.4400000000000004,5.96E-3,1.49E-2,3.73E-2,"1985-01-01","2014-06-27","2014-06-27","2014-06-27"]
[{"$f":"VLOOKUP(G18,'Master List'!A:B,2,FALSE)","v":"B2"},"1990-12-07",null,null,null,"Benzidine (And Its Salts)  ","92-87-5",1.06E-4,3.8699999999999997E-4,8.8900000000000003E-4,null,null,null,"4/99[1/91]"]
[{"$f":"VLOOKUP(G19,'Master List'!A:B,2,FALSE)","v":"B3"},"1990-12-07",null,null,null,"Benzidine Based Dyes",1020,1.06E-4,3.8699999999999997E-4,8.8900000000000003E-4,null,null,null,"4/99[1/91]"]
[{"$f":"VLOOKUP(G20,'Master List'!A:B,2,FALSE)","v":"B4"},"1990-12-07",null,null,null,"Direct Black","1937-37-7",1.06E-4,3.8699999999999997E-4,8.8900000000000003E-4,null,null,null,"4/99[1/91]"]
[{"$f":"VLOOKUP(G21,'Master List'!A:B,2,FALSE)","v":"B5"},"1990-12-07",null,null,null,"Direct Blue","2602-46-2",1.06E-4,3.8699999999999997E-4,8.8900000000000003E-4,null,null,null,"4/99[1/91]"]
[{"$f":"VLOOKUP(G22,'Master List'!A:B,2,FALSE)","v":"B6"},"1990-12-07",null,null,null,"Direct Brown (Technical Grade)","16071-86-6",1.06E-4,3.8699999999999997E-4,8.8900000000000003E-4,null,null,null,"4/99[1/91]"]
[{"$f":"VLOOKUP(G23,'Master List'!A:B,2,FALSE)","v":"B7"},"1998-09-08",null,null,"1999-08-13","Benzyl Chloride","100-44-7",0.313,1.1399999999999999,2.61,5.2999999999999999E-2,0.13200000000000001,0.33100000000000002,"1999-04-01",null,null,"1999-04-01"]
[{"$f":"VLOOKUP(G24,'Master List'!A:B,2,FALSE)","v":"B8"},"1990-12-07","2002-05-03","2015-07-05",null,"Beryllium And Compounds","7440-41-7",6.3299999999999997E-3,2.3E-2,5.2900000000000003E-2,null,null,null,"4/99[7/90]","2001-12-01"]
[{"$f":"VLOOKUP(G25,'Master List'!A:B,2,FALSE)","v":"B9"},"1990-12-07",null,null,null,"Bis(2-Chloroethyl)Ether  (Dichloroethyl Ether)","111-44-4",2.1299999999999999E-2,7.7399999999999997E-2,0.17799999999999999,null,null,null,"1999-04-01"]
[{"$f":"VLOOKUP(G26,'Master List'!A:B,2,FALSE)","v":"B10"},"1990-12-07",null,null,null,"Bis(Chloromethyl)Ether","542-88-1",1.16E-3,4.2100000000000002E-3,9.6600000000000002E-3,null,null,null,"4/99[1/91]"]
[{"$f":"VLOOKUP(G27,'Master List'!A:B,2,FALSE)","v":"B11"},"1999-01-08",null,null,null,"Potassium Bromate","7758-01-2",0.108,0.39500000000000002,0.90700000000000003,null,null,null,"4/99[10/93]"]
[{"$f":"VLOOKUP(G28,'Master List'!A:B,2,FALSE)","v":"B12"},"1990-12-07","2001-06-15","2015-07-05","2017-09-01","1,3-Butadiene","106-99-0",8.8599999999999998E-2,0.32300000000000001,0.74099999999999999,0.14599999999999999,0.36299999999999999,0.91100000000000003,"1992-07-01","2013-07-29","2013-07-29","2013-07-29"]
[{"$f":"VLOOKUP(G29,'Master List'!A:B,2,FALSE)","v":"C1"},"1990-06-01","2001-06-15","2015-07-05",null,"Cadmium And Compounds","7440-43-9",3.5400000000000002E-3,1.29E-2,2.9600000000000001E-2,null,null,null,"1987-01-01","2001-01-01"]
[{"$f":"VLOOKUP(G30,'Master List'!A:B,2,FALSE)","v":"C2"},null,"2017-09-01","2017-09-01","2017-09-01","Caprolactum","105-60-2",60,219,502,1.0999999999999999E-2,2.75E-2,6.9000000000000006E-2,null,"2013-06-01","2013-06-01","2013-06-01"]
[{"$f":"VLOOKUP(G31,'Master List'!A:B,2,FALSE)","v":"C3"},null,"2002-05-03","2015-07-05","1999-08-13","Carbon Disulfide","75-15-0",28800,105000,241000,1.37,3.41,8.56,null,"2002-05-13",null,"1999-04-01"]
[{"$f":"VLOOKUP(G32,'Master List'!A:B,2,FALSE)","v":"C5"},"1990-06-01","2001-06-15","2015-07-05","1999-08-13","Carbon Tetrachloride  (Tetrachloromethane)","56-23-5",0.35399999999999998,1.29,2.96,0.42,1.05,2.62,"1987-09-01","2001-01-01",null,"1999-04-01"]
[{"$f":"VLOOKUP(G33,'Master List'!A:B,2,FALSE)","v":"C32"},null,"2017-09-01","2017-09-01","2017-09-01","Carbonyl Sulfide","463-58-1",85.7,312,717,0.14599999999999999,0.36299999999999999,0.91100000000000003,null,"2017-02-21","2017-02-21","2017-02-21"]
[{"$f":"VLOOKUP(G34,'Master List'!A:B,2,FALSE)","v":"C6"},"1999-01-08",null,null,null,"Chlorinated Paraffins","108171-26-2",0.59699999999999998,2.17,4.99,null,null,null,"1999-04-01"]
[{"$f":"VLOOKUP(G35,'Master List'!A:B,2,FALSE)","v":"C7"},null,"2000-08-18","2015-07-05","1999-08-13","Chlorine","7782-50-5",7.2,26.2,60.2,4.6399999999999997E-2,0.11600000000000001,0.28999999999999998,null,"2000-02-01",null,"1999-04-01"]
[{"$f":"VLOOKUP(G36,'Master List'!A:B,2,FALSE)","v":"C8"},null,"2001-06-15","2015-07-05",null,"Chlorine Dioxide","10049-04-4",21.6,78.7,181,null,null,null,null,"2001-01-01"]
[{"$f":"VLOOKUP(G37,'Master List'!A:B,2,FALSE)","v":"C9"},"1999-01-08",null,null,null,"4-Chloro-O-Phenylenediamine","95-83-0",3.32,12.1,27.8,null,null,null,"1999-04-01"]
[{"$f":"VLOOKUP(G38,'Master List'!A:B,2,FALSE)","v":"C10"},null,"2001-06-15","2015-07-05",null,"Chlorobenzene","108-90-7",36000,131000,301000,null,null,null,null,"2001-01-01"]
[{"$f":"VLOOKUP(G39,'Master List'!A:B,2,FALSE)","v":"C11"},"1990-12-07","2000-08-18","2015-07-05","1999-08-13","Chloroform","67-66-3",2.8,10.199999999999999,23.4,3.3099999999999997E-2,8.2600000000000007E-2,0.20699999999999999,"1990-12-01","2000-04-01",null,"1999-04-01"]
[{"$f":"VLOOKUP(G40,'Master List'!A:B,2,FALSE)","v":"C12"},"1998-09-08",null,null,null,"Pentachlorophenol","87-86-5",2.95,10.8,24.7,null,null,null,"1999-04-01"]
[{"$f":"VLOOKUP(G41,'Master List'!A:B,2,FALSE)","v":"C13"},"1990-12-07",null,null,null,"2,4,6-Trichlorophenol","88-06-2",0.75900000000000001,2.77,6.35,null,null,null,"4/99[1/91]"]
[{"$f":"VLOOKUP(G42,'Master List'!A:B,2,FALSE)","v":"C14"},null,"2002-05-03","2015-07-05","1999-08-13","Chloropicrin","76-06-2",14.4,52.4,120,6.4000000000000003E-3,1.6E-2,0.04,null,"2001-12-01",null,"1999-04-01"]
[{"$f":"VLOOKUP(G43,'Master List'!A:B,2,FALSE)","v":"C15"},"1999-01-08",null,null,null,"P-Chloro-O-Toluidine","95-69-2",0.19700000000000001,0.71699999999999997,1.65,null,null,null,"1999-04-01"]
[{"$f":"VLOOKUP(G44,'Master List'!A:B,2,FALSE)","v":"C16"},"1990-06-01","2001-06-15","2015-07-05",null,"Chromium 6+","18540-29-9",6.5300000000000002E-5,2.3800000000000001E-4,5.4600000000000004E-4,null,null,null,"1986-01-01","2001-01-01"]
[{"$f":"VLOOKUP(G45,'Master List'!A:B,2,FALSE)","v":"C17"},"1990-06-01","2001-06-15",null,null,"Barium Chromate","10294-40-3",3.1799999999999998E-4,1.16E-3,2.66E-3,null,null,null,"1986-01-01","2001-01-01"]
[{"$f":"VLOOKUP(G46,'Master List'!A:B,2,FALSE)","v":"C18"},"1990-06-01","2001-06-15","2015-07-05",null,"Calcium Chromate","13765-19-0",1.9599999999999999E-4,7.1299999999999998E-4,1.64E-3,null,null,null,"1986-01-01","2001-01-01"]
[{"$f":"VLOOKUP(G47,'Master List'!A:B,2,FALSE)","v":"C19"},"1998-09-08",null,null,null,"Lead Chromate","7758-97-6",4.06E-4,1.48E-3,3.3899999999999998E-3,null,null,null,"1986-01-01","2001-01-01"]
[{"$f":"VLOOKUP(G48,'Master List'!A:B,2,FALSE)","v":"C20"},"1990-06-01","2001-06-15",null,null,"Sodium Dichromate","10588-01-9",1.64E-4,5.9900000000000003E-4,1.3699999999999999E-3,null,null,null,"1986-01-01","2001-01-01"]
[{"$f":"VLOOKUP(G49,'Master List'!A:B,2,FALSE)","v":"C21"},"1990-06-01","2001-06-15",null,null,"Strontium Chromate","7789-06-2",2.5599999999999999E-4,9.3099999999999997E-4,2.14E-3,null,null,null,"1986-01-01","2001-01-01"]
[{"$f":"VLOOKUP(G50,'Master List'!A:B,2,FALSE)","v":"C22"},"1990-06-01","2001-06-15","2015-07-05",null,"Chromic Trioxide  (As Chromic Acid Mist)","1333-82-0",1.25E-4,4.57E-4,1.0499999999999999E-3,null,null,null,"1986-01-01","2001-01-01"]
[{"$f":"VLOOKUP(G51,'Master List'!A:B,2,FALSE)","v":"C23"},null,null,null,"1999-08-13","Copper And Compounds","7440-50-8",null,null,null,2.2100000000000002E-2,5.5100000000000003E-2,0.13800000000000001,null,null,null,"1999-04-01"]
[{"$f":"VLOOKUP(G52,'Master List'!A:B,2,FALSE)","v":"C24"},"1999-01-08",null,null,null,"P-Cresidine","120-71-8",0.35399999999999998,1.29,2.96,null,null,null,"1999-04-01"]
[{"$f":"VLOOKUP(G53,'Master List'!A:B,2,FALSE)","v":"C25"},null,"2001-06-15","2015-07-05",null,"Cresols (Mixtures Of)","1319-77-3",21600,78700,181000,null,null,null,null,"2001-01-01"]
[{"$f":"VLOOKUP(G54,'Master List'!A:B,2,FALSE)","v":"C26"},null,"2001-06-15","2015-07-05",null,"M-Cresol ","108-39-4",21600,78700,181000,null,null,null,null,"2001-01-01"]
[{"$f":"VLOOKUP(G55,'Master List'!A:B,2,FALSE)","v":"C27"},null,"2001-06-15","2015-07-05",null,"O-Cresol  ","95-48-7",21600,78700,181000,null,null,null,null,"2001-01-01"]
[{"$f":"VLOOKUP(G56,'Master List'!A:B,2,FALSE)","v":"C28"},null,"2001-06-15","2015-07-05",null,"P-Cresol  ","106-44-5",21600,78700,181000,null,null,null,null,"2001-01-01"]
[{"$f":"VLOOKUP(G57,'Master List'!A:B,2,FALSE)","v":"C29"},"1999-01-08",null,null,null,"Cupferron","135-20-6",0.24199999999999999,0.88,2.02,null,null,null,"1999-04-01"]
[{"$f":"VLOOKUP(G58,'Master List'!A:B,2,FALSE)","v":"C31"},null,"2000-08-18","2015-07-05","1999-08-13","Hydrogen Cyanide (Hydrocyanic Acid)","74-90-8",324,1180,2710,7.51E-2,0.187,0.46899999999999997,null,"2000-04-01",null,"1999-04-01"]
[{"$f":"VLOOKUP(G59,'Master List'!A:B,2,FALSE)","v":"D1"},"1999-01-08",null,null,null,"2,4-Diaminoanisole","615-05-4",2.31,8.42,19.3,null,null,null,"1999-04-01"]
[{"$f":"VLOOKUP(G60,'Master List'!A:B,2,FALSE)","v":"D2"},"1999-01-08",null,null,null,"2,4-Diaminotoluene","95-80-7",1.3299999999999999E-2,4.8399999999999999E-2,0.111,null,null,null,"1999-04-01"]
[{"$f":"VLOOKUP(G61,'Master List'!A:B,2,FALSE)","v":"D3"},"1998-09-08",null,null,null,"1,2-Dibromo-3-Chloropropane (Dbcp)","96-12-8",7.5900000000000004E-3,2.7699999999999999E-2,6.3500000000000001E-2,null,null,null,"4/99[1/92]"]
[{"$f":"VLOOKUP(G62,'Master List'!A:B,2,FALSE)","v":"D4"},"1998-09-08","2001-06-15","2015-07-05",null,"P-Dichlorobenzene","106-46-7",1.33,4.84,11.1,null,null,null,"4/99[1/91]","2001-01-01"]
[{"$f":"VLOOKUP(G63,'Master List'!A:B,2,FALSE)","v":"D5"},"1990-12-07",null,null,null,"3,3-Dichlorobenzidine","91-94-1",4.4299999999999999E-2,0.161,0.37,null,null,null,"4/99[1/91]"]
[{"$f":"VLOOKUP(G64,'Master List'!A:B,2,FALSE)","v":"D6"},"1999-01-08",null,null,null,"1,1,-Dichloroethane  (Ethylidene Dichloride)","75-34-3",9.32,34,77.900000000000006,null,null,null,"1999-04-01"]
[{"$f":"VLOOKUP(G65,'Master List'!A:B,2,FALSE)","v":"D7"},"1998-09-08",null,null,null,"Di(2-Ethylhexyl)Phthalate (Dehp)","117-81-7",1.21,4.41,10.1,null,null,null,"4/99[1/92]"]
[{"$f":"VLOOKUP(G66,'Master List'!A:B,2,FALSE)","v":"D8"},null,"2002-05-03","2015-07-05",null,"Diethanolamine","111-42-2",115,349,712,null,null,null,null,"2001-12-01"]
[{"$f":"VLOOKUP(G67,'Master List'!A:B,2,FALSE)","v":"D9"},"1999-01-08",null,null,null,"P-Dimethylaminoazo benzene","60-11-7",1.1599999999999999E-2,4.2099999999999999E-2,9.6600000000000005E-2,null,null,null,"1999-04-01"]
[{"$f":"VLOOKUP(G68,'Master List'!A:B,2,FALSE)","v":"D10"},null,"2001-06-15","2015-07-05",null,"N,N-Dimethyl Formamide","68-12-2",2880,10500,24100,null,null,null,null,"2001-01-01"]
[{"$f":"VLOOKUP(G69,'Master List'!A:B,2,FALSE)","v":"D11"},"1990-12-07",null,null,null,"2,4-Dinitrotoluene","121-14-2",0.17100000000000001,0.624,1.43,null,null,null,"1999-04-01"]
[{"$f":"VLOOKUP(G70,'Master List'!A:B,2,FALSE)","v":"D12"},"1990-12-07","2000-08-20","2015-07-05","1999-08-13","1,4-Dioxane  (1,4-Diethylene Dioxide)","123-91-1",1.97,7.17,16.5,0.66300000000000003,1.65,4.1399999999999997,"4/99[1/91]","2000-04-01",null,"1999-04-01"]
[{"$f":"VLOOKUP(G71,'Master List'!A:B,2,FALSE)","v":"H8"},"1990-12-07",null,null,null,"1,2-Diphenylhydrazine {Hydrazobenzene}","122-66-7",6.4699999999999994E-2,0.19600000000000001,0.40100000000000002,null,null,null,"1988-01-01"]
[{"$f":"VLOOKUP(G72,'Master List'!A:B,2,FALSE)","v":"E1"},"1990-12-07","2001-06-15","2015-07-05","1999-08-13","Epichlorohydrin (1-Chloro-2,3-Epoxypropane)","106-89-8",0.66400000000000003,2.42,5.55,0.28699999999999998,0.71599999999999997,1.79,"4/99[1/92]","2001-01-01",null,"1999-04-01"]
[{"$f":"VLOOKUP(G73,'Master List'!A:B,2,FALSE)","v":"E2"},null,"2001-06-15",null,null,"1,2-Epoxybutane","106-88-7",720,2620,6020,null,null,null,null,"2001-01-01"]
[{"$f":"VLOOKUP(G74,'Master List'!A:B,2,FALSE)","v":"E3"},"2009-06-05","2000-08-18","2015-07-05",null,"Ethyl Benzene","100-41-4",6.11,22.2,51.1,null,null,null,"2007-11-07","2000-02-01"]
[{"$f":"VLOOKUP(G75,'Master List'!A:B,2,FALSE)","v":"E4"},null,"2000-08-18","2015-07-05",null,"Ethyl Chloride  (Chloroethane)","75-00-3",1080000,3930000,9030000,null,null,null,null,"2000-04-01"]
[{"$f":"VLOOKUP(G76,'Master List'!A:B,2,FALSE)","v":"E5"},"1990-06-01","2002-05-03","2015-07-05",null,"Ethylene Dibromide (1,2-Dibromoethane)","106-93-4",0.21299999999999999,0.77400000000000002,1.78,null,null,null,"1985-07-01","2001-12-01"]
[{"$f":"VLOOKUP(G77,'Master List'!A:B,2,FALSE)","v":"E6"},"1990-06-01","2001-06-15","2015-07-05",null,"Ethylene Dichloride (1,2-Dichloroethane)  ","107-06-2",0.73799999999999999,2.69,6.17,null,null,null,"1985-09-01","2001-01-01"]
[{"$f":"VLOOKUP(G78,'Master List'!A:B,2,FALSE)","v":"E7"},null,"2000-08-18","2015-07-05",null,"Ethylene Glycol","107-21-1",14400,52400,120000,null,null,null,null,"2000-04-01"]
[{"$f":"VLOOKUP(G79,'Master List'!A:B,2,FALSE)","v":"E8"},"1990-06-01","2001-06-15","2015-07-05",null,"Ethylene Oxide (1,2-Epoxyethane)  ","75-21-8",0.17100000000000001,0.624,1.43,null,null,null,"1987-11-01","2001-01-01"]
[{"$f":"VLOOKUP(G80,'Master List'!A:B,2,FALSE)","v":"E9"},"1999-01-08",null,null,null,"Ethylene Thiourea","96-45-7",1.18,4.3,9.8699999999999992,null,null,null,"1999-04-01"]
[{"$f":"VLOOKUP(G81,'Master List'!A:B,2,FALSE)","v":"F1"},null,"2010-09-10","2015-07-05",null,"Flourides",1101,82.1,299,686,5.2999999999999999E-2,0.13200000000000001,0.33100000000000002,null,"2003-08-14",null,"1999-04-01"]
[{"$f":"VLOOKUP(G82,'Master List'!A:B,2,FALSE)","v":"H11"},null,"2010-09-10","2015-07-05","1999-08-13","Hydrogen Fluoride  (Hydrofluoric Acid)","7664-39-3",83.1,303,695,5.2999999999999999E-2,0.13200000000000001,0.33100000000000002,null,"2003-08-14",null,"1999-04-01"]
[{"$f":"VLOOKUP(G83,'Master List'!A:B,2,FALSE)","v":"F2"},"1990-12-07","2000-08-18","2015-07-05","1999-08-13","Formaldehyde","50-00-0",2.5299999999999998,9.2200000000000006,21.2,1.21E-2,3.0300000000000001E-2,7.5899999999999995E-2,"1992-03-01","2008-12-19","2008-12-19","2008-12-19"]
[{"$f":"VLOOKUP(G84,'Master List'!A:B,2,FALSE)","v":"G1"},null,"2001-06-15","2015-07-05",null,"Glutaraldehyde","111-30-8",2.88,10.5,24.1,null,null,null,null,"2001-01-01"]
[{"$f":"VLOOKUP(G85,'Master List'!A:B,2,FALSE)","v":"E14"},null,null,null,"1999-08-13","Ethylene Glycol Butyl Ether (EGBE)","111-76-2",null,null,null,3.09,7.71,19.3,null,null,null,"1999-04-01"]
[{"$f":"VLOOKUP(G86,'Master List'!A:B,2,FALSE)","v":"E15"},null,"2000-08-18","2015-07-05","1999-02-10","Ethylene Glycol Ethyl Ether (EGEE)","110-80-5",2520,9180,21100,8.1699999999999995E-2,0.20399999999999999,0.51100000000000001,null,"2000-02-01",null,"4/99[1/92]"]
[{"$f":"VLOOKUP(G87,'Master List'!A:B,2,FALSE)","v":"E16"},null,"2000-08-18","2015-07-05","1999-08-13","Ethylene Glycol Ethyl Ether Acetate (EGEEA)","111-15-9",10800,39300,90300,3.09E-2,7.7100000000000002E-2,0.193,null,"2000-02-01",null,"1999-04-01"]
[{"$f":"VLOOKUP(G88,'Master List'!A:B,2,FALSE)","v":"E17"},null,"2000-08-18","2015-07-05","1999-08-13","Ethylene Glycol Methyl Ether (EGME)","109-86-4",2160,7870,18100,2.0500000000000001E-2,5.1200000000000002E-2,0.128,null,"2000-02-01",null,"1999-04-01"]
[{"$f":"VLOOKUP(G89,'Master List'!A:B,2,FALSE)","v":"E18"},null,"2000-08-18","2015-07-05",null,"Ethylene Glycol Methyl Ether Acetate (EGMEA)","110-49-6",3240,11800,27100,null,null,null,null,"2000-02-01"]
[{"$f":"VLOOKUP(G90,'Master List'!A:B,2,FALSE)","v":"H1"},"1990-12-07",null,null,null,"Hexachlorobenzene","118-74-1",2.9499999999999998E-2,0.108,0.247,null,null,null,"4/99[1/91]"]
[{"$f":"VLOOKUP(G91,'Master List'!A:B,2,FALSE)","v":"H2"},"1990-12-07",null,null,null,"Hexachlorocyclohexanes","608-73-1",2.47E-3,8.9800000000000001E-3,2.06E-2,null,null,null,"4/99[1/91]"]
[{"$f":"VLOOKUP(G92,'Master List'!A:B,2,FALSE)","v":"H3"},"1998-09-08",null,null,null,"Alpha-Hexachlorocyclohexane","319-84-6",2.47E-3,8.9800000000000001E-3,2.06E-2,null,null,null,"4/99[1/91]"]
[{"$f":"VLOOKUP(G93,'Master List'!A:B,2,FALSE)","v":"H4"},"1998-09-08",null,null,null,"Beta- Hexachlorocyclohexane","319-85-7",2.47E-3,8.9800000000000001E-3,2.06E-2,null,null,null,"4/99[1/91]"]
[{"$f":"VLOOKUP(G94,'Master List'!A:B,2,FALSE)","v":"H5"},"1998-09-08","2000-08-18","2015-07-05",null,"Gamma-Hexachlorocyclohexane (Lindane)","58-89-9",8.9700000000000005E-3,3.27E-2,7.4999999999999997E-2,null,null,null,"1999-04-01"]
[{"$f":"VLOOKUP(G95,'Master List'!A:B,2,FALSE)","v":"H6"},null,"2000-08-18","2015-07-05",null,"N-Hexane","110-54-3",252000,918000,2110000,null,null,null,null,"2000-04-01"]
[{"$f":"VLOOKUP(G96,'Master List'!A:B,2,FALSE)","v":"H7"},"1998-09-08","2001-06-15","2015-07-05","1999-08-13","Hydrazine","302-01-2",3.13E-3,1.14E-2,2.6100000000000002E-2,null,null,null,"4/99[7/90]","2001-01-01"]
[{"$f":"VLOOKUP(G97,'Master List'!A:B,2,FALSE)","v":"H9"},null,"2000-08-18","2015-07-05","1999-08-13","Hydrochloric Acid  (Hydrogen Chloride)","7647-01-0",324,1180,2710,0.46400000000000002,1.1599999999999999,2.9,null,"2000-02-01",null,"1999-04-01"]
[{"$f":"VLOOKUP(G98,'Master List'!A:B,2,FALSE)","v":"H10"},null,null,null,null,"Hydrogen Bromide","10035-10-6"]
[{"$f":"VLOOKUP(G99,'Master List'!A:B,2,FALSE)","v":"H12"},null,"2000-08-18","2000-08-18","1999-02-10","Hydrogen Sulfide","7783-06-4",360,1310,3010,9.2800000000000001E-3,2.3099999999999999E-2,5.8000000000000003E-2,null,"2000-04-01",null,"4/99[7/90]"]
[{"$f":"VLOOKUP(G100,'Master List'!A:B,2,FALSE)","v":"I1"},null,"2002-05-03","2015-07-05",null,"Isophorone","78-59-1",72000,262000,602000,null,null,null,null,"2001-12-01"]
[{"$f":"VLOOKUP(G101,'Master List'!A:B,2,FALSE)","v":"I2"},null,"2000-08-18","2015-07-05","1999-08-13","Isopropyl Alcohol  (Isopropanol)","67-63-0",252000,918000,2110000,0.70699999999999996,1.76,4.42,null,"2000-02-01",null,"1999-04-01"]
[{"$f":"VLOOKUP(G102,'Master List'!A:B,2,FALSE)","v":"L1"},"1998-09-08",null,null,null,"Lead And Compounds  (Inorganic)","7439-92-1",0.111,0.40400000000000003,0.92700000000000005,null,null,null,"1997-04-01"]
[{"$f":"VLOOKUP(G103,'Master List'!A:B,2,FALSE)","v":"L2"},"1998-09-08",null,null,null,"Lead Acetate","301-04-2",0.17399999999999999,0.63400000000000001,1.45,null,null,null,"1997-04-01"]
[{"$f":"VLOOKUP(G104,'Master List'!A:B,2,FALSE)","v":"L3"},"1998-09-08",null,null,null,"Lead Phosphate","7446-27-7",0.14499999999999999,0.52700000000000002,1.21,null,null,null,"1997-04-01"]
[{"$f":"VLOOKUP(G105,'Master List'!A:B,2,FALSE)","v":"L4"},"1998-09-08",null,null,null,"Lead Subacetate","1335-32-6",0.14399999999999999,0.52500000000000002,1.2,null,null,null,"1997-04-01"]
[{"$f":"VLOOKUP(G106,'Master List'!A:B,2,FALSE)","v":"M1"},null,"2002-05-03","2015-07-05",null,"Maleic Anhydride","108-31-6",25.2,91.8,211,null,null,null,null,"2001-12-01"]
[{"$f":"VLOOKUP(G107,'Master List'!A:B,2,FALSE)","v":"M2"},null,"2000-08-18","2015-07-05",null,"Manganese And Compounds","7439-96-5",1.46,5.31,12.2,null,null,null,null,"2008-12-19","2008-12-19"]
[{"$f":"VLOOKUP(G108,'Master List'!A:B,2,FALSE)","v":"M3"},null,"2000-08-18","2015-07-05","1999-08-13","Mercury And Compounds (Inorganic)","7439-97-6",0.28000000000000003,1.02,2.34,1.3300000000000001E-4,3.3E-4,8.2799999999999996E-4,null,"2008-12-19","2008-12-19","2008-12-19"]
[{"$f":"VLOOKUP(G109,'Master List'!A:B,2,FALSE)","v":"M4"},null,"2000-08-18","2015-07-05","1999-08-13","Mercuric Chloride","7487-94-7",0.28000000000000003,1.02,2.34,1.3300000000000001E-4,3.3E-4,8.2799999999999996E-4,null,"2008-12-19","2008-12-19","2008-12-19"]
[{"$f":"VLOOKUP(G110,'Master List'!A:B,2,FALSE)","v":"M5"},null,"2000-08-18","2015-07-05","1999-08-13","Methanol","67-56-1",144000,524000,1200000,6.18,15.4,38.6,null,"2000-04-01",null,"1999-04-01"]
[{"$f":"VLOOKUP(G111,'Master List'!A:B,2,FALSE)","v":"M6"},null,"2000-08-18","2015-07-05","1999-08-13","Methyl Bromide  (Bromomethane)","74-83-9",180,656,1500,0.86099999999999999,2.15,5.38,null,"2000-02-01",null,"1999-04-01"]
[{"$f":"VLOOKUP(G112,'Master List'!A:B,2,FALSE)","v":"M7"},"2003-05-02","2000-08-18","2015-07-05",null,"Methyl Tertiary-Butyl Ether","1634-04-4",29.5,108,247,null,null,null,"1999-11-01","2000-02-01"]
[{"$f":"VLOOKUP(G113,'Master List'!A:B,2,FALSE)","v":"M8"},null,"2000-08-18","2015-07-05","1999-08-13","Methyl Chloroform  (1,1,1-Trichloroethane)","71-55-6",36000,131000,301000,15,37.4,93.8,null,"2000-02-01",null,"1999-04-01"]
[{"$f":"VLOOKUP(G114,'Master List'!A:B,2,FALSE)","v":"M9"},null,null,null,"1999-08-13","Methyl Ethyl Ketone (2-Butanone)","78-93-3",null,null,null,2.87,7.16,17.899999999999999,null,null,null,"1999-04-01"]
[{"$f":"VLOOKUP(G115,'Master List'!A:B,2,FALSE)","v":"M10"},null,"2002-05-03","2015-07-05",null,"Methyl Isocyanate","624-83-9",36,131,301,null,null,null,null,"2001-12-01"]
[{"$f":"VLOOKUP(G116,'Master List'!A:B,2,FALSE)","v":"M11"},null,"2000-08-18",null,null,"Methyl Mercury","593-74-8"]
[{"$f":"VLOOKUP(G117,'Master List'!A:B,2,FALSE)","v":"M12"},"1999-01-08",null,null,null,"4,4'-Methylene Bis (2-Chloroaniline) (MOCA)","101-14-4",3.5400000000000001E-2,0.129,0.29599999999999999,null,null,null,"1999-04-01"]
[{"$f":"VLOOKUP(G118,'Master List'!A:B,2,FALSE)","v":"M13"},"1990-06-01","2000-08-18","2015-07-05","1999-08-13","Methylene Chloride  (Dichloromethane)","75-09-2",15.2,55.3,127,3.09,7.71,19.3,"1989-07-01","2000-02-01",null,"1999-04-01"]
[{"$f":"VLOOKUP(G119,'Master List'!A:B,2,FALSE)","v":"M14"},"1998-09-08","2002-05-03","2015-07-05",null,"4,4'-Methylene Dianiline (And Its Dichloride)","101-77-9",4.5999999999999999E-3,1.6799999999999999E-2,3.85E-2,null,null,null,"1999-04-01","2001-12-01"]
[{"$f":"VLOOKUP(G120,'Master List'!A:B,2,FALSE)","v":"M15"},null,"2001-06-15","2015-07-05","2017-09-01","Methylene Diphenyl Diisocyanate ","101-68-8",25.2,91.8,211,null,null,null,null,"2017-09-01","2017-09-01","2017-09-01"]
[{"$f":"VLOOKUP(G121,'Master List'!A:B,2,FALSE)","v":"M16"},"1999-01-08",null,null,null,"Michler's Ketone   (4,4’-Bis(Dimethylamino) Benzophenone)","90-94-8",6.1800000000000001E-2,0.22500000000000001,0.51700000000000002,null,null,null,"1999-04-01"]
[{"$f":"VLOOKUP(G122,'Master List'!A:B,2,FALSE)","v":"N1"},"1990-12-07",null,null,null,"N-Nitrosodi-N-Butylamine","924-16-3",4.8300000000000001E-3,1.7600000000000001E-2,4.0399999999999998E-2,null,null,null,"4/99[1/92]"]
[{"$f":"VLOOKUP(G123,'Master List'!A:B,2,FALSE)","v":"N2"},"1998-09-08",null,null,null,"N-Nitrosodi-N-Propylamine","621-64-7",7.5900000000000004E-3,2.7699999999999999E-2,6.3500000000000001E-2,null,null,null,"4/99[1/91]"]
[{"$f":"VLOOKUP(G124,'Master List'!A:B,2,FALSE)","v":"N3"},"1990-12-07",null,null,null,"N-Nitrosodiethylamine","55-18-5",1.48E-3,5.3800000000000002E-3,1.23E-2,null,null,null,"4/99[1/91]"]
[{"$f":"VLOOKUP(G125,'Master List'!A:B,2,FALSE)","v":"N4"},"1990-12-07",null,null,null,"N-Nitrosodimethylamine","62-75-9",3.32E-3,1.21E-2,2.7799999999999998E-2,null,null,null,"4/99[1/91]"]
[{"$f":"VLOOKUP(G126,'Master List'!A:B,2,FALSE)","v":"N5"},"1990-12-07",null,null,null,"N-Nitrosodiphenylamine","86-30-6",5.91,21.5,49.4,null,null,null,"1999-04-01"]
[{"$f":"VLOOKUP(G127,'Master List'!A:B,2,FALSE)","v":"N6"},"1990-12-07",null,null,null,"Nitroso-n-ethylurea, n- (ENU; N-​Ethyl-​N-​nitrosourea)","759-73-9",1.97E-3,7.1700000000000002E-3,1.6500000000000001E-2,null,null,null,"1987-10-01"]
[{"$f":"VLOOKUP(G128,'Master List'!A:B,2,FALSE)","v":"N7"},"1998-09-08",null,null,null,"N-Nitroso-N-Methylethylamine","10595-95-6",2.4199999999999998E-3,8.8000000000000005E-3,2.0199999999999999E-2,null,null,null,"4/99[7/90]"]
[{"$f":"VLOOKUP(G129,'Master List'!A:B,2,FALSE)","v":"N8"},"1990-12-07",null,null,null,"Nitroso-n-methylurea, n- (MNU; N-​Methyl-​N-​nitrosourea)","684-93-5",4.4700000000000002E-4,1.6299999999999999E-3,3.7299999999999998E-3,null,null,null,"1987-10-01"]
[{"$f":"VLOOKUP(G130,'Master List'!A:B,2,FALSE)","v":"N9"},"1999-01-08",null,null,null,"N-Nitrosomorpholine","59-89-2",7.9299999999999995E-3,2.8899999999999999E-2,6.6299999999999998E-2,null,null,null,"4/99[7/92]"]
[{"$f":"VLOOKUP(G131,'Master List'!A:B,2,FALSE)","v":"N10"},"1999-01-08",null,null,null,"N-Nitrosopiperidine","100-75-4",5.6499999999999996E-3,2.06E-2,4.7300000000000002E-2,null,null,null,"4/99[7/92]"]
[{"$f":"VLOOKUP(G132,'Master List'!A:B,2,FALSE)","v":"N11"},"1990-12-07",null,null,null,"N-Nitrosopyrrolidine","930-55-2",2.53E-2,9.2200000000000004E-2,0.21199999999999999,null,null,null,"4/99[7/90]"]
[{"$f":"VLOOKUP(G133,'Master List'!A:B,2,FALSE)","v":"N12"},"1999-03-12","2000-08-18","2015-07-05","1999-08-13","Nickel And Compounds","7440-02-0",5.8400000000000001E-2,0.21299999999999999,0.48799999999999999,4.4199999999999997E-5,1.1E-4,2.7599999999999999E-4,"1991-08-01","2012-03-23","2012-03-23","2012-03-23"]
[{"$f":"VLOOKUP(G134,'Master List'!A:B,2,FALSE)","v":"N13"},"1999-03-12","2000-08-18","2015-07-05","1999-08-13","Nickel Acetate","373-02-4",0.17599999999999999,0.64,1.47,1.3300000000000001E-4,3.3199999999999999E-4,8.3100000000000003E-4,"1991-08-01","2012-03-23","2012-03-23","2012-03-23"]
[{"$f":"VLOOKUP(G135,'Master List'!A:B,2,FALSE)","v":"N14"},"1999-03-12","2000-08-18","2015-07-05","1999-08-13","Nickel Carbonate","3333-67-3",0.11799999999999999,0.43,0.98699999999999999,8.9300000000000002E-5,2.23E-4,5.5800000000000001E-4,"1991-08-01","2012-03-23","2012-03-23","2012-03-23"]
[{"$f":"VLOOKUP(G136,'Master List'!A:B,2,FALSE)","v":"N15"},"1999-03-12","2000-08-18","2015-07-05","1999-08-13","Nickel Carbonyl","13463-39-3",0.17,0.61899999999999999,1.42,1.2799999999999999E-4,3.2000000000000003E-4,8.03E-4,"1991-08-01","2012-03-23","2012-03-23","2012-03-23"]
[{"$f":"VLOOKUP(G137,'Master List'!A:B,2,FALSE)","v":"N16"},"1999-03-12","2000-08-18","2015-07-05","1999-08-13","Nickel Hydroxide","12054-48-7",9.2200000000000004E-2,0.33600000000000002,0.77100000000000002,6.9800000000000003E-5,1.74E-4,4.3600000000000003E-4,"1991-08-01","2012-03-23","2012-03-23","2012-03-23"]
[{"$f":"VLOOKUP(G138,'Master List'!A:B,2,FALSE)","v":"N17"},"1999-03-12","2000-08-18","2015-07-05","1999-08-13","Nickelocene","1271-28-9",0.11799999999999999,0.43099999999999999,0.98899999999999999,8.9499999999999994E-5,2.23E-4,5.5900000000000004E-4,"1991-08-01","2012-03-23","2012-03-23","2012-03-23"]
[{"$f":"VLOOKUP(G139,'Master List'!A:B,2,FALSE)","v":"N18"},"1999-03-12","2000-08-18","2015-07-05","1999-08-13","Nickel Oxide","1313-99-1",7.4300000000000005E-2,0.27100000000000002,0.621,5.6199999999999997E-5,1.3999999999999999E-4,3.5100000000000002E-4,"1991-08-01","2012-03-23","2012-03-23","2012-03-23"]
[{"$f":"VLOOKUP(G140,'Master List'!A:B,2,FALSE)","v":"N19"},"1990-12-07","2000-08-18","2015-07-05","1999-08-13","Nickel Refinery Dust From The Pyrometallurgical Process",1146,5.8400000000000001E-2,0.21299999999999999,0.48799999999999999,4.4199999999999997E-5,1.1E-4,2.7599999999999999E-4,"1991-08-01","2012-03-23","2012-03-23","2012-03-23"]
[{"$f":"VLOOKUP(G141,'Master List'!A:B,2,FALSE)","v":"N20"},"1990-12-07","2000-08-18","2015-07-05","1999-08-13","Nickel Subsulfide","12035-72-2",0.23899999999999999,0.871,2,1.8100000000000001E-4,4.5100000000000001E-4,1.1299999999999999E-3,"1991-08-01","2012-03-23","2012-03-23","2012-03-23"]
[{"$f":"VLOOKUP(G142,'Master List'!A:B,2,FALSE)","v":"N21"},null,null,null,"1999-08-13","Nitric Acid","7697-37-2",null,null,null,1.9E-2,4.7399999999999998E-2,0.11899999999999999,null,null,null,"1999-04-01"]
[{"$f":"VLOOKUP(G143,'Master List'!A:B,2,FALSE)","v":"N23"},"1998-09-08",null,null,null,"P-Nitrosodiphenylamine","156-10-5",2.42,8.8000000000000007,20.2,null,null,null,"1999-04-01"]
[{"$f":"VLOOKUP(G144,'Master List'!A:B,2,FALSE)","v":"P1"},"2008-03-07","2008-03-07","2015-07-05",null,"Particulate Emissions From Diesel-Fueled Engines",9901,4.8300000000000003E-2,0.17599999999999999,0.40400000000000003,null,null,null,"1998-08-01","1998-08-01"]
[{"$f":"VLOOKUP(G145,'Master List'!A:B,2,FALSE)","v":"P2"},"1998-09-08","1998-09-08","2015-07-05","1999-08-13","Perchloroethylene  (Tetrachloroethylene)","127-18-4",2.5299999999999998,9.2200000000000006,21.2,4.42,11,27.6,"1991-10-01","1991-10-01",null,"1999-04-01"]
[{"$f":"VLOOKUP(G146,'Master List'!A:B,2,FALSE)","v":"P3"},null,"2000-08-18","2015-07-05","1999-08-13","Phenol","108-95-2",7200,26200,60200,1.28,3.19,8,null,"2000-04-01",null,"1999-04-01"]
[{"$f":"VLOOKUP(G147,'Master List'!A:B,2,FALSE)","v":"P4"},null,null,null,"1999-08-13","Phosgene","75-44-5",null,null,null,8.83E-4,2.2000000000000001E-3,5.5199999999999997E-3,null,null,null,"1999-04-01"]
[{"$f":"VLOOKUP(G148,'Master List'!A:B,2,FALSE)","v":"P5"},null,"2003-02-07","2015-07-05",null,"Phosphine","7803-51-2",28.8,105,241,null,null,null,null,"2002-09-03"]
[{"$f":"VLOOKUP(G149,'Master List'!A:B,2,FALSE)","v":"P6"},null,"2000-08-18","2015-07-05",null,"Phosphoric Acid","7664-38-2",252,918,2110,null,null,null,null,"2000-02-01"]
[{"$f":"VLOOKUP(G150,'Master List'!A:B,2,FALSE)","v":"P7"},null,"2001-06-15","2015-07-05",null,"Phthalic Anhydride","85-44-9",720,2620,6020,null,null,null,null,"2001-01-01"]
[{"$f":"VLOOKUP(G151,'Master List'!A:B,2,FALSE)","v":"P8"},"1990-12-07",null,null,null,"PCB (Polychlorinated Biphenyls) (Unspeciated Mixture) [Lowest Risk]","1336-36-3",4.0099999999999997E-2,0.14599999999999999,0.33500000000000002,null,null,null,"1999-04-01"]
[{"$f":"VLOOKUP(G152,'Master List'!A:B,2,FALSE)","v":"P8"},"1990-12-07",null,null,null,"PCB (Polychlorinated Biphenyls)  (Unspeciated Mixture)  [Low Risk]","1336-36-3",7.0200000000000002E-3,2.5499999999999998E-2,5.8700000000000002E-2,null,null,null,"1999-04-01"]
[{"$f":"VLOOKUP(G153,'Master List'!A:B,2,FALSE)","v":"P8"},"1990-12-07",null,null,null,"PCB (Polychlorinated Biphenyls)  (Unspeciated Mixture)  [High Risk]","1336-36-3",1.4E-3,5.11E-3,1.17E-2,null,null,null,"1999-04-01"]
[{"$f":"VLOOKUP(G154,'Master List'!A:B,2,FALSE)","v":"P9"},"2005-03-04","2005-03-04","2015-07-05",null,"3,3',4,4'-Tetrachlorobiphenyl  (PCB 77)","32598-13-3",1.4799999999999999E-4,5.4000000000000001E-4,1.24E-3,null,null,null,"2003-08-29","2003-08-29"]
[{"$f":"VLOOKUP(G155,'Master List'!A:B,2,FALSE)","v":"P10"},"2005-03-04","2005-03-04","2015-07-05",null,"3,4,4',5-Tetrachlorobiphenyl  (PCB 81)","70362-50-4",4.9400000000000001E-5,1.8000000000000001E-4,4.1300000000000001E-4,null,null,null,"2011-01-31","2011-01-31"]
[{"$f":"VLOOKUP(G156,'Master List'!A:B,2,FALSE)","v":"P11"},"2005-03-04","2005-03-04","2015-07-05",null,"2,3,3',4,4'-Pentachlorobiphenyl  (PCB 105)","32598-14-4",4.9399999999999997E-4,1.8E-3,4.13E-3,null,null,null,"2011-01-31","2011-01-31"]
[{"$f":"VLOOKUP(G157,'Master List'!A:B,2,FALSE)","v":"P12"},"2005-03-04","2005-03-04","2015-07-05",null,"2,3,4,4',5-Pentachlorobiphenyl  (PCB 114)","74472-37-0",4.9399999999999997E-4,1.8E-3,4.13E-3,null,null,null,"2011-01-31","2011-01-31"]
[{"$f":"VLOOKUP(G158,'Master List'!A:B,2,FALSE)","v":"P13"},"2005-03-04","2005-03-04","2015-07-05",null,"2,3',4,4',5-Pentachlorobiphenyl  (PCB 118)","31508-00-6",4.9399999999999997E-4,1.8E-3,4.13E-3,null,null,null,"2011-01-31","2011-01-31"]
[{"$f":"VLOOKUP(G159,'Master List'!A:B,2,FALSE)","v":"P14"},"2005-03-04","2005-03-04","2015-07-05",null,"2,3',4,4',5'-Pentachlorobiphenyl  (PCB 123)","65510-44-3",4.9399999999999997E-4,1.8E-3,4.13E-3,null,null,null,"2011-01-31","2011-01-31"]
[{"$f":"VLOOKUP(G160,'Master List'!A:B,2,FALSE)","v":"P15"},"2005-03-04","2005-03-04","2015-07-05",null,"3,3',4,4',5-Pentachlorobiphenyl  (PCB 126)","57465-28-8",1.48E-7,5.4000000000000002E-7,1.24E-6,null,null,null,"2003-08-29","2003-08-29"]
[{"$f":"VLOOKUP(G161,'Master List'!A:B,2,FALSE)","v":"P16"},"2005-03-04","2005-03-04","2015-07-05",null,"2,3,3',4,4',5-Hexachlorobiphenyl  (PCB 156)","38380-08-4",4.9399999999999997E-4,1.8E-3,4.13E-3,null,null,null,"2011-01-31","2011-01-31"]
[{"$f":"VLOOKUP(G162,'Master List'!A:B,2,FALSE)","v":"P17"},"2005-03-04","2005-03-04","2015-07-05",null,"2,3,3',4,4',5'-Hexachlorobiphenyl  (PCB 157)","69782-90-7",4.9399999999999997E-4,1.8E-3,4.13E-3,null,null,null,"2011-01-31","2011-01-31"]
[{"$f":"VLOOKUP(G163,'Master List'!A:B,2,FALSE)","v":"P18"},"2005-03-04","2005-03-04","2015-07-05",null,"2,3',4,4',5,5'-Hexachlorobiphenyl  (PCB 167)","52663-72-6",4.9399999999999997E-4,1.8E-3,4.13E-3,null,null,null,"2011-01-31","2011-01-31"]
[{"$f":"VLOOKUP(G164,'Master List'!A:B,2,FALSE)","v":"P19"},"2005-03-04","2005-03-04","2015-07-05",null,"3,3',4,4',5,5'-Hexachlorobiphenyl  (PCB 169)","32774-16-6",4.9399999999999995E-7,1.7999999999999999E-6,4.1300000000000003E-6,null,null,null,"2011-01-31","2011-01-31"]
[{"$f":"VLOOKUP(G165,'Master List'!A:B,2,FALSE)","v":"P20"},"2005-03-04","2005-03-04","2015-07-05",null,"2,3,3',4,4',5,5'-Heptachlorobiphenyl  (PCB 189)","39635-31-9",4.9399999999999997E-4,1.8E-3,4.13E-3,null,null,null,"2011-01-31","2011-01-31"]
[{"$f":"VLOOKUP(G166,'Master List'!A:B,2,FALSE)","v":"P22"},"1990-06-01","2000-08-18","2015-07-05",null,"Polychlorinated Dibenzo-P-Dioxins  (PCDD) ",1086,1.59E-8,5.7900000000000002E-8,1.3300000000000001E-7,null,null,null,"1986-08-01","2000-02-01"]
[{"$f":"VLOOKUP(G167,'Master List'!A:B,2,FALSE)","v":"P23"},"1990-06-01","2000-08-18","2015-07-05",null,"2,3,7,8-Tetrachlorodibenzo-P-Dioxin","1746-01-6",1.59E-8,5.7900000000000002E-8,1.3300000000000001E-7,null,null,null,"1986-08-01","2000-02-01"]
[{"$f":"VLOOKUP(G168,'Master List'!A:B,2,FALSE)","v":"P24"},"1990-06-01","2000-08-18","2015-07-05",null,"1,2,3,7,8-Pentachlorodibenzo-P-Dioxin","40321-76-4",1.59E-8,5.7900000000000002E-8,1.3300000000000001E-7,null,null,null,"2003-08-01","2003-08-01"]
[{"$f":"VLOOKUP(G169,'Master List'!A:B,2,FALSE)","v":"P25"},"1990-06-01","2000-08-18","2015-07-05",null,"1,2,3,4,7,8-Hexachlorodibenzo-P-Dioxin","39227-28-6",1.5900000000000001E-7,5.7899999999999998E-7,1.33E-6,null,null,null,"1999-04-01","2000-02-01"]
[{"$f":"VLOOKUP(G170,'Master List'!A:B,2,FALSE)","v":"P26"},"1990-06-01","2000-08-18","2015-07-05",null,"1,2,3,6,7,8-Hexachlorodibenzo-P-Dioxin","57653-85-7",1.5900000000000001E-7,5.7899999999999998E-7,1.33E-6,null,null,null,"1999-04-01","2000-02-01"]
[{"$f":"VLOOKUP(G171,'Master List'!A:B,2,FALSE)","v":"P27"},"1990-06-01","2000-08-18","2015-07-05",null,"1,2,3,7,8,9-Hexachlorodibenzo-P-Dioxin","19408-74-3",1.5900000000000001E-7,5.7899999999999998E-7,1.33E-6,null,null,null,"1999-04-01","2000-02-01"]
[{"$f":"VLOOKUP(G172,'Master List'!A:B,2,FALSE)","v":"P28"},"1990-06-01","2000-08-18","2015-07-05",null,"1,2,3,4,6,7,8-Heptachlorodibenzo-P-Dioxin","35822-46-9",1.59E-6,5.7899999999999996E-6,1.33E-5,null,null,null,"1999-04-01","2000-02-01"]
[{"$f":"VLOOKUP(G173,'Master List'!A:B,2,FALSE)","v":"P29"},"1990-06-01","2000-08-18","2015-07-05",null,"1,2,3,4,6,7,8,9-Octachlorodibenzo-P-Dioxin","3268-87-9",5.3000000000000001E-5,1.93E-4,4.4299999999999998E-4,null,null,null,"2011-01-31","2011-01-31"]
[{"$f":"VLOOKUP(G174,'Master List'!A:B,2,FALSE)","v":"P30"},"1990-06-01","2000-08-18","2015-07-05",null,"Polychlorinated Dibenzofurans  (PCDF)",1080,2.25E-8,8.1899999999999999E-8,1.8799999999999999E-7,null,null,null,"1986-08-01","2000-02-01"]
[{"$f":"VLOOKUP(G175,'Master List'!A:B,2,FALSE)","v":"P31"},"1990-06-01","2000-08-18","2015-07-05",null,"2,3,7,8-Tetrachlorodibenzofuran","51207-31-9",2.2499999999999999E-7,8.1900000000000001E-7,1.88E-6,null,null,null,"1999-04-01","2000-02-01"]
[{"$f":"VLOOKUP(G176,'Master List'!A:B,2,FALSE)","v":"P32"},"1990-06-01","2000-08-18","2015-07-05",null,"1,2,3,7,8-Pentachlorodibenzofuran","57117-41-6",7.4900000000000005E-7,2.7300000000000001E-6,6.2600000000000002E-6,null,null,null,"2011-01-31","2011-01-31"]
[{"$f":"VLOOKUP(G177,'Master List'!A:B,2,FALSE)","v":"P33"},"1990-06-01","2000-08-18","2015-07-05",null,"2,3,4,7,8-Pentachlorodibenzofuran","57117-31-4",7.4900000000000002E-8,2.7300000000000002E-7,6.2600000000000002E-7,null,null,null,"2011-01-31","2011-01-31"]
[{"$f":"VLOOKUP(G178,'Master List'!A:B,2,FALSE)","v":"P34"},"1990-06-01","2000-08-18","2015-07-05",null,"1,2,3,4,7,8-Hexachlorodibenzofuran","70648-26-9",2.2499999999999999E-7,8.1900000000000001E-7,1.88E-6,null,null,null,"1999-04-01","2000-02-01"]
[{"$f":"VLOOKUP(G179,'Master List'!A:B,2,FALSE)","v":"P35"},"1990-06-01","2000-08-18","2015-07-05",null,"1,2,3,6,7,8-Hexachlorodibenzofuran","57117-44-9",2.2499999999999999E-7,8.1900000000000001E-7,1.88E-6,null,null,null,"1999-04-01","2000-02-01"]
[{"$f":"VLOOKUP(G180,'Master List'!A:B,2,FALSE)","v":"P36"},"1990-06-01","2000-08-18","2015-07-05",null,"1,2,3,7,8,9-Hexachlorodibenzofuran","72918-21-9",2.2499999999999999E-7,8.1900000000000001E-7,1.88E-6,null,null,null,"1999-04-01","2000-02-01"]
[{"$f":"VLOOKUP(G181,'Master List'!A:B,2,FALSE)","v":"P37"},"1990-06-01","2000-08-18","2015-07-05",null,"2,3,4,6,7,8-Hexachlorodibenzofuran","60851-34-5",2.2499999999999999E-7,8.1900000000000001E-7,1.88E-6,null,null,null,"1999-04-01","2000-02-01"]
[{"$f":"VLOOKUP(G182,'Master List'!A:B,2,FALSE)","v":"P38"},"1990-06-01","2000-08-18","2015-07-05",null,"1,2,3,4,6,7,8-Heptachlorodibenzofuran","67562-39-4",2.2500000000000001E-6,8.1899999999999995E-6,1.88E-5,null,null,null,"1999-04-01","2000-02-01"]
[{"$f":"VLOOKUP(G183,'Master List'!A:B,2,FALSE)","v":"P39"},"1990-06-01","2000-08-18","2015-07-05",null,"1,2,3,4,7,8,9-Heptachlorodibenzofuran","55673-89-7",2.2500000000000001E-6,8.1899999999999995E-6,1.88E-5,null,null,null,"1999-04-01","2000-02-01"]
[{"$f":"VLOOKUP(G184,'Master List'!A:B,2,FALSE)","v":"P40"},"1990-06-01","2000-08-18","2015-07-05",null,"1,2,3,4,6,7,8,9-Octachlorodibenzofuran","39001-02-0",7.4900000000000005E-5,2.7300000000000002E-4,6.2600000000000004E-4,null,null,null,"2011-01-31","2011-01-31"]
[{"$f":"VLOOKUP(G185,'Master List'!A:B,2,FALSE)","v":"P41"},"1998-09-08",null,null,null,"Polycyclic Aromatic Hydrocarbon  (PAH)",1151,1.4500000000000001E-2,4.41E-2,0.09,null,null,null,"4/99[4/94]"]
[{"$f":"VLOOKUP(G186,'Master List'!A:B,2,FALSE)","v":"P42"},"1990-12-07",null,null,null,"Benz(A)Anthracene","56-55-3",5.8900000000000003E-3,2.1499999999999998E-2,4.9299999999999997E-2,null,null,null,"4/99[4/94]"]
[{"$f":"VLOOKUP(G187,'Master List'!A:B,2,FALSE)","v":"P43"},"1990-12-07",null,null,null,"Benzo(A)Pyrene","50-32-8",5.8900000000000001E-4,2.15E-3,4.9300000000000004E-3,null,null,null,"4/99[4/94]"]
[{"$f":"VLOOKUP(G188,'Master List'!A:B,2,FALSE)","v":"P44"},"1990-12-07",null,null,null,"Benzo(B)Fluoranthene","205-99-2",5.8900000000000003E-3,2.1499999999999998E-2,4.9299999999999997E-2,null,null,null,"4/99[4/94]"]
[{"$f":"VLOOKUP(G189,'Master List'!A:B,2,FALSE)","v":"P45"},"1999-01-08",null,null,null,"Benzo(J)Fluoranthene","205-82-3",5.8900000000000003E-3,2.1499999999999998E-2,4.9299999999999997E-2,null,null,null,"4/99[4/94]"]
[{"$f":"VLOOKUP(G190,'Master List'!A:B,2,FALSE)","v":"P46"},"1990-12-07",null,null,null,"Benzo(K)Fluoranthene","207-08-9",5.8900000000000003E-3,2.1499999999999998E-2,4.9299999999999997E-2,null,null,null,"4/99[4/94]"]
[{"$f":"VLOOKUP(G191,'Master List'!A:B,2,FALSE)","v":"P47"},"1990-12-07",null,null,null,"Chrysene","218-01-9",5.8900000000000001E-2,0.215,0.49299999999999999,null,null,null,"4/99[4/94]"]
[{"$f":"VLOOKUP(G192,'Master List'!A:B,2,FALSE)","v":"P48"},"1999-01-08",null,null,null,"Dibenz(A,H)Acridine","226-36-8",5.8900000000000003E-3,2.1499999999999998E-2,4.9299999999999997E-2,null,null,null,"4/99[4/94]"]
[{"$f":"VLOOKUP(G193,'Master List'!A:B,2,FALSE)","v":"P49"},"1990-12-07",null,null,null,"Dibenz(A,H)Anthracene","53-70-3",1.6199999999999999E-3,5.9100000000000003E-3,1.3599999999999999E-2,null,null,null,"4/99[4/94]"]
[{"$f":"VLOOKUP(G194,'Master List'!A:B,2,FALSE)","v":"P50"},"1999-01-08",null,null,null,"Dibenz(A,J)Acridine","224-42-0",5.8900000000000003E-3,2.1499999999999998E-2,4.9299999999999997E-2,null,null,null,"4/99[4/94]"]
[{"$f":"VLOOKUP(G195,'Master List'!A:B,2,FALSE)","v":"P51"},"1999-01-08",null,null,null,"Dibenzo(A,E)Pyrene","192-65-4",5.8900000000000001E-4,2.15E-3,4.9300000000000004E-3,null,null,null,"4/99[4/94]"]
[{"$f":"VLOOKUP(G196,'Master List'!A:B,2,FALSE)","v":"P52"},"1999-01-08",null,null,null,"Dibenzo(A,H)Pyrene","189-64-0",5.8900000000000002E-5,2.1499999999999999E-4,4.9299999999999995E-4,null,null,null,"4/99[4/94]"]
[{"$f":"VLOOKUP(G197,'Master List'!A:B,2,FALSE)","v":"P53"},"1999-01-08",null,null,null,"Dibenzo(A,I)Pyrene","189-55-9",5.8900000000000002E-5,2.1499999999999999E-4,4.9299999999999995E-4,null,null,null,"4/99[4/94]"]
[{"$f":"VLOOKUP(G198,'Master List'!A:B,2,FALSE)","v":"P54"},"1999-01-08",null,null,null,"Dibenzo(A,L)Pyrene","191-30-0",5.8900000000000002E-5,2.1499999999999999E-4,4.9299999999999995E-4,null,null,null,"4/99[4/94]"]
[{"$f":"VLOOKUP(G199,'Master List'!A:B,2,FALSE)","v":"P55"},"1999-01-08",null,null,null,"7H-Dibenzo(C,G)Carbazole","194-59-2",5.8900000000000001E-4,2.15E-3,4.9300000000000004E-3,null,null,null,"4/99[4/94]"]
[{"$f":"VLOOKUP(G200,'Master List'!A:B,2,FALSE)","v":"P56"},"1999-01-08",null,null,null,"7,12-Dimethylbenz(A) Anthracene","57-97-6",2.6599999999999999E-5,9.6899999999999997E-5,2.22E-4,null,null,null,"4/99[4/94]"]
[{"$f":"VLOOKUP(G201,'Master List'!A:B,2,FALSE)","v":"P57"},"1999-01-08",null,null,null,"1,6-Dinitropyrene","42397-64-8",5.8900000000000002E-5,2.1499999999999999E-4,4.9299999999999995E-4,null,null,null,"4/99[4/94]"]
[{"$f":"VLOOKUP(G202,'Master List'!A:B,2,FALSE)","v":"P58"},"1999-01-08",null,null,null,"1,8-Dinitropyrene","42397-65-9",5.8900000000000001E-4,2.15E-3,4.9300000000000004E-3,null,null,null,"4/99[4/94]"]
[{"$f":"VLOOKUP(G203,'Master List'!A:B,2,FALSE)","v":"P59"},"1990-12-07",null,null,null,"Indeno(1,2,3-C,D)Pyrene","193-39-5",5.8900000000000003E-3,2.1499999999999998E-2,4.9299999999999997E-2,null,null,null,"4/99[4/94]"]
[{"$f":"VLOOKUP(G204,'Master List'!A:B,2,FALSE)","v":"P60"},"1999-01-08",null,null,null,"3-Methylcholanthrene","56-49-5",3.0200000000000002E-4,1.1000000000000001E-3,2.5300000000000001E-3,null,null,null,"4/99[4/94]"]
[{"$f":"VLOOKUP(G205,'Master List'!A:B,2,FALSE)","v":"P61"},"1999-01-08",null,null,null,"5-Methylchrysene","3697-24-3",5.8900000000000001E-4,2.15E-3,4.9300000000000004E-3,null,null,null,"4/99[4/94]"]
[{"$f":"VLOOKUP(G206,'Master List'!A:B,2,FALSE)","v":"P62"},"2004-08-02","2000-08-18","2015-07-05",null,"Naphthalene","91-20-3",0.443,1.61,3.7,null,null,null,"2004-08-04","2000-04-01"]
[{"$f":"VLOOKUP(G207,'Master List'!A:B,2,FALSE)","v":"P63"},"1999-01-08",null,null,null,"5-Nitroacenaphthene","602-87-9",5.1200000000000002E-2,0.186,0.42799999999999999,null,null,null,"4/99[4/94]"]
[{"$f":"VLOOKUP(G208,'Master List'!A:B,2,FALSE)","v":"P64"},"1999-01-08",null,null,null,"6-Nitrochrysene","7496-02-8",5.8900000000000002E-5,2.1499999999999999E-4,4.9299999999999995E-4,null,null,null,"4/99[4/94]"]
[{"$f":"VLOOKUP(G209,'Master List'!A:B,2,FALSE)","v":"P65"},"1999-01-08",null,null,null,"2-Nitrofluorene","607-57-8",5.8900000000000001E-2,0.215,0.49299999999999999,null,null,null,"4/99[4/94]"]
[{"$f":"VLOOKUP(G210,'Master List'!A:B,2,FALSE)","v":"P66"},"1999-01-08",null,null,null,"1-Nitropyrene","5522-43-0",5.8900000000000003E-3,2.1499999999999998E-2,4.9299999999999997E-2,null,null,null,"4/99[4/94]"]
[{"$f":"VLOOKUP(G211,'Master List'!A:B,2,FALSE)","v":"P67"},"1999-01-08",null,null,null,"4-Nitropyrene","57835-92-4",5.8900000000000003E-3,2.1499999999999998E-2,4.9299999999999997E-2,null,null,null,"4/99[4/94]"]
[{"$f":"VLOOKUP(G212,'Master List'!A:B,2,FALSE)","v":"P68"},"1999-01-08",null,null,null,"1,3-Propane Sultone","1120-71-4",2.2100000000000002E-2,8.0600000000000005E-2,0.185,null,null,null,"1999-04-01"]
[{"$f":"VLOOKUP(G213,'Master List'!A:B,2,FALSE)","v":"P69"},null,"2000-08-18","2015-07-05",null,"Propylene  (Propene)","115-07-1",108000,393000,903000,null,null,null,null,"2000-04-01"]
[{"$f":"VLOOKUP(G214,'Master List'!A:B,2,FALSE)","v":"P70"},null,"2000-08-18","2015-07-05",null,"Propylene Glycol Monomethyl Ether","107-98-2",252000,918000,2110000,null,null,null,null,"2000-02-01"]
[{"$f":"VLOOKUP(G215,'Master List'!A:B,2,FALSE)","v":"P71"},"1998-09-08","2000-02-23","2015-07-05","1999-08-13","Propylene Oxide","75-56-9",4.09,14.9,34.200000000000003,0.68500000000000005,1.71,4.28,"4/99[7/90]","2000-02-01",null,"1999-04-01"]
[{"$f":"VLOOKUP(G216,'Master List'!A:B,2,FALSE)","v":"S1"},null,"2002-05-03","2015-07-05",null,"Selenium And Compounds","7782-49-2",3.68,13.4,30.8,null,null,null,null,"2001-12-01"]
[{"$f":"VLOOKUP(G217,'Master List'!A:B,2,FALSE)","v":"S2"},null,null,null,"1999-08-13","Hydrogen Selenide","7783-07-5",null,null,null,1.1000000000000001E-3,2.7499999999999998E-3,6.8999999999999999E-3,null,null,null,"1999-04-01"]
[{"$f":"VLOOKUP(G218,'Master List'!A:B,2,FALSE)","v":"S3"},null,"2002-05-03",null,null,"Selenium Sulfide","7446-34-6",3.68,13.4,30.8,null,null,null,null,"2001-12-01"]
[{"$f":"VLOOKUP(G219,'Master List'!A:B,2,FALSE)","v":"S5"},null,null,null,"1999-08-13","Sodium Hydroxide","1310-73-2",null,null,null,1.7700000000000001E-3,4.4000000000000003E-3,1.0999999999999999E-2,null,null,null,"1999-04-01"]
[{"$f":"VLOOKUP(G220,'Master List'!A:B,2,FALSE)","v":"S6"},null,"2000-08-18","2015-07-05","1999-08-13","Styrene","100-42-5",32400,118000,271000,4.6399999999999997,11.6,29,null,"2000-04-01",null,"1999-04-01"]
[{"$f":"VLOOKUP(G221,'Master List'!A:B,2,FALSE)","v":"S9"},null,"2002-05-03",null,"1999-08-13","Sulfuric Acid","7664-93-9",36,131,301,2.6499999999999999E-2,6.6100000000000006E-2,0.16600000000000001,null,"2008-12-01",null,"1999-04-01"]
[{"$f":"VLOOKUP(G222,'Master List'!A:B,2,FALSE)","v":"S10"},null,"2002-05-03","2015-07-05","1999-08-13","Sulfuric Acid (Sulfur Trioxide)","7446-71-9",36,131,301,2.6499999999999999E-2,6.6100000000000006E-2,0.16600000000000001,null,"2008-12-01",null,"1999-04-01"]
[{"$f":"VLOOKUP(G223,'Master List'!A:B,2,FALSE)","v":"S11"},null,"2002-05-03","2015-07-05","1999-08-13","Sulfuric Acid (Oleum)","8014-95-7",null,null,null,2.6499999999999999E-2,6.6100000000000006E-2,0.16600000000000001,null,null,null,"1999-04-01"]
[{"$f":"VLOOKUP(G224,'Master List'!A:B,2,FALSE)","v":"T1"},"1999-01-08",null,null,null,"1,1,2,2-Tetrachloroethane","79-34-5",0.26600000000000001,0.96799999999999997,2.2200000000000002,null,null,null,"1999-04-01"]
[{"$f":"VLOOKUP(G225,'Master List'!A:B,2,FALSE)","v":"T2"},"1999-01-08",null,null,null,"Thioacetamide","62-55-5",8.7100000000000007E-3,3.1699999999999999E-2,7.2800000000000004E-2,null,null,null,"1999-04-01"]
[{"$f":"VLOOKUP(G226,'Master List'!A:B,2,FALSE)","v":"T3"},null,"2000-08-18","2015-07-05","1999-08-13","Toluene","108-88-3",10800,39300,90300,8.17,20.399999999999999,51.1,null,"2000-04-01",null,"1999-04-01"]
[{"$f":"VLOOKUP(G227,'Master List'!A:B,2,FALSE)","v":"T4"},"1998-09-08","2001-06-15","2015-07-05","2017-09-01","Toluene Diisocyantates","26471-62-5",1.36,4.96,11.4,null,null,null,"1999-04-01","2001-01-01"]
[{"$f":"VLOOKUP(G228,'Master List'!A:B,2,FALSE)","v":"T5"},"1998-09-08","2001-06-15","2015-07-05","2017-09-01","Toluene-2,4-Diisocyanate","584-84-9",0.129,0.46800000000000003,1.07,4.4200000000000001E-4,1.1000000000000001E-3,2.7599999999999999E-3,"1999-04-01","2001-01-01","2016-03-30","2016-03-30"]
[{"$f":"VLOOKUP(G229,'Master List'!A:B,2,FALSE)","v":"T6"},"1998-09-08","2001-06-15","2015-07-05","2017-09-01","Toluene-2,6-Diisocyanate","91-08-7",0.129,0.46800000000000003,1.07,4.4200000000000001E-4,1.1000000000000001E-3,2.7599999999999999E-3,"1999-04-01","2001-01-01","2016-03-30","2016-03-30"]
[{"$f":"VLOOKUP(G230,'Master List'!A:B,2,FALSE)","v":"T7"},"1999-01-08",null,null,null,"1,1,2-Trichloroethane (Vinyl Trichloride)","79-00-5",0.93200000000000005,3.4,7.79,null,null,null,"1999-04-01"]
[{"$f":"VLOOKUP(G231,'Master List'!A:B,2,FALSE)","v":"T8"},"1990-12-07","2000-08-18","2015-07-05",null,"Trichloroethylene","79-01-6",7.59,27.7,63.5,null,null,null,"1990-10-01","2000-04-01"]
[{"$f":"VLOOKUP(G232,'Master List'!A:B,2,FALSE)","v":"T9"},null,"2003-02-07","2015-07-05","1999-08-13","Triethylamine","121-44-8",7200,26200,60200,0.61799999999999999,1.54,3.86,null,"2002-09-03",null,"1999-04-01"]
[{"$f":"VLOOKUP(G233,'Master List'!A:B,2,FALSE)","v":"U1"},"1998-09-08",null,null,null,"Urethane  (Ethyl Carbamate)","51-79-6",5.3100000000000001E-2,0.19400000000000001,0.44400000000000001,null,null,null,"4/99[7/90]"]
[{"$f":"VLOOKUP(G234,'Master List'!A:B,2,FALSE)","v":"V1"},null,null,null,"1999-08-13","Vanadium (Fume Or Dust)","7440-62-2",null,null,null,6.6299999999999996E-3,1.6500000000000001E-2,4.1399999999999999E-2,null,null,null,"1999-04-01"]
[{"$f":"VLOOKUP(G235,'Master List'!A:B,2,FALSE)","v":"V2"},null,null,null,"1999-08-13","Vanadium Pentoxide","1314-62-1",null,null,null,6.6299999999999996E-3,1.6500000000000001E-2,4.1399999999999999E-2,null,null,null,"1999-04-01"]
[{"$f":"VLOOKUP(G236,'Master List'!A:B,2,FALSE)","v":"V3"},null,"2002-05-03","2015-07-05",null,"Vinyl Acetate","108-05-4",7200,26200,60200,null,null,null,null,"2001-12-01"]
[{"$f":"VLOOKUP(G237,'Master List'!A:B,2,FALSE)","v":"V4"},"1990-12-07",null,null,"1999-08-13","Vinyl Chloride  (Chloroethylene)","75-01-4",0.19700000000000001,0.71699999999999997,1.65,39.799999999999997,99.1,248,"1990-12-01",null,null,"1999-04-01"]
[{"$f":"VLOOKUP(G238,'Master List'!A:B,2,FALSE)","v":"V5"},null,"2001-06-15","2015-07-05",null,"Vinylidene Chloride  (1,1-Dichloroethylene)","75-35-4",2520,9180,21100,null,null,null,null,"2001-01-01"]
[{"$f":"VLOOKUP(G239,'Master List'!A:B,2,FALSE)","v":"X1"},null,"2000-08-18","2015-07-05","1999-08-13","Xylenes (Mixed Isomers)","1330-20-7",25200,91800,211000,4.8600000000000003,12.1,30.4,null,"2000-04-01",null,"1999-04-01"]
[{"$f":"VLOOKUP(G240,'Master List'!A:B,2,FALSE)","v":"X2"},null,"2000-08-18","2015-07-05","1999-08-13","M-Xylene","108-38-3",25200,91800,211000,4.8600000000000003,12.1,30.4,null,"2000-04-01",null,"1999-04-01"]
[{"$f":"VLOOKUP(G241,'Master List'!A:B,2,FALSE)","v":"X3"},null,"2000-08-18","2015-07-05","1999-08-13","O-Xylene","95-47-6",25200,91800,211000,4.8600000000000003,12.1,30.4,null,"2000-04-01",null,"1999-04-01"]
[{"$f":"VLOOKUP(G242,'Master List'!A:B,2,FALSE)","v":"X4"},null,"2000-08-18","2015-07-05","1999-08-13","P-Xylene","106-42-3",25200,91800,211000,4.8600000000000003,12.1,30.4,null,"2000-04-01",null,"1999-04-01"]

{"sheet":"Table CP_REL","index":33,"n_rows":247,"n_cols":26,"rows_kept":247,"cut":false,"hidden":false,"merged":[[2,17,2,18],[2,24,2,25],[2,3,2,6],[2,7,2,9],[244,1,244,11],[1,4,1,5],[1,8,1,9],[246,1,246,11],[2,13,2,14],[2,15,2,16],[245,1,245,11]]}
[1,2,3,4,5,6,7,8,9,10,11,12,13,14,15,16,17,18,19]
[null,"Attachment N ",null,"Table 2","Table 3.1 ",null,null,"Tbl 4 ARB","Table 3.1 ",null,"Tbl2 TO ARB","Tbl 2 TO ARB",null,"Table 3.1 "]
[null,null,null,"Cancer - Long Term 30 Years",null,null,null,"Chronic ",null,null,"8hr Chronic ","Acute",null,"Cancer - Short Term 9 Years",null,"Cancer - Short Term 5 Years ",null,"Cancer - Short Term 2 Years ",null,null,null,null,null,null,"Correspond column in table 8.1 & 8.11"]
["Code","Toxic Air Contaminant","CAS No.","Cancer Potency Factor\n(mg/kg-day)-1","MPᵣ","MPw","MWAF*","REL\n(µg/m³)","MPᵣ","MPw","REL\n(µg/m³)","REL\n(µg/m³)","MW","MPᵣ,st9","MPw,st9","MPᵣ,st5 ","MPw,st5","MPᵣ,st2","MPw,st2",null,null,null,null,"Year of Exposure","MP r","MP w"]
[{"$f":"VLOOKUP(C5,'Master List'!$A$2:$C$247,2,FALSE)","v":"A1"},"Acetaldehyde","75-07-0",0.01,1,1,1,140,1,1,300,470,44.06,1,1,1,1,1,1,null,null,null,null,2,18,19]
[{"$f":"VLOOKUP(C6,'Master List'!$A$2:$C$247,2,FALSE)","v":"A2"},"Acetamide","60-35-5",7.0000000000000007E-2,1,1,1,null,1,1,null,null,59.07,1,1,1,1,1,1,null,null,null,null,5,16,17]
[{"$f":"VLOOKUP(C7,'Master List'!$A$2:$C$247,2,FALSE)","v":"A3"},"Acrolein","107-02-8",null,1,1,1,0.35,1,1,0.7,2.5,56.06,1,1,1,1,1,1,null,null,null,null,9,14,15]
[{"$f":"VLOOKUP(C8,'Master List'!$A$2:$C$247,2,FALSE)","v":"A4"},"Acrylamide","79-06-1",4.5,1,1,1,null,1,1,null,null,71.08,1,1,1,1,1,1,null,null,null,null,30,5,6]
[{"$f":"VLOOKUP(C9,'Master List'!$A$2:$C$247,2,FALSE)","v":"A5"},"Acrylic Acid","79-10-7",null,1,1,1,null,1,1,null,6000,72.06,1,1,1,1,1,1,null,null,null,null,70,5,6]
[{"$f":"VLOOKUP(C10,'Master List'!$A$2:$C$247,2,FALSE)","v":"A6"},"Acrylonitrile","107-13-1",1,1,1,1,5,1,1,null,null,53.06,1,1,1,1,1,1]
[{"$f":"VLOOKUP(C11,'Master List'!$A$2:$C$247,2,FALSE)","v":"A7"},"Allyl Chloride","107-05-1",2.1000000000000001E-2,1,1,1,null,1,1,null,null,76.53,1,1,1,1,1,1]
[{"$f":"VLOOKUP(C12,'Master List'!$A$2:$C$247,2,FALSE)","v":"A8"},"2-Aminoanthraquinone","117-79-3",3.3000000000000002E-2,1,1,1,null,1,1,null,null,223.23060000000001,1,1,1,1,1,1]
[{"$f":"VLOOKUP(C13,'Master List'!$A$2:$C$247,2,FALSE)","v":"A9"},"Ammonia","7664-41-7",null,1,1,1,200,1,1,null,3200,17.03,1,1,1,1,1,1]
[{"$f":"VLOOKUP(C14,'Master List'!$A$2:$C$247,2,FALSE)","v":"A10"},"Aniline","62-53-3",5.7000000000000002E-3,1,1,1,null,1,1,null,null,93.12,1,1,1,1,1,1]
[{"$f":"VLOOKUP(C15,'Master List'!$A$2:$C$247,2,FALSE)","v":"A11"},"Arsenic and Compounds (Inorganic)","7440-38-2",12,9.7118049140956941,4.5189957787158406,1,1.4999999999999999E-2,88.028559857200719,28.373858130709344,1.4999999999999999E-2,0.2,74.92,12.68,4.33,12.52,4.33,12.33,4.33]
[{"$f":"VLOOKUP(C16,'Master List'!$A$2:$C$247,2,FALSE)","v":"A12"},"Arsine","7784-42-1",null,1,1,1,1.4999999999999999E-2,1,1,1.4999999999999999E-2,0.2,77.95,1,1,1,1,1,1]
[{"$f":"VLOOKUP(C17,'Master List'!$A$2:$C$247,2,FALSE)","v":"A13"},"Asbestos","1332-21-4",220,1,1,333.33,null,1,1,null,null,0,1,1,1,1,1,1]
[{"$f":"VLOOKUP(C18,'Master List'!$A$2:$C$247,2,FALSE)","v":"B1"},"Benzene","71-43-2",0.1,1,1,1,3,1,1,3,27,78.11,1,1,1,1,1,1]
[{"$f":"VLOOKUP(C19,'Master List'!$A$2:$C$247,2,FALSE)","v":"B2"},"Benzidine (and Its Salts)","92-87-5",500,1,1,1,null,1,1,null,null,184.23,1,1,1,1,1,1]
[{"$f":"VLOOKUP(C20,'Master List'!$A$2:$C$247,2,FALSE)","v":"B3"},"Benzidine Based Dyes",1020,500,1,1,1,null,1,1,null,null,184.23,1,1,1,1,1,1]
[{"$f":"VLOOKUP(C21,'Master List'!$A$2:$C$247,2,FALSE)","v":"B4"},"Direct Black","1937-37-7",500,1,1,1,null,1,1,null,null,184.23,1,1,1,1,1,1]
[{"$f":"VLOOKUP(C22,'Master List'!$A$2:$C$247,2,FALSE)","v":"B5"},"Direct Blue","2602-46-2",500,1,1,1,null,1,1,null,null,184.23,1,1,1,1,1,1]
[{"$f":"VLOOKUP(C23,'Master List'!$A$2:$C$247,2,FALSE)","v":"B6"},"Direct Brown (Technical Grade)","16071-86-6",500,1,1,1,null,1,1,null,null,184.23,1,1,1,1,1,1]
[{"$f":"VLOOKUP(C24,'Master List'!$A$2:$C$247,2,FALSE)","v":"B7"},"Benzyl Chloride","100-44-7",0.17,1,1,1,null,1,1,null,240,126.58,1,1,1,1,1,1]
[{"$f":"VLOOKUP(C25,'Master List'!$A$2:$C$247,2,FALSE)","v":"B8"},"Beryllium and Compounds","7440-41-7",8.4,1,1,1,7.0000000000000001E-3,1,1,null,null,9.0120000000000005,1,1,1,1,1,1]
[{"$f":"VLOOKUP(C26,'Master List'!$A$2:$C$247,2,FALSE)","v":"B9"},"Bis(2-Chloroethyl)Ether  (Dichloroethyl Ether)","111-44-4",2.5,1,1,1,null,1,1,null,null,143.01259999999999,1,1,1,1,1,1]
[{"$f":"VLOOKUP(C27,'Master List'!$A$2:$C$247,2,FALSE)","v":"B10"},"Bis(Chloromethyl)Ether","542-88-1",46,1,1,1,null,1,1,null,null,114.97,1,1,1,1,1,1]
[{"$f":"VLOOKUP(C28,'Master List'!$A$2:$C$247,2,FALSE)","v":"B11"},"Potassium Bromate","7758-01-2",0.49,1,1,1,null,1,1,null,null,166.9922,1,1,1,1,1,1]
[{"$f":"VLOOKUP(C29,'Master List'!$A$2:$C$247,2,FALSE)","v":"B12"},"1,3-Butadiene","106-99-0",0.6,1,1,1,2,1,1,9,660,54.09,1,1,1,1,1,1]
[{"$f":"VLOOKUP(C30,'Master List'!$A$2:$C$247,2,FALSE)","v":"C1"},"Cadmium and Compounds","7440-43-9",15,1,1,1,0.02,1.97576,1.2006000000000001,null,null,112.41,1,1,1,1,1,1]
["C2","Caprolactam","105-60-2",null,1,1,1,2.2000000000000002,1,1,7,50,113.16,1,1,1,1,1,1]
[{"$f":"VLOOKUP(C32,'Master List'!$A$2:$C$247,2,FALSE)","v":"C3"},"Carbon Disulfide","75-15-0",null,1,1,1,800,1,1,null,6200,76.14,1,1,1,1,1,1]
[{"$f":"VLOOKUP(C33,'Master List'!$A$2:$C$247,2,FALSE)","v":"C4-do not use"},"Carbon Monoxide","630-08-0",null,1,1,1,null,1,1,null,23000,28.01,1,1,1,1,1,1]
[{"$f":"VLOOKUP(C34,'Master List'!$A$2:$C$247,2,FALSE)","v":"C5"},"Carbon Tetrachloride  (Tetrachloromethane)","56-23-5",0.15,1,1,1,40,1,1,null,1900,153.82,1,1,1,1,1,1]
[{"$f":"VLOOKUP(C35,'Master List'!$A$2:$C$247,2,FALSE)","v":"C32"},"Carbonyl Sulfide","463-58-1",null,null,null,null,10,null,null,10,660,60.07]
[{"$f":"VLOOKUP(C36,'Master List'!$A$2:$C$247,2,FALSE)","v":"C6"},"Chlorinated Paraffins","108171-26-2",8.8999999999999996E-2,1,1,1,null,1,1,null,null,360,1,1,1,1,1,1]
[{"$f":"VLOOKUP(C37,'Master List'!$A$2:$C$247,2,FALSE)","v":"C7"},"Chlorine","7782-50-5",null,1,1,1,0.2,1,1,null,210,70.906000000000006,1,1,1,1,1,1]
[{"$f":"VLOOKUP(C38,'Master List'!$A$2:$C$247,2,FALSE)","v":"C8"},"Chlorine Dioxide","10049-04-4",null,1,1,1,0.6,1,1,null,null,67.459999999999994,1,1,1,1,1,1]
[{"$f":"VLOOKUP(C39,'Master List'!$A$2:$C$247,2,FALSE)","v":"C9"},"4-Chloro-o-Phenylenediamine","95-83-0",1.6E-2,1,1,1,null,1,1,null,null,142.58770000000001,1,1,1,1,1,1]
[{"$f":"VLOOKUP(C40,'Master List'!$A$2:$C$247,2,FALSE)","v":"C10"},"Chlorobenzene","108-90-7",null,1,1,1,1000,1,1,null,null,112.56,1,1,1,1,1,1]
[{"$f":"VLOOKUP(C41,'Master List'!$A$2:$C$247,2,FALSE)","v":"C11"},"Chloroform","67-66-3",1.9E-2,1,1,1,300,1,1,null,150,119.38,1,1,1,1,1,1]
[{"$f":"VLOOKUP(C42,'Master List'!$A$2:$C$247,2,FALSE)","v":"C12"},"Pentachlorophenol","87-86-5",1.7999999999999999E-2,1,1,1,null,1,1,null,null,266.3383,1,1,1,1,1,1]
[{"$f":"VLOOKUP(C43,'Master List'!$A$2:$C$247,2,FALSE)","v":"C13"},"2,4,6-Trichlorophenol","88-06-2",7.0000000000000007E-2,1,1,1,null,1,1,null,null,197.46,1,1,1,1,1,1]
[{"$f":"VLOOKUP(C44,'Master List'!$A$2:$C$247,2,FALSE)","v":"C14"},"Chloropicrin","76-06-2",null,1,1,1,0.4,1,1,null,29,164.4,1,1,1,1,1,1]
[{"$f":"VLOOKUP(C45,'Master List'!$A$2:$C$247,2,FALSE)","v":"C15"},"p-Chloro-o-Toluidine","95-69-2",0.27,1,1,1,null,1,1,null,null,141.59989999999999,1,1,1,1,1,1]
[{"$f":"VLOOKUP(C46,'Master List'!$A$2:$C$247,2,FALSE)","v":"C16"},"Chromium 6+","18540-29-9",510,1.5968760867045324,1.0226179689133617,1,0.2,2.4356,1,null,null,51.996000000000002,1.78,1.02,1.75,1.02,1.73,1.02]
[{"$f":"VLOOKUP(C47,'Master List'!$A$2:$C$247,2,FALSE)","v":"C17"},"Barium Chromate","10294-40-3",510,1.5968663984755449,1.0226454810891561,0.20530000000000001,0.2,2.4356551388212373,1,null,null,255.36,1.78,1.02,1.75,1.02,1.73,1.02]
[{"$f":"VLOOKUP(C48,'Master List'!$A$2:$C$247,2,FALSE)","v":"C18"},"Calcium Chromate","13765-19-0",510,1.5968864150287005,1.0226340891975567,0.3352,0.2,2.4356542617046824,1,null,null,156.07,1.78,1.02,1.75,1.02,1.73,1.02]
[{"$f":"VLOOKUP(C49,'Master List'!$A$2:$C$247,2,FALSE)","v":"C19"},"Lead Chromate","7758-97-6",510,1.5968590159210434,1.0226563853751516,0.16089999999999999,0.2,2.4356743318831571,1,null,null,323.19,1.78,1.02,1.75,1.02,1.73,1.02]
[{"$f":"VLOOKUP(C50,'Master List'!$A$2:$C$247,2,FALSE)","v":"C20"},"Sodium Dichromate","10588-01-9",510,1.596861313868613,1.0226494601000791,0.39700000000000002,0.2,2.4356675062972295,1,null,null,261.98,1.78,1.02,1.75,1.02,1.73,1.02]
[{"$f":"VLOOKUP(C51,'Master List'!$A$2:$C$247,2,FALSE)","v":"C21"},"Strontium Chromate","7789-06-2",510,1.5968865591031838,1.0226379564434256,0.25540000000000002,0.2,2.4356303837118247,1,null,null,203.61359999999999,1.78,1.02,1.75,1.02,1.73,1.02]
[{"$f":"VLOOKUP(C52,'Master List'!$A$2:$C$247,2,FALSE)","v":"C22"},"Chromic Trioxide (as Chromic Acid Mist)","1333-82-0",510,1.5969126170307626,1.0226526372227063,0.52,2E-3,1,1,null,null,99.99,1.78,1.02,1.75,1.02,1.73,1.02]
[{"$f":"VLOOKUP(C53,'Master List'!$A$2:$C$247,2,FALSE)","v":"C23"},"Copper and Compounds","7440-50-8",null,1,1,1,null,1,1,null,100,63.55,1,1,1,1,1,1]
[{"$f":"VLOOKUP(C54,'Master List'!$A$2:$C$247,2,FALSE)","v":"C24"},"p-Cresidine","120-71-8",0.15,1,1,1,null,1,1,null,null,137.18100000000001,1,1,1,1,1,1]
[{"$f":"VLOOKUP(C55,'Master List'!$A$2:$C$247,2,FALSE)","v":"C25"},"Cresols (Mixtures of)","1319-77-3",null,1,1,1,600,1,1,null,null,108.14,1,1,1,1,1,1]
[{"$f":"VLOOKUP(C56,'Master List'!$A$2:$C$247,2,FALSE)","v":"C26"},"m-Cresol ","108-39-4",null,1,1,1,600,1,1,null,null,108.14,1,1,1,1,1,1]
[{"$f":"VLOOKUP(C57,'Master List'!$A$2:$C$247,2,FALSE)","v":"C27"},"o-Cresol  ","95-48-7",null,1,1,1,600,1,1,null,null,108.14,1,1,1,1,1,1]
[{"$f":"VLOOKUP(C58,'Master List'!$A$2:$C$247,2,FALSE)","v":"C28"},"p-Cresol  ","106-44-5",null,1,1,1,600,1,1,null,null,108.14,1,1,1,1,1,1]
[{"$f":"VLOOKUP(C59,'Master List'!$A$2:$C$247,2,FALSE)","v":"C29"},"Cupferron","135-20-6",0.22,1,1,1,null,1,1,null,null,155.15600000000001,1,1,1,1,1,1]
[{"$f":"VLOOKUP(C60,'Master List'!$A$2:$C$247,2,FALSE)","v":"C30 - Do not use"},"Cyanide and Compounds (Inorganic)","57-12-5",null,1,1,1,9,1,1,null,340,26.017700000000001,1,1,1,1,1,1]
[{"$f":"VLOOKUP(C61,'Master List'!$A$2:$C$247,2,FALSE)","v":"C31"},"Hydrogen Cyanide (Hydrocyanic Acid)","74-90-8",null,1,1,1,9,1,1,null,340,27.03,1,1,1,1,1,1]
[{"$f":"VLOOKUP(C62,'Master List'!$A$2:$C$247,2,FALSE)","v":"D1"},"2,4-Diaminoanisole","615-05-4",2.3E-2,1,1,1,null,1,1,null,null,122.17,1,1,1,1,1,1]
[{"$f":"VLOOKUP(C63,'Master List'!$A$2:$C$247,2,FALSE)","v":"D2"},"2,4-Diaminotoluene","95-80-7",4,1,1,1,null,1,1,null,null,122.17,1,1,1,1,1,1]
[{"$f":"VLOOKUP(C64,'Master List'!$A$2:$C$247,2,FALSE)","v":"D3"},"1,2-Dibromo-3-Chloropropane (DBCP)","96-12-8",7,1,1,1,null,1,1,null,null,236.36,1,1,1,1,1,1]
[{"$f":"VLOOKUP(C65,'Master List'!$A$2:$C$247,2,FALSE)","v":"D4"},"p-Dichlorobenzene","106-46-7",0.04,1,1,1,800,1,1,null,null,147.01,1,1,1,1,1,1]
[{"$f":"VLOOKUP(C66,'Master List'!$A$2:$C$247,2,FALSE)","v":"D5"},"3,3-Dichlorobenzidine","91-94-1",1.2,1,1,1,null,1,1,null,null,253.13040000000001,1,1,1,1,1,1]
[{"$f":"VLOOKUP(C67,'Master List'!$A$2:$C$247,2,FALSE)","v":"D6"},"1,1,-Dichloroethane  (Ethylidene Dichloride)","75-34-3",5.7000000000000002E-3,1,1,1,null,1,1,null,null,98.959599999999995,1,1,1,1,1,1]
[{"$f":"VLOOKUP(C68,'Master List'!$A$2:$C$247,2,FALSE)","v":"D7"},"Di(2-Ethylhexyl)Phthalate (DEHP)","117-81-7",8.3999999999999995E-3,5.2210707813572137,1.0479898434193822,1,null,1,1,null,null,390.54,7.12,1.05,6.88,1.05,6.59,1.05]
[{"$f":"VLOOKUP(C69,'Master List'!$A$2:$C$247,2,FALSE)","v":"D8"},"Diethanolamine","111-42-2",null,1,1,1,3,1,1,null,null,105.14,1,1,1,1,1,1]
[{"$f":"VLOOKUP(C70,'Master List'!$A$2:$C$247,2,FALSE)","v":"D9"},"p-Dimethylaminoazobenzene","60-11-7",4.5999999999999996,1,1,1,null,1,1,null,null,225.28,1,1,1,1,1,1]
[{"$f":"VLOOKUP(C71,'Master List'!$A$2:$C$247,2,FALSE)","v":"D10"},"n,n-Dimethyl Formamide","68-12-2",null,1,1,1,80,1,1,null,null,73.09,1,1,1,1,1,1]
[{"$f":"VLOOKUP(C72,'Master List'!$A$2:$C$247,2,FALSE)","v":"D11"},"2,4-Dinitrotoluene","121-14-2",0.31,1,1,1,null,1,1,null,null,182.14,1,1,1,1,1,1]
[{"$f":"VLOOKUP(C73,'Master List'!$A$2:$C$247,2,FALSE)","v":"D12"},"1,4-Dioxane  (1,4-Diethylene Dioxide)","123-91-1",2.7E-2,1,1,1,3000,1,1,null,3000,88.1,1,1,1,1,1,1]
[{"$f":"VLOOKUP(C74,'Master List'!$A$2:$C$247,2,FALSE)","v":"E1"},"Epichlorohydrin  (1-Chloro-2,3-Epoxypropane)","106-89-8",0.08,1,1,1,3,1,1,null,1300,92.53,1,1,1,1,1,1]
[{"$f":"VLOOKUP(C75,'Master List'!$A$2:$C$247,2,FALSE)","v":"E2"},"1,2-Epoxybutane","106-88-7",null,1,1,1,20,1,1,null,null,72.12,1,1,1,1,1,1]
[{"$f":"VLOOKUP(C76,'Master List'!$A$2:$C$247,2,FALSE)","v":"E3"},"Ethyl Benzene","100-41-4",8.6999999999999994E-3,1,1,1,2000,1,1,null,null,106.16,1,1,1,1,1,1]
[{"$f":"VLOOKUP(C77,'Master List'!$A$2:$C$247,2,FALSE)","v":"E4"},"Ethyl Chloride  (Chloroethane)","75-00-3",null,1,1,1,30000,1,1,null,null,64.52,1,1,1,1,1,1]
[{"$f":"VLOOKUP(C78,'Master List'!$A$2:$C$247,2,FALSE)","v":"E5"},"Ethylene Dibromide  (1,2-Dibromoethane)","106-93-4",0.25,1,1,1,0.8,1,1,null,null,187.88,1,1,1,1,1,1]
[{"$f":"VLOOKUP(C79,'Master List'!$A$2:$C$247,2,FALSE)","v":"E6"},"Ethylene Dichloride  (1,2-Dichloroethane)","107-06-2",7.1999999999999995E-2,1,1,1,400,1,1,null,null,98.96,1,1,1,1,1,1]
[{"$f":"VLOOKUP(C80,'Master List'!$A$2:$C$247,2,FALSE)","v":"E7"},"Ethylene Glycol","107-21-1",null,1,1,1,400,1,1,null,null,62.068199999999997,1,1,1,1,1,1]
[{"$f":"VLOOKUP(C81,'Master List'!$A$2:$C$247,2,FALSE)","v":"E8"},"Ethylene Oxide  (1,2-Epoxyethane)","75-21-8",0.31,1,1,1,30,1,1,null,null,44.06,1,1,1,1,1,1]
[{"$f":"VLOOKUP(C82,'Master List'!$A$2:$C$247,2,FALSE)","v":"E9"},"Ethylene Thiourea","96-45-7",4.4999999999999998E-2,1,1,1,null,1,1,null,null,102.17,1,1,1,1,1,1]
[{"$f":"VLOOKUP(C83,'Master List'!$A$2:$C$247,2,FALSE)","v":"F1"},"Flourides",1101,null,1,1,1,13,5.7020657020657017,2.8451828451828449,null,240,18.9984,1,1,1,1,1,1]
[{"$f":"VLOOKUP(C84,'Master List'!$A$2:$C$247,2,FALSE)","v":"H11"},"Hydrogen Fluoride  (Hydrofluoric Acid)","7664-39-3",null,1,1,1,14,6.063783617298296,2.9871620770275378,null,240,20,1,1,1,1,1,1]
[{"$f":"VLOOKUP(C85,'Master List'!$A$2:$C$247,2,FALSE)","v":"F2"},"Formaldehyde","50-00-0",2.1000000000000001E-2,1,1,1,9,1,1,9,55,30.03,1,1,1,1,1,1]
[{"$f":"VLOOKUP(C86,'Master List'!$A$2:$C$247,2,FALSE)","v":"G1"},"Glutaraldehyde","111-30-8",null,1,1,1,0.08,1,1,null,null,100.13,1,1,1,1,1,1]
[{"$f":"VLOOKUP(C87,'Master List'!$A$2:$C$247,2,FALSE)","v":"E14"},"Ethylene Glycol Butyl Ether – EGBE","111-76-2",null,1,1,1,null,1,1,null,14000,118.18,1,1,1,1,1,1]
[{"$f":"VLOOKUP(C88,'Master List'!$A$2:$C$247,2,FALSE)","v":"E15"},"Ethylene Glycol Ethyl Ether – EGEE","110-80-5",null,1,1,1,70,1,1,null,370,90.121799999999993,1,1,1,1,1,1]
[{"$f":"VLOOKUP(C89,'Master List'!$A$2:$C$247,2,FALSE)","v":"E16"},"Ethylene Glycol Ethyl Ether Acetate – EGEEA","111-15-9",null,1,1,1,300,1,1,null,140,132.16,1,1,1,1,1,1]
[{"$f":"VLOOKUP(C90,'Master List'!$A$2:$C$247,2,FALSE)","v":"E17"},"Ethylene Glycol Methyl Ether – EGME","109-86-4",null,1,1,1,60,1,1,null,93,76.09,1,1,1,1,1,1]
[{"$f":"VLOOKUP(C91,'Master List'!$A$2:$C$247,2,FALSE)","v":"E18"},"Ethylene Glycol Methyl Ether Acetate – EGMEA","110-49-6",null,1,1,1,90,1,1,null,null,118.13,1,1,1,1,1,1]
[{"$f":"VLOOKUP(C92,'Master List'!$A$2:$C$247,2,FALSE)","v":"H1"},"Hexachlorobenzene","118-74-1",1.8,1,1,1,null,1,1,null,null,284.78399999999999,1,1,1,1,1,1]
[{"$f":"VLOOKUP(C93,'Master List'!$A$2:$C$247,2,FALSE)","v":"H2"},"Hexachlorocyclohexanes","608-73-1",4,5.3866617402549419,1.2518551433014886,1,null,1,1,null,null,290.8,7.33,1.24,7.11,1.24,6.85,1.24]
[{"$f":"VLOOKUP(C94,'Master List'!$A$2:$C$247,2,FALSE)","v":"H3"},"Alpha-Hexachlorocyclohexane","319-84-6",4,5.3866617402549419,1.2518551433014886,1,null,1,1,null,null,290.83,7.33,1.24,7.11,1.24,6.85,1.24]
[{"$f":"VLOOKUP(C95,'Master List'!$A$2:$C$247,2,FALSE)","v":"H4"},"Beta- Hexachlorocyclohexane","319-85-7",4,5.3866617402549419,1.2518551433014886,1,null,1,1,null,null,290.82,7.33,1.24,7.11,1.24,6.85,1.24]
[{"$f":"VLOOKUP(C96,'Master List'!$A$2:$C$247,2,FALSE)","v":"H5"},"Gamma-Hexachlorocyclohexane (Lindane)","58-89-9",1.1000000000000001,5.3866100579075367,1.2518743536711479,1,null,1,1,null,null,290.83139999999997,7.33,1.24,7.11,1.24,6.85,1.24]
[{"$f":"VLOOKUP(C97,'Master List'!$A$2:$C$247,2,FALSE)","v":"H6"},"n-Hexane","110-54-3",null,1,1,1,7000,1,1,null,null,86.18,1,1,1,1,1,1]
[{"$f":"VLOOKUP(C98,'Master List'!$A$2:$C$247,2,FALSE)","v":"H7"},"Hydrazine","302-01-2",17,1,1,1,0.2,1,1,null,null,32.049999999999997,1,1,1,1,1,1]
[{"$f":"VLOOKUP(C99,'Master List'!$A$2:$C$247,2,FALSE)","v":"H8"},"Hydrazobenzene (or 1,2-diphenylhydrazine)","122-66-7",0.88,1,1,1,null,null,null,null,null,184.23707999999999,1,1,1,1,1,1]
[{"$f":"VLOOKUP(C100,'Master List'!$A$2:$C$247,2,FALSE)","v":"H9"},"Hydrochloric Acid  (Hydrogen Chloride)","7647-01-0",null,1,1,1,9,1,1,null,2100,36.46,1,1,1,1,1,1]
[{"$f":"VLOOKUP(C101,'Master List'!$A$2:$C$247,2,FALSE)","v":"H10"},"Hydrogen Bromide - DO NOT USE (Not finalized by OEHHA)","10035-10-6",null,null,null,null,null,null,null,null,null,80.91,1,1,1,1,1,1]
[{"$f":"VLOOKUP(C102,'Master List'!$A$2:$C$247,2,FALSE)","v":"H12"},"Hydrogen Sulfide","7783-06-4",null,1,1,1,10,1,1,null,42,34.08,1,1,1,1,1,1]
[{"$f":"VLOOKUP(C103,'Master List'!$A$2:$C$247,2,FALSE)","v":"I1"},"Isophorone","78-59-1",null,1,1,1,2000,1,1,null,null,138.22999999999999,1,1,1,1,1,1]
[{"$f":"VLOOKUP(C104,'Master List'!$A$2:$C$247,2,FALSE)","v":"I2"},"Isopropyl Alcohol  (Isopropanol)","67-63-0",null,1,1,1,7000,1,1,null,3200,60.09,1,1,1,1,1,1]
[{"$f":"VLOOKUP(C105,'Master List'!$A$2:$C$247,2,FALSE)","v":"L1"},"Lead and Compounds (Inorganic)","7439-92-1",4.2000000000000003E-2,11.414596382574423,5.8260685569191706,1,null,1,1,null,null,207.2,14.81,5.62,15.11,5.62,15.22,5.63]
[{"$f":"VLOOKUP(C106,'Master List'!$A$2:$C$247,2,FALSE)","v":"L2"},"Lead Acetate","301-04-2",4.2000000000000003E-2,11.414130254653925,5.8260696252989632,0.63700000000000001,null,1,1,null,null,325.3,14.81,5.62,15.11,5.62,15.22,5.63]
[{"$f":"VLOOKUP(C107,'Master List'!$A$2:$C$247,2,FALSE)","v":"L3"},"Lead Phosphate","7446-27-7",4.2000000000000003E-2,11.414132132684001,5.826058127969941,0.76590000000000003,null,1,1,null,null,811.5,14.81,5.62,15.12,5.62,15.22,5.62]
[{"$f":"VLOOKUP(C108,'Master List'!$A$2:$C$247,2,FALSE)","v":"L4"},"Lead Subacetate","1335-32-6",4.2000000000000003E-2,11.414201453980155,5.8259100406906406,0.76959999999999995,null,1,1,null,null,807.7,14.81,5.62,15.11,5.62,15.22,5.62]
[{"$f":"VLOOKUP(C109,'Master List'!$A$2:$C$247,2,FALSE)","v":"M1"},"Maleic Anhydride","108-31-6",null,1,1,1,0.7,1,1,null,null,98.06,1,1,1,1,1,1]
[{"$f":"VLOOKUP(C110,'Master List'!$A$2:$C$247,2,FALSE)","v":"M2"},"Manganese and Compounds","7439-96-5",null,1,1,1,0.09,1,1,0.17,null,54.938000000000002,1,1,1,1,1,1]
[{"$f":"VLOOKUP(C111,'Master List'!$A$2:$C$247,2,FALSE)","v":"M3"},"Mercury and Compounds (Inorganic)","7439-97-6",null,1,1,1,0.03,3.8607386073860739,2.108931089310893,0.06,0.6,200.59,1,1,1,1,1,1]
[{"$f":"VLOOKUP(C112,'Master List'!$A$2:$C$247,2,FALSE)","v":"M4"},"Mercuric Chloride","7487-94-7",null,1,1,1,0.03,3.8607386073860739,2.108931089310893,0.06,0.6,271.52,1,1,1,1,1,1]
[{"$f":"VLOOKUP(C113,'Master List'!$A$2:$C$247,2,FALSE)","v":"M5"},"Methanol","67-56-1",null,1,1,1,4000,1,1,null,28000,32.04,1,1,1,1,1,1]
[{"$f":"VLOOKUP(C114,'Master List'!$A$2:$C$247,2,FALSE)","v":"M6"},"Methyl Bromide  (Bromomethane)","74-83-9",null,1,1,1,5,1,1,null,3900,94.95,1,1,1,1,1,1]
[{"$f":"VLOOKUP(C115,'Master List'!$A$2:$C$247,2,FALSE)","v":"M7"},"Methyl Tertiary-Butyl Ether","1634-04-4",1.8E-3,1,1,1,8000,1,1,null,null,88.15,1,1,1,1,1,1]
[{"$f":"VLOOKUP(C116,'Master List'!$A$2:$C$247,2,FALSE)","v":"M8"},"Methyl Chloroform  (1,1,1-Trichloroethane)","71-55-6",null,1,1,1,1000,1,1,null,68000,133.41999999999999,1,1,1,1,1,1]
[{"$f":"VLOOKUP(C117,'Master List'!$A$2:$C$247,2,FALSE)","v":"M9"},"Methyl Ethyl Ketone  (2-Butanone)","78-93-3",null,1,1,1,null,1,1,null,13000,72.12,1,1,1,1,1,1]
[{"$f":"VLOOKUP(C118,'Master List'!$A$2:$C$247,2,FALSE)","v":"M11"},"Methyl Mercury - NOT in ARB's Consolidated table ","593-74-8",null,null,null,1,null,null,null,null,null,215.62,1,1,1,1,1,1]
[{"$f":"VLOOKUP(C119,'Master List'!$A$2:$C$247,2,FALSE)","v":"M10"},"Methyl Isocyanate","624-83-9",null,1,1,1,1,1,1,null,null,57.06,1,1,1,1,1,1]
[{"$f":"VLOOKUP(C120,'Master List'!$A$2:$C$247,2,FALSE)","v":"M12"},"4,4'-Methylene Bis (2-Chloroaniline) (MOCA)","101-14-4",1.5,1,1,1,null,1,1,null,null,267.14999999999998,1,1,1,1,1,1]
[{"$f":"VLOOKUP(C121,'Master List'!$A$2:$C$247,2,FALSE)","v":"M13"},"Methylene Chloride  (Dichloromethane)","75-09-2",3.5000000000000001E-3,1,1,1,400,1,1,null,14000,84.94,1,1,1,1,1,1]
[{"$f":"VLOOKUP(C122,'Master List'!$A$2:$C$247,2,FALSE)","v":"M14"},"4,4'-Methylene Dianiline (and Its Dichloride)","101-77-9",1.6,7.2198411232218742,2.4721173072650524,1,20,1,1,null,null,198.26,9.7899999999999991,2.41,9.52,2.41,9.1999999999999993,2.41]
[{"$f":"VLOOKUP(C123,'Master List'!$A$2:$C$247,2,FALSE)","v":"M15"},"Methylene Diphenyl Diisocyanate ","101-68-8",null,1,1,1,0.08,1,1,0.16,12,250.27,1,1,1,1,1,1]
[{"$f":"VLOOKUP(C124,'Master List'!$A$2:$C$247,2,FALSE)","v":"M16"},"Michler's Ketone  (4,4’-Bis(Dimethylamino)Benzophenone)","90-94-8",0.86,1,1,1,null,1,1,null,null,268.3578,1,1,1,1,1,1]
[{"$f":"VLOOKUP(C125,'Master List'!$A$2:$C$247,2,FALSE)","v":"N1"},"n-Nitrosodi-n-Butylamine","924-16-3",11,1,1,1,null,1,1,null,null,158.24299999999999,1,1,1,1,1,1]
[{"$f":"VLOOKUP(C126,'Master List'!$A$2:$C$247,2,FALSE)","v":"N2"},"n-Nitrosodi-n-Propylamine","621-64-7",7,1,1,1,null,1,1,null,null,130.18940000000001,1,1,1,1,1,1]
[{"$f":"VLOOKUP(C127,'Master List'!$A$2:$C$247,2,FALSE)","v":"N3"},"n-Nitrosodiethylamine","55-18-5",36,1,1,1,null,1,1,null,null,102.1358,1,1,1,1,1,1]
[{"$f":"VLOOKUP(C128,'Master List'!$A$2:$C$247,2,FALSE)","v":"N4"},"n-Nitrosodimethylamine","62-75-9",16,1,1,1,null,1,1,null,null,74.08,1,1,1,1,1,1]
[{"$f":"VLOOKUP(C129,'Master List'!$A$2:$C$247,2,FALSE)","v":"N5"},"n-Nitrosodiphenylamine","86-30-6",8.9999999999999993E-3,1,1,1,null,1,1,null,null,198.22380000000001,1,1,1,1,1,1]
[{"$f":"VLOOKUP(C130,'Master List'!$A$2:$C$247,2,FALSE)","v":"N6"},"Nitroso-n-ethylurea, n-","759-73-9",27,1,1,1,null,null,null,null,null,117.11,1,1,1,1,1,1]
[{"$f":"VLOOKUP(C131,'Master List'!$A$2:$C$247,2,FALSE)","v":"N7"},"n-Nitroso-n-Methylethylamine","10595-95-6",22,1,1,1,null,null,null,null,null,88.108999999999995,1,1,1,1,1,1]
[{"$f":"VLOOKUP(C132,'Master List'!$A$2:$C$247,2,FALSE)","v":"N8"},"Nitroso-n-metylurea, n-","684-93-5",120,1,1,1,null,null,null,null,null,103.08,1,1,1,1,1,1]
[{"$f":"VLOOKUP(C133,'Master List'!$A$2:$C$247,2,FALSE)","v":"N9"},"n-Nitrosomorpholine","59-89-2",6.7,1,1,1,null,null,null,null,null,116.11,1,1,1,1,1,1]
[{"$f":"VLOOKUP(C134,'Master List'!$A$2:$C$247,2,FALSE)","v":"N10"},"n-Nitrosopiperidine","100-75-4",9.4,1,1,1,null,null,null,null,null,114.1468,1,1,1,1,1,1]
[{"$f":"VLOOKUP(C135,'Master List'!$A$2:$C$247,2,FALSE)","v":"N11"},"n-Nitrosopyrrolidine","930-55-2",2.1,1,1,1,null,null,null,null,null,100.12,1,1,1,1,1,1]
[{"$f":"VLOOKUP(C136,'Master List'!$A$2:$C$247,2,FALSE)","v":"N12"},"Nickel and Compounds","7440-02-0",0.91,1,1,1,1.4E-2,1,1,0.06,0.2,58.71,1,1,1,1,1,1]
[{"$f":"VLOOKUP(C137,'Master List'!$A$2:$C$247,2,FALSE)","v":"N13"},"Nickel Acetate","373-02-4",0.91,1,1,0.33210000000000001,1.4E-2,1,1,0.06,0.2,176.7824,1,1,1,1,1,1]
[{"$f":"VLOOKUP(C138,'Master List'!$A$2:$C$247,2,FALSE)","v":"N14"},"Nickel Carbonate","3333-67-3",0.91,1,1,0.4945,1.4E-2,1,1,0.06,0.2,118.72,1,1,1,1,1,1]
[{"$f":"VLOOKUP(C139,'Master List'!$A$2:$C$247,2,FALSE)","v":"N15"},"Nickel Carbonyl","13463-39-3",0.91,1,1,0.34379999999999999,1.4E-2,1,1,0.06,0.2,170.75,1,1,1,1,1,1]
[{"$f":"VLOOKUP(C140,'Master List'!$A$2:$C$247,2,FALSE)","v":"N16"},"Nickel Hydroxide","12054-48-7",0.91,1,1,0.63319999999999999,1.4E-2,1,1,0.06,0.2,110.74,1,1,1,1,1,1]
[{"$f":"VLOOKUP(C141,'Master List'!$A$2:$C$247,2,FALSE)","v":"N17"},"Nickelocene","1271-28-9",0.91,1,1,0.49370000000000003,1.4E-2,1,1,0.06,0.2,188.88,1,1,1,1,1,1]
[{"$f":"VLOOKUP(C142,'Master List'!$A$2:$C$247,2,FALSE)","v":"N18"},"Nickel Oxide","1313-99-1",0.91,1,1,0.78590000000000004,0.02,1,1,0.06,0.2,74.709999999999994,1,1,1,1,1,1]
[{"$f":"VLOOKUP(C143,'Master List'!$A$2:$C$247,2,FALSE)","v":"N19"},"Nickel Refinery Dust, Pyrometallurgical Process",1146,0.91,1,1,1,1.4E-2,1,1,0.06,0.2,58.71,1,1,1,1,1,1]
[{"$f":"VLOOKUP(C144,'Master List'!$A$2:$C$247,2,FALSE)","v":"N20"},"Nickel Subsulfide","12035-72-2",0.91,1,1,0.24429999999999999,1.4E-2,1,1,0.06,0.2,240.21,1,1,1,1,1,1]
[{"$f":"VLOOKUP(C145,'Master List'!$A$2:$C$247,2,FALSE)","v":"N21"},"Nitric Acid","7697-37-2",null,1,1,1,null,1,1,null,86,63.02,1,1,1,1,1,1]
[{"$f":"VLOOKUP(C146,'Master List'!$A$2:$C$247,2,FALSE)","v":"N23"},"p-Nitrosodiphenylamine","156-10-5",2.1999999999999999E-2,1,1,1,null,1,1,null,null,198.22380000000001,1,1,1,1,1,1]
[{"$f":"VLOOKUP(C147,'Master List'!$A$2:$C$247,2,FALSE)","v":"O1-Do not use"},"Ozone","10028-15-6",null,1,1,1,null,1,1,null,180,48,1,1,1,1,1,1]
[{"$f":"VLOOKUP(C148,'Master List'!$A$2:$C$247,2,FALSE)","v":"P1"},"Particulate Emissions from Diesel-Fueled Engines",9901,1.1000000000000001,1,1,1,5,1,1,null,null,350,1,1,1,1,1,1]
[{"$f":"VLOOKUP(C149,'Master List'!$A$2:$C$247,2,FALSE)","v":"P2"},"Perchloroethylene  (Tetrachloroethylene)","127-18-4",2.1000000000000001E-2,1,1,1,35,1,1,null,20000,165.83,1,1,1,1,1,1]
[{"$f":"VLOOKUP(C150,'Master List'!$A$2:$C$247,2,FALSE)","v":"P3"},"Phenol","108-95-2",null,1,1,1,200,1,1,null,5800,94.11,1,1,1,1,1,1]
[{"$f":"VLOOKUP(C151,'Master List'!$A$2:$C$247,2,FALSE)","v":"P4"},"Phosgene","75-44-5",null,1,1,1,null,1,1,null,4,98.91,1,1,1,1,1,1]
[{"$f":"VLOOKUP(C152,'Master List'!$A$2:$C$247,2,FALSE)","v":"P5"},"Phosphine","7803-51-2",null,1,1,1,0.8,1,1,null,null,34,1,1,1,1,1,1]
[{"$f":"VLOOKUP(C153,'Master List'!$A$2:$C$247,2,FALSE)","v":"P6"},"Phosphoric Acid","7664-38-2",null,1,1,1,7,1,1,null,null,98,1,1,1,1,1,1]
[{"$f":"VLOOKUP(C154,'Master List'!$A$2:$C$247,2,FALSE)","v":"P7"},"Phthalic Anhydride","85-44-9",null,1,1,1,20,1,1,null,null,148.11000000000001,1,1,1,1,1,1]
[{"$f":"VLOOKUP(C155,'Master List'!$A$2:$C$247,2,FALSE)","v":"P8"},"PCB (Polychlorinated Biphenyls)","1336-36-3",7.0000000000000007E-2,18.938890120446317,13.117667970138642,1,null,243.9,10.816800000000001,null,null,360.86,24.8,12.57,24.55,12.57,24.25,12.57]
[{"$f":"VLOOKUP(C156,'Master List'!$A$2:$C$247,2,FALSE)","v":"P9"},"3,3',4,4'-Tetrachlorobiphenyl  (PCB 77)","32598-13-3",13,27.574407130351741,13.116719760462667,1,0.4,243.9,10.816800000000001,null,null,291.9914,24.8,12.57,40.630000000000003,12.57,45.53,12.57]
[{"$f":"VLOOKUP(C157,'Master List'!$A$2:$C$247,2,FALSE)","v":"P10"},"3,4,4',5-Tetrachlorobiphenyl  (PCB 81)","70362-50-4",39,27.573610216378036,13.116853522924075,1,0.13,240.21424021424019,10.667940667940668,null,null,291.9914,24.8,12.57,40.630000000000003,12.57,45.53,12.57]
[{"$f":"VLOOKUP(C158,'Master List'!$A$2:$C$247,2,FALSE)","v":"P11"},"2,3,3',4,4'-Pentachlorobiphenyl  (PCB 105)","32598-14-4",3.9,27.573610216378036,13.116853522924073,1,1.3,240.21424021424022,10.667940667940668,null,null,326.43650000000002,24.8,12.57,40.630000000000003,12.57,45.53,12.57]
[{"$f":"VLOOKUP(C159,'Master List'!$A$2:$C$247,2,FALSE)","v":"P12"},"2,3,4,4',5-Pentachlorobiphenyl  (PCB 114)","74472-37-0",3.9,27.573610216378036,13.116853522924073,1,1.3,240.21424021424022,10.667940667940668,null,null,326.43650000000002,24.8,12.57,40.630000000000003,12.57,45.53,12.57]
[{"$f":"VLOOKUP(C160,'Master List'!$A$2:$C$247,2,FALSE)","v":"P13"},"2,3',4,4',5-Pentachlorobiphenyl  (PCB 118)","31508-00-6",3.9,27.573610216378036,13.116853522924073,1,1.3,240.21424021424022,10.667940667940668,null,null,326.43650000000002,24.8,12.57,40.630000000000003,12.57,45.53,12.57]
[{"$f":"VLOOKUP(C161,'Master List'!$A$2:$C$247,2,FALSE)","v":"P14"},"2,3',4,4',5'-Pentachlorobiphenyl  (PCB 123)","65510-44-3",3.9,27.573610216378036,13.116853522924073,1,1.3,240.21424021424022,10.667940667940668,null,null,326.43310000000002,24.8,12.57,40.630000000000003,12.57,45.53,12.57]
[{"$f":"VLOOKUP(C162,'Master List'!$A$2:$C$247,2,FALSE)","v":"P15"},"3,3',4,4',5-Pentachlorobiphenyl  (PCB 126)","57465-28-8",13000,27.574407130351741,13.116719760462669,1,4.0000000000000002E-4,243.9,10.816800000000001,null,null,326.43650000000002,24.8,12.57,40.630000000000003,12.57,45.53,12.57]
[{"$f":"VLOOKUP(C163,'Master List'!$A$2:$C$247,2,FALSE)","v":"P16"},"2,3,3',4,4',5-Hexachlorobiphenyl  (PCB 156)","38380-08-4",3.9,27.573610216378036,13.116853522924073,1,1.3,240.21424021424022,10.667940667940668,null,null,360.88159999999999,24.8,12.57,40.630000000000003,12.57,45.53,12.57]
[{"$f":"VLOOKUP(C164,'Master List'!$A$2:$C$247,2,FALSE)","v":"P17"},"2,3,3',4,4',5'-Hexachlorobiphenyl  (PCB 157)","69782-90-7",3.9,27.573610216378036,13.116853522924073,1,1.3,240.21424021424022,10.667940667940668,null,null,360.88159999999999,24.8,12.57,40.630000000000003,12.57,45.53,12.57]
[{"$f":"VLOOKUP(C165,'Master List'!$A$2:$C$247,2,FALSE)","v":"P18"},"2,3',4,4',5,5'-Hexachlorobiphenyl  (PCB 167)","52663-72-6",3.9,27.573610216378036,13.116853522924073,1,1.3,240.21424021424022,10.667940667940668,null,null,360.88159999999999,24.8,12.57,40.630000000000003,12.57,45.53,12.57]
[{"$f":"VLOOKUP(C166,'Master List'!$A$2:$C$247,2,FALSE)","v":"P19"},"3,3',4,4',5,5'-Hexachlorobiphenyl  (PCB 169)","32774-16-6",3900,27.573610216378036,13.116853522924071,1,1.2999999999999999E-3,240.21424021424022,10.667940667940668,null,null,360.88159999999999,24.8,12.57,40.630000000000003,12.57,45.53,12.57]
[{"$f":"VLOOKUP(C167,'Master List'!$A$2:$C$247,2,FALSE)","v":"P20"},"2,3,3',4,4',5,5'-Heptachlorobiphenyl  (PCB 189)","39635-31-9",3.9,27.573610216378036,13.116853522924073,1,1.3,240.21424021424022,10.667940667940668,null,null,395.32670000000002,24.8,12.57,40.630000000000003,12.57,45.53,12.57]
[{"$f":"VLOOKUP(C168,'Master List'!$A$2:$C$247,2,FALSE)","v":"P22"},"Polychlorinated Dibenzo-p-Dioxins  (PCDD)",1086,130000,25.719060503399195,7.5842550689763613,1,4.0000000000000003E-5,307.60000000000002,6.7263999999999999,null,null,459.75479999999999,16,7.27,39.909999999999997,7.27,46.38,7.27]
[{"$f":"VLOOKUP(C169,'Master List'!$A$2:$C$247,2,FALSE)","v":"P23"},"2,3,7,8-Tetrachlorodibenzo-p-Dioxin","1746-01-6",130000,25.719060503399195,7.5842550689763613,1,4.0000000000000003E-5,307.60000000000002,6.7263999999999999,null,null,321.9744,16,7.27,39.909999999999997,7.27,46.38,7.27]
[{"$f":"VLOOKUP(C170,'Master List'!$A$2:$C$247,2,FALSE)","v":"P24"},"1,2,3,7,8-Pentachlorodibenzo-p-Dioxin","40321-76-4",130000,25.719060503399195,7.5842550689763613,1,4.0000000000000003E-5,307.60000000000002,6.7263999999999999,null,null,356.41950000000003,16,7.27,39.909999999999997,7.27,46.38,7.27]
[{"$f":"VLOOKUP(C171,'Master List'!$A$2:$C$247,2,FALSE)","v":"P25"},"1,2,3,4,7,8-Hexachlorodibenzo-p-Dioxin","39227-28-6",13000,25.719060503399191,7.5842550689763613,1,4.0000000000000002E-4,307.60000000000002,6.7263999999999999,null,null,390.8646,16,7.27,39.909999999999997,7.27,46.38,7.27]
[{"$f":"VLOOKUP(C172,'Master List'!$A$2:$C$247,2,FALSE)","v":"P26"},"1,2,3,6,7,8-Hexachlorodibenzo-p-Dioxin","57653-85-7",13000,25.719060503399191,7.5842550689763613,1,4.0000000000000002E-4,307.60000000000002,6.7263999999999999,null,null,390.8646,16,7.27,39.909999999999997,7.27,46.38,7.27]
[{"$f":"VLOOKUP(C173,'Master List'!$A$2:$C$247,2,FALSE)","v":"P27"},"1,2,3,7,8,9-Hexachlorodibenzo-p-Dioxin","19408-74-3",13000,25.719060503399191,7.5842550689763613,1,4.0000000000000002E-4,307.60000000000002,6.7263999999999999,null,null,390.8646,16,7.27,39.909999999999997,7.27,46.38,7.27]
[{"$f":"VLOOKUP(C174,'Master List'!$A$2:$C$247,2,FALSE)","v":"P28"},"1,2,3,4,6,7,8-Heptachlorodibenzo-p-Dioxin","35822-46-9",1300,25.719060503399199,7.5842550689763613,1,4.0000000000000001E-3,307.60000000000002,6.7263999999999999,null,null,425.30970000000002,16,7.27,39.909999999999997,7.27,46.38,7.27]
[{"$f":"VLOOKUP(C175,'Master List'!$A$2:$C$247,2,FALSE)","v":"P29"},"1,2,3,4,6,7,8,9-Octachlorodibenzo-p-Dioxin","3268-87-9",39,25.719049604001668,7.5845410628019332,1,0.13,302.95230295230294,6.6396266396266395,null,null,459.75479999999999,16,7.27,39.909999999999997,7.27,46.38,7.27]
[{"$f":"VLOOKUP(C176,'Master List'!$A$2:$C$247,2,FALSE)","v":"P30"},"Polychlorinated Dibenzofurans (PCDF)",1080,130000,18.187399104158612,7.5842550689763613,1,4.0000000000000003E-5,154.96799999999999,6.7263999999999999,null,null,443.76,16,7.27,26.8,7.27,29.99,7.27]
[{"$f":"VLOOKUP(C177,'Master List'!$A$2:$C$247,2,FALSE)","v":"P31"},"2,3,7,8-Tetrachlorodibenzofuran","51207-31-9",13000,18.187399104158612,7.5842550689763613,1,4.0000000000000002E-4,154.96799999999999,6.7263999999999999,null,null,305.97156000000001,16,7.27,26.8,7.27,29.99,7.27]
[{"$f":"VLOOKUP(C178,'Master List'!$A$2:$C$247,2,FALSE)","v":"P32"},"1,2,3,7,8-Pentachlorodibenzofuran","57117-41-6",3900,18.186744476865361,7.5845410628019314,1,1.2999999999999999E-3,152.63315263315263,6.6396266396266386,null,null,340.42009999999999,16,7.27,26.8,7.27,29.99,7.27]
[{"$f":"VLOOKUP(C179,'Master List'!$A$2:$C$247,2,FALSE)","v":"P33"},"2,3,4,7,8-Pentachlorodibenzofuran","57117-31-4",39000,18.186744476865361,7.5845410628019323,1,1.2999999999999999E-4,152.63315263315263,6.6396266396266395,null,null,340.42009999999999,16,7.27,26.8,7.27,29.99,7.27]
[{"$f":"VLOOKUP(C180,'Master List'!$A$2:$C$247,2,FALSE)","v":"P34"},"1,2,3,4,7,8-Hexachlorodibenzofuran","70648-26-9",13000,18.187399104158612,7.5842550689763613,1,4.0000000000000002E-4,154.96799999999999,6.7263999999999999,null,null,374.86520000000002,16,7.27,26.8,7.27,29.99,7.27]
[{"$f":"VLOOKUP(C181,'Master List'!$A$2:$C$247,2,FALSE)","v":"P35"},"1,2,3,6,7,8-Hexachlorodibenzofuran","57117-44-9",13000,18.187399104158612,7.5842550689763613,1,4.0000000000000002E-4,154.96799999999999,6.7263999999999999,null,null,374.86520000000002,16,7.27,26.8,7.27,29.99,7.27]
[{"$f":"VLOOKUP(C182,'Master List'!$A$2:$C$247,2,FALSE)","v":"P36"},"1,2,3,7,8,9-Hexachlorodibenzofuran","72918-21-9",13000,18.187399104158612,7.5842550689763613,1,4.0000000000000002E-4,154.96799999999999,6.7263999999999999,null,null,374.86520000000002,16,7.27,26.8,7.27,29.99,7.27]
[{"$f":"VLOOKUP(C183,'Master List'!$A$2:$C$247,2,FALSE)","v":"P37"},"2,3,4,6,7,8-Hexachlorodibenzofuran","60851-34-5",13000,18.187399104158612,7.5842550689763613,1,4.0000000000000002E-4,154.96799999999999,6.7263999999999999,null,null,374.86520000000002,16,7.27,26.8,7.27,29.99,7.27]
[{"$f":"VLOOKUP(C184,'Master List'!$A$2:$C$247,2,FALSE)","v":"P38"},"1,2,3,4,6,7,8-Heptachlorodibenzofuran","67562-39-4",1300,18.187399104158615,7.5842550689763613,1,4.0000000000000001E-3,154.96799999999999,6.7263999999999999,null,null,409.31029999999998,16,7.27,26.8,7.27,29.99,7.27]
[{"$f":"VLOOKUP(C185,'Master List'!$A$2:$C$247,2,FALSE)","v":"P39"},"1,2,3,4,7,8,9-Heptachlorodibenzofuran","55673-89-7",1300,18.187399104158615,7.5842550689763613,1,4.0000000000000001E-3,154.96799999999999,6.7263999999999999,null,null,409.31029999999998,16,7.27,26.8,7.27,29.99,7.27]
[{"$f":"VLOOKUP(C186,'Master List'!$A$2:$C$247,2,FALSE)","v":"P40"},"1,2,3,4,6,7,8,9-Octachlorodibenzofuran","39001-02-0",39,18.186744476865361,7.5845410628019332,1,0.13,152.6331526331526,6.6396266396266395,null,null,443.75540000000001,16,7.27,26.8,7.27,29.99,7.27]
[{"$f":"VLOOKUP(C187,'Master List'!$A$2:$C$247,2,FALSE)","v":"P41"},"Polycyclic Aromatic Hydrocarbon  (PAH)",1151,3.9,23.12,6.62,1,null,1,1,null,null,302.37,28.21,6.34,33.72,6.34,35.81,6.34]
[{"$f":"VLOOKUP(C188,'Master List'!$A$2:$C$247,2,FALSE)","v":"P42"},"Benz(a)Anthracene","56-55-3",0.39,23.116450035999847,6.618813234891987,1,null,1,1,null,null,228.2928,28.21,6.34,33.72,6.34,35.81,6.34]
[{"$f":"VLOOKUP(C189,'Master List'!$A$2:$C$247,2,FALSE)","v":"P43"},"Benzo(a)Pyrene","50-32-8",3.9,23.116450035999847,6.618813234891987,1,null,1,1,null,null,252.3,28.21,6.34,33.72,6.34,35.81,6.34]
[{"$f":"VLOOKUP(C190,'Master List'!$A$2:$C$247,2,FALSE)","v":"P44"},"Benzo(b)Fluoranthene","205-99-2",0.39,23.116450035999847,6.618813234891987,1,null,1,1,null,null,252.31479999999999,28.21,6.34,33.72,6.34,35.81,6.34]
[{"$f":"VLOOKUP(C191,'Master List'!$A$2:$C$247,2,FALSE)","v":"P45"},"Benzo(j)Fluoranthene","205-82-3",0.39,23.116450035999847,6.618813234891987,1,null,1,1,null,null,252.31479999999999,28.21,6.34,33.72,6.34,35.81,6.34]
[{"$f":"VLOOKUP(C192,'Master List'!$A$2:$C$247,2,FALSE)","v":"P46"},"Benzo(k)Fluoranthene","207-08-9",0.39,23.116450035999847,6.618813234891987,1,null,1,1,null,null,252.31479999999999,28.21,6.34,33.72,6.34,35.81,6.34]
[{"$f":"VLOOKUP(C193,'Master List'!$A$2:$C$247,2,FALSE)","v":"P47"},"Chrysene","218-01-9",3.9E-2,23.116450035999847,6.6188132348919879,1,null,1,1,null,null,228.2928,28.21,6.34,33.72,6.34,35.81,6.34]
[{"$f":"VLOOKUP(C194,'Master List'!$A$2:$C$247,2,FALSE)","v":"P48"},"Dibenz(a,h)Acridine","226-36-8",0.39,23.116450035999847,6.618813234891987,1,null,1,1,null,null,279.34039999999999,28.21,6.34,33.72,6.34,35.81,6.34]
[{"$f":"VLOOKUP(C195,'Master List'!$A$2:$C$247,2,FALSE)","v":"P49"},"Dibenz(a,h)Anthracene","53-70-3",4.0999999999999996,7.9889697930935037,2.4849575169065372,1,null,1,1,null,null,278.3526,9.64,2.42,11.4,2.42,12.04,2.42]
[{"$f":"VLOOKUP(C196,'Master List'!$A$2:$C$247,2,FALSE)","v":"P50"},"Dibenz(a,j)Acridine","224-42-0",0.39,23.116450035999847,6.618813234891987,1,null,1,1,null,null,279.34039999999999,28.21,6.34,33.72,6.34,35.81,6.34]
[{"$f":"VLOOKUP(C197,'Master List'!$A$2:$C$247,2,FALSE)","v":"P51"},"Dibenzo(a,e)Pyrene","192-65-4",3.9,23.116450035999847,6.618813234891987,1,null,1,1,null,null,302.37459999999999,28.21,6.34,33.72,6.34,35.81,6.34]
[{"$f":"VLOOKUP(C198,'Master List'!$A$2:$C$247,2,FALSE)","v":"P52"},"Dibenzo(a,h)Pyrene","189-64-0",39,23.116450035999851,6.6188132348919879,1,null,1,1,null,null,302.37459999999999,28.21,6.34,33.72,6.34,35.81,6.34]
[{"$f":"VLOOKUP(C199,'Master List'!$A$2:$C$247,2,FALSE)","v":"P53"},"Dibenzo(a,i)Pyrene","189-55-9",39,23.116450035999851,6.6188132348919879,1,null,1,1,null,null,302.37459999999999,28.21,6.34,33.72,6.34,35.81,6.34]
[{"$f":"VLOOKUP(C200,'Master List'!$A$2:$C$247,2,FALSE)","v":"P54"},"Dibenzo(a,l)Pyrene","191-30-0",39,23.116450035999851,6.6188132348919879,1,null,1,1,null,null,302.37459999999999,28.21,6.34,33.72,6.34,35.81,6.34]
[{"$f":"VLOOKUP(C201,'Master List'!$A$2:$C$247,2,FALSE)","v":"P55"},"7H-Dibenzo(c,g)Carbazole","194-59-2",3.9,23.116450035999847,6.618813234891987,1,null,1,1,null,null,267.32940000000002,28.21,6.34,33.72,6.34,35.81,6.34]
[{"$f":"VLOOKUP(C202,'Master List'!$A$2:$C$247,2,FALSE)","v":"P56"},"7,12-Dimethylbenz(a)Anthracene","57-97-6",250,7.9888862615275471,2.4849281956490827,1,null,1,1,null,null,256.34640000000002,9.64,2.42,11.4,2.42,12.04,2.42]
[{"$f":"VLOOKUP(C203,'Master List'!$A$2:$C$247,2,FALSE)","v":"P57"},"1,6-Dinitropyrene","42397-64-8",39,23.116450035999851,6.6188132348919879,1,null,1,1,null,null,292.25020000000001,28.21,6.34,33.72,6.34,35.81,6.34]
[{"$f":"VLOOKUP(C204,'Master List'!$A$2:$C$247,2,FALSE)","v":"P58"},"1,8-Dinitropyrene","42397-65-9",3.9,23.116450035999847,6.618813234891987,1,null,1,1,null,null,292.25020000000001,28.21,6.34,33.72,6.34,35.81,6.34]
[{"$f":"VLOOKUP(C205,'Master List'!$A$2:$C$247,2,FALSE)","v":"P59"},"Indeno(1,2,3-c,d)Pyrene","193-39-5",0.39,23.116450035999847,6.618813234891987,1,null,1,1,null,null,276.33679999999998,28.21,6.34,33.72,6.34,35.81,6.34]
[{"$f":"VLOOKUP(C206,'Master List'!$A$2:$C$247,2,FALSE)","v":"P60"},"3-Methylcholanthrene","56-49-5",22,7.9893860002687083,2.4849733397964129,1,null,1,1,null,null,268.35739999999998,9.64,2.42,11.4,2.42,12.04,2.42]
[{"$f":"VLOOKUP(C207,'Master List'!$A$2:$C$247,2,FALSE)","v":"P61"},"5-Methylchrysene","3697-24-3",3.9,23.116450035999847,6.618813234891987,1,null,1,1,null,null,242.31960000000001,28.21,6.34,33.72,6.34,35.81,6.34]
[{"$f":"VLOOKUP(C208,'Master List'!$A$2:$C$247,2,FALSE)","v":"P62"},"Naphthalene","91-20-3",0.12,1,1,1,9,1,1,null,null,128.17320000000001,1,1,1,1,1,1]
[{"$f":"VLOOKUP(C209,'Master List'!$A$2:$C$247,2,FALSE)","v":"P63"},"5-Nitroacenaphthene","602-87-9",0.13,7.9892453559491603,2.485063097305205,1,null,1,1,null,null,199.20859999999999,9.64,2.42,11.4,2.42,12.04,2.42]
[{"$f":"VLOOKUP(C210,'Master List'!$A$2:$C$247,2,FALSE)","v":"P64"},"6-Nitrochrysene","7496-02-8",39,23.116450035999851,6.6188132348919879,1,null,1,1,null,null,273.29039999999998,28.21,6.34,33.72,6.34,35.81,6.34]
[{"$f":"VLOOKUP(C211,'Master List'!$A$2:$C$247,2,FALSE)","v":"P65"},"2-Nitrofluorene","607-57-8",3.9E-2,23.116450035999847,6.6188132348919879,1,null,1,1,null,null,211.21960000000001,28.21,6.34,33.72,6.34,35.81,6.34]
[{"$f":"VLOOKUP(C212,'Master List'!$A$2:$C$247,2,FALSE)","v":"P66"},"1-Nitropyrene","5522-43-0",0.39,23.116450035999847,6.618813234891987,1,null,1,1,null,null,247.2526,28.21,6.34,33.72,6.34,35.81,6.34]
[{"$f":"VLOOKUP(C213,'Master List'!$A$2:$C$247,2,FALSE)","v":"P67"},"4-Nitropyrene","57835-92-4",0.39,23.116450035999847,6.618813234891987,1,null,1,1,null,null,247.2526,28.21,6.34,33.72,6.34,35.81,6.34]
[{"$f":"VLOOKUP(C214,'Master List'!$A$2:$C$247,2,FALSE)","v":"P68"},"1,3-Propane Sultone","1120-71-4",2.4,1,1,1,null,1,1,null,null,122.1,1,1,1,1,1,1]
[{"$f":"VLOOKUP(C215,'Master List'!$A$2:$C$247,2,FALSE)","v":"P69"},"Propylene  (Propene)","115-07-1",null,1,1,1,3000,1,1,null,null,42.08,1,1,1,1,1,1]
[{"$f":"VLOOKUP(C216,'Master List'!$A$2:$C$247,2,FALSE)","v":"P70"},"Propylene Glycol Monomethyl Ether","107-98-2",null,1,1,1,7000,1,1,null,null,90.14,1,1,1,1,1,1]
[{"$f":"VLOOKUP(C217,'Master List'!$A$2:$C$247,2,FALSE)","v":"P71"},"Propylene Oxide","75-56-9",1.2999999999999999E-2,1,1,1,30,1,1,null,3100,58.08,1,1,1,1,1,1]
[{"$f":"VLOOKUP(C218,'Master List'!$A$2:$C$247,2,FALSE)","v":"S1"},"Selenium and Compounds","7782-49-2",null,1,1,1,20,195.57599999999999,23.709999999999997,null,null,78.959999999999994,1,1,1,1,1,1]
[{"$f":"VLOOKUP(C219,'Master List'!$A$2:$C$247,2,FALSE)","v":"S2"},"Hydrogen Selenide","7783-07-5",null,1,1,1,null,1,1,null,5,80.975800000000007,1,1,1,1,1,1]
[{"$f":"VLOOKUP(C220,'Master List'!$A$2:$C$247,2,FALSE)","v":"S3"},"Selenium Sulfide","7446-34-6",null,1,1,1,20,195.57599999999999,23.709999999999997,null,null,123.09,1,1,1,1,1,1]
[{"$f":"VLOOKUP(C221,'Master List'!$A$2:$C$247,2,FALSE)","v":"S5"},"Sodium Hydroxide","1310-73-2",null,1,1,1,null,1,1,null,8,40,1,1,1,1,1,1]
[{"$f":"VLOOKUP(C222,'Master List'!$A$2:$C$247,2,FALSE)","v":"S6"},"Styrene","100-42-5",null,1,1,1,900,1,1,null,21000,104.16,1,1,1,1,1,1]
[{"$f":"VLOOKUP(C223,'Master List'!$A$2:$C$247,2,FALSE)","v":"S9"},"Sulfuric Acid","7664-93-9",null,1,1,1,1,1,1,null,120,98.08,1,1,1,1,1,1]
[{"$f":"VLOOKUP(C224,'Master List'!$A$2:$C$247,2,FALSE)","v":"S10"},"Sulfuric Acid (Sulfur Trioxide)","7446-71-9",null,1,1,1,1,1,1,null,120,80.06,1,1,1,1,1,1]
[{"$f":"VLOOKUP(C225,'Master List'!$A$2:$C$247,2,FALSE)","v":"S11"},"Sulfuric Acid (Oleum)","8014-95-7",null,1,1,1,null,1,1,null,120,178.13159999999999,1,1,1,1,1,1]
[{"$f":"VLOOKUP(C226,'Master List'!$A$2:$C$247,2,FALSE)","v":"T1"},"1,1,2,2-Tetrachloroethane","79-34-5",0.2,1,1,1,null,1,1,null,null,167.86,1,1,1,1,1,1]
[{"$f":"VLOOKUP(C227,'Master List'!$A$2:$C$247,2,FALSE)","v":"T2"},"Thioacetamide","62-55-5",6.1,1,1,1,null,1,1,null,null,75.128200000000007,1,1,1,1,1,1]
[{"$f":"VLOOKUP(C228,'Master List'!$A$2:$C$247,2,FALSE)","v":"T3"},"Toluene","108-88-3",null,1,1,1,300,1,1,null,37000,92.13,1,1,1,1,1,1]
[{"$f":"VLOOKUP(C229,'Master List'!$A$2:$C$247,2,FALSE)","v":"T4"},"Toluene Diisocyanates","26471-62-5",3.9E-2,1,1,1,8.0000000000000002E-3,1,1,1.4999999999999999E-2,2,174.15860000000001,1,1,1,1,1,1]
[{"$f":"VLOOKUP(C230,'Master List'!$A$2:$C$247,2,FALSE)","v":"T5"},"Toluene-2,4-Diisocyanate","584-84-9",3.9E-2,1,1,1,8.0000000000000002E-3,1,1,1.4999999999999999E-2,2,174.15860000000001,1,1,1,1,1,1]
[{"$f":"VLOOKUP(C231,'Master List'!$A$2:$C$247,2,FALSE)","v":"T6"},"Toluene-2,6-Diisocyanate","91-08-7",3.9E-2,1,1,1,8.0000000000000002E-3,1,1,1.4999999999999999E-2,2,174.15860000000001,1,1,1,1,1,1]
[{"$f":"VLOOKUP(C232,'Master List'!$A$2:$C$247,2,FALSE)","v":"T7"},"1,1,2-Trichloroethane (Vinyl Trichloride)","79-00-5",5.7000000000000002E-2,1,1,1,null,1,1,null,null,133.41999999999999,1,1,1,1,1,1]
[{"$f":"VLOOKUP(C233,'Master List'!$A$2:$C$247,2,FALSE)","v":"T8"},"Trichloroethylene","79-01-6",7.0000000000000001E-3,1,1,1,600,1,1,null,null,130.4,1,1,1,1,1,1]
[{"$f":"VLOOKUP(C234,'Master List'!$A$2:$C$247,2,FALSE)","v":"T9"},"Triethylamine","121-44-8",null,1,1,1,200,1,1,null,2800,101.19,1,1,1,1,1,1]
[{"$f":"VLOOKUP(C235,'Master List'!$A$2:$C$247,2,FALSE)","v":"U1"},"Urethane  (Ethyl Carbamate)","51-79-6",1,1,1,1,null,1,1,null,null,89.093800000000002,1,1,1,1,1,1]
[{"$f":"VLOOKUP(C236,'Master List'!$A$2:$C$247,2,FALSE)","v":"V1"},"Vanadium (Fume or Dust)","7440-62-2",null,1,1,1,null,1,1,null,30,50.941000000000003,1,1,1,1,1,1]
[{"$f":"VLOOKUP(C237,'Master List'!$A$2:$C$247,2,FALSE)","v":"V2"},"Vanadium Pentoxide","1314-62-1",null,1,1,1,null,1,1,null,30,181.88,1,1,1,1,1,1]
[{"$f":"VLOOKUP(C238,'Master List'!$A$2:$C$247,2,FALSE)","v":"V3"},"Vinyl Acetate","108-05-4",null,1,1,1,200,1,1,null,null,86.09,1,1,1,1,1,1]
[{"$f":"VLOOKUP(C239,'Master List'!$A$2:$C$247,2,FALSE)","v":"V4"},"Vinyl Chloride  (Chloroethylene)","75-01-4",0.27,1,1,1,null,1,1,null,180000,62.5,1,1,1,1,1,1]
[{"$f":"VLOOKUP(C240,'Master List'!$A$2:$C$247,2,FALSE)","v":"V5"},"Vinylidene Chloride  (1,1-Dichloroethylene)","75-35-4",null,1,1,1,70,1,1,null,null,96.95,1,1,1,1,1,1]
[{"$f":"VLOOKUP(C241,'Master List'!$A$2:$C$247,2,FALSE)","v":"X1"},"Xylenes (Mixed Isomers)","1330-20-7",null,1,1,1,700,1,1,null,22000,106.2,1,1,1,1,1,1]
[{"$f":"VLOOKUP(C242,'Master List'!$A$2:$C$247,2,FALSE)","v":"X2"},"m-Xylene","108-38-3",null,1,1,1,700,1,1,null,22000,106.17,1,1,1,1,1,1]
[{"$f":"VLOOKUP(C243,'Master List'!$A$2:$C$247,2,FALSE)","v":"X3"},"o-Xylene","95-47-6",null,1,1,1,700,1,1,null,22000,106.18,1,1,1,1,1,1]
[{"$f":"VLOOKUP(C244,'Master List'!$A$2:$C$247,2,FALSE)","v":"X4"},"p-Xylene","106-42-3",null,1,1,1,700,1,1,null,22000,106.17,1,1,1,1,1,1]
[null,"*Molecular Weight Adjustment Factor: MWAFs are only to be used when a toxic metal has a cancer potency factor. For most of the Hot Spots toxic metals, the OEHHA cancer potency factor applies to the weight of the toxic metal atom contained in the overall compound. This ensures that the cancer potency factor is applied onlyto the fraction of the overall weight of the emissions that are associated with health effects of the metal.\n"]
[null,"So, for example, assume 100 pounds of “Nickel hydroxide” emissions are reported under CAS number 12054-48-7. To get the Nickel atom equivalent of these emissions, multiply by the listed MWAF (0.6332) for Nickel hydroxide: 100 pounds x 0.6332 = 63.32 pounds of Nickel atom equivalent"]
[null,"Note: The value listed in the MWAF column for Asbestos is not a molecular weight adjustment. This is a conversion factor for adjusting mass to fibers or structures. See Appendix C of OEHHA’s document The Air Toxics Hot Spots Program Risk Assessment Guidelines for more information."]

{"sheet":"Table AcuteTO","index":34,"n_rows":84,"n_cols":13,"rows_kept":84,"cut":false,"hidden":false,"merged":[]}
[]
[null,{"$f":"TableIndex!B3","v":"ARB's Acute Target Organ Table - Table 2  "}]
[null,"Toxic Air Contaminant","CAS","AL","CV","DEV","EYE","HEM","IMM","NS","REP","RESP","SKIN"]
[{"$f":"VLOOKUP(C4,'Master List'!$A$2:$C$247,2,FALSE)","v":"A1"},"Acetaldehyde","75-07-0",null,null,null,"X",null,null,null,null,"X"]
[{"$f":"VLOOKUP(C5,'Master List'!$A$2:$C$247,2,FALSE)","v":"A3"},"Acrolein","107-02-8",null,null,null,"X",null,null,null,null,"X"]
[{"$f":"VLOOKUP(C6,'Master List'!$A$2:$C$247,2,FALSE)","v":"A5"},"Acrylic Acid","79-10-7",null,null,null,"X",null,null,null,null,"X"]
[{"$f":"VLOOKUP(C7,'Master List'!$A$2:$C$247,2,FALSE)","v":"A9"},"Ammonia","7664-41-7",null,null,null,"X",null,null,null,null,"X"]
[{"$f":"VLOOKUP(C8,'Master List'!$A$2:$C$247,2,FALSE)","v":"A11"},"Arsenic & Compounds (Inorganic)TAC","7440-38-2",null,"X","X",null,null,null,"X","X"]
[{"$f":"VLOOKUP(C9,'Master List'!$A$2:$C$247,2,FALSE)","v":"A12"},"    Arsine","7784-42-1",null,"X","X",null,null,null,"X","X"]
[{"$f":"VLOOKUP(C10,'Master List'!$A$2:$C$247,2,FALSE)","v":"B1"},"BenzeneTAC","71-43-2",null,null,"X",null,"X","X",null,"X"]
[{"$f":"VLOOKUP(C11,'Master List'!$A$2:$C$247,2,FALSE)","v":"B7"},"Benzyl Chloride","100-44-7",null,null,null,"X",null,null,null,null,"X"]
[{"$f":"VLOOKUP(C12,'Master List'!$A$2:$C$247,2,FALSE)","v":"B12"},"1,3-ButadieneTAC","106-99-0",null,null,"X",null,null,null,null,"X"]
[{"$f":"VLOOKUP(C13,'Master List'!$A$2:$C$247,2,FALSE)","v":"C2"},"Caprolactam","105-60-2",null,null,null,"X"]
[{"$f":"VLOOKUP(C14,'Master List'!$A$2:$C$247,2,FALSE)","v":"C3"},"Carbon Disulfide","75-15-0",null,null,"X",null,null,null,"X","X"]
[null,"Carbon Monoxide","630-08-0",null,"X"]
[{"$f":"VLOOKUP(C16,'Master List'!$A$2:$C$247,2,FALSE)","v":"C5"},"Carbon TetrachlorideTAC  (Tetrachloromethane)","56-23-5","X",null,"X",null,null,null,"X","X"]
[{"$f":"VLOOKUP(C17,'Master List'!$A$2:$C$247,2,FALSE)","v":"C32"},"Carbonyl Sulfide","463-58-1",null,null,null,null,null,null,"X"]
[{"$f":"VLOOKUP(C18,'Master List'!$A$2:$C$247,2,FALSE)","v":"C7"},"Chlorine","7782-50-5",null,null,null,"X",null,null,null,null,"X"]
[{"$f":"VLOOKUP(C19,'Master List'!$A$2:$C$247,2,FALSE)","v":"C11"},"ChloroformTAC","67-66-3",null,null,"X",null,null,null,"X","X","X"]
[{"$f":"VLOOKUP(C20,'Master List'!$A$2:$C$247,2,FALSE)","v":"C14"},"Chloropicrin","76-06-2",null,null,null,"X",null,null,null,null,"X"]
[{"$f":"VLOOKUP(C21,'Master List'!$A$2:$C$247,2,FALSE)","v":"C23"},"Copper & Compounds","7440-50-8",null,null,null,null,null,null,null,null,"X"]
[null,"Cyanide Compounds (Inorganic)","57-12-5",null,null,null,null,null,null,"X"]
[{"$f":"VLOOKUP(C23,'Master List'!$A$2:$C$247,2,FALSE)","v":"C31"},"Hydrogen Cyanide  (Hydrocyanic Acid)","74-90-8",null,null,null,null,null,null,"X"]
[{"$f":"VLOOKUP(C24,'Master List'!$A$2:$C$247,2,FALSE)","v":"D12"},"1,4-Dioxane  (1,4-Diethylene Dioxide)","123-91-1",null,null,null,"X",null,null,null,null,"X"]
[{"$f":"VLOOKUP(C25,'Master List'!$A$2:$C$247,2,FALSE)","v":"E1"},"Epichlorohydrin (1-Chloro-2,3-Epoxypropane)","106-89-8",null,null,null,"X",null,null,null,null,"X"]
[{"$f":"VLOOKUP(C26,'Master List'!$A$2:$C$247,2,FALSE)","v":"F1"},"Fluorides & Compounds",1101,null,null,null,"X",null,null,null,null,"X"]
[{"$f":"VLOOKUP(C27,'Master List'!$A$2:$C$247,2,FALSE)","v":"H11"},"    Hydrogen Fluoride  (Hydrofluoric Acid)","7664-39-3",null,null,null,"X",null,null,null,null,"X"]
[{"$f":"VLOOKUP(C28,'Master List'!$A$2:$C$247,2,FALSE)","v":"F2"},"FormaldehydeTAC","50-00-0",null,null,null,"X"]
[{"$f":"VLOOKUP(C29,'Master List'!$A$2:$C$247,2,FALSE)","v":"E15"},"Glycol Ethers","110-80-5"]
[{"$f":"VLOOKUP(C30,'Master List'!$A$2:$C$247,2,FALSE)","v":"E14"},"    Ethylene Glycol Butyl Ether – (EGBE)","111-76-2",null,null,null,"X",null,null,null,null,"X"]
[{"$f":"VLOOKUP(C31,'Master List'!$A$2:$C$247,2,FALSE)","v":"E15"},"    Ethylene Glycol Ethyl Ether – (EGEE)","110-80-5",null,null,"X",null,null,null,null,"X"]
[{"$f":"VLOOKUP(C32,'Master List'!$A$2:$C$247,2,FALSE)","v":"E16"},"    Ethylene Glycol Ethyl Ether Acetate - (EGEEA)","111-15-9",null,null,"X",null,null,null,"X","X"]
[{"$f":"VLOOKUP(C33,'Master List'!$A$2:$C$247,2,FALSE)","v":"E17"},"    Ethylene Glycol Methyl Ether – (EGME)","109-86-4",null,null,"X",null,null,null,null,"X"]
[{"$f":"VLOOKUP(C34,'Master List'!$A$2:$C$247,2,FALSE)","v":"H9"},"Hydrochloric Acid  (Hydrogen Chloride)","7647-01-0",null,null,null,"X",null,null,null,null,"X"]
[{"$f":"VLOOKUP(C35,'Master List'!$A$2:$C$247,2,FALSE)","v":"C31"},"Hydrogen Cyanide  (Hydrocyanic Acid)     (See Cyanide Compounds)","74-90-8"]
[{"$f":"VLOOKUP(C36,'Master List'!$A$2:$C$247,2,FALSE)","v":"H11"},"Hydrogen Fluoride (Hydrofluoric Acid) (See Fluorides & Compounds)","7664-39-3"]
[{"$f":"VLOOKUP(C37,'Master List'!$A$2:$C$247,2,FALSE)","v":"S2"},"Hydrogen Selenide (See Selenium & Compounds)","7783-07-5"]
[{"$f":"VLOOKUP(C38,'Master List'!$A$2:$C$247,2,FALSE)","v":"H12"},"Hydrogen Sulfide","7783-06-4",null,null,null,null,null,null,"X"]
[{"$f":"VLOOKUP(C39,'Master List'!$A$2:$C$247,2,FALSE)","v":"I2"},"Isopropyl Alcohol  (Isopropanol)","67-63-0",null,null,null,"X",null,null,null,null,"X"]
[{"$f":"VLOOKUP(C40,'Master List'!$A$2:$C$247,2,FALSE)","v":"M3"},"Mercury & Compounds (Inorganic)","7439-97-6",null,null,"X",null,null,null,"X","X"]
[{"$f":"VLOOKUP(C41,'Master List'!$A$2:$C$247,2,FALSE)","v":"M4"},"    Mercuric Chloride","7487-94-7",null,null,"X",null,null,null,"X","X"]
[{"$f":"VLOOKUP(C42,'Master List'!$A$2:$C$247,2,FALSE)","v":"M5"},"Methanol","67-56-1",null,null,null,null,null,null,"X"]
[{"$f":"VLOOKUP(C43,'Master List'!$A$2:$C$247,2,FALSE)","v":"M6"},"Methyl Bromide  (Bromomethane)","74-83-9",null,null,"X",null,null,null,"X","X","X"]
[{"$f":"VLOOKUP(C44,'Master List'!$A$2:$C$247,2,FALSE)","v":"M8"},"Methyl Chloroform  (1,1,1-Trichloroethane)","71-55-6",null,null,null,null,null,null,"X"]
[{"$f":"VLOOKUP(C45,'Master List'!$A$2:$C$247,2,FALSE)","v":"M9"},"Methyl Ethyl Ketone  (2-Butanone)","78-93-3",null,null,null,"X",null,null,null,null,"X"]
[{"$f":"VLOOKUP(C46,'Master List'!$A$2:$C$247,2,FALSE)","v":"M13"},"Methylene ChlorideTAC   (Dichloromethane)","75-09-2",null,"X",null,null,null,null,"X"]
[{"$f":"VLOOKUP(C47,'Master List'!$A$2:$C$247,2,FALSE)","v":"N12"},"Nickel & CompoundsTAC","7440-02-0",null,null,null,null,null,"X"]
[{"$f":"VLOOKUP(C48,'Master List'!$A$2:$C$247,2,FALSE)","v":"N13"},"    Nickel Acetate","373-02-4",null,null,null,null,null,"X"]
[{"$f":"VLOOKUP(C49,'Master List'!$A$2:$C$247,2,FALSE)","v":"N14"},"    Nickel Carbonate","3333-67-3",null,null,null,null,null,"X"]
[{"$f":"VLOOKUP(C50,'Master List'!$A$2:$C$247,2,FALSE)","v":"N15"},"    Nickel Carbonyl","13463-39-3",null,null,null,null,null,"X"]
[{"$f":"VLOOKUP(C51,'Master List'!$A$2:$C$247,2,FALSE)","v":"N16"},"    Nickel Hydroxide","12054-48-7",null,null,null,null,null,"X"]
[{"$f":"VLOOKUP(C52,'Master List'!$A$2:$C$247,2,FALSE)","v":"N17"},"    Nickelocene","1271-28-9",null,null,null,null,null,"X"]
[{"$f":"VLOOKUP(C53,'Master List'!$A$2:$C$247,2,FALSE)","v":"N18"},"    Nickel Oxide","1313-99-1",null,null,null,null,null,"X"]
[{"$f":"VLOOKUP(C54,'Master List'!$A$2:$C$247,2,FALSE)","v":"N19"},"    Nickel Refinery Dust From The Pyrometallurgical Process",1146,null,null,null,null,null,"X"]
[{"$f":"VLOOKUP(C55,'Master List'!$A$2:$C$247,2,FALSE)","v":"N20"},"    Nickel Subsulfide","12035-72-2",null,null,null,null,null,"X"]
[{"$f":"VLOOKUP(C56,'Master List'!$A$2:$C$247,2,FALSE)","v":"N21"},"Nitric Acid","7697-37-2",null,null,null,null,null,null,null,null,"X"]
[null,"Nitrogen Dioxide","10102-44-0",null,null,null,null,null,null,null,null,"X"]
[null,"Ozone","10028-15-6",null,null,null,"X",null,null,null,null,"X"]
[{"$f":"VLOOKUP(C59,'Master List'!$A$2:$C$247,2,FALSE)","v":"P2"},"PerchloroethyleneTAC  (Tetrachloroethylene)","127-18-4",null,null,null,"X",null,null,"X",null,"X"]
[{"$f":"VLOOKUP(C60,'Master List'!$A$2:$C$247,2,FALSE)","v":"P3"},"Phenol","108-95-2",null,null,null,"X",null,null,null,null,"X"]
[{"$f":"VLOOKUP(C61,'Master List'!$A$2:$C$247,2,FALSE)","v":"P4"},"Phosgene","75-44-5",null,null,null,null,null,null,null,null,"X"]
[{"$f":"VLOOKUP(C62,'Master List'!$A$2:$C$247,2,FALSE)","v":"P71"},"Propylene Oxide","75-56-9",null,null,"X","X",null,null,null,"X","X"]
[{"$f":"VLOOKUP(C63,'Master List'!$A$2:$C$247,2,FALSE)","v":"S1"},"Selenium & Compounds","7782-49-2"]
[{"$f":"VLOOKUP(C64,'Master List'!$A$2:$C$247,2,FALSE)","v":"S2"},"    Hydrogen Selenide","7783-07-5",null,null,null,"X",null,null,null,null,"X"]
[{"$f":"VLOOKUP(C65,'Master List'!$A$2:$C$247,2,FALSE)","v":"S5"},"Sodium Hydroxide","1310-73-2",null,null,null,"X",null,null,null,null,"X","X"]
[{"$f":"VLOOKUP(C66,'Master List'!$A$2:$C$247,2,FALSE)","v":"S6"},"Styrene","100-42-5",null,null,"X","X",null,null,null,"X","X"]
[null,"Sulfates","18785-72-3",null,null,null,null,null,null,null,null,"X"]
[null,"Sulfur Dioxide","7446-09-5",null,null,null,null,null,null,null,null,"X"]
[{"$f":"VLOOKUP(C69,'Master List'!$A$2:$C$247,2,FALSE)","v":"S9"},"Sulfuric Acid","7664-93-9",null,null,null,null,null,null,null,null,"X"]
[{"$f":"VLOOKUP(C70,'Master List'!$A$2:$C$247,2,FALSE)","v":"S10"},"    Sulfur Trioxide","7446-71-9",null,null,null,null,null,null,null,null,"X"]
[{"$f":"VLOOKUP(C71,'Master List'!$A$2:$C$247,2,FALSE)","v":"S11"},"Oleum","8014-95-7",null,null,null,null,null,null,null,null,"X"]
[{"$f":"VLOOKUP(C72,'Master List'!$A$2:$C$247,2,FALSE)","v":"T3"},"Toluene","108-88-3",null,null,"X","X",null,null,"X","X","X"]
[{"$f":"VLOOKUP(C73,'Master List'!$A$2:$C$247,2,FALSE)","v":"T4"},"Toluene Diisocyantates","26471-62-5",null,null,null,null,null,null,null,null,"X"]
[{"$f":"VLOOKUP(C74,'Master List'!$A$2:$C$247,2,FALSE)","v":"T5"},"Toluene-2,4-Diisocyanate","584-84-9",null,null,null,null,null,null,null,null,"X"]
[{"$f":"VLOOKUP(C75,'Master List'!$A$2:$C$247,2,FALSE)","v":"T6"},"Toluene-2,6-Diisocyanate","91-08-7",null,null,null,null,null,null,null,null,"X"]
[{"$f":"VLOOKUP(C76,'Master List'!$A$2:$C$247,2,FALSE)","v":"T9"},"Triethylamine","121-44-8",null,null,null,"X",null,null,"X"]
[null,"Vanadium Compounds","7440-62-2"]
[{"$f":"VLOOKUP(C78,'Master List'!$A$2:$C$247,2,FALSE)","v":"V1"},"    Vanadium (Fume Or Dust)","7440-62-2",null,null,null,"X",null,null,null,null,"X"]
[{"$f":"VLOOKUP(C79,'Master List'!$A$2:$C$247,2,FALSE)","v":"V2"},"    Vanadium Pentoxide","1314-62-1",null,null,null,"X",null,null,null,null,"X"]
[{"$f":"VLOOKUP(C80,'Master List'!$A$2:$C$247,2,FALSE)","v":"V4"},"Vinyl Chloridetac  (Chloroethylene)","75-01-4",null,null,null,"X",null,null,"X",null,"X"]
[{"$f":"VLOOKUP(C81,'Master List'!$A$2:$C$247,2,FALSE)","v":"X1"},"Xylenes  (Mixed Isomers)","1330-20-7",null,null,null,"X",null,null,"X",null,"X"]
[{"$f":"VLOOKUP(C82,'Master List'!$A$2:$C$247,2,FALSE)","v":"X2"},"    m-Xylene","108-38-3",null,null,null,"X",null,null,"X",null,"X"]
[{"$f":"VLOOKUP(C83,'Master List'!$A$2:$C$247,2,FALSE)","v":"X3"},"    o-Xylene","95-47-6",null,null,null,"X",null,null,"X",null,"X"]
[{"$f":"VLOOKUP(C84,'Master List'!$A$2:$C$247,2,FALSE)","v":"X4"},"    p-Xylene","106-42-3",null,null,null,"X",null,null,"X",null,"X"]

{"sheet":"Table ChronicTO","index":35,"n_rows":150,"n_cols":16,"rows_kept":150,"cut":false,"hidden":false,"merged":[]}
[]
[null,{"$f":"TableIndex!B5","v":"ARB's Chronic Target Organ Table - Table 4"}]
["Code","Toxic Air Contaminant","CAS No.","AL","BN","CV","DEV","END","EYE","HEM","IMM","KID","NS","REP","RESP","SKIN"]
[{"$f":"VLOOKUP(C4,'Master List'!$A$2:$C$247,2,FALSE)","v":"A1"},"Acetaldehyde","75-07-0",null,null,null,null,null,null,null,null,null,null,null,"X"]
[{"$f":"VLOOKUP(C5,'Master List'!$A$2:$C$247,2,FALSE)","v":"A3"},"Acrolein","107-02-8",null,null,null,null,null,null,null,null,null,null,null,"X"]
[{"$f":"VLOOKUP(C6,'Master List'!$A$2:$C$247,2,FALSE)","v":"A6"},"Acrylonitrile","107-13-1",null,null,null,null,null,null,null,null,null,null,null,"X"]
[{"$f":"VLOOKUP(C7,'Master List'!$A$2:$C$247,2,FALSE)","v":"A9"},"Ammonia","7664-41-7",null,null,null,null,null,null,null,null,null,null,null,"X"]
[{"$f":"VLOOKUP(C8,'Master List'!$A$2:$C$247,2,FALSE)","v":"A11"},"Arsenic & Compounds (Inorganic)TAC","7440-38-2",null,null,"X","X",null,null,null,null,null,"X","X","X","X"]
[{"$f":"VLOOKUP(C9,'Master List'!$A$2:$C$247,2,FALSE)","v":"A12"},"    Arsine","7784-42-1",null,null,"X","X",null,null,null,null,null,"X","X","X","X"]
[{"$f":"VLOOKUP(C10,'Master List'!$A$2:$C$247,2,FALSE)","v":"B1"},"BenzeneTAC","71-43-2",null,null,null,null,null,null,"X"]
[{"$f":"VLOOKUP(C11,'Master List'!$A$2:$C$247,2,FALSE)","v":"B8"},"Beryllium & Compounds","7440-41-7","X",null,null,null,null,null,null,"X",null,null,null,"X"]
[{"$f":"VLOOKUP(C12,'Master List'!$A$2:$C$247,2,FALSE)","v":"B12"},"1,3-ButadieneTAC","106-99-0",null,null,null,"X",null,null,null,null,null,null,"X"]
[{"$f":"VLOOKUP(C13,'Master List'!$A$2:$C$247,2,FALSE)","v":"C1"},"Cadmium & CompoundsTAC","7440-43-9",null,null,null,null,null,null,null,null,"X",null,null,"X"]
[{"$f":"VLOOKUP(C14,'Master List'!$A$2:$C$247,2,FALSE)","v":"C2"},"Caprolactam","105-60-2",null,null,null,null,null,null,null,null,null,null,null,"X"]
[{"$f":"VLOOKUP(C15,'Master List'!$A$2:$C$247,2,FALSE)","v":"C3"},"Carbon Disulfide","75-15-0",null,null,null,"X",null,null,null,null,null,"X","X"]
[{"$f":"VLOOKUP(C16,'Master List'!$A$2:$C$247,2,FALSE)","v":"C5"},"Carbon TetrachlorideTAC  (Tetrachloromethane)","56-23-5","X",null,null,"X",null,null,null,null,null,"X","X"]
[{"$f":"VLOOKUP(C17,'Master List'!$A$2:$C$247,2,FALSE)","v":"C32"},"Carbonyl Sulfide","463-58-1",null,null,null,null,null,null,null,null,null,"X"]
[{"$f":"VLOOKUP(C18,'Master List'!$A$2:$C$247,2,FALSE)","v":"C7"},"Chlorine","7782-50-5",null,null,null,null,null,null,null,null,null,null,null,"X"]
[{"$f":"VLOOKUP(C19,'Master List'!$A$2:$C$247,2,FALSE)","v":"C8"},"Chlorine Dioxide","10049-04-4",null,null,null,null,null,null,null,null,null,null,null,"X"]
[{"$f":"VLOOKUP(C20,'Master List'!$A$2:$C$247,2,FALSE)","v":"C10"},"Chlorobenzene","108-90-7","X",null,null,"X",null,null,null,null,"X",null,"X"]
[{"$f":"VLOOKUP(C21,'Master List'!$A$2:$C$247,2,FALSE)","v":"C11"},"ChloroformTAC","67-66-3","X",null,null,"X",null,null,null,null,"X",null,"X"]
[{"$f":"VLOOKUP(C22,'Master List'!$A$2:$C$247,2,FALSE)","v":"C14"},"Chloropicrin","76-06-2",null,null,null,null,null,null,null,null,null,null,null,"X"]
[{"$f":"VLOOKUP(C23,'Master List'!$A$2:$C$247,2,FALSE)","v":"C16"},"Chromium 6+TAC","18540-29-9",null,null,null,null,null,null,"X",null,null,null,null,"X"]
[{"$f":"VLOOKUP(C24,'Master List'!$A$2:$C$247,2,FALSE)","v":"C17"},"    Barium Chromate","10294-40-3",null,null,null,null,null,null,"X",null,null,null,null,"X"]
[{"$f":"VLOOKUP(C25,'Master List'!$A$2:$C$247,2,FALSE)","v":"C18"},"    Calcium Chromate","13765-19-0",null,null,null,null,null,null,"X",null,null,null,null,"X"]
[{"$f":"VLOOKUP(C26,'Master List'!$A$2:$C$247,2,FALSE)","v":"C19"},"    Lead Chromate","7758-97-6",null,null,null,null,null,null,"X",null,null,null,null,"X"]
[{"$f":"VLOOKUP(C27,'Master List'!$A$2:$C$247,2,FALSE)","v":"C20"},"    Sodium Dichromate","10588-01-9",null,null,null,null,null,null,"X",null,null,null,null,"X"]
[{"$f":"VLOOKUP(C28,'Master List'!$A$2:$C$247,2,FALSE)","v":"C21"},"    Strontium Chromate","7789-06-2",null,null,null,null,null,null,"X",null,null,null,null,"X"]
[{"$f":"VLOOKUP(C29,'Master List'!$A$2:$C$247,2,FALSE)","v":"C22"},"Chromium Trioxide  (As Chromic Acid Mist)","1333-82-0",null,null,null,null,null,null,"X",null,null,null,null,"X"]
[{"$f":"VLOOKUP(C30,'Master List'!$A$2:$C$247,2,FALSE)","v":"C25"},"Cresols  (Mixtures Of)","1319-77-3",null,null,null,null,null,null,null,null,null,"X"]
[{"$f":"VLOOKUP(C31,'Master List'!$A$2:$C$247,2,FALSE)","v":"C26"},"    m-Cresol","108-39-4",null,null,null,null,null,null,null,null,null,"X"]
[{"$f":"VLOOKUP(C32,'Master List'!$A$2:$C$247,2,FALSE)","v":"C27"},"    o-Cresol","95-48-7",null,null,null,null,null,null,null,null,null,"X"]
[{"$f":"VLOOKUP(C33,'Master List'!$A$2:$C$247,2,FALSE)","v":"C28"},"    p-Cresol","106-44-5",null,null,null,null,null,null,null,null,null,"X"]
[{"$f":"VLOOKUP(C34,'Master List'!$A$2:$C$247,2,FALSE)","v":"C30 - Do not use"},"Cyanide Compounds (Inorganic)","57-12-5",null,null,"X",null,"X",null,null,null,null,"X"]
[{"$f":"VLOOKUP(C35,'Master List'!$A$2:$C$247,2,FALSE)","v":"C31"},"Hydrogen Cyanide  (Hydrocyanic Acid)","74-90-8",null,null,"X",null,"X",null,null,null,null,"X"]
[{"$f":"VLOOKUP(C36,'Master List'!$A$2:$C$247,2,FALSE)","v":"D4"},"p-Dichlorobenzene","106-46-7","X",null,null,null,null,null,null,null,"X","X",null,"X"]
[{"$f":"VLOOKUP(C37,'Master List'!$A$2:$C$247,2,FALSE)","v":"D6"},"1,1,-Dichloroethylene        … (See Vinylidene Chloride)","75-34-3"]
[{"$f":"VLOOKUP(C38,'Master List'!$A$2:$C$247,2,FALSE)","v":"P1"},"Diesel Exhaust\n… (See Particulate Emissions From Diesel-Fueled Engines)",9901,null,null,null,null,null,null,null,null,null,null,null,"X"]
[{"$f":"VLOOKUP(C39,'Master List'!$A$2:$C$247,2,FALSE)","v":"D8"},"Diethanolamine","111-42-2",null,null,null,null,null,null,"X",null,null,null,null,"X"]
[{"$f":"VLOOKUP(C40,'Master List'!$A$2:$C$247,2,FALSE)","v":"D10"},"n,n-Dimethyl Formamide","68-12-2","X",null,null,null,null,null,null,null,null,null,null,"X"]
[{"$f":"VLOOKUP(C41,'Master List'!$A$2:$C$247,2,FALSE)","v":"D12"},"1,4-Dioxane (1,4-Diethylene Dioxide)","123-91-1","X",null,"X",null,null,null,null,null,"X"]
[{"$f":"VLOOKUP(C42,'Master List'!$A$2:$C$247,2,FALSE)","v":"E1"},"Epichlorohydrin (1-Chloro-2,3-Epoxypropane)","106-89-8",null,null,null,null,null,"X",null,null,null,null,null,"X"]
[{"$f":"VLOOKUP(C43,'Master List'!$A$2:$C$247,2,FALSE)","v":"E2"},"1,2-Epoxybutane","106-88-7",null,null,"X",null,null,null,null,null,null,null,null,"X"]
[{"$f":"VLOOKUP(C44,'Master List'!$A$2:$C$247,2,FALSE)","v":"E3"},"Ethyl Benzene","100-41-4","X",null,null,"X","X",null,null,null,"X",null,"X"]
[{"$f":"VLOOKUP(C45,'Master List'!$A$2:$C$247,2,FALSE)","v":"E4"},"Ethyl Chloride  (Chlorethane)","75-00-3","X",null,null,"X",null,null,null,null,null,null,"X"]
[{"$f":"VLOOKUP(C46,'Master List'!$A$2:$C$247,2,FALSE)","v":"E5"},"Ethylene DibromideTAC  (1,2-Dibromoethane)","106-93-4",null,null,null,"X",null,null,null,null,null,null,"X"]
[{"$f":"VLOOKUP(C47,'Master List'!$A$2:$C$247,2,FALSE)","v":"E6"},"Ethylene DichlorideTAC  (1,2-Dichloroethane)","107-06-2","X"]
[{"$f":"VLOOKUP(C48,'Master List'!$A$2:$C$247,2,FALSE)","v":"E7"},"Ethylene Glycol","107-21-1",null,null,null,"X",null,null,null,null,"X",null,"X","X"]
[{"$f":"VLOOKUP(C49,'Master List'!$A$2:$C$247,2,FALSE)","v":"E8"},"Ethylene OxideTAC  (1,2-Epoxyethane)","75-21-8",null,null,null,null,null,null,null,null,null,"X"]
[{"$f":"VLOOKUP(C50,'Master List'!$A$2:$C$247,2,FALSE)","v":"F1"},"Fluorides",1101,null,"X",null,null,null,null,null,null,null,null,null,"X"]
[{"$f":"VLOOKUP(C51,'Master List'!$A$2:$C$247,2,FALSE)","v":"H11"},"Hydrogen Fluoride  (Hydrofluoric Acid)","7664-39-3",null,"X",null,null,null,null,null,null,null,null,null,"X"]
[{"$f":"VLOOKUP(C52,'Master List'!$A$2:$C$247,2,FALSE)","v":"F2"},"FormaldehydeTAC","50-00-0",null,null,null,null,null,null,null,null,null,null,null,"X"]
[{"$f":"VLOOKUP(C53,'Master List'!$A$2:$C$247,2,FALSE)","v":"G1"},"Glutaraldehyde","111-30-8",null,null,null,null,null,null,null,null,null,null,null,"X"]
[{"$f":"VLOOKUP(C54,'Master List'!$A$2:$C$247,2,FALSE)","v":"E15"},"Glycol Ethers","110-80-5"]
[{"$f":"VLOOKUP(C55,'Master List'!$A$2:$C$247,2,FALSE)","v":"E16"},"Ethylene Glycol Ethyl Ether - (EGEE)","111-15-9",null,null,null,"X",null,null,"X",null,null,null,"X"]
[{"$f":"VLOOKUP(C56,'Master List'!$A$2:$C$247,2,FALSE)","v":"E17"},"Ethylene Glycol Ethyl Ether Acetate ­ (EGEEA)","109-86-4",null,null,null,"X",null,null,null,null,null,null,"X"]
[{"$f":"VLOOKUP(C57,'Master List'!$A$2:$C$247,2,FALSE)","v":"E18"},"Ethylene Glycol Methyl Ether - (EGME)","110-49-6",null,null,null,"X",null,null,null,null,null,null,"X"]
[{"$f":"VLOOKUP(C58,'Master List'!$A$2:$C$247,2,FALSE)","v":"H5"},"Ethylene Glycol Methyl Ether Acetate ­ (EGMEA)","58-89-9",null,null,null,"X",null,null,null,null,null,null,"X"]
[{"$f":"VLOOKUP(C59,'Master List'!$A$2:$C$247,2,FALSE)","v":"H6"},"n-Hexane","110-54-3",null,null,null,null,null,null,null,null,null,"X"]
[{"$f":"VLOOKUP(C60,'Master List'!$A$2:$C$247,2,FALSE)","v":"H7"},"Hydrazine","302-01-2","X",null,null,null,"X"]
[{"$f":"VLOOKUP(C61,'Master List'!$A$2:$C$247,2,FALSE)","v":"H9"},"Hydrochloric Acid  (Hydrogen Chloride)","7647-01-0",null,null,null,null,null,null,null,null,null,null,null,"X"]
[{"$f":"VLOOKUP(C62,'Master List'!$A$2:$C$247,2,FALSE)","v":"C31"},"Hydrogen Cyanide  (Hydrocyanic Acid) (See Cyanide Compounds)","74-90-8"]
[null,"Hydrogen Bromide          ... (See Bromine & Compounds)","10035-10-6"]
[{"$f":"VLOOKUP(C64,'Master List'!$A$2:$C$247,2,FALSE)","v":"H11"},"Hydrogen Fluoride  (Hydrofluoric Acid)\n(See Fluorides & Compounds)","7664-39-3"]
[{"$f":"VLOOKUP(C65,'Master List'!$A$2:$C$247,2,FALSE)","v":"H12"},"Hydrogen Sulfide","7783-06-4",null,null,null,null,null,null,null,null,null,null,null,"X"]
[{"$f":"VLOOKUP(C66,'Master List'!$A$2:$C$247,2,FALSE)","v":"I1"},"Isophorone","78-59-1","X",null,null,"X",null,null,null,null,null,null,"X"]
[{"$f":"VLOOKUP(C67,'Master List'!$A$2:$C$247,2,FALSE)","v":"I2"},"Isopropyl Alcohol  (Isopropanol)","67-63-0",null,null,null,"X",null,null,null,null,"X",null,"X"]
[{"$f":"VLOOKUP(C68,'Master List'!$A$2:$C$247,2,FALSE)","v":"H5"},"Lindane                  ... (See Gamma-Hexachlorocyclohexane)","58-89-9"]
[{"$f":"VLOOKUP(C69,'Master List'!$A$2:$C$247,2,FALSE)","v":"M1"},"Maleic Anhydride","108-31-6",null,null,null,null,null,null,null,null,null,null,null,"X"]
[{"$f":"VLOOKUP(C70,'Master List'!$A$2:$C$247,2,FALSE)","v":"M2"},"Manganese & Compounds","7439-96-5",null,null,null,null,null,null,null,null,null,"X"]
[{"$f":"VLOOKUP(C71,'Master List'!$A$2:$C$247,2,FALSE)","v":"M3"},"Mercury & Inorganic Compounds","7439-97-6",null,null,null,"X",null,null,null,null,"X","X","X"]
[{"$f":"VLOOKUP(C72,'Master List'!$A$2:$C$247,2,FALSE)","v":"M4"},"Mercuric Chloride","7487-94-7",null,null,null,"X",null,null,null,null,"X","X","X"]
[{"$f":"VLOOKUP(C73,'Master List'!$A$2:$C$247,2,FALSE)","v":"M5"},"Methanol","67-56-1",null,null,null,"X",null,null,null,null,null,null,"X"]
[{"$f":"VLOOKUP(C74,'Master List'!$A$2:$C$247,2,FALSE)","v":"M6"},"Methyl Bromide  (Bromomethane)","74-83-9",null,null,null,"X",null,null,null,null,null,"X","X","X"]
[{"$f":"VLOOKUP(C75,'Master List'!$A$2:$C$247,2,FALSE)","v":"M7"},"Methyl Tertiary-Butyl Ether","1634-04-4","X",null,null,null,null,"X",null,null,"X"]
[{"$f":"VLOOKUP(C76,'Master List'!$A$2:$C$247,2,FALSE)","v":"M8"},"Methyl Chloroform  (1,1,1-Trichloroethane)","71-55-6",null,null,null,null,null,null,null,null,null,"X"]
[{"$f":"VLOOKUP(C77,'Master List'!$A$2:$C$247,2,FALSE)","v":"M10"},"Methyl Isocyanate","624-83-9",null,null,null,"X",null,null,null,null,null,null,"X","X"]
[{"$f":"VLOOKUP(C78,'Master List'!$A$2:$C$247,2,FALSE)","v":"M13"},"Methylene ChlorideTAC  (Dichloromethane)","75-09-2",null,null,"X",null,null,null,null,null,null,"X"]
[{"$f":"VLOOKUP(C79,'Master List'!$A$2:$C$247,2,FALSE)","v":"M14"},"4,4'-Methylene Dianiline (& Its Dichloride)","101-77-9","X",null,null,null,null,"X"]
[{"$f":"VLOOKUP(C80,'Master List'!$A$2:$C$247,2,FALSE)","v":"M15"},"Methylene Diphenyl Isocyanate","101-68-8",null,null,null,null,null,null,null,null,null,null,null,"X"]
[{"$f":"VLOOKUP(C81,'Master List'!$A$2:$C$247,2,FALSE)","v":"P62"},"Naphthalene","91-20-3",null,null,null,null,null,null,null,null,null,null,null,"X"]
[{"$f":"VLOOKUP(C82,'Master List'!$A$2:$C$247,2,FALSE)","v":"N12"},"Nickel & CompoundsTAC","7440-02-0",null,null,null,"X",null,null,"X",null,null,null,"X","X"]
[{"$f":"VLOOKUP(C83,'Master List'!$A$2:$C$247,2,FALSE)","v":"N13"},"    Nickel Acetate","373-02-4",null,null,null,"X",null,null,"X",null,null,null,"X","X"]
[{"$f":"VLOOKUP(C84,'Master List'!$A$2:$C$247,2,FALSE)","v":"N14"},"    Nickel Carbonate","3333-67-3",null,null,null,"X",null,null,"X",null,null,null,"X","X"]
[{"$f":"VLOOKUP(C85,'Master List'!$A$2:$C$247,2,FALSE)","v":"N15"},"    Nickel Carbonyl","13463-39-3",null,null,null,"X",null,null,"X",null,null,null,"X","X"]
[{"$f":"VLOOKUP(C86,'Master List'!$A$2:$C$247,2,FALSE)","v":"N16"},"    Nickel Hydroxide","12054-48-7",null,null,null,"X",null,null,"X",null,null,null,"X","X"]
[{"$f":"VLOOKUP(C87,'Master List'!$A$2:$C$247,2,FALSE)","v":"N17"},"    Nickelocene","1271-28-9",null,null,null,"X",null,null,"X",null,null,null,"X","X"]
[{"$f":"VLOOKUP(C88,'Master List'!$A$2:$C$247,2,FALSE)","v":"N18"},"    Nickel Oxide","1313-99-1",null,null,null,"X",null,null,null,null,null,null,"X","X"]
[{"$f":"VLOOKUP(C89,'Master List'!$A$2:$C$247,2,FALSE)","v":"N19"},"    Nickel Refinery Dust From Pyrometallurgical Process",1146,null,null,null,"X",null,null,"X",null,null,null,"X","X"]
[{"$f":"VLOOKUP(C90,'Master List'!$A$2:$C$247,2,FALSE)","v":"N20"},"    Nickel Subsulfide","12035-72-2",null,null,null,"X",null,null,"X",null,null,null,"X","X"]
[{"$f":"VLOOKUP(C91,'Master List'!$A$2:$C$247,2,FALSE)","v":"P1"},"Particulate Emissions From Diesel-Fueled EnginesTAC, E",9901,null,null,null,null,null,null,null,null,null,null,null,"X"]
[{"$f":"VLOOKUP(C92,'Master List'!$A$2:$C$247,2,FALSE)","v":"P2"},"PerchloroethyleneTAC  (Tetrachloroethylene)","127-18-4","X",null,null,null,null,null,null,null,"X"]
[{"$f":"VLOOKUP(C93,'Master List'!$A$2:$C$247,2,FALSE)","v":"P3"},"Phenol","108-95-2","X",null,"X",null,null,null,null,null,"X","X"]
[{"$f":"VLOOKUP(C94,'Master List'!$A$2:$C$247,2,FALSE)","v":"P5"},"Phosphine","7803-51-2","X",null,null,null,null,null,"X",null,"X","X",null,"X"]
[{"$f":"VLOOKUP(C95,'Master List'!$A$2:$C$247,2,FALSE)","v":"P6"},"Phosphoric Acid","7664-38-2",null,null,null,null,null,null,null,null,null,null,null,"X"]
[{"$f":"VLOOKUP(C96,'Master List'!$A$2:$C$247,2,FALSE)","v":"P7"},"Phthalic Anhydride","85-44-9",null,null,null,null,null,null,null,null,null,null,null,"X"]
[{"$f":"VLOOKUP(C97,'Master List'!$A$2:$C$247,2,FALSE)","v":"P8"},"Dioxin-Like Polychlorinated Biphenyls (PCBS)F, G","1336-36-3","X",null,null,"X","X",null,"X",null,null,null,"X","X"]
[{"$f":"VLOOKUP(C98,'Master List'!$A$2:$C$247,2,FALSE)","v":"P9"},"    3,3',4,4'-Tetrachlorobiphenyl  (PCB 77)","32598-13-3","X",null,null,"X","X",null,"X",null,null,null,"X","X"]
[{"$f":"VLOOKUP(C99,'Master List'!$A$2:$C$247,2,FALSE)","v":"P10"},"    3,4,4',5-Tetrachlorobiphenyl  (PCB 81)","70362-50-4","X",null,null,"X","X",null,"X",null,null,null,"X","X"]
[{"$f":"VLOOKUP(C100,'Master List'!$A$2:$C$247,2,FALSE)","v":"P11"},"    2,3,3',4,4'-Pentachlorobiphenyl  (PCB 105)","32598-14-4","X",null,null,"X","X",null,"X",null,null,null,"X","X"]
[{"$f":"VLOOKUP(C101,'Master List'!$A$2:$C$247,2,FALSE)","v":"P12"},"    2,3,4,4',5-Pentachlorobiphenyl  (PCB 114)","74472-37-0","X",null,null,"X","X",null,"X",null,null,null,"X","X"]
[{"$f":"VLOOKUP(C102,'Master List'!$A$2:$C$247,2,FALSE)","v":"P13"},"    2,3',4,4',5-Pentachlorobiphenyl  (PCB 118)","31508-00-6","X",null,null,"X","X",null,"X",null,null,null,"X","X"]
[{"$f":"VLOOKUP(C103,'Master List'!$A$2:$C$247,2,FALSE)","v":"P14"},"    2,3',4,4',5'-Pentachlorobiphenyl (PCB 123)","65510-44-3","X",null,null,"X","X",null,"X",null,null,null,"X","X"]
[{"$f":"VLOOKUP(C104,'Master List'!$A$2:$C$247,2,FALSE)","v":"P15"},"    3,3',4,4',5-Pentachlorobiphenyl  (PCB 126)","57465-28-8","X",null,null,"X","X",null,"X",null,null,null,"X","X"]
[{"$f":"VLOOKUP(C105,'Master List'!$A$2:$C$247,2,FALSE)","v":"P16"},"    2,3,3',4,4',5-Hexachlorobiphenyl (PCB 156)","38380-08-4","X",null,null,"X","X",null,"X",null,null,null,"X","X"]
[{"$f":"VLOOKUP(C106,'Master List'!$A$2:$C$247,2,FALSE)","v":"P17"},"    2,3,3',4,4',5'-Hexachlorobiphenyl (PCB 157)","69782-90-7","X",null,null,"X","X",null,"X",null,null,null,"X","X"]
[{"$f":"VLOOKUP(C107,'Master List'!$A$2:$C$247,2,FALSE)","v":"P18"},"    2,3',4,4',5,5'-Hexachlorobiphenyl (PCB 167)","52663-72-6","X",null,null,"X","X",null,"X",null,null,null,"X","X"]
[{"$f":"VLOOKUP(C108,'Master List'!$A$2:$C$247,2,FALSE)","v":"P19"},"    3,3',4,4',5,5'-Hexachlorobiphenyl (PCB 169)","32774-16-6","X",null,null,"X","X",null,"X",null,null,null,"X","X"]
[{"$f":"VLOOKUP(C109,'Master List'!$A$2:$C$247,2,FALSE)","v":"P20"},"    2,3,3',4,4',5,5'-Heptachlorobiphenyl (PCB 189)","39635-31-9","X",null,null,"X","X",null,"X",null,null,null,"X","X"]
[{"$f":"VLOOKUP(C110,'Master List'!$A$2:$C$247,2,FALSE)","v":"P22"},"Polychlorinated Dibenzo-P-Dioxins (PCDD) (Treated As 2,3,7,8-TCDD for HRA)TAC, F",1086,"X",null,null,"X","X",null,"X",null,null,null,"X","X"]
[{"$f":"VLOOKUP(C111,'Master List'!$A$2:$C$247,2,FALSE)","v":"P23"},"    2,3,7,8-Tetrachlorodibenzo-P-DioxinTAC","1746-01-6","X",null,null,"X","X",null,"X",null,null,null,"X","X"]
[{"$f":"VLOOKUP(C112,'Master List'!$A$2:$C$247,2,FALSE)","v":"P24"},"    1,2,3,7,8-Pentachlorodibenzo-P-Dioxin","40321-76-4","X",null,null,"X","X",null,"X",null,null,null,"X","X"]
[{"$f":"VLOOKUP(C113,'Master List'!$A$2:$C$247,2,FALSE)","v":"P25"},"    1,2,3,4,7,8-Hexachlorodibenzo-P-Dioxin","39227-28-6","X",null,null,"X","X",null,"X",null,null,null,"X","X"]
[{"$f":"VLOOKUP(C114,'Master List'!$A$2:$C$247,2,FALSE)","v":"P26"},"    1,2,3,6,7,8-Hexachlorodibenzo-P-Dioxin","57653-85-7","X",null,null,"X","X",null,"X",null,null,null,"X","X"]
[{"$f":"VLOOKUP(C115,'Master List'!$A$2:$C$247,2,FALSE)","v":"P27"},"    1,2,3,7,8,9-Hexachlorodibenzo-P-Dioxin","19408-74-3","X",null,null,"X","X",null,"X",null,null,null,"X","X"]
[{"$f":"VLOOKUP(C116,'Master List'!$A$2:$C$247,2,FALSE)","v":"P28"},"    1,2,3,4,6,7,8-Heptachlorodibenzo-P-Dioxin","35822-46-9","X",null,null,"X","X",null,"X",null,null,null,"X","X"]
[{"$f":"VLOOKUP(C117,'Master List'!$A$2:$C$247,2,FALSE)","v":"P29"},"    1,2,3,4,6,7,8,9-Octachlorodibenzo-P-Dioxin","3268-87-9","X",null,null,"X","X",null,"X",null,null,null,"X","X"]
[{"$f":"VLOOKUP(C118,'Master List'!$A$2:$C$247,2,FALSE)","v":"P30"},"Polychlorinated Dibenzofurans (PCDF) (Treated As 2,3,7,8-TCDD for HRA)TAC, F",1080,"X",null,null,"X","X",null,"X",null,null,null,"X","X"]
[{"$f":"VLOOKUP(C119,'Master List'!$A$2:$C$247,2,FALSE)","v":"P31"},"    2,3,7,8-Tetrachlorodibenzofuran","51207-31-9","X",null,null,"X","X",null,"X",null,null,null,"X","X"]
[{"$f":"VLOOKUP(C120,'Master List'!$A$2:$C$247,2,FALSE)","v":"P32"},"    1,2,3,7,8-Pentachlorodibenzofuran","57117-41-6","X",null,null,"X","X",null,"X",null,null,null,"X","X"]
[{"$f":"VLOOKUP(C121,'Master List'!$A$2:$C$247,2,FALSE)","v":"P33"},"    2,3,4,7,8-Pentachlorodibenzofurn","57117-31-4","X",null,null,"X","X",null,"X",null,null,null,"X","X"]
[{"$f":"VLOOKUP(C122,'Master List'!$A$2:$C$247,2,FALSE)","v":"P34"},"    1,2,3,4,7,8-Hexachlorodibenzofuran","70648-26-9","X",null,null,"X","X",null,"X",null,null,null,"X","X"]
[{"$f":"VLOOKUP(C123,'Master List'!$A$2:$C$247,2,FALSE)","v":"P35"},"    1,2,3,6,7,8-Hexachlorodibenzofuran","57117-44-9","X",null,null,"X","X",null,"X",null,null,null,"X","X"]
[{"$f":"VLOOKUP(C124,'Master List'!$A$2:$C$247,2,FALSE)","v":"P36"},"    1,2,3,7,8,9-Hexachlorodibenzofuran","72918-21-9","X",null,null,"X","X",null,"X",null,null,null,"X","X"]
[{"$f":"VLOOKUP(C125,'Master List'!$A$2:$C$247,2,FALSE)","v":"P37"},"    2,3,4,6,7,8-Hexachlorodibenzofuran","60851-34-5","X",null,null,"X","X",null,"X",null,null,null,"X","X"]
[{"$f":"VLOOKUP(C126,'Master List'!$A$2:$C$247,2,FALSE)","v":"P38"},"    1,2,3,4,6,7,8-Heptachlorodibenzofuran","67562-39-4","X",null,null,"X","X",null,"X",null,null,null,"X","X"]
[{"$f":"VLOOKUP(C127,'Master List'!$A$2:$C$247,2,FALSE)","v":"P39"},"    1,2,3,4,7,8,9-Heptachlorodibenzofuran","55673-89-7","X",null,null,"X","X",null,"X",null,null,null,"X","X"]
[{"$f":"VLOOKUP(C128,'Master List'!$A$2:$C$247,2,FALSE)","v":"P40"},"    1,2,3,4,6,7,8,9-Octachlorodibenzofuran","39001-02-0","X",null,null,"X","X",null,"X",null,null,null,"X","X"]
[{"$f":"VLOOKUP(C129,'Master List'!$A$2:$C$247,2,FALSE)","v":"B11"},"Potassium Bromate        ... (See Bromine &\nCompounds)","7758-01-2"]
[{"$f":"VLOOKUP(C130,'Master List'!$A$2:$C$247,2,FALSE)","v":"P69"},"Propylene  (Propene)","115-07-1",null,null,null,null,null,null,null,null,null,null,null,"X"]
[{"$f":"VLOOKUP(C131,'Master List'!$A$2:$C$247,2,FALSE)","v":"P70"},"Propylene Glycol Monomethyl Ether","107-98-2","X"]
[{"$f":"VLOOKUP(C132,'Master List'!$A$2:$C$247,2,FALSE)","v":"P71"},"Propylene Oxide","75-56-9",null,null,null,null,null,null,null,null,null,null,null,"X"]
[{"$f":"VLOOKUP(C133,'Master List'!$A$2:$C$247,2,FALSE)","v":"S1"},"Selenium & Compounds (Other Than Hydrogen Selenide)","7782-49-2","X",null,"X",null,null,null,null,null,null,"X"]
[{"$f":"VLOOKUP(C134,'Master List'!$A$2:$C$247,2,FALSE)","v":"S3"},"Selenium Sulfide","7446-34-6","X",null,"X",null,null,null,null,null,null,"X"]
[{"$f":"VLOOKUP(C135,'Master List'!$A$2:$C$247,2,FALSE)","v":"S4-Do Not Use"},"Silica [Crystalline, Respirable]","7631-86-9",null,null,null,null,null,null,null,null,null,null,null,"X"]
[{"$f":"VLOOKUP(C136,'Master List'!$A$2:$C$247,2,FALSE)","v":"S6"},"Styrene","100-42-5",null,null,null,null,null,null,null,null,null,"X"]
[{"$f":"VLOOKUP(C137,'Master List'!$A$2:$C$247,2,FALSE)","v":"S9"},"Sulfuric Acid","7664-93-9",null,null,null,null,null,null,null,null,null,null,null,"X"]
[{"$f":"VLOOKUP(C138,'Master List'!$A$2:$C$247,2,FALSE)","v":"S10"},"    Sulfuric Trioxide","7446-71-9",null,null,null,null,null,null,null,null,null,null,null,"X"]
[{"$f":"VLOOKUP(C139,'Master List'!$A$2:$C$247,2,FALSE)","v":"T3"},"Toluene","108-88-3",null,null,null,"X",null,null,null,null,null,"X","X","X"]
[{"$f":"VLOOKUP(C140,'Master List'!$A$2:$C$247,2,FALSE)","v":"T4"},"    Toluene Diisocyanates","26471-62-5",null,null,null,null,null,null,null,null,null,null,null,"X"]
[{"$f":"VLOOKUP(C141,'Master List'!$A$2:$C$247,2,FALSE)","v":"T5"},"    Toluene-2,4-Diisocyanate","584-84-9",null,null,null,null,null,null,null,null,null,null,null,"X"]
[{"$f":"VLOOKUP(C142,'Master List'!$A$2:$C$247,2,FALSE)","v":"T6"},"    Toluene-2,6-Diisocyanate","91-08-7",null,null,null,null,null,null,null,null,null,null,null,"X"]
[{"$f":"VLOOKUP(C143,'Master List'!$A$2:$C$247,2,FALSE)","v":"T8"},"    TrichloroethyleneTAC","79-01-6",null,null,null,null,null,"X",null,null,null,"X"]
[{"$f":"VLOOKUP(C144,'Master List'!$A$2:$C$247,2,FALSE)","v":"T9"},"Triethylamine","121-44-8",null,null,null,null,null,"X"]
[{"$f":"VLOOKUP(C145,'Master List'!$A$2:$C$247,2,FALSE)","v":"V3"},"Vinyl Acetate","108-05-4",null,null,null,null,null,null,null,null,null,null,null,"X"]
[{"$f":"VLOOKUP(C146,'Master List'!$A$2:$C$247,2,FALSE)","v":"V5"},"Vinylidene Chloride  (1,1,-Dichloroethylene)","75-35-4","X"]
[{"$f":"VLOOKUP(C147,'Master List'!$A$2:$C$247,2,FALSE)","v":"X1"},"Xylenes  (Mixed Isomers)","1330-20-7",null,null,null,null,null,"X",null,null,null,"X",null,"X"]
[{"$f":"VLOOKUP(C148,'Master List'!$A$2:$C$247,2,FALSE)","v":"X2"},"    m-Xylene","108-38-3",null,null,null,null,null,"X",null,null,null,"X",null,"X"]
[{"$f":"VLOOKUP(C149,'Master List'!$A$2:$C$247,2,FALSE)","v":"X3"},"    o-Xylene","95-47-6",null,null,null,null,null,"X",null,null,null,"X",null,"X"]
[{"$f":"VLOOKUP(C150,'Master List'!$A$2:$C$247,2,FALSE)","v":"X4"},"    p-Xylene","106-42-3",null,null,null,null,null,"X",null,null,null,"X",null,"X"]

{"sheet":"Table 8hrTO","index":36,"n_rows":27,"n_cols":16,"rows_kept":27,"cut":false,"hidden":false,"merged":[[0,1,1,15]]}
[null,"Table 11.3\nTarget Organs Affected by Toxic Air Contaminants (8-Hour Reference Exposure)"]
[]
[null,"Toxic Air Contaminant","CAS No.","AL","BN","CV","DEV","END","EYE","HEM","IMM","KID","NS","REP","RESP","SKIN"]
[{"$f":"VLOOKUP(C4,'Master List'!$A$2:$C$247,2,FALSE)","v":"A1"},"Acetaldehyde","75-07-0",null,null,null,null,null,null,null,null,null,null,null,"X"]
[{"$f":"VLOOKUP(C5,'Master List'!$A$2:$C$247,2,FALSE)","v":"A3"},"Acrolein","107-02-8",null,null,null,null,null,null,null,null,null,null,null,"X"]
[{"$f":"VLOOKUP(C6,'Master List'!$A$2:$C$247,2,FALSE)","v":"A11"},"Arsenic And Compounds (Inorganic)TAC","7440-38-2",null,null,"X","X",null,null,null,null,null,"X","X","X","X"]
[{"$f":"VLOOKUP(C7,'Master List'!$A$2:$C$247,2,FALSE)","v":"A12"},"    Arsine","7784-42-1",null,null,"X","X",null,null,null,null,null,"X","X","X","X"]
[{"$f":"VLOOKUP(C8,'Master List'!$A$2:$C$247,2,FALSE)","v":"B1"},"BenzeneTAC","71-43-2",null,null,null,null,null,null,"X"]
[{"$f":"VLOOKUP(C9,'Master List'!$A$2:$C$247,2,FALSE)","v":"B12"},"1,3-ButadieneTAC","106-99-0",null,null,null,"X"]
[{"$f":"VLOOKUP(C10,'Master List'!$A$2:$C$247,2,FALSE)","v":"C2"},"Caprolactam","105-60-2",null,null,null,null,null,null,null,null,null,null,null,"X"]
[{"$f":"VLOOKUP(C11,'Master List'!$A$2:$C$247,2,FALSE)","v":"C32"},"Carbonyl Sulfide","463-58-1",null,null,null,null,null,null,null,null,null,"X"]
[{"$f":"VLOOKUP(C12,'Master List'!$A$2:$C$247,2,FALSE)","v":"F2"},"FormaldehydeTAC","50-00-0",null,null,null,null,null,null,null,null,null,null,null,"X"]
[{"$f":"VLOOKUP(C13,'Master List'!$A$2:$C$247,2,FALSE)","v":"M2"},"Manganese And Compounds","7439-96-5",null,null,null,null,null,null,null,null,null,"X"]
[{"$f":"VLOOKUP(C14,'Master List'!$A$2:$C$247,2,FALSE)","v":"M3"},"Mercury And Compounds (Inorganic)","7439-97-6",null,null,null,"X",null,null,null,null,"X","X","X"]
[{"$f":"VLOOKUP(C15,'Master List'!$A$2:$C$247,2,FALSE)","v":"M4"},"    Mercuric Chloride","7487-94-7",null,null,null,"X",null,null,null,null,"X","X","X"]
[{"$f":"VLOOKUP(C16,'Master List'!$A$2:$C$247,2,FALSE)","v":"N12"},"Nickel And CompoundsTAC","7440-02-0",null,null,null,null,null,null,null,"X",null,null,null,"X"]
[{"$f":"VLOOKUP(C17,'Master List'!$A$2:$C$247,2,FALSE)","v":"N13"},"    Nickel Acetate","373-02-4",null,null,null,null,null,null,null,"X",null,null,null,"X"]
[{"$f":"VLOOKUP(C18,'Master List'!$A$2:$C$247,2,FALSE)","v":"N14"},"    Nickel Carbonate","3333-67-3",null,null,null,null,null,null,null,"X",null,null,null,"X"]
[{"$f":"VLOOKUP(C19,'Master List'!$A$2:$C$247,2,FALSE)","v":"N15"},"    Nickel Carbonyl","13463-39-3",null,null,null,null,null,null,null,"X",null,null,null,"X"]
[{"$f":"VLOOKUP(C20,'Master List'!$A$2:$C$247,2,FALSE)","v":"N16"},"    Nickel Hydroxide","12054-48-7",null,null,null,null,null,null,null,"X",null,null,null,"X"]
[{"$f":"VLOOKUP(C21,'Master List'!$A$2:$C$247,2,FALSE)","v":"N17"},"    Nickelocene","1271-28-9",null,null,null,null,null,null,null,"X",null,null,null,"X"]
[{"$f":"VLOOKUP(C22,'Master List'!$A$2:$C$247,2,FALSE)","v":"N18"},"    Nickel Oxide","1313-99-1",null,null,null,null,null,null,null,"X",null,null,null,"X"]
[{"$f":"VLOOKUP(C23,'Master List'!$A$2:$C$247,2,FALSE)","v":"N19"},"    Nickel Refinery Dust From The Pyrometallurgical Process",1146]
[{"$f":"VLOOKUP(C24,'Master List'!$A$2:$C$247,2,FALSE)","v":"N20"},"    Nickel Subsulfide","12035-72-2"]
[{"$f":"VLOOKUP(C25,'Master List'!$A$2:$C$247,2,FALSE)","v":"T4"},"Toluene Diisocyantates","26471-62-5",null,null,null,null,null,null,null,null,null,null,null,"X"]
[{"$f":"VLOOKUP(C26,'Master List'!$A$2:$C$247,2,FALSE)","v":"T5"},"Toluene-2,4-Diisocyanate","584-84-9",null,null,null,null,null,null,null,null,null,null,null,"X"]
[{"$f":"VLOOKUP(C27,'Master List'!$A$2:$C$247,2,FALSE)","v":"T6"},"Toluene-2,6-Diisocyanate","91-08-7",null,null,null,null,null,null,null,null,null,null,null,"X"]

{"sheet":"Table 4","index":37,"n_rows":24,"n_cols":8,"rows_kept":24,"cut":false,"hidden":false,"merged":[[0,0,0,6],[1,0,1,6],[16,0,16,6],[17,0,17,6]]}
[{"$f":"TableIndex!A8","v":"Table 4"}]
["Residential Combined Exposure Factor (CEF)"]
[]
["Age","Breathing Rate \n(L/kg-day)","Age Specific Factor","Exposure Duration\n(years)","Fraction of Time at Home","Exposure Frequency\n(350 days/year)","Exposure Duration (years)","CEF for short term & long term project"]
["-0.25 to 0",361,10,0.25,1,{"$f":"ROUND(350/365,2)","v":0.96}]
["0 to 2",1090,10,2,1,0.96,2,{"$f":"((B5*C5*D5*E5)+(B6*C6*D6*E6))*F6/70","v":311.3485714285714}]
["2 to 5",631,3,3,1,0.96,5,{"$f":"((B5*C5*D5*E5*F5)+(B6*C6*D6*E6*F6)+(B7*C7*D7*E7*F7))/70","v":389.23200000000003}]
["2 to 9",631,3,7,1,0.96,9,{"$f":"((B5*C5*D5*E5*F5)+(B6*C6*D6*E6*F6)+(B8*C8*D8*E8*F8))/70","v":493.07657142857141}]
["2 to 16",572,3,14,1,0.96]
["16 to 30",261,1,14,0.73,0.96,30,{"$f":"((B5*C5*D5*E5*F5)+(B6*C6*D6*E6*F6)+(B9*C9*D9*E9*F9)+(B10*C10*D10*E10*F10))/70","v":677.40233142857142}]
["16 to 70 *",233,1,54,0.73,0.96,70,{"$f":"((B5*C5*D5*E5*F5)+(B6*C6*D6*E6*F6)+(B9*C9*D9*E9*F9)+(B11*C11*D11*E11*F11))/70","v":766.78436571428574}]
["* Not from AQMD Risk Procedure.  Numbers from Table 5.7 OEHHA Guideline Manual & Table 1.2-1.4 App.I.  Breathing Rate is at 80th percentile. "]
[]
[]
[]
[]
[{"$f":"TableIndex!A8","v":"Table 4"}]
["Worker Combined Exposure Factor (CEF)"]
[]
["Age","Breathing Rate \n(L/kg-day)","Age Specific Factor","Exposure Duration\n(years)","Exposure Frequency\n(250 days/year)","Exposure Duration (years)","CEF for short term & long term project","Risk Procedure Reference"]
["16 - 41",230,1,2,{"$f":"ROUND(250/365,2)","v":0.68},2,{"$f":"E21*D21*C21*B21/70","v":4.4685714285714289}]
["16 - 41",230,1,5,{"$f":"ROUND(250/365,2)","v":0.68},5,{"$f":"E22*D22*C22*B22/70","v":11.171428571428573}]
["16 - 41",230,1,9,{"$f":"ROUND(250/365,2)","v":0.68},9,{"$f":"E23*D23*C23*B23/70","v":20.10857142857143}]
["16 - 41",230,1,25,{"$f":"ROUND(250/365,2)","v":0.68},30,{"$f":"E24*D24*C24*B24/70","v":55.857142857142854}]

{"sheet":"Table 5","index":38,"n_rows":33,"n_cols":8,"rows_kept":33,"cut":false,"hidden":false,"merged":[[18,0,19,0],[18,1,18,7],[0,0,0,7],[1,0,2,0],[1,1,1,7]]}
["Table 5.1 - Worker Adjustment Factor (WAF) Operating 12 Hours Per Day or Less"]
["Hours of Operation Per Day","Days of Operation Per Week"]
[null,1,2,3,4,5,6,7]
[1,4.2,4.2,4.2,4.2,4.2,3.5,3]
[2,4.2,4.2,4.2,4.2,4.2,3.5,3]
[3,4.2,4.2,4.2,4.2,4.2,3.5,3]
[4,4.2,4.2,4.2,4.2,4.2,3.5,3]
[5,4.2,4.2,4.2,4.2,4.2,3.5,3]
[6,4.2,4.2,4.2,4.2,4.2,3.5,3]
[7,4.2,4.2,4.2,4.2,4.2,3.5,3]
[8,4.2,4.2,4.2,4.2,4.2,3.5,3]
[9,3.7,3.7,3.7,3.7,3.7,3.1,2.7]
[10,3.4,3.4,3.4,3.4,3.4,2.8,2.4]
[11,3.1,3.1,3.1,3.1,3.1,2.5,2.2000000000000002]
[12,2.8,2.8,2.8,2.8,2.8,2.2999999999999998,2]
["Note: The WAF value for residential/sensitive receptors is 1.0, which assumes exposure of 24 hours/day, 7 days/week"]
[]
["Table 5.2 -  Worker Adjustment Factor (WAF) Operating More Than 12 Hours Per Day"]
["Hours of Operation Per Day","Days of Operation Per Week"]
[null,1,2,3,4,5,6,7]
[13,2.6,2.6,2.6,2.6,2.6,2.2000000000000002,1.8]
[14,2.4,2.4,2.4,2.4,2.4,2,1.7]
[15,2.2000000000000002,2.2000000000000002,2.2000000000000002,2.2000000000000002,2.2000000000000002,1.9,1.6]
[16,2.1,2.1,2.1,2.1,2.1,1.8,1.5]
[17,2,2,2,2,2,1.6,1.4]
[18,1.9,1.9,1.9,1.9,1.9,1.6,1.3]
[19,1.8,1.8,1.8,1.8,1.8,1.5,1.3]
[20,1.7,1.7,1.7,1.7,1.7,1.4,1.2]
[21,1.6,1.6,1.6,1.6,1.6,1.3,1.1000000000000001]
[22,1.5,1.5,1.5,1.5,1.5,1.3,1.1000000000000001]
[23,1.5,1.5,1.5,1.5,1.5,1.2,1]
[24,1.4,1.4,1.4,1.4,1.4,1.2,1]
["Note: The WAF value for residential/sensitive receptors is 1.0, which assumes exposure of 24 hours/day, 7 days/week"]

{"sheet":"Release Notes","index":39,"n_rows":60,"n_cols":15,"rows_kept":60,"cut":false,"hidden":false,"merged":[[0,0,0,12],[2,0,2,12],[1,0,1,12],[33,0,33,9],[34,0,34,9],[32,0,32,9],[24,0,24,12],[26,0,26,12],[27,0,27,12],[28,0,28,12],[29,0,29,12],[30,0,30,12],[31,0,31,12],[23,0,23,12],[15,0,15,12],[16,0,16,12],[3,0,3,12],[4,0,4,12],[7,0,7,12],[8,0,8,12],[18,0,18,12],[9,0,9,12],[10,0,10,12],[17,0,17,12],[13,0,13,12],[14,0,14,12],[5,0,5,12],[6,0,6,12],[59,0,59,9],[45,0,45,9],[35,0,35,9],[46,0,46,9],[55,0,55,9],[47,0,47,9],[48,0,48,9],[49,0,49,9],[50,0,50,9],[51,0,51,9],[53,0,53,9],[54,0,54,9],[52,0,52,9],[44,0,44,9],[39,0,39,12],[36,0,36,12],[56,0,56,9],[58,0,58,9],[11,0,11,12],[12,0,12,12],[37,0,37,12],[40,0,40,9],[43,0,43,9],[41,0,41,9],[42,0,42,9],[38,0,38,12],[21,0,21,12],[22,0,22,12],[19,0,19,12],[20,0,20,12]]}
["Risk Tool Release Notes",null,null,null,null,null,null,null,null,null,null,null,null,null,"For further questions, please contact:"]
["Implements SCAQMD Risk Assessment Procedures For Rule 1401, 1401.1 and Rule 212 \n(Procedure Version 8.1 & Package N, September 1, 2017 )",null,null,null,null,null,null,null,null,null,null,null,null,null,"David Hauck\nSupervising Engineer\nPhone Number: (909) 396-2512"]
[]
["Risk Tool V1.105",null,null,null,null,null,null,null,null,null,null,null,null,null,"2020-01-10"]
["1. Fixed bug in Rule 409 PM grain/scf formula for Spraybooth.\n\n"]
["Risk Tool V1.104",null,null,null,null,null,null,null,null,null,null,null,null,null,"2019-12-10"]
["1. Fixed bug in Tier 2 Report 70 yr MICR calculation for Spraybooth.\n\n"]
["Risk Tool V1.103",null,null,null,null,null,null,null,null,null,null,null,null,null,"2019-04-09"]
["1. Fixed bug in Table Acute TO.  Remove V1 look up code for Vanadium Compound.\n\n2. DieselICE.  Add lookup fuction for EPA emssion standard in cell D10  to reflect different EFs from different inputs of engine HP, mfg year, and engine generator type. "]
["Risk Tool V1.102",null,null,null,null,null,null,null,null,null,null,null,null,null,"2018-05-18"]
["1. Improved conversion factor of g/sec to lb/hr in Tier 3 Input sheet.\n  \n2.  Fixed bug in Tier 2 report (cell H249 had no formula) "]
["Risk Tool V1.101",null,null,null,null,null,null,null,null,null,null,null,null,null,"2018-01-18"]
["1. Corrected Hourly screening values for Styrene (CAS 100-42-5).  Was 2.65E-2, 6.61E-2 and 1.66E-1 lb/hr for 25 m, 50 m and 100 m respectively.  Corrected to 4.64, 1.16E+1 and 2.90 E+1 lb/hr for 25 m, 50 m and 100 m respectively.\n  \n2.  Fixed Tier 2 report print out bug "]
["Risk Tool V1.1",null,null,null,null,null,null,null,null,null,null,null,null,null,"2017-10-24"]
["1. Applied Risk Procedure Version 8.1 & Package N tables from September 1, 2017 Rule 1401 amendment.  Applicable for applications with deemed complete date on or after October 1, 2017.\n2. Updated MET station list.\n3. Added Spray Booth module.  \n4. Added Gas Station module. MICR for Gas Station is looked up from tables in Package N, not calculated and displayed in Tier 2 report like other modules.  There is no Tier 3 for Gas Station.\n5. Added new TACs to Table 1: Caprolactum (CAS 105-60-2) & Carbonyl Sulfide (CAS 463-58-1) with Chronic and Acute effective date of 9/1/2017; Vanadium (fume or dust) (CAS 7440-62-2) with Acute effective date of 8/13/1999. \n6. Added Acute effective date of 9/1/2017 for other TACs: \n     1,3-Butadiene (CAS 106-99-0);    Methylene Diphenyl Diisocyanate  (CAS 101-68-8)\n     Toluene Diisocyantates (CAS 26471-62-5);     Toluene-2,4-Diisocyanate (CAS 584-84-9)\n     Toluene-2,6-Diisocyanate (CAS 91-08-7)\n7. Added or modified Acute, Chronic & 8-hr Chronic RELs for: \n     Methylene Diphenyl Diisocyanate  (CAS 101-68-8)\n     Toluene Diisocyantates (CAS 26471-62-5);     Toluene-2,4-Diisocyanate (CAS 584-84-9)\n     Toluene-2,6-Diisocyanate (CAS 91-08-7)\n8. Added conversion feature in Emission sheet.  \n9. Renamed table names according to Package N\n\n  \n"]
["Risk Tool (V1.03) (Version 8.0 & Attachment M, Revision March 2016 )",null,null,null,null,null,null,null,null,null,null,null,null,null,"2016-09-01"]
["1. Corrected screening emission levels for PAH (CAS 1151) in table 1 to match with Table 1.1, Package M, Revision March 2016,  (was 6.28E-3 lb/hr @25 m, 1.19E-2 lb/hr @50m, 3.89E-2 lb/hr @100m; corrected to 6.28E-4 lb/hr @25 m, 1.19E-3 lb/hr @50m, 3.89E-3 lb/hr @100m)\n2. Removed the Do Not Use tag for Selenium Sulfide (CAS 7446-34-6) in TAC list to match with Table 1.1 and table 8.1, Package M, Revision March 2016.\n3. Modified Emission input sheet to accept non-integer values for operating hours. \n\n  \n"]
["RiskTool (V1.02)",null,null,null,null,null,null,null,null,null,null,null,null,null,"2016-03-01"]
["1. Unlocked Unit Conversion Calculator in Tier 3 Input tab.\n2. Corrected CAS number and screening emission levels for PAH (CAS 1151) in table 1.\n3. Corrected CAS number for PAH in table 8 (was 1150 instead of 1151).\n4. Corrected error in calculating 8-hour Hazard Index Chronic - Resident in Tier 2 Report tab (was using Worker WAF in calculation instead of Resident WAF). \n"]
["RiskTool (V1.01)",null,null,null,null,null,null,null,null,null,null,null,null,null,"2015-09-01"]
["1. Modified Boiler input sheet to allow boiler rating cell to accept non-integer numbers\n2. Fixed bug so that HIC value for Diesel Particulates (code P1) is calculated\n3. Fixed bug so Cancer potency for Polychlorinated Biphenyls (code P8) is calculated \n4. Fixed bug when San Bernardino is selected as the monitoring station.\n5. Streamlined calculation for Cancer Burden when Tier 3 AERSCREEN is chosen.  Fixed several typos.\n6. Modified lookup method for WAF so WAF can be calculated when the hours of operation is not an integer.\n7. Modified Diesel ICE sheet to accept engines with rating greater than 1150 BHP for Tier 3 analysis. \n8. Modified Boiler sheet to accept boilers with rating greater than 200MMBtu/hr for Tier 3 analysis."]
["RiskTool (V1.00)"]
["1. 8 Hour Chronic REL effective date is 7/5/2015"]
[]
[]
[]
[]
[]
[]
[]
[]
[]
[]
[]
[]
[]
[]
[]
[]
[]
[]
[]
[]
[]
[]
[]
[]
[]
[]
[]
[]
[]
[]
[]
[]
[]
["For question or comments, please contact "]
["South Coast Air Quality Management District"]
["21865 E.Copley Drive"]
["Diamond Bar, CA 91765"]